{"text_format":"1","workbook":"xlsx","n_sheets":13,"sheets":["Instructions","Header","DMA","Cover","Substr","Thal","Comments","Graphs","Codes","Calcs","PLANTS","KeySP","Spatial"],"not_rendered":{"charts":4,"images":32,"macros":1,"external_links":0,"defined_names":19,"comments":0,"pivot_tables":0},"unopened":[],"bounds":{"document_bytes":16777216,"sheet_cells":100000,"rows_first":2000,"rows_last":500,"rows_between":2000,"halvings":0,"cell_chars":16384,"cell_head_chars":4096},"cells_cut":0,"cells_raw":0,"read":"whole","date_system":"1900"}

{"sheet":"Instructions","index":0,"n_rows":101,"n_cols":5,"rows_kept":101,"cut":false,"hidden":false,"merged":[[98,0,98,1],[100,0,100,1]]}
["Using the Data Entry Module for field tablets/computers - 2025",null,null,null,"PLANT DATA MACROS"]
["About  this version",null,null,null,"       CLICK TO RUN THE MACRO"]
["PURPOSE:  "]
[null,"This module is designed for data entry using a tablet or other machine that",null,null,"IMPORT plant list from previous data"]
[null,"supports the full version of Microsoft EXCEL, including macros.  It will also function on tablets that don’t support macros, in which case you will have to fill out the plant lists by hand."]
[null,"The advantages of using this module for data entry are many.  Here you can"]
[null,"import plant lists from previous data which are then used to populate the drop-",null,null,"LINK to USDA Plants Database"]
[null,"downs in the DMA sheet."]
[]
[null,"To help with tablet data entry, users can expand the  data entry cells.  "]
[null,"This allows ease of entry for the drop-down data.  You can change the ",null,null,"Run SPATIAL analysis "]
[null,"magnification of the cell expansions:  use the zoom slider at the"]
[null,"lower right corner of the spreadsheet. "]
[]
[]
["MASTER COPY: Maintain a master copy ",null,null,null,"Go to \"PLANTS\" to build plant list and key species lists for the site"]
[null,"Make a master copy of this module for use at other DMAs.   ",null,null,"OR"]
[null,null,null,null,"Click on the Macro above \"Import plant "]
[" ","Note:  if the master copy was downloaded from the INTERNET, this security warning may appear:",null,null,"list from previous data\" to populate the plant and key species list for this DMA from previously collected data (the Data Analysis Module)"]
[null,"To remove this warning, do the following:   Open Windows Explorer and right-click on the file name.  In the drop-down box that appears, select \"Properties\", then at the bottom of the next box click on  \"Unblock\" to remove the security risk message."]
[]
["ENABLE MACROS:  "]
[null,"1. You must enable Macros  before using the buttons at right above.  "]
[null,"   To enable macros, first select File (top leftoff this screen)"]
[null,"2. Select \"EXCEL Options\" then  \"Trust Center, then select "]
[null,"   Trust Center Settings.  Select \"Macro Settings\", then \"Enable All Macros\"."]
[null,"3. This file should be saved as type:  \".xlsm\" to maintain the macros."]
[null,"4. To take effect, once macros are enabled, save the master file, close it, "]
[null,"    Then save the file with a new name before re-opening it.  You might "]
[null,"    append the file name with the words \"macros enabled\" to distinguish it"]
[null,"    from the original."]
[]
["IMPORT PLANT LIST:   use this macro to upload plant data from a previous sample."]
[null,"This is best done in the office on a pc or laptop prior to going to the field.  Once the data are uploaded and the PLANTS worksheet contains the species for the site, then copy this file to the field tablet.  Important note:  key species from the previous sample are displayed in columns R,S,T,and U.  You must fill out columns O and P, Key Species for this sample, by hand in order for these to appear in the drop-downs."]
[]
["MIGRATE THESE DATA TO THE \"DATA ANALYSIS MODULE\""]
[" ","For analysis, upload these entry data, using Macros in"]
[null,"the Data Analysis Module, to obtain comprehensive results."]
[]
["PLANT LISTS"]
[null,"IMPORTANT:  The drop-downs for plants in the DMA spreadsheet are generated"]
[null,"from the plant list and key species list you build in the PLANTS spreadsheet, columns n, o, and p."]
[null,"The master plant list on the PLANTS tab, columns A, B, C, and D contains the MIM Plant List - the master list handed out at the MIM workshop, and contains the most common riparian plants for all three Regions, WMV, ARID, and GP.  The plant ratings (e.g. wetland rating) are not used in this module and so it is not unique to any of the Plant Regions."]
[]
["WORKSHEETS IN THE DATA ENTRY MODULE"]
[null,"\"Header\" :  Contains descriptive information about the designated monitoring area (DMA). "]
[null," \"DMA\":  Raw data form for plants, bank stability/cover/alteration, GGW, and livestock use indicators.  The Cover (column c) must have a value for each Species/Rock/Wood recorded in column B even if there is no greenline.  In the case of no greenline (code ng), record 100."]
[null,"\"Substr\":  Raw data for substrate collected in the field. Contains frequency distributions for the data"]
[null,"\"Thal\":  Raw data for residual pool depth and pool frequency."]
[null,"\"Comments\":  DMA and/or Plot-by-plot notes and other information"]
[null,"\"Graphs\":  Migrating plant data from a previous sample populates this table.  This table provides the source for the plant lists created in the Plants tab.."]
[null,"\"Codes\":  Displays metric summary codes such as for \"Ecological Status\"."]
[null,"\"Calcs\":  Summarizes arithmetic operations in the workbook."]
[null,"\"PLANTS\":  Master plant list used to analyze greenline vegetation, including codes."]
[null,"\"KeySP\":  Master list of Key Species for stubble height and woody age class and browse."]
[null,"\"Spatial\":   Worksheet where the analysis of spatial autocorrelation is processed (see Instructions in the Spatial tab)."]
[null,"SPECIAL NOTE FOR SAMPLING AT PRE-EXISTING DMA's:   "]
[null," For existing (previously established) DMAs that are 110 m long or greater with a sample interval of 2.5-2.75 m, the sampling interval should be increased to 3.75 m to reduce or eliminate spatial autocorrelation.  This will reduce the sample size from 80 to 58 on 110-m long DMAs (see the footnote labeled * on the Header tab for details on desired sample size).  Do not change the DMA length. "]
[]
["ENTERING DATA INTO THE MODULE"]
[null,"1. This module is designed for direct data entry into worksheet tables."]
[null,"2. Enter data ONLY in cells marked by alternating rows in blue and white.  Do not enter data into any other cells."]
[null,"3.  Row 3 in the DMA spreadsheet displays sample size estimators for 4 indicators - Stubble height,streambank alteration, GGW, and Woody Use.   Because stubble height and woody use can have more than one recording per plot, the value of N (current number of samples) is displayed."]
[null,"4.  Cell C4 in the DMA spreadsheet contains the current percent composition of plants from the latest (last) plot being recorded.  This value updates as plant composition is entered.   When a new plot number is written, this value then jumps to that plot."]
[null,"5. You must populate cells in the \"Header\" worksheet for complete display of all metrics in the Data_summary worksheet "]
[null,"6.  Species codes in the drop-downs of the plant species in the DMA sheet are derived from columns N, O, and P of the PLANTS worksheet"]
[]
[null,"IMPORTANT NOTE:  When entering data into one of the data forms (Header, DMA, Substr, Thal) DO NOT insert or delete"]
[" ","cells, rows, or columns to protect the integrity of the module structure.  You can \"Copy\" and \"Clear\" cells and blocks of cells  "]
[null,"to move data.   You can also edit the contents of individual cells."]
[]
[]
["MACROS"]
[null,"Import Plant List:  Use this macro to generate the plant lists from prior (historic) samples.   The historic data are entered into the Graphs tab. "]
[null,"Link to USDA Plants Database:  Select this to automatically open the USDA plants database on the WEB"]
[null,"Run SPATIAL analysis:  Runs the assessment of Spatial autocorrelation."]
[null,"Follow the instructions in the Spatial tab."]
[]
["PLANTS"]
[null,"The worksheet, \"PLANTS\"  is used to handle plant species codes used in the data entry routine.  The plant list for the DMA is built in column M and populates the drop-down lists on the DMA tab."]
[null,"You can add or change plant codes, change plant ratings, and re-sort the data."]
[null,"To sort the data:   "]
[null,"  1.  Place the cursor in the cell immediately below \"Species\" in the PLANTS worksheet    "]
[null,"  2.  Select - \"Data\" - then \"Sort\" in the drop-down menu"]
[null,"  2.  Select - \"Data\" - then \"Sort\" in the drop-down menu"]
[]
["UNLOCKING LOCKED SHEETS"]
[null,"Right-click on the worksheet tab at the bottom of the workbook and select \"unprotect sheet\"."]
[null,"When unprotecting sheets, be careful not to replace or erase equations. "]
[" "]
["Methods"]
["Burton, T.A., S.J. Smith, and E.R. Cowley. 2011. Riparian area management: Multiple"]
["indicator monitoring (MIM) of stream channels and streamside vegetation. Technical"]
["Reference 1737-23. BLM/OC/ST-10/003+1737. U.S. Department of the Interior,"]
["Bureau of Land Management, National Operations Center, Denver, CO. 155 pp."]
[]
["Available on-line at:"]
[]
["http://www.rmsmim.com     "]
["or"]
["https://www.blm.gov/documents/national-office/blm-library/technical-reference/multiple-indicator-monitoring-mim-stream"]

{"sheet":"Header","index":1,"n_rows":143,"n_cols":23,"rows_kept":143,"cut":false,"hidden":false,"merged":[[39,0,39,4],[110,0,115,5]]}
["HEADER FORM ",null,null,"For sample size: * ","GGW","Stubble Ht","Substrate","Woody Use","Alteration",null,null,null,null,null,null,"Substrate",null,"woody use",null,"GGW","St Ht","ALT"]
[null,"Allotment:",null,"Margin of error:",{"$f":"DMA!L513","v":0.45},{"$f":"DMA!J513","v":0.83},0.15,{"$f":"DMA!T513/100","v":5.1999999999999998E-3},{"$f":"DMA!E513","v":6.6000000000000003E-2},null,null,null,null,null,"zae",{"$f":"IF($E3=0.8,1.28,IF($E3=0.85,1.49,IF(E3=0.9,1.64,IF(E3=0.95,1.96,IF(E3=0.99,2.58,1)))))","v":1.96},null,{"$f":"P2","v":1.96},null,{"$f":"P2","v":1.96},{"$f":"R2","v":1.96},{"$f":"P2","v":1.96}]
[null,"Forest/District:",null,"Confidence level:",0.95,"*See below for an explanation of this table.",null,null,null,null,null,null,null,null,"s",{"$f":"Substr!O9","v":{"$error":"#DIV/0!"}},null,{"$f":"STDEV(DMA!T$5:T$503)","v":{"$error":"#DIV/0!"}},null,{"$f":"STDEV(DMA!L5:L503)","v":{"$error":"#DIV/0!"}},{"$f":"STDEV(DMA!J5:J503)","v":{"$error":"#DIV/0!"}},{"$f":"IF(ISERROR(DMA!E506),\"\",DMA!E506)","v":""}]
[null,"RD/FO:",null,null,null,null,null,null,null,null,null,null,null,null,"B",{"$f":"G2*AVERAGE(Substr!B5:K37)","v":{"$error":"#DIV/0!"}},null,{"$f":"DMA!T513/100","v":5.1999999999999998E-3},null,{"$f":"DMA!L513","v":0.45},{"$f":"0.16*AVERAGE(DMA!J5:J504)","v":{"$error":"#DIV/0!"}},{"$f":"DMA!E513","v":6.6000000000000003E-2},"INT"]
[null,"Observer(s):",null,"Random number for starting pace set",null,null,null,null,null,null,null,null,null,null,null,null,null,null,null,null,null,null,"DS"]
[null,"Plot spacing (m)",3.75,{"$f":"RAND()*5","v":4.2745726510950348},"(Enter data in any open cell to re-calculate)",null,null,"[click ","HERE"]
[null,"Starting Distance (m)",2,{"$f":"C6*C7","v":7.5},"(sample point interval)",null,"        ","           to convert feet to meters]"]
["DESIGNATED MONITORING AREA:",null,null,null,"    Downstream Marker",null,"       Upstream  Marker",null,"  Reference Marker"]
["DMA ID","PASTURE NAME","STREAM","DATE","Latitude","Longitude","Latitude","Longitude","Latitude","Longitude"]
[]
["DMA NAME and/or Description:",null,null,"(mm/dd/yyyy)","UTM Northing","UTM Easting","UTM Northing","UTM Easting","UTM zone:","Datum"]
[]
[null,null,null,null,"*Are hydrophytic woody plants supposed to be present at this site (y/n)?",null,"Explanation of these questions"]
[null,null,null,null,"*Are there any hydrophytic woody plants present (y/n)?"]
[null,null,null,null,"*Are all age classes of hydrophytic woody plants present (y/n)?",null,null,"Last sample point number on the left bank:",null,null,null,{"$f":"ROUNDUP(MAX(DMA!A6:A504)/2,0)","v":0}]
[null,null,null,null,null,null,"Slope","Substrate"]
[" ",null,null,null,"Units used to record Stubble Height  (In - Inches, CM = Centimeters):","In","Class**","Class**","Predicted from \"Substr\""]
[" ",null,null,null,"6th Field HUC:",null,null,null,{"$f":"IF(Substr!O5=\"\",\"\",IF(Substr!O5<2.01,\"silt_clay_sand\",IF(Substr!O5>264,\"boulder\",IF(Substr!O5>63.5,\"cobble\",IF(Substr!O5>2,\"gravel\")))))","v":{"$error":"#NUM!"}}]
["* - Required for calculating Ecological Status (see \"Codes\" worksheet (column A for instructions)"]
[null,"Slope class:  less than .5%,   .5 to 2%,   2 to 4%,  >4%, and >10%"]
[null,"Substrate class:  bd(boulder), cb(cobble), gr(gravel), cons(consolidated sand/silt/clay), nonc(nonconsolidated sand/silt/clay), br(bedrock)"]
[]
["DMA Selection Rationale"]
[]
["Y,   N, or NA","CRITERIA FOR REPRESENTATIVE DMA",null,null,null,null,null,null,"Photo log","File Name"]
[null,"1.  Was the riparian complex selected by an ID Team?",null,null,null,null,null,null,"Lower Up"]
[null,"2.  Is the DMA in a complex that represents and is accessible to the management activity?",null,null,null,null,null,null,"Lower Across"]
[null,"3.  Is the DMA randomly located in the riparian complex most sensitive to management?  ",null,null,null,null,null,null,"Upper Down"]
[null,"4.  Is the DMA sensitive to disturbance (not armored)?",null,null,null,null,null,null,"Upper Across"]
[null,"5.  Will the DMA site respond to management?"]
[null,"6.  If stream is over 4% gradient, does it have a well developed floodplain?"]
[null,"7.  Is the DMA located outside of a livestock concentration area?  "]
[null,"8.  Is the DMA free from the influence of compounding activities?"]
[null,null,null,null,null,null,null,null,null,null,null,null,null,null,null,null,null,null,null," "]
[null,"Is it a CRITICAL DMA?",null,null,null,null,null,null,null,null,null,null,null,null,null,null,null,0.6,2,"<.5","nonc","Y","I"]
[null,null,null,null,null,null,null,null,null,null,null,null,null,null,null,null,null,0.65,3,"<2","cons","N","CM"]
[null,"Is it a REFERENCE DMA?",null,null,null,null,null,null,null,null,null,null,null,null,null,null,null,0.7,4,"2-4","bd","NA"]
[null,null,null,null,null,null,null,null,null,null,null,null,null,null,null,null,null,0.75,5,">4","cb"]
["NARRATIVE",null,null,null,null,null,null,null,null,null,null,null,null,null,null,null,null,0.8,6,">10","gr"]
[null,null,null,null,null,null,null,null,null,null,null,null,null,null,null,null,null,null,null,null,"br"]
[]
[]
["SATELLITE PHOTO OR SKETCH OF DMA"]
[]
[]
[]
[]
[]
[]
[]
[]
[]
[]
[]
[]
[]
[]
[]
[]
[]
[]
[]
[]
[]
[]
[]
[]
[]
[]
[]
[]
[]
[]
[]
["*Sample Size - using \"Margin of error\" and \"Confidence\"",null,null,null,null,null,null,null,"** - Required for calculating Ecological Status"]
["The desired sample size for any variable that produces a mean or proportion, can be estimated while collecting field data"]
[" using the following equation:  n = (Zæ)2(s)2/(B)2"]
["Where:"]
[]
["n = The sample size estimate."]
["Zæ = The standard normal coefficient from the table below."]
["s =The standard deviation."]
["B = The desired precision level (margin of error) expressed as half of the maximum acceptable confidence interval width. "]
["and expressed as a percent or proportion of the mean."]
[]
["Standard Normal Coefficients:"]
["Confid-ence level","Alpha (æ) level","(Zæ)"]
[0.8,0.2,1.28]
[0.85,0.15,1.49]
[0.9,0.1,1.64]
[0.95,0.05,1.96]
[0.99,0.01,2.58]
[]
["The desired precision (B) level (or margin of error) defaults provided in this module (cells e2 to i2)"]
["are set so as to not exceed one-half the Confidence interval (or the margin of error) for individual"]
["metrics derived from field testing of the indicator,  as shown on table 9 in Chapter III of the Data Instructions Guide."]
["For example, the margin of error (ME) in table 9 for GGW is .45 meter around the mean,"]
["which is equal to one half the confidence interval of .90 ( ±.45 meter either side of the mean)."]
["However Table 9 also provides the relative margin of error (RME) of 7% of the GGW value.  Thus if GGW is 5 meters,"]
["7% of 5 meters is .35 meters and of 10 meters is .7 meter.  The RME is used to calculate the ME in cells e2 to i2."]
[]
["Using the above equation, sample sizes are estimated for the site using the default margin of error for"]
["the \"desired precision level\", the values in the above table as applied to the \"Confidence level\","]
["and the standard deviation from the data collected in this sample.  Thus as samples are collected, the"]
["Standard deviation is constantly changing and refining the predicted population size."]
[]
["Normally, one would not have a good justification for modifying the \"Margin of Error\", thus these cells are locked."]
["The user can vary the \"Confidence Level\" if fewer samples are desired or necessary given the variability on-site.",null,null,null,null,null,null,null,"** - Slope class and substrate class are also required to calculate Ecological Status per Winward (2000). ",null,null,null,null,null,null,null,null,null,null,"Enter feet here"]
["Thus, the user has the option of accepting a wider confidence interval (lower precision) when sample sizes become excessive.",null,null,null,null,null,null,null,null,"Codes descriptions for Slope and Substrate Classes are contained in the \"Codes\" worksheet - ",null,null,null,null,null,null,null,null,null,8.25,null,{"$f":"IF(T109=\"\",\"\",CONVERT(T109,\"ft\",\"m\"))","v":2.5146000000000002},"Meters"]
[null,null,null,null,null,null,null,null,null,null,null,null,null,null,null,null,null,null,null,null,null,"Return"]
["NOTE:   The advantage of using a lower confidence level is that it can lead to a wider margin of error (confidence interval) which may be desirable if fewer samples are available at the site.   However, it is important to note that using a lower confidence level also increases the risk of making a Type I error, which is rejecting a true null hypothesis.  In other words, a significant difference in a trend or condition might be indicated by the statistical test using the confidence interval and yet because the confidence level is lower,  we end up with a false positive - rather than accepting the significant difference it may not actually be true."]
[]
[]
[]
[]
[]
[]
[]
[]
[]
[]
[]
[]
[]
[]
[]
[]
[]
[]
[]
[]
[]
[]
[]
[]
[]
[]
[]
[]
[]
[]
[]
[null,null,null,null,null,null,"Use this link"]

{"sheet":"DMA","index":2,"n_rows":610,"n_cols":160,"rows_kept":610,"cut":false,"hidden":false,"merged":[[1,5,1,7]]}
[null,"     Greenline Cover",null,"Woody Height"," ","Streambanks ",null,null,"      Stubble Height",null,null,"                Width",null,null,null,"Woody Riparian Species Age Class",null,null,"   Woody Species Use",null,null,null,null,null,null,null,null,null,null,null,null,null,null,null,null,null,null,null,null,null,null,null,null,null,null,null,null,null,null,null,null,null,null,null,null,null,null,null,null,null,null,null,null,null,null,null,null,null,null,null,null,null,null,null,null,null,null,null,null,null,null,null,null,null,null,null,null,null,null,null,null,null,null,null,null,null,null,null,null,null,null,null,null,null,null,null,null,null,null,null,null,null,null,null,null,null,null,null,null,null,null,null,null,null,null,null,null,null,null,null,null,null,null,null,null,null,null,null,null,null,null,null,null,null,"Absolute streambank cover",null,null,"                 Return to DMA table",null,null,null,null,null,null,null,null,null,null," ","Streambanks "]
["Plot #","Species Rock/Wood","Cover (%)","Woody Species height class","Streambank Alteration","Streambank Stability",null,null,"Species","Height (in)","Grazed?","GGW","BFW (m) (optional)","Species","Seedling","Young","Mature","Rhizom-atous"," Species","Use %","Distance    ",null,"Streambank Stability",null,null,null,"Composition",null,null,null,null,null,null,null,null,null,null,null,null,null,null,null,null,null,null,null,null,null,null,null,null,null,null,null,null,null,null,null,null,null,null,null,null,null,null,null,null,null,null,null,null,null,null,null,null,null,null,null,null,null,null,null,null,null,null,null,null,null,null,null,null,null,null,null,null,null,null,null,null,null,null,null,null,null,null,null,null,null,null,null,null,null,null,null,null,null,null,null,null,null,null,null,null,null,null,null,null,null,null,null,null,null,null,null,null,null,null,null,null,null,null,null,null,null,null,null,"PERCENT COVER",null,null,null,null,null,null,null,null,null,null,null,"Streambank Alteration"]
["Sample #","Combo boxes:  Select value in box then select the entry cell",null,null,null,"E= Erosional                  D= Depositional","  C= Covered                 U= Uncovered",null,null,null,"y/n",null,null,"(Code)","(number rooted in plot)","(number rooted in plot)","(number rooted in plot)","(1 if present, else blank)",null,null,"(Meters)","GGW  ft to meters","(Calculated automatically, do not record data in this block)",null,null,null,null,null,null,null,null,null,"SH Sample #","GGW Sample #","WH Sample #","ALT Sample #",null,null,null,null,null,null,null,null,null,null,null,null,null,null,null,null,null,null,null,null,null,null,null,null,null,null,null,null,null,null,null,null,null,null,null,null,null,null,null,null,null,null,null,null,null,null,null,null,null,null,null,null,null,null,null,null,null,null,null,null,null,null,null,null,null,null,null,null,null,null,null,null,null,null,null,"Data Validation",null,null,"PLANTS",null,null,null,null,null,null,null,null,"LISTS",null,null,null,null,null,null,null,null,null,null,null,null,null,null,null,null,null,null,null,null,"Sample #","Veg","Rock","Large wood","Calculated Bare/litter",null,null,null,null,null,null,null,null,null,"(0 to 5)"]
[null,null,{"$f":"\"Composition = \"&SUMIF(AC:AC,MAX(A:A),AB:AB)","v":"Composition = 0"},null,{"$f":"IF(ISERROR(E517),\"N Min= \"&80,\"N Min= \"&ROUNDUP(E517,0))","v":"N Min= 80"},{"$f":"\"Sample points    N = \"&MAX(A5:A502)","v":"Sample points    N = 1"},"Link to Cover   table",null,{"$f":"\"N= \"&COUNT(J5:J503)","v":"N= 0"},{"$f":"IF(ISERROR(J517),\"N Min= \"&80,\"N Min= \"&ROUNDUP(J517,0))","v":"N Min= 80"},null,{"$f":"IF(ISERROR(L517),\"N Min= \"&40,\"N Min= \"&ROUNDUP(L517,0))","v":"N Min= 40"},null,null,null,null,null," ",{"$f":"\"N= \"&COUNT(T5:T503)","v":"N= 0"},{"$f":"IF(ISERROR(T517),\"N Min= \"&52,\"N Min= \"&ROUNDUP(T517,0))","v":"N Min= 52"},null,"Conversion ft to m","Depositional","Erosional","Streambank Stability Class","Code","Plot","Plot Composition","PLOT","Sum Composition",null,null,{"$f":"IF(ISERROR((Header!U2*DMA!J506/Header!F2)^2),50,((Header!U2)^2*(Header!U3)^2/(Header!F2)^2))","v":50},40,{"$f":"IF(ISERROR((Header!R2*Header!R3/Header!H2)^2),52,((Header!R2)^2*(Header!R3)^2/(Header!H2)^2))","v":52},null,null,null,null,null,null,null,null,null,null,null,null,null,null,null,null,null,null,null,null,null,null,null,null,null,null,null,null,null,null,null,null,null,null,null,null,null,null,null,null,null,null,null,null,null,null,null,null,null,null,null,null,null,null,null,null,null,null,null,null,null,null,null,null,null,null,null,null,null,null,null,null,null,null,null,null,"type","cover","stab","Plist","Key SH","Key WDU","Rip Woody Sp",null,null,null,null,"Plot","Composition","Woody Species height class","Streambank Alteration","Stubble height","GGW & BFW","Rhizom","Woody age class","Woody use","Height Class","Grazed?",null,null,null,null,null,null,null,null,null,null,null,1,{"$f":"IF(Cover!B4=\"\",\"\",Cover!B4)","v":""},{"$f":"IF(Cover!C4=\"\",\"\",Cover!C4)","v":""},{"$f":"IF(Cover!D4=\"\",\"\",Cover!D4)","v":""},{"$f":"IF(AND(ISBLANK(Cover!B4),ISBLANK(Cover!C4),ISBLANK(Cover!D4)),\"\",100-SUM(EP4:ER4))","v":""},"Determine the absolute cover for each of the cover constituents: ",null,null,null,null,null,null,null,null,{"$f":"IF(ISERROR(FC517),\"N Desired= \"&80,\"N Desired= \"&ROUNDUP(FC517,0))","v":"N Desired= 80"}]
[1,null,null,null,null,null,null,null,null,null,null,null,null,null,null,null,null,null,null,null,null,{"$f":"IF(L5=\"\",\"\",L5*12/39)","v":""},{"$f":"IF(F5=\"\",\"\",IF(ISNUMBER(SEARCH(F5,\"d\")),IF(ISNUMBER(SEARCH(G5,\"c\")),\"CS\",IF(ISNUMBER(SEARCH(G5,\"u\")),\"UU\")),\"\"))","v":""},{"$f":"IF(F5=\"\",\"\",IF(ISNUMBER(SEARCH(F5,\"e\")),IF(ISNUMBER(SEARCH(G5,\"c\")),IF(ISNUMBER(SEARCH(H5,\"a\")),\"CS\",\"CU\"),IF(ISNUMBER(SEARCH(H5,\"a\")),\"US\",\"UU\")),\"\"))","v":""},{"$f":"IF(W5=\"\",X5,W5)","v":""},{"$f":"IF($Y5=\"cs\",1,IF($Y5=\"cu\",2,IF($Y5=\"us\",3,IF($Y5=\"uu\",4,\"\"))))","v":""},{"$f":"IF(A5=\"\",\"\",A5)","v":1},{"$f":"C5","v":0},{"$f":"AA5","v":1},{"$f":"IF(AA5<>\"\",SUMIF(AC:AC,AA5,AB:AB),\"\")","v":0},null,null,null,null,null,null,null,null,null,null,null,null,null,null,null,null,null,null,null,null,null,null,null,null,null,null,null,null,null,null,null,null,null,null,null,null,null,null,null,null,null,null,null,null,null,null,null,null,null,null,null,null,null,null,null,null,null,null,null,null,null,null,null,null,null,null,null,null,null,null,null,null,null,null,null,null,null,null,null,null,null,null,null,null,{"$f":"IF(PLANTS!M4=\"\",\"\",PLANTS!M4)","v":""},{"$f":"IF(PLANTS!N4=\"\",\"\",PLANTS!N4)","v":""},{"$f":"IF(PLANTS!O4=\"\",\"\",PLANTS!O4)","v":""},{"$f":"IF(KeySP!G3=\"\",\"\",KeySP!G3)","v":"ACCI"},null,null,null,null,1,5,1,0,1,0.5,null,1,10,null,"Y",null,null,null,null,null,null,null,null,null,null,null,2,{"$f":"IF(Cover!B5=\"\",\"\",Cover!B5)","v":""},{"$f":"IF(Cover!C5=\"\",\"\",Cover!C5)","v":""},{"$f":"IF(Cover!D5=\"\",\"\",Cover!D5)","v":""},{"$f":"IF(AND(ISBLANK(Cover!B5),ISBLANK(Cover!C5),ISBLANK(Cover!D5)),\"\",100-SUM(EP5:ER5))","v":""}," (i) Perennial foliar vegetation cover, (ii)  embedded rock including bedrock",null,null,null,null,null,null,null,null,{"$f":"IF(E5=\"\",\"\",E5+1)","v":""}]
[null,null,null,null,null,null,null,null,null,null,null,null,null,null,null,null,null,null,null,null,null,"",{"$f":"IF(F6=\"\",\"\",IF(ISNUMBER(SEARCH(F6,\"d\")),IF(ISNUMBER(SEARCH(G6,\"c\")),\"CS\",IF(ISNUMBER(SEARCH(G6,\"u\")),\"UU\")),\"\"))","v":""},{"$f":"IF(F6=\"\",\"\",IF(ISNUMBER(SEARCH(F6,\"e\")),IF(ISNUMBER(SEARCH(G6,\"c\")),IF(ISNUMBER(SEARCH(H6,\"a\")),\"CS\",\"CU\"),IF(ISNUMBER(SEARCH(H6,\"a\")),\"US\",\"UU\")),\"\"))","v":""},{"$f":"IF(W6=\"\",X6,W6)","v":""},{"$f":"IF($Y6=\"cs\",1,IF($Y6=\"cu\",2,IF($Y6=\"us\",3,IF($Y6=\"uu\",4,\"\"))))","v":""},{"$f":"IF(A6=\"\",\"\",A6)","v":""},{"$f":"C6","v":0},{"$f":"IF(A6>A5,A6,AC5)","v":1},{"$f":"IF(AA6<>\"\",SUMIF(AC:AC,AA6,AB:AB),\"\")","v":""},null,null,null,null,null,null,null,null,null,null,null,null,null,null,null,null,null,null,null,null,null,null,null,null,null,null,null,null,null,null,null,null,null,null,null,null,null,null,null,null,null,null,null,null,null,null,null,null,null,null,null,null,null,null,null,null,null,null,null,null,null,null,null,null,null,null,null,null,null,null,null,null,null,null,null,null,null,null,null,null,null,null,null,null,{"$f":"IF(PLANTS!M5=\"\",\"\",PLANTS!M5)","v":""},{"$f":"IF(PLANTS!N5=\"\",\"\",PLANTS!N5)","v":""},{"$f":"IF(PLANTS!O5=\"\",\"\",PLANTS!O5)","v":""},{"$f":"IF(KeySP!G4=\"\",\"\",KeySP!G4)","v":"ACCO2"},null,null,null,null,2,10,2,1,2,0.6,1,2,30,null,"N",null,null,null,null,null,null,null,null,null,null,null,3,{"$f":"IF(Cover!B6=\"\",\"\",Cover!B6)","v":""},{"$f":"IF(Cover!C6=\"\",\"\",Cover!C6)","v":""},{"$f":"IF(Cover!D6=\"\",\"\",Cover!D6)","v":""},{"$f":"IF(AND(ISBLANK(Cover!B6),ISBLANK(Cover!C6),ISBLANK(Cover!D6)),\"\",100-SUM(EP6:ER6))","v":""},"(>15cm or 6 in), and (iii) large wood (>10 cm or 4 in)",null,null,null,null,null,null,null,null,{"$f":"IF(E6=\"\",\"\",E6+1)","v":""}]
[null,null,null,null,null,null,null,null,null,null,null,null,null,null,null,null,null,null,null,null,null,"","","","","","",0,{"$f":"IF(A7>A6,A7,AC6)","v":1},"",null,null,null,null,null,null,null,null,null,null,null,null,null,null,null,null,null,null,null,null,null,null,null,null,null,null,null,null,null,null,null,null,null,null,null,null,null,null,null,null,null,null,null,null,null,null,null,null,null,null,null,null,null,null,null,null,null,null,null,null,null,null,null,null,null,null,null,null,null,null,null,null,null,null,null,null,null,null,null,null,null,null,null,null,{"$f":"IF(PLANTS!M6=\"\",\"\",PLANTS!M6)","v":""},{"$f":"IF(PLANTS!N6=\"\",\"\",PLANTS!N6)","v":""},{"$f":"IF(PLANTS!O6=\"\",\"\",PLANTS!O6)","v":""},{"$f":"IF(KeySP!G5=\"\",\"\",KeySP!G5)","v":"ACGL"},null,null,null,null,3,15,3,2,3,0.7,null,3,50,null,null,null,null,null,null,null,null,null,null,null,null,null,4,{"$f":"IF(Cover!B7=\"\",\"\",Cover!B7)","v":""},{"$f":"IF(Cover!C7=\"\",\"\",Cover!C7)","v":""},{"$f":"IF(Cover!D7=\"\",\"\",Cover!D7)","v":""},{"$f":"IF(AND(ISBLANK(Cover!B7),ISBLANK(Cover!C7),ISBLANK(Cover!D7)),\"\",100-SUM(EP7:ER7))","v":""},"Record each cover constituent to the nearest 10 percent. ",null,null,null,null,null,null,null,null,{"$f":"IF(E7=\"\",\"\",E7+1)","v":""}]
[null,null,null,null,null,null,null,null,null,null,null,null,null,null,null,null,null,null,null,null,null,"","","","","","",0,1,"",null,null,null,null,null,null,null,null,null,null,null,null,null,null,null,null,null,null,null,null,null,null,null,null,null,null,null,null,null,null,null,null,null,null,null,null,null,null,null,null,null,null,null,null,null,null,null,null,null,null,null,null,null,null,null,null,null,null,null,null,null,null,null,null,null,null,null,null,null,null,null,null,null,null,null,null,null,null,null,null,null,"E","C","F",{"$f":"IF(PLANTS!M7=\"\",\"\",PLANTS!M7)","v":""},{"$f":"IF(PLANTS!N7=\"\",\"\",PLANTS!N7)","v":""},{"$f":"IF(PLANTS!O7=\"\",\"\",PLANTS!O7)","v":""},{"$f":"IF(KeySP!G6=\"\",\"\",KeySP!G6)","v":"ACMA3"},null,null,null,null,4,20,4,3,4,0.8,null,4,70,null,null,null,null,null,null,null,null,null,null,null,null,null,5,{"$f":"IF(Cover!B8=\"\",\"\",Cover!B8)","v":""},{"$f":"IF(Cover!C8=\"\",\"\",Cover!C8)","v":""},{"$f":"IF(Cover!D8=\"\",\"\",Cover!D8)","v":""},{"$f":"IF(AND(ISBLANK(Cover!B8),ISBLANK(Cover!C8),ISBLANK(Cover!D8)),\"\",100-SUM(EP8:ER8))","v":""}," If two or more cover types overlap, do not add the overlap",null,null,null,null,null,null,null,null,""]
[null,null,null,null,null,null,null,null,null,null,null,null,null,null,null,null,null,null,null,null,null,"","","","","","",0,1,"",null,null,null,null,null,null,null,null,null,null,null,null,null,null,null,null,null,null,null,null,null,null,null,null,null,null,null,null,null,null,null,null,null,null,null,null,null,null,null,null,null,null,null,null,null,null,null,null,null,null,null,null,null,null,null,null,null,null,null,null,null,null,null,null,null,null,null,null,null,null,null,null,null,null,null,null,null,null,null,null,null,"D","U","SP",{"$f":"IF(PLANTS!M8=\"\",\"\",PLANTS!M8)","v":""},{"$f":"IF(PLANTS!N8=\"\",\"\",PLANTS!N8)","v":""},{"$f":"IF(PLANTS!O8=\"\",\"\",PLANTS!O8)","v":""},{"$f":"IF(KeySP!G7=\"\",\"\",KeySP!G7)","v":"ACNE2"},null,null,null,null,5,25,5,4,5,0.9,null,5,90,null,null,null,null,null,null,null,null,null,null,null,null,null,6,{"$f":"IF(Cover!B9=\"\",\"\",Cover!B9)","v":""},{"$f":"IF(Cover!C9=\"\",\"\",Cover!C9)","v":""},{"$f":"IF(Cover!D9=\"\",\"\",Cover!D9)","v":""},{"$f":"IF(AND(ISBLANK(Cover!B9),ISBLANK(Cover!C9),ISBLANK(Cover!D9)),\"\",100-SUM(EP9:ER9))","v":""}," amounts and only record the portion of overlapping cover",null,null,null,null,null,null,null,null,""]
[null,null,null,null,null,null,null,null,null,null,null,null,null,null,null,null,null,null,null,null,null,"","","","","","",0,{"$f":"IF(A10>A9,A10,AC9)","v":1},"",null,null,null,null,null,null,null,null,null,null,null,null,null,null,null,null,null,null,null,null,null,null,null,null,null,null,null,null,null,null,null,null,null,null,null,null,null,null,null,null,null,null,null,null,null,null,null,null,null,null,null,null,null,null,null,null,null,null,null,null,null,null,null,null,null,null,null,null,null,null,null,null,null,null,null,null,null,null,null,null,null,null,null,"SF",{"$f":"IF(PLANTS!M9=\"\",\"\",PLANTS!M9)","v":""},{"$f":"IF(PLANTS!N9=\"\",\"\",PLANTS!N9)","v":""},{"$f":"IF(PLANTS!O9=\"\",\"\",PLANTS!O9)","v":""},{"$f":"IF(KeySP!G8=\"\",\"\",KeySP!G8)","v":"ALIN2"},null,null,null,null,6,30,null,5,6,1,null,6,null,null,null,null,null,null,null,null,null,null,null,null,null,null,7,{"$f":"IF(Cover!B10=\"\",\"\",Cover!B10)","v":""},{"$f":"IF(Cover!C10=\"\",\"\",Cover!C10)","v":""},{"$f":"IF(Cover!D10=\"\",\"\",Cover!D10)","v":""},{"$f":"IF(AND(ISBLANK(Cover!B10),ISBLANK(Cover!C10),ISBLANK(Cover!D10)),\"\",100-SUM(EP10:ER10))","v":""}," closest to or directly on the ground surface",null,null,null,null,null,null,null,null,""]
[null,null,null,null,null,null,null,null,null,null,null,null,null,null,null,null,null,null,null,null,null,"","","","","","",0,1,"",null,null,null,null,null,null,null,null,null,null,null,null,null,null,null,null,null,null,null,null,null,null,null,null,null,null,null,null,null,null,null,null,null,null,null,null,null,null,null,null,null,null,null,null,null,null,null,null,null,null,null,null,null,null,null,null,null,null,null,null,null,null,null,null,null,null,null,null,null,null,null,null,null,null,null,null,null,null,null,null,null,null,null,"E",{"$f":"IF(PLANTS!M10=\"\",\"\",PLANTS!M10)","v":""},{"$f":"IF(PLANTS!N10=\"\",\"\",PLANTS!N10)","v":""},{"$f":"IF(PLANTS!O10=\"\",\"\",PLANTS!O10)","v":""},{"$f":"IF(KeySP!G9=\"\",\"\",KeySP!G9)","v":"ALOB2"},null,null,null,null,7,35,null,null,7,1.1000000000000001,null,7,null,null,null,null,null,null,null,null,null,null,null,null,null,null,8,{"$f":"IF(Cover!B11=\"\",\"\",Cover!B11)","v":""},{"$f":"IF(Cover!C11=\"\",\"\",Cover!C11)","v":""},{"$f":"IF(Cover!D11=\"\",\"\",Cover!D11)","v":""},{"$f":"IF(AND(ISBLANK(Cover!B11),ISBLANK(Cover!C11),ISBLANK(Cover!D11)),\"\",100-SUM(EP11:ER11))","v":""}," (e.g., record rock on the ground and not the overlapping vegetation",null,null,null,null,null,null,null,null,""]
[null,null,null,null,null,null,null,null,null,null,null,null,null,null,null,null,null,null,null,null,null,"","","","","","",0,1,"",null,null,null,null,null,null,null,null,null,null,null,null,null,null,null,null,null,null,null,null,null,null,null,null,null,null,null,null,null,null,null,null,null,null,null,null,null,null,null,null,null,null,null,null,null,null,null,null,null,null,null,null,null,null,null,null,null,null,null,null,null,null,null,null,null,null,null,null,null,null,null,null,null,null,null,null,null,null,null,null,null,null,null,"A",{"$f":"IF(PLANTS!M11=\"\",\"\",PLANTS!M11)","v":""},{"$f":"IF(PLANTS!N11=\"\",\"\",PLANTS!N11)","v":""},{"$f":"IF(PLANTS!O11=\"\",\"\",PLANTS!O11)","v":""},{"$f":"IF(KeySP!G10=\"\",\"\",KeySP!G10)","v":"ALOC2"},null,null,null,null,8,40,null,null,8,1.2,null,8,null,null,null,null,null,null,null,null,null,null,null,null,null,null,9,{"$f":"IF(Cover!B12=\"\",\"\",Cover!B12)","v":""},{"$f":"IF(Cover!C12=\"\",\"\",Cover!C12)","v":""},{"$f":"IF(Cover!D12=\"\",\"\",Cover!D12)","v":""},{"$f":"IF(AND(ISBLANK(Cover!B12),ISBLANK(Cover!C12),ISBLANK(Cover!D12)),\"\",100-SUM(EP12:ER12))","v":""}," cover immediately above the rock). ",null,null,null,null,null,null,null,null,""]
[null,null,null,null,null,null,null,null,null,null,null,null,null,null,null,null,null,null,null,null,null,"","","","","","",0,1,"",null,null,null,null,null,null,null,null,null,null,null,null,null,null,null,null,null,null,null,null,null,null,null,null,null,null,null,null,null,null,null,null,null,null,null,null,null,null,null,null,null,null,null,null,null,null,null,null,null,null,null,null,null,null,null,null,null,null,null,null,null,null,null,null,null,null,null,null,null,null,null,null,null,null,null,null,null,null,null,null,null,null,null,null,{"$f":"IF(PLANTS!M12=\"\",\"\",PLANTS!M12)","v":""},{"$f":"IF(PLANTS!N12=\"\",\"\",PLANTS!N12)","v":""},{"$f":"IF(PLANTS!O12=\"\",\"\",PLANTS!O12)","v":""},{"$f":"IF(KeySP!G11=\"\",\"\",KeySP!G11)","v":"ALRH2"},null,null,null,null,9,45,null,null,9,1.3,null,9,null,null,null,null,null,null,null,null,null,null,null,null,null,null,10,{"$f":"IF(Cover!B13=\"\",\"\",Cover!B13)","v":""},{"$f":"IF(Cover!C13=\"\",\"\",Cover!C13)","v":""},{"$f":"IF(Cover!D13=\"\",\"\",Cover!D13)","v":""},{"$f":"IF(AND(ISBLANK(Cover!B13),ISBLANK(Cover!C13),ISBLANK(Cover!D13)),\"\",100-SUM(EP13:ER13))","v":""}," Cover includes all of the above up to .5 meter above the ground surface",null,null,null,null,null,null,null,null,""]
[null,null,null,null,null,null,null,null,null,null,null,null,null,null,null,null,null,null,null,null,null,"","","","","","",0,{"$f":"IF(A14>A13,A14,AC13)","v":1},"",null,null,null,null,null,null,null,null,null,null,null,null,null,null,null,null,null,null,null,null,null,null,null,null,null,null,null,null,null,null,null,null,null,null,null,null,null,null,null,null,null,null,null,null,null,null,null,null,null,null,null,null,null,null,null,null,null,null,null,null,null,null,null,null,null,null,null,null,null,null,null,null,null,null,null,null,null,null,null,null,null,null,null,null,{"$f":"IF(PLANTS!M13=\"\",\"\",PLANTS!M13)","v":""},{"$f":"IF(PLANTS!N13=\"\",\"\",PLANTS!N13)","v":""},{"$f":"IF(PLANTS!O13=\"\",\"\",PLANTS!O13)","v":""},{"$f":"IF(KeySP!G12=\"\",\"\",KeySP!G12)","v":"ALRU2"},null,null,null,null,10,50,null,null,10,1.4,null,10,null,null,null,null,null,null,null,null,null,null,null,null,null,null,11,{"$f":"IF(Cover!B14=\"\",\"\",Cover!B14)","v":""},{"$f":"IF(Cover!C14=\"\",\"\",Cover!C14)","v":""},{"$f":"IF(Cover!D14=\"\",\"\",Cover!D14)","v":""},{"$f":"IF(AND(ISBLANK(Cover!B14),ISBLANK(Cover!C14),ISBLANK(Cover!D14)),\"\",100-SUM(EP14:ER14))","v":""},"Do NOT include bare ground, litter,or moss in these estimates.",null,null,null,null,null,null,null,null,""]
[null,null,null,null,null,null,null,null,null,null,null,null,null,null,null,null,null,null,null,null,null,"","","","","","",0,1,"",null,null,null,null,null,null,null,null,null,null,null,null,null,null,null,null,null,null,null,null,null,null,null,null,null,null,null,null,null,null,null,null,null,null,null,null,null,null,null,null,null,null,null,null,null,null,null,null,null,null,null,null,null,null,null,null,null,null,null,null,null,null,null,null,null,null,null,null,null,null,null,null,null,null,null,null,null,null,null,null,null,"Woody Use Classes",null,null,{"$f":"IF(PLANTS!M14=\"\",\"\",PLANTS!M14)","v":""},{"$f":"IF(PLANTS!N14=\"\",\"\",PLANTS!N14)","v":""},{"$f":"IF(PLANTS!O14=\"\",\"\",PLANTS!O14)","v":""},{"$f":"IF(KeySP!G13=\"\",\"\",KeySP!G13)","v":"ALSI3"},null,null,null,null,11,55,null,null,11,1.5,null,11,null,null,null,null,null,null,null,null,null,null,null,null,null,null,12,{"$f":"IF(Cover!B15=\"\",\"\",Cover!B15)","v":""},{"$f":"IF(Cover!C15=\"\",\"\",Cover!C15)","v":""},{"$f":"IF(Cover!D15=\"\",\"\",Cover!D15)","v":""},{"$f":"IF(AND(ISBLANK(Cover!B15),ISBLANK(Cover!C15),ISBLANK(Cover!D15)),\"\",100-SUM(EP15:ER15))","v":""},"        That cover quantity is calculated.",null,null,null,null,null,null,null,null,""]
[null,null,null,null,null,null,null,null,null,null,null,null,null,null,null,null,null,null,null,null,null,"","","","","","",0,1,"",null,null,null,null,null,null,null,null,null,null,null,null,null,null,null,null,null,null,null,null,null,null,null,null,null,null,null,null,null,null,null,null,null,null,null,null,null,null,null,null,null,null,null,null,null,null,null,null,null,null,null,null,null,null,null,null,null,null,null,null,null,null,null,null,null,null,null,null,null,null,null,null,null,null,null,null,null,null,null,null,null,0,null,null,{"$f":"IF(PLANTS!M15=\"\",\"\",PLANTS!M15)","v":""},{"$f":"IF(PLANTS!N15=\"\",\"\",PLANTS!N15)","v":""},{"$f":"IF(PLANTS!O15=\"\",\"\",PLANTS!O15)","v":""},{"$f":"IF(KeySP!G14=\"\",\"\",KeySP!G14)","v":"ALVI5"},null,null,null,null,12,60,null,null,12,1.6,null,12,null,null,null,null,null,null,null,null,null,null,null,null,null,null,13,{"$f":"IF(Cover!B16=\"\",\"\",Cover!B16)","v":""},{"$f":"IF(Cover!C16=\"\",\"\",Cover!C16)","v":""},{"$f":"IF(Cover!D16=\"\",\"\",Cover!D16)","v":""},{"$f":"IF(AND(ISBLANK(Cover!B16),ISBLANK(Cover!C16),ISBLANK(Cover!D16)),\"\",100-SUM(EP16:ER16))","v":""},null,null,null,null,null,null,null,null,null,""]
[null,null,null,null,null,null,null,null,null,null,null,null,null,null,null,null,null,null,null,null,null,"","","","","","",0,1,"",null,null,null,null,null,null,null,null,null,null,null,null,null,null,null,null,null,null,null,null,null,null,null,null,null,null,null,null,null,null,null,null,null,null,null,null,null,null,null,null,null,null,null,null,null,null,null,null,null,null,null,null,null,null,null,null,null,null,null,null,null,null,null,null,null,null,null,null,null,null,null,null,null,null,null,null,null,null,null,null,null,10,null,null,{"$f":"IF(PLANTS!M16=\"\",\"\",PLANTS!M16)","v":""},{"$f":"IF(PLANTS!N16=\"\",\"\",PLANTS!N16)","v":""},{"$f":"IF(PLANTS!O16=\"\",\"\",PLANTS!O16)","v":""},{"$f":"IF(KeySP!G15=\"\",\"\",KeySP!G15)","v":"AMFR"},null,null,null,null,13,65,null,null,13,1.7,null,13,null,1,null,null,null,null,null,null,null,null,null,null,null,null,14,{"$f":"IF(Cover!B17=\"\",\"\",Cover!B17)","v":""},{"$f":"IF(Cover!C17=\"\",\"\",Cover!C17)","v":""},{"$f":"IF(Cover!D17=\"\",\"\",Cover!D17)","v":""},{"$f":"IF(AND(ISBLANK(Cover!B17),ISBLANK(Cover!C17),ISBLANK(Cover!D17)),\"\",100-SUM(EP17:ER17))","v":""},null,null,null,null,null,null,null,null,null,""]
[null,null,null,null,null,null,null,null,null,null,null,null,null,null,null,null,null,null,null,null,null,"","","","","","",0,1,"",null,null,null,null,null,null,null,null,null,null,null,null,null,null,null,null,null,null,null,null,null,null,null,null,null,null,null,null,null,null,null,null,null,null,null,null,null,null,null,null,null,null,null,null,null,null,null,null,null,null,null,null,null,null,null,null,null,null,null,null,null,null,null,null,null,null,null,null,null,null,null,null,null,null,null,null,null,null,null,null,null,30,null,null,{"$f":"IF(PLANTS!M17=\"\",\"\",PLANTS!M17)","v":""},{"$f":"IF(PLANTS!N17=\"\",\"\",PLANTS!N17)","v":""},{"$f":"IF(PLANTS!O17=\"\",\"\",PLANTS!O17)","v":""},{"$f":"IF(KeySP!G16=\"\",\"\",KeySP!G16)","v":"ATLE"},null,null,null,null,14,70,null,null,14,1.8,null,14,null,2,null,null,null,null,null,null,null,null,null,null,null,null,15,{"$f":"IF(Cover!B18=\"\",\"\",Cover!B18)","v":""},{"$f":"IF(Cover!C18=\"\",\"\",Cover!C18)","v":""},{"$f":"IF(Cover!D18=\"\",\"\",Cover!D18)","v":""},{"$f":"IF(AND(ISBLANK(Cover!B18),ISBLANK(Cover!C18),ISBLANK(Cover!D18)),\"\",100-SUM(EP18:ER18))","v":""},null,null,null,null,null,null,null,null,null,""]
[null,null,null,null,null,null,null,null,null,null,null,null,null,null,null,null,null,null,null,null,null,"","","","","","",0,1,"",null,null,null,null,null,null,null,null,null,null,null,null,null,null,null,null,null,null,null,null,null,null,null,null,null,null,null,null,null,null,null,null,null,null,null,null,null,null,null,null,null,null,null,null,null,null,null,null,null,null,null,null,null,null,null,null,null,null,null,null,null,null,null,null,null,null,null,null,null,null,null,null,null,null,null,null,null,null,null,null,null,50,null,null,{"$f":"IF(PLANTS!M18=\"\",\"\",PLANTS!M18)","v":""},{"$f":"IF(PLANTS!N18=\"\",\"\",PLANTS!N18)","v":""},{"$f":"IF(PLANTS!O18=\"\",\"\",PLANTS!O18)","v":""},{"$f":"IF(KeySP!G17=\"\",\"\",KeySP!G17)","v":"BAEM"},null,null,null,null,15,75,null,null,15,1.9,null,15,null,3,null,null,null,null,null,null,null,null,null,null,null,null,16,{"$f":"IF(Cover!B19=\"\",\"\",Cover!B19)","v":""},{"$f":"IF(Cover!C19=\"\",\"\",Cover!C19)","v":""},{"$f":"IF(Cover!D19=\"\",\"\",Cover!D19)","v":""},{"$f":"IF(AND(ISBLANK(Cover!B19),ISBLANK(Cover!C19),ISBLANK(Cover!D19)),\"\",100-SUM(EP19:ER19))","v":""},null,null,null,null,null,null,null,null,null,""]
[null,null,null,null,null,null,null,null,null,null,null,null,null,null,null,null,null,null,null,null,null,"","","","","","",0,1,"",null,null,null,null,null,null,null,null,null,null,null,null,null,null,null,null,null,null,null,null,null,null,null,null,null,null,null,null,null,null,null,null,null,null,null,null,null,null,null,null,null,null,null,null,null,null,null,null,null,null,null,null,null,null,null,null,null,null,null,null,null,null,null,null,null,null,null,null,null,null,null,null,null,null,null,null,null,null,null,null,null,70,null,null,{"$f":"IF(PLANTS!M19=\"\",\"\",PLANTS!M19)","v":"ACHNA"},{"$f":"IF(PLANTS!N19=\"\",\"\",PLANTS!N19)","v":""},{"$f":"IF(PLANTS!O19=\"\",\"\",PLANTS!O19)","v":""},{"$f":"IF(KeySP!G18=\"\",\"\",KeySP!G18)","v":"BASA"},null,null,null,null,16,80,null,null,16,2,null,16,null,4,null,null,null,null,null,null,null,null,null,null,null,null,17,{"$f":"IF(Cover!B20=\"\",\"\",Cover!B20)","v":""},{"$f":"IF(Cover!C20=\"\",\"\",Cover!C20)","v":""},{"$f":"IF(Cover!D20=\"\",\"\",Cover!D20)","v":""},{"$f":"IF(AND(ISBLANK(Cover!B20),ISBLANK(Cover!C20),ISBLANK(Cover!D20)),\"\",100-SUM(EP20:ER20))","v":""},null,null,null,null,null,null,null,null,null,""]
[null,null,null,null,null,null,null,null,null,null,null,null,null,null,null,null,null,null,null,null,null,"","","","","","",0,1,"",null,null,null,null,null,null,null,null,null,null,null,null,null,null,null,null,null,null,null,null,null,null,null,null,null,null,null,null,null,null,null,null,null,null,null,null,null,null,null,null,null,null,null,null,null,null,null,null,null,null,null,null,null,null,null,null,null,null,null,null,null,null,null,null,null,null,null,null,null,null,null,null,null,null,null,null,null,null,null,null,null,90,null,null,{"$f":"IF(PLANTS!M20=\"\",\"\",PLANTS!M20)","v":""},{"$f":"IF(PLANTS!N20=\"\",\"\",PLANTS!N20)","v":""},{"$f":"IF(PLANTS!O20=\"\",\"\",PLANTS!O20)","v":""},{"$f":"IF(KeySP!G19=\"\",\"\",KeySP!G19)","v":"BASA4"},null,null,null,null,17,85,null,null,17,2.1,null,17,null,5,null,null,null,null,null,null,null,null,null,null,null,null,18,{"$f":"IF(Cover!B21=\"\",\"\",Cover!B21)","v":""},{"$f":"IF(Cover!C21=\"\",\"\",Cover!C21)","v":""},{"$f":"IF(Cover!D21=\"\",\"\",Cover!D21)","v":""},{"$f":"IF(AND(ISBLANK(Cover!B21),ISBLANK(Cover!C21),ISBLANK(Cover!D21)),\"\",100-SUM(EP21:ER21))","v":""},null,null,null,null,null,null,null,null,null,""]
[null,null,null,null,null,null,null,null,null,null,null,null,null,null,null,null,null,null,null,null,null,"","","","","","",0,1,"",null,null,null,null,null,null,null,null,null,null,null,null,null,null,null,null,null,null,null,null,null,null,null,null,null,null,null,null,null,null,null,null,null,null,null,null,null,null,null,null,null,null,null,null,null,null,null,null,null,null,null,null,null,null,null,null,null,null,null,null,null,null,null,null,null,null,null,null,null,null,null,null,null,null,null,null,null,null,null,null,null,null,null,null,{"$f":"IF(PLANTS!M21=\"\",\"\",PLANTS!M21)","v":""},{"$f":"IF(PLANTS!N21=\"\",\"\",PLANTS!N21)","v":""},{"$f":"IF(PLANTS!O21=\"\",\"\",PLANTS!O21)","v":""},{"$f":"IF(KeySP!G20=\"\",\"\",KeySP!G20)","v":"BEGL"},null,null,null,null,18,90,null,null,18,2.2000000000000002,null,18,null,6,null,null,null,null,null,null,null,null,null,null,null,null,19,{"$f":"IF(Cover!B22=\"\",\"\",Cover!B22)","v":""},{"$f":"IF(Cover!C22=\"\",\"\",Cover!C22)","v":""},{"$f":"IF(Cover!D22=\"\",\"\",Cover!D22)","v":""},{"$f":"IF(AND(ISBLANK(Cover!B22),ISBLANK(Cover!C22),ISBLANK(Cover!D22)),\"\",100-SUM(EP22:ER22))","v":""},null,null,null,null,null,null,null,null,null,""]
[null,null,null,null,null,null,null,null,null,null,null,null,null,null,null,null,null,null,null,null,null,"","","","","","",0,1,"",null,null,null,null,null,null,null,null,null,null,null,null,null,null,null,null,null,null,null,null,null,null,null,null,null,null,null,null,null,null,null,null,null,null,null,null,null,null,null,null,null,null,null,null,null,null,null,null,null,null,null,null,null,null,null,null,null,null,null,null,null,null,null,null,null,null,null,null,null,null,null,null,null,null,null,null,null,null,null,null,null,null,null,null,{"$f":"IF(PLANTS!M22=\"\",\"\",PLANTS!M22)","v":""},{"$f":"IF(PLANTS!N22=\"\",\"\",PLANTS!N22)","v":""},{"$f":"IF(PLANTS!O22=\"\",\"\",PLANTS!O22)","v":""},{"$f":"IF(KeySP!G21=\"\",\"\",KeySP!G21)","v":"BEOC2"},null,null,null,null,19,95,null,null,19,2.2999999999999998,null,19,null,null,null,null,null,null,null,null,null,null,null,null,null,null,20,{"$f":"IF(Cover!B23=\"\",\"\",Cover!B23)","v":""},{"$f":"IF(Cover!C23=\"\",\"\",Cover!C23)","v":""},{"$f":"IF(Cover!D23=\"\",\"\",Cover!D23)","v":""},{"$f":"IF(AND(ISBLANK(Cover!B23),ISBLANK(Cover!C23),ISBLANK(Cover!D23)),\"\",100-SUM(EP23:ER23))","v":""},null,null,null,null,null,null,null,null,null,""]
[null,null,null,null,null,null,null,null,null,null,null,null,null,null,null,null,null,null,null,null,null,"","","","","","",0,1,"",null,null,null,null,null,null,null,null,null,null,null,null,null,null,null,null,null,null,null,null,null,null,null,null,null,null,null,null,null,null,null,null,null,null,null,null,null,null,null,null,null,null,null,null,null,null,null,null,null,null,null,null,null,null,null,null,null,null,null,null,null,null,null,null,null,null,null,null,null,null,null,null,null,null,null,null,null,null,null,null,null,null,null,null,{"$f":"IF(PLANTS!M23=\"\",\"\",PLANTS!M23)","v":""},{"$f":"IF(PLANTS!N23=\"\",\"\",PLANTS!N23)","v":""},{"$f":"IF(PLANTS!O23=\"\",\"\",PLANTS!O23)","v":""},{"$f":"IF(KeySP!G22=\"\",\"\",KeySP!G22)","v":"BEPA"},null,null,null,null,20,100,null,null,20,2.4,null,20,null,null,null,null,null,null,null,null,null,null,null,null,null,null,21,{"$f":"IF(Cover!B24=\"\",\"\",Cover!B24)","v":""},{"$f":"IF(Cover!C24=\"\",\"\",Cover!C24)","v":""},{"$f":"IF(Cover!D24=\"\",\"\",Cover!D24)","v":""},{"$f":"IF(AND(ISBLANK(Cover!B24),ISBLANK(Cover!C24),ISBLANK(Cover!D24)),\"\",100-SUM(EP24:ER24))","v":""},null,null,null,null,null,null,null,null,null,""]
[null,null,null,null,null,null,null,null,null,null,null,null,null,null,null,null,null,null,null,null,null,"","","","","","",0,1,"",null,null,null,null,null,null,null,null,null,null,null,null,null,null,null,null,null,null,null,null,null,null,null,null,null,null,null,null,null,null,null,null,null,null,null,null,null,null,null,null,null,null,null,null,null,null,null,null,null,null,null,null,null,null,null,null,null,null,null,null,null,null,null,null,null,null,null,null,null,null,null,null,null,null,null,null,null,null,null,null,null,null,null,null,{"$f":"IF(PLANTS!M24=\"\",\"\",PLANTS!M24)","v":""},{"$f":"IF(PLANTS!N24=\"\",\"\",PLANTS!N24)","v":""},{"$f":"IF(PLANTS!O24=\"\",\"\",PLANTS!O24)","v":""},{"$f":"IF(KeySP!G23=\"\",\"\",KeySP!G23)","v":"BEPU4"},null,null,null,null,21,null,null,null,21,2.5,null,21,null,null,null,null,null,null,null,null,null,null,null,null,null,null,22,{"$f":"IF(Cover!B25=\"\",\"\",Cover!B25)","v":""},{"$f":"IF(Cover!C25=\"\",\"\",Cover!C25)","v":""},{"$f":"IF(Cover!D25=\"\",\"\",Cover!D25)","v":""},{"$f":"IF(AND(ISBLANK(Cover!B25),ISBLANK(Cover!C25),ISBLANK(Cover!D25)),\"\",100-SUM(EP25:ER25))","v":""},null,null,null,null,null,null,null,null,null,""]
[null,null,null,null,null,null,null,null,null,null,null,null,null,null,null,null,null,null,null,null,null,"","","","","","",0,1,"",null,null,null,null,null,null,null,null,null,null,null,null,null,null,null,null,null,null,null,null,null,null,null,null,null,null,null,null,null,null,null,null,null,null,null,null,null,null,null,null,null,null,null,null,null,null,null,null,null,null,null,null,null,null,null,null,null,null,null,null,null,null,null,null,null,null,null,null,null,null,null,null,null,null,null,null,null,null,null,null,null,null,null,null,{"$f":"IF(PLANTS!M25=\"\",\"\",PLANTS!M25)","v":""},{"$f":"IF(PLANTS!N25=\"\",\"\",PLANTS!N25)","v":""},{"$f":"IF(PLANTS!O25=\"\",\"\",PLANTS!O25)","v":""},{"$f":"IF(KeySP!G24=\"\",\"\",KeySP!G24)","v":"BEPU4"},null,null,null,null,22,null,null,null,22,2.6,null,22,null,null,null,null,null,null,null,null,null,null,null,null,null,null,23,{"$f":"IF(Cover!B26=\"\",\"\",Cover!B26)","v":""},{"$f":"IF(Cover!C26=\"\",\"\",Cover!C26)","v":""},{"$f":"IF(Cover!D26=\"\",\"\",Cover!D26)","v":""},{"$f":"IF(AND(ISBLANK(Cover!B26),ISBLANK(Cover!C26),ISBLANK(Cover!D26)),\"\",100-SUM(EP26:ER26))","v":""},null,null,null,null,null,null,null,null,null,""]
[null,null,null,null,null,null,null,null,null,null,null,null,null,null,null,null,null,null,null,null,null,"","","","","","",0,1,"",null,null,null,null,null,null,null,null,null,null,null,null,null,null,null,null,null,null,null,null,null,null,null,null,null,null,null,null,null,null,null,null,null,null,null,null,null,null,null,null,null,null,null,null,null,null,null,null,null,null,null,null,null,null,null,null,null,null,null,null,null,null,null,null,null,null,null,null,null,null,null,null,null,null,null,null,null,null,null,null,null,null,null,null,{"$f":"IF(PLANTS!M26=\"\",\"\",PLANTS!M26)","v":""},{"$f":"IF(PLANTS!N26=\"\",\"\",PLANTS!N26)","v":""},{"$f":"IF(PLANTS!O26=\"\",\"\",PLANTS!O26)","v":""},{"$f":"IF(KeySP!G25=\"\",\"\",KeySP!G25)","v":"CEANO"},null,null,null,null,23,null,null,null,23,2.7,null,23,null,null,null,null,null,null,null,null,null,null,null,null,null,null,24,{"$f":"IF(Cover!B27=\"\",\"\",Cover!B27)","v":""},{"$f":"IF(Cover!C27=\"\",\"\",Cover!C27)","v":""},{"$f":"IF(Cover!D27=\"\",\"\",Cover!D27)","v":""},{"$f":"IF(AND(ISBLANK(Cover!B27),ISBLANK(Cover!C27),ISBLANK(Cover!D27)),\"\",100-SUM(EP27:ER27))","v":""},null,null,null,null,null,null,null,null,null,""]
[null,null,null,null,null,null,null,null,null,null,null,null,null,null,null,null,null,null,null,null,null,"","","","","","",0,1,"",null,null,null,null,null,null,null,null,null,null,null,null,null,null,null,null,null,null,null,null,null,null,null,null,null,null,null,null,null,null,null,null,null,null,null,null,null,null,null,null,null,null,null,null,null,null,null,null,null,null,null,null,null,null,null,null,null,null,null,null,null,null,null,null,null,null,null,null,null,null,null,null,null,null,null,null,null,null,null,null,null,null,null,null,{"$f":"IF(PLANTS!M27=\"\",\"\",PLANTS!M27)","v":""},{"$f":"IF(PLANTS!N27=\"\",\"\",PLANTS!N27)","v":""},{"$f":"IF(PLANTS!O27=\"\",\"\",PLANTS!O27)","v":""},{"$f":"IF(KeySP!G26=\"\",\"\",KeySP!G26)","v":"CELA"},null,null,null,null,24,null,null,null,24,2.8,null,24,null,null,null,null,null,null,null,null,null,null,null,null,null,null,25,{"$f":"IF(Cover!B28=\"\",\"\",Cover!B28)","v":""},{"$f":"IF(Cover!C28=\"\",\"\",Cover!C28)","v":""},{"$f":"IF(Cover!D28=\"\",\"\",Cover!D28)","v":""},{"$f":"IF(AND(ISBLANK(Cover!B28),ISBLANK(Cover!C28),ISBLANK(Cover!D28)),\"\",100-SUM(EP28:ER28))","v":""},null,null,null,null,null,null,null,null,null,""]
[null,null,null,null,null,null,null,null,null,null,null,null,null,null,null,null,null,null,null,null,null,"","","","","","",0,1,"",null,null,null,null,null,null,null,null,null,null,null,null,null,null,null,null,null,null,null,null,null,null,null,null,null,null,null,null,null,null,null,null,null,null,null,null,null,null,null,null,null,null,null,null,null,null,null,null,null,null,null,null,null,null,null,null,null,null,null,null,null,null,null,null,null,null,null,null,null,null,null,null,null,null,null,null,null,null,null,null,null,null,null,null,{"$f":"IF(PLANTS!M28=\"\",\"\",PLANTS!M28)","v":""},{"$f":"IF(PLANTS!N28=\"\",\"\",PLANTS!N28)","v":""},{"$f":"IF(PLANTS!O28=\"\",\"\",PLANTS!O28)","v":""},{"$f":"IF(KeySP!G27=\"\",\"\",KeySP!G27)","v":"CEOC2"},null,null,null,null,25,null,null,null,25,2.9,null,25,null,null,null,null,null,null,null,null,null,null,null,null,null,null,26,{"$f":"IF(Cover!B29=\"\",\"\",Cover!B29)","v":""},{"$f":"IF(Cover!C29=\"\",\"\",Cover!C29)","v":""},{"$f":"IF(Cover!D29=\"\",\"\",Cover!D29)","v":""},{"$f":"IF(AND(ISBLANK(Cover!B29),ISBLANK(Cover!C29),ISBLANK(Cover!D29)),\"\",100-SUM(EP29:ER29))","v":""},null,null,null,null,null,null,null,null,null,""]
[null,null,null,null,null,null,null,null,null,null,null,null,null,null,null,null,null,null,null,null,null,"","","","","","",0,1,"",null,null,null,null,null,null,null,null,null,null,null,null,null,null,null,null,null,null,null,null,null,null,null,null,null,null,null,null,null,null,null,null,null,null,null,null,null,null,null,null,null,null,null,null,null,null,null,null,null,null,null,null,null,null,null,null,null,null,null,null,null,null,null,null,null,null,null,null,null,null,null,null,null,null,null,null,null,null,null,null,null,null,null,null,{"$f":"IF(PLANTS!M29=\"\",\"\",PLANTS!M29)","v":""},{"$f":"IF(PLANTS!N29=\"\",\"\",PLANTS!N29)","v":""},{"$f":"IF(PLANTS!O29=\"\",\"\",PLANTS!O29)","v":""},{"$f":"IF(KeySP!G28=\"\",\"\",KeySP!G28)","v":"CHSP11"},null,null,null,null,26,null,null,null,26,3,null,26,null,null,null,null,null,null,null,null,null,null,null,null,null,null,27,{"$f":"IF(Cover!B30=\"\",\"\",Cover!B30)","v":""},{"$f":"IF(Cover!C30=\"\",\"\",Cover!C30)","v":""},{"$f":"IF(Cover!D30=\"\",\"\",Cover!D30)","v":""},{"$f":"IF(AND(ISBLANK(Cover!B30),ISBLANK(Cover!C30),ISBLANK(Cover!D30)),\"\",100-SUM(EP30:ER30))","v":""},null,null,null,null,null,null,null,null,null,""]
[null,null,null,null,null,null,null,null,null,null,null,null,null,null,null,null,null,null,null,null,null,"","","","","","",0,1,"",null,null,null,null,null,null,null,null,null,null,null,null,null,null,null,null,null,null,null,null,null,null,null,null,null,null,null,null,null,null,null,null,null,null,null,null,null,null,null,null,null,null,null,null,null,null,null,null,null,null,null,null,null,null,null,null,null,null,null,null,null,null,null,null,null,null,null,null,null,null,null,null,null,null,null,null,null,null,null,null,null,null,null,null,{"$f":"IF(PLANTS!M30=\"\",\"\",PLANTS!M30)","v":""},{"$f":"IF(PLANTS!N30=\"\",\"\",PLANTS!N30)","v":""},{"$f":"IF(PLANTS!O30=\"\",\"\",PLANTS!O30)","v":""},{"$f":"IF(KeySP!G29=\"\",\"\",KeySP!G29)","v":"CLLI2"},null,null,null,null,27,null,null,null,27,3.1,null,27,null,null,null,null,null,null,null,null,null,null,null,null,null,null,28,{"$f":"IF(Cover!B31=\"\",\"\",Cover!B31)","v":""},{"$f":"IF(Cover!C31=\"\",\"\",Cover!C31)","v":""},{"$f":"IF(Cover!D31=\"\",\"\",Cover!D31)","v":""},{"$f":"IF(AND(ISBLANK(Cover!B31),ISBLANK(Cover!C31),ISBLANK(Cover!D31)),\"\",100-SUM(EP31:ER31))","v":""},null,null,null,null,null,null,null,null,null,""]
[null,null,null,null,null,null,null,null,null,null,null,null,null,null,null,null,null,null,null,null,null,"","","","","","",0,1,"",null,null,null,null,null,null,null,null,null,null,null,null,null,null,null,null,null,null,null,null,null,null,null,null,null,null,null,null,null,null,null,null,null,null,null,null,null,null,null,null,null,null,null,null,null,null,null,null,null,null,null,null,null,null,null,null,null,null,null,null,null,null,null,null,null,null,null,null,null,null,null,null,null,null,null,null,null,null,null,null,null,null,null,null,{"$f":"IF(PLANTS!M31=\"\",\"\",PLANTS!M31)","v":""},{"$f":"IF(PLANTS!N31=\"\",\"\",PLANTS!N31)","v":""},{"$f":"IF(PLANTS!O31=\"\",\"\",PLANTS!O31)","v":""},{"$f":"IF(KeySP!G30=\"\",\"\",KeySP!G30)","v":"COSE16"},null,null,null,null,28,null,null,null,28,3.2,null,28,null,null,null,null,null,null,null,null,null,null,null,null,null,null,29,{"$f":"IF(Cover!B32=\"\",\"\",Cover!B32)","v":""},{"$f":"IF(Cover!C32=\"\",\"\",Cover!C32)","v":""},{"$f":"IF(Cover!D32=\"\",\"\",Cover!D32)","v":""},{"$f":"IF(AND(ISBLANK(Cover!B32),ISBLANK(Cover!C32),ISBLANK(Cover!D32)),\"\",100-SUM(EP32:ER32))","v":""},null,null,null,null,null,null,null,null,null,""]
[null,null,null,null,null,null,null,null,null,null,null,null,null,null,null,null,null,null,null,null,null,"","","","","","",0,1,"",null,null,null,null,null,null,null,null,null,null,null,null,null,null,null,null,null,null,null,null,null,null,null,null,null,null,null,null,null,null,null,null,null,null,null,null,null,null,null,null,null,null,null,null,null,null,null,null,null,null,null,null,null,null,null,null,null,null,null,null,null,null,null,null,null,null,null,null,null,null,null,null,null,null,null,null,null,null,null,null,null,null,null,null,{"$f":"IF(PLANTS!M32=\"\",\"\",PLANTS!M32)","v":""},{"$f":"IF(PLANTS!N32=\"\",\"\",PLANTS!N32)","v":""},{"$f":"IF(PLANTS!O32=\"\",\"\",PLANTS!O32)","v":""},{"$f":"IF(KeySP!G31=\"\",\"\",KeySP!G31)","v":"COST4"},null,null,null,null,29,null,null,null,29,3.3,null,29,null,null,null,null,null,null,null,null,null,null,null,null,null,null,30,{"$f":"IF(Cover!B33=\"\",\"\",Cover!B33)","v":""},{"$f":"IF(Cover!C33=\"\",\"\",Cover!C33)","v":""},{"$f":"IF(Cover!D33=\"\",\"\",Cover!D33)","v":""},{"$f":"IF(AND(ISBLANK(Cover!B33),ISBLANK(Cover!C33),ISBLANK(Cover!D33)),\"\",100-SUM(EP33:ER33))","v":""},null,null,null,null,null,null,null,null,null,""]
[null,null,null,null,null,null,null,null,null,null,null,null,null,null,null,null,null,null,null,null,null,"","","","","","",0,1,"",null,null,null,null,null,null,null,null,null,null,null,null,null,null,null,null,null,null,null,null,null,null,null,null,null,null,null,null,null,null,null,null,null,null,null,null,null,null,null,null,null,null,null,null,null,null,null,null,null,null,null,null,null,null,null,null,null,null,null,null,null,null,null,null,null,null,null,null,null,null,null,null,null,null,null,null,null,null,null,null,null,null,null,null,{"$f":"IF(PLANTS!M33=\"\",\"\",PLANTS!M33)","v":""},{"$f":"IF(PLANTS!N33=\"\",\"\",PLANTS!N33)","v":""},{"$f":"IF(PLANTS!O33=\"\",\"\",PLANTS!O33)","v":""},{"$f":"IF(KeySP!G32=\"\",\"\",KeySP!G32)","v":"CRDO2"},null,null,null,null,30,null,null,null,30,3.4,null,30,null,null,null,null,null,null,null,null,null,null,null,null,null,null,31,{"$f":"IF(Cover!B34=\"\",\"\",Cover!B34)","v":""},{"$f":"IF(Cover!C34=\"\",\"\",Cover!C34)","v":""},{"$f":"IF(Cover!D34=\"\",\"\",Cover!D34)","v":""},{"$f":"IF(AND(ISBLANK(Cover!B34),ISBLANK(Cover!C34),ISBLANK(Cover!D34)),\"\",100-SUM(EP34:ER34))","v":""},null,null,null,null,null,null,null,null,null,""]
[null,null,null,null,null,null,null,null,null,null,null,null,null,null,null,null,null,null,null,null,null,"","","","","","",0,1,"",null,null,null,null,null,null,null,null,null,null,null,null,null,null,null,null,null,null,null,null,null,null,null,null,null,null,null,null,null,null,null,null,null,null,null,null,null,null,null,null,null,null,null,null,null,null,null,null,null,null,null,null,null,null,null,null,null,null,null,null,null,null,null,null,null,null,null,null,null,null,null,null,null,null,null,null,null,null,null,null,null,null,null,null,{"$f":"IF(PLANTS!M34=\"\",\"\",PLANTS!M34)","v":""},{"$f":"IF(PLANTS!N34=\"\",\"\",PLANTS!N34)","v":""},{"$f":"IF(PLANTS!O34=\"\",\"\",PLANTS!O34)","v":""},{"$f":"IF(KeySP!G33=\"\",\"\",KeySP!G33)","v":"CRSU5"},null,null,null,null,31,null,null,null,31,3.5,null,31,null,null,null,null,null,null,null,null,null,null,null,null,null,null,32,{"$f":"IF(Cover!B35=\"\",\"\",Cover!B35)","v":""},{"$f":"IF(Cover!C35=\"\",\"\",Cover!C35)","v":""},{"$f":"IF(Cover!D35=\"\",\"\",Cover!D35)","v":""},{"$f":"IF(AND(ISBLANK(Cover!B35),ISBLANK(Cover!C35),ISBLANK(Cover!D35)),\"\",100-SUM(EP35:ER35))","v":""},null,null,null,null,null,null,null,null,null,""]
[null,null,null,null,null,null,null,null,null,null,null,null,null,null,null,null,null,null,null,null,null,"","","","","","",0,1,"",null,null,null,null,null,null,null,null,null,null,null,null,null,null,null,null,null,null,null,null,null,null,null,null,null,null,null,null,null,null,null,null,null,null,null,null,null,null,null,null,null,null,null,null,null,null,null,null,null,null,null,null,null,null,null,null,null,null,null,null,null,null,null,null,null,null,null,null,null,null,null,null,null,null,null,null,null,null,null,null,null,null,null,null,{"$f":"IF(PLANTS!M35=\"\",\"\",PLANTS!M35)","v":""},{"$f":"IF(PLANTS!N35=\"\",\"\",PLANTS!N35)","v":""},{"$f":"IF(PLANTS!O35=\"\",\"\",PLANTS!O35)","v":""},{"$f":"IF(KeySP!G34=\"\",\"\",KeySP!G34)","v":"DAFR6"},null,null,null,null,32,null,null,null,32,3.6,null,32,null,null,null,null,null,null,null,null,null,null,null,null,null,null,33,{"$f":"IF(Cover!B36=\"\",\"\",Cover!B36)","v":""},{"$f":"IF(Cover!C36=\"\",\"\",Cover!C36)","v":""},{"$f":"IF(Cover!D36=\"\",\"\",Cover!D36)","v":""},{"$f":"IF(AND(ISBLANK(Cover!B36),ISBLANK(Cover!C36),ISBLANK(Cover!D36)),\"\",100-SUM(EP36:ER36))","v":""},null,null,null,null,null,null,null,null,null,""]
[null,null,null,null,null,null,null,null,null,null,null,null,null,null,null,null,null,null,null,null,null,"","","","","","",0,1,"",null,null,null,null,null,null,null,null,null,null,null,null,null,null,null,null,null,null,null,null,null,null,null,null,null,null,null,null,null,null,null,null,null,null,null,null,null,null,null,null,null,null,null,null,null,null,null,null,null,null,null,null,null,null,null,null,null,null,null,null,null,null,null,null,null,null,null,null,null,null,null,null,null,null,null,null,null,null,null,null,null,null,null,null,{"$f":"IF(PLANTS!M36=\"\",\"\",PLANTS!M36)","v":""},{"$f":"IF(PLANTS!N36=\"\",\"\",PLANTS!N36)","v":""},{"$f":"IF(PLANTS!O36=\"\",\"\",PLANTS!O36)","v":""},{"$f":"IF(KeySP!G35=\"\",\"\",KeySP!G35)","v":"ELAN"},null,null,null,null,33,null,null,null,33,3.7,null,33,null,null,null,null,null,null,null,null,null,null,null,null,null,null,34,{"$f":"IF(Cover!B37=\"\",\"\",Cover!B37)","v":""},{"$f":"IF(Cover!C37=\"\",\"\",Cover!C37)","v":""},{"$f":"IF(Cover!D37=\"\",\"\",Cover!D37)","v":""},{"$f":"IF(AND(ISBLANK(Cover!B37),ISBLANK(Cover!C37),ISBLANK(Cover!D37)),\"\",100-SUM(EP37:ER37))","v":""},null,null,null,null,null,null,null,null,null,""]
[null,null,null,null,null,null,null,null,null,null,null,null,null,null,null,null,null,null,null,null,null,"","","","","","",0,1,"",null,null,null,null,null,null,null,null,null,null,null,null,null,null,null,null,null,null,null,null,null,null,null,null,null,null,null,null,null,null,null,null,null,null,null,null,null,null,null,null,null,null,null,null,null,null,null,null,null,null,null,null,null,null,null,null,null,null,null,null,null,null,null,null,null,null,null,null,null,null,null,null,null,null,null,null,null,null,null,null,null,null,null,null,{"$f":"IF(PLANTS!M37=\"\",\"\",PLANTS!M37)","v":"BASA4"},{"$f":"IF(PLANTS!N37=\"\",\"\",PLANTS!N37)","v":""},{"$f":"IF(PLANTS!O37=\"\",\"\",PLANTS!O37)","v":""},{"$f":"IF(KeySP!G36=\"\",\"\",KeySP!G36)","v":"ELCO"},null,null,null,null,34,null,null,null,34,3.8,null,34,null,null,null,null,null,null,null,null,null,null,null,null,null,null,35,{"$f":"IF(Cover!B38=\"\",\"\",Cover!B38)","v":""},{"$f":"IF(Cover!C38=\"\",\"\",Cover!C38)","v":""},{"$f":"IF(Cover!D38=\"\",\"\",Cover!D38)","v":""},{"$f":"IF(AND(ISBLANK(Cover!B38),ISBLANK(Cover!C38),ISBLANK(Cover!D38)),\"\",100-SUM(EP38:ER38))","v":""},null,null,null,null,null,null,null,null,null,""]
[null,null,null,null,null,null,null,null,null,null,null,null,null,null,null,null,null,null,null,null,null,"","","","","","",0,1,"",null,null,null,null,null,null,null,null,null,null,null,null,null,null,null,null,null,null,null,null,null,null,null,null,null,null,null,null,null,null,null,null,null,null,null,null,null,null,null,null,null,null,null,null,null,null,null,null,null,null,null,null,null,null,null,null,null,null,null,null,null,null,null,null,null,null,null,null,null,null,null,null,null,null,null,null,null,null,null,null,null,null,null,null,{"$f":"IF(PLANTS!M38=\"\",\"\",PLANTS!M38)","v":""},{"$f":"IF(PLANTS!N38=\"\",\"\",PLANTS!N38)","v":""},{"$f":"IF(PLANTS!O38=\"\",\"\",PLANTS!O38)","v":""},{"$f":"IF(KeySP!G37=\"\",\"\",KeySP!G37)","v":"FRLA"},null,null,null,null,35,null,null,null,35,3.9,null,35,null,null,null,null,null,null,null,null,null,null,null,null,null,null,36,{"$f":"IF(Cover!B39=\"\",\"\",Cover!B39)","v":""},{"$f":"IF(Cover!C39=\"\",\"\",Cover!C39)","v":""},{"$f":"IF(Cover!D39=\"\",\"\",Cover!D39)","v":""},{"$f":"IF(AND(ISBLANK(Cover!B39),ISBLANK(Cover!C39),ISBLANK(Cover!D39)),\"\",100-SUM(EP39:ER39))","v":""},null,null,null,null,null,null,null,null,null,""]
[null,null,null,null,null,null,null,null,null,null,null,null,null,null,null,null,null,null,null,null,null,"","","","","","",0,1,"",null,null,null,null,null,null,null,null,null,null,null,null,null,null,null,null,null,null,null,null,null,null,null,null,null,null,null,null,null,null,null,null,null,null,null,null,null,null,null,null,null,null,null,null,null,null,null,null,null,null,null,null,null,null,null,null,null,null,null,null,null,null,null,null,null,null,null,null,null,null,null,null,null,null,null,null,null,null,null,null,null,null,null,null,{"$f":"IF(PLANTS!M39=\"\",\"\",PLANTS!M39)","v":""},{"$f":"IF(PLANTS!N39=\"\",\"\",PLANTS!N39)","v":""},{"$f":"IF(PLANTS!O39=\"\",\"\",PLANTS!O39)","v":""},{"$f":"IF(KeySP!G38=\"\",\"\",KeySP!G38)","v":"FRPE"},null,null,null,null,36,null,null,null,36,4,null,36,null,null,null,null,null,null,null,null,null,null,null,null,null,null,37,{"$f":"IF(Cover!B40=\"\",\"\",Cover!B40)","v":""},{"$f":"IF(Cover!C40=\"\",\"\",Cover!C40)","v":""},{"$f":"IF(Cover!D40=\"\",\"\",Cover!D40)","v":""},{"$f":"IF(AND(ISBLANK(Cover!B40),ISBLANK(Cover!C40),ISBLANK(Cover!D40)),\"\",100-SUM(EP40:ER40))","v":""},null,null,null,null,null,null,null,null,null,""]
[null,null,null,null,null,null,null,null,null,null,null,null,null,null,null,null,null,null,null,null,null,"","","","","","",0,1,"",null,null,null,null,null,null,null,null,null,null,null,null,null,null,null,null,null,null,null,null,null,null,null,null,null,null,null,null,null,null,null,null,null,null,null,null,null,null,null,null,null,null,null,null,null,null,null,null,null,null,null,null,null,null,null,null,null,null,null,null,null,null,null,null,null,null,null,null,null,null,null,null,null,null,null,null,null,null,null,null,null,null,null,null,{"$f":"IF(PLANTS!M40=\"\",\"\",PLANTS!M40)","v":""},{"$f":"IF(PLANTS!N40=\"\",\"\",PLANTS!N40)","v":""},{"$f":"IF(PLANTS!O40=\"\",\"\",PLANTS!O40)","v":""},{"$f":"IF(KeySP!G39=\"\",\"\",KeySP!G39)","v":"FRVE2"},null,null,null,null,37,null,null,null,37,4.0999999999999996,null,37,null,null,null,null,null,null,null,null,null,null,null,null,null,null,38,{"$f":"IF(Cover!B41=\"\",\"\",Cover!B41)","v":""},{"$f":"IF(Cover!C41=\"\",\"\",Cover!C41)","v":""},{"$f":"IF(Cover!D41=\"\",\"\",Cover!D41)","v":""},{"$f":"IF(AND(ISBLANK(Cover!B41),ISBLANK(Cover!C41),ISBLANK(Cover!D41)),\"\",100-SUM(EP41:ER41))","v":""},null,null,null,null,null,null,null,null,null,""]
[null,null,null,null,null,null,null,null,null,null,null,null,null,null,null,null,null,null,null,null,null,"","","","","","",0,1,"",null,null,null,null,null,null,null,null,null,null,null,null,null,null,null,null,null,null,null,null,null,null,null,null,null,null,null,null,null,null,null,null,null,null,null,null,null,null,null,null,null,null,null,null,null,null,null,null,null,null,null,null,null,null,null,null,null,null,null,null,null,null,null,null,null,null,null,null,null,null,null,null,null,null,null,null,null,null,null,null,null,null,null,null,{"$f":"IF(PLANTS!M41=\"\",\"\",PLANTS!M41)","v":""},{"$f":"IF(PLANTS!N41=\"\",\"\",PLANTS!N41)","v":""},{"$f":"IF(PLANTS!O41=\"\",\"\",PLANTS!O41)","v":""},{"$f":"IF(KeySP!G40=\"\",\"\",KeySP!G40)","v":"JUMA"},null,null,null,null,38,null,null,null,38,4.2,null,38,null,null,null,null,null,null,null,null,null,null,null,null,null,null,39,{"$f":"IF(Cover!B42=\"\",\"\",Cover!B42)","v":""},{"$f":"IF(Cover!C42=\"\",\"\",Cover!C42)","v":""},{"$f":"IF(Cover!D42=\"\",\"\",Cover!D42)","v":""},{"$f":"IF(AND(ISBLANK(Cover!B42),ISBLANK(Cover!C42),ISBLANK(Cover!D42)),\"\",100-SUM(EP42:ER42))","v":""},null,null,null,null,null,null,null,null,null,""]
[null,null,null,null,null,null,null,null,null,null,null,null,null,null,null,null,null,null,null,null,null,"","","","","","",0,1,"",null,null,null,null,null,null,null,null,null,null,null,null,null,null,null,null,null,null,null,null,null,null,null,null,null,null,null,null,null,null,null,null,null,null,null,null,null,null,null,null,null,null,null,null,null,null,null,null,null,null,null,null,null,null,null,null,null,null,null,null,null,null,null,null,null,null,null,null,null,null,null,null,null,null,null,null,null,null,null,null,null,null,null,null,{"$f":"IF(PLANTS!M42=\"\",\"\",PLANTS!M42)","v":""},{"$f":"IF(PLANTS!N42=\"\",\"\",PLANTS!N42)","v":""},{"$f":"IF(PLANTS!O42=\"\",\"\",PLANTS!O42)","v":""},{"$f":"IF(KeySP!G41=\"\",\"\",KeySP!G41)","v":"KAMI"},null,null,null,null,39,null,null,null,39,4.3,null,39,null,null,null,null,null,null,null,null,null,null,null,null,null,null,40,{"$f":"IF(Cover!B43=\"\",\"\",Cover!B43)","v":""},{"$f":"IF(Cover!C43=\"\",\"\",Cover!C43)","v":""},{"$f":"IF(Cover!D43=\"\",\"\",Cover!D43)","v":""},{"$f":"IF(AND(ISBLANK(Cover!B43),ISBLANK(Cover!C43),ISBLANK(Cover!D43)),\"\",100-SUM(EP43:ER43))","v":""},null,null,null,null,null,null,null,null,null,""]
[null,null,null,null,null,null,null,null,null,null,null,null,null,null,null,null,null,null,null,null,null,"","","","","","",0,1,"",null,null,null,null,null,null,null,null,null,null,null,null,null,null,null,null,null,null,null,null,null,null,null,null,null,null,null,null,null,null,null,null,null,null,null,null,null,null,null,null,null,null,null,null,null,null,null,null,null,null,null,null,null,null,null,null,null,null,null,null,null,null,null,null,null,null,null,null,null,null,null,null,null,null,null,null,null,null,null,null,null,null,null,null,{"$f":"IF(PLANTS!M43=\"\",\"\",PLANTS!M43)","v":""},{"$f":"IF(PLANTS!N43=\"\",\"\",PLANTS!N43)","v":""},{"$f":"IF(PLANTS!O43=\"\",\"\",PLANTS!O43)","v":""},{"$f":"IF(KeySP!G42=\"\",\"\",KeySP!G42)","v":"LEGL"},null,null,null,null,40,null,null,null,40,4.4000000000000004,null,40,null,null,null,null,null,null,null,null,null,null,null,null,null,null,41,{"$f":"IF(Cover!B44=\"\",\"\",Cover!B44)","v":""},{"$f":"IF(Cover!C44=\"\",\"\",Cover!C44)","v":""},{"$f":"IF(Cover!D44=\"\",\"\",Cover!D44)","v":""},{"$f":"IF(AND(ISBLANK(Cover!B44),ISBLANK(Cover!C44),ISBLANK(Cover!D44)),\"\",100-SUM(EP44:ER44))","v":""},null,null,null,null,null,null,null,null,null,""]
[null,null,null,null,null,null,null,null,null,null,null,null,null,null,null,null,null,null,null,null,null,"","","","","","",0,1,"",null,null,null,null,null,null,null,null,null,null,null,null,null,null,null,null,null,null,null,null,null,null,null,null,null,null,null,null,null,null,null,null,null,null,null,null,null,null,null,null,null,null,null,null,null,null,null,null,null,null,null,null,null,null,null,null,null,null,null,null,null,null,null,null,null,null,null,null,null,null,null,null,null,null,null,null,null,null,null,null,null,null,null,null,{"$f":"IF(PLANTS!M44=\"\",\"\",PLANTS!M44)","v":""},{"$f":"IF(PLANTS!N44=\"\",\"\",PLANTS!N44)","v":""},{"$f":"IF(PLANTS!O44=\"\",\"\",PLANTS!O44)","v":""},{"$f":"IF(KeySP!G43=\"\",\"\",KeySP!G43)","v":"LOIN5"},null,null,null,null,41,null,null,null,41,4.5,null,41,null,null,null,null,null,null,null,null,null,null,null,null,null,null,42,{"$f":"IF(Cover!B45=\"\",\"\",Cover!B45)","v":""},{"$f":"IF(Cover!C45=\"\",\"\",Cover!C45)","v":""},{"$f":"IF(Cover!D45=\"\",\"\",Cover!D45)","v":""},{"$f":"IF(AND(ISBLANK(Cover!B45),ISBLANK(Cover!C45),ISBLANK(Cover!D45)),\"\",100-SUM(EP45:ER45))","v":""},null,null,null,null,null,null,null,null,null,""]
[null,null,null,null,null,null,null,null,null,null,null,null,null,null,null,null,null,null,null,null,null,"","","","","","",0,1,"",null,null,null,null,null,null,null,null,null,null,null,null,null,null,null,null,null,null,null,null,null,null,null,null,null,null,null,null,null,null,null,null,null,null,null,null,null,null,null,null,null,null,null,null,null,null,null,null,null,null,null,null,null,null,null,null,null,null,null,null,null,null,null,null,null,null,null,null,null,null,null,null,null,null,null,null,null,null,null,null,null,null,null,null,{"$f":"IF(PLANTS!M45=\"\",\"\",PLANTS!M45)","v":""},{"$f":"IF(PLANTS!N45=\"\",\"\",PLANTS!N45)","v":""},{"$f":"IF(PLANTS!O45=\"\",\"\",PLANTS!O45)","v":""},{"$f":"IF(KeySP!G44=\"\",\"\",KeySP!G44)","v":"LONIC"},null,null,null,null,42,null,null,null,42,4.5999999999999996,null,42,null,null,null,null,null,null,null,null,null,null,null,null,null,null,43,{"$f":"IF(Cover!B46=\"\",\"\",Cover!B46)","v":""},{"$f":"IF(Cover!C46=\"\",\"\",Cover!C46)","v":""},{"$f":"IF(Cover!D46=\"\",\"\",Cover!D46)","v":""},{"$f":"IF(AND(ISBLANK(Cover!B46),ISBLANK(Cover!C46),ISBLANK(Cover!D46)),\"\",100-SUM(EP46:ER46))","v":""},null,null,null,null,null,null,null,null,null,""]
[null,null,null,null,null,null,null,null,null,null,null,null,null,null,null,null,null,null,null,null,null,"","","","","","",0,1,"",null,null,null,null,null,null,null,null,null,null,null,null,null,null,null,null,null,null,null,null,null,null,null,null,null,null,null,null,null,null,null,null,null,null,null,null,null,null,null,null,null,null,null,null,null,null,null,null,null,null,null,null,null,null,null,null,null,null,null,null,null,null,null,null,null,null,null,null,null,null,null,null,null,null,null,null,null,null,null,null,null,null,null,null,{"$f":"IF(PLANTS!M46=\"\",\"\",PLANTS!M46)","v":""},{"$f":"IF(PLANTS!N46=\"\",\"\",PLANTS!N46)","v":""},{"$f":"IF(PLANTS!O46=\"\",\"\",PLANTS!O46)","v":""},{"$f":"IF(KeySP!G45=\"\",\"\",KeySP!G45)","v":"LOUT2"},null,null,null,null,43,null,null,null,43,4.7,null,43,null,null,null,null,null,null,null,null,null,null,null,null,null,null,44,{"$f":"IF(Cover!B47=\"\",\"\",Cover!B47)","v":""},{"$f":"IF(Cover!C47=\"\",\"\",Cover!C47)","v":""},{"$f":"IF(Cover!D47=\"\",\"\",Cover!D47)","v":""},{"$f":"IF(AND(ISBLANK(Cover!B47),ISBLANK(Cover!C47),ISBLANK(Cover!D47)),\"\",100-SUM(EP47:ER47))","v":""},null,null,null,null,null,null,null,null,null,""]
[null,null,null,null,null,null,null,null,null,null,null,null,null,null,null,null,null,null,null,null,null,"","","","","","",0,1,"",null,null,null,null,null,null,null,null,null,null,null,null,null,null,null,null,null,null,null,null,null,null,null,null,null,null,null,null,null,null,null,null,null,null,null,null,null,null,null,null,null,null,null,null,null,null,null,null,null,null,null,null,null,null,null,null,null,null,null,null,null,null,null,null,null,null,null,null,null,null,null,null,null,null,null,null,null,null,null,null,null,null,null,null,{"$f":"IF(PLANTS!M47=\"\",\"\",PLANTS!M47)","v":""},{"$f":"IF(PLANTS!N47=\"\",\"\",PLANTS!N47)","v":""},{"$f":"IF(PLANTS!O47=\"\",\"\",PLANTS!O47)","v":""},{"$f":"IF(KeySP!G46=\"\",\"\",KeySP!G46)","v":"MAFU"},null,null,null,null,44,null,null,null,44,4.8,null,44,null,null,null,null,null,null,null,null,null,null,null,null,null,null,45,{"$f":"IF(Cover!B48=\"\",\"\",Cover!B48)","v":""},{"$f":"IF(Cover!C48=\"\",\"\",Cover!C48)","v":""},{"$f":"IF(Cover!D48=\"\",\"\",Cover!D48)","v":""},{"$f":"IF(AND(ISBLANK(Cover!B48),ISBLANK(Cover!C48),ISBLANK(Cover!D48)),\"\",100-SUM(EP48:ER48))","v":""},null,null,null,null,null,null,null,null,null,""]
[null,null,null,null,null,null,null,null,null,null,null,null,null,null,null,null,null,null,null,null,null,"","","","","","",0,1,"",null,null,null,null,null,null,null,null,null,null,null,null,null,null,null,null,null,null,null,null,null,null,null,null,null,null,null,null,null,null,null,null,null,null,null,null,null,null,null,null,null,null,null,null,null,null,null,null,null,null,null,null,null,null,null,null,null,null,null,null,null,null,null,null,null,null,null,null,null,null,null,null,null,null,null,null,null,null,null,null,null,null,null,null,{"$f":"IF(PLANTS!M48=\"\",\"\",PLANTS!M48)","v":""},{"$f":"IF(PLANTS!N48=\"\",\"\",PLANTS!N48)","v":""},{"$f":"IF(PLANTS!O48=\"\",\"\",PLANTS!O48)","v":""},{"$f":"IF(KeySP!G47=\"\",\"\",KeySP!G47)","v":"MS"},null,null,null,null,45,null,null,null,45,4.9000000000000004,null,45,null,null,null,null,null,null,null,null,null,null,null,null,null,null,46,{"$f":"IF(Cover!B49=\"\",\"\",Cover!B49)","v":""},{"$f":"IF(Cover!C49=\"\",\"\",Cover!C49)","v":""},{"$f":"IF(Cover!D49=\"\",\"\",Cover!D49)","v":""},{"$f":"IF(AND(ISBLANK(Cover!B49),ISBLANK(Cover!C49),ISBLANK(Cover!D49)),\"\",100-SUM(EP49:ER49))","v":""},null,null,null,null,null,null,null,null,null,""]
[null,null,null,null,null,null,null,null,null,null,null,null,null,null,null,null,null,null,null,null,null,"","","","","","",0,1,"",null,null,null,null,null,null,null,null,null,null,null,null,null,null,null,null,null,null,null,null,null,null,null,null,null,null,null,null,null,null,null,null,null,null,null,null,null,null,null,null,null,null,null,null,null,null,null,null,null,null,null,null,null,null,null,null,null,null,null,null,null,null,null,null,null,null,null,null,null,null,null,null,null,null,null,null,null,null,null,null,null,null,null,null,{"$f":"IF(PLANTS!M49=\"\",\"\",PLANTS!M49)","v":""},{"$f":"IF(PLANTS!N49=\"\",\"\",PLANTS!N49)","v":""},{"$f":"IF(PLANTS!O49=\"\",\"\",PLANTS!O49)","v":""},{"$f":"IF(KeySP!G48=\"\",\"\",KeySP!G48)","v":"PHCA11"},null,null,null,null,46,null,null,null,46,5,null,46,null,null,null,null,null,null,null,null,null,null,null,null,null,null,47,{"$f":"IF(Cover!B50=\"\",\"\",Cover!B50)","v":""},{"$f":"IF(Cover!C50=\"\",\"\",Cover!C50)","v":""},{"$f":"IF(Cover!D50=\"\",\"\",Cover!D50)","v":""},{"$f":"IF(AND(ISBLANK(Cover!B50),ISBLANK(Cover!C50),ISBLANK(Cover!D50)),\"\",100-SUM(EP50:ER50))","v":""},null,null,null,null,null,null,null,null,null,""]
[null,null,null,null,null,null,null,null,null,null,null,null,null,null,null,null,null,null,null,null,null,"","","","","","",0,1,"",null,null,null,null,null,null,null,null,null,null,null,null,null,null,null,null,null,null,null,null,null,null,null,null,null,null,null,null,null,null,null,null,null,null,null,null,null,null,null,null,null,null,null,null,null,null,null,null,null,null,null,null,null,null,null,null,null,null,null,null,null,null,null,null,null,null,null,null,null,null,null,null,null,null,null,null,null,null,null,null,null,null,null,null,{"$f":"IF(PLANTS!M50=\"\",\"\",PLANTS!M50)","v":""},{"$f":"IF(PLANTS!N50=\"\",\"\",PLANTS!N50)","v":""},{"$f":"IF(PLANTS!O50=\"\",\"\",PLANTS!O50)","v":""},{"$f":"IF(KeySP!G49=\"\",\"\",KeySP!G49)","v":"PHLE4"},null,null,null,null,47,null,null,null,47,5.0999999999999996,null,47,null,null,null,null,null,null,null,null,null,null,null,null,null,null,48,{"$f":"IF(Cover!B51=\"\",\"\",Cover!B51)","v":""},{"$f":"IF(Cover!C51=\"\",\"\",Cover!C51)","v":""},{"$f":"IF(Cover!D51=\"\",\"\",Cover!D51)","v":""},{"$f":"IF(AND(ISBLANK(Cover!B51),ISBLANK(Cover!C51),ISBLANK(Cover!D51)),\"\",100-SUM(EP51:ER51))","v":""},null,null,null,null,null,null,null,null,null,""]
[null,null,null,null,null,null,null,null,null,null,null,null,null,null,null,null,null,null,null,null,null,"","","","","","",0,1,"",null,null,null,null,null,null,null,null,null,null,null,null,null,null,null,null,null,null,null,null,null,null,null,null,null,null,null,null,null,null,null,null,null,null,null,null,null,null,null,null,null,null,null,null,null,null,null,null,null,null,null,null,null,null,null,null,null,null,null,null,null,null,null,null,null,null,null,null,null,null,null,null,null,null,null,null,null,null,null,null,null,null,null,null,{"$f":"IF(PLANTS!M51=\"\",\"\",PLANTS!M51)","v":""},{"$f":"IF(PLANTS!N51=\"\",\"\",PLANTS!N51)","v":""},{"$f":"IF(PLANTS!O51=\"\",\"\",PLANTS!O51)","v":""},{"$f":"IF(KeySP!G50=\"\",\"\",KeySP!G50)","v":"PHMA5"},null,null,null,null,48,null,null,null,48,5.2,null,48,null,null,null,null,null,null,null,null,null,null,null,null,null,null,49,{"$f":"IF(Cover!B52=\"\",\"\",Cover!B52)","v":""},{"$f":"IF(Cover!C52=\"\",\"\",Cover!C52)","v":""},{"$f":"IF(Cover!D52=\"\",\"\",Cover!D52)","v":""},{"$f":"IF(AND(ISBLANK(Cover!B52),ISBLANK(Cover!C52),ISBLANK(Cover!D52)),\"\",100-SUM(EP52:ER52))","v":""},null,null,null,null,null,null,null,null,null,""]
[null,null,null,null,null,null,null,null,null,null,null,null,null,null,null,null,null,null,null,null,null,"","","","","","",0,1,"",null,null,null,null,null,null,null,null,null,null,null,null,null,null,null,null,null,null,null,null,null,null,null,null,null,null,null,null,null,null,null,null,null,null,null,null,null,null,null,null,null,null,null,null,null,null,null,null,null,null,null,null,null,null,null,null,null,null,null,null,null,null,null,null,null,null,null,null,null,null,null,null,null,null,null,null,null,null,null,null,null,null,null,null,{"$f":"IF(PLANTS!M52=\"\",\"\",PLANTS!M52)","v":""},{"$f":"IF(PLANTS!N52=\"\",\"\",PLANTS!N52)","v":""},{"$f":"IF(PLANTS!O52=\"\",\"\",PLANTS!O52)","v":""},{"$f":"IF(KeySP!G51=\"\",\"\",KeySP!G51)","v":"PICEA"},null,null,null,null,49,null,null,null,49,5.3,null,49,null,null,null,null,null,null,null,null,null,null,null,null,null,null,50,{"$f":"IF(Cover!B53=\"\",\"\",Cover!B53)","v":""},{"$f":"IF(Cover!C53=\"\",\"\",Cover!C53)","v":""},{"$f":"IF(Cover!D53=\"\",\"\",Cover!D53)","v":""},{"$f":"IF(AND(ISBLANK(Cover!B53),ISBLANK(Cover!C53),ISBLANK(Cover!D53)),\"\",100-SUM(EP53:ER53))","v":""},null,null,null,null,null,null,null,null,null,""]
[null,null,null,null,null,null,null,null,null,null,null,null,null,null,null,null,null,null,null,null,null,"","","","","","",0,1,"",null,null,null,null,null,null,null,null,null,null,null,null,null,null,null,null,null,null,null,null,null,null,null,null,null,null,null,null,null,null,null,null,null,null,null,null,null,null,null,null,null,null,null,null,null,null,null,null,null,null,null,null,null,null,null,null,null,null,null,null,null,null,null,null,null,null,null,null,null,null,null,null,null,null,null,null,null,null,null,null,null,null,null,null,{"$f":"IF(PLANTS!M53=\"\",\"\",PLANTS!M53)","v":""},{"$f":"IF(PLANTS!N53=\"\",\"\",PLANTS!N53)","v":""},{"$f":"IF(PLANTS!O53=\"\",\"\",PLANTS!O53)","v":""},{"$f":"IF(KeySP!G52=\"\",\"\",KeySP!G52)","v":"PIPU"},null,null,null,null,50,null,null,null,50,5.4,null,50,null,null,null,null,null,null,null,null,null,null,null,null,null,null,51,{"$f":"IF(Cover!B54=\"\",\"\",Cover!B54)","v":""},{"$f":"IF(Cover!C54=\"\",\"\",Cover!C54)","v":""},{"$f":"IF(Cover!D54=\"\",\"\",Cover!D54)","v":""},{"$f":"IF(AND(ISBLANK(Cover!B54),ISBLANK(Cover!C54),ISBLANK(Cover!D54)),\"\",100-SUM(EP54:ER54))","v":""},null,null,null,null,null,null,null,null,null,""]
[null,null,null,null,null,null,null,null,null,null,null,null,null,null,null,null,null,null,null,null,null,"","","","","","",0,1,"",null,null,null,null,null,null,null,null,null,null,null,null,null,null,null,null,null,null,null,null,null,null,null,null,null,null,null,null,null,null,null,null,null,null,null,null,null,null,null,null,null,null,null,null,null,null,null,null,null,null,null,null,null,null,null,null,null,null,null,null,null,null,null,null,null,null,null,null,null,null,null,null,null,null,null,null,null,null,null,null,null,null,null,null,{"$f":"IF(PLANTS!M54=\"\",\"\",PLANTS!M54)","v":""},{"$f":"IF(PLANTS!N54=\"\",\"\",PLANTS!N54)","v":""},{"$f":"IF(PLANTS!O54=\"\",\"\",PLANTS!O54)","v":""},{"$f":"IF(KeySP!G53=\"\",\"\",KeySP!G53)","v":"PLSE"},null,null,null,null,51,null,null,null,51,5.5,null,null,null,null,null,null,null,null,null,null,null,null,null,null,null,null,52,{"$f":"IF(Cover!B55=\"\",\"\",Cover!B55)","v":""},{"$f":"IF(Cover!C55=\"\",\"\",Cover!C55)","v":""},{"$f":"IF(Cover!D55=\"\",\"\",Cover!D55)","v":""},{"$f":"IF(AND(ISBLANK(Cover!B55),ISBLANK(Cover!C55),ISBLANK(Cover!D55)),\"\",100-SUM(EP55:ER55))","v":""},null,null,null,null,null,null,null,null,null,""]
[null,null,null,null,null,null,null,null,null,null,null,null,null,null,null,null,null,null,null,null,null,"","","","","","",0,1,"",null,null,null,null,null,null,null,null,null,null,null,null,null,null,null,null,null,null,null,null,null,null,null,null,null,null,null,null,null,null,null,null,null,null,null,null,null,null,null,null,null,null,null,null,null,null,null,null,null,null,null,null,null,null,null,null,null,null,null,null,null,null,null,null,null,null,null,null,null,null,null,null,null,null,null,null,null,null,null,null,null,null,null,null,{"$f":"IF(PLANTS!M55=\"\",\"\",PLANTS!M55)","v":""},{"$f":"IF(PLANTS!N55=\"\",\"\",PLANTS!N55)","v":""},{"$f":"IF(PLANTS!O55=\"\",\"\",PLANTS!O55)","v":""},{"$f":"IF(KeySP!G54=\"\",\"\",KeySP!G54)","v":"PLWR2"},null,null,null,null,52,null,null,null,52,5.6,null,null,null,null,null,null,null,null,null,null,null,null,null,null,null,null,53,{"$f":"IF(Cover!B56=\"\",\"\",Cover!B56)","v":""},{"$f":"IF(Cover!C56=\"\",\"\",Cover!C56)","v":""},{"$f":"IF(Cover!D56=\"\",\"\",Cover!D56)","v":""},{"$f":"IF(AND(ISBLANK(Cover!B56),ISBLANK(Cover!C56),ISBLANK(Cover!D56)),\"\",100-SUM(EP56:ER56))","v":""},null,null,null,null,null,null,null,null,null,""]
[null,null,null,null,null,null,null,null,null,null,null,null,null,null,null,null,null,null,null,null,null,"","","","","","",0,1,"",null,null,null,null,null,null,null,null,null,null,null,null,null,null,null,null,null,null,null,null,null,null,null,null,null,null,null,null,null,null,null,null,null,null,null,null,null,null,null,null,null,null,null,null,null,null,null,null,null,null,null,null,null,null,null,null,null,null,null,null,null,null,null,null,null,null,null,null,null,null,null,null,null,null,null,null,null,null,null,null,null,null,null,null,{"$f":"IF(PLANTS!M56=\"\",\"\",PLANTS!M56)","v":""},{"$f":"IF(PLANTS!N56=\"\",\"\",PLANTS!N56)","v":""},{"$f":"IF(PLANTS!O56=\"\",\"\",PLANTS!O56)","v":""},{"$f":"IF(KeySP!G55=\"\",\"\",KeySP!G55)","v":"POAN3"},null,null,null,null,53,null,null,null,53,5.7,null,null,null,null,null,null,null,null,null,null,null,null,null,null,null,null,54,{"$f":"IF(Cover!B57=\"\",\"\",Cover!B57)","v":""},{"$f":"IF(Cover!C57=\"\",\"\",Cover!C57)","v":""},{"$f":"IF(Cover!D57=\"\",\"\",Cover!D57)","v":""},{"$f":"IF(AND(ISBLANK(Cover!B57),ISBLANK(Cover!C57),ISBLANK(Cover!D57)),\"\",100-SUM(EP57:ER57))","v":""},null,null,null,null,null,null,null,null,null,""]
[null,null,null,null,null,null,null,null,null,null,null,null,null,null,null,null,null,null,null,null,null,"","","","","","",0,1,"",null,null,null,null,null,null,null,null,null,null,null,null,null,null,null,null,null,null,null,null,null,null,null,null,null,null,null,null,null,null,null,null,null,null,null,null,null,null,null,null,null,null,null,null,null,null,null,null,null,null,null,null,null,null,null,null,null,null,null,null,null,null,null,null,null,null,null,null,null,null,null,null,null,null,null,null,null,null,null,null,null,null,null,null,{"$f":"IF(PLANTS!M57=\"\",\"\",PLANTS!M57)","v":""},{"$f":"IF(PLANTS!N57=\"\",\"\",PLANTS!N57)","v":""},{"$f":"IF(PLANTS!O57=\"\",\"\",PLANTS!O57)","v":""},{"$f":"IF(KeySP!G56=\"\",\"\",KeySP!G56)","v":"POBA2"},null,null,null,null,54,null,null,null,54,5.8,null,null,null,null,null,null,null,null,null,null,null,null,null,null,null,null,55,{"$f":"IF(Cover!B58=\"\",\"\",Cover!B58)","v":""},{"$f":"IF(Cover!C58=\"\",\"\",Cover!C58)","v":""},{"$f":"IF(Cover!D58=\"\",\"\",Cover!D58)","v":""},{"$f":"IF(AND(ISBLANK(Cover!B58),ISBLANK(Cover!C58),ISBLANK(Cover!D58)),\"\",100-SUM(EP58:ER58))","v":""},null,null,null,null,null,null,null,null,null,""]
[null,null,null,null,null,null,null,null,null,null,null,null,null,null,null,null,null,null,null,null,null,"","","","","","",0,1,"",null,null,null,null,null,null,null,null,null,null,null,null,null,null,null,null,null,null,null,null,null,null,null,null,null,null,null,null,null,null,null,null,null,null,null,null,null,null,null,null,null,null,null,null,null,null,null,null,null,null,null,null,null,null,null,null,null,null,null,null,null,null,null,null,null,null,null,null,null,null,null,null,null,null,null,null,null,null,null,null,null,null,null,null,{"$f":"IF(PLANTS!M58=\"\",\"\",PLANTS!M58)","v":""},{"$f":"IF(PLANTS!N58=\"\",\"\",PLANTS!N58)","v":""},{"$f":"IF(PLANTS!O58=\"\",\"\",PLANTS!O58)","v":""},{"$f":"IF(KeySP!G57=\"\",\"\",KeySP!G57)","v":"PODE3"},null,null,null,null,55,null,null,null,55,5.9,null,null,null,null,null,null,null,null,null,null,null,null,null,null,null,null,56,{"$f":"IF(Cover!B59=\"\",\"\",Cover!B59)","v":""},{"$f":"IF(Cover!C59=\"\",\"\",Cover!C59)","v":""},{"$f":"IF(Cover!D59=\"\",\"\",Cover!D59)","v":""},{"$f":"IF(AND(ISBLANK(Cover!B59),ISBLANK(Cover!C59),ISBLANK(Cover!D59)),\"\",100-SUM(EP59:ER59))","v":""},null,null,null,null,null,null,null,null,null,""]
[null,null,null,null,null,null,null,null,null,null,null,null,null,null,null,null,null,null,null,null,null,"","","","","","",0,1,"",null,null,null,null,null,null,null,null,null,null,null,null,null,null,null,null,null,null,null,null,null,null,null,null,null,null,null,null,null,null,null,null,null,null,null,null,null,null,null,null,null,null,null,null,null,null,null,null,null,null,null,null,null,null,null,null,null,null,null,null,null,null,null,null,null,null,null,null,null,null,null,null,null,null,null,null,null,null,null,null,null,null,null,null,{"$f":"IF(PLANTS!M59=\"\",\"\",PLANTS!M59)","v":""},{"$f":"IF(PLANTS!N59=\"\",\"\",PLANTS!N59)","v":""},{"$f":"IF(PLANTS!O59=\"\",\"\",PLANTS!O59)","v":""},{"$f":"IF(KeySP!G58=\"\",\"\",KeySP!G58)","v":"POFR2"},null,null,null,null,56,null,null,null,56,6,null,null,null,null,null,null,null,null,null,null,null,null,null,null,null,null,57,{"$f":"IF(Cover!B60=\"\",\"\",Cover!B60)","v":""},{"$f":"IF(Cover!C60=\"\",\"\",Cover!C60)","v":""},{"$f":"IF(Cover!D60=\"\",\"\",Cover!D60)","v":""},{"$f":"IF(AND(ISBLANK(Cover!B60),ISBLANK(Cover!C60),ISBLANK(Cover!D60)),\"\",100-SUM(EP60:ER60))","v":""},null,null,null,null,null,null,null,null,null,""]
[null,null,null,null,null,null,null,null,null,null,null,null,null,null,null,null,null,null,null,null,null,"","","","","","",0,1,"",null,null,null,null,null,null,null,null,null,null,null,null,null,null,null,null,null,null,null,null,null,null,null,null,null,null,null,null,null,null,null,null,null,null,null,null,null,null,null,null,null,null,null,null,null,null,null,null,null,null,null,null,null,null,null,null,null,null,null,null,null,null,null,null,null,null,null,null,null,null,null,null,null,null,null,null,null,null,null,null,null,null,null,null,{"$f":"IF(PLANTS!M60=\"\",\"\",PLANTS!M60)","v":""},{"$f":"IF(PLANTS!N60=\"\",\"\",PLANTS!N60)","v":""},{"$f":"IF(PLANTS!O60=\"\",\"\",PLANTS!O60)","v":""},{"$f":"IF(KeySP!G59=\"\",\"\",KeySP!G59)","v":"POFR4"},null,null,null,null,57,null,null,null,57,6.1,null,null,null,null,null,null,null,null,null,null,null,null,null,null,null,null,58,{"$f":"IF(Cover!B61=\"\",\"\",Cover!B61)","v":""},{"$f":"IF(Cover!C61=\"\",\"\",Cover!C61)","v":""},{"$f":"IF(Cover!D61=\"\",\"\",Cover!D61)","v":""},{"$f":"IF(AND(ISBLANK(Cover!B61),ISBLANK(Cover!C61),ISBLANK(Cover!D61)),\"\",100-SUM(EP61:ER61))","v":""},null,null,null,null,null,null,null,null,null,""]
[null,null,null,null,null,null,null,null,null,null,null,null,null,null,null,null,null,null,null,null,null,"","","","","","",0,1,"",null,null,null,null,null,null,null,null,null,null,null,null,null,null,null,null,null,null,null,null,null,null,null,null,null,null,null,null,null,null,null,null,null,null,null,null,null,null,null,null,null,null,null,null,null,null,null,null,null,null,null,null,null,null,null,null,null,null,null,null,null,null,null,null,null,null,null,null,null,null,null,null,null,null,null,null,null,null,null,null,null,null,null,null,{"$f":"IF(PLANTS!M61=\"\",\"\",PLANTS!M61)","v":""},{"$f":"IF(PLANTS!N61=\"\",\"\",PLANTS!N61)","v":""},{"$f":"IF(PLANTS!O61=\"\",\"\",PLANTS!O61)","v":""},{"$f":"IF(KeySP!G60=\"\",\"\",KeySP!G60)","v":"POPUL"},null,null,null,null,58,null,null,null,58,6.2,null,null,null,null,null,null,null,null,null,null,null,null,null,null,null,null,59,{"$f":"IF(Cover!B62=\"\",\"\",Cover!B62)","v":""},{"$f":"IF(Cover!C62=\"\",\"\",Cover!C62)","v":""},{"$f":"IF(Cover!D62=\"\",\"\",Cover!D62)","v":""},{"$f":"IF(AND(ISBLANK(Cover!B62),ISBLANK(Cover!C62),ISBLANK(Cover!D62)),\"\",100-SUM(EP62:ER62))","v":""},null,null,null,null,null,null,null,null,null,""]
[null,null,null,null,null,null,null,null,null,null,null,null,null,null,null,null,null,null,null,null,null,"","","","","","",0,1,"",null,null,null,null,null,null,null,null,null,null,null,null,null,null,null,null,null,null,null,null,null,null,null,null,null,null,null,null,null,null,null,null,null,null,null,null,null,null,null,null,null,null,null,null,null,null,null,null,null,null,null,null,null,null,null,null,null,null,null,null,null,null,null,null,null,null,null,null,null,null,null,null,null,null,null,null,null,null,null,null,null,null,null,null,{"$f":"IF(PLANTS!M62=\"\",\"\",PLANTS!M62)","v":""},{"$f":"IF(PLANTS!N62=\"\",\"\",PLANTS!N62)","v":""},{"$f":"IF(PLANTS!O62=\"\",\"\",PLANTS!O62)","v":""},{"$f":"IF(KeySP!G61=\"\",\"\",KeySP!G61)","v":"POTR15"},null,null,null,null,59,null,null,null,59,6.3,null,null,null,null,null,null,null,null,null,null,null,null,null,null,null,null,60,{"$f":"IF(Cover!B63=\"\",\"\",Cover!B63)","v":""},{"$f":"IF(Cover!C63=\"\",\"\",Cover!C63)","v":""},{"$f":"IF(Cover!D63=\"\",\"\",Cover!D63)","v":""},{"$f":"IF(AND(ISBLANK(Cover!B63),ISBLANK(Cover!C63),ISBLANK(Cover!D63)),\"\",100-SUM(EP63:ER63))","v":""},null,null,null,null,null,null,null,null,null,""]
[null,null,null,null,null,null,null,null,null,null,null,null,null,null,null,null,null,null,null,null,null,"","","","","","",0,1,"",null,null,null,null,null,null,null,null,null,null,null,null,null,null,null,null,null,null,null,null,null,null,null,null,null,null,null,null,null,null,null,null,null,null,null,null,null,null,null,null,null,null,null,null,null,null,null,null,null,null,null,null,null,null,null,null,null,null,null,null,null,null,null,null,null,null,null,null,null,null,null,null,null,null,null,null,null,null,null,null,null,null,null,null,{"$f":"IF(PLANTS!M63=\"\",\"\",PLANTS!M63)","v":""},{"$f":"IF(PLANTS!N63=\"\",\"\",PLANTS!N63)","v":""},{"$f":"IF(PLANTS!O63=\"\",\"\",PLANTS!O63)","v":""},{"$f":"IF(KeySP!G62=\"\",\"\",KeySP!G62)","v":"PRPU"},null,null,null,null,60,null,null,null,60,6.4,null,null,null,null,null,null,null,null,null,null,null,null,null,null,null,null,61,{"$f":"IF(Cover!B64=\"\",\"\",Cover!B64)","v":""},{"$f":"IF(Cover!C64=\"\",\"\",Cover!C64)","v":""},{"$f":"IF(Cover!D64=\"\",\"\",Cover!D64)","v":""},{"$f":"IF(AND(ISBLANK(Cover!B64),ISBLANK(Cover!C64),ISBLANK(Cover!D64)),\"\",100-SUM(EP64:ER64))","v":""},null,null,null,null,null,null,null,null,null,""]
[null,null,null,null,null,null,null,null,null,null,null,null,null,null,null,null,null,null,null,null,null,"","","","","","",0,1,"",null,null,null,null,null,null,null,null,null,null,null,null,null,null,null,null,null,null,null,null,null,null,null,null,null,null,null,null,null,null,null,null,null,null,null,null,null,null,null,null,null,null,null,null,null,null,null,null,null,null,null,null,null,null,null,null,null,null,null,null,null,null,null,null,null,null,null,null,null,null,null,null,null,null,null,null,null,null,null,null,null,null,null,null,{"$f":"IF(PLANTS!M64=\"\",\"\",PLANTS!M64)","v":""},{"$f":"IF(PLANTS!N64=\"\",\"\",PLANTS!N64)","v":""},{"$f":"IF(PLANTS!O64=\"\",\"\",PLANTS!O64)","v":""},{"$f":"IF(KeySP!G63=\"\",\"\",KeySP!G63)","v":"PRVI"},null,null,null,null,61,null,null,null,61,6.5,null,null,null,null,null,null,null,null,null,null,null,null,null,null,null,null,62,{"$f":"IF(Cover!B65=\"\",\"\",Cover!B65)","v":""},{"$f":"IF(Cover!C65=\"\",\"\",Cover!C65)","v":""},{"$f":"IF(Cover!D65=\"\",\"\",Cover!D65)","v":""},{"$f":"IF(AND(ISBLANK(Cover!B65),ISBLANK(Cover!C65),ISBLANK(Cover!D65)),\"\",100-SUM(EP65:ER65))","v":""},null,null,null,null,null,null,null,null,null,""]
[null,null,null,null,null,null,null,null,null,null,null,null,null,null,null,null,null,null,null,null,null,"","","","","","",0,1,"",null,null,null,null,null,null,null,null,null,null,null,null,null,null,null,null,null,null,null,null,null,null,null,null,null,null,null,null,null,null,null,null,null,null,null,null,null,null,null,null,null,null,null,null,null,null,null,null,null,null,null,null,null,null,null,null,null,null,null,null,null,null,null,null,null,null,null,null,null,null,null,null,null,null,null,null,null,null,null,null,null,null,null,null,{"$f":"IF(PLANTS!M65=\"\",\"\",PLANTS!M65)","v":""},{"$f":"IF(PLANTS!N65=\"\",\"\",PLANTS!N65)","v":""},{"$f":"IF(PLANTS!O65=\"\",\"\",PLANTS!O65)","v":""},{"$f":"IF(KeySP!G64=\"\",\"\",KeySP!G64)","v":"RHAL"},null,null,null,null,62,null,null,null,62,6.6,null,null,null,null,null,null,null,null,null,null,null,null,null,null,null,null,63,{"$f":"IF(Cover!B66=\"\",\"\",Cover!B66)","v":""},{"$f":"IF(Cover!C66=\"\",\"\",Cover!C66)","v":""},{"$f":"IF(Cover!D66=\"\",\"\",Cover!D66)","v":""},{"$f":"IF(AND(ISBLANK(Cover!B66),ISBLANK(Cover!C66),ISBLANK(Cover!D66)),\"\",100-SUM(EP66:ER66))","v":""},null,null,null,null,null,null,null,null,null,""]
[null,null,null,null,null,null,null,null,null,null,null,null,null,null,null,null,null,null,null,null,null,"","","","","","",0,1,"",null,null,null,null,null,null,null,null,null,null,null,null,null,null,null,null,null,null,null,null,null,null,null,null,null,null,null,null,null,null,null,null,null,null,null,null,null,null,null,null,null,null,null,null,null,null,null,null,null,null,null,null,null,null,null,null,null,null,null,null,null,null,null,null,null,null,null,null,null,null,null,null,null,null,null,null,null,null,null,null,null,null,null,null,{"$f":"IF(PLANTS!M66=\"\",\"\",PLANTS!M66)","v":""},{"$f":"IF(PLANTS!N66=\"\",\"\",PLANTS!N66)","v":""},{"$f":"IF(PLANTS!O66=\"\",\"\",PLANTS!O66)","v":""},{"$f":"IF(KeySP!G65=\"\",\"\",KeySP!G65)","v":"RHCA3"},null,null,null,null,63,null,null,null,63,6.7,null,null,null,null,null,null,null,null,null,null,null,null,null,null,null,null,64,{"$f":"IF(Cover!B67=\"\",\"\",Cover!B67)","v":""},{"$f":"IF(Cover!C67=\"\",\"\",Cover!C67)","v":""},{"$f":"IF(Cover!D67=\"\",\"\",Cover!D67)","v":""},{"$f":"IF(AND(ISBLANK(Cover!B67),ISBLANK(Cover!C67),ISBLANK(Cover!D67)),\"\",100-SUM(EP67:ER67))","v":""},null,null,null,null,null,null,null,null,null,""]
[null,null,null,null,null,null,null,null,null,null,null,null,null,null,null,null,null,null,null,null,null,"","","","","","",0,1,"",null,null,null,null,null,null,null,null,null,null,null,null,null,null,null,null,null,null,null,null,null,null,null,null,null,null,null,null,null,null,null,null,null,null,null,null,null,null,null,null,null,null,null,null,null,null,null,null,null,null,null,null,null,null,null,null,null,null,null,null,null,null,null,null,null,null,null,null,null,null,null,null,null,null,null,null,null,null,null,null,null,null,null,null,{"$f":"IF(PLANTS!M67=\"\",\"\",PLANTS!M67)","v":""},{"$f":"IF(PLANTS!N67=\"\",\"\",PLANTS!N67)","v":""},{"$f":"IF(PLANTS!O67=\"\",\"\",PLANTS!O67)","v":""},{"$f":"IF(KeySP!G66=\"\",\"\",KeySP!G66)","v":"RIAM2"},null,null,null,null,64,null,null,null,64,6.8,null,null,null,null,null,null,null,null,null,null,null,null,null,null,null,null,65,{"$f":"IF(Cover!B68=\"\",\"\",Cover!B68)","v":""},{"$f":"IF(Cover!C68=\"\",\"\",Cover!C68)","v":""},{"$f":"IF(Cover!D68=\"\",\"\",Cover!D68)","v":""},{"$f":"IF(AND(ISBLANK(Cover!B68),ISBLANK(Cover!C68),ISBLANK(Cover!D68)),\"\",100-SUM(EP68:ER68))","v":""},null,null,null,null,null,null,null,null,null,""]
[null,null,null,null,null,null,null,null,null,null,null,null,null,null,null,null,null,null,null,null,null,{"$f":"IF(L69=\"\",\"\",L69*12/39)","v":""},"","","","","",0,1,"",null,null,null,null,null,null,null,null,null,null,null,null,null,null,null,null,null,null,null,null,null,null,null,null,null,null,null,null,null,null,null,null,null,null,null,null,null,null,null,null,null,null,null,null,null,null,null,null,null,null,null,null,null,null,null,null,null,null,null,null,null,null,null,null,null,null,null,null,null,null,null,null,null,null,null,null,null,null,null,null,null,null,null,null,{"$f":"IF(PLANTS!M68=\"\",\"\",PLANTS!M68)","v":""},{"$f":"IF(PLANTS!N68=\"\",\"\",PLANTS!N68)","v":""},{"$f":"IF(PLANTS!O68=\"\",\"\",PLANTS!O68)","v":""},{"$f":"IF(KeySP!G67=\"\",\"\",KeySP!G67)","v":"RIAU"},null,null,null,null,65,null,null,null,65,6.9,null,null,null,null,null,null,null,null,null,null,null,null,null,null,null,null,66,{"$f":"IF(Cover!B69=\"\",\"\",Cover!B69)","v":""},{"$f":"IF(Cover!C69=\"\",\"\",Cover!C69)","v":""},{"$f":"IF(Cover!D69=\"\",\"\",Cover!D69)","v":""},{"$f":"IF(AND(ISBLANK(Cover!B69),ISBLANK(Cover!C69),ISBLANK(Cover!D69)),\"\",100-SUM(EP69:ER69))","v":""},null,null,null,null,null,null,null,null,null,""]
[null,null,null,null,null,null,null,null,null,null,null,null,null,null,null,null,null,null,null,null,null,"",{"$f":"IF(F70=\"\",\"\",IF(ISNUMBER(SEARCH(F70,\"d\")),IF(ISNUMBER(SEARCH(G70,\"c\")),\"CS\",IF(ISNUMBER(SEARCH(G70,\"u\")),\"UU\")),\"\"))","v":""},{"$f":"IF(F70=\"\",\"\",IF(ISNUMBER(SEARCH(F70,\"e\")),IF(ISNUMBER(SEARCH(G70,\"c\")),IF(ISNUMBER(SEARCH(H70,\"a\")),\"CS\",\"CU\"),IF(ISNUMBER(SEARCH(H70,\"a\")),\"US\",\"UU\")),\"\"))","v":""},{"$f":"IF(W70=\"\",X70,W70)","v":""},{"$f":"IF($Y70=\"cs\",1,IF($Y70=\"cu\",2,IF($Y70=\"us\",3,IF($Y70=\"uu\",4,\"\"))))","v":""},{"$f":"IF(A70=\"\",\"\",A70)","v":""},{"$f":"C70","v":0},1,{"$f":"IF(AA70<>\"\",SUMIF(AC:AC,AA70,AB:AB),\"\")","v":""},null,null,null,null,null,null,null,null,null,null,null,null,null,null,null,null,null,null,null,null,null,null,null,null,null,null,null,null,null,null,null,null,null,null,null,null,null,null,null,null,null,null,null,null,null,null,null,null,null,null,null,null,null,null,null,null,null,null,null,null,null,null,null,null,null,null,null,null,null,null,null,null,null,null,null,null,null,null,null,null,null,null,null,null,{"$f":"IF(PLANTS!M69=\"\",\"\",PLANTS!M69)","v":""},{"$f":"IF(PLANTS!N69=\"\",\"\",PLANTS!N69)","v":""},{"$f":"IF(PLANTS!O69=\"\",\"\",PLANTS!O69)","v":""},{"$f":"IF(KeySP!G68=\"\",\"\",KeySP!G68)","v":"RIBES"},null,null,null,null,66,null,null,null,66,7,null,null,null,null,null,null,null,null,null,null,null,null,null,null,null,null,67,{"$f":"IF(Cover!B70=\"\",\"\",Cover!B70)","v":""},{"$f":"IF(Cover!C70=\"\",\"\",Cover!C70)","v":""},{"$f":"IF(Cover!D70=\"\",\"\",Cover!D70)","v":""},{"$f":"IF(AND(ISBLANK(Cover!B70),ISBLANK(Cover!C70),ISBLANK(Cover!D70)),\"\",100-SUM(EP70:ER70))","v":""},null,null,null,null,null,null,null,null,null,""]
[null,null,null,null,null,null,null,null,null,null,null,null,null,null,null,null,null,null,null,null,null,"","","","","","",0,{"$f":"IF(A71>A70,A71,AC70)","v":1},"",null,null,null,null,null,null,null,null,null,null,null,null,null,null,null,null,null,null,null,null,null,null,null,null,null,null,null,null,null,null,null,null,null,null,null,null,null,null,null,null,null,null,null,null,null,null,null,null,null,null,null,null,null,null,null,null,null,null,null,null,null,null,null,null,null,null,null,null,null,null,null,null,null,null,null,null,null,null,null,null,null,null,null,null,{"$f":"IF(PLANTS!M70=\"\",\"\",PLANTS!M70)","v":""},{"$f":"IF(PLANTS!N70=\"\",\"\",PLANTS!N70)","v":""},{"$f":"IF(PLANTS!O70=\"\",\"\",PLANTS!O70)","v":""},{"$f":"IF(KeySP!G69=\"\",\"\",KeySP!G69)","v":"RIHU"},null,null,null,null,67,null,null,null,67,7.1,null,null,null,null,null,null,null,null,null,null,null,null,null,null,null,null,68,{"$f":"IF(Cover!B71=\"\",\"\",Cover!B71)","v":""},{"$f":"IF(Cover!C71=\"\",\"\",Cover!C71)","v":""},{"$f":"IF(Cover!D71=\"\",\"\",Cover!D71)","v":""},{"$f":"IF(AND(ISBLANK(Cover!B71),ISBLANK(Cover!C71),ISBLANK(Cover!D71)),\"\",100-SUM(EP71:ER71))","v":""},null,null,null,null,null,null,null,null,null,{"$f":"IF(E71=\"\",\"\",E71+1)","v":""}]
[null,null,null,null,null,null,null,null,null,null,null,null,null,null,null,null,null,null,null,null,null,"","","","","","",0,1,"",null,null,null,null,null,null,null,null,null,null,null,null,null,null,null,null,null,null,null,null,null,null,null,null,null,null,null,null,null,null,null,null,null,null,null,null,null,null,null,null,null,null,null,null,null,null,null,null,null,null,null,null,null,null,null,null,null,null,null,null,null,null,null,null,null,null,null,null,null,null,null,null,null,null,null,null,null,null,null,null,null,null,null,null,{"$f":"IF(PLANTS!M71=\"\",\"\",PLANTS!M71)","v":""},{"$f":"IF(PLANTS!N71=\"\",\"\",PLANTS!N71)","v":""},{"$f":"IF(PLANTS!O71=\"\",\"\",PLANTS!O71)","v":""},{"$f":"IF(KeySP!G70=\"\",\"\",KeySP!G70)","v":"RIIN2"},null,null,null,null,68,null,null,null,68,7.2,null,null,null,null,null,null,null,null,null,null,null,null,null,null,null,null,69,{"$f":"IF(Cover!B72=\"\",\"\",Cover!B72)","v":""},{"$f":"IF(Cover!C72=\"\",\"\",Cover!C72)","v":""},{"$f":"IF(Cover!D72=\"\",\"\",Cover!D72)","v":""},{"$f":"IF(AND(ISBLANK(Cover!B72),ISBLANK(Cover!C72),ISBLANK(Cover!D72)),\"\",100-SUM(EP72:ER72))","v":""},null,null,null,null,null,null,null,null,null,""]
[null,null,null,null,null,null,null,null,null,null,null,null,null,null,null,null,null,null,null,null,null,"","","","","","",0,1,"",null,null,null,null,null,null,null,null,null,null,null,null,null,null,null,null,null,null,null,null,null,null,null,null,null,null,null,null,null,null,null,null,null,null,null,null,null,null,null,null,null,null,null,null,null,null,null,null,null,null,null,null,null,null,null,null,null,null,null,null,null,null,null,null,null,null,null,null,null,null,null,null,null,null,null,null,null,null,null,null,null,null,null,null,{"$f":"IF(PLANTS!M72=\"\",\"\",PLANTS!M72)","v":""},{"$f":"IF(PLANTS!N72=\"\",\"\",PLANTS!N72)","v":""},{"$f":"IF(PLANTS!O72=\"\",\"\",PLANTS!O72)","v":""},{"$f":"IF(KeySP!G71=\"\",\"\",KeySP!G71)","v":"RIIR"},null,null,null,null,69,null,null,null,69,7.3,null,null,null,null,null,null,null,null,null,null,null,null,null,null,null,null,70,{"$f":"IF(Cover!B73=\"\",\"\",Cover!B73)","v":""},{"$f":"IF(Cover!C73=\"\",\"\",Cover!C73)","v":""},{"$f":"IF(Cover!D73=\"\",\"\",Cover!D73)","v":""},{"$f":"IF(AND(ISBLANK(Cover!B73),ISBLANK(Cover!C73),ISBLANK(Cover!D73)),\"\",100-SUM(EP73:ER73))","v":""},null,null,null,null,null,null,null,null,null,""]
[null,null,null,null,null,null,null,null,null,null,null,null,null,null,null,null,null,null,null,null,null,"","","","","","",0,1,"",null,null,null,null,null,null,null,null,null,null,null,null,null,null,null,null,null,null,null,null,null,null,null,null,null,null,null,null,null,null,null,null,null,null,null,null,null,null,null,null,null,null,null,null,null,null,null,null,null,null,null,null,null,null,null,null,null,null,null,null,null,null,null,null,null,null,null,null,null,null,null,null,null,null,null,null,null,null,null,null,null,null,null,null,{"$f":"IF(PLANTS!M73=\"\",\"\",PLANTS!M73)","v":""},{"$f":"IF(PLANTS!N73=\"\",\"\",PLANTS!N73)","v":""},{"$f":"IF(PLANTS!O73=\"\",\"\",PLANTS!O73)","v":""},{"$f":"IF(KeySP!G72=\"\",\"\",KeySP!G72)","v":"RIOD"},null,null,null,null,70,null,null,null,70,7.4,null,null,null,null,null,null,null,null,null,null,null,null,null,null,null,null,71,{"$f":"IF(Cover!B74=\"\",\"\",Cover!B74)","v":""},{"$f":"IF(Cover!C74=\"\",\"\",Cover!C74)","v":""},{"$f":"IF(Cover!D74=\"\",\"\",Cover!D74)","v":""},{"$f":"IF(AND(ISBLANK(Cover!B74),ISBLANK(Cover!C74),ISBLANK(Cover!D74)),\"\",100-SUM(EP74:ER74))","v":""},null,null,null,null,null,null,null,null,null,""]
[null,null,null,null,null,null,null,null,null,null,null,null,null,null,null,null,null,null,null,null,null,"","","","","","",0,1,"",null,null,null,null,null,null,null,null,null,null,null,null,null,null,null,null,null,null,null,null,null,null,null,null,null,null,null,null,null,null,null,null,null,null,null,null,null,null,null,null,null,null,null,null,null,null,null,null,null,null,null,null,null,null,null,null,null,null,null,null,null,null,null,null,null,null,null,null,null,null,null,null,null,null,null,null,null,null,null,null,null,null,null,null,{"$f":"IF(PLANTS!M74=\"\",\"\",PLANTS!M74)","v":""},{"$f":"IF(PLANTS!N74=\"\",\"\",PLANTS!N74)","v":""},{"$f":"IF(PLANTS!O74=\"\",\"\",PLANTS!O74)","v":""},{"$f":"IF(KeySP!G73=\"\",\"\",KeySP!G73)","v":"RIOX"},null,null,null,null,71,null,null,null,71,7.5,null,null,null,null,null,null,null,null,null,null,null,null,null,null,null,null,72,{"$f":"IF(Cover!B75=\"\",\"\",Cover!B75)","v":""},{"$f":"IF(Cover!C75=\"\",\"\",Cover!C75)","v":""},{"$f":"IF(Cover!D75=\"\",\"\",Cover!D75)","v":""},{"$f":"IF(AND(ISBLANK(Cover!B75),ISBLANK(Cover!C75),ISBLANK(Cover!D75)),\"\",100-SUM(EP75:ER75))","v":""},null,null,null,null,null,null,null,null,null,""]
[null,null,null,null,null,null,null,null,null,null,null,null,null,null,null,null,null,null,null,null,null,"","","","","","",0,1,"",null,null,null,null,null,null,null,null,null,null,null,null,null,null,null,null,null,null,null,null,null,null,null,null,null,null,null,null,null,null,null,null,null,null,null,null,null,null,null,null,null,null,null,null,null,null,null,null,null,null,null,null,null,null,null,null,null,null,null,null,null,null,null,null,null,null,null,null,null,null,null,null,null,null,null,null,null,null,null,null,null,null,null,null,{"$f":"IF(PLANTS!M75=\"\",\"\",PLANTS!M75)","v":""},{"$f":"IF(PLANTS!N75=\"\",\"\",PLANTS!N75)","v":""},{"$f":"IF(PLANTS!O75=\"\",\"\",PLANTS!O75)","v":""},{"$f":"IF(KeySP!G74=\"\",\"\",KeySP!G74)","v":"RIVI3"},null,null,null,null,72,null,null,null,72,7.6,null,null,null,null,null,null,null,null,null,null,null,null,null,null,null,null,73,{"$f":"IF(Cover!B76=\"\",\"\",Cover!B76)","v":""},{"$f":"IF(Cover!C76=\"\",\"\",Cover!C76)","v":""},{"$f":"IF(Cover!D76=\"\",\"\",Cover!D76)","v":""},{"$f":"IF(AND(ISBLANK(Cover!B76),ISBLANK(Cover!C76),ISBLANK(Cover!D76)),\"\",100-SUM(EP76:ER76))","v":""},null,null,null,null,null,null,null,null,null,""]
[null,null,null,null,null,null,null,null,null,null,null,null,null,null,null,null,null,null,null,null,null,"","","","","","",0,1,"",null,null,null,null,null,null,null,null,null,null,null,null,null,null,null,null,null,null,null,null,null,null,null,null,null,null,null,null,null,null,null,null,null,null,null,null,null,null,null,null,null,null,null,null,null,null,null,null,null,null,null,null,null,null,null,null,null,null,null,null,null,null,null,null,null,null,null,null,null,null,null,null,null,null,null,null,null,null,null,null,null,null,null,null,{"$f":"IF(PLANTS!M76=\"\",\"\",PLANTS!M76)","v":""},{"$f":"IF(PLANTS!N76=\"\",\"\",PLANTS!N76)","v":""},{"$f":"IF(PLANTS!O76=\"\",\"\",PLANTS!O76)","v":""},{"$f":"IF(KeySP!G75=\"\",\"\",KeySP!G75)","v":"ROPI2"},null,null,null,null,73,null,null,null,null,7.7,null,null,null,null,null,null,null,null,null,null,null,null,null,null,null,null,74,{"$f":"IF(Cover!B77=\"\",\"\",Cover!B77)","v":""},{"$f":"IF(Cover!C77=\"\",\"\",Cover!C77)","v":""},{"$f":"IF(Cover!D77=\"\",\"\",Cover!D77)","v":""},{"$f":"IF(AND(ISBLANK(Cover!B77),ISBLANK(Cover!C77),ISBLANK(Cover!D77)),\"\",100-SUM(EP77:ER77))","v":""},null,null,null,null,null,null,null,null,null,""]
[null,null,null,null,null,null,null,null,null,null,null,null,null,null,null,null,null,null,null,null,null,"","","","","","",0,1,"",null,null,null,null,null,null,null,null,null,null,null,null,null,null,null,null,null,null,null,null,null,null,null,null,null,null,null,null,null,null,null,null,null,null,null,null,null,null,null,null,null,null,null,null,null,null,null,null,null,null,null,null,null,null,null,null,null,null,null,null,null,null,null,null,null,null,null,null,null,null,null,null,null,null,null,null,null,null,null,null,null,null,null,null,{"$f":"IF(PLANTS!M77=\"\",\"\",PLANTS!M77)","v":""},{"$f":"IF(PLANTS!N77=\"\",\"\",PLANTS!N77)","v":""},{"$f":"IF(PLANTS!O77=\"\",\"\",PLANTS!O77)","v":""},{"$f":"IF(KeySP!G76=\"\",\"\",KeySP!G76)","v":"RUPA"},null,null,null,null,74,null,null,null,null,7.8,null,null,null,null,null,null,null,null,null,null,null,null,null,null,null,null,75,{"$f":"IF(Cover!B78=\"\",\"\",Cover!B78)","v":""},{"$f":"IF(Cover!C78=\"\",\"\",Cover!C78)","v":""},{"$f":"IF(Cover!D78=\"\",\"\",Cover!D78)","v":""},{"$f":"IF(AND(ISBLANK(Cover!B78),ISBLANK(Cover!C78),ISBLANK(Cover!D78)),\"\",100-SUM(EP78:ER78))","v":""},null,null,null,null,null,null,null,null,null,""]
[null,null,null,null,null,null,null,null,null,null,null,null,null,null,null,null,null,null,null,null,null,"","","","","","",0,1,"",null,null,null,null,null,null,null,null,null,null,null,null,null,null,null,null,null,null,null,null,null,null,null,null,null,null,null,null,null,null,null,null,null,null,null,null,null,null,null,null,null,null,null,null,null,null,null,null,null,null,null,null,null,null,null,null,null,null,null,null,null,null,null,null,null,null,null,null,null,null,null,null,null,null,null,null,null,null,null,null,null,null,null,null,{"$f":"IF(PLANTS!M78=\"\",\"\",PLANTS!M78)","v":""},{"$f":"IF(PLANTS!N78=\"\",\"\",PLANTS!N78)","v":""},{"$f":"IF(PLANTS!O78=\"\",\"\",PLANTS!O78)","v":""},{"$f":"IF(KeySP!G77=\"\",\"\",KeySP!G77)","v":"RUSP"},null,null,null,null,75,null,null,null,null,7.9,null,null,null,null,null,null,null,null,null,null,null,null,null,null,null,null,76,{"$f":"IF(Cover!B79=\"\",\"\",Cover!B79)","v":""},{"$f":"IF(Cover!C79=\"\",\"\",Cover!C79)","v":""},{"$f":"IF(Cover!D79=\"\",\"\",Cover!D79)","v":""},{"$f":"IF(AND(ISBLANK(Cover!B79),ISBLANK(Cover!C79),ISBLANK(Cover!D79)),\"\",100-SUM(EP79:ER79))","v":""},null,null,null,null,null,null,null,null,null,""]
[null,null,null,null,null,null,null,null,null,null,null,null,null,null,null,null,null,null,null,null,null,"","","","","","",0,1,"",null,null,null,null,null,null,null,null,null,null,null,null,null,null,null,null,null,null,null,null,null,null,null,null,null,null,null,null,null,null,null,null,null,null,null,null,null,null,null,null,null,null,null,null,null,null,null,null,null,null,null,null,null,null,null,null,null,null,null,null,null,null,null,null,null,null,null,null,null,null,null,null,null,null,null,null,null,null,null,null,null,null,null,null,{"$f":"IF(PLANTS!M79=\"\",\"\",PLANTS!M79)","v":""},{"$f":"IF(PLANTS!N79=\"\",\"\",PLANTS!N79)","v":""},{"$f":"IF(PLANTS!O79=\"\",\"\",PLANTS!O79)","v":""},{"$f":"IF(KeySP!G78=\"\",\"\",KeySP!G78)","v":"SAAL2"},null,null,null,null,76,null,null,null,null,8,null,null,null,null,null,null,null,null,null,null,null,null,null,null,null,null,77,{"$f":"IF(Cover!B80=\"\",\"\",Cover!B80)","v":""},{"$f":"IF(Cover!C80=\"\",\"\",Cover!C80)","v":""},{"$f":"IF(Cover!D80=\"\",\"\",Cover!D80)","v":""},{"$f":"IF(AND(ISBLANK(Cover!B80),ISBLANK(Cover!C80),ISBLANK(Cover!D80)),\"\",100-SUM(EP80:ER80))","v":""},null,null,null,null,null,null,null,null,null,""]
[null,null,null,null,null,null,null,null,null,null,null,null,null,null,null,null,null,null,null,null,null,"","","","","","",0,1,"",null,null,null,null,null,null,null,null,null,null,null,null,null,null,null,null,null,null,null,null,null,null,null,null,null,null,null,null,null,null,null,null,null,null,null,null,null,null,null,null,null,null,null,null,null,null,null,null,null,null,null,null,null,null,null,null,null,null,null,null,null,null,null,null,null,null,null,null,null,null,null,null,null,null,null,null,null,null,null,null,null,null,null,null,{"$f":"IF(PLANTS!M80=\"\",\"\",PLANTS!M80)","v":""},{"$f":"IF(PLANTS!N80=\"\",\"\",PLANTS!N80)","v":""},{"$f":"IF(PLANTS!O80=\"\",\"\",PLANTS!O80)","v":""},{"$f":"IF(KeySP!G79=\"\",\"\",KeySP!G79)","v":"SAAM2"},null,null,null,null,77,null,null,null,null,8.1,null,null,null,null,null,null,null,null,null,null,null,null,null,null,null,null,78,{"$f":"IF(Cover!B81=\"\",\"\",Cover!B81)","v":""},{"$f":"IF(Cover!C81=\"\",\"\",Cover!C81)","v":""},{"$f":"IF(Cover!D81=\"\",\"\",Cover!D81)","v":""},{"$f":"IF(AND(ISBLANK(Cover!B81),ISBLANK(Cover!C81),ISBLANK(Cover!D81)),\"\",100-SUM(EP81:ER81))","v":""},null,null,null,null,null,null,null,null,null,""]
[null,null,null,null,null,null,null,null,null,null,null,null,null,null,null,null,null,null,null,null,null,"","","","","","",0,1,"",null,null,null,null,null,null,null,null,null,null,null,null,null,null,null,null,null,null,null,null,null,null,null,null,null,null,null,null,null,null,null,null,null,null,null,null,null,null,null,null,null,null,null,null,null,null,null,null,null,null,null,null,null,null,null,null,null,null,null,null,null,null,null,null,null,null,null,null,null,null,null,null,null,null,null,null,null,null,null,null,null,null,null,null,{"$f":"IF(PLANTS!M81=\"\",\"\",PLANTS!M81)","v":""},{"$f":"IF(PLANTS!N81=\"\",\"\",PLANTS!N81)","v":""},{"$f":"IF(PLANTS!O81=\"\",\"\",PLANTS!O81)","v":""},{"$f":"IF(KeySP!G80=\"\",\"\",KeySP!G80)","v":"SAAR14"},null,null,null,null,78,null,null,null,null,8.1999999999999993,null,null,null,null,null,null,null,null,null,null,null,null,null,null,null,null,79,{"$f":"IF(Cover!B82=\"\",\"\",Cover!B82)","v":""},{"$f":"IF(Cover!C82=\"\",\"\",Cover!C82)","v":""},{"$f":"IF(Cover!D82=\"\",\"\",Cover!D82)","v":""},{"$f":"IF(AND(ISBLANK(Cover!B82),ISBLANK(Cover!C82),ISBLANK(Cover!D82)),\"\",100-SUM(EP82:ER82))","v":""},null,null,null,null,null,null,null,null,null,""]
[null,null,null,null,null,null,null,null,null,null,null,null,null,null,null,null,null,null,null,null,null,"","","","","","",0,1,"",null,null,null,null,null,null,null,null,null,null,null,null,null,null,null,null,null,null,null,null,null,null,null,null,null,null,null,null,null,null,null,null,null,null,null,null,null,null,null,null,null,null,null,null,null,null,null,null,null,null,null,null,null,null,null,null,null,null,null,null,null,null,null,null,null,null,null,null,null,null,null,null,null,null,null,null,null,null,null,null,null,null,null,null,{"$f":"IF(PLANTS!M82=\"\",\"\",PLANTS!M82)","v":""},{"$f":"IF(PLANTS!N82=\"\",\"\",PLANTS!N82)","v":""},{"$f":"IF(PLANTS!O82=\"\",\"\",PLANTS!O82)","v":""},{"$f":"IF(KeySP!G81=\"\",\"\",KeySP!G81)","v":"SAAR27"},null,null,null,null,79,null,null,null,null,8.3000000000000007,null,null,null,null,null,null,null,null,null,null,null,null,null,null,null,null,80,{"$f":"IF(Cover!B83=\"\",\"\",Cover!B83)","v":""},{"$f":"IF(Cover!C83=\"\",\"\",Cover!C83)","v":""},{"$f":"IF(Cover!D83=\"\",\"\",Cover!D83)","v":""},{"$f":"IF(AND(ISBLANK(Cover!B83),ISBLANK(Cover!C83),ISBLANK(Cover!D83)),\"\",100-SUM(EP83:ER83))","v":""},null,null,null,null,null,null,null,null,null,""]
[null,null,null,null,null,null,null,null,null,null,null,null,null,null,null,null,null,null,null,null,null,"","","","","","",0,1,"",null,null,null,null,null,null,null,null,null,null,null,null,null,null,null,null,null,null,null,null,null,null,null,null,null,null,null,null,null,null,null,null,null,null,null,null,null,null,null,null,null,null,null,null,null,null,null,null,null,null,null,null,null,null,null,null,null,null,null,null,null,null,null,null,null,null,null,null,null,null,null,null,null,null,null,null,null,null,null,null,null,null,null,null,{"$f":"IF(PLANTS!M83=\"\",\"\",PLANTS!M83)","v":""},{"$f":"IF(PLANTS!N83=\"\",\"\",PLANTS!N83)","v":""},{"$f":"IF(PLANTS!O83=\"\",\"\",PLANTS!O83)","v":""},{"$f":"IF(KeySP!G82=\"\",\"\",KeySP!G82)","v":"SABA3"},null,null,null,null,80,null,null,null,null,8.4,null,null,null,null,null,null,null,null,null,null,null,null,null,null,null,null,81,{"$f":"IF(Cover!B84=\"\",\"\",Cover!B84)","v":""},{"$f":"IF(Cover!C84=\"\",\"\",Cover!C84)","v":""},{"$f":"IF(Cover!D84=\"\",\"\",Cover!D84)","v":""},{"$f":"IF(AND(ISBLANK(Cover!B84),ISBLANK(Cover!C84),ISBLANK(Cover!D84)),\"\",100-SUM(EP84:ER84))","v":""},null,null,null,null,null,null,null,null,null,""]
[null,null,null,null,null,null,null,null,null,null,null,null,null,null,null,null,null,null,null,null,null,"","","","","","",0,1,"",null,null,null,null,null,null,null,null,null,null,null,null,null,null,null,null,null,null,null,null,null,null,null,null,null,null,null,null,null,null,null,null,null,null,null,null,null,null,null,null,null,null,null,null,null,null,null,null,null,null,null,null,null,null,null,null,null,null,null,null,null,null,null,null,null,null,null,null,null,null,null,null,null,null,null,null,null,null,null,null,null,null,null,null,{"$f":"IF(PLANTS!M84=\"\",\"\",PLANTS!M84)","v":""},{"$f":"IF(PLANTS!N84=\"\",\"\",PLANTS!N84)","v":""},{"$f":"IF(PLANTS!O84=\"\",\"\",PLANTS!O84)","v":""},{"$f":"IF(KeySP!G83=\"\",\"\",KeySP!G83)","v":"SABE2"},null,null,null,null,81,null,null,null,null,8.5,null,null,null,null,null,null,null,null,null,null,null,null,null,null,null,null,82,{"$f":"IF(Cover!B85=\"\",\"\",Cover!B85)","v":""},{"$f":"IF(Cover!C85=\"\",\"\",Cover!C85)","v":""},{"$f":"IF(Cover!D85=\"\",\"\",Cover!D85)","v":""},{"$f":"IF(AND(ISBLANK(Cover!B85),ISBLANK(Cover!C85),ISBLANK(Cover!D85)),\"\",100-SUM(EP85:ER85))","v":""},null,null,null,null,null,null,null,null,null,""]
[null,null,null,null,null,null,null,null,null,null,null,null,null,null,null,null,null,null,null,null,null,"","","","","","",0,1,"",null,null,null,null,null,null,null,null,null,null,null,null,null,null,null,null,null,null,null,null,null,null,null,null,null,null,null,null,null,null,null,null,null,null,null,null,null,null,null,null,null,null,null,null,null,null,null,null,null,null,null,null,null,null,null,null,null,null,null,null,null,null,null,null,null,null,null,null,null,null,null,null,null,null,null,null,null,null,null,null,null,null,null,null,{"$f":"IF(PLANTS!M85=\"\",\"\",PLANTS!M85)","v":""},{"$f":"IF(PLANTS!N85=\"\",\"\",PLANTS!N85)","v":""},{"$f":"IF(PLANTS!O85=\"\",\"\",PLANTS!O85)","v":""},{"$f":"IF(KeySP!G84=\"\",\"\",KeySP!G84)","v":"SABO"},null,null,null,null,82,null,null,null,null,8.6,null,null,null,null,null,null,null,null,null,null,null,null,null,null,null,null,83,{"$f":"IF(Cover!B86=\"\",\"\",Cover!B86)","v":""},{"$f":"IF(Cover!C86=\"\",\"\",Cover!C86)","v":""},{"$f":"IF(Cover!D86=\"\",\"\",Cover!D86)","v":""},{"$f":"IF(AND(ISBLANK(Cover!B86),ISBLANK(Cover!C86),ISBLANK(Cover!D86)),\"\",100-SUM(EP86:ER86))","v":""},null,null,null,null,null,null,null,null,null,""]
[null,null,null,null,null,null,null,null,null,null,null,null,null,null,null,null,null,null,null,null,null,"","","","","","",0,1,"",null,null,null,null,null,null,null,null,null,null,null,null,null,null,null,null,null,null,null,null,null,null,null,null,null,null,null,null,null,null,null,null,null,null,null,null,null,null,null,null,null,null,null,null,null,null,null,null,null,null,null,null,null,null,null,null,null,null,null,null,null,null,null,null,null,null,null,null,null,null,null,null,null,null,null,null,null,null,null,null,null,null,null,null,{"$f":"IF(PLANTS!M86=\"\",\"\",PLANTS!M86)","v":""},{"$f":"IF(PLANTS!N86=\"\",\"\",PLANTS!N86)","v":""},{"$f":"IF(PLANTS!O86=\"\",\"\",PLANTS!O86)","v":""},{"$f":"IF(KeySP!G85=\"\",\"\",KeySP!G85)","v":"SABO2"},null,null,null,null,83,null,null,null,null,8.6999999999999993,null,null,null,null,null,null,null,null,null,null,null,null,null,null,null,null,84,{"$f":"IF(Cover!B87=\"\",\"\",Cover!B87)","v":""},{"$f":"IF(Cover!C87=\"\",\"\",Cover!C87)","v":""},{"$f":"IF(Cover!D87=\"\",\"\",Cover!D87)","v":""},{"$f":"IF(AND(ISBLANK(Cover!B87),ISBLANK(Cover!C87),ISBLANK(Cover!D87)),\"\",100-SUM(EP87:ER87))","v":""},null,null,null,null,null,null,null,null,null,""]
[null,null,null,null,null,null,null,null,null,null,null,null,null,null,null,null,null,null,null,null,null,"","","","","","",0,1,"",null,null,null,null,null,null,null,null,null,null,null,null,null,null,null,null,null,null,null,null,null,null,null,null,null,null,null,null,null,null,null,null,null,null,null,null,null,null,null,null,null,null,null,null,null,null,null,null,null,null,null,null,null,null,null,null,null,null,null,null,null,null,null,null,null,null,null,null,null,null,null,null,null,null,null,null,null,null,null,null,null,null,null,null,{"$f":"IF(PLANTS!M87=\"\",\"\",PLANTS!M87)","v":""},{"$f":"IF(PLANTS!N87=\"\",\"\",PLANTS!N87)","v":""},{"$f":"IF(PLANTS!O87=\"\",\"\",PLANTS!O87)","v":""},{"$f":"IF(KeySP!G86=\"\",\"\",KeySP!G86)","v":"SABR"},null,null,null,null,84,null,null,null,null,8.8000000000000007,null,null,null,null,null,null,null,null,null,null,null,null,null,null,null,null,85,{"$f":"IF(Cover!B88=\"\",\"\",Cover!B88)","v":""},{"$f":"IF(Cover!C88=\"\",\"\",Cover!C88)","v":""},{"$f":"IF(Cover!D88=\"\",\"\",Cover!D88)","v":""},{"$f":"IF(AND(ISBLANK(Cover!B88),ISBLANK(Cover!C88),ISBLANK(Cover!D88)),\"\",100-SUM(EP88:ER88))","v":""},null,null,null,null,null,null,null,null,null,""]
[null,null,null,null,null,null,null,null,null,null,null,null,null,null,null,null,null,null,null,null,null,"","","","","","",0,1,"",null,null,null,null,null,null,null,null,null,null,null,null,null,null,null,null,null,null,null,null,null,null,null,null,null,null,null,null,null,null,null,null,null,null,null,null,null,null,null,null,null,null,null,null,null,null,null,null,null,null,null,null,null,null,null,null,null,null,null,null,null,null,null,null,null,null,null,null,null,null,null,null,null,null,null,null,null,null,null,null,null,null,null,null,{"$f":"IF(PLANTS!M88=\"\",\"\",PLANTS!M88)","v":""},{"$f":"IF(PLANTS!N88=\"\",\"\",PLANTS!N88)","v":""},{"$f":"IF(PLANTS!O88=\"\",\"\",PLANTS!O88)","v":""},{"$f":"IF(KeySP!G87=\"\",\"\",KeySP!G87)","v":"SACA4"},null,null,null,null,85,null,null,null,null,8.9,null,null,null,null,null,null,null,null,null,null,null,null,null,null,null,null,86,{"$f":"IF(Cover!B89=\"\",\"\",Cover!B89)","v":""},{"$f":"IF(Cover!C89=\"\",\"\",Cover!C89)","v":""},{"$f":"IF(Cover!D89=\"\",\"\",Cover!D89)","v":""},{"$f":"IF(AND(ISBLANK(Cover!B89),ISBLANK(Cover!C89),ISBLANK(Cover!D89)),\"\",100-SUM(EP89:ER89))","v":""},null,null,null,null,null,null,null,null,null,""]
[null,null,null,null,null,null,null,null,null,null,null,null,null,null,null,null,null,null,null,null,null,"","","","","","",0,1,"",null,null,null,null,null,null,null,null,null,null,null,null,null,null,null,null,null,null,null,null,null,null,null,null,null,null,null,null,null,null,null,null,null,null,null,null,null,null,null,null,null,null,null,null,null,null,null,null,null,null,null,null,null,null,null,null,null,null,null,null,null,null,null,null,null,null,null,null,null,null,null,null,null,null,null,null,null,null,null,null,null,null,null,null,{"$f":"IF(PLANTS!M89=\"\",\"\",PLANTS!M89)","v":""},{"$f":"IF(PLANTS!N89=\"\",\"\",PLANTS!N89)","v":""},{"$f":"IF(PLANTS!O89=\"\",\"\",PLANTS!O89)","v":""},{"$f":"IF(KeySP!G88=\"\",\"\",KeySP!G88)","v":"SACO2"},null,null,null,null,86,null,null,null,null,9,null,null,null,null,null,null,null,null,null,null,null,null,null,null,null,null,87,{"$f":"IF(Cover!B90=\"\",\"\",Cover!B90)","v":""},{"$f":"IF(Cover!C90=\"\",\"\",Cover!C90)","v":""},{"$f":"IF(Cover!D90=\"\",\"\",Cover!D90)","v":""},{"$f":"IF(AND(ISBLANK(Cover!B90),ISBLANK(Cover!C90),ISBLANK(Cover!D90)),\"\",100-SUM(EP90:ER90))","v":""},null,null,null,null,null,null,null,null,null,""]
[null,null,null,null,null,null,null,null,null,null,null,null,null,null,null,null,null,null,null,null,null,"","","","","","",0,1,"",null,null,null,null,null,null,null,null,null,null,null,null,null,null,null,null,null,null,null,null,null,null,null,null,null,null,null,null,null,null,null,null,null,null,null,null,null,null,null,null,null,null,null,null,null,null,null,null,null,null,null,null,null,null,null,null,null,null,null,null,null,null,null,null,null,null,null,null,null,null,null,null,null,null,null,null,null,null,null,null,null,null,null,null,{"$f":"IF(PLANTS!M90=\"\",\"\",PLANTS!M90)","v":""},{"$f":"IF(PLANTS!N90=\"\",\"\",PLANTS!N90)","v":""},{"$f":"IF(PLANTS!O90=\"\",\"\",PLANTS!O90)","v":""},{"$f":"IF(KeySP!G89=\"\",\"\",KeySP!G89)","v":"SADI"},null,null,null,null,87,null,null,null,null,9.1,null,null,null,null,null,null,null,null,null,null,null,null,null,null,null,null,88,{"$f":"IF(Cover!B91=\"\",\"\",Cover!B91)","v":""},{"$f":"IF(Cover!C91=\"\",\"\",Cover!C91)","v":""},{"$f":"IF(Cover!D91=\"\",\"\",Cover!D91)","v":""},{"$f":"IF(AND(ISBLANK(Cover!B91),ISBLANK(Cover!C91),ISBLANK(Cover!D91)),\"\",100-SUM(EP91:ER91))","v":""},null,null,null,null,null,null,null,null,null,""]
[null,null,null,null,null,null,null,null,null,null,null,null,null,null,null,null,null,null,null,null,null,"","","","","","",0,1,"",null,null,null,null,null,null,null,null,null,null,null,null,null,null,null,null,null,null,null,null,null,null,null,null,null,null,null,null,null,null,null,null,null,null,null,null,null,null,null,null,null,null,null,null,null,null,null,null,null,null,null,null,null,null,null,null,null,null,null,null,null,null,null,null,null,null,null,null,null,null,null,null,null,null,null,null,null,null,null,null,null,null,null,null,{"$f":"IF(PLANTS!M91=\"\",\"\",PLANTS!M91)","v":""},{"$f":"IF(PLANTS!N91=\"\",\"\",PLANTS!N91)","v":""},{"$f":"IF(PLANTS!O91=\"\",\"\",PLANTS!O91)","v":""},{"$f":"IF(KeySP!G90=\"\",\"\",KeySP!G90)","v":"SADR"},null,null,null,null,88,null,null,null,null,9.1999999999999993,null,null,null,null,null,null,null,null,null,null,null,null,null,null,null,null,89,{"$f":"IF(Cover!B92=\"\",\"\",Cover!B92)","v":""},{"$f":"IF(Cover!C92=\"\",\"\",Cover!C92)","v":""},{"$f":"IF(Cover!D92=\"\",\"\",Cover!D92)","v":""},{"$f":"IF(AND(ISBLANK(Cover!B92),ISBLANK(Cover!C92),ISBLANK(Cover!D92)),\"\",100-SUM(EP92:ER92))","v":""},null,null,null,null,null,null,null,null,null,""]
[null,null,null,null,null,null,null,null,null,null,null,null,null,null,null,null,null,null,null,null,null,"","","","","","",0,1,"",null,null,null,null,null,null,null,null,null,null,null,null,null,null,null,null,null,null,null,null,null,null,null,null,null,null,null,null,null,null,null,null,null,null,null,null,null,null,null,null,null,null,null,null,null,null,null,null,null,null,null,null,null,null,null,null,null,null,null,null,null,null,null,null,null,null,null,null,null,null,null,null,null,null,null,null,null,null,null,null,null,null,null,null,{"$f":"IF(PLANTS!M92=\"\",\"\",PLANTS!M92)","v":""},{"$f":"IF(PLANTS!N92=\"\",\"\",PLANTS!N92)","v":""},{"$f":"IF(PLANTS!O92=\"\",\"\",PLANTS!O92)","v":""},{"$f":"IF(KeySP!G91=\"\",\"\",KeySP!G91)","v":"SAER"},null,null,null,null,89,null,null,null,null,9.3000000000000007,null,null,null,null,null,null,null,null,null,null,null,null,null,null,null,null,90,{"$f":"IF(Cover!B93=\"\",\"\",Cover!B93)","v":""},{"$f":"IF(Cover!C93=\"\",\"\",Cover!C93)","v":""},{"$f":"IF(Cover!D93=\"\",\"\",Cover!D93)","v":""},{"$f":"IF(AND(ISBLANK(Cover!B93),ISBLANK(Cover!C93),ISBLANK(Cover!D93)),\"\",100-SUM(EP93:ER93))","v":""},null,null,null,null,null,null,null,null,null,""]
[null,null,null,null,null,null,null,null,null,null,null,null,null,null,null,null,null,null,null,null,null,"","","","","","",0,1,"",null,null,null,null,null,null,null,null,null,null,null,null,null,null,null,null,null,null,null,null,null,null,null,null,null,null,null,null,null,null,null,null,null,null,null,null,null,null,null,null,null,null,null,null,null,null,null,null,null,null,null,null,null,null,null,null,null,null,null,null,null,null,null,null,null,null,null,null,null,null,null,null,null,null,null,null,null,null,null,null,null,null,null,null,{"$f":"IF(PLANTS!M93=\"\",\"\",PLANTS!M93)","v":""},{"$f":"IF(PLANTS!N93=\"\",\"\",PLANTS!N93)","v":""},{"$f":"IF(PLANTS!O93=\"\",\"\",PLANTS!O93)","v":""},{"$f":"IF(KeySP!G92=\"\",\"\",KeySP!G92)","v":"SAEX"},null,null,null,null,90,null,null,null,null,9.4,null,null,null,null,null,null,null,null,null,null,null,null,null,null,null,null,91,{"$f":"IF(Cover!B94=\"\",\"\",Cover!B94)","v":""},{"$f":"IF(Cover!C94=\"\",\"\",Cover!C94)","v":""},{"$f":"IF(Cover!D94=\"\",\"\",Cover!D94)","v":""},{"$f":"IF(AND(ISBLANK(Cover!B94),ISBLANK(Cover!C94),ISBLANK(Cover!D94)),\"\",100-SUM(EP94:ER94))","v":""},null,null,null,null,null,null,null,null,null,""]
[null,null,null,null,null,null,null,null,null,null,null,null,null,null,null,null,null,null,null,null,null,"","","","","","",0,1,"",null,null,null,null,null,null,null,null,null,null,null,null,null,null,null,null,null,null,null,null,null,null,null,null,null,null,null,null,null,null,null,null,null,null,null,null,null,null,null,null,null,null,null,null,null,null,null,null,null,null,null,null,null,null,null,null,null,null,null,null,null,null,null,null,null,null,null,null,null,null,null,null,null,null,null,null,null,null,null,null,null,null,null,null,{"$f":"IF(PLANTS!M94=\"\",\"\",PLANTS!M94)","v":""},{"$f":"IF(PLANTS!N94=\"\",\"\",PLANTS!N94)","v":""},{"$f":"IF(PLANTS!O94=\"\",\"\",PLANTS!O94)","v":""},{"$f":"IF(KeySP!G93=\"\",\"\",KeySP!G93)","v":"SAFA"},null,null,null,null,91,null,null,null,null,9.5,null,null,null,null,null,null,null,null,null,null,null,null,null,null,null,null,92,{"$f":"IF(Cover!B95=\"\",\"\",Cover!B95)","v":""},{"$f":"IF(Cover!C95=\"\",\"\",Cover!C95)","v":""},{"$f":"IF(Cover!D95=\"\",\"\",Cover!D95)","v":""},{"$f":"IF(AND(ISBLANK(Cover!B95),ISBLANK(Cover!C95),ISBLANK(Cover!D95)),\"\",100-SUM(EP95:ER95))","v":""},null,null,null,null,null,null,null,null,null,""]
[null,null,null,null,null,null,null,null,null,null,null,null,null,null,null,null,null,null,null,null,null,"","","","","","",0,1,"",null,null,null,null,null,null,null,null,null,null,null,null,null,null,null,null,null,null,null,null,null,null,null,null,null,null,null,null,null,null,null,null,null,null,null,null,null,null,null,null,null,null,null,null,null,null,null,null,null,null,null,null,null,null,null,null,null,null,null,null,null,null,null,null,null,null,null,null,null,null,null,null,null,null,null,null,null,null,null,null,null,null,null,null,{"$f":"IF(PLANTS!M95=\"\",\"\",PLANTS!M95)","v":""},{"$f":"IF(PLANTS!N95=\"\",\"\",PLANTS!N95)","v":""},{"$f":"IF(PLANTS!O95=\"\",\"\",PLANTS!O95)","v":""},{"$f":"IF(KeySP!G94=\"\",\"\",KeySP!G94)","v":"SAGE2"},null,null,null,null,92,null,null,null,null,9.6,null,null,null,null,null,null,null,null,null,null,null,null,null,null,null,null,93,{"$f":"IF(Cover!B96=\"\",\"\",Cover!B96)","v":""},{"$f":"IF(Cover!C96=\"\",\"\",Cover!C96)","v":""},{"$f":"IF(Cover!D96=\"\",\"\",Cover!D96)","v":""},{"$f":"IF(AND(ISBLANK(Cover!B96),ISBLANK(Cover!C96),ISBLANK(Cover!D96)),\"\",100-SUM(EP96:ER96))","v":""},null,null,null,null,null,null,null,null,null,""]
[null,null,null,null,null,null,null,null,null,null,null,null,null,null,null,null,null,null,null,null,null,"","","","","","",0,1,"",null,null,null,null,null,null,null,null,null,null,null,null,null,null,null,null,null,null,null,null,null,null,null,null,null,null,null,null,null,null,null,null,null,null,null,null,null,null,null,null,null,null,null,null,null,null,null,null,null,null,null,null,null,null,null,null,null,null,null,null,null,null,null,null,null,null,null,null,null,null,null,null,null,null,null,null,null,null,null,null,null,null,null,null,{"$f":"IF(PLANTS!M96=\"\",\"\",PLANTS!M96)","v":""},{"$f":"IF(PLANTS!N96=\"\",\"\",PLANTS!N96)","v":""},{"$f":"IF(PLANTS!O96=\"\",\"\",PLANTS!O96)","v":""},{"$f":"IF(KeySP!G95=\"\",\"\",KeySP!G95)","v":"SAGO"},null,null,null,null,93,null,null,null,null,9.6999999999999993,null,null,null,null,null,null,null,null,null,null,null,null,null,null,null,null,94,{"$f":"IF(Cover!B97=\"\",\"\",Cover!B97)","v":""},{"$f":"IF(Cover!C97=\"\",\"\",Cover!C97)","v":""},{"$f":"IF(Cover!D97=\"\",\"\",Cover!D97)","v":""},{"$f":"IF(AND(ISBLANK(Cover!B97),ISBLANK(Cover!C97),ISBLANK(Cover!D97)),\"\",100-SUM(EP97:ER97))","v":""},null,null,null,null,null,null,null,null,null,""]
[null,null,null,null,null,null,null,null,null,null,null,null,null,null,null,null,null,null,null,null,null,"","","","","","",0,1,"",null,null,null,null,null,null,null,null,null,null,null,null,null,null,null,null,null,null,null,null,null,null,null,null,null,null,null,null,null,null,null,null,null,null,null,null,null,null,null,null,null,null,null,null,null,null,null,null,null,null,null,null,null,null,null,null,null,null,null,null,null,null,null,null,null,null,null,null,null,null,null,null,null,null,null,null,null,null,null,null,null,null,null,null,{"$f":"IF(PLANTS!M97=\"\",\"\",PLANTS!M97)","v":""},{"$f":"IF(PLANTS!N97=\"\",\"\",PLANTS!N97)","v":""},{"$f":"IF(PLANTS!O97=\"\",\"\",PLANTS!O97)","v":""},{"$f":"IF(KeySP!G96=\"\",\"\",KeySP!G96)","v":"SAHO"},null,null,null,null,94,null,null,null,null,9.8000000000000007,null,null,null,null,null,null,null,null,null,null,null,null,null,null,null,null,95,{"$f":"IF(Cover!B98=\"\",\"\",Cover!B98)","v":""},{"$f":"IF(Cover!C98=\"\",\"\",Cover!C98)","v":""},{"$f":"IF(Cover!D98=\"\",\"\",Cover!D98)","v":""},{"$f":"IF(AND(ISBLANK(Cover!B98),ISBLANK(Cover!C98),ISBLANK(Cover!D98)),\"\",100-SUM(EP98:ER98))","v":""},null,null,null,null,null,null,null,null,null,""]
[null,null,null,null,null,null,null,null,null,null,null,null,null,null,null,null,null,null,null,null,null,"","","","","","",0,1,"",null,null,null,null,null,null,null,null,null,null,null,null,null,null,null,null,null,null,null,null,null,null,null,null,null,null,null,null,null,null,null,null,null,null,null,null,null,null,null,null,null,null,null,null,null,null,null,null,null,null,null,null,null,null,null,null,null,null,null,null,null,null,null,null,null,null,null,null,null,null,null,null,null,null,null,null,null,null,null,null,null,null,null,null,{"$f":"IF(PLANTS!M98=\"\",\"\",PLANTS!M98)","v":""},{"$f":"IF(PLANTS!N98=\"\",\"\",PLANTS!N98)","v":""},{"$f":"IF(PLANTS!O98=\"\",\"\",PLANTS!O98)","v":""},{"$f":"IF(KeySP!G97=\"\",\"\",KeySP!G97)","v":"SAIN3"},null,null,null,null,95,null,null,null,null,9.9,null,null,null,null,null,null,null,null,null,null,null,null,null,null,null,null,96,{"$f":"IF(Cover!B99=\"\",\"\",Cover!B99)","v":""},{"$f":"IF(Cover!C99=\"\",\"\",Cover!C99)","v":""},{"$f":"IF(Cover!D99=\"\",\"\",Cover!D99)","v":""},{"$f":"IF(AND(ISBLANK(Cover!B99),ISBLANK(Cover!C99),ISBLANK(Cover!D99)),\"\",100-SUM(EP99:ER99))","v":""},null,null,null,null,null,null,null,null,null,""]
[null,null,null,null,null,null,null,null,null,null,null,null,null,null,null,null,null,null,null,null,null,"","","","","","",0,1,"",null,null,null,null,null,null,null,null,null,null,null,null,null,null,null,null,null,null,null,null,null,null,null,null,null,null,null,null,null,null,null,null,null,null,null,null,null,null,null,null,null,null,null,null,null,null,null,null,null,null,null,null,null,null,null,null,null,null,null,null,null,null,null,null,null,null,null,null,null,null,null,null,null,null,null,null,null,null,null,null,null,null,null,null,{"$f":"IF(PLANTS!M99=\"\",\"\",PLANTS!M99)","v":""},{"$f":"IF(PLANTS!N99=\"\",\"\",PLANTS!N99)","v":""},{"$f":"IF(PLANTS!O99=\"\",\"\",PLANTS!O99)","v":""},{"$f":"IF(KeySP!G98=\"\",\"\",KeySP!G98)","v":"SAIR"},null,null,null,null,96,null,null,null,null,10,null,null,null,null,null,null,null,null,null,null,null,null,null,null,null,null,97,{"$f":"IF(Cover!B100=\"\",\"\",Cover!B100)","v":""},{"$f":"IF(Cover!C100=\"\",\"\",Cover!C100)","v":""},{"$f":"IF(Cover!D100=\"\",\"\",Cover!D100)","v":""},{"$f":"IF(AND(ISBLANK(Cover!B100),ISBLANK(Cover!C100),ISBLANK(Cover!D100)),\"\",100-SUM(EP100:ER100))","v":""},null,null,null,null,null,null,null,null,null,""]
[null,null,null,null,null,null,null,null,null,null,null,null,null,null,null,null,null,null,null,null,null,"","","","","","",0,1,"",null,null,null,null,null,null,null,null,null,null,null,null,null,null,null,null,null,null,null,null,null,null,null,null,null,null,null,null,null,null,null,null,null,null,null,null,null,null,null,null,null,null,null,null,null,null,null,null,null,null,null,null,null,null,null,null,null,null,null,null,null,null,null,null,null,null,null,null,null,null,null,null,null,null,null,null,null,null,null,null,null,null,null,null,null,null,null,{"$f":"IF(KeySP!G99=\"\",\"\",KeySP!G99)","v":"SAJE"},null,null,null,null,97,null,null,null,null,10.1,null,null,null,null,null,null,null,null,null,null,null,null,null,null,null,null,98,{"$f":"IF(Cover!B101=\"\",\"\",Cover!B101)","v":""},{"$f":"IF(Cover!C101=\"\",\"\",Cover!C101)","v":""},{"$f":"IF(Cover!D101=\"\",\"\",Cover!D101)","v":""},{"$f":"IF(AND(ISBLANK(Cover!B101),ISBLANK(Cover!C101),ISBLANK(Cover!D101)),\"\",100-SUM(EP101:ER101))","v":""},null,null,null,null,null,null,null,null,null,""]
[null,null,null,null,null,null,null,null,null,null,null,null,null,null,null,null,null,null,null,null,null,"","","","","","",0,1,"",null,null,null,null,null,null,null,null,null,null,null,null,null,null,null,null,null,null,null,null,null,null,null,null,null,null,null,null,null,null,null,null,null,null,null,null,null,null,null,null,null,null,null,null,null,null,null,null,null,null,null,null,null,null,null,null,null,null,null,null,null,null,null,null,null,null,null,null,null,null,null,null,null,null,null,null,null,null,null,null,null,null,null,null,null,null,null,{"$f":"IF(KeySP!G100=\"\",\"\",KeySP!G100)","v":"SALA3"},null,null,null,null,98,null,null,null,null,10.199999999999999,null,null,null,null,null,null,null,null,null,null,null,null,null,null,null,null,99,{"$f":"IF(Cover!B102=\"\",\"\",Cover!B102)","v":""},{"$f":"IF(Cover!C102=\"\",\"\",Cover!C102)","v":""},{"$f":"IF(Cover!D102=\"\",\"\",Cover!D102)","v":""},{"$f":"IF(AND(ISBLANK(Cover!B102),ISBLANK(Cover!C102),ISBLANK(Cover!D102)),\"\",100-SUM(EP102:ER102))","v":""},null,null,null,null,null,null,null,null,null,""]
[null,null,null,null,null,null,null,null,null,null,null,null,null,null,null,null,null,null,null,null,null,"","","","","","",0,1,"",null,null,null,null,null,null,null,null,null,null,null,null,null,null,null,null,null,null,null,null,null,null,null,null,null,null,null,null,null,null,null,null,null,null,null,null,null,null,null,null,null,null,null,null,null,null,null,null,null,null,null,null,null,null,null,null,null,null,null,null,null,null,null,null,null,null,null,null,null,null,null,null,null,null,null,null,null,null,null,null,null,null,null,null,null,null,null,{"$f":"IF(KeySP!G101=\"\",\"\",KeySP!G101)","v":"SALA5"},null,null,null,null,99,null,null,null,null,10.3,null,null,null,null,null,null,null,null,null,null,null,null,null,null,null,null,100,{"$f":"IF(Cover!B103=\"\",\"\",Cover!B103)","v":""},{"$f":"IF(Cover!C103=\"\",\"\",Cover!C103)","v":""},{"$f":"IF(Cover!D103=\"\",\"\",Cover!D103)","v":""},{"$f":"IF(AND(ISBLANK(Cover!B103),ISBLANK(Cover!C103),ISBLANK(Cover!D103)),\"\",100-SUM(EP103:ER103))","v":""},null,null,null,null,null,null,null,null,null,""]
[null,null,null,null,null,null,null,null,null,null,null,null,null,null,null,null,null,null,null,null,null,"","","","","","",0,1,"",null,null,null,null,null,null,null,null,null,null,null,null,null,null,null,null,null,null,null,null,null,null,null,null,null,null,null,null,null,null,null,null,null,null,null,null,null,null,null,null,null,null,null,null,null,null,null,null,null,null,null,null,null,null,null,null,null,null,null,null,null,null,null,null,null,null,null,null,null,null,null,null,null,null,null,null,null,null,null,null,null,null,null,null,null,null,null,{"$f":"IF(KeySP!G102=\"\",\"\",KeySP!G102)","v":"SALA6"},null,null,null,null,100,null,null,null,null,10.4,null,null,null,null,null,null,null,null,null,null,null,null,null,null,null,null,101,{"$f":"IF(Cover!B104=\"\",\"\",Cover!B104)","v":""},{"$f":"IF(Cover!C104=\"\",\"\",Cover!C104)","v":""},{"$f":"IF(Cover!D104=\"\",\"\",Cover!D104)","v":""},{"$f":"IF(AND(ISBLANK(Cover!B104),ISBLANK(Cover!C104),ISBLANK(Cover!D104)),\"\",100-SUM(EP104:ER104))","v":""},null,null,null,null,null,null,null,null,null,""]
[null,null,null,null,null,null,null,null,null,null,null,null,null,null,null,null,null,null,null,null,null,"","","","","","",0,1,"",null,null,null,null,null,null,null,null,null,null,null,null,null,null,null,null,null,null,null,null,null,null,null,null,null,null,null,null,null,null,null,null,null,null,null,null,null,null,null,null,null,null,null,null,null,null,null,null,null,null,null,null,null,null,null,null,null,null,null,null,null,null,null,null,null,null,null,null,null,null,null,null,null,null,null,null,null,null,null,null,null,null,null,null,null,null,null,{"$f":"IF(KeySP!G103=\"\",\"\",KeySP!G103)","v":"SALE"},null,null,null,null,101,null,null,null,null,10.5,null,null,null,null,null,null,null,null,null,null,null,null,null,null,null,null,102,{"$f":"IF(Cover!B105=\"\",\"\",Cover!B105)","v":""},{"$f":"IF(Cover!C105=\"\",\"\",Cover!C105)","v":""},{"$f":"IF(Cover!D105=\"\",\"\",Cover!D105)","v":""},{"$f":"IF(AND(ISBLANK(Cover!B105),ISBLANK(Cover!C105),ISBLANK(Cover!D105)),\"\",100-SUM(EP105:ER105))","v":""},null,null,null,null,null,null,null,null,null,""]
[null,null,null,null,null,null,null,null,null,null,null,null,null,null,null,null,null,null,null,null,null,"","","","","","",0,1,"",null,null,null,null,null,null,null,null,null,null,null,null,null,null,null,null,null,null,null,null,null,null,null,null,null,null,null,null,null,null,null,null,null,null,null,null,null,null,null,null,null,null,null,null,null,null,null,null,null,null,null,null,null,null,null,null,null,null,null,null,null,null,null,null,null,null,null,null,null,null,null,null,null,null,null,null,null,null,null,null,null,null,null,null,null,null,null,{"$f":"IF(KeySP!G104=\"\",\"\",KeySP!G104)","v":"SALIX"},null,null,null,null,102,null,null,null,null,10.6,null,null,null,null,null,null,null,null,null,null,null,null,null,null,null,null,103,{"$f":"IF(Cover!B106=\"\",\"\",Cover!B106)","v":""},{"$f":"IF(Cover!C106=\"\",\"\",Cover!C106)","v":""},{"$f":"IF(Cover!D106=\"\",\"\",Cover!D106)","v":""},{"$f":"IF(AND(ISBLANK(Cover!B106),ISBLANK(Cover!C106),ISBLANK(Cover!D106)),\"\",100-SUM(EP106:ER106))","v":""},null,null,null,null,null,null,null,null,null,""]
[null,null,null,null,null,null,null,null,null,null,null,null,null,null,null,null,null,null,null,null,null,"","","","","","",0,1,"",null,null,null,null,null,null,null,null,null,null,null,null,null,null,null,null,null,null,null,null,null,null,null,null,null,null,null,null,null,null,null,null,null,null,null,null,null,null,null,null,null,null,null,null,null,null,null,null,null,null,null,null,null,null,null,null,null,null,null,null,null,null,null,null,null,null,null,null,null,null,null,null,null,null,null,null,null,null,null,null,null,null,null,null,null,null,null,{"$f":"IF(KeySP!G105=\"\",\"\",KeySP!G105)","v":"SALIXCL"},null,null,null,null,103,null,null,null,null,10.7,null,null,null,null,null,null,null,null,null,null,null,null,null,null,null,null,104,{"$f":"IF(Cover!B107=\"\",\"\",Cover!B107)","v":""},{"$f":"IF(Cover!C107=\"\",\"\",Cover!C107)","v":""},{"$f":"IF(Cover!D107=\"\",\"\",Cover!D107)","v":""},{"$f":"IF(AND(ISBLANK(Cover!B107),ISBLANK(Cover!C107),ISBLANK(Cover!D107)),\"\",100-SUM(EP107:ER107))","v":""},null,null,null,null,null,null,null,null,null,""]
[null,null,null,null,null,null,null,null,null,null,null,null,null,null,null,null,null,null,null,null,null,"","","","","","",0,1,"",null,null,null,null,null,null,null,null,null,null,null,null,null,null,null,null,null,null,null,null,null,null,null,null,null,null,null,null,null,null,null,null,null,null,null,null,null,null,null,null,null,null,null,null,null,null,null,null,null,null,null,null,null,null,null,null,null,null,null,null,null,null,null,null,null,null,null,null,null,null,null,null,null,null,null,null,null,null,null,null,null,null,null,null,null,null,null,{"$f":"IF(KeySP!G106=\"\",\"\",KeySP!G106)","v":"SALIXRH"},null,null,null,null,104,null,null,null,null,10.8,null,null,null,null,null,null,null,null,null,null,null,null,null,null,null,null,105,{"$f":"IF(Cover!B108=\"\",\"\",Cover!B108)","v":""},{"$f":"IF(Cover!C108=\"\",\"\",Cover!C108)","v":""},{"$f":"IF(Cover!D108=\"\",\"\",Cover!D108)","v":""},{"$f":"IF(AND(ISBLANK(Cover!B108),ISBLANK(Cover!C108),ISBLANK(Cover!D108)),\"\",100-SUM(EP108:ER108))","v":""},null,null,null,null,null,null,null,null,null,""]
[null,null,null,null,null,null,null,null,null,null,null,null,null,null,null,null,null,null,null,null,null,"","","","","","",0,1,"",null,null,null,null,null,null,null,null,null,null,null,null,null,null,null,null,null,null,null,null,null,null,null,null,null,null,null,null,null,null,null,null,null,null,null,null,null,null,null,null,null,null,null,null,null,null,null,null,null,null,null,null,null,null,null,null,null,null,null,null,null,null,null,null,null,null,null,null,null,null,null,null,null,null,null,null,null,null,null,null,null,null,null,null,null,null,null,{"$f":"IF(KeySP!G107=\"\",\"\",KeySP!G107)","v":"SALU"},null,null,null,null,105,null,null,null,null,10.9,null,null,null,null,null,null,null,null,null,null,null,null,null,null,null,null,106,{"$f":"IF(Cover!B109=\"\",\"\",Cover!B109)","v":""},{"$f":"IF(Cover!C109=\"\",\"\",Cover!C109)","v":""},{"$f":"IF(Cover!D109=\"\",\"\",Cover!D109)","v":""},{"$f":"IF(AND(ISBLANK(Cover!B109),ISBLANK(Cover!C109),ISBLANK(Cover!D109)),\"\",100-SUM(EP109:ER109))","v":""},null,null,null,null,null,null,null,null,null,""]
[null,null,null,null,null,null,null,null,null,null,null,null,null,null,null,null,null,null,null,null,null,"","","","","","",0,1,"",null,null,null,null,null,null,null,null,null,null,null,null,null,null,null,null,null,null,null,null,null,null,null,null,null,null,null,null,null,null,null,null,null,null,null,null,null,null,null,null,null,null,null,null,null,null,null,null,null,null,null,null,null,null,null,null,null,null,null,null,null,null,null,null,null,null,null,null,null,null,null,null,null,null,null,null,null,null,null,null,null,null,null,null,null,null,null,{"$f":"IF(KeySP!G108=\"\",\"\",KeySP!G108)","v":"SALU2"},null,null,null,null,106,null,null,null,null,11,null,null,null,null,null,null,null,null,null,null,null,null,null,null,null,null,107,{"$f":"IF(Cover!B110=\"\",\"\",Cover!B110)","v":""},{"$f":"IF(Cover!C110=\"\",\"\",Cover!C110)","v":""},{"$f":"IF(Cover!D110=\"\",\"\",Cover!D110)","v":""},{"$f":"IF(AND(ISBLANK(Cover!B110),ISBLANK(Cover!C110),ISBLANK(Cover!D110)),\"\",100-SUM(EP110:ER110))","v":""},null,null,null,null,null,null,null,null,null,""]
[null,null,null,null,null,null,null,null,null,null,null,null,null,null,null,null,null,null,null,null,null,"","","","","","",0,1,"",null,null,null,null,null,null,null,null,null,null,null,null,null,null,null,null,null,null,null,null,null,null,null,null,null,null,null,null,null,null,null,null,null,null,null,null,null,null,null,null,null,null,null,null,null,null,null,null,null,null,null,null,null,null,null,null,null,null,null,null,null,null,null,null,null,null,null,null,null,null,null,null,null,null,null,null,null,null,null,null,null,null,null,null,null,null,null,{"$f":"IF(KeySP!G109=\"\",\"\",KeySP!G109)","v":"SAMO2"},null,null,null,null,107,null,null,null,null,11.1,null,null,null,null,null,null,null,null,null,null,null,null,null,null,null,null,108,{"$f":"IF(Cover!B111=\"\",\"\",Cover!B111)","v":""},{"$f":"IF(Cover!C111=\"\",\"\",Cover!C111)","v":""},{"$f":"IF(Cover!D111=\"\",\"\",Cover!D111)","v":""},{"$f":"IF(AND(ISBLANK(Cover!B111),ISBLANK(Cover!C111),ISBLANK(Cover!D111)),\"\",100-SUM(EP111:ER111))","v":""},null,null,null,null,null,null,null,null,null,""]
[null,null,null,null,null,null,null,null,null,null,null,null,null,null,null,null,null,null,null,null,null,"","","","","","",0,1,"",null,null,null,null,null,null,null,null,null,null,null,null,null,null,null,null,null,null,null,null,null,null,null,null,null,null,null,null,null,null,null,null,null,null,null,null,null,null,null,null,null,null,null,null,null,null,null,null,null,null,null,null,null,null,null,null,null,null,null,null,null,null,null,null,null,null,null,null,null,null,null,null,null,null,null,null,null,null,null,null,null,null,null,null,null,null,null,null,null,null,null,null,108,null,null,null,null,11.2,null,null,null,null,null,null,null,null,null,null,null,null,null,null,null,null,109,{"$f":"IF(Cover!B112=\"\",\"\",Cover!B112)","v":""},{"$f":"IF(Cover!C112=\"\",\"\",Cover!C112)","v":""},{"$f":"IF(Cover!D112=\"\",\"\",Cover!D112)","v":""},{"$f":"IF(AND(ISBLANK(Cover!B112),ISBLANK(Cover!C112),ISBLANK(Cover!D112)),\"\",100-SUM(EP112:ER112))","v":""},null,null,null,null,null,null,null,null,null,""]
[null,null,null,null,null,null,null,null,null,null,null,null,null,null,null,null,null,null,null,null,null,"","","","","","",0,1,"",null,null,null,null,null,null,null,null,null,null,null,null,null,null,null,null,null,null,null,null,null,null,null,null,null,null,null,null,null,null,null,null,null,null,null,null,null,null,null,null,null,null,null,null,null,null,null,null,null,null,null,null,null,null,null,null,null,null,null,null,null,null,null,null,null,null,null,null,null,null,null,null,null,null,null,null,null,null,null,null,null,null,null,null,null,null,null,null,null,null,null,null,109,null,null,null,null,11.3,null,null,null,null,null,null,null,null,null,null,null,null,null,null,null,null,110,{"$f":"IF(Cover!B113=\"\",\"\",Cover!B113)","v":""},{"$f":"IF(Cover!C113=\"\",\"\",Cover!C113)","v":""},{"$f":"IF(Cover!D113=\"\",\"\",Cover!D113)","v":""},{"$f":"IF(AND(ISBLANK(Cover!B113),ISBLANK(Cover!C113),ISBLANK(Cover!D113)),\"\",100-SUM(EP113:ER113))","v":""},null,null,null,null,null,null,null,null,null,""]
[null,null,null,null,null,null,null,null,null,null,null,null,null,null,null,null,null,null,null,null,null,"","","","","","",0,1,"",null,null,null,null,null,null,null,null,null,null,null,null,null,null,null,null,null,null,null,null,null,null,null,null,null,null,null,null,null,null,null,null,null,null,null,null,null,null,null,null,null,null,null,null,null,null,null,null,null,null,null,null,null,null,null,null,null,null,null,null,null,null,null,null,null,null,null,null,null,null,null,null,null,null,null,null,null,null,null,null,null,null,null,null,null,null,null,null,null,null,null,null,110,null,null,null,null,11.4,null,null,null,null,null,null,null,null,null,null,null,null,null,null,null,null,111,{"$f":"IF(Cover!B114=\"\",\"\",Cover!B114)","v":""},{"$f":"IF(Cover!C114=\"\",\"\",Cover!C114)","v":""},{"$f":"IF(Cover!D114=\"\",\"\",Cover!D114)","v":""},{"$f":"IF(AND(ISBLANK(Cover!B114),ISBLANK(Cover!C114),ISBLANK(Cover!D114)),\"\",100-SUM(EP114:ER114))","v":""},null,null,null,null,null,null,null,null,null,""]
[null,null,null,null,null,null,null,null,null,null,null,null,null,null,null,null,null,null,null,null,null,"","","","","","",0,1,"",null,null,null,null,null,null,null,null,null,null,null,null,null,null,null,null,null,null,null,null,null,null,null,null,null,null,null,null,null,null,null,null,null,null,null,null,null,null,null,null,null,null,null,null,null,null,null,null,null,null,null,null,null,null,null,null,null,null,null,null,null,null,null,null,null,null,null,null,null,null,null,null,null,null,null,null,null,null,null,null,null,null,null,null,null,null,null,null,null,null,null,null,111,null,null,null,null,11.5,null,null,null,null,null,null,null,null,null,null,null,null,null,null,null,null,112,{"$f":"IF(Cover!B115=\"\",\"\",Cover!B115)","v":""},{"$f":"IF(Cover!C115=\"\",\"\",Cover!C115)","v":""},{"$f":"IF(Cover!D115=\"\",\"\",Cover!D115)","v":""},{"$f":"IF(AND(ISBLANK(Cover!B115),ISBLANK(Cover!C115),ISBLANK(Cover!D115)),\"\",100-SUM(EP115:ER115))","v":""},null,null,null,null,null,null,null,null,null,""]
[null,null,null,null,null,null,null,null,null,null,null,null,null,null,null,null,null,null,null,null,null,"","","","","","",0,1,"",null,null,null,null,null,null,null,null,null,null,null,null,null,null,null,null,null,null,null,null,null,null,null,null,null,null,null,null,null,null,null,null,null,null,null,null,null,null,null,null,null,null,null,null,null,null,null,null,null,null,null,null,null,null,null,null,null,null,null,null,null,null,null,null,null,null,null,null,null,null,null,null,null,null,null,null,null,null,null,null,null,null,null,null,null,null,null,null,null,null,null,null,112,null,null,null,null,11.6,null,null,null,null,null,null,null,null,null,null,null,null,null,null,null,null,113,{"$f":"IF(Cover!B116=\"\",\"\",Cover!B116)","v":""},{"$f":"IF(Cover!C116=\"\",\"\",Cover!C116)","v":""},{"$f":"IF(Cover!D116=\"\",\"\",Cover!D116)","v":""},{"$f":"IF(AND(ISBLANK(Cover!B116),ISBLANK(Cover!C116),ISBLANK(Cover!D116)),\"\",100-SUM(EP116:ER116))","v":""},null,null,null,null,null,null,null,null,null,""]
[null,null,null,null,null,null,null,null,null,null,null,null,null,null,null,null,null,null,null,null,null,"","","","","","",0,1,"",null,null,null,null,null,null,null,null,null,null,null,null,null,null,null,null,null,null,null,null,null,null,null,null,null,null,null,null,null,null,null,null,null,null,null,null,null,null,null,null,null,null,null,null,null,null,null,null,null,null,null,null,null,null,null,null,null,null,null,null,null,null,null,null,null,null,null,null,null,null,null,null,null,null,null,null,null,null,null,null,null,null,null,null,null,null,null,null,null,null,null,null,113,null,null,null,null,11.7,null,null,null,null,null,null,null,null,null,null,null,null,null,null,null,null,114,{"$f":"IF(Cover!B117=\"\",\"\",Cover!B117)","v":""},{"$f":"IF(Cover!C117=\"\",\"\",Cover!C117)","v":""},{"$f":"IF(Cover!D117=\"\",\"\",Cover!D117)","v":""},{"$f":"IF(AND(ISBLANK(Cover!B117),ISBLANK(Cover!C117),ISBLANK(Cover!D117)),\"\",100-SUM(EP117:ER117))","v":""},null,null,null,null,null,null,null,null,null,""]
[null,null,null,null,null,null,null,null,null,null,null,null,null,null,null,null,null,null,null,null,null,"","","","","","",0,1,"",null,null,null,null,null,null,null,null,null,null,null,null,null,null,null,null,null,null,null,null,null,null,null,null,null,null,null,null,null,null,null,null,null,null,null,null,null,null,null,null,null,null,null,null,null,null,null,null,null,null,null,null,null,null,null,null,null,null,null,null,null,null,null,null,null,null,null,null,null,null,null,null,null,null,null,null,null,null,null,null,null,null,null,null,null,null,null,null,null,null,null,null,114,null,null,null,null,11.8,null,null,null,null,null,null,null,null,null,null,null,null,null,null,null,null,115,{"$f":"IF(Cover!B118=\"\",\"\",Cover!B118)","v":""},{"$f":"IF(Cover!C118=\"\",\"\",Cover!C118)","v":""},{"$f":"IF(Cover!D118=\"\",\"\",Cover!D118)","v":""},{"$f":"IF(AND(ISBLANK(Cover!B118),ISBLANK(Cover!C118),ISBLANK(Cover!D118)),\"\",100-SUM(EP118:ER118))","v":""},null,null,null,null,null,null,null,null,null,""]
[null,null,null,null,null,null,null,null,null,null,null,null,null,null,null,null,null,null,null,null,null,"","","","","","",0,1,"",null,null,null,null,null,null,null,null,null,null,null,null,null,null,null,null,null,null,null,null,null,null,null,null,null,null,null,null,null,null,null,null,null,null,null,null,null,null,null,null,null,null,null,null,null,null,null,null,null,null,null,null,null,null,null,null,null,null,null,null,null,null,null,null,null,null,null,null,null,null,null,null,null,null,null,null,null,null,null,null,null,null,null,null,null,null,null,null,null,null,null,null,115,null,null,null,null,11.9,null,null,null,null,null,null,null,null,null,null,null,null,null,null,null,null,116,{"$f":"IF(Cover!B119=\"\",\"\",Cover!B119)","v":""},{"$f":"IF(Cover!C119=\"\",\"\",Cover!C119)","v":""},{"$f":"IF(Cover!D119=\"\",\"\",Cover!D119)","v":""},{"$f":"IF(AND(ISBLANK(Cover!B119),ISBLANK(Cover!C119),ISBLANK(Cover!D119)),\"\",100-SUM(EP119:ER119))","v":""},null,null,null,null,null,null,null,null,null,""]
[null,null,null,null,null,null,null,null,null,null,null,null,null,null,null,null,null,null,null,null,null,"","","","","","",0,1,"",null,null,null,null,null,null,null,null,null,null,null,null,null,null,null,null,null,null,null,null,null,null,null,null,null,null,null,null,null,null,null,null,null,null,null,null,null,null,null,null,null,null,null,null,null,null,null,null,null,null,null,null,null,null,null,null,null,null,null,null,null,null,null,null,null,null,null,null,null,null,null,null,null,null,null,null,null,null,null,null,null,null,null,null,null,null,null,null,null,null,null,null,116,null,null,null,null,12,null,null,null,null,null,null,null,null,null,null,null,null,null,null,null,null,117,{"$f":"IF(Cover!B120=\"\",\"\",Cover!B120)","v":""},{"$f":"IF(Cover!C120=\"\",\"\",Cover!C120)","v":""},{"$f":"IF(Cover!D120=\"\",\"\",Cover!D120)","v":""},{"$f":"IF(AND(ISBLANK(Cover!B120),ISBLANK(Cover!C120),ISBLANK(Cover!D120)),\"\",100-SUM(EP120:ER120))","v":""},null,null,null,null,null,null,null,null,null,""]
[null,null,null,null,null,null,null,null,null,null,null,null,null,null,null,null,null,null,null,null,null,"","","","","","",0,1,"",null,null,null,null,null,null,null,null,null,null,null,null,null,null,null,null,null,null,null,null,null,null,null,null,null,null,null,null,null,null,null,null,null,null,null,null,null,null,null,null,null,null,null,null,null,null,null,null,null,null,null,null,null,null,null,null,null,null,null,null,null,null,null,null,null,null,null,null,null,null,null,null,null,null,null,null,null,null,null,null,null,null,null,null,null,null,null,null,null,null,null,null,117,null,null,null,null,12.1,null,null,null,null,null,null,null,null,null,null,null,null,null,null,null,null,118,{"$f":"IF(Cover!B121=\"\",\"\",Cover!B121)","v":""},{"$f":"IF(Cover!C121=\"\",\"\",Cover!C121)","v":""},{"$f":"IF(Cover!D121=\"\",\"\",Cover!D121)","v":""},{"$f":"IF(AND(ISBLANK(Cover!B121),ISBLANK(Cover!C121),ISBLANK(Cover!D121)),\"\",100-SUM(EP121:ER121))","v":""},null,null,null,null,null,null,null,null,null,""]
[null,null,null,null,null,null,null,null,null,null,null,null,null,null,null,null,null,null,null,null,null,"","","","","","",0,1,"",null,null,null,null,null,null,null,null,null,null,null,null,null,null,null,null,null,null,null,null,null,null,null,null,null,null,null,null,null,null,null,null,null,null,null,null,null,null,null,null,null,null,null,null,null,null,null,null,null,null,null,null,null,null,null,null,null,null,null,null,null,null,null,null,null,null,null,null,null,null,null,null,null,null,null,null,null,null,null,null,null,null,null,null,null,null,null,null,null,null,null,null,118,null,null,null,null,12.2,null,null,null,null,null,null,null,null,null,null,null,null,null,null,null,null,119,{"$f":"IF(Cover!B122=\"\",\"\",Cover!B122)","v":""},{"$f":"IF(Cover!C122=\"\",\"\",Cover!C122)","v":""},{"$f":"IF(Cover!D122=\"\",\"\",Cover!D122)","v":""},{"$f":"IF(AND(ISBLANK(Cover!B122),ISBLANK(Cover!C122),ISBLANK(Cover!D122)),\"\",100-SUM(EP122:ER122))","v":""},null,null,null,null,null,null,null,null,null,""]
[null,null,null,null,null,null,null,null,null,null,null,null,null,null,null,null,null,null,null,null,null,"","","","","","",0,1,"",null,null,null,null,null,null,null,null,null,null,null,null,null,null,null,null,null,null,null,null,null,null,null,null,null,null,null,null,null,null,null,null,null,null,null,null,null,null,null,null,null,null,null,null,null,null,null,null,null,null,null,null,null,null,null,null,null,null,null,null,null,null,null,null,null,null,null,null,null,null,null,null,null,null,null,null,null,null,null,null,null,null,null,null,null,null,null,null,null,null,null,null,119,null,null,null,null,12.3,null,null,null,null,null,null,null,null,null,null,null,null,null,null,null,null,120,{"$f":"IF(Cover!B123=\"\",\"\",Cover!B123)","v":""},{"$f":"IF(Cover!C123=\"\",\"\",Cover!C123)","v":""},{"$f":"IF(Cover!D123=\"\",\"\",Cover!D123)","v":""},{"$f":"IF(AND(ISBLANK(Cover!B123),ISBLANK(Cover!C123),ISBLANK(Cover!D123)),\"\",100-SUM(EP123:ER123))","v":""},null,null,null,null,null,null,null,null,null,""]
[null,null,null,null,null,null,null,null,null,null,null,null,null,null,null,null,null,null,null,null,null,"","","","","","",0,1,"",null,null,null,null,null,null,null,null,null,null,null,null,null,null,null,null,null,null,null,null,null,null,null,null,null,null,null,null,null,null,null,null,null,null,null,null,null,null,null,null,null,null,null,null,null,null,null,null,null,null,null,null,null,null,null,null,null,null,null,null,null,null,null,null,null,null,null,null,null,null,null,null,null,null,null,null,null,null,null,null,null,null,null,null,null,null,null,null,null,null,null,null,120,null,null,null,null,12.4,null,null,null,null,null,null,null,null,null,null,null,null,null,null,null,null,121,{"$f":"IF(Cover!B124=\"\",\"\",Cover!B124)","v":""},{"$f":"IF(Cover!C124=\"\",\"\",Cover!C124)","v":""},{"$f":"IF(Cover!D124=\"\",\"\",Cover!D124)","v":""},{"$f":"IF(AND(ISBLANK(Cover!B124),ISBLANK(Cover!C124),ISBLANK(Cover!D124)),\"\",100-SUM(EP124:ER124))","v":""},null,null,null,null,null,null,null,null,null,""]
[null,null,null,null,null,null,null,null,null,null,null,null,null,null,null,null,null,null,null,null,null,"","","","","","",0,1,"",null,null,null,null,null,null,null,null,null,null,null,null,null,null,null,null,null,null,null,null,null,null,null,null,null,null,null,null,null,null,null,null,null,null,null,null,null,null,null,null,null,null,null,null,null,null,null,null,null,null,null,null,null,null,null,null,null,null,null,null,null,null,null,null,null,null,null,null,null,null,null,null,null,null,null,null,null,null,null,null,null,null,null,null,null,null,null,null,null,null,null,null,121,null,null,null,null,12.5,null,null,null,null,null,null,null,null,null,null,null,null,null,null,null,null,122,{"$f":"IF(Cover!B125=\"\",\"\",Cover!B125)","v":""},{"$f":"IF(Cover!C125=\"\",\"\",Cover!C125)","v":""},{"$f":"IF(Cover!D125=\"\",\"\",Cover!D125)","v":""},{"$f":"IF(AND(ISBLANK(Cover!B125),ISBLANK(Cover!C125),ISBLANK(Cover!D125)),\"\",100-SUM(EP125:ER125))","v":""},null,null,null,null,null,null,null,null,null,""]
[null,null,null,null,null,null,null,null,null,null,null,null,null,null,null,null,null,null,null,null,null,"","","","","","",0,1,"",null,null,null,null,null,null,null,null,null,null,null,null,null,null,null,null,null,null,null,null,null,null,null,null,null,null,null,null,null,null,null,null,null,null,null,null,null,null,null,null,null,null,null,null,null,null,null,null,null,null,null,null,null,null,null,null,null,null,null,null,null,null,null,null,null,null,null,null,null,null,null,null,null,null,null,null,null,null,null,null,null,null,null,null,null,null,null,null,null,null,null,null,122,null,null,null,null,12.6,null,null,null,null,null,null,null,null,null,null,null,null,null,null,null,null,123,{"$f":"IF(Cover!B126=\"\",\"\",Cover!B126)","v":""},{"$f":"IF(Cover!C126=\"\",\"\",Cover!C126)","v":""},{"$f":"IF(Cover!D126=\"\",\"\",Cover!D126)","v":""},{"$f":"IF(AND(ISBLANK(Cover!B126),ISBLANK(Cover!C126),ISBLANK(Cover!D126)),\"\",100-SUM(EP126:ER126))","v":""},null,null,null,null,null,null,null,null,null,""]
[null,null,null,null,null,null,null,null,null,null,null,null,null,null,null,null,null,null,null,null,null,"","","","","","",0,1,"",null,null,null,null,null,null,null,null,null,null,null,null,null,null,null,null,null,null,null,null,null,null,null,null,null,null,null,null,null,null,null,null,null,null,null,null,null,null,null,null,null,null,null,null,null,null,null,null,null,null,null,null,null,null,null,null,null,null,null,null,null,null,null,null,null,null,null,null,null,null,null,null,null,null,null,null,null,null,null,null,null,null,null,null,null,null,null,null,null,null,null,null,123,null,null,null,null,12.7,null,null,null,null,null,null,null,null,null,null,null,null,null,null,null,null,124,{"$f":"IF(Cover!B127=\"\",\"\",Cover!B127)","v":""},{"$f":"IF(Cover!C127=\"\",\"\",Cover!C127)","v":""},{"$f":"IF(Cover!D127=\"\",\"\",Cover!D127)","v":""},{"$f":"IF(AND(ISBLANK(Cover!B127),ISBLANK(Cover!C127),ISBLANK(Cover!D127)),\"\",100-SUM(EP127:ER127))","v":""},null,null,null,null,null,null,null,null,null,""]
[null,null,null,null,null,null,null,null,null,null,null,null,null,null,null,null,null,null,null,null,null,"","","","","","",0,1,"",null,null,null,null,null,null,null,null,null,null,null,null,null,null,null,null,null,null,null,null,null,null,null,null,null,null,null,null,null,null,null,null,null,null,null,null,null,null,null,null,null,null,null,null,null,null,null,null,null,null,null,null,null,null,null,null,null,null,null,null,null,null,null,null,null,null,null,null,null,null,null,null,null,null,null,null,null,null,null,null,null,null,null,null,null,null,null,null,null,null,null,null,124,null,null,null,null,12.8,null,null,null,null,null,null,null,null,null,null,null,null,null,null,null,null,125,{"$f":"IF(Cover!B128=\"\",\"\",Cover!B128)","v":""},{"$f":"IF(Cover!C128=\"\",\"\",Cover!C128)","v":""},{"$f":"IF(Cover!D128=\"\",\"\",Cover!D128)","v":""},{"$f":"IF(AND(ISBLANK(Cover!B128),ISBLANK(Cover!C128),ISBLANK(Cover!D128)),\"\",100-SUM(EP128:ER128))","v":""},null,null,null,null,null,null,null,null,null,""]
[null,null,null,null,null,null,null,null,null,null,null,null,null,null,null,null,null,null,null,null,null,"","","","","","",0,1,"",null,null,null,null,null,null,null,null,null,null,null,null,null,null,null,null,null,null,null,null,null,null,null,null,null,null,null,null,null,null,null,null,null,null,null,null,null,null,null,null,null,null,null,null,null,null,null,null,null,null,null,null,null,null,null,null,null,null,null,null,null,null,null,null,null,null,null,null,null,null,null,null,null,null,null,null,null,null,null,null,null,null,null,null,null,null,null,null,null,null,null,null,125,null,null,null,null,12.9,null,null,null,null,null,null,null,null,null,null,null,null,null,null,null,null,126,{"$f":"IF(Cover!B129=\"\",\"\",Cover!B129)","v":""},{"$f":"IF(Cover!C129=\"\",\"\",Cover!C129)","v":""},{"$f":"IF(Cover!D129=\"\",\"\",Cover!D129)","v":""},{"$f":"IF(AND(ISBLANK(Cover!B129),ISBLANK(Cover!C129),ISBLANK(Cover!D129)),\"\",100-SUM(EP129:ER129))","v":""},null,null,null,null,null,null,null,null,null,""]
[null,null,null,null,null,null,null,null,null,null,null,null,null,null,null,null,null,null,null,null,null,"","","","","","",0,1,"",null,null,null,null,null,null,null,null,null,null,null,null,null,null,null,null,null,null,null,null,null,null,null,null,null,null,null,null,null,null,null,null,null,null,null,null,null,null,null,null,null,null,null,null,null,null,null,null,null,null,null,null,null,null,null,null,null,null,null,null,null,null,null,null,null,null,null,null,null,null,null,null,null,null,null,null,null,null,null,null,null,null,null,null,null,null,null,null,null,null,null,null,126,null,null,null,null,13,null,null,null,null,null,null,null,null,null,null,null,null,null,null,null,null,127,{"$f":"IF(Cover!B130=\"\",\"\",Cover!B130)","v":""},{"$f":"IF(Cover!C130=\"\",\"\",Cover!C130)","v":""},{"$f":"IF(Cover!D130=\"\",\"\",Cover!D130)","v":""},{"$f":"IF(AND(ISBLANK(Cover!B130),ISBLANK(Cover!C130),ISBLANK(Cover!D130)),\"\",100-SUM(EP130:ER130))","v":""},null,null,null,null,null,null,null,null,null,""]
[null,null,null,null,null,null,null,null,null,null,null,null,null,null,null,null,null,null,null,null,null,"","","","","","",0,1,"",null,null,null,null,null,null,null,null,null,null,null,null,null,null,null,null,null,null,null,null,null,null,null,null,null,null,null,null,null,null,null,null,null,null,null,null,null,null,null,null,null,null,null,null,null,null,null,null,null,null,null,null,null,null,null,null,null,null,null,null,null,null,null,null,null,null,null,null,null,null,null,null,null,null,null,null,null,null,null,null,null,null,null,null,null,null,null,null,null,null,null,null,127,null,null,null,null,13.1,null,null,null,null,null,null,null,null,null,null,null,null,null,null,null,null,128,{"$f":"IF(Cover!B131=\"\",\"\",Cover!B131)","v":""},{"$f":"IF(Cover!C131=\"\",\"\",Cover!C131)","v":""},{"$f":"IF(Cover!D131=\"\",\"\",Cover!D131)","v":""},{"$f":"IF(AND(ISBLANK(Cover!B131),ISBLANK(Cover!C131),ISBLANK(Cover!D131)),\"\",100-SUM(EP131:ER131))","v":""},null,null,null,null,null,null,null,null,null,""]
[null,null,null,null,null,null,null,null,null,null,null,null,null,null,null,null,null,null,null,null,null,"","","","","","",0,1,"",null,null,null,null,null,null,null,null,null,null,null,null,null,null,null,null,null,null,null,null,null,null,null,null,null,null,null,null,null,null,null,null,null,null,null,null,null,null,null,null,null,null,null,null,null,null,null,null,null,null,null,null,null,null,null,null,null,null,null,null,null,null,null,null,null,null,null,null,null,null,null,null,null,null,null,null,null,null,null,null,null,null,null,null,null,null,null,null,null,null,null,null,128,null,null,null,null,13.2,null,null,null,null,null,null,null,null,null,null,null,null,null,null,null,null,129,{"$f":"IF(Cover!B132=\"\",\"\",Cover!B132)","v":""},{"$f":"IF(Cover!C132=\"\",\"\",Cover!C132)","v":""},{"$f":"IF(Cover!D132=\"\",\"\",Cover!D132)","v":""},{"$f":"IF(AND(ISBLANK(Cover!B132),ISBLANK(Cover!C132),ISBLANK(Cover!D132)),\"\",100-SUM(EP132:ER132))","v":""},null,null,null,null,null,null,null,null,null,""]
[null,null,null,null,null,null,null,null,null,null,null,null,null,null,null,null,null,null,null,null,null,{"$f":"IF(L133=\"\",\"\",L133*12/39)","v":""},"","","","","",0,1,"",null,null,null,null,null,null,null,null,null,null,null,null,null,null,null,null,null,null,null,null,null,null,null,null,null,null,null,null,null,null,null,null,null,null,null,null,null,null,null,null,null,null,null,null,null,null,null,null,null,null,null,null,null,null,null,null,null,null,null,null,null,null,null,null,null,null,null,null,null,null,null,null,null,null,null,null,null,null,null,null,null,null,null,null,null,null,null,null,null,null,null,null,129,null,null,null,null,13.3,null,null,null,null,null,null,null,null,null,null,null,null,null,null,null,null,130,{"$f":"IF(Cover!B133=\"\",\"\",Cover!B133)","v":""},{"$f":"IF(Cover!C133=\"\",\"\",Cover!C133)","v":""},{"$f":"IF(Cover!D133=\"\",\"\",Cover!D133)","v":""},{"$f":"IF(AND(ISBLANK(Cover!B133),ISBLANK(Cover!C133),ISBLANK(Cover!D133)),\"\",100-SUM(EP133:ER133))","v":""},null,null,null,null,null,null,null,null,null,""]
[null,null,null,null,null,null,null,null,null,null,null,null,null,null,null,null,null,null,null,null,null,"",{"$f":"IF(F134=\"\",\"\",IF(ISNUMBER(SEARCH(F134,\"d\")),IF(ISNUMBER(SEARCH(G134,\"c\")),\"CS\",IF(ISNUMBER(SEARCH(G134,\"u\")),\"UU\")),\"\"))","v":""},{"$f":"IF(F134=\"\",\"\",IF(ISNUMBER(SEARCH(F134,\"e\")),IF(ISNUMBER(SEARCH(G134,\"c\")),IF(ISNUMBER(SEARCH(H134,\"a\")),\"CS\",\"CU\"),IF(ISNUMBER(SEARCH(H134,\"a\")),\"US\",\"UU\")),\"\"))","v":""},{"$f":"IF(W134=\"\",X134,W134)","v":""},{"$f":"IF($Y134=\"cs\",1,IF($Y134=\"cu\",2,IF($Y134=\"us\",3,IF($Y134=\"uu\",4,\"\"))))","v":""},{"$f":"IF(A134=\"\",\"\",A134)","v":""},{"$f":"C134","v":0},1,{"$f":"IF(AA134<>\"\",SUMIF(AC:AC,AA134,AB:AB),\"\")","v":""},null,null,null,null,null,null,null,null,null,null,null,null,null,null,null,null,null,null,null,null,null,null,null,null,null,null,null,null,null,null,null,null,null,null,null,null,null,null,null,null,null,null,null,null,null,null,null,null,null,null,null,null,null,null,null,null,null,null,null,null,null,null,null,null,null,null,null,null,null,null,null,null,null,null,null,null,null,null,null,null,null,null,null,null,null,null,null,null,null,null,null,null,130,null,null,null,null,13.4,null,null,null,null,null,null,null,null,null,null,null,null,null,null,null,null,131,{"$f":"IF(Cover!B134=\"\",\"\",Cover!B134)","v":""},{"$f":"IF(Cover!C134=\"\",\"\",Cover!C134)","v":""},{"$f":"IF(Cover!D134=\"\",\"\",Cover!D134)","v":""},{"$f":"IF(AND(ISBLANK(Cover!B134),ISBLANK(Cover!C134),ISBLANK(Cover!D134)),\"\",100-SUM(EP134:ER134))","v":""},null,null,null,null,null,null,null,null,null,""]
[null,null,null,null,null,null,null,null,null,null,null,null,null,null,null,null,null,null,null,null,null,"","","","","","",0,{"$f":"IF(A135>A134,A135,AC134)","v":1},"",null,null,null,null,null,null,null,null,null,null,null,null,null,null,null,null,null,null,null,null,null,null,null,null,null,null,null,null,null,null,null,null,null,null,null,null,null,null,null,null,null,null,null,null,null,null,null,null,null,null,null,null,null,null,null,null,null,null,null,null,null,null,null,null,null,null,null,null,null,null,null,null,null,null,null,null,null,null,null,null,null,null,null,null,null,null,null,null,null,null,null,null,131,null,null,null,null,13.5,null,null,null,null,null,null,null,null,null,null,null,null,null,null,null,null,132,{"$f":"IF(Cover!B135=\"\",\"\",Cover!B135)","v":""},{"$f":"IF(Cover!C135=\"\",\"\",Cover!C135)","v":""},{"$f":"IF(Cover!D135=\"\",\"\",Cover!D135)","v":""},{"$f":"IF(AND(ISBLANK(Cover!B135),ISBLANK(Cover!C135),ISBLANK(Cover!D135)),\"\",100-SUM(EP135:ER135))","v":""},null,null,null,null,null,null,null,null,null,{"$f":"IF(E135=\"\",\"\",E135+1)","v":""}]
[null,null,null,null,null,null,null,null,null,null,null,null,null,null,null,null,null,null,null,null,null,"","","","","","",0,1,"",null,null,null,null,null,null,null,null,null,null,null,null,null,null,null,null,null,null,null,null,null,null,null,null,null,null,null,null,null,null,null,null,null,null,null,null,null,null,null,null,null,null,null,null,null,null,null,null,null,null,null,null,null,null,null,null,null,null,null,null,null,null,null,null,null,null,null,null,null,null,null,null,null,null,null,null,null,null,null,null,null,null,null,null,null,null,null,null,null,null,null,null,132,null,null,null,null,13.6,null,null,null,null,null,null,null,null,null,null,null,null,null,null,null,null,133,{"$f":"IF(Cover!B136=\"\",\"\",Cover!B136)","v":""},{"$f":"IF(Cover!C136=\"\",\"\",Cover!C136)","v":""},{"$f":"IF(Cover!D136=\"\",\"\",Cover!D136)","v":""},{"$f":"IF(AND(ISBLANK(Cover!B136),ISBLANK(Cover!C136),ISBLANK(Cover!D136)),\"\",100-SUM(EP136:ER136))","v":""},null,null,null,null,null,null,null,null,null,""]
[null,null,null,null,null,null,null,null,null,null,null,null,null,null,null,null,null,null,null,null,null,"","","","","","",0,1,"",null,null,null,null,null,null,null,null,null,null,null,null,null,null,null,null,null,null,null,null,null,null,null,null,null,null,null,null,null,null,null,null,null,null,null,null,null,null,null,null,null,null,null,null,null,null,null,null,null,null,null,null,null,null,null,null,null,null,null,null,null,null,null,null,null,null,null,null,null,null,null,null,null,null,null,null,null,null,null,null,null,null,null,null,null,null,null,null,null,null,null,null,133,null,null,null,null,13.7,null,null,null,null,null,null,null,null,null,null,null,null,null,null,null,null,134,{"$f":"IF(Cover!B137=\"\",\"\",Cover!B137)","v":""},{"$f":"IF(Cover!C137=\"\",\"\",Cover!C137)","v":""},{"$f":"IF(Cover!D137=\"\",\"\",Cover!D137)","v":""},{"$f":"IF(AND(ISBLANK(Cover!B137),ISBLANK(Cover!C137),ISBLANK(Cover!D137)),\"\",100-SUM(EP137:ER137))","v":""},null,null,null,null,null,null,null,null,null,""]
[null,null,null,null,null,null,null,null,null,null,null,null,null,null,null,null,null,null,null,null,null,"","","","","","",0,1,"",null,null,null,null,null,null,null,null,null,null,null,null,null,null,null,null,null,null,null,null,null,null,null,null,null,null,null,null,null,null,null,null,null,null,null,null,null,null,null,null,null,null,null,null,null,null,null,null,null,null,null,null,null,null,null,null,null,null,null,null,null,null,null,null,null,null,null,null,null,null,null,null,null,null,null,null,null,null,null,null,null,null,null,null,null,null,null,null,null,null,null,null,134,null,null,null,null,13.8,null,null,null,null,null,null,null,null,null,null,null,null,null,null,null,null,135,{"$f":"IF(Cover!B138=\"\",\"\",Cover!B138)","v":""},{"$f":"IF(Cover!C138=\"\",\"\",Cover!C138)","v":""},{"$f":"IF(Cover!D138=\"\",\"\",Cover!D138)","v":""},{"$f":"IF(AND(ISBLANK(Cover!B138),ISBLANK(Cover!C138),ISBLANK(Cover!D138)),\"\",100-SUM(EP138:ER138))","v":""},null,null,null,null,null,null,null,null,null,""]
[null,null,null,null,null,null,null,null,null,null,null,null,null,null,null,null,null,null,null,null,null,"","","","","","",0,1,"",null,null,null,null,null,null,null,null,null,null,null,null,null,null,null,null,null,null,null,null,null,null,null,null,null,null,null,null,null,null,null,null,null,null,null,null,null,null,null,null,null,null,null,null,null,null,null,null,null,null,null,null,null,null,null,null,null,null,null,null,null,null,null,null,null,null,null,null,null,null,null,null,null,null,null,null,null,null,null,null,null,null,null,null,null,null,null,null,null,null,null,null,135,null,null,null,null,13.9,null,null,null,null,null,null,null,null,null,null,null,null,null,null,null,null,136,{"$f":"IF(Cover!B139=\"\",\"\",Cover!B139)","v":""},{"$f":"IF(Cover!C139=\"\",\"\",Cover!C139)","v":""},{"$f":"IF(Cover!D139=\"\",\"\",Cover!D139)","v":""},{"$f":"IF(AND(ISBLANK(Cover!B139),ISBLANK(Cover!C139),ISBLANK(Cover!D139)),\"\",100-SUM(EP139:ER139))","v":""},null,null,null,null,null,null,null,null,null,""]
[null,null,null,null,null,null,null,null,null,null,null,null,null,null,null,null,null,null,null,null,null,"","","","","","",0,1,"",null,null,null,null,null,null,null,null,null,null,null,null,null,null,null,null,null,null,null,null,null,null,null,null,null,null,null,null,null,null,null,null,null,null,null,null,null,null,null,null,null,null,null,null,null,null,null,null,null,null,null,null,null,null,null,null,null,null,null,null,null,null,null,null,null,null,null,null,null,null,null,null,null,null,null,null,null,null,null,null,null,null,null,null,null,null,null,null,null,null,null,null,136,null,null,null,null,14,null,null,null,null,null,null,null,null,null,null,null,null,null,null,null,null,137,{"$f":"IF(Cover!B140=\"\",\"\",Cover!B140)","v":""},{"$f":"IF(Cover!C140=\"\",\"\",Cover!C140)","v":""},{"$f":"IF(Cover!D140=\"\",\"\",Cover!D140)","v":""},{"$f":"IF(AND(ISBLANK(Cover!B140),ISBLANK(Cover!C140),ISBLANK(Cover!D140)),\"\",100-SUM(EP140:ER140))","v":""},null,null,null,null,null,null,null,null,null,""]
[null,null,null,null,null,null,null,null,null,null,null,null,null,null,null,null,null,null,null,null,null,"","","","","","",0,1,"",null,null,null,null,null,null,null,null,null,null,null,null,null,null,null,null,null,null,null,null,null,null,null,null,null,null,null,null,null,null,null,null,null,null,null,null,null,null,null,null,null,null,null,null,null,null,null,null,null,null,null,null,null,null,null,null,null,null,null,null,null,null,null,null,null,null,null,null,null,null,null,null,null,null,null,null,null,null,null,null,null,null,null,null,null,null,null,null,null,null,null,null,137,null,null,null,null,14.1,null,null,null,null,null,null,null,null,null,null,null,null,null,null,null,null,138,{"$f":"IF(Cover!B141=\"\",\"\",Cover!B141)","v":""},{"$f":"IF(Cover!C141=\"\",\"\",Cover!C141)","v":""},{"$f":"IF(Cover!D141=\"\",\"\",Cover!D141)","v":""},{"$f":"IF(AND(ISBLANK(Cover!B141),ISBLANK(Cover!C141),ISBLANK(Cover!D141)),\"\",100-SUM(EP141:ER141))","v":""},null,null,null,null,null,null,null,null,null,""]
[null,null,null,null,null,null,null,null,null,null,null,null,null,null,null,null,null,null,null,null,null,"","","","","","",0,1,"",null,null,null,null,null,null,null,null,null,null,null,null,null,null,null,null,null,null,null,null,null,null,null,null,null,null,null,null,null,null,null,null,null,null,null,null,null,null,null,null,null,null,null,null,null,null,null,null,null,null,null,null,null,null,null,null,null,null,null,null,null,null,null,null,null,null,null,null,null,null,null,null,null,null,null,null,null,null,null,null,null,null,null,null,null,null,null,null,null,null,null,null,138,null,null,null,null,14.2,null,null,null,null,null,null,null,null,null,null,null,null,null,null,null,null,139,{"$f":"IF(Cover!B142=\"\",\"\",Cover!B142)","v":""},{"$f":"IF(Cover!C142=\"\",\"\",Cover!C142)","v":""},{"$f":"IF(Cover!D142=\"\",\"\",Cover!D142)","v":""},{"$f":"IF(AND(ISBLANK(Cover!B142),ISBLANK(Cover!C142),ISBLANK(Cover!D142)),\"\",100-SUM(EP142:ER142))","v":""},null,null,null,null,null,null,null,null,null,""]
[null,null,null,null,null,null,null,null,null,null,null,null,null,null,null,null,null,null,null,null,null,"","","","","","",0,1,"",null,null,null,null,null,null,null,null,null,null,null,null,null,null,null,null,null,null,null,null,null,null,null,null,null,null,null,null,null,null,null,null,null,null,null,null,null,null,null,null,null,null,null,null,null,null,null,null,null,null,null,null,null,null,null,null,null,null,null,null,null,null,null,null,null,null,null,null,null,null,null,null,null,null,null,null,null,null,null,null,null,null,null,null,null,null,null,null,null,null,null,null,139,null,null,null,null,14.3,null,null,null,null,null,null,null,null,null,null,null,null,null,null,null,null,140,{"$f":"IF(Cover!B143=\"\",\"\",Cover!B143)","v":""},{"$f":"IF(Cover!C143=\"\",\"\",Cover!C143)","v":""},{"$f":"IF(Cover!D143=\"\",\"\",Cover!D143)","v":""},{"$f":"IF(AND(ISBLANK(Cover!B143),ISBLANK(Cover!C143),ISBLANK(Cover!D143)),\"\",100-SUM(EP143:ER143))","v":""},null,null,null,null,null,null,null,null,null,""]
[null,null,null,null,null,null,null,null,null,null,null,null,null,null,null,null,null,null,null,null,null,"","","","","","",0,1,"",null,null,null,null,null,null,null,null,null,null,null,null,null,null,null,null,null,null,null,null,null,null,null,null,null,null,null,null,null,null,null,null,null,null,null,null,null,null,null,null,null,null,null,null,null,null,null,null,null,null,null,null,null,null,null,null,null,null,null,null,null,null,null,null,null,null,null,null,null,null,null,null,null,null,null,null,null,null,null,null,null,null,null,null,null,null,null,null,null,null,null,null,140,null,null,null,null,14.4,null,null,null,null,null,null,null,null,null,null,null,null,null,null,null,null,141,{"$f":"IF(Cover!B144=\"\",\"\",Cover!B144)","v":""},{"$f":"IF(Cover!C144=\"\",\"\",Cover!C144)","v":""},{"$f":"IF(Cover!D144=\"\",\"\",Cover!D144)","v":""},{"$f":"IF(AND(ISBLANK(Cover!B144),ISBLANK(Cover!C144),ISBLANK(Cover!D144)),\"\",100-SUM(EP144:ER144))","v":""},null,null,null,null,null,null,null,null,null,""]
[null,null,null,null,null,null,null,null,null,null,null,null,null,null,null,null,null,null,null,null,null,"","","","","","",0,1,"",null,null,null,null,null,null,null,null,null,null,null,null,null,null,null,null,null,null,null,null,null,null,null,null,null,null,null,null,null,null,null,null,null,null,null,null,null,null,null,null,null,null,null,null,null,null,null,null,null,null,null,null,null,null,null,null,null,null,null,null,null,null,null,null,null,null,null,null,null,null,null,null,null,null,null,null,null,null,null,null,null,null,null,null,null,null,null,null,null,null,null,null,141,null,null,null,null,14.5,null,null,null,null,null,null,null,null,null,null,null,null,null,null,null,null,142,{"$f":"IF(Cover!B145=\"\",\"\",Cover!B145)","v":""},{"$f":"IF(Cover!C145=\"\",\"\",Cover!C145)","v":""},{"$f":"IF(Cover!D145=\"\",\"\",Cover!D145)","v":""},{"$f":"IF(AND(ISBLANK(Cover!B145),ISBLANK(Cover!C145),ISBLANK(Cover!D145)),\"\",100-SUM(EP145:ER145))","v":""},null,null,null,null,null,null,null,null,null,""]
[null,null,null,null,null,null,null,null,null,null,null,null,null,null,null,null,null,null,null,null,null,"","","","","","",0,1,"",null,null,null,null,null,null,null,null,null,null,null,null,null,null,null,null,null,null,null,null,null,null,null,null,null,null,null,null,null,null,null,null,null,null,null,null,null,null,null,null,null,null,null,null,null,null,null,null,null,null,null,null,null,null,null,null,null,null,null,null,null,null,null,null,null,null,null,null,null,null,null,null,null,null,null,null,null,null,null,null,null,null,null,null,null,null,null,null,null,null,null,null,142,null,null,null,null,14.6,null,null,null,null,null,null,null,null,null,null,null,null,null,null,null,null,143,{"$f":"IF(Cover!B146=\"\",\"\",Cover!B146)","v":""},{"$f":"IF(Cover!C146=\"\",\"\",Cover!C146)","v":""},{"$f":"IF(Cover!D146=\"\",\"\",Cover!D146)","v":""},{"$f":"IF(AND(ISBLANK(Cover!B146),ISBLANK(Cover!C146),ISBLANK(Cover!D146)),\"\",100-SUM(EP146:ER146))","v":""},null,null,null,null,null,null,null,null,null,""]
[null,null,null,null,null,null,null,null,null,null,null,null,null,null,null,null,null,null,null,null,null,"","","","","","",0,1,"",null,null,null,null,null,null,null,null,null,null,null,null,null,null,null,null,null,null,null,null,null,null,null,null,null,null,null,null,null,null,null,null,null,null,null,null,null,null,null,null,null,null,null,null,null,null,null,null,null,null,null,null,null,null,null,null,null,null,null,null,null,null,null,null,null,null,null,null,null,null,null,null,null,null,null,null,null,null,null,null,null,null,null,null,null,null,null,null,null,null,null,null,143,null,null,null,null,14.7,null,null,null,null,null,null,null,null,null,null,null,null,null,null,null,null,144,{"$f":"IF(Cover!B147=\"\",\"\",Cover!B147)","v":""},{"$f":"IF(Cover!C147=\"\",\"\",Cover!C147)","v":""},{"$f":"IF(Cover!D147=\"\",\"\",Cover!D147)","v":""},{"$f":"IF(AND(ISBLANK(Cover!B147),ISBLANK(Cover!C147),ISBLANK(Cover!D147)),\"\",100-SUM(EP147:ER147))","v":""},null,null,null,null,null,null,null,null,null,""]
[null,null,null,null,null,null,null,null,null,null,null,null,null,null,null,null,null,null,null,null,null,"","","","","","",0,1,"",null,null,null,null,null,null,null,null,null,null,null,null,null,null,null,null,null,null,null,null,null,null,null,null,null,null,null,null,null,null,null,null,null,null,null,null,null,null,null,null,null,null,null,null,null,null,null,null,null,null,null,null,null,null,null,null,null,null,null,null,null,null,null,null,null,null,null,null,null,null,null,null,null,null,null,null,null,null,null,null,null,null,null,null,null,null,null,null,null,null,null,null,144,null,null,null,null,14.8,null,null,null,null,null,null,null,null,null,null,null,null,null,null,null,null,145,{"$f":"IF(Cover!B148=\"\",\"\",Cover!B148)","v":""},{"$f":"IF(Cover!C148=\"\",\"\",Cover!C148)","v":""},{"$f":"IF(Cover!D148=\"\",\"\",Cover!D148)","v":""},{"$f":"IF(AND(ISBLANK(Cover!B148),ISBLANK(Cover!C148),ISBLANK(Cover!D148)),\"\",100-SUM(EP148:ER148))","v":""},null,null,null,null,null,null,null,null,null,""]
[null,null,null,null,null,null,null,null,null,null,null,null,null,null,null,null,null,null,null,null,null,"","","","","","",0,1,"",null,null,null,null,null,null,null,null,null,null,null,null,null,null,null,null,null,null,null,null,null,null,null,null,null,null,null,null,null,null,null,null,null,null,null,null,null,null,null,null,null,null,null,null,null,null,null,null,null,null,null,null,null,null,null,null,null,null,null,null,null,null,null,null,null,null,null,null,null,null,null,null,null,null,null,null,null,null,null,null,null,null,null,null,null,null,null,null,null,null,null,null,145,null,null,null,null,14.9,null,null,null,null,null,null,null,null,null,null,null,null,null,null,null,null,146,{"$f":"IF(Cover!B149=\"\",\"\",Cover!B149)","v":""},{"$f":"IF(Cover!C149=\"\",\"\",Cover!C149)","v":""},{"$f":"IF(Cover!D149=\"\",\"\",Cover!D149)","v":""},{"$f":"IF(AND(ISBLANK(Cover!B149),ISBLANK(Cover!C149),ISBLANK(Cover!D149)),\"\",100-SUM(EP149:ER149))","v":""},null,null,null,null,null,null,null,null,null,""]
[null,null,null,null,null,null,null,null,null,null,null,null,null,null,null,null,null,null,null,null,null,"","","","","","",0,1,"",null,null,null,null,null,null,null,null,null,null,null,null,null,null,null,null,null,null,null,null,null,null,null,null,null,null,null,null,null,null,null,null,null,null,null,null,null,null,null,null,null,null,null,null,null,null,null,null,null,null,null,null,null,null,null,null,null,null,null,null,null,null,null,null,null,null,null,null,null,null,null,null,null,null,null,null,null,null,null,null,null,null,null,null,null,null,null,null,null,null,null,null,146,null,null,null,null,15,null,null,null,null,null,null,null,null,null,null,null,null,null,null,null,null,147,{"$f":"IF(Cover!B150=\"\",\"\",Cover!B150)","v":""},{"$f":"IF(Cover!C150=\"\",\"\",Cover!C150)","v":""},{"$f":"IF(Cover!D150=\"\",\"\",Cover!D150)","v":""},{"$f":"IF(AND(ISBLANK(Cover!B150),ISBLANK(Cover!C150),ISBLANK(Cover!D150)),\"\",100-SUM(EP150:ER150))","v":""},null,null,null,null,null,null,null,null,null,""]
[null,null,null,null,null,null,null,null,null,null,null,null,null,null,null,null,null,null,null,null,null,"","","","","","",0,1,"",null,null,null,null,null,null,null,null,null,null,null,null,null,null,null,null,null,null,null,null,null,null,null,null,null,null,null,null,null,null,null,null,null,null,null,null,null,null,null,null,null,null,null,null,null,null,null,null,null,null,null,null,null,null,null,null,null,null,null,null,null,null,null,null,null,null,null,null,null,null,null,null,null,null,null,null,null,null,null,null,null,null,null,null,null,null,null,null,null,null,null,null,147,null,null,null,null,15.1,null,null,null,null,null,null,null,null,null,null,null,null,null,null,null,null,148,{"$f":"IF(Cover!B151=\"\",\"\",Cover!B151)","v":""},{"$f":"IF(Cover!C151=\"\",\"\",Cover!C151)","v":""},{"$f":"IF(Cover!D151=\"\",\"\",Cover!D151)","v":""},{"$f":"IF(AND(ISBLANK(Cover!B151),ISBLANK(Cover!C151),ISBLANK(Cover!D151)),\"\",100-SUM(EP151:ER151))","v":""},null,null,null,null,null,null,null,null,null,""]
[null,null,null,null,null,null,null,null,null,null,null,null,null,null,null,null,null,null,null,null,null,"","","","","","",0,1,"",null,null,null,null,null,null,null,null,null,null,null,null,null,null,null,null,null,null,null,null,null,null,null,null,null,null,null,null,null,null,null,null,null,null,null,null,null,null,null,null,null,null,null,null,null,null,null,null,null,null,null,null,null,null,null,null,null,null,null,null,null,null,null,null,null,null,null,null,null,null,null,null,null,null,null,null,null,null,null,null,null,null,null,null,null,null,null,null,null,null,null,null,148,null,null,null,null,15.2,null,null,null,null,null,null,null,null,null,null,null,null,null,null,null,null,149,{"$f":"IF(Cover!B152=\"\",\"\",Cover!B152)","v":""},{"$f":"IF(Cover!C152=\"\",\"\",Cover!C152)","v":""},{"$f":"IF(Cover!D152=\"\",\"\",Cover!D152)","v":""},{"$f":"IF(AND(ISBLANK(Cover!B152),ISBLANK(Cover!C152),ISBLANK(Cover!D152)),\"\",100-SUM(EP152:ER152))","v":""},null,null,null,null,null,null,null,null,null,""]
[null,null,null,null,null,null,null,null,null,null,null,null,null,null,null,null,null,null,null,null,null,"","","","","","",0,1,"",null,null,null,null,null,null,null,null,null,null,null,null,null,null,null,null,null,null,null,null,null,null,null,null,null,null,null,null,null,null,null,null,null,null,null,null,null,null,null,null,null,null,null,null,null,null,null,null,null,null,null,null,null,null,null,null,null,null,null,null,null,null,null,null,null,null,null,null,null,null,null,null,null,null,null,null,null,null,null,null,null,null,null,null,null,null,null,null,null,null,null,null,149,null,null,null,null,15.3,null,null,null,null,null,null,null,null,null,null,null,null,null,null,null,null,150,{"$f":"IF(Cover!B153=\"\",\"\",Cover!B153)","v":""},{"$f":"IF(Cover!C153=\"\",\"\",Cover!C153)","v":""},{"$f":"IF(Cover!D153=\"\",\"\",Cover!D153)","v":""},{"$f":"IF(AND(ISBLANK(Cover!B153),ISBLANK(Cover!C153),ISBLANK(Cover!D153)),\"\",100-SUM(EP153:ER153))","v":""},null,null,null,null,null,null,null,null,null,""]
[null,null,null,null,null,null,null,null,null,null,null,null,null,null,null,null,null,null,null,null,null,"","","","","","",0,1,"",null,null,null,null,null,null,null,null,null,null,null,null,null,null,null,null,null,null,null,null,null,null,null,null,null,null,null,null,null,null,null,null,null,null,null,null,null,null,null,null,null,null,null,null,null,null,null,null,null,null,null,null,null,null,null,null,null,null,null,null,null,null,null,null,null,null,null,null,null,null,null,null,null,null,null,null,null,null,null,null,null,null,null,null,null,null,null,null,null,null,null,null,150,null,null,null,null,15.4,null,null,null,null,null,null,null,null,null,null,null,null,null,null,null,null,151,{"$f":"IF(Cover!B154=\"\",\"\",Cover!B154)","v":""},{"$f":"IF(Cover!C154=\"\",\"\",Cover!C154)","v":""},{"$f":"IF(Cover!D154=\"\",\"\",Cover!D154)","v":""},{"$f":"IF(AND(ISBLANK(Cover!B154),ISBLANK(Cover!C154),ISBLANK(Cover!D154)),\"\",100-SUM(EP154:ER154))","v":""},null,null,null,null,null,null,null,null,null,""]
[null,null,null,null,null,null,null,null,null,null,null,null,null,null,null,null,null,null,null,null,null,"","","","","","",0,1,"",null,null,null,null,null,null,null,null,null,null,null,null,null,null,null,null,null,null,null,null,null,null,null,null,null,null,null,null,null,null,null,null,null,null,null,null,null,null,null,null,null,null,null,null,null,null,null,null,null,null,null,null,null,null,null,null,null,null,null,null,null,null,null,null,null,null,null,null,null,null,null,null,null,null,null,null,null,null,null,null,null,null,null,null,null,null,null,null,null,null,null,null,151,null,null,null,null,15.5,null,null,null,null,null,null,null,null,null,null,null,null,null,null,null,null,152,{"$f":"IF(Cover!B155=\"\",\"\",Cover!B155)","v":""},{"$f":"IF(Cover!C155=\"\",\"\",Cover!C155)","v":""},{"$f":"IF(Cover!D155=\"\",\"\",Cover!D155)","v":""},{"$f":"IF(AND(ISBLANK(Cover!B155),ISBLANK(Cover!C155),ISBLANK(Cover!D155)),\"\",100-SUM(EP155:ER155))","v":""},null,null,null,null,null,null,null,null,null,""]
[null,null,null,null,null,null,null,null,null,null,null,null,null,null,null,null,null,null,null,null,null,"","","","","","",0,1,"",null,null,null,null,null,null,null,null,null,null,null,null,null,null,null,null,null,null,null,null,null,null,null,null,null,null,null,null,null,null,null,null,null,null,null,null,null,null,null,null,null,null,null,null,null,null,null,null,null,null,null,null,null,null,null,null,null,null,null,null,null,null,null,null,null,null,null,null,null,null,null,null,null,null,null,null,null,null,null,null,null,null,null,null,null,null,null,null,null,null,null,null,152,null,null,null,null,15.6,null,null,null,null,null,null,null,null,null,null,null,null,null,null,null,null,153,{"$f":"IF(Cover!B156=\"\",\"\",Cover!B156)","v":""},{"$f":"IF(Cover!C156=\"\",\"\",Cover!C156)","v":""},{"$f":"IF(Cover!D156=\"\",\"\",Cover!D156)","v":""},{"$f":"IF(AND(ISBLANK(Cover!B156),ISBLANK(Cover!C156),ISBLANK(Cover!D156)),\"\",100-SUM(EP156:ER156))","v":""},null,null,null,null,null,null,null,null,null,""]
[null,null,null,null,null,null,null,null,null,null,null,null,null,null,null,null,null,null,null,null,null,"","","","","","",0,1,"",null,null,null,null,null,null,null,null,null,null,null,null,null,null,null,null,null,null,null,null,null,null,null,null,null,null,null,null,null,null,null,null,null,null,null,null,null,null,null,null,null,null,null,null,null,null,null,null,null,null,null,null,null,null,null,null,null,null,null,null,null,null,null,null,null,null,null,null,null,null,null,null,null,null,null,null,null,null,null,null,null,null,null,null,null,null,null,null,null,null,null,null,153,null,null,null,null,15.7,null,null,null,null,null,null,null,null,null,null,null,null,null,null,null,null,154,{"$f":"IF(Cover!B157=\"\",\"\",Cover!B157)","v":""},{"$f":"IF(Cover!C157=\"\",\"\",Cover!C157)","v":""},{"$f":"IF(Cover!D157=\"\",\"\",Cover!D157)","v":""},{"$f":"IF(AND(ISBLANK(Cover!B157),ISBLANK(Cover!C157),ISBLANK(Cover!D157)),\"\",100-SUM(EP157:ER157))","v":""},null,null,null,null,null,null,null,null,null,""]
[null,null,null,null,null,null,null,null,null,null,null,null,null,null,null,null,null,null,null,null,null,"","","","","","",0,1,"",null,null,null,null,null,null,null,null,null,null,null,null,null,null,null,null,null,null,null,null,null,null,null,null,null,null,null,null,null,null,null,null,null,null,null,null,null,null,null,null,null,null,null,null,null,null,null,null,null,null,null,null,null,null,null,null,null,null,null,null,null,null,null,null,null,null,null,null,null,null,null,null,null,null,null,null,null,null,null,null,null,null,null,null,null,null,null,null,null,null,null,null,154,null,null,null,null,15.8,null,null,null,null,null,null,null,null,null,null,null,null,null,null,null,null,155,{"$f":"IF(Cover!B158=\"\",\"\",Cover!B158)","v":""},{"$f":"IF(Cover!C158=\"\",\"\",Cover!C158)","v":""},{"$f":"IF(Cover!D158=\"\",\"\",Cover!D158)","v":""},{"$f":"IF(AND(ISBLANK(Cover!B158),ISBLANK(Cover!C158),ISBLANK(Cover!D158)),\"\",100-SUM(EP158:ER158))","v":""},null,null,null,null,null,null,null,null,null,""]
[null,null,null,null,null,null,null,null,null,null,null,null,null,null,null,null,null,null,null,null,null,"","","","","","",0,1,"",null,null,null,null,null,null,null,null,null,null,null,null,null,null,null,null,null,null,null,null,null,null,null,null,null,null,null,null,null,null,null,null,null,null,null,null,null,null,null,null,null,null,null,null,null,null,null,null,null,null,null,null,null,null,null,null,null,null,null,null,null,null,null,null,null,null,null,null,null,null,null,null,null,null,null,null,null,null,null,null,null,null,null,null,null,null,null,null,null,null,null,null,155,null,null,null,null,15.9,null,null,null,null,null,null,null,null,null,null,null,null,null,null,null,null,156,{"$f":"IF(Cover!B159=\"\",\"\",Cover!B159)","v":""},{"$f":"IF(Cover!C159=\"\",\"\",Cover!C159)","v":""},{"$f":"IF(Cover!D159=\"\",\"\",Cover!D159)","v":""},{"$f":"IF(AND(ISBLANK(Cover!B159),ISBLANK(Cover!C159),ISBLANK(Cover!D159)),\"\",100-SUM(EP159:ER159))","v":""},null,null,null,null,null,null,null,null,null,""]
[null,null,null,null,null,null,null,null,null,null,null,null,null,null,null,null,null,null,null,null,null,"","","","","","",0,1,"",null,null,null,null,null,null,null,null,null,null,null,null,null,null,null,null,null,null,null,null,null,null,null,null,null,null,null,null,null,null,null,null,null,null,null,null,null,null,null,null,null,null,null,null,null,null,null,null,null,null,null,null,null,null,null,null,null,null,null,null,null,null,null,null,null,null,null,null,null,null,null,null,null,null,null,null,null,null,null,null,null,null,null,null,null,null,null,null,null,null,null,null,156,null,null,null,null,16,null,null,null,null,null,null,null,null,null,null,null,null,null,null,null,null,157,{"$f":"IF(Cover!B160=\"\",\"\",Cover!B160)","v":""},{"$f":"IF(Cover!C160=\"\",\"\",Cover!C160)","v":""},{"$f":"IF(Cover!D160=\"\",\"\",Cover!D160)","v":""},{"$f":"IF(AND(ISBLANK(Cover!B160),ISBLANK(Cover!C160),ISBLANK(Cover!D160)),\"\",100-SUM(EP160:ER160))","v":""},null,null,null,null,null,null,null,null,null,""]
[null,null,null,null,null,null,null,null,null,null,null,null,null,null,null,null,null,null,null,null,null,"","","","","","",0,1,"",null,null,null,null,null,null,null,null,null,null,null,null,null,null,null,null,null,null,null,null,null,null,null,null,null,null,null,null,null,null,null,null,null,null,null,null,null,null,null,null,null,null,null,null,null,null,null,null,null,null,null,null,null,null,null,null,null,null,null,null,null,null,null,null,null,null,null,null,null,null,null,null,null,null,null,null,null,null,null,null,null,null,null,null,null,null,null,null,null,null,null,null,157,null,null,null,null,16.100000000000001,null,null,null,null,null,null,null,null,null,null,null,null,null,null,null,null,158,{"$f":"IF(Cover!B161=\"\",\"\",Cover!B161)","v":""},{"$f":"IF(Cover!C161=\"\",\"\",Cover!C161)","v":""},{"$f":"IF(Cover!D161=\"\",\"\",Cover!D161)","v":""},{"$f":"IF(AND(ISBLANK(Cover!B161),ISBLANK(Cover!C161),ISBLANK(Cover!D161)),\"\",100-SUM(EP161:ER161))","v":""},null,null,null,null,null,null,null,null,null,""]
[null,null,null,null,null,null,null,null,null,null,null,null,null,null,null,null,null,null,null,null,null,"","","","","","",0,1,"",null,null,null,null,null,null,null,null,null,null,null,null,null,null,null,null,null,null,null,null,null,null,null,null,null,null,null,null,null,null,null,null,null,null,null,null,null,null,null,null,null,null,null,null,null,null,null,null,null,null,null,null,null,null,null,null,null,null,null,null,null,null,null,null,null,null,null,null,null,null,null,null,null,null,null,null,null,null,null,null,null,null,null,null,null,null,null,null,null,null,null,null,158,null,null,null,null,16.2,null,null,null,null,null,null,null,null,null,null,null,null,null,null,null,null,159,{"$f":"IF(Cover!B162=\"\",\"\",Cover!B162)","v":""},{"$f":"IF(Cover!C162=\"\",\"\",Cover!C162)","v":""},{"$f":"IF(Cover!D162=\"\",\"\",Cover!D162)","v":""},{"$f":"IF(AND(ISBLANK(Cover!B162),ISBLANK(Cover!C162),ISBLANK(Cover!D162)),\"\",100-SUM(EP162:ER162))","v":""},null,null,null,null,null,null,null,null,null,""]
[null,null,null,null,null,null,null,null,null,null,null,null,null,null,null,null,null,null,null,null,null,"","","","","","",0,1,"",null,null,null,null,null,null,null,null,null,null,null,null,null,null,null,null,null,null,null,null,null,null,null,null,null,null,null,null,null,null,null,null,null,null,null,null,null,null,null,null,null,null,null,null,null,null,null,null,null,null,null,null,null,null,null,null,null,null,null,null,null,null,null,null,null,null,null,null,null,null,null,null,null,null,null,null,null,null,null,null,null,null,null,null,null,null,null,null,null,null,null,null,159,null,null,null,null,16.3,null,null,null,null,null,null,null,null,null,null,null,null,null,null,null,null,160,{"$f":"IF(Cover!B163=\"\",\"\",Cover!B163)","v":""},{"$f":"IF(Cover!C163=\"\",\"\",Cover!C163)","v":""},{"$f":"IF(Cover!D163=\"\",\"\",Cover!D163)","v":""},{"$f":"IF(AND(ISBLANK(Cover!B163),ISBLANK(Cover!C163),ISBLANK(Cover!D163)),\"\",100-SUM(EP163:ER163))","v":""},null,null,null,null,null,null,null,null,null,""]
[null,null,null,null,null,null,null,null,null,null,null,null,null,null,null,null,null,null,null,null,null,"","","","","","",0,1,"",null,null,null,null,null,null,null,null,null,null,null,null,null,null,null,null,null,null,null,null,null,null,null,null,null,null,null,null,null,null,null,null,null,null,null,null,null,null,null,null,null,null,null,null,null,null,null,null,null,null,null,null,null,null,null,null,null,null,null,null,null,null,null,null,null,null,null,null,null,null,null,null,null,null,null,null,null,null,null,null,null,null,null,null,null,null,null,null,null,null,null,null,160,null,null,null,null,16.399999999999999,null,null,null,null,null,null,null,null,null,null,null,null,null,null,null,null,161,{"$f":"IF(Cover!B164=\"\",\"\",Cover!B164)","v":""},{"$f":"IF(Cover!C164=\"\",\"\",Cover!C164)","v":""},{"$f":"IF(Cover!D164=\"\",\"\",Cover!D164)","v":""},{"$f":"IF(AND(ISBLANK(Cover!B164),ISBLANK(Cover!C164),ISBLANK(Cover!D164)),\"\",100-SUM(EP164:ER164))","v":""},null,null,null,null,null,null,null,null,null,""]
[null,null,null,null,null,null,null,null,null,null,null,null,null,null,null,null,null,null,null,null,null,"","","","","","",0,1,"",null,null,null,null,null,null,null,null,null,null,null,null,null,null,null,null,null,null,null,null,null,null,null,null,null,null,null,null,null,null,null,null,null,null,null,null,null,null,null,null,null,null,null,null,null,null,null,null,null,null,null,null,null,null,null,null,null,null,null,null,null,null,null,null,null,null,null,null,null,null,null,null,null,null,null,null,null,null,null,null,null,null,null,null,null,null,null,null,null,null,null,null,161,null,null,null,null,16.5,null,null,null,null,null,null,null,null,null,null,null,null,null,null,null,null,162,{"$f":"IF(Cover!B165=\"\",\"\",Cover!B165)","v":""},{"$f":"IF(Cover!C165=\"\",\"\",Cover!C165)","v":""},{"$f":"IF(Cover!D165=\"\",\"\",Cover!D165)","v":""},{"$f":"IF(AND(ISBLANK(Cover!B165),ISBLANK(Cover!C165),ISBLANK(Cover!D165)),\"\",100-SUM(EP165:ER165))","v":""},null,null,null,null,null,null,null,null,null,""]
[null,null,null,null,null,null,null,null,null,null,null,null,null,null,null,null,null,null,null,null,null,"","","","","","",0,1,"",null,null,null,null,null,null,null,null,null,null,null,null,null,null,null,null,null,null,null,null,null,null,null,null,null,null,null,null,null,null,null,null,null,null,null,null,null,null,null,null,null,null,null,null,null,null,null,null,null,null,null,null,null,null,null,null,null,null,null,null,null,null,null,null,null,null,null,null,null,null,null,null,null,null,null,null,null,null,null,null,null,null,null,null,null,null,null,null,null,null,null,null,162,null,null,null,null,16.600000000000001,null,null,null,null,null,null,null,null,null,null,null,null,null,null,null,null,163,{"$f":"IF(Cover!B166=\"\",\"\",Cover!B166)","v":""},{"$f":"IF(Cover!C166=\"\",\"\",Cover!C166)","v":""},{"$f":"IF(Cover!D166=\"\",\"\",Cover!D166)","v":""},{"$f":"IF(AND(ISBLANK(Cover!B166),ISBLANK(Cover!C166),ISBLANK(Cover!D166)),\"\",100-SUM(EP166:ER166))","v":""},null,null,null,null,null,null,null,null,null,""]
[null,null,null,null,null,null,null,null,null,null,null,null,null,null,null,null,null,null,null,null,null,"","","","","","",0,1,"",null,null,null,null,null,null,null,null,null,null,null,null,null,null,null,null,null,null,null,null,null,null,null,null,null,null,null,null,null,null,null,null,null,null,null,null,null,null,null,null,null,null,null,null,null,null,null,null,null,null,null,null,null,null,null,null,null,null,null,null,null,null,null,null,null,null,null,null,null,null,null,null,null,null,null,null,null,null,null,null,null,null,null,null,null,null,null,null,null,null,null,null,163,null,null,null,null,16.7,null,null,null,null,null,null,null,null,null,null,null,null,null,null,null,null,164,{"$f":"IF(Cover!B167=\"\",\"\",Cover!B167)","v":""},{"$f":"IF(Cover!C167=\"\",\"\",Cover!C167)","v":""},{"$f":"IF(Cover!D167=\"\",\"\",Cover!D167)","v":""},{"$f":"IF(AND(ISBLANK(Cover!B167),ISBLANK(Cover!C167),ISBLANK(Cover!D167)),\"\",100-SUM(EP167:ER167))","v":""},null,null,null,null,null,null,null,null,null,""]
[null,null,null,null,null,null,null,null,null,null,null,null,null,null,null,null,null,null,null,null,null,"","","","","","",0,1,"",null,null,null,null,null,null,null,null,null,null,null,null,null,null,null,null,null,null,null,null,null,null,null,null,null,null,null,null,null,null,null,null,null,null,null,null,null,null,null,null,null,null,null,null,null,null,null,null,null,null,null,null,null,null,null,null,null,null,null,null,null,null,null,null,null,null,null,null,null,null,null,null,null,null,null,null,null,null,null,null,null,null,null,null,null,null,null,null,null,null,null,null,164,null,null,null,null,16.8,null,null,null,null,null,null,null,null,null,null,null,null,null,null,null,null,165,{"$f":"IF(Cover!B168=\"\",\"\",Cover!B168)","v":""},{"$f":"IF(Cover!C168=\"\",\"\",Cover!C168)","v":""},{"$f":"IF(Cover!D168=\"\",\"\",Cover!D168)","v":""},{"$f":"IF(AND(ISBLANK(Cover!B168),ISBLANK(Cover!C168),ISBLANK(Cover!D168)),\"\",100-SUM(EP168:ER168))","v":""},null,null,null,null,null,null,null,null,null,""]
[null,null,null,null,null,null,null,null,null,null,null,null,null,null,null,null,null,null,null,null,null,"","","","","","",0,1,"",null,null,null,null,null,null,null,null,null,null,null,null,null,null,null,null,null,null,null,null,null,null,null,null,null,null,null,null,null,null,null,null,null,null,null,null,null,null,null,null,null,null,null,null,null,null,null,null,null,null,null,null,null,null,null,null,null,null,null,null,null,null,null,null,null,null,null,null,null,null,null,null,null,null,null,null,null,null,null,null,null,null,null,null,null,null,null,null,null,null,null,null,165,null,null,null,null,16.899999999999999,null,null,null,null,null,null,null,null,null,null,null,null,null,null,null,null,166,{"$f":"IF(Cover!B169=\"\",\"\",Cover!B169)","v":""},{"$f":"IF(Cover!C169=\"\",\"\",Cover!C169)","v":""},{"$f":"IF(Cover!D169=\"\",\"\",Cover!D169)","v":""},{"$f":"IF(AND(ISBLANK(Cover!B169),ISBLANK(Cover!C169),ISBLANK(Cover!D169)),\"\",100-SUM(EP169:ER169))","v":""},null,null,null,null,null,null,null,null,null,""]
[null,null,null,null,null,null,null,null,null,null,null,null,null,null,null,null,null,null,null,null,null,"","","","","","",0,1,"",null,null,null,null,null,null,null,null,null,null,null,null,null,null,null,null,null,null,null,null,null,null,null,null,null,null,null,null,null,null,null,null,null,null,null,null,null,null,null,null,null,null,null,null,null,null,null,null,null,null,null,null,null,null,null,null,null,null,null,null,null,null,null,null,null,null,null,null,null,null,null,null,null,null,null,null,null,null,null,null,null,null,null,null,null,null,null,null,null,null,null,null,166,null,null,null,null,17,null,null,null,null,null,null,null,null,null,null,null,null,null,null,null,null,167,{"$f":"IF(Cover!B170=\"\",\"\",Cover!B170)","v":""},{"$f":"IF(Cover!C170=\"\",\"\",Cover!C170)","v":""},{"$f":"IF(Cover!D170=\"\",\"\",Cover!D170)","v":""},{"$f":"IF(AND(ISBLANK(Cover!B170),ISBLANK(Cover!C170),ISBLANK(Cover!D170)),\"\",100-SUM(EP170:ER170))","v":""},null,null,null,null,null,null,null,null,null,""]
[null,null,null,null,null,null,null,null,null,null,null,null,null,null,null,null,null,null,null,null,null,"","","","","","",0,1,"",null,null,null,null,null,null,null,null,null,null,null,null,null,null,null,null,null,null,null,null,null,null,null,null,null,null,null,null,null,null,null,null,null,null,null,null,null,null,null,null,null,null,null,null,null,null,null,null,null,null,null,null,null,null,null,null,null,null,null,null,null,null,null,null,null,null,null,null,null,null,null,null,null,null,null,null,null,null,null,null,null,null,null,null,null,null,null,null,null,null,null,null,167,null,null,null,null,17.100000000000001,null,null,null,null,null,null,null,null,null,null,null,null,null,null,null,null,168,{"$f":"IF(Cover!B171=\"\",\"\",Cover!B171)","v":""},{"$f":"IF(Cover!C171=\"\",\"\",Cover!C171)","v":""},{"$f":"IF(Cover!D171=\"\",\"\",Cover!D171)","v":""},{"$f":"IF(AND(ISBLANK(Cover!B171),ISBLANK(Cover!C171),ISBLANK(Cover!D171)),\"\",100-SUM(EP171:ER171))","v":""},null,null,null,null,null,null,null,null,null,""]
[null,null,null,null,null,null,null,null,null,null,null,null,null,null,null,null,null,null,null,null,null,"","","","","","",0,1,"",null,null,null,null,null,null,null,null,null,null,null,null,null,null,null,null,null,null,null,null,null,null,null,null,null,null,null,null,null,null,null,null,null,null,null,null,null,null,null,null,null,null,null,null,null,null,null,null,null,null,null,null,null,null,null,null,null,null,null,null,null,null,null,null,null,null,null,null,null,null,null,null,null,null,null,null,null,null,null,null,null,null,null,null,null,null,null,null,null,null,null,null,168,null,null,null,null,17.2,null,null,null,null,null,null,null,null,null,null,null,null,null,null,null,null,169,{"$f":"IF(Cover!B172=\"\",\"\",Cover!B172)","v":""},{"$f":"IF(Cover!C172=\"\",\"\",Cover!C172)","v":""},{"$f":"IF(Cover!D172=\"\",\"\",Cover!D172)","v":""},{"$f":"IF(AND(ISBLANK(Cover!B172),ISBLANK(Cover!C172),ISBLANK(Cover!D172)),\"\",100-SUM(EP172:ER172))","v":""},null,null,null,null,null,null,null,null,null,""]
[null,null,null,null,null,null,null,null,null,null,null,null,null,null,null,null,null,null,null,null,null,"","","","","","",0,1,"",null,null,null,null,null,null,null,null,null,null,null,null,null,null,null,null,null,null,null,null,null,null,null,null,null,null,null,null,null,null,null,null,null,null,null,null,null,null,null,null,null,null,null,null,null,null,null,null,null,null,null,null,null,null,null,null,null,null,null,null,null,null,null,null,null,null,null,null,null,null,null,null,null,null,null,null,null,null,null,null,null,null,null,null,null,null,null,null,null,null,null,null,169,null,null,null,null,17.3,null,null,null,null,null,null,null,null,null,null,null,null,null,null,null,null,170,{"$f":"IF(Cover!B173=\"\",\"\",Cover!B173)","v":""},{"$f":"IF(Cover!C173=\"\",\"\",Cover!C173)","v":""},{"$f":"IF(Cover!D173=\"\",\"\",Cover!D173)","v":""},{"$f":"IF(AND(ISBLANK(Cover!B173),ISBLANK(Cover!C173),ISBLANK(Cover!D173)),\"\",100-SUM(EP173:ER173))","v":""},null,null,null,null,null,null,null,null,null,""]
[null,null,null,null,null,null,null,null,null,null,null,null,null,null,null,null,null,null,null,null,null,"","","","","","",0,1,"",null,null,null,null,null,null,null,null,null,null,null,null,null,null,null,null,null,null,null,null,null,null,null,null,null,null,null,null,null,null,null,null,null,null,null,null,null,null,null,null,null,null,null,null,null,null,null,null,null,null,null,null,null,null,null,null,null,null,null,null,null,null,null,null,null,null,null,null,null,null,null,null,null,null,null,null,null,null,null,null,null,null,null,null,null,null,null,null,null,null,null,null,170,null,null,null,null,17.399999999999999,null,null,null,null,null,null,null,null,null,null,null,null,null,null,null,null,171,{"$f":"IF(Cover!B174=\"\",\"\",Cover!B174)","v":""},{"$f":"IF(Cover!C174=\"\",\"\",Cover!C174)","v":""},{"$f":"IF(Cover!D174=\"\",\"\",Cover!D174)","v":""},{"$f":"IF(AND(ISBLANK(Cover!B174),ISBLANK(Cover!C174),ISBLANK(Cover!D174)),\"\",100-SUM(EP174:ER174))","v":""},null,null,null,null,null,null,null,null,null,""]
[null,null,null,null,null,null,null,null,null,null,null,null,null,null,null,null,null,null,null,null,null,"","","","","","",0,1,"",null,null,null,null,null,null,null,null,null,null,null,null,null,null,null,null,null,null,null,null,null,null,null,null,null,null,null,null,null,null,null,null,null,null,null,null,null,null,null,null,null,null,null,null,null,null,null,null,null,null,null,null,null,null,null,null,null,null,null,null,null,null,null,null,null,null,null,null,null,null,null,null,null,null,null,null,null,null,null,null,null,null,null,null,null,null,null,null,null,null,null,null,171,null,null,null,null,17.5,null,null,null,null,null,null,null,null,null,null,null,null,null,null,null,null,172,{"$f":"IF(Cover!B175=\"\",\"\",Cover!B175)","v":""},{"$f":"IF(Cover!C175=\"\",\"\",Cover!C175)","v":""},{"$f":"IF(Cover!D175=\"\",\"\",Cover!D175)","v":""},{"$f":"IF(AND(ISBLANK(Cover!B175),ISBLANK(Cover!C175),ISBLANK(Cover!D175)),\"\",100-SUM(EP175:ER175))","v":""},null,null,null,null,null,null,null,null,null,""]
[null,null,null,null,null,null,null,null,null,null,null,null,null,null,null,null,null,null,null,null,null,"","","","","","",0,1,"",null,null,null,null,null,null,null,null,null,null,null,null,null,null,null,null,null,null,null,null,null,null,null,null,null,null,null,null,null,null,null,null,null,null,null,null,null,null,null,null,null,null,null,null,null,null,null,null,null,null,null,null,null,null,null,null,null,null,null,null,null,null,null,null,null,null,null,null,null,null,null,null,null,null,null,null,null,null,null,null,null,null,null,null,null,null,null,null,null,null,null,null,172,null,null,null,null,17.600000000000001,null,null,null,null,null,null,null,null,null,null,null,null,null,null,null,null,173,{"$f":"IF(Cover!B176=\"\",\"\",Cover!B176)","v":""},{"$f":"IF(Cover!C176=\"\",\"\",Cover!C176)","v":""},{"$f":"IF(Cover!D176=\"\",\"\",Cover!D176)","v":""},{"$f":"IF(AND(ISBLANK(Cover!B176),ISBLANK(Cover!C176),ISBLANK(Cover!D176)),\"\",100-SUM(EP176:ER176))","v":""},null,null,null,null,null,null,null,null,null,""]
[null,null,null,null,null,null,null,null,null,null,null,null,null,null,null,null,null,null,null,null,null,"","","","","","",0,1,"",null,null,null,null,null,null,null,null,null,null,null,null,null,null,null,null,null,null,null,null,null,null,null,null,null,null,null,null,null,null,null,null,null,null,null,null,null,null,null,null,null,null,null,null,null,null,null,null,null,null,null,null,null,null,null,null,null,null,null,null,null,null,null,null,null,null,null,null,null,null,null,null,null,null,null,null,null,null,null,null,null,null,null,null,null,null,null,null,null,null,null,null,173,null,null,null,null,17.7,null,null,null,null,null,null,null,null,null,null,null,null,null,null,null,null,174,{"$f":"IF(Cover!B177=\"\",\"\",Cover!B177)","v":""},{"$f":"IF(Cover!C177=\"\",\"\",Cover!C177)","v":""},{"$f":"IF(Cover!D177=\"\",\"\",Cover!D177)","v":""},{"$f":"IF(AND(ISBLANK(Cover!B177),ISBLANK(Cover!C177),ISBLANK(Cover!D177)),\"\",100-SUM(EP177:ER177))","v":""},null,null,null,null,null,null,null,null,null,""]
[null,null,null,null,null,null,null,null,null,null,null,null,null,null,null,null,null,null,null,null,null,"","","","","","",0,1,"",null,null,null,null,null,null,null,null,null,null,null,null,null,null,null,null,null,null,null,null,null,null,null,null,null,null,null,null,null,null,null,null,null,null,null,null,null,null,null,null,null,null,null,null,null,null,null,null,null,null,null,null,null,null,null,null,null,null,null,null,null,null,null,null,null,null,null,null,null,null,null,null,null,null,null,null,null,null,null,null,null,null,null,null,null,null,null,null,null,null,null,null,174,null,null,null,null,17.8,null,null,null,null,null,null,null,null,null,null,null,null,null,null,null,null,175,{"$f":"IF(Cover!B178=\"\",\"\",Cover!B178)","v":""},{"$f":"IF(Cover!C178=\"\",\"\",Cover!C178)","v":""},{"$f":"IF(Cover!D178=\"\",\"\",Cover!D178)","v":""},{"$f":"IF(AND(ISBLANK(Cover!B178),ISBLANK(Cover!C178),ISBLANK(Cover!D178)),\"\",100-SUM(EP178:ER178))","v":""},null,null,null,null,null,null,null,null,null,""]
[null,null,null,null,null,null,null,null,null,null,null,null,null,null,null,null,null,null,null,null,null,"","","","","","",0,1,"",null,null,null,null,null,null,null,null,null,null,null,null,null,null,null,null,null,null,null,null,null,null,null,null,null,null,null,null,null,null,null,null,null,null,null,null,null,null,null,null,null,null,null,null,null,null,null,null,null,null,null,null,null,null,null,null,null,null,null,null,null,null,null,null,null,null,null,null,null,null,null,null,null,null,null,null,null,null,null,null,null,null,null,null,null,null,null,null,null,null,null,null,175,null,null,null,null,17.899999999999999,null,null,null,null,null,null,null,null,null,null,null,null,null,null,null,null,176,{"$f":"IF(Cover!B179=\"\",\"\",Cover!B179)","v":""},{"$f":"IF(Cover!C179=\"\",\"\",Cover!C179)","v":""},{"$f":"IF(Cover!D179=\"\",\"\",Cover!D179)","v":""},{"$f":"IF(AND(ISBLANK(Cover!B179),ISBLANK(Cover!C179),ISBLANK(Cover!D179)),\"\",100-SUM(EP179:ER179))","v":""},null,null,null,null,null,null,null,null,null,""]
[null,null,null,null,null,null,null,null,null,null,null,null,null,null,null,null,null,null,null,null,null,"","","","","","",0,1,"",null,null,null,null,null,null,null,null,null,null,null,null,null,null,null,null,null,null,null,null,null,null,null,null,null,null,null,null,null,null,null,null,null,null,null,null,null,null,null,null,null,null,null,null,null,null,null,null,null,null,null,null,null,null,null,null,null,null,null,null,null,null,null,null,null,null,null,null,null,null,null,null,null,null,null,null,null,null,null,null,null,null,null,null,null,null,null,null,null,null,null,null,176,null,null,null,null,18,null,null,null,null,null,null,null,null,null,null,null,null,null,null,null,null,177,{"$f":"IF(Cover!B180=\"\",\"\",Cover!B180)","v":""},{"$f":"IF(Cover!C180=\"\",\"\",Cover!C180)","v":""},{"$f":"IF(Cover!D180=\"\",\"\",Cover!D180)","v":""},{"$f":"IF(AND(ISBLANK(Cover!B180),ISBLANK(Cover!C180),ISBLANK(Cover!D180)),\"\",100-SUM(EP180:ER180))","v":""},null,null,null,null,null,null,null,null,null,""]
[null,null,null,null,null,null,null,null,null,null,null,null,null,null,null,null,null,null,null,null,null,"","","","","","",0,1,"",null,null,null,null,null,null,null,null,null,null,null,null,null,null,null,null,null,null,null,null,null,null,null,null,null,null,null,null,null,null,null,null,null,null,null,null,null,null,null,null,null,null,null,null,null,null,null,null,null,null,null,null,null,null,null,null,null,null,null,null,null,null,null,null,null,null,null,null,null,null,null,null,null,null,null,null,null,null,null,null,null,null,null,null,null,null,null,null,null,null,null,null,177,null,null,null,null,18.100000000000001,null,null,null,null,null,null,null,null,null,null,null,null,null,null,null,null,178,{"$f":"IF(Cover!B181=\"\",\"\",Cover!B181)","v":""},{"$f":"IF(Cover!C181=\"\",\"\",Cover!C181)","v":""},{"$f":"IF(Cover!D181=\"\",\"\",Cover!D181)","v":""},{"$f":"IF(AND(ISBLANK(Cover!B181),ISBLANK(Cover!C181),ISBLANK(Cover!D181)),\"\",100-SUM(EP181:ER181))","v":""},null,null,null,null,null,null,null,null,null,""]
[null,null,null,null,null,null,null,null,null,null,null,null,null,null,null,null,null,null,null,null,null,"","","","","","",0,1,"",null,null,null,null,null,null,null,null,null,null,null,null,null,null,null,null,null,null,null,null,null,null,null,null,null,null,null,null,null,null,null,null,null,null,null,null,null,null,null,null,null,null,null,null,null,null,null,null,null,null,null,null,null,null,null,null,null,null,null,null,null,null,null,null,null,null,null,null,null,null,null,null,null,null,null,null,null,null,null,null,null,null,null,null,null,null,null,null,null,null,null,null,178,null,null,null,null,18.2,null,null,null,null,null,null,null,null,null,null,null,null,null,null,null,null,179,{"$f":"IF(Cover!B182=\"\",\"\",Cover!B182)","v":""},{"$f":"IF(Cover!C182=\"\",\"\",Cover!C182)","v":""},{"$f":"IF(Cover!D182=\"\",\"\",Cover!D182)","v":""},{"$f":"IF(AND(ISBLANK(Cover!B182),ISBLANK(Cover!C182),ISBLANK(Cover!D182)),\"\",100-SUM(EP182:ER182))","v":""},null,null,null,null,null,null,null,null,null,""]
[null,null,null,null,null,null,null,null,null,null,null,null,null,null,null,null,null,null,null,null,null,"","","","","","",0,1,"",null,null,null,null,null,null,null,null,null,null,null,null,null,null,null,null,null,null,null,null,null,null,null,null,null,null,null,null,null,null,null,null,null,null,null,null,null,null,null,null,null,null,null,null,null,null,null,null,null,null,null,null,null,null,null,null,null,null,null,null,null,null,null,null,null,null,null,null,null,null,null,null,null,null,null,null,null,null,null,null,null,null,null,null,null,null,null,null,null,null,null,null,179,null,null,null,null,18.3,null,null,null,null,null,null,null,null,null,null,null,null,null,null,null,null,180,{"$f":"IF(Cover!B183=\"\",\"\",Cover!B183)","v":""},{"$f":"IF(Cover!C183=\"\",\"\",Cover!C183)","v":""},{"$f":"IF(Cover!D183=\"\",\"\",Cover!D183)","v":""},{"$f":"IF(AND(ISBLANK(Cover!B183),ISBLANK(Cover!C183),ISBLANK(Cover!D183)),\"\",100-SUM(EP183:ER183))","v":""},null,null,null,null,null,null,null,null,null,""]
[null,null,null,null,null,null,null,null,null,null,null,null,null,null,null,null,null,null,null,null,null,"","","","","","",0,1,"",null,null,null,null,null,null,null,null,null,null,null,null,null,null,null,null,null,null,null,null,null,null,null,null,null,null,null,null,null,null,null,null,null,null,null,null,null,null,null,null,null,null,null,null,null,null,null,null,null,null,null,null,null,null,null,null,null,null,null,null,null,null,null,null,null,null,null,null,null,null,null,null,null,null,null,null,null,null,null,null,null,null,null,null,null,null,null,null,null,null,null,null,180,null,null,null,null,18.399999999999999,null,null,null,null,null,null,null,null,null,null,null,null,null,null,null,null,181,{"$f":"IF(Cover!B184=\"\",\"\",Cover!B184)","v":""},{"$f":"IF(Cover!C184=\"\",\"\",Cover!C184)","v":""},{"$f":"IF(Cover!D184=\"\",\"\",Cover!D184)","v":""},{"$f":"IF(AND(ISBLANK(Cover!B184),ISBLANK(Cover!C184),ISBLANK(Cover!D184)),\"\",100-SUM(EP184:ER184))","v":""},null,null,null,null,null,null,null,null,null,""]
[null,null,null,null,null,null,null,null,null,null,null,null,null,null,null,null,null,null,null,null,null,"","","","","","",0,1,"",null,null,null,null,null,null,null,null,null,null,null,null,null,null,null,null,null,null,null,null,null,null,null,null,null,null,null,null,null,null,null,null,null,null,null,null,null,null,null,null,null,null,null,null,null,null,null,null,null,null,null,null,null,null,null,null,null,null,null,null,null,null,null,null,null,null,null,null,null,null,null,null,null,null,null,null,null,null,null,null,null,null,null,null,null,null,null,null,null,null,null,null,181,null,null,null,null,18.5,null,null,null,null,null,null,null,null,null,null,null,null,null,null,null,null,182,{"$f":"IF(Cover!B185=\"\",\"\",Cover!B185)","v":""},{"$f":"IF(Cover!C185=\"\",\"\",Cover!C185)","v":""},{"$f":"IF(Cover!D185=\"\",\"\",Cover!D185)","v":""},{"$f":"IF(AND(ISBLANK(Cover!B185),ISBLANK(Cover!C185),ISBLANK(Cover!D185)),\"\",100-SUM(EP185:ER185))","v":""},null,null,null,null,null,null,null,null,null,""]
[null,null,null,null,null,null,null,null,null,null,null,null,null,null,null,null,null,null,null,null,null,"","","","","","",0,1,"",null,null,null,null,null,null,null,null,null,null,null,null,null,null,null,null,null,null,null,null,null,null,null,null,null,null,null,null,null,null,null,null,null,null,null,null,null,null,null,null,null,null,null,null,null,null,null,null,null,null,null,null,null,null,null,null,null,null,null,null,null,null,null,null,null,null,null,null,null,null,null,null,null,null,null,null,null,null,null,null,null,null,null,null,null,null,null,null,null,null,null,null,182,null,null,null,null,18.600000000000001,null,null,null,null,null,null,null,null,null,null,null,null,null,null,null,null,183,{"$f":"IF(Cover!B186=\"\",\"\",Cover!B186)","v":""},{"$f":"IF(Cover!C186=\"\",\"\",Cover!C186)","v":""},{"$f":"IF(Cover!D186=\"\",\"\",Cover!D186)","v":""},{"$f":"IF(AND(ISBLANK(Cover!B186),ISBLANK(Cover!C186),ISBLANK(Cover!D186)),\"\",100-SUM(EP186:ER186))","v":""},null,null,null,null,null,null,null,null,null,""]
[null,null,null,null,null,null,null,null,null,null,null,null,null,null,null,null,null,null,null,null,null,"","","","","","",0,1,"",null,null,null,null,null,null,null,null,null,null,null,null,null,null,null,null,null,null,null,null,null,null,null,null,null,null,null,null,null,null,null,null,null,null,null,null,null,null,null,null,null,null,null,null,null,null,null,null,null,null,null,null,null,null,null,null,null,null,null,null,null,null,null,null,null,null,null,null,null,null,null,null,null,null,null,null,null,null,null,null,null,null,null,null,null,null,null,null,null,null,null,null,183,null,null,null,null,18.7,null,null,null,null,null,null,null,null,null,null,null,null,null,null,null,null,184,{"$f":"IF(Cover!B187=\"\",\"\",Cover!B187)","v":""},{"$f":"IF(Cover!C187=\"\",\"\",Cover!C187)","v":""},{"$f":"IF(Cover!D187=\"\",\"\",Cover!D187)","v":""},{"$f":"IF(AND(ISBLANK(Cover!B187),ISBLANK(Cover!C187),ISBLANK(Cover!D187)),\"\",100-SUM(EP187:ER187))","v":""},null,null,null,null,null,null,null,null,null,""]
[null,null,null,null,null,null,null,null,null,null,null,null,null,null,null,null,null,null,null,null,null,"","","","","","",0,1,"",null,null,null,null,null,null,null,null,null,null,null,null,null,null,null,null,null,null,null,null,null,null,null,null,null,null,null,null,null,null,null,null,null,null,null,null,null,null,null,null,null,null,null,null,null,null,null,null,null,null,null,null,null,null,null,null,null,null,null,null,null,null,null,null,null,null,null,null,null,null,null,null,null,null,null,null,null,null,null,null,null,null,null,null,null,null,null,null,null,null,null,null,184,null,null,null,null,18.8,null,null,null,null,null,null,null,null,null,null,null,null,null,null,null,null,185,{"$f":"IF(Cover!B188=\"\",\"\",Cover!B188)","v":""},{"$f":"IF(Cover!C188=\"\",\"\",Cover!C188)","v":""},{"$f":"IF(Cover!D188=\"\",\"\",Cover!D188)","v":""},{"$f":"IF(AND(ISBLANK(Cover!B188),ISBLANK(Cover!C188),ISBLANK(Cover!D188)),\"\",100-SUM(EP188:ER188))","v":""},null,null,null,null,null,null,null,null,null,""]
[null,null,null,null,null,null,null,null,null,null,null,null,null,null,null,null,null,null,null,null,null,"","","","","","",0,1,"",null,null,null,null,null,null,null,null,null,null,null,null,null,null,null,null,null,null,null,null,null,null,null,null,null,null,null,null,null,null,null,null,null,null,null,null,null,null,null,null,null,null,null,null,null,null,null,null,null,null,null,null,null,null,null,null,null,null,null,null,null,null,null,null,null,null,null,null,null,null,null,null,null,null,null,null,null,null,null,null,null,null,null,null,null,null,null,null,null,null,null,null,185,null,null,null,null,18.899999999999999,null,null,null,null,null,null,null,null,null,null,null,null,null,null,null,null,186,{"$f":"IF(Cover!B189=\"\",\"\",Cover!B189)","v":""},{"$f":"IF(Cover!C189=\"\",\"\",Cover!C189)","v":""},{"$f":"IF(Cover!D189=\"\",\"\",Cover!D189)","v":""},{"$f":"IF(AND(ISBLANK(Cover!B189),ISBLANK(Cover!C189),ISBLANK(Cover!D189)),\"\",100-SUM(EP189:ER189))","v":""},null,null,null,null,null,null,null,null,null,""]
[null,null,null,null,null,null,null,null,null,null,null,null,null,null,null,null,null,null,null,null,null,"","","","","","",0,1,"",null,null,null,null,null,null,null,null,null,null,null,null,null,null,null,null,null,null,null,null,null,null,null,null,null,null,null,null,null,null,null,null,null,null,null,null,null,null,null,null,null,null,null,null,null,null,null,null,null,null,null,null,null,null,null,null,null,null,null,null,null,null,null,null,null,null,null,null,null,null,null,null,null,null,null,null,null,null,null,null,null,null,null,null,null,null,null,null,null,null,null,null,186,null,null,null,null,19,null,null,null,null,null,null,null,null,null,null,null,null,null,null,null,null,187,{"$f":"IF(Cover!B190=\"\",\"\",Cover!B190)","v":""},{"$f":"IF(Cover!C190=\"\",\"\",Cover!C190)","v":""},{"$f":"IF(Cover!D190=\"\",\"\",Cover!D190)","v":""},{"$f":"IF(AND(ISBLANK(Cover!B190),ISBLANK(Cover!C190),ISBLANK(Cover!D190)),\"\",100-SUM(EP190:ER190))","v":""},null,null,null,null,null,null,null,null,null,""]
[null,null,null,null,null,null,null,null,null,null,null,null,null,null,null,null,null,null,null,null,null,"","","","","","",0,1,"",null,null,null,null,null,null,null,null,null,null,null,null,null,null,null,null,null,null,null,null,null,null,null,null,null,null,null,null,null,null,null,null,null,null,null,null,null,null,null,null,null,null,null,null,null,null,null,null,null,null,null,null,null,null,null,null,null,null,null,null,null,null,null,null,null,null,null,null,null,null,null,null,null,null,null,null,null,null,null,null,null,null,null,null,null,null,null,null,null,null,null,null,187,null,null,null,null,19.100000000000001,null,null,null,null,null,null,null,null,null,null,null,null,null,null,null,null,188,{"$f":"IF(Cover!B191=\"\",\"\",Cover!B191)","v":""},{"$f":"IF(Cover!C191=\"\",\"\",Cover!C191)","v":""},{"$f":"IF(Cover!D191=\"\",\"\",Cover!D191)","v":""},{"$f":"IF(AND(ISBLANK(Cover!B191),ISBLANK(Cover!C191),ISBLANK(Cover!D191)),\"\",100-SUM(EP191:ER191))","v":""},null,null,null,null,null,null,null,null,null,""]
[null,null,null,null,null,null,null,null,null,null,null,null,null,null,null,null,null,null,null,null,null,"","","","","","",0,1,"",null,null,null,null,null,null,null,null,null,null,null,null,null,null,null,null,null,null,null,null,null,null,null,null,null,null,null,null,null,null,null,null,null,null,null,null,null,null,null,null,null,null,null,null,null,null,null,null,null,null,null,null,null,null,null,null,null,null,null,null,null,null,null,null,null,null,null,null,null,null,null,null,null,null,null,null,null,null,null,null,null,null,null,null,null,null,null,null,null,null,null,null,188,null,null,null,null,19.2,null,null,null,null,null,null,null,null,null,null,null,null,null,null,null,null,189,{"$f":"IF(Cover!B192=\"\",\"\",Cover!B192)","v":""},{"$f":"IF(Cover!C192=\"\",\"\",Cover!C192)","v":""},{"$f":"IF(Cover!D192=\"\",\"\",Cover!D192)","v":""},{"$f":"IF(AND(ISBLANK(Cover!B192),ISBLANK(Cover!C192),ISBLANK(Cover!D192)),\"\",100-SUM(EP192:ER192))","v":""},null,null,null,null,null,null,null,null,null,""]
[null,null,null,null,null,null,null,null,null,null,null,null,null,null,null,null,null,null,null,null,null,"","","","","","",0,1,"",null,null,null,null,null,null,null,null,null,null,null,null,null,null,null,null,null,null,null,null,null,null,null,null,null,null,null,null,null,null,null,null,null,null,null,null,null,null,null,null,null,null,null,null,null,null,null,null,null,null,null,null,null,null,null,null,null,null,null,null,null,null,null,null,null,null,null,null,null,null,null,null,null,null,null,null,null,null,null,null,null,null,null,null,null,null,null,null,null,null,null,null,189,null,null,null,null,19.3,null,null,null,null,null,null,null,null,null,null,null,null,null,null,null,null,190,{"$f":"IF(Cover!B193=\"\",\"\",Cover!B193)","v":""},{"$f":"IF(Cover!C193=\"\",\"\",Cover!C193)","v":""},{"$f":"IF(Cover!D193=\"\",\"\",Cover!D193)","v":""},{"$f":"IF(AND(ISBLANK(Cover!B193),ISBLANK(Cover!C193),ISBLANK(Cover!D193)),\"\",100-SUM(EP193:ER193))","v":""},null,null,null,null,null,null,null,null,null,""]
[null,null,null,null,null,null,null,null,null,null,null,null,null,null,null,null,null,null,null,null,null,"","","","","","",0,1,"",null,null,null,null,null,null,null,null,null,null,null,null,null,null,null,null,null,null,null,null,null,null,null,null,null,null,null,null,null,null,null,null,null,null,null,null,null,null,null,null,null,null,null,null,null,null,null,null,null,null,null,null,null,null,null,null,null,null,null,null,null,null,null,null,null,null,null,null,null,null,null,null,null,null,null,null,null,null,null,null,null,null,null,null,null,null,null,null,null,null,null,null,190,null,null,null,null,19.399999999999999,null,null,null,null,null,null,null,null,null,null,null,null,null,null,null,null,191,{"$f":"IF(Cover!B194=\"\",\"\",Cover!B194)","v":""},{"$f":"IF(Cover!C194=\"\",\"\",Cover!C194)","v":""},{"$f":"IF(Cover!D194=\"\",\"\",Cover!D194)","v":""},{"$f":"IF(AND(ISBLANK(Cover!B194),ISBLANK(Cover!C194),ISBLANK(Cover!D194)),\"\",100-SUM(EP194:ER194))","v":""},null,null,null,null,null,null,null,null,null,""]
[null,null,null,null,null,null,null,null,null,null,null,null,null,null,null,null,null,null,null,null,null,"","","","","","",0,1,"",null,null,null,null,null,null,null,null,null,null,null,null,null,null,null,null,null,null,null,null,null,null,null,null,null,null,null,null,null,null,null,null,null,null,null,null,null,null,null,null,null,null,null,null,null,null,null,null,null,null,null,null,null,null,null,null,null,null,null,null,null,null,null,null,null,null,null,null,null,null,null,null,null,null,null,null,null,null,null,null,null,null,null,null,null,null,null,null,null,null,null,null,191,null,null,null,null,19.5,null,null,null,null,null,null,null,null,null,null,null,null,null,null,null,null,192,{"$f":"IF(Cover!B195=\"\",\"\",Cover!B195)","v":""},{"$f":"IF(Cover!C195=\"\",\"\",Cover!C195)","v":""},{"$f":"IF(Cover!D195=\"\",\"\",Cover!D195)","v":""},{"$f":"IF(AND(ISBLANK(Cover!B195),ISBLANK(Cover!C195),ISBLANK(Cover!D195)),\"\",100-SUM(EP195:ER195))","v":""},null,null,null,null,null,null,null,null,null,""]
[null,null,null,null,null,null,null,null,null,null,null,null,null,null,null,null,null,null,null,null,null,"","","","","","",0,1,"",null,null,null,null,null,null,null,null,null,null,null,null,null,null,null,null,null,null,null,null,null,null,null,null,null,null,null,null,null,null,null,null,null,null,null,null,null,null,null,null,null,null,null,null,null,null,null,null,null,null,null,null,null,null,null,null,null,null,null,null,null,null,null,null,null,null,null,null,null,null,null,null,null,null,null,null,null,null,null,null,null,null,null,null,null,null,null,null,null,null,null,null,192,null,null,null,null,19.600000000000001,null,null,null,null,null,null,null,null,null,null,null,null,null,null,null,null,193,{"$f":"IF(Cover!B196=\"\",\"\",Cover!B196)","v":""},{"$f":"IF(Cover!C196=\"\",\"\",Cover!C196)","v":""},{"$f":"IF(Cover!D196=\"\",\"\",Cover!D196)","v":""},{"$f":"IF(AND(ISBLANK(Cover!B196),ISBLANK(Cover!C196),ISBLANK(Cover!D196)),\"\",100-SUM(EP196:ER196))","v":""},null,null,null,null,null,null,null,null,null,""]
[null,null,null,null,null,null,null,null,null,null,null,null,null,null,null,null,null,null,null,null,null,{"$f":"IF(L197=\"\",\"\",L197*12/39)","v":""},"","","","","",0,1,"",null,null,null,null,null,null,null,null,null,null,null,null,null,null,null,null,null,null,null,null,null,null,null,null,null,null,null,null,null,null,null,null,null,null,null,null,null,null,null,null,null,null,null,null,null,null,null,null,null,null,null,null,null,null,null,null,null,null,null,null,null,null,null,null,null,null,null,null,null,null,null,null,null,null,null,null,null,null,null,null,null,null,null,null,null,null,null,null,null,null,null,null,193,null,null,null,null,19.7,null,null,null,null,null,null,null,null,null,null,null,null,null,null,null,null,194,{"$f":"IF(Cover!B197=\"\",\"\",Cover!B197)","v":""},{"$f":"IF(Cover!C197=\"\",\"\",Cover!C197)","v":""},{"$f":"IF(Cover!D197=\"\",\"\",Cover!D197)","v":""},{"$f":"IF(AND(ISBLANK(Cover!B197),ISBLANK(Cover!C197),ISBLANK(Cover!D197)),\"\",100-SUM(EP197:ER197))","v":""},null,null,null,null,null,null,null,null,null,""]
[null,null,null,null,null,null,null,null,null,null,null,null,null,null,null,null,null,null,null,null,null,"",{"$f":"IF(F198=\"\",\"\",IF(ISNUMBER(SEARCH(F198,\"d\")),IF(ISNUMBER(SEARCH(G198,\"c\")),\"CS\",IF(ISNUMBER(SEARCH(G198,\"u\")),\"UU\")),\"\"))","v":""},{"$f":"IF(F198=\"\",\"\",IF(ISNUMBER(SEARCH(F198,\"e\")),IF(ISNUMBER(SEARCH(G198,\"c\")),IF(ISNUMBER(SEARCH(H198,\"a\")),\"CS\",\"CU\"),IF(ISNUMBER(SEARCH(H198,\"a\")),\"US\",\"UU\")),\"\"))","v":""},{"$f":"IF(W198=\"\",X198,W198)","v":""},{"$f":"IF($Y198=\"cs\",1,IF($Y198=\"cu\",2,IF($Y198=\"us\",3,IF($Y198=\"uu\",4,\"\"))))","v":""},{"$f":"IF(A198=\"\",\"\",A198)","v":""},{"$f":"C198","v":0},1,{"$f":"IF(AA198<>\"\",SUMIF(AC:AC,AA198,AB:AB),\"\")","v":""},null,null,null,null,null,null,null,null,null,null,null,null,null,null,null,null,null,null,null,null,null,null,null,null,null,null,null,null,null,null,null,null,null,null,null,null,null,null,null,null,null,null,null,null,null,null,null,null,null,null,null,null,null,null,null,null,null,null,null,null,null,null,null,null,null,null,null,null,null,null,null,null,null,null,null,null,null,null,null,null,null,null,null,null,null,null,null,null,null,null,null,null,194,null,null,null,null,19.8,null,null,null,null,null,null,null,null,null,null,null,null,null,null,null,null,195,{"$f":"IF(Cover!B198=\"\",\"\",Cover!B198)","v":""},{"$f":"IF(Cover!C198=\"\",\"\",Cover!C198)","v":""},{"$f":"IF(Cover!D198=\"\",\"\",Cover!D198)","v":""},{"$f":"IF(AND(ISBLANK(Cover!B198),ISBLANK(Cover!C198),ISBLANK(Cover!D198)),\"\",100-SUM(EP198:ER198))","v":""},null,null,null,null,null,null,null,null,null,""]
[null,null,null,null,null,null,null,null,null,null,null,null,null,null,null,null,null,null,null,null,null,"","","","","","",0,{"$f":"IF(A199>A198,A199,AC198)","v":1},"",null,null,null,null,null,null,null,null,null,null,null,null,null,null,null,null,null,null,null,null,null,null,null,null,null,null,null,null,null,null,null,null,null,null,null,null,null,null,null,null,null,null,null,null,null,null,null,null,null,null,null,null,null,null,null,null,null,null,null,null,null,null,null,null,null,null,null,null,null,null,null,null,null,null,null,null,null,null,null,null,null,null,null,null,null,null,null,null,null,null,null,null,195,null,null,null,null,19.899999999999999,null,null,null,null,null,null,null,null,null,null,null,null,null,null,null,null,196,{"$f":"IF(Cover!B199=\"\",\"\",Cover!B199)","v":""},{"$f":"IF(Cover!C199=\"\",\"\",Cover!C199)","v":""},{"$f":"IF(Cover!D199=\"\",\"\",Cover!D199)","v":""},{"$f":"IF(AND(ISBLANK(Cover!B199),ISBLANK(Cover!C199),ISBLANK(Cover!D199)),\"\",100-SUM(EP199:ER199))","v":""},null,null,null,null,null,null,null,null,null,{"$f":"IF(E199=\"\",\"\",E199+1)","v":""}]
[null,null,null,null,null,null,null,null,null,null,null,null,null,null,null,null,null,null,null,null,null,"","","","","","",0,1,"",null,null,null,null,null,null,null,null,null,null,null,null,null,null,null,null,null,null,null,null,null,null,null,null,null,null,null,null,null,null,null,null,null,null,null,null,null,null,null,null,null,null,null,null,null,null,null,null,null,null,null,null,null,null,null,null,null,null,null,null,null,null,null,null,null,null,null,null,null,null,null,null,null,null,null,null,null,null,null,null,null,null,null,null,null,null,null,null,null,null,null,null,196,null,null,null,null,20,null,null,null,null,null,null,null,null,null,null,null,null,null,null,null,null,197,{"$f":"IF(Cover!B200=\"\",\"\",Cover!B200)","v":""},{"$f":"IF(Cover!C200=\"\",\"\",Cover!C200)","v":""},{"$f":"IF(Cover!D200=\"\",\"\",Cover!D200)","v":""},{"$f":"IF(AND(ISBLANK(Cover!B200),ISBLANK(Cover!C200),ISBLANK(Cover!D200)),\"\",100-SUM(EP200:ER200))","v":""},null,null,null,null,null,null,null,null,null,""]
[null,null,null,null,null,null,null,null,null,null,null,null,null,null,null,null,null,null,null,null,null,"","","","","","",0,1,"",null,null,null,null,null,null,null,null,null,null,null,null,null,null,null,null,null,null,null,null,null,null,null,null,null,null,null,null,null,null,null,null,null,null,null,null,null,null,null,null,null,null,null,null,null,null,null,null,null,null,null,null,null,null,null,null,null,null,null,null,null,null,null,null,null,null,null,null,null,null,null,null,null,null,null,null,null,null,null,null,null,null,null,null,null,null,null,null,null,null,null,null,197,null,null,null,null,20.100000000000001,null,null,null,null,null,null,null,null,null,null,null,null,null,null,null,null,198,{"$f":"IF(Cover!B201=\"\",\"\",Cover!B201)","v":""},{"$f":"IF(Cover!C201=\"\",\"\",Cover!C201)","v":""},{"$f":"IF(Cover!D201=\"\",\"\",Cover!D201)","v":""},{"$f":"IF(AND(ISBLANK(Cover!B201),ISBLANK(Cover!C201),ISBLANK(Cover!D201)),\"\",100-SUM(EP201:ER201))","v":""},null,null,null,null,null,null,null,null,null,""]
[null,null,null,null,null,null,null,null,null,null,null,null,null,null,null,null,null,null,null,null,null,"","","","","","",0,1,"",null,null,null,null,null,null,null,null,null,null,null,null,null,null,null,null,null,null,null,null,null,null,null,null,null,null,null,null,null,null,null,null,null,null,null,null,null,null,null,null,null,null,null,null,null,null,null,null,null,null,null,null,null,null,null,null,null,null,null,null,null,null,null,null,null,null,null,null,null,null,null,null,null,null,null,null,null,null,null,null,null,null,null,null,null,null,null,null,null,null,null,null,198,null,null,null,null,20.2,null,null,null,null,null,null,null,null,null,null,null,null,null,null,null,null,199,{"$f":"IF(Cover!B202=\"\",\"\",Cover!B202)","v":""},{"$f":"IF(Cover!C202=\"\",\"\",Cover!C202)","v":""},{"$f":"IF(Cover!D202=\"\",\"\",Cover!D202)","v":""},{"$f":"IF(AND(ISBLANK(Cover!B202),ISBLANK(Cover!C202),ISBLANK(Cover!D202)),\"\",100-SUM(EP202:ER202))","v":""},null,null,null,null,null,null,null,null,null,""]
[null,null,null,null,null,null,null,null,null,null,null,null,null,null,null,null,null,null,null,null,null,"","","","","","",0,1,"",null,null,null,null,null,null,null,null,null,null,null,null,null,null,null,null,null,null,null,null,null,null,null,null,null,null,null,null,null,null,null,null,null,null,null,null,null,null,null,null,null,null,null,null,null,null,null,null,null,null,null,null,null,null,null,null,null,null,null,null,null,null,null,null,null,null,null,null,null,null,null,null,null,null,null,null,null,null,null,null,null,null,null,null,null,null,null,null,null,null,null,null,199,null,null,null,null,20.3,null,null,null,null,null,null,null,null,null,null,null,null,null,null,null,null,200,{"$f":"IF(Cover!B203=\"\",\"\",Cover!B203)","v":""},{"$f":"IF(Cover!C203=\"\",\"\",Cover!C203)","v":""},{"$f":"IF(Cover!D203=\"\",\"\",Cover!D203)","v":""},{"$f":"IF(AND(ISBLANK(Cover!B203),ISBLANK(Cover!C203),ISBLANK(Cover!D203)),\"\",100-SUM(EP203:ER203))","v":""},null,null,null,null,null,null,null,null,null,""]
[null,null,null,null,null,null,null,null,null,null,null,null,null,null,null,null,null,null,"saex",null,null,"","","","","","",0,1,"",null,null,null,null,null,null,null,null,null,null,null,null,null,null,null,null,null,null,null,null,null,null,null,null,null,null,null,null,null,null,null,null,null,null,null,null,null,null,null,null,null,null,null,null,null,null,null,null,null,null,null,null,null,null,null,null,null,null,null,null,null,null,null,null,null,null,null,null,null,null,null,null,null,null,null,null,null,null,null,null,null,null,null,null,null,null,null,null,null,null,null,null,200,null,null,null,null,20.399999999999999,null,null,null,null,null,null,null,null,null,null,null,null,null,null,null,null,"Total =",{"$f":"SUM(EP4:EP203)","v":0},{"$f":"SUM(EQ4:EQ203)","v":0},{"$f":"SUM(ER4:ER203)","v":0},{"$f":"SUM(ES4:ES203)","v":0},null,null,null,null,null,null,null,null,null,""]
[null,null,null,null,null,null,null,null,null,null,null,null,null,null,null,null,null,null,null,null,null,"","","","","","",0,1,"",null,null,null,null,null,null,null,null,null,null,null,null,null,null,null,null,null,null,null,null,null,null,null,null,null,null,null,null,null,null,null,null,null,null,null,null,null,null,null,null,null,null,null,null,null,null,null,null,null,null,null,null,null,null,null,null,null,null,null,null,null,null,null,null,null,null,null,null,null,null,null,null,null,null,null,null,null,null,null,null,null,null,null,null,null,null,null,null,null,null,null,null,null,null,null,null,null,20.5,null,null,null,null,null,null,null,null,null,null,null,null,null,null,null,null,"Average=",{"$f":"EP204/SUM($EP204:$ES204)","v":{"$error":"#DIV/0!"}},{"$f":"EQ204/SUM($EP204:$ES204)","v":{"$error":"#DIV/0!"}},{"$f":"ER204/SUM($EP204:$ES204)","v":{"$error":"#DIV/0!"}},{"$f":"ES204/SUM($EP204:$ES204)","v":{"$error":"#DIV/0!"}},null,null,null,null,null,null,null,null,null,""]
[null,null,null,null,null,null,null,null,null,null,null,null,null,null,null,null,null,null,null,null,null,"","","","","","",0,1,"",null,null,null,null,null,null,null,null,null,null,null,null,null,null,null,null,null,null,null,null,null,null,null,null,null,null,null,null,null,null,null,null,null,null,null,null,null,null,null,null,null,null,null,null,null,null,null,null,null,null,null,null,null,null,null,null,null,null,null,null,null,null,null,null,null,null,null,null,null,null,null,null,null,null,null,null,null,null,null,null,null,null,null,null,null,null,null,null,null,null,null,null,null,null,null,null,null,20.6,null,null,null,null,null,null,null,null,null,null,null,null,null,null,null,null,"N",{"$f":"COUNT(EP4:EP203)","v":0},{"$f":"COUNT(EQ4:EQ203)","v":0},{"$f":"COUNT(ER4:ER203)","v":0},{"$f":"COUNT(ES4:ES203)","v":0},null,null,null,null,null,null,null,null,null,""]
[null,null,null,null,null,null,null,null,null,null,null,null,null,null,null,null,null,null,null,null,null,"","","","","","",0,1,"",null,null,null,null,null,null,null,null,null,null,null,null,null,null,null,null,null,null,null,null,null,null,null,null,null,null,null,null,null,null,null,null,null,null,null,null,null,null,null,null,null,null,null,null,null,null,null,null,null,null,null,null,null,null,null,null,null,null,null,null,null,null,null,null,null,null,null,null,null,null,null,null,null,null,null,null,null,null,null,null,null,null,null,null,null,null,null,null,null,null,null,null,null,null,null,null,null,20.7,null,null,null,null,null,null,null,null,null,null,null,null,null,null,null,null,null,null,null,null,null,null,null,null,null,null,null,null,null,null,""]
[null,null,null,null,null,null,null,null,null,null,null,null,null,null,null,null,null,null,null,null,null,"","","","","","",0,1,"",null,null,null,null,null,null,null,null,null,null,null,null,null,null,null,null,null,null,null,null,null,null,null,null,null,null,null,null,null,null,null,null,null,null,null,null,null,null,null,null,null,null,null,null,null,null,null,null,null,null,null,null,null,null,null,null,null,null,null,null,null,null,null,null,null,null,null,null,null,null,null,null,null,null,null,null,null,null,null,null,null,null,null,null,null,null,null,null,null,null,null,null,null,null,null,null,null,20.8,null,null,null,null,null,null,null,null,null,null,null,null,null,null,null,null,null,null,null,null,null,null,null,null,null,null,null,null,null,null,""]
[null,null,null,null,null,null,null,null,null,null,null,null,null,null,null,null,null,null,null,null,null,"","","","","","",0,1,"",null,null,null,null,null,null,null,null,null,null,null,null,null,null,null,null,null,null,null,null,null,null,null,null,null,null,null,null,null,null,null,null,null,null,null,null,null,null,null,null,null,null,null,null,null,null,null,null,null,null,null,null,null,null,null,null,null,null,null,null,null,null,null,null,null,null,null,null,null,null,null,null,null,null,null,null,null,null,null,null,null,null,null,null,null,null,null,null,null,null,null,null,null,null,null,null,null,20.9,null,null,null,null,null,null,null,null,null,null,null,null,null,null,null,null,null,null,null,null,null,null,null,null,null,null,null,null,null,null,""]
[null,null,null,null,null,null,null,null,null,null,null,null,null,null,null,null,null,null,null,null,null,"","","","","","",0,1,"",null,null,null,null,null,null,null,null,null,null,null,null,null,null,null,null,null,null,null,null,null,null,null,null,null,null,null,null,null,null,null,null,null,null,null,null,null,null,null,null,null,null,null,null,null,null,null,null,null,null,null,null,null,null,null,null,null,null,null,null,null,null,null,null,null,null,null,null,null,null,null,null,null,null,null,null,null,null,null,null,null,null,null,null,null,null,null,null,null,null,null,null,null,null,null,null,null,21,null,null,null,null,null,null,null,null,null,null,null,null,null,null,null,null,null,null,null,null,null,null,null,null,null,null,null,null,null,null,""]
[null,null,null,null,null,null,null,null,null,null,null,null,null,null,null,null,null,null,null,null,null,"","","","","","",0,1,"",null,null,null,null,null,null,null,null,null,null,null,null,null,null,null,null,null,null,null,null,null,null,null,null,null,null,null,null,null,null,null,null,null,null,null,null,null,null,null,null,null,null,null,null,null,null,null,null,null,null,null,null,null,null,null,null,null,null,null,null,null,null,null,null,null,null,null,null,null,null,null,null,null,null,null,null,null,null,null,null,null,null,null,null,null,null,null,null,null,null,null,null,null,null,null,null,null,21.1,null,null,null,null,null,null,null,null,null,null,null,null,null,null,null,null,null,null,null,null,null,null,null,null,null,null,null,null,null,null,""]
[null,null,null,null,null,null,null,null,null,null,null,null,null,null,null,null,null,null,null,null,null,"","","","","","",0,1,"",null,null,null,null,null,null,null,null,null,null,null,null,null,null,null,null,null,null,null,null,null,null,null,null,null,null,null,null,null,null,null,null,null,null,null,null,null,null,null,null,null,null,null,null,null,null,null,null,null,null,null,null,null,null,null,null,null,null,null,null,null,null,null,null,null,null,null,null,null,null,null,null,null,null,null,null,null,null,null,null,null,null,null,null,null,null,null,null,null,null,null,null,null,null,null,null,null,21.2,null,null,null,null,null,null,null,null,null,null,null,null,null,null,null,null,null,null,null,null,null,null,null,null,null,null,null,null,null,null,""]
[null,null,null,null,null,null,null,null,null,null,null,null,null,null,null,null,null,null,null,null,null,"","","","","","",0,1,"",null,null,null,null,null,null,null,null,null,null,null,null,null,null,null,null,null,null,null,null,null,null,null,null,null,null,null,null,null,null,null,null,null,null,null,null,null,null,null,null,null,null,null,null,null,null,null,null,null,null,null,null,null,null,null,null,null,null,null,null,null,null,null,null,null,null,null,null,null,null,null,null,null,null,null,null,null,null,null,null,null,null,null,null,null,null,null,null,null,null,null,null,null,null,null,null,null,21.3,null,null,null,null,null,null,null,null,null,null,null,null,null,null,null,null,null,null,null,null,null,null,null,null,null,null,null,null,null,null,""]
[null,null,null,null,null,null,null,null,null,null,null,null,null,null,null,null,null,null,null,null,null,"","","","","","",0,1,"",null,null,null,null,null,null,null,null,null,null,null,null,null,null,null,null,null,null,null,null,null,null,null,null,null,null,null,null,null,null,null,null,null,null,null,null,null,null,null,null,null,null,null,null,null,null,null,null,null,null,null,null,null,null,null,null,null,null,null,null,null,null,null,null,null,null,null,null,null,null,null,null,null,null,null,null,null,null,null,null,null,null,null,null,null,null,null,null,null,null,null,null,null,null,null,null,null,21.4,null,null,null,null,null,null,null,null,null,null,null,null,null,null,null,null,null,null,null,null,null,null,null,null,null,null,null,null,null,null,""]
[null,null,null,null,null,null,null,null,null,null,null,null,null,null,null,null,null,null,null,null,null,"","","","","","",0,1,"",null,null,null,null,null,null,null,null,null,null,null,null,null,null,null,null,null,null,null,null,null,null,null,null,null,null,null,null,null,null,null,null,null,null,null,null,null,null,null,null,null,null,null,null,null,null,null,null,null,null,null,null,null,null,null,null,null,null,null,null,null,null,null,null,null,null,null,null,null,null,null,null,null,null,null,null,null,null,null,null,null,null,null,null,null,null,null,null,null,null,null,null,null,null,null,null,null,21.5,null,null,null,null,null,null,null,null,null,null,null,null,null,null,null,null,null,null,null,null,null,null,null,null,null,null,null,null,null,null,""]
[null,null,null,null,null,null,null,null,null,null,null,null,null,null,null,null,null,null,null,null,null,"","","","","","",0,1,"",null,null,null,null,null,null,null,null,null,null,null,null,null,null,null,null,null,null,null,null,null,null,null,null,null,null,null,null,null,null,null,null,null,null,null,null,null,null,null,null,null,null,null,null,null,null,null,null,null,null,null,null,null,null,null,null,null,null,null,null,null,null,null,null,null,null,null,null,null,null,null,null,null,null,null,null,null,null,null,null,null,null,null,null,null,null,null,null,null,null,null,null,null,null,null,null,null,21.6,null,null,null,null,null,null,null,null,null,null,null,null,null,null,null,null,null,null,null,null,null,null,null,null,null,null,null,null,null,null,""]
[null,null,null,null,null,null,null,null,null,null,null,null,null,null,null,null,null,null,null,null,null,"","","","","","",0,1,"",null,null,null,null,null,null,null,null,null,null,null,null,null,null,null,null,null,null,null,null,null,null,null,null,null,null,null,null,null,null,null,null,null,null,null,null,null,null,null,null,null,null,null,null,null,null,null,null,null,null,null,null,null,null,null,null,null,null,null,null,null,null,null,null,null,null,null,null,null,null,null,null,null,null,null,null,null,null,null,null,null,null,null,null,null,null,null,null,null,null,null,null,null,null,null,null,null,21.7,null,null,null,null,null,null,null,null,null,null,null,null,null,null,null,null,null,null,null,null,null,null,null,null,null,null,null,null,null,null,""]
[null,null,null,null,null,null,null,null,null,null,null,null,null,null,null,null,null,null,null,null,null,"","","","","","",0,1,"",null,null,null,null,null,null,null,null,null,null,null,null,null,null,null,null,null,null,null,null,null,null,null,null,null,null,null,null,null,null,null,null,null,null,null,null,null,null,null,null,null,null,null,null,null,null,null,null,null,null,null,null,null,null,null,null,null,null,null,null,null,null,null,null,null,null,null,null,null,null,null,null,null,null,null,null,null,null,null,null,null,null,null,null,null,null,null,null,null,null,null,null,null,null,null,null,null,21.8,null,null,null,null,null,null,null,null,null,null,null,null,null,null,null,null,null,null,null,null,null,null,null,null,null,null,null,null,null,null,""]
[null,null,null,null,null,null,null,null,null,null,null,null,null,null,null,null,null,null,null,null,null,"","","","","","",0,1,"",null,null,null,null,null,null,null,null,null,null,null,null,null,null,null,null,null,null,null,null,null,null,null,null,null,null,null,null,null,null,null,null,null,null,null,null,null,null,null,null,null,null,null,null,null,null,null,null,null,null,null,null,null,null,null,null,null,null,null,null,null,null,null,null,null,null,null,null,null,null,null,null,null,null,null,null,null,null,null,null,null,null,null,null,null,null,null,null,null,null,null,null,null,null,null,null,null,21.9,null,null,null,null,null,null,null,null,null,null,null,null,null,null,null,null,null,null,null,null,null,null,null,null,null,null,null,null,null,null,""]
[null,null,null,null,null,null,null,null,null,null,null,null,null,null,null,null,null,null,null,null,null,"","","","","","",0,1,"",null,null,null,null,null,null,null,null,null,null,null,null,null,null,null,null,null,null,null,null,null,null,null,null,null,null,null,null,null,null,null,null,null,null,null,null,null,null,null,null,null,null,null,null,null,null,null,null,null,null,null,null,null,null,null,null,null,null,null,null,null,null,null,null,null,null,null,null,null,null,null,null,null,null,null,null,null,null,null,null,null,null,null,null,null,null,null,null,null,null,null,null,null,null,null,null,null,22,null,null,null,null,null,null,null,null,null,null,null,null,null,null,null,null,null,null,null,null,null,null,null,null,null,null,null,null,null,null,""]
[null,null,null,null,null,null,null,null,null,null,null,null,null,null,null,null,null,null,null,null,null,"","","","","","",0,1,"",null,null,null,null,null,null,null,null,null,null,null,null,null,null,null,null,null,null,null,null,null,null,null,null,null,null,null,null,null,null,null,null,null,null,null,null,null,null,null,null,null,null,null,null,null,null,null,null,null,null,null,null,null,null,null,null,null,null,null,null,null,null,null,null,null,null,null,null,null,null,null,null,null,null,null,null,null,null,null,null,null,null,null,null,null,null,null,null,null,null,null,null,null,null,null,null,null,22.1,null,null,null,null,null,null,null,null,null,null,null,null,null,null,null,null,null,null,null,null,null,null,null,null,null,null,null,null,null,null,""]
[null,null,null,null,null,null,null,null,null,null,null,null,null,null,null,null,null,null,null,null,null,{"$f":"IF(L363=\"\",\"\",L363*12/39)","v":""},"","","","","",0,1,"",null,null,null,null,null,null,null,null,null,null,null,null,null,null,null,null,null,null,null,null,null,null,null,null,null,null,null,null,null,null,null,null,null,null,null,null,null,null,null,null,null,null,null,null,null,null,null,null,null,null,null,null,null,null,null,null,null,null,null,null,null,null,null,null,null,null,null,null,null,null,null,null,null,null,null,null,null,null,null,null,null,null,null,null,null,null,null,null,null,null,null,null,null,null,null,null,null,22.2,null,null,null,null,null,null,null,null,null,null,null,null,null,null,null,null,null,null,null,null,null,null,null,null,null,null,null,null,null,null,""]
[null,null,null,null,null,null,null,null,null,null,null,null,null,null,null,null,null,null,null,null,null,"","","","","","",0,1,"",null,null,null,null,null,null,null,null,null,null,null,null,null,null,null,null,null,null,null,null,null,null,null,null,null,null,null,null,null,null,null,null,null,null,null,null,null,null,null,null,null,null,null,null,null,null,null,null,null,null,null,null,null,null,null,null,null,null,null,null,null,null,null,null,null,null,null,null,null,null,null,null,null,null,null,null,null,null,null,null,null,null,null,null,null,null,null,null,null,null,null,null,null,null,null,null,null,22.3,null,null,null,null,null,null,null,null,null,null,null,null,null,null,null,null,null,null,null,null,null,null,null,null,null,null,null,null,null,null,""]
[null,null,null,null,null,null,null,null,null,null,null,null,null,null,null,null,null,null,null,null,null,"","","","","","",0,1,"",null,null,null,null,null,null,null,null,null,null,null,null,null,null,null,null,null,null,null,null,null,null,null,null,null,null,null,null,null,null,null,null,null,null,null,null,null,null,null,null,null,null,null,null,null,null,null,null,null,null,null,null,null,null,null,null,null,null,null,null,null,null,null,null,null,null,null,null,null,null,null,null,null,null,null,null,null,null,null,null,null,null,null,null,null,null,null,null,null,null,null,null,null,null,null,null,null,22.4,null,null,null,null,null,null,null,null,null,null,null,null,null,null,null,null,null,null,null,null,null,null,null,null,null,null,null,null,null,null,""]
[null,null,null,null,null,null,null,null,null,null,null,null,null,null,null,null,null,null,null,null,null,"","","","","","",0,1,"",null,null,null,null,null,null,null,null,null,null,null,null,null,null,null,null,null,null,null,null,null,null,null,null,null,null,null,null,null,null,null,null,null,null,null,null,null,null,null,null,null,null,null,null,null,null,null,null,null,null,null,null,null,null,null,null,null,null,null,null,null,null,null,null,null,null,null,null,null,null,null,null,null,null,null,null,null,null,null,null,null,null,null,null,null,null,null,null,null,null,null,null,null,null,null,null,null,22.5,null,null,null,null,null,null,null,null,null,null,null,null,null,null,null,null,null,null,null,null,null,null,null,null,null,null,null,null,null,null,""]
[null,null,null,null,null,null,null,null,null,null,null,null,null,null,null,null,null,null,null,null,null,"","","","","","",0,1,"",null,null,null,null,null,null,null,null,null,null,null,null,null,null,null,null,null,null,null,null,null,null,null,null,null,null,null,null,null,null,null,null,null,null,null,null,null,null,null,null,null,null,null,null,null,null,null,null,null,null,null,null,null,null,null,null,null,null,null,null,null,null,null,null,null,null,null,null,null,null,null,null,null,null,null,null,null,null,null,null,null,null,null,null,null,null,null,null,null,null,null,null,null,null,null,null,null,22.6,null,null,null,null,null,null,null,null,null,null,null,null,null,null,null,null,null,null,null,null,null,null,null,null,null,null,null,null,null,null,""]
[null,null,null,null,null,null,null,null,null,null,null,null,null,null,null,null,null,null,null,null,null,"","","","","","",0,1,"",null,null,null,null,null,null,null,null,null,null,null,null,null,null,null,null,null,null,null,null,null,null,null,null,null,null,null,null,null,null,null,null,null,null,null,null,null,null,null,null,null,null,null,null,null,null,null,null,null,null,null,null,null,null,null,null,null,null,null,null,null,null,null,null,null,null,null,null,null,null,null,null,null,null,null,null,null,null,null,null,null,null,null,null,null,null,null,null,null,null,null,null,null,null,null,null,null,22.7,null,null,null,null,null,null,null,null,null,null,null,null,null,null,null,null,null,null,null,null,null,null,null,null,null,null,null,null,null,null,""]
[null,null,null,null,null,null,null,null,null,null,null,null,null,null,null,null,null,null,null,null,null,"","","","","","",0,1,"",null,null,null,null,null,null,null,null,null,null,null,null,null,null,null,null,null,null,null,null,null,null,null,null,null,null,null,null,null,null,null,null,null,null,null,null,null,null,null,null,null,null,null,null,null,null,null,null,null,null,null,null,null,null,null,null,null,null,null,null,null,null,null,null,null,null,null,null,null,null,null,null,null,null,null,null,null,null,null,null,null,null,null,null,null,null,null,null,null,null,null,null,null,null,null,null,null,22.8,null,null,null,null,null,null,null,null,null,null,null,null,null,null,null,null,null,null,null,null,null,null,null,null,null,null,null,null,null,null,""]
[null,null,null,null,null,null,null,null,null,null,null,null,null,null,null,null,null,null,null,null,null,"","","","","","",0,1,"",null,null,null,null,null,null,null,null,null,null,null,null,null,null,null,null,null,null,null,null,null,null,null,null,null,null,null,null,null,null,null,null,null,null,null,null,null,null,null,null,null,null,null,null,null,null,null,null,null,null,null,null,null,null,null,null,null,null,null,null,null,null,null,null,null,null,null,null,null,null,null,null,null,null,null,null,null,null,null,null,null,null,null,null,null,null,null,null,null,null,null,null,null,null,null,null,null,22.9,null,null,null,null,null,null,null,null,null,null,null,null,null,null,null,null,null,null,null,null,null,null,null,null,null,null,null,null,null,null,""]
[null,null,null,null,null,null,null,null,null,null,null,null,null,null,null,null,null,null,null,null,null,"","","","","","",0,1,"",null,null,null,null,null,null,null,null,null,null,null,null,null,null,null,null,null,null,null,null,null,null,null,null,null,null,null,null,null,null,null,null,null,null,null,null,null,null,null,null,null,null,null,null,null,null,null,null,null,null,null,null,null,null,null,null,null,null,null,null,null,null,null,null,null,null,null,null,null,null,null,null,null,null,null,null,null,null,null,null,null,null,null,null,null,null,null,null,null,null,null,null,null,null,null,null,null,23,null,null,null,null,null,null,null,null,null,null,null,null,null,null,null,null,null,null,null,null,null,null,null,null,null,null,null,null,null,null,""]
[null,null,null,null,null,null,null,null,null,null,null,null,null,null,null,null,null,null,null,null,null,"","","","","","",0,1,"",null,null,null,null,null,null,null,null,null,null,null,null,null,null,null,null,null,null,null,null,null,null,null,null,null,null,null,null,null,null,null,null,null,null,null,null,null,null,null,null,null,null,null,null,null,null,null,null,null,null,null,null,null,null,null,null,null,null,null,null,null,null,null,null,null,null,null,null,null,null,null,null,null,null,null,null,null,null,null,null,null,null,null,null,null,null,null,null,null,null,null,null,null,null,null,null,null,23.1,null,null,null,null,null,null,null,null,null,null,null,null,null,null,null,null,null,null,null,null,null,null,null,null,null,null,null,null,null,null,""]
[null,null,null,null,null,null,null,null,null,null,null,null,null,null,null,null,null,null,null,null,null,"","","","","","",0,1,"",null,null,null,null,null,null,null,null,null,null,null,null,null,null,null,null,null,null,null,null,null,null,null,null,null,null,null,null,null,null,null,null,null,null,null,null,null,null,null,null,null,null,null,null,null,null,null,null,null,null,null,null,null,null,null,null,null,null,null,null,null,null,null,null,null,null,null,null,null,null,null,null,null,null,null,null,null,null,null,null,null,null,null,null,null,null,null,null,null,null,null,null,null,null,null,null,null,23.2,null,null,null,null,null,null,null,null,null,null,null,null,null,null,null,null,null,null,null,null,null,null,null,null,null,null,null,null,null,null,""]
[null,null,null,null,null,null,null,null,null,null,null,null,null,null,null,null,null,null,null,null,null,"","","","","","",0,1,"",null,null,null,null,null,null,null,null,null,null,null,null,null,null,null,null,null,null,null,null,null,null,null,null,null,null,null,null,null,null,null,null,null,null,null,null,null,null,null,null,null,null,null,null,null,null,null,null,null,null,null,null,null,null,null,null,null,null,null,null,null,null,null,null,null,null,null,null,null,null,null,null,null,null,null,null,null,null,null,null,null,null,null,null,null,null,null,null,null,null,null,null,null,null,null,null,null,23.3,null,null,null,null,null,null,null,null,null,null,null,null,null,null,null,null,null,null,null,null,null,null,null,null,null,null,null,null,null,null,""]
[null,null,null,null,null,null,null,null,null,null,null,null,null,null,null,null,null,null,null,null,null,"","","","","","",0,1,"",null,null,null,null,null,null,null,null,null,null,null,null,null,null,null,null,null,null,null,null,null,null,null,null,null,null,null,null,null,null,null,null,null,null,null,null,null,null,null,null,null,null,null,null,null,null,null,null,null,null,null,null,null,null,null,null,null,null,null,null,null,null,null,null,null,null,null,null,null,null,null,null,null,null,null,null,null,null,null,null,null,null,null,null,null,null,null,null,null,null,null,null,null,null,null,null,null,23.4,null,null,null,null,null,null,null,null,null,null,null,null,null,null,null,null,null,null,null,null,null,null,null,null,null,null,null,null,null,null,""]
[null,null,null,null,null,null,null,null,null,null,null,null,null,null,null,null,null,null,null,null,null,"","","","","","",0,1,"",null,null,null,null,null,null,null,null,null,null,null,null,null,null,null,null,null,null,null,null,null,null,null,null,null,null,null,null,null,null,null,null,null,null,null,null,null,null,null,null,null,null,null,null,null,null,null,null,null,null,null,null,null,null,null,null,null,null,null,null,null,null,null,null,null,null,null,null,null,null,null,null,null,null,null,null,null,null,null,null,null,null,null,null,null,null,null,null,null,null,null,null,null,null,null,null,null,23.5,null,null,null,null,null,null,null,null,null,null,null,null,null,null,null,null,null,null,null,null,null,null,null,null,null,null,null,null,null,null,""]
[null,null,null,null,null,null,null,null,null,null,null,null,null,null,null,null,null,null,null,null,null,"","","","","","",0,1,"",null,null,null,null,null,null,null,null,null,null,null,null,null,null,null,null,null,null,null,null,null,null,null,null,null,null,null,null,null,null,null,null,null,null,null,null,null,null,null,null,null,null,null,null,null,null,null,null,null,null,null,null,null,null,null,null,null,null,null,null,null,null,null,null,null,null,null,null,null,null,null,null,null,null,null,null,null,null,null,null,null,null,null,null,null,null,null,null,null,null,null,null,null,null,null,null,null,23.6,null,null,null,null,null,null,null,null,null,null,null,null,null,null,null,null,null,null,null,null,null,null,null,null,null,null,null,null,null,null,""]
[null,null,null,null,null,null,null,null,null,null,null,null,null,null,null,null,null,null,null,null,null,"","","","","","",0,1,"",null,null,null,null,null,null,null,null,null,null,null,null,null,null,null,null,null,null,null,null,null,null,null,null,null,null,null,null,null,null,null,null,null,null,null,null,null,null,null,null,null,null,null,null,null,null,null,null,null,null,null,null,null,null,null,null,null,null,null,null,null,null,null,null,null,null,null,null,null,null,null,null,null,null,null,null,null,null,null,null,null,null,null,null,null,null,null,null,null,null,null,null,null,null,null,null,null,23.7,null,null,null,null,null,null,null,null,null,null,null,null,null,null,null,null,null,null,null,null,null,null,null,null,null,null,null,null,null,null,""]
[null,null,null,null,null,null,null,null,null,null,null,null,null,null,null,null,null,null,null,null,null,"","","","","","",0,1,"",null,null,null,null,null,null,null,null,null,null,null,null,null,null,null,null,null,null,null,null,null,null,null,null,null,null,null,null,null,null,null,null,null,null,null,null,null,null,null,null,null,null,null,null,null,null,null,null,null,null,null,null,null,null,null,null,null,null,null,null,null,null,null,null,null,null,null,null,null,null,null,null,null,null,null,null,null,null,null,null,null,null,null,null,null,null,null,null,null,null,null,null,null,null,null,null,null,23.8,null,null,null,null,null,null,null,null,null,null,null,null,null,null,null,null,null,null,null,null,null,null,null,null,null,null,null,null,null,null,""]
[null,null,null,null,null,null,null,null,null,null,null,null,null,null,null,null,null,null,null,null,null,"","","","","","",0,1,"",null,null,null,null,null,null,null,null,null,null,null,null,null,null,null,null,null,null,null,null,null,null,null,null,null,null,null,null,null,null,null,null,null,null,null,null,null,null,null,null,null,null,null,null,null,null,null,null,null,null,null,null,null,null,null,null,null,null,null,null,null,null,null,null,null,null,null,null,null,null,null,null,null,null,null,null,null,null,null,null,null,null,null,null,null,null,null,null,null,null,null,null,null,null,null,null,null,23.9,null,null,null,null,null,null,null,null,null,null,null,null,null,null,null,null,null,null,null,null,null,null,null,null,null,null,null,null,null,null,""]
[null,null,null,null,null,null,null,null,null,null,null,null,null,null,null,null,null,null,null,null,null,"","","","","","",0,1,"",null,null,null,null,null,null,null,null,null,null,null,null,null,null,null,null,null,null,null,null,null,null,null,null,null,null,null,null,null,null,null,null,null,null,null,null,null,null,null,null,null,null,null,null,null,null,null,null,null,null,null,null,null,null,null,null,null,null,null,null,null,null,null,null,null,null,null,null,null,null,null,null,null,null,null,null,null,null,null,null,null,null,null,null,null,null,null,null,null,null,null,null,null,null,null,null,null,24,null,null,null,null,null,null,null,null,null,null,null,null,null,null,null,null,null,null,null,null,null,null,null,null,null,null,null,null,null,null,""]
[null,null,null,null,null,null,null,null,null,null,null,null,null,null,null,null,null,null,null,null,null,"","","","","","",0,1,"",null,null,null,null,null,null,null,null,null,null,null,null,null,null,null,null,null,null,null,null,null,null,null,null,null,null,null,null,null,null,null,null,null,null,null,null,null,null,null,null,null,null,null,null,null,null,null,null,null,null,null,null,null,null,null,null,null,null,null,null,null,null,null,null,null,null,null,null,null,null,null,null,null,null,null,null,null,null,null,null,null,null,null,null,null,null,null,null,null,null,null,null,null,null,null,null,null,24.1,null,null,null,null,null,null,null,null,null,null,null,null,null,null,null,null,null,null,null,null,null,null,null,null,null,null,null,null,null,null,""]
[null,null,null,null,null,null,null,null,null,null,null,null,null,null,null,null,null,null,null,null,null,"","","","","","",0,1,"",null,null,null,null,null,null,null,null,null,null,null,null,null,null,null,null,null,null,null,null,null,null,null,null,null,null,null,null,null,null,null,null,null,null,null,null,null,null,null,null,null,null,null,null,null,null,null,null,null,null,null,null,null,null,null,null,null,null,null,null,null,null,null,null,null,null,null,null,null,null,null,null,null,null,null,null,null,null,null,null,null,null,null,null,null,null,null,null,null,null,null,null,null,null,null,null,null,24.2,null,null,null,null,null,null,null,null,null,null,null,null,null,null,null,null,null,null,null,null,null,null,null,null,null,null,null,null,null,null,""]
[null,null,null,null,null,null,null,null,null,null,null,null,null,null,null,null,null,null,null,null,null,"","","","","","",0,1,"",null,null,null,null,null,null,null,null,null,null,null,null,null,null,null,null,null,null,null,null,null,null,null,null,null,null,null,null,null,null,null,null,null,null,null,null,null,null,null,null,null,null,null,null,null,null,null,null,null,null,null,null,null,null,null,null,null,null,null,null,null,null,null,null,null,null,null,null,null,null,null,null,null,null,null,null,null,null,null,null,null,null,null,null,null,null,null,null,null,null,null,null,null,null,null,null,null,24.3,null,null,null,null,null,null,null,null,null,null,null,null,null,null,null,null,null,null,null,null,null,null,null,null,null,null,null,null,null,null,""]
[null,null,null,null,null,null,null,null,null,null,null,null,null,null,null,null,null,null,null,null,null,"","","","","","",0,1,"",null,null,null,null,null,null,null,null,null,null,null,null,null,null,null,null,null,null,null,null,null,null,null,null,null,null,null,null,null,null,null,null,null,null,null,null,null,null,null,null,null,null,null,null,null,null,null,null,null,null,null,null,null,null,null,null,null,null,null,null,null,null,null,null,null,null,null,null,null,null,null,null,null,null,null,null,null,null,null,null,null,null,null,null,null,null,null,null,null,null,null,null,null,null,null,null,null,24.4,null,null,null,null,null,null,null,null,null,null,null,null,null,null,null,null,null,null,null,null,null,null,null,null,null,null,null,null,null,null,""]
[null,null,null,null,null,null,null,null,null,null,null,null,null,null,null,null,null,null,null,null,null,"","","","","","",0,1,"",null,null,null,null,null,null,null,null,null,null,null,null,null,null,null,null,null,null,null,null,null,null,null,null,null,null,null,null,null,null,null,null,null,null,null,null,null,null,null,null,null,null,null,null,null,null,null,null,null,null,null,null,null,null,null,null,null,null,null,null,null,null,null,null,null,null,null,null,null,null,null,null,null,null,null,null,null,null,null,null,null,null,null,null,null,null,null,null,null,null,null,null,null,null,null,null,null,24.5,null,null,null,null,null,null,null,null,null,null,null,null,null,null,null,null,null,null,null,null,null,null,null,null,null,null,null,null,null,null,""]
[null,null,null,null,null,null,null,null,null,null,null,null,null,null,null,null,null,null,null,null,null,"","","","","","",0,1,"",null,null,null,null,null,null,null,null,null,null,null,null,null,null,null,null,null,null,null,null,null,null,null,null,null,null,null,null,null,null,null,null,null,null,null,null,null,null,null,null,null,null,null,null,null,null,null,null,null,null,null,null,null,null,null,null,null,null,null,null,null,null,null,null,null,null,null,null,null,null,null,null,null,null,null,null,null,null,null,null,null,null,null,null,null,null,null,null,null,null,null,null,null,null,null,null,null,null,null,null,null,null,null,null,null,null,null,null,null,null,null,null,null,null,null,null,null,null,null,null,null,null,null,null,null,null,null,null,""]
[null,null,null,null,null,null,null,null,null,null,null,null,null,null,null,null,null,null,null,null,null,"","","","","","",0,1,"",null,null,null,null,null,null,null,null,null,null,null,null,null,null,null,null,null,null,null,null,null,null,null,null,null,null,null,null,null,null,null,null,null,null,null,null,null,null,null,null,null,null,null,null,null,null,null,null,null,null,null,null,null,null,null,null,null,null,null,null,null,null,null,null,null,null,null,null,null,null,null,null,null,null,null,null,null,null,null,null,null,null,null,null,null,null,null,null,null,null,null,null,null,null,null,null,null,null,null,null,null,null,null,null,null,null,null,null,null,null,null,null,null,null,null,null,null,null,null,null,null,null,null,null,null,null,null,null,""]
[null,null,null,null,null,null,null,null,null,null,null,null,null,null,null,null,null,null,null,null,null,"","","","","","",0,1,"",null,null,null,null,null,null,null,null,null,null,null,null,null,null,null,null,null,null,null,null,null,null,null,null,null,null,null,null,null,null,null,null,null,null,null,null,null,null,null,null,null,null,null,null,null,null,null,null,null,null,null,null,null,null,null,null,null,null,null,null,null,null,null,null,null,null,null,null,null,null,null,null,null,null,null,null,null,null,null,null,null,null,null,null,null,null,null,null,null,null,null,null,null,null,null,null,null,null,null,null,null,null,null,null,null,null,null,null,null,null,null,null,null,null,null,null,null,null,null,null,null,null,null,null,null,null,null,null,""]
[null,null,null,null,null,null,null,null,null,null,null,null,null,null,null,null,null,null,null,null,null,"","","","","","",0,1,"",null,null,null,null,null,null,null,null,null,null,null,null,null,null,null,null,null,null,null,null,null,null,null,null,null,null,null,null,null,null,null,null,null,null,null,null,null,null,null,null,null,null,null,null,null,null,null,null,null,null,null,null,null,null,null,null,null,null,null,null,null,null,null,null,null,null,null,null,null,null,null,null,null,null,null,null,null,null,null,null,null,null,null,null,null,null,null,null,null,null,null,null,null,null,null,null,null,null,null,null,null,null,null,null,null,null,null,null,null,null,null,null,null,null,null,null,null,null,null,null,null,null,null,null,null,null,null,null,""]
[null,null,null,null,null,null,null,null,null,null,null,null,null,null,null,null,null,null,null,null,null,"","","","","","",0,1,"",null,null,null,null,null,null,null,null,null,null,null,null,null,null,null,null,null,null,null,null,null,null,null,null,null,null,null,null,null,null,null,null,null,null,null,null,null,null,null,null,null,null,null,null,null,null,null,null,null,null,null,null,null,null,null,null,null,null,null,null,null,null,null,null,null,null,null,null,null,null,null,null,null,null,null,null,null,null,null,null,null,null,null,null,null,null,null,null,null,null,null,null,null,null,null,null,null,null,null,null,null,null,null,null,null,null,null,null,null,null,null,null,null,null,null,null,null,null,null,null,null,null,null,null,null,null,null,null,""]
[null,null,null,null,null,null,null,null,null,null,null,null,null,null,null,null,null,null,null,null,null,"","","","","","",0,1,"",null,null,null,null,null,null,null,null,null,null,null,null,null,null,null,null,null,null,null,null,null,null,null,null,null,null,null,null,null,null,null,null,null,null,null,null,null,null,null,null,null,null,null,null,null,null,null,null,null,null,null,null,null,null,null,null,null,null,null,null,null,null,null,null,null,null,null,null,null,null,null,null,null,null,null,null,null,null,null,null,null,null,null,null,null,null,null,null,null,null,null,null,null,null,null,null,null,null,null,null,null,null,null,null,null,null,null,null,null,null,null,null,null,null,null,null,null,null,null,null,null,null,null,null,null,null,null,null,""]
[null,null,null,null,null,null,null,null,null,null,null,null,null,null,null,null,null,null,null,null,null,"","","","","","",0,1,"",null,null,null,null,null,null,null,null,null,null,null,null,null,null,null,null,null,null,null,null,null,null,null,null,null,null,null,null,null,null,null,null,null,null,null,null,null,null,null,null,null,null,null,null,null,null,null,null,null,null,null,null,null,null,null,null,null,null,null,null,null,null,null,null,null,null,null,null,null,null,null,null,null,null,null,null,null,null,null,null,null,null,null,null,null,null,null,null,null,null,null,null,null,null,null,null,null,null,null,null,null,null,null,null,null,null,null,null,null,null,null,null,null,null,null,null,null,null,null,null,null,null,null,null,null,null,null,null,""]
[null,null,null,null,null,null,null,null,null,null,null,null,null,null,null,null,null,null,null,null,null,"","","","","","",0,1,"",null,null,null,null,null,null,null,null,null,null,null,null,null,null,null,null,null,null,null,null,null,null,null,null,null,null,null,null,null,null,null,null,null,null,null,null,null,null,null,null,null,null,null,null,null,null,null,null,null,null,null,null,null,null,null,null,null,null,null,null,null,null,null,null,null,null,null,null,null,null,null,null,null,null,null,null,null,null,null,null,null,null,null,null,null,null,null,null,null,null,null,null,null,null,null,null,null,null,null,null,null,null,null,null,null,null,null,null,null,null,null,null,null,null,null,null,null,null,null,null,null,null,null,null,null,null,null,null,""]
[null,null,null,null,null,null,null,null,null,null,null,null,null,null,null,null,null,null,null,null,null,{"$f":"IF(L395=\"\",\"\",L395*12/39)","v":""},"","","","","",0,1,"",null,null,null,null,null,null,null,null,null,null,null,null,null,null,null,null,null,null,null,null,null,null,null,null,null,null,null,null,null,null,null,null,null,null,null,null,null,null,null,null,null,null,null,null,null,null,null,null,null,null,null,null,null,null,null,null,null,null,null,null,null,null,null,null,null,null,null,null,null,null,null,null,null,null,null,null,null,null,null,null,null,null,null,null,null,null,null,null,null,null,null,null,null,null,null,null,null,null,null,null,null,null,null,null,null,null,null,null,null,null,null,null,null,null,null,null,null,null,null,null,null,null,null,null,null,null,null,null,""]
[null,null,null,null,null,null,null,null,null,null,null,null,null,null,null,null,null,null,null,null,null,"","","","","","",0,1,"",null,null,null,null,null,null,null,null,null,null,null,null,null,null,null,null,null,null,null,null,null,null,null,null,null,null,null,null,null,null,null,null,null,null,null,null,null,null,null,null,null,null,null,null,null,null,null,null,null,null,null,null,null,null,null,null,null,null,null,null,null,null,null,null,null,null,null,null,null,null,null,null,null,null,null,null,null,null,null,null,null,null,null,null,null,null,null,null,null,null,null,null,null,null,null,null,null,null,null,null,null,null,null,null,null,null,null,null,null,null,null,null,null,null,null,null,null,null,null,null,null,null,null,null,null,null,null,null,""]
[null,null,null,null,null,null,null,null,null,null,null,null,null,null,null,null,null,null,null,null,null,"","","","","","",0,1,"",null,null,null,null,null,null,null,null,null,null,null,null,null,null,null,null,null,null,null,null,null,null,null,null,null,null,null,null,null,null,null,null,null,null,null,null,null,null,null,null,null,null,null,null,null,null,null,null,null,null,null,null,null,null,null,null,null,null,null,null,null,null,null,null,null,null,null,null,null,null,null,null,null,null,null,null,null,null,null,null,null,null,null,null,null,null,null,null,null,null,null,null,null,null,null,null,null,null,null,null,null,null,null,null,null,null,null,null,null,null,null,null,null,null,null,null,null,null,null,null,null,null,null,null,null,null,null,null,""]
[null,null,null,null,null,null,null,null,null,null,null,null,null,null,null,null,null,null,null,null,null,"","","","","","",0,1,"",null,null,null,null,null,null,null,null,null,null,null,null,null,null,null,null,null,null,null,null,null,null,null,null,null,null,null,null,null,null,null,null,null,null,null,null,null,null,null,null,null,null,null,null,null,null,null,null,null,null,null,null,null,null,null,null,null,null,null,null,null,null,null,null,null,null,null,null,null,null,null,null,null,null,null,null,null,null,null,null,null,null,null,null,null,null,null,null,null,null,null,null,null,null,null,null,null,null,null,null,null,null,null,null,null,null,null,null,null,null,null,null,null,null,null,null,null,null,null,null,null,null,null,null,null,null,null,null,""]
[null,null,null,null,null,null,null,null,null,null,null,null,null,null,null,null,null,null,null,null,null,"","","","","","",0,1,"",null,null,null,null,null,null,null,null,null,null,null,null,null,null,null,null,null,null,null,null,null,null,null,null,null,null,null,null,null,null,null,null,null,null,null,null,null,null,null,null,null,null,null,null,null,null,null,null,null,null,null,null,null,null,null,null,null,null,null,null,null,null,null,null,null,null,null,null,null,null,null,null,null,null,null,null,null,null,null,null,null,null,null,null,null,null,null,null,null,null,null,null,null,null,null,null,null,null,null,null,null,null,null,null,null,null,null,null,null,null,null,null,null,null,null,null,null,null,null,null,null,null,null,null,null,null,null,null,""]
[null,null,null,null,null,null,null,null,null,null,null,null,null,null,null,null,null,null,null,null,null,"","","","","","",0,1,"",null,null,null,null,null,null,null,null,null,null,null,null,null,null,null,null,null,null,null,null,null,null,null,null,null,null,null,null,null,null,null,null,null,null,null,null,null,null,null,null,null,null,null,null,null,null,null,null,null,null,null,null,null,null,null,null,null,null,null,null,null,null,null,null,null,null,null,null,null,null,null,null,null,null,null,null,null,null,null,null,null,null,null,null,null,null,null,null,null,null,null,null,null,null,null,null,null,null,null,null,null,null,null,null,null,null,null,null,null,null,null,null,null,null,null,null,null,null,null,null,null,null,null,null,null,null,null,null,""]
[null,null,null,null,null,null,null,null,null,null,null,null,null,null,null,null,null,null,null,null,null,"","","","","","",0,1,"",null,null,null,null,null,null,null,null,null,null,null,null,null,null,null,null,null,null,null,null,null,null,null,null,null,null,null,null,null,null,null,null,null,null,null,null,null,null,null,null,null,null,null,null,null,null,null,null,null,null,null,null,null,null,null,null,null,null,null,null,null,null,null,null,null,null,null,null,null,null,null,null,null,null,null,null,null,null,null,null,null,null,null,null,null,null,null,null,null,null,null,null,null,null,null,null,null,null,null,null,null,null,null,null,null,null,null,null,null,null,null,null,null,null,null,null,null,null,null,null,null,null,null,null,null,null,null,null,""]
[null,null,null,null,null,null,null,null,null,null,null,null,null,null,null,null,null,null,null,null,null,"","","","","","",0,1,"",null,null,null,null,null,null,null,null,null,null,null,null,null,null,null,null,null,null,null,null,null,null,null,null,null,null,null,null,null,null,null,null,null,null,null,null,null,null,null,null,null,null,null,null,null,null,null,null,null,null,null,null,null,null,null,null,null,null,null,null,null,null,null,null,null,null,null,null,null,null,null,null,null,null,null,null,null,null,null,null,null,null,null,null,null,null,null,null,null,null,null,null,null,null,null,null,null,null,null,null,null,null,null,null,null,null,null,null,null,null,null,null,null,null,null,null,null,null,null,null,null,null,null,null,null,null,null,null,""]
[null,null,null,null,null,null,null,null,null,null,null,null,null,null,null,null,null,null,null,null,null,"",{"$f":"IF(F262=\"\",\"\",IF(ISNUMBER(SEARCH(F262,\"d\")),IF(ISNUMBER(SEARCH(G262,\"c\")),\"CS\",IF(ISNUMBER(SEARCH(G262,\"u\")),\"UU\")),\"\"))","v":""},{"$f":"IF(F262=\"\",\"\",IF(ISNUMBER(SEARCH(F262,\"e\")),IF(ISNUMBER(SEARCH(G262,\"c\")),IF(ISNUMBER(SEARCH(H262,\"a\")),\"CS\",\"CU\"),IF(ISNUMBER(SEARCH(H262,\"a\")),\"US\",\"UU\")),\"\"))","v":""},{"$f":"IF(W262=\"\",X262,W262)","v":""},{"$f":"IF($Y262=\"cs\",1,IF($Y262=\"cu\",2,IF($Y262=\"us\",3,IF($Y262=\"uu\",4,\"\"))))","v":""},{"$f":"IF(A262=\"\",\"\",A262)","v":""},{"$f":"C262","v":0},1,{"$f":"IF(AA262<>\"\",SUMIF(AC:AC,AA262,AB:AB),\"\")","v":""},null,null,null,null,null,null,null,null,null,null,null,null,null,null,null,null,null,null,null,null,null,null,null,null,null,null,null,null,null,null,null,null,null,null,null,null,null,null,null,null,null,null,null,null,null,null,null,null,null,null,null,null,null,null,null,null,null,null,null,null,null,null,null,null,null,null,null,null,null,null,null,null,null,null,null,null,null,null,null,null,null,null,null,null,null,null,null,null,null,null,null,null,null,null,null,null,null,null,null,null,null,null,null,null,null,null,null,null,null,null,null,null,null,null,null,null,null,null,null,null,null,null,null,null,null,null,null,null,""]
[null,null,null,null,null,null,null,null,null,null,null,null,null,null,null,null,null,null,null,null,null,"","","","","","",0,{"$f":"IF(A263>A262,A263,AC262)","v":1},"",null,null,null,null,null,null,null,null,null,null,null,null,null,null,null,null,null,null,null,null,null,null,null,null,null,null,null,null,null,null,null,null,null,null,null,null,null,null,null,null,null,null,null,null,null,null,null,null,null,null,null,null,null,null,null,null,null,null,null,null,null,null,null,null,null,null,null,null,null,null,null,null,null,null,null,null,null,null,null,null,null,null,null,null,null,null,null,null,null,null,null,null,null,null,null,null,null,null,null,null,null,null,null,null,null,null,null,null,null,null,null,null,null,null,null,null,null,null,null,null,null,null,null,null,null,null,null,null,{"$f":"IF(E263=\"\",\"\",E263+1)","v":""}]
[null,null,null,null,null,null,null,null,null,null,null,null,null,null,null,null,null,null,null,null,null,"","","","","","",0,1,"",null,null,null,null,null,null,null,null,null,null,null,null,null,null,null,null,null,null,null,null,null,null,null,null,null,null,null,null,null,null,null,null,null,null,null,null,null,null,null,null,null,null,null,null,null,null,null,null,null,null,null,null,null,null,null,null,null,null,null,null,null,null,null,null,null,null,null,null,null,null,null,null,null,null,null,null,null,null,null,null,null,null,null,null,null,null,null,null,null,null,null,null,null,null,null,null,null,null,null,null,null,null,null,null,null,null,null,null,null,null,null,null,null,null,null,null,null,null,null,null,null,null,null,null,null,null,null,null,""]
[null,null,null,null,null,null,null,null,null,null,null,null,null,null,null,null,null,null,null,null,null,"","","","","","",0,1,"",null,null,null,null,null,null,null,null,null,null,null,null,null,null,null,null,null,null,null,null,null,null,null,null,null,null,null,null,null,null,null,null,null,null,null,null,null,null,null,null,null,null,null,null,null,null,null,null,null,null,null,null,null,null,null,null,null,null,null,null,null,null,null,null,null,null,null,null,null,null,null,null,null,null,null,null,null,null,null,null,null,null,null,null,null,null,null,null,null,null,null,null,null,null,null,null,null,null,null,null,null,null,null,null,null,null,null,null,null,null,null,null,null,null,null,null,null,null,null,null,null,null,null,null,null,null,null,null,""]
[null,null,null,null,null,null,null,null,null,null,null,null,null,null,null,null,null,null,null,null,null,"","","","","","",0,1,"",null,null,null,null,null,null,null,null,null,null,null,null,null,null,null,null,null,null,null,null,null,null,null,null,null,null,null,null,null,null,null,null,null,null,null,null,null,null,null,null,null,null,null,null,null,null,null,null,null,null,null,null,null,null,null,null,null,null,null,null,null,null,null,null,null,null,null,null,null,null,null,null,null,null,null,null,null,null,null,null,null,null,null,null,null,null,null,null,null,null,null,null,null,null,null,null,null,null,null,null,null,null,null,null,null,null,null,null,null,null,null,null,null,null,null,null,null,null,null,null,null,null,null,null,null,null,null,null,""]
[null,null,null,null,null,null,null,null,null,null,null,null,null,null,null,null,null,null,null,null,null,"","","","","","",0,1,"",null,null,null,null,null,null,null,null,null,null,null,null,null,null,null,null,null,null,null,null,null,null,null,null,null,null,null,null,null,null,null,null,null,null,null,null,null,null,null,null,null,null,null,null,null,null,null,null,null,null,null,null,null,null,null,null,null,null,null,null,null,null,null,null,null,null,null,null,null,null,null,null,null,null,null,null,null,null,null,null,null,null,null,null,null,null,null,null,null,null,null,null,null,null,null,null,null,null,null,null,null,null,null,null,null,null,null,null,null,null,null,null,null,null,null,null,null,null,null,null,null,null,null,null,null,null,null,null,""]
[null,null,null,null,null,null,null,null,null,null,null,null,null,null,null,null,null,null,null,null,null,"","","","","","",0,1,"",null,null,null,null,null,null,null,null,null,null,null,null,null,null,null,null,null,null,null,null,null,null,null,null,null,null,null,null,null,null,null,null,null,null,null,null,null,null,null,null,null,null,null,null,null,null,null,null,null,null,null,null,null,null,null,null,null,null,null,null,null,null,null,null,null,null,null,null,null,null,null,null,null,null,null,null,null,null,null,null,null,null,null,null,null,null,null,null,null,null,null,null,null,null,null,null,null,null,null,null,null,null,null,null,null,null,null,null,null,null,null,null,null,null,null,null,null,null,null,null,null,null,null,null,null,null,null,null,""]
[null,null,null,null,null,null,null,null,null,null,null,null,null,null,null,null,null,null,null,null,null,"","","","","","",0,1,"",null,null,null,null,null,null,null,null,null,null,null,null,null,null,null,null,null,null,null,null,null,null,null,null,null,null,null,null,null,null,null,null,null,null,null,null,null,null,null,null,null,null,null,null,null,null,null,null,null,null,null,null,null,null,null,null,null,null,null,null,null,null,null,null,null,null,null,null,null,null,null,null,null,null,null,null,null,null,null,null,null,null,null,null,null,null,null,null,null,null,null,null,null,null,null,null,null,null,null,null,null,null,null,null,null,null,null,null,null,null,null,null,null,null,null,null,null,null,null,null,null,null,null,null,null,null,null,null,""]
[null,null,null,null,null,null,null,null,null,null,null,null,null,null,null,null,null,null,null,null,null,"","","","","","",0,1,"",null,null,null,null,null,null,null,null,null,null,null,null,null,null,null,null,null,null,null,null,null,null,null,null,null,null,null,null,null,null,null,null,null,null,null,null,null,null,null,null,null,null,null,null,null,null,null,null,null,null,null,null,null,null,null,null,null,null,null,null,null,null,null,null,null,null,null,null,null,null,null,null,null,null,null,null,null,null,null,null,null,null,null,null,null,null,null,null,null,null,null,null,null,null,null,null,null,null,null,null,null,null,null,null,null,null,null,null,null,null,null,null,null,null,null,null,null,null,null,null,null,null,null,null,null,null,null,null,""]
[null,null,null,null,null,null,null,null,null,null,null,null,null,null,null,null,null,null,null,null,null,"","","","","","",0,1,"",null,null,null,null,null,null,null,null,null,null,null,null,null,null,null,null,null,null,null,null,null,null,null,null,null,null,null,null,null,null,null,null,null,null,null,null,null,null,null,null,null,null,null,null,null,null,null,null,null,null,null,null,null,null,null,null,null,null,null,null,null,null,null,null,null,null,null,null,null,null,null,null,null,null,null,null,null,null,null,null,null,null,null,null,null,null,null,null,null,null,null,null,null,null,null,null,null,null,null,null,null,null,null,null,null,null,null,null,null,null,null,null,null,null,null,null,null,null,null,null,null,null,null,null,null,null,null,null,""]
[null,null,null,null,null,null,null,null,null,null,null,null,null,null,null,null,null,null,null,null,null,"","","","","","",0,1,"",null,null,null,null,null,null,null,null,null,null,null,null,null,null,null,null,null,null,null,null,null,null,null,null,null,null,null,null,null,null,null,null,null,null,null,null,null,null,null,null,null,null,null,null,null,null,null,null,null,null,null,null,null,null,null,null,null,null,null,null,null,null,null,null,null,null,null,null,null,null,null,null,null,null,null,null,null,null,null,null,null,null,null,null,null,null,null,null,null,null,null,null,null,null,null,null,null,null,null,null,null,null,null,null,null,null,null,null,null,null,null,null,null,null,null,null,null,null,null,null,null,null,null,null,null,null,null,null,""]
[null,null,null,null,null,null,null,null,null,null,null,null,null,null,null,null,null,null,null,null,null,"","","","","","",0,1,"",null,null,null,null,null,null,null,null,null,null,null,null,null,null,null,null,null,null,null,null,null,null,null,null,null,null,null,null,null,null,null,null,null,null,null,null,null,null,null,null,null,null,null,null,null,null,null,null,null,null,null,null,null,null,null,null,null,null,null,null,null,null,null,null,null,null,null,null,null,null,null,null,null,null,null,null,null,null,null,null,null,null,null,null,null,null,null,null,null,null,null,null,null,null,null,null,null,null,null,null,null,null,null,null,null,null,null,null,null,null,null,null,null,null,null,null,null,null,null,null,null,null,null,null,null,null,null,null,""]
[null,null,null,null,null,null,null,null,null,null,null,null,null,null,null,null,null,null,null,null,null,"","","","","","",0,1,"",null,null,null,null,null,null,null,null,null,null,null,null,null,null,null,null,null,null,null,null,null,null,null,null,null,null,null,null,null,null,null,null,null,null,null,null,null,null,null,null,null,null,null,null,null,null,null,null,null,null,null,null,null,null,null,null,null,null,null,null,null,null,null,null,null,null,null,null,null,null,null,null,null,null,null,null,null,null,null,null,null,null,null,null,null,null,null,null,null,null,null,null,null,null,null,null,null,null,null,null,null,null,null,null,null,null,null,null,null,null,null,null,null,null,null,null,null,null,null,null,null,null,null,null,null,null,null,null,""]
[null,null,null,null,null,null,null,null,null,null,null,null,null,null,null,null,null,null,null,null,null,"","","","","","",0,1,"",null,null,null,null,null,null,null,null,null,null,null,null,null,null,null,null,null,null,null,null,null,null,null,null,null,null,null,null,null,null,null,null,null,null,null,null,null,null,null,null,null,null,null,null,null,null,null,null,null,null,null,null,null,null,null,null,null,null,null,null,null,null,null,null,null,null,null,null,null,null,null,null,null,null,null,null,null,null,null,null,null,null,null,null,null,null,null,null,null,null,null,null,null,null,null,null,null,null,null,null,null,null,null,null,null,null,null,null,null,null,null,null,null,null,null,null,null,null,null,null,null,null,null,null,null,null,null,null,""]
[null,null,null,null,null,null,null,null,null,null,null,null,null,null,null,null,null,null,null,null,null,"","","","","","",0,1,"",null,null,null,null,null,null,null,null,null,null,null,null,null,null,null,null,null,null,null,null,null,null,null,null,null,null,null,null,null,null,null,null,null,null,null,null,null,null,null,null,null,null,null,null,null,null,null,null,null,null,null,null,null,null,null,null,null,null,null,null,null,null,null,null,null,null,null,null,null,null,null,null,null,null,null,null,null,null,null,null,null,null,null,null,null,null,null,null,null,null,null,null,null,null,null,null,null,null,null,null,null,null,null,null,null,null,null,null,null,null,null,null,null,null,null,null,null,null,null,null,null,null,null,null,null,null,null,null,""]
[null,null,null,null,null,null,null,null,null,null,null,null,null,null,null,null,null,null,null,null,null,"","","","","","",0,1,"",null,null,null,null,null,null,null,null,null,null,null,null,null,null,null,null,null,null,null,null,null,null,null,null,null,null,null,null,null,null,null,null,null,null,null,null,null,null,null,null,null,null,null,null,null,null,null,null,null,null,null,null,null,null,null,null,null,null,null,null,null,null,null,null,null,null,null,null,null,null,null,null,null,null,null,null,null,null,null,null,null,null,null,null,null,null,null,null,null,null,null,null,null,null,null,null,null,null,null,null,null,null,null,null,null,null,null,null,null,null,null,null,null,null,null,null,null,null,null,null,null,null,null,null,null,null,null,null,""]
[null,null,null,null,null,null,null,null,null,null,null,null,null,null,null,null,null,null,null,null,null,"","","","","","",0,1,"",null,null,null,null,null,null,null,null,null,null,null,null,null,null,null,null,null,null,null,null,null,null,null,null,null,null,null,null,null,null,null,null,null,null,null,null,null,null,null,null,null,null,null,null,null,null,null,null,null,null,null,null,null,null,null,null,null,null,null,null,null,null,null,null,null,null,null,null,null,null,null,null,null,null,null,null,null,null,null,null,null,null,null,null,null,null,null,null,null,null,null,null,null,null,null,null,null,null,null,null,null,null,null,null,null,null,null,null,null,null,null,null,null,null,null,null,null,null,null,null,null,null,null,null,null,null,null,null,""]
[null,null,null,null,null,null,null,null,null,null,null,null,null,null,null,null,null,null,null,null,null,"","","","","","",0,1,"",null,null,null,null,null,null,null,null,null,null,null,null,null,null,null,null,null,null,null,null,null,null,null,null,null,null,null,null,null,null,null,null,null,null,null,null,null,null,null,null,null,null,null,null,null,null,null,null,null,null,null,null,null,null,null,null,null,null,null,null,null,null,null,null,null,null,null,null,null,null,null,null,null,null,null,null,null,null,null,null,null,null,null,null,null,null,null,null,null,null,null,null,null,null,null,null,null,null,null,null,null,null,null,null,null,null,null,null,null,null,null,null,null,null,null,null,null,null,null,null,null,null,null,null,null,null,null,null,""]
[null,null,null,null,null,null,null,null,null,null,null,null,null,null,null,null,null,null,null,null,null,"","","","","","",0,1,"",null,null,null,null,null,null,null,null,null,null,null,null,null,null,null,null,null,null,null,null,null,null,null,null,null,null,null,null,null,null,null,null,null,null,null,null,null,null,null,null,null,null,null,null,null,null,null,null,null,null,null,null,null,null,null,null,null,null,null,null,null,null,null,null,null,null,null,null,null,null,null,null,null,null,null,null,null,null,null,null,null,null,null,null,null,null,null,null,null,null,null,null,null,null,null,null,null,null,null,null,null,null,null,null,null,null,null,null,null,null,null,null,null,null,null,null,null,null,null,null,null,null,null,null,null,null,null,null,""]
[null,null,null,null,null,null,null,null,null,null,null,null,null,null,null,null,null,null,null,null,null,"","","","","","",0,1,"",null,null,null,null,null,null,null,null,null,null,null,null,null,null,null,null,null,null,null,null,null,null,null,null,null,null,null,null,null,null,null,null,null,null,null,null,null,null,null,null,null,null,null,null,null,null,null,null,null,null,null,null,null,null,null,null,null,null,null,null,null,null,null,null,null,null,null,null,null,null,null,null,null,null,null,null,null,null,null,null,null,null,null,null,null,null,null,null,null,null,null,null,null,null,null,null,null,null,null,null,null,null,null,null,null,null,null,null,null,null,null,null,null,null,null,null,null,null,null,null,null,null,null,null,null,null,null,null,""]
[null,null,null,null,null,null,null,null,null,null,null,null,null,null,null,null,null,null,null,null,null,"","","","","","",0,1,"",null,null,null,null,null,null,null,null,null,null,null,null,null,null,null,null,null,null,null,null,null,null,null,null,null,null,null,null,null,null,null,null,null,null,null,null,null,null,null,null,null,null,null,null,null,null,null,null,null,null,null,null,null,null,null,null,null,null,null,null,null,null,null,null,null,null,null,null,null,null,null,null,null,null,null,null,null,null,null,null,null,null,null,null,null,null,null,null,null,null,null,null,null,null,null,null,null,null,null,null,null,null,null,null,null,null,null,null,null,null,null,null,null,null,null,null,null,null,null,null,null,null,null,null,null,null,null,null,""]
[null,null,null,null,null,null,null,null,null,null,null,null,null,null,null,null,null,null,null,null,null,"","","","","","",0,1,"",null,null,null,null,null,null,null,null,null,null,null,null,null,null,null,null,null,null,null,null,null,null,null,null,null,null,null,null,null,null,null,null,null,null,null,null,null,null,null,null,null,null,null,null,null,null,null,null,null,null,null,null,null,null,null,null,null,null,null,null,null,null,null,null,null,null,null,null,null,null,null,null,null,null,null,null,null,null,null,null,null,null,null,null,null,null,null,null,null,null,null,null,null,null,null,null,null,null,null,null,null,null,null,null,null,null,null,null,null,null,null,null,null,null,null,null,null,null,null,null,null,null,null,null,null,null,null,null,""]
[null,null,null,null,null,null,null,null,null,null,null,null,null,null,null,null,null,null,null,null,null,"","","","","","",0,1,"",null,null,null,null,null,null,null,null,null,null,null,null,null,null,null,null,null,null,null,null,null,null,null,null,null,null,null,null,null,null,null,null,null,null,null,null,null,null,null,null,null,null,null,null,null,null,null,null,null,null,null,null,null,null,null,null,null,null,null,null,null,null,null,null,null,null,null,null,null,null,null,null,null,null,null,null,null,null,null,null,null,null,null,null,null,null,null,null,null,null,null,null,null,null,null,null,null,null,null,null,null,null,null,null,null,null,null,null,null,null,null,null,null,null,null,null,null,null,null,null,null,null,null,null,null,null,null,null,""]
[null,null,null,null,null,null,null,null,null,null,null,null,null,null,null,null,null,null,null,null,null,"","","","","","",0,1,"",null,null,null,null,null,null,null,null,null,null,null,null,null,null,null,null,null,null,null,null,null,null,null,null,null,null,null,null,null,null,null,null,null,null,null,null,null,null,null,null,null,null,null,null,null,null,null,null,null,null,null,null,null,null,null,null,null,null,null,null,null,null,null,null,null,null,null,null,null,null,null,null,null,null,null,null,null,null,null,null,null,null,null,null,null,null,null,null,null,null,null,null,null,null,null,null,null,null,null,null,null,null,null,null,null,null,null,null,null,null,null,null,null,null,null,null,null,null,null,null,null,null,null,null,null,null,null,null,""]
[null,null,null,null,null,null,null,null,null,null,null,null,null,null,null,null,null,null,null,null,null,{"$f":"IF(L427=\"\",\"\",L427*12/39)","v":""},"","","","","",0,1,"",null,null,null,null,null,null,null,null,null,null,null,null,null,null,null,null,null,null,null,null,null,null,null,null,null,null,null,null,null,null,null,null,null,null,null,null,null,null,null,null,null,null,null,null,null,null,null,null,null,null,null,null,null,null,null,null,null,null,null,null,null,null,null,null,null,null,null,null,null,null,null,null,null,null,null,null,null,null,null,null,null,null,null,null,null,null,null,null,null,null,null,null,null,null,null,null,null,null,null,null,null,null,null,null,null,null,null,null,null,null,null,null,null,null,null,null,null,null,null,null,null,null,null,null,null,null,null,null,""]
[null,null,null,null,null,null,null,null,null,null,null,null,null,null,null,null,null,null,null,null,null,"","","","","","",0,1,"",null,null,null,null,null,null,null,null,null,null,null,null,null,null,null,null,null,null,null,null,null,null,null,null,null,null,null,null,null,null,null,null,null,null,null,null,null,null,null,null,null,null,null,null,null,null,null,null,null,null,null,null,null,null,null,null,null,null,null,null,null,null,null,null,null,null,null,null,null,null,null,null,null,null,null,null,null,null,null,null,null,null,null,null,null,null,null,null,null,null,null,null,null,null,null,null,null,null,null,null,null,null,null,null,null,null,null,null,null,null,null,null,null,null,null,null,null,null,null,null,null,null,null,null,null,null,null,null,""]
[null,null,null,null,null,null,null,null,null,null,null,null,null,null,null,null,null,null,null,null,null,"","","","","","",0,1,"",null,null,null,null,null,null,null,null,null,null,null,null,null,null,null,null,null,null,null,null,null,null,null,null,null,null,null,null,null,null,null,null,null,null,null,null,null,null,null,null,null,null,null,null,null,null,null,null,null,null,null,null,null,null,null,null,null,null,null,null,null,null,null,null,null,null,null,null,null,null,null,null,null,null,null,null,null,null,null,null,null,null,null,null,null,null,null,null,null,null,null,null,null,null,null,null,null,null,null,null,null,null,null,null,null,null,null,null,null,null,null,null,null,null,null,null,null,null,null,null,null,null,null,null,null,null,null,null,""]
[null,null,null,null,null,null,null,null,null,null,null,null,null,null,null,null,null,null,null,null,null,"","","","","","",0,1,"",null,null,null,null,null,null,null,null,null,null,null,null,null,null,null,null,null,null,null,null,null,null,null,null,null,null,null,null,null,null,null,null,null,null,null,null,null,null,null,null,null,null,null,null,null,null,null,null,null,null,null,null,null,null,null,null,null,null,null,null,null,null,null,null,null,null,null,null,null,null,null,null,null,null,null,null,null,null,null,null,null,null,null,null,null,null,null,null,null,null,null,null,null,null,null,null,null,null,null,null,null,null,null,null,null,null,null,null,null,null,null,null,null,null,null,null,null,null,null,null,null,null,null,null,null,null,null,null,""]
[null,null,null,null,null,null,null,null,null,null,null,null,null,null,null,null,null,null,null,null,null,"","","","","","",0,1,"",null,null,null,null,null,null,null,null,null,null,null,null,null,null,null,null,null,null,null,null,null,null,null,null,null,null,null,null,null,null,null,null,null,null,null,null,null,null,null,null,null,null,null,null,null,null,null,null,null,null,null,null,null,null,null,null,null,null,null,null,null,null,null,null,null,null,null,null,null,null,null,null,null,null,null,null,null,null,null,null,null,null,null,null,null,null,null,null,null,null,null,null,null,null,null,null,null,null,null,null,null,null,null,null,null,null,null,null,null,null,null,null,null,null,null,null,null,null,null,null,null,null,null,null,null,null,null,null,""]
[null,null,null,null,null,null,null,null,null,null,null,null,null,null,null,null,null,null,null,null,null,"","","","","","",0,1,"",null,null,null,null,null,null,null,null,null,null,null,null,null,null,null,null,null,null,null,null,null,null,null,null,null,null,null,null,null,null,null,null,null,null,null,null,null,null,null,null,null,null,null,null,null,null,null,null,null,null,null,null,null,null,null,null,null,null,null,null,null,null,null,null,null,null,null,null,null,null,null,null,null,null,null,null,null,null,null,null,null,null,null,null,null,null,null,null,null,null,null,null,null,null,null,null,null,null,null,null,null,null,null,null,null,null,null,null,null,null,null,null,null,null,null,null,null,null,null,null,null,null,null,null,null,null,null,null,""]
[null,null,null,null,null,null,null,null,null,null,null,null,null,null,null,null,null,null,null,null,null,"","","","","","",0,1,"",null,null,null,null,null,null,null,null,null,null,null,null,null,null,null,null,null,null,null,null,null,null,null,null,null,null,null,null,null,null,null,null,null,null,null,null,null,null,null,null,null,null,null,null,null,null,null,null,null,null,null,null,null,null,null,null,null,null,null,null,null,null,null,null,null,null,null,null,null,null,null,null,null,null,null,null,null,null,null,null,null,null,null,null,null,null,null,null,null,null,null,null,null,null,null,null,null,null,null,null,null,null,null,null,null,null,null,null,null,null,null,null,null,null,null,null,null,null,null,null,null,null,null,null,null,null,null,null,""]
[null,null,null,null,null,null,null,null,null,null,null,null,null,null,null,null,null,null,null,null,null,"","","","","","",0,1,"",null,null,null,null,null,null,null,null,null,null,null,null,null,null,null,null,null,null,null,null,null,null,null,null,null,null,null,null,null,null,null,null,null,null,null,null,null,null,null,null,null,null,null,null,null,null,null,null,null,null,null,null,null,null,null,null,null,null,null,null,null,null,null,null,null,null,null,null,null,null,null,null,null,null,null,null,null,null,null,null,null,null,null,null,null,null,null,null,null,null,null,null,null,null,null,null,null,null,null,null,null,null,null,null,null,null,null,null,null,null,null,null,null,null,null,null,null,null,null,null,null,null,null,null,null,null,null,null,""]
[null,null,null,null,null,null,null,null,null,null,null,null,null,null,null,null,null,null,null,null,null,"","","","","","",0,1,"",null,null,null,null,null,null,null,null,null,null,null,null,null,null,null,null,null,null,null,null,null,null,null,null,null,null,null,null,null,null,null,null,null,null,null,null,null,null,null,null,null,null,null,null,null,null,null,null,null,null,null,null,null,null,null,null,null,null,null,null,null,null,null,null,null,null,null,null,null,null,null,null,null,null,null,null,null,null,null,null,null,null,null,null,null,null,null,null,null,null,null,null,null,null,null,null,null,null,null,null,null,null,null,null,null,null,null,null,null,null,null,null,null,null,null,null,null,null,null,null,null,null,null,null,null,null,null,null,""]
[null,null,null,null,null,null,null,null,null,null,null,null,null,null,null,null,null,null,null,null,null,"","","","","","",0,1,"",null,null,null,null,null,null,null,null,null,null,null,null,null,null,null,null,null,null,null,null,null,null,null,null,null,null,null,null,null,null,null,null,null,null,null,null,null,null,null,null,null,null,null,null,null,null,null,null,null,null,null,null,null,null,null,null,null,null,null,null,null,null,null,null,null,null,null,null,null,null,null,null,null,null,null,null,null,null,null,null,null,null,null,null,null,null,null,null,null,null,null,null,null,null,null,null,null,null,null,null,null,null,null,null,null,null,null,null,null,null,null,null,null,null,null,null,null,null,null,null,null,null,null,null,null,null,null,null,""]
[null,null,null,null,null,null,null,null,null,null,null,null,null,null,null,null,null,null,null,null,null,"","","","","","",0,1,"",null,null,null,null,null,null,null,null,null,null,null,null,null,null,null,null,null,null,null,null,null,null,null,null,null,null,null,null,null,null,null,null,null,null,null,null,null,null,null,null,null,null,null,null,null,null,null,null,null,null,null,null,null,null,null,null,null,null,null,null,null,null,null,null,null,null,null,null,null,null,null,null,null,null,null,null,null,null,null,null,null,null,null,null,null,null,null,null,null,null,null,null,null,null,null,null,null,null,null,null,null,null,null,null,null,null,null,null,null,null,null,null,null,null,null,null,null,null,null,null,null,null,null,null,null,null,null,null,""]
[null,null,null,null,null,null,null,null,null,null,null,null,null,null,null,null,null,null,null,null,null,"","","","","","",0,1,"",null,null,null,null,null,null,null,null,null,null,null,null,null,null,null,null,null,null,null,null,null,null,null,null,null,null,null,null,null,null,null,null,null,null,null,null,null,null,null,null,null,null,null,null,null,null,null,null,null,null,null,null,null,null,null,null,null,null,null,null,null,null,null,null,null,null,null,null,null,null,null,null,null,null,null,null,null,null,null,null,null,null,null,null,null,null,null,null,null,null,null,null,null,null,null,null,null,null,null,null,null,null,null,null,null,null,null,null,null,null,null,null,null,null,null,null,null,null,null,null,null,null,null,null,null,null,null,null,""]
[null,null,null,null,null,null,null,null,null,null,null,null,null,null,null,null,null,null,null,null,null,"","","","","","",0,1,"",null,null,null,null,null,null,null,null,null,null,null,null,null,null,null,null,null,null,null,null,null,null,null,null,null,null,null,null,null,null,null,null,null,null,null,null,null,null,null,null,null,null,null,null,null,null,null,null,null,null,null,null,null,null,null,null,null,null,null,null,null,null,null,null,null,null,null,null,null,null,null,null,null,null,null,null,null,null,null,null,null,null,null,null,null,null,null,null,null,null,null,null,null,null,null,null,null,null,null,null,null,null,null,null,null,null,null,null,null,null,null,null,null,null,null,null,null,null,null,null,null,null,null,null,null,null,null,null,""]
[null,null,null,null,null,null,null,null,null,null,null,null,null,null,null,null,null,null,null,null,null,"","","","","","",0,1,"",null,null,null,null,null,null,null,null,null,null,null,null,null,null,null,null,null,null,null,null,null,null,null,null,null,null,null,null,null,null,null,null,null,null,null,null,null,null,null,null,null,null,null,null,null,null,null,null,null,null,null,null,null,null,null,null,null,null,null,null,null,null,null,null,null,null,null,null,null,null,null,null,null,null,null,null,null,null,null,null,null,null,null,null,null,null,null,null,null,null,null,null,null,null,null,null,null,null,null,null,null,null,null,null,null,null,null,null,null,null,null,null,null,null,null,null,null,null,null,null,null,null,null,null,null,null,null,null,""]
[null,null,null,null,null,null,null,null,null,null,null,null,null,null,null,null,null,null,null,null,null,"","","","","","",0,1,"",null,null,null,null,null,null,null,null,null,null,null,null,null,null,null,null,null,null,null,null,null,null,null,null,null,null,null,null,null,null,null,null,null,null,null,null,null,null,null,null,null,null,null,null,null,null,null,null,null,null,null,null,null,null,null,null,null,null,null,null,null,null,null,null,null,null,null,null,null,null,null,null,null,null,null,null,null,null,null,null,null,null,null,null,null,null,null,null,null,null,null,null,null,null,null,null,null,null,null,null,null,null,null,null,null,null,null,null,null,null,null,null,null,null,null,null,null,null,null,null,null,null,null,null,null,null,null,null,""]
[null,null,null,null,null,null,null,null,null,null,null,null,null,null,null,null,null,null,null,null,null,"","","","","","",0,1,"",null,null,null,null,null,null,null,null,null,null,null,null,null,null,null,null,null,null,null,null,null,null,null,null,null,null,null,null,null,null,null,null,null,null,null,null,null,null,null,null,null,null,null,null,null,null,null,null,null,null,null,null,null,null,null,null,null,null,null,null,null,null,null,null,null,null,null,null,null,null,null,null,null,null,null,null,null,null,null,null,null,null,null,null,null,null,null,null,null,null,null,null,null,null,null,null,null,null,null,null,null,null,null,null,null,null,null,null,null,null,null,null,null,null,null,null,null,null,null,null,null,null,null,null,null,null,null,null,""]
[null,null,null,null,null,null,null,null,null,null,null,null,null,null,null,null,null,null,null,null,null,"","","","","","",0,1,"",null,null,null,null,null,null,null,null,null,null,null,null,null,null,null,null,null,null,null,null,null,null,null,null,null,null,null,null,null,null,null,null,null,null,null,null,null,null,null,null,null,null,null,null,null,null,null,null,null,null,null,null,null,null,null,null,null,null,null,null,null,null,null,null,null,null,null,null,null,null,null,null,null,null,null,null,null,null,null,null,null,null,null,null,null,null,null,null,null,null,null,null,null,null,null,null,null,null,null,null,null,null,null,null,null,null,null,null,null,null,null,null,null,null,null,null,null,null,null,null,null,null,null,null,null,null,null,null,""]
[null,null,null,null,null,null,null,null,null,null,null,null,null,null,null,null,null,null,null,null,null,"","","","","","",0,1,"",null,null,null,null,null,null,null,null,null,null,null,null,null,null,null,null,null,null,null,null,null,null,null,null,null,null,null,null,null,null,null,null,null,null,null,null,null,null,null,null,null,null,null,null,null,null,null,null,null,null,null,null,null,null,null,null,null,null,null,null,null,null,null,null,null,null,null,null,null,null,null,null,null,null,null,null,null,null,null,null,null,null,null,null,null,null,null,null,null,null,null,null,null,null,null,null,null,null,null,null,null,null,null,null,null,null,null,null,null,null,null,null,null,null,null,null,null,null,null,null,null,null,null,null,null,null,null,null,""]
[null,null,null,null,null,null,null,null,null,null,null,null,null,null,null,null,null,null,null,null,null,"","","","","","",0,1,"",null,null,null,null,null,null,null,null,null,null,null,null,null,null,null,null,null,null,null,null,null,null,null,null,null,null,null,null,null,null,null,null,null,null,null,null,null,null,null,null,null,null,null,null,null,null,null,null,null,null,null,null,null,null,null,null,null,null,null,null,null,null,null,null,null,null,null,null,null,null,null,null,null,null,null,null,null,null,null,null,null,null,null,null,null,null,null,null,null,null,null,null,null,null,null,null,null,null,null,null,null,null,null,null,null,null,null,null,null,null,null,null,null,null,null,null,null,null,null,null,null,null,null,null,null,null,null,null,""]
[null,null,null,null,null,null,null,null,null,null,null,null,null,null,null,null,null,null,null,null,null,"","","","","","",0,1,"",null,null,null,null,null,null,null,null,null,null,null,null,null,null,null,null,null,null,null,null,null,null,null,null,null,null,null,null,null,null,null,null,null,null,null,null,null,null,null,null,null,null,null,null,null,null,null,null,null,null,null,null,null,null,null,null,null,null,null,null,null,null,null,null,null,null,null,null,null,null,null,null,null,null,null,null,null,null,null,null,null,null,null,null,null,null,null,null,null,null,null,null,null,null,null,null,null,null,null,null,null,null,null,null,null,null,null,null,null,null,null,null,null,null,null,null,null,null,null,null,null,null,null,null,null,null,null,null,""]
[null,null,null,null,null,null,null,null,null,null,null,null,null,null,null,null,null,null,null,null,null,"","","","","","",0,1,"",null,null,null,null,null,null,null,null,null,null,null,null,null,null,null,null,null,null,null,null,null,null,null,null,null,null,null,null,null,null,null,null,null,null,null,null,null,null,null,null,null,null,null,null,null,null,null,null,null,null,null,null,null,null,null,null,null,null,null,null,null,null,null,null,null,null,null,null,null,null,null,null,null,null,null,null,null,null,null,null,null,null,null,null,null,null,null,null,null,null,null,null,null,null,null,null,null,null,null,null,null,null,null,null,null,null,null,null,null,null,null,null,null,null,null,null,null,null,null,null,null,null,null,null,null,null,null,null,""]
[null,null,null,null,null,null,null,null,null,null,null,null,null,null,null,null,null,null,null,null,null,"","","","","","",0,1,"",null,null,null,null,null,null,null,null,null,null,null,null,null,null,null,null,null,null,null,null,null,null,null,null,null,null,null,null,null,null,null,null,null,null,null,null,null,null,null,null,null,null,null,null,null,null,null,null,null,null,null,null,null,null,null,null,null,null,null,null,null,null,null,null,null,null,null,null,null,null,null,null,null,null,null,null,null,null,null,null,null,null,null,null,null,null,null,null,null,null,null,null,null,null,null,null,null,null,null,null,null,null,null,null,null,null,null,null,null,null,null,null,null,null,null,null,null,null,null,null,null,null,null,null,null,null,null,null,""]
[null,null,null,null,null,null,null,null,null,null,null,null,null,null,null,null,null,null,null,null,null,"","","","","","",0,1,"",null,null,null,null,null,null,null,null,null,null,null,null,null,null,null,null,null,null,null,null,null,null,null,null,null,null,null,null,null,null,null,null,null,null,null,null,null,null,null,null,null,null,null,null,null,null,null,null,null,null,null,null,null,null,null,null,null,null,null,null,null,null,null,null,null,null,null,null,null,null,null,null,null,null,null,null,null,null,null,null,null,null,null,null,null,null,null,null,null,null,null,null,null,null,null,null,null,null,null,null,null,null,null,null,null,null,null,null,null,null,null,null,null,null,null,null,null,null,null,null,null,null,null,null,null,null,null,null,""]
[null,null,null,null,null,null,null,null,null,null,null,null,null,null,null,null,null,null,null,null,null,"","","","","","",0,1,"",null,null,null,null,null,null,null,null,null,null,null,null,null,null,null,null,null,null,null,null,null,null,null,null,null,null,null,null,null,null,null,null,null,null,null,null,null,null,null,null,null,null,null,null,null,null,null,null,null,null,null,null,null,null,null,null,null,null,null,null,null,null,null,null,null,null,null,null,null,null,null,null,null,null,null,null,null,null,null,null,null,null,null,null,null,null,null,null,null,null,null,null,null,null,null,null,null,null,null,null,null,null,null,null,null,null,null,null,null,null,null,null,null,null,null,null,null,null,null,null,null,null,null,null,null,null,null,null,""]
[null,null,null,null,null,null,null,null,null,null,null,null,null,null,null,null,null,null,null,null,null,"","","","","","",0,1,"",null,null,null,null,null,null,null,null,null,null,null,null,null,null,null,null,null,null,null,null,null,null,null,null,null,null,null,null,null,null,null,null,null,null,null,null,null,null,null,null,null,null,null,null,null,null,null,null,null,null,null,null,null,null,null,null,null,null,null,null,null,null,null,null,null,null,null,null,null,null,null,null,null,null,null,null,null,null,null,null,null,null,null,null,null,null,null,null,null,null,null,null,null,null,null,null,null,null,null,null,null,null,null,null,null,null,null,null,null,null,null,null,null,null,null,null,null,null,null,null,null,null,null,null,null,null,null,null,""]
[null,null,null,null,null,null,null,null,null,null,null,null,null,null,null,null,null,null,null,null,null,"","","","","","",0,1,"",null,null,null,null,null,null,null,null,null,null,null,null,null,null,null,null,null,null,null,null,null,null,null,null,null,null,null,null,null,null,null,null,null,null,null,null,null,null,null,null,null,null,null,null,null,null,null,null,null,null,null,null,null,null,null,null,null,null,null,null,null,null,null,null,null,null,null,null,null,null,null,null,null,null,null,null,null,null,null,null,null,null,null,null,null,null,null,null,null,null,null,null,null,null,null,null,null,null,null,null,null,null,null,null,null,null,null,null,null,null,null,null,null,null,null,null,null,null,null,null,null,null,null,null,null,null,null,null,""]
[null,null,null,null,null,null,null,null,null,null,null,null,null,null,null,null,null,null,null,null,null,"","","","","","",0,1,"",null,null,null,null,null,null,null,null,null,null,null,null,null,null,null,null,null,null,null,null,null,null,null,null,null,null,null,null,null,null,null,null,null,null,null,null,null,null,null,null,null,null,null,null,null,null,null,null,null,null,null,null,null,null,null,null,null,null,null,null,null,null,null,null,null,null,null,null,null,null,null,null,null,null,null,null,null,null,null,null,null,null,null,null,null,null,null,null,null,null,null,null,null,null,null,null,null,null,null,null,null,null,null,null,null,null,null,null,null,null,null,null,null,null,null,null,null,null,null,null,null,null,null,null,null,null,null,null,""]
[null,null,null,null,null,null,null,null,null,null,null,null,null,null,null,null,null,null,null,null,null,"","","","","","",0,1,"",null,null,null,null,null,null,null,null,null,null,null,null,null,null,null,null,null,null,null,null,null,null,null,null,null,null,null,null,null,null,null,null,null,null,null,null,null,null,null,null,null,null,null,null,null,null,null,null,null,null,null,null,null,null,null,null,null,null,null,null,null,null,null,null,null,null,null,null,null,null,null,null,null,null,null,null,null,null,null,null,null,null,null,null,null,null,null,null,null,null,null,null,null,null,null,null,null,null,null,null,null,null,null,null,null,null,null,null,null,null,null,null,null,null,null,null,null,null,null,null,null,null,null,null,null,null,null,null,""]
[null,null,null,null,null,null,null,null,null,null,null,null,null,null,null,null,null,null,null,null,null,"","","","","","",0,1,"",null,null,null,null,null,null,null,null,null,null,null,null,null,null,null,null,null,null,null,null,null,null,null,null,null,null,null,null,null,null,null,null,null,null,null,null,null,null,null,null,null,null,null,null,null,null,null,null,null,null,null,null,null,null,null,null,null,null,null,null,null,null,null,null,null,null,null,null,null,null,null,null,null,null,null,null,null,null,null,null,null,null,null,null,null,null,null,null,null,null,null,null,null,null,null,null,null,null,null,null,null,null,null,null,null,null,null,null,null,null,null,null,null,null,null,null,null,null,null,null,null,null,null,null,null,null,null,null,""]
[null,null,null,null,null,null,null,null,null,null,null,null,null,null,null,null,null,null,null,null,null,"","","","","","",0,1,"",null,null,null,null,null,null,null,null,null,null,null,null,null,null,null,null,null,null,null,null,null,null,null,null,null,null,null,null,null,null,null,null,null,null,null,null,null,null,null,null,null,null,null,null,null,null,null,null,null,null,null,null,null,null,null,null,null,null,null,null,null,null,null,null,null,null,null,null,null,null,null,null,null,null,null,null,null,null,null,null,null,null,null,null,null,null,null,null,null,null,null,null,null,null,null,null,null,null,null,null,null,null,null,null,null,null,null,null,null,null,null,null,null,null,null,null,null,null,null,null,null,null,null,null,null,null,null,null,""]
[null,null,null,null,null,null,null,null,null,null,null,null,null,null,null,null,null,null,null,null,null,"","","","","","",0,1,"",null,null,null,null,null,null,null,null,null,null,null,null,null,null,null,null,null,null,null,null,null,null,null,null,null,null,null,null,null,null,null,null,null,null,null,null,null,null,null,null,null,null,null,null,null,null,null,null,null,null,null,null,null,null,null,null,null,null,null,null,null,null,null,null,null,null,null,null,null,null,null,null,null,null,null,null,null,null,null,null,null,null,null,null,null,null,null,null,null,null,null,null,null,null,null,null,null,null,null,null,null,null,null,null,null,null,null,null,null,null,null,null,null,null,null,null,null,null,null,null,null,null,null,null,null,null,null,null,""]
[null,null,null,null,null,null,null,null,null,null,null,null,null,null,null,null,null,null,null,null,null,"","","","","","",0,1,"",null,null,null,null,null,null,null,null,null,null,null,null,null,null,null,null,null,null,null,null,null,null,null,null,null,null,null,null,null,null,null,null,null,null,null,null,null,null,null,null,null,null,null,null,null,null,null,null,null,null,null,null,null,null,null,null,null,null,null,null,null,null,null,null,null,null,null,null,null,null,null,null,null,null,null,null,null,null,null,null,null,null,null,null,null,null,null,null,null,null,null,null,null,null,null,null,null,null,null,null,null,null,null,null,null,null,null,null,null,null,null,null,null,null,null,null,null,null,null,null,null,null,null,null,null,null,null,null,""]
[null,null,null,null,null,null,null,null,null,null,null,null,null,null,null,null,null,null,null,null,null,{"$f":"IF(L459=\"\",\"\",L459*12/39)","v":""},"","","","","",0,1,"",null,null,null,null,null,null,null,null,null,null,null,null,null,null,null,null,null,null,null,null,null,null,null,null,null,null,null,null,null,null,null,null,null,null,null,null,null,null,null,null,null,null,null,null,null,null,null,null,null,null,null,null,null,null,null,null,null,null,null,null,null,null,null,null,null,null,null,null,null,null,null,null,null,null,null,null,null,null,null,null,null,null,null,null,null,null,null,null,null,null,null,null,null,null,null,null,null,null,null,null,null,null,null,null,null,null,null,null,null,null,null,null,null,null,null,null,null,null,null,null,null,null,null,null,null,null,null,null,""]
[null,null,null,null,null,null,null,null,null,null,null,null,null,null,null,null,null,null,null,null,null,"","","","","","",0,1,"",null,null,null,null,null,null,null,null,null,null,null,null,null,null,null,null,null,null,null,null,null,null,null,null,null,null,null,null,null,null,null,null,null,null,null,null,null,null,null,null,null,null,null,null,null,null,null,null,null,null,null,null,null,null,null,null,null,null,null,null,null,null,null,null,null,null,null,null,null,null,null,null,null,null,null,null,null,null,null,null,null,null,null,null,null,null,null,null,null,null,null,null,null,null,null,null,null,null,null,null,null,null,null,null,null,null,null,null,null,null,null,null,null,null,null,null,null,null,null,null,null,null,null,null,null,null,null,null,""]
[null,null,null,null,null,null,null,null,null,null,null,null,null,null,null,null,null,null,null,null,null,"","","","","","",0,1,"",null,null,null,null,null,null,null,null,null,null,null,null,null,null,null,null,null,null,null,null,null,null,null,null,null,null,null,null,null,null,null,null,null,null,null,null,null,null,null,null,null,null,null,null,null,null,null,null,null,null,null,null,null,null,null,null,null,null,null,null,null,null,null,null,null,null,null,null,null,null,null,null,null,null,null,null,null,null,null,null,null,null,null,null,null,null,null,null,null,null,null,null,null,null,null,null,null,null,null,null,null,null,null,null,null,null,null,null,null,null,null,null,null,null,null,null,null,null,null,null,null,null,null,null,null,null,null,null,""]
[null,null,null,null,null,null,null,null,null,null,null,null,null,null,null,null,null,null,null,null,null,"","","","","","",0,1,"",null,null,null,null,null,null,null,null,null,null,null,null,null,null,null,null,null,null,null,null,null,null,null,null,null,null,null,null,null,null,null,null,null,null,null,null,null,null,null,null,null,null,null,null,null,null,null,null,null,null,null,null,null,null,null,null,null,null,null,null,null,null,null,null,null,null,null,null,null,null,null,null,null,null,null,null,null,null,null,null,null,null,null,null,null,null,null,null,null,null,null,null,null,null,null,null,null,null,null,null,null,null,null,null,null,null,null,null,null,null,null,null,null,null,null,null,null,null,null,null,null,null,null,null,null,null,null,null,""]
[null,null,null,null,null,null,null,null,null,null,null,null,null,null,null,null,null,null,null,null,null,"","","","","","",0,1,"",null,null,null,null,null,null,null,null,null,null,null,null,null,null,null,null,null,null,null,null,null,null,null,null,null,null,null,null,null,null,null,null,null,null,null,null,null,null,null,null,null,null,null,null,null,null,null,null,null,null,null,null,null,null,null,null,null,null,null,null,null,null,null,null,null,null,null,null,null,null,null,null,null,null,null,null,null,null,null,null,null,null,null,null,null,null,null,null,null,null,null,null,null,null,null,null,null,null,null,null,null,null,null,null,null,null,null,null,null,null,null,null,null,null,null,null,null,null,null,null,null,null,null,null,null,null,null,null,""]
[null,null,null,null,null,null,null,null,null,null,null,null,null,null,null,null,null,null,null,null,null,"","","","","","",0,1,"",null,null,null,null,null,null,null,null,null,null,null,null,null,null,null,null,null,null,null,null,null,null,null,null,null,null,null,null,null,null,null,null,null,null,null,null,null,null,null,null,null,null,null,null,null,null,null,null,null,null,null,null,null,null,null,null,null,null,null,null,null,null,null,null,null,null,null,null,null,null,null,null,null,null,null,null,null,null,null,null,null,null,null,null,null,null,null,null,null,null,null,null,null,null,null,null,null,null,null,null,null,null,null,null,null,null,null,null,null,null,null,null,null,null,null,null,null,null,null,null,null,null,null,null,null,null,null,null,""]
[null,null,null,null,null,null,null,null,null,null,null,null,null,null,null,null,null,null,null,null,null,"","","","","","",0,1,"",null,null,null,null,null,null,null,null,null,null,null,null,null,null,null,null,null,null,null,null,null,null,null,null,null,null,null,null,null,null,null,null,null,null,null,null,null,null,null,null,null,null,null,null,null,null,null,null,null,null,null,null,null,null,null,null,null,null,null,null,null,null,null,null,null,null,null,null,null,null,null,null,null,null,null,null,null,null,null,null,null,null,null,null,null,null,null,null,null,null,null,null,null,null,null,null,null,null,null,null,null,null,null,null,null,null,null,null,null,null,null,null,null,null,null,null,null,null,null,null,null,null,null,null,null,null,null,null,""]
[null,null,null,null,null,null,null,null,null,null,null,null,null,null,null,null,null,null,null,null,null,"","","","","","",0,1,"",null,null,null,null,null,null,null,null,null,null,null,null,null,null,null,null,null,null,null,null,null,null,null,null,null,null,null,null,null,null,null,null,null,null,null,null,null,null,null,null,null,null,null,null,null,null,null,null,null,null,null,null,null,null,null,null,null,null,null,null,null,null,null,null,null,null,null,null,null,null,null,null,null,null,null,null,null,null,null,null,null,null,null,null,null,null,null,null,null,null,null,null,null,null,null,null,null,null,null,null,null,null,null,null,null,null,null,null,null,null,null,null,null,null,null,null,null,null,null,null,null,null,null,null,null,null,null,null,""]
[null,null,null,null,null,null,null,null,null,null,null,null,null,null,null,null,null,null,null,null,null,"",{"$f":"IF(F326=\"\",\"\",IF(ISNUMBER(SEARCH(F326,\"d\")),IF(ISNUMBER(SEARCH(G326,\"c\")),\"CS\",IF(ISNUMBER(SEARCH(G326,\"u\")),\"UU\")),\"\"))","v":""},{"$f":"IF(F326=\"\",\"\",IF(ISNUMBER(SEARCH(F326,\"e\")),IF(ISNUMBER(SEARCH(G326,\"c\")),IF(ISNUMBER(SEARCH(H326,\"a\")),\"CS\",\"CU\"),IF(ISNUMBER(SEARCH(H326,\"a\")),\"US\",\"UU\")),\"\"))","v":""},{"$f":"IF(W326=\"\",X326,W326)","v":""},{"$f":"IF($Y326=\"cs\",1,IF($Y326=\"cu\",2,IF($Y326=\"us\",3,IF($Y326=\"uu\",4,\"\"))))","v":""},{"$f":"IF(A326=\"\",\"\",A326)","v":""},{"$f":"C326","v":0},1,{"$f":"IF(AA326<>\"\",SUMIF(AC:AC,AA326,AB:AB),\"\")","v":""},null,null,null,null,null,null,null,null,null,null,null,null,null,null,null,null,null,null,null,null,null,null,null,null,null,null,null,null,null,null,null,null,null,null,null,null,null,null,null,null,null,null,null,null,null,null,null,null,null,null,null,null,null,null,null,null,null,null,null,null,null,null,null,null,null,null,null,null,null,null,null,null,null,null,null,null,null,null,null,null,null,null,null,null,null,null,null,null,null,null,null,null,null,null,null,null,null,null,null,null,null,null,null,null,null,null,null,null,null,null,null,null,null,null,null,null,null,null,null,null,null,null,null,null,null,null,null,null,""]
[null,null,null,null,null,null,null,null,null,null,null,null,null,null,null,null,null,null,null,null,null,"","","","","","",0,{"$f":"IF(A327>A326,A327,AC326)","v":1},"",null,null,null,null,null,null,null,null,null,null,null,null,null,null,null,null,null,null,null,null,null,null,null,null,null,null,null,null,null,null,null,null,null,null,null,null,null,null,null,null,null,null,null,null,null,null,null,null,null,null,null,null,null,null,null,null,null,null,null,null,null,null,null,null,null,null,null,null,null,null,null,null,null,null,null,null,null,null,null,null,null,null,null,null,null,null,null,null,null,null,null,null,null,null,null,null,null,null,null,null,null,null,null,null,null,null,null,null,null,null,null,null,null,null,null,null,null,null,null,null,null,null,null,null,null,null,null,null,{"$f":"IF(E327=\"\",\"\",E327+1)","v":""}]
[null,null,null,null,null,null,null,null,null,null,null,null,null,null,null,null,null,null,null,null,null,"","","","","","",0,1,"",null,null,null,null,null,null,null,null,null,null,null,null,null,null,null,null,null,null,null,null,null,null,null,null,null,null,null,null,null,null,null,null,null,null,null,null,null,null,null,null,null,null,null,null,null,null,null,null,null,null,null,null,null,null,null,null,null,null,null,null,null,null,null,null,null,null,null,null,null,null,null,null,null,null,null,null,null,null,null,null,null,null,null,null,null,null,null,null,null,null,null,null,null,null,null,null,null,null,null,null,null,null,null,null,null,null,null,null,null,null,null,null,null,null,null,null,null,null,null,null,null,null,null,null,null,null,null,null,""]
[null,null,null,null,null,null,null,null,null,null,null,null,null,null,null,null,null,null,null,null,null,"","","","","","",0,1,"",null,null,null,null,null,null,null,null,null,null,null,null,null,null,null,null,null,null,null,null,null,null,null,null,null,null,null,null,null,null,null,null,null,null,null,null,null,null,null,null,null,null,null,null,null,null,null,null,null,null,null,null,null,null,null,null,null,null,null,null,null,null,null,null,null,null,null,null,null,null,null,null,null,null,null,null,null,null,null,null,null,null,null,null,null,null,null,null,null,null,null,null,null,null,null,null,null,null,null,null,null,null,null,null,null,null,null,null,null,null,null,null,null,null,null,null,null,null,null,null,null,null,null,null,null,null,null,null,""]
[null,null,null,null,null,null,null,null,null,null,null,null,null,null,null,null,null,null,null,null,null,"","","","","","",0,1,"",null,null,null,null,null,null,null,null,null,null,null,null,null,null,null,null,null,null,null,null,null,null,null,null,null,null,null,null,null,null,null,null,null,null,null,null,null,null,null,null,null,null,null,null,null,null,null,null,null,null,null,null,null,null,null,null,null,null,null,null,null,null,null,null,null,null,null,null,null,null,null,null,null,null,null,null,null,null,null,null,null,null,null,null,null,null,null,null,null,null,null,null,null,null,null,null,null,null,null,null,null,null,null,null,null,null,null,null,null,null,null,null,null,null,null,null,null,null,null,null,null,null,null,null,null,null,null,null,""]
[null,null,null,null,null,null,null,null,null,null,null,null,null,null,null,null,null,null,null,null,null,"","","","","","",0,1,"",null,null,null,null,null,null,null,null,null,null,null,null,null,null,null,null,null,null,null,null,null,null,null,null,null,null,null,null,null,null,null,null,null,null,null,null,null,null,null,null,null,null,null,null,null,null,null,null,null,null,null,null,null,null,null,null,null,null,null,null,null,null,null,null,null,null,null,null,null,null,null,null,null,null,null,null,null,null,null,null,null,null,null,null,null,null,null,null,null,null,null,null,null,null,null,null,null,null,null,null,null,null,null,null,null,null,null,null,null,null,null,null,null,null,null,null,null,null,null,null,null,null,null,null,null,null,null,null,""]
[null,null,null,null,null,null,null,null,null,null,null,null,null,null,null,null,null,null,null,null,null,"","","","","","",0,1,"",null,null,null,null,null,null,null,null,null,null,null,null,null,null,null,null,null,null,null,null,null,null,null,null,null,null,null,null,null,null,null,null,null,null,null,null,null,null,null,null,null,null,null,null,null,null,null,null,null,null,null,null,null,null,null,null,null,null,null,null,null,null,null,null,null,null,null,null,null,null,null,null,null,null,null,null,null,null,null,null,null,null,null,null,null,null,null,null,null,null,null,null,null,null,null,null,null,null,null,null,null,null,null,null,null,null,null,null,null,null,null,null,null,null,null,null,null,null,null,null,null,null,null,null,null,null,null,null,""]
[null,null,null,null,null,null,null,null,null,null,null,null,null,null,null,null,null,null,null,null,null,"","","","","","",0,1,"",null,null,null,null,null,null,null,null,null,null,null,null,null,null,null,null,null,null,null,null,null,null,null,null,null,null,null,null,null,null,null,null,null,null,null,null,null,null,null,null,null,null,null,null,null,null,null,null,null,null,null,null,null,null,null,null,null,null,null,null,null,null,null,null,null,null,null,null,null,null,null,null,null,null,null,null,null,null,null,null,null,null,null,null,null,null,null,null,null,null,null,null,null,null,null,null,null,null,null,null,null,null,null,null,null,null,null,null,null,null,null,null,null,null,null,null,null,null,null,null,null,null,null,null,null,null,null,null,""]
[null,null,null,null,null,null,null,null,null,null,null,null,null,null,null,null,null,null,null,null,null,"","","","","","",0,1,"",null,null,null,null,null,null,null,null,null,null,null,null,null,null,null,null,null,null,null,null,null,null,null,null,null,null,null,null,null,null,null,null,null,null,null,null,null,null,null,null,null,null,null,null,null,null,null,null,null,null,null,null,null,null,null,null,null,null,null,null,null,null,null,null,null,null,null,null,null,null,null,null,null,null,null,null,null,null,null,null,null,null,null,null,null,null,null,null,null,null,null,null,null,null,null,null,null,null,null,null,null,null,null,null,null,null,null,null,null,null,null,null,null,null,null,null,null,null,null,null,null,null,null,null,null,null,null,null,""]
[null,null,null,null,null,null,null,null,null,null,null,null,null,null,null,null,null,null,null,null,null,"","","","","","",0,1,"",null,null,null,null,null,null,null,null,null,null,null,null,null,null,null,null,null,null,null,null,null,null,null,null,null,null,null,null,null,null,null,null,null,null,null,null,null,null,null,null,null,null,null,null,null,null,null,null,null,null,null,null,null,null,null,null,null,null,null,null,null,null,null,null,null,null,null,null,null,null,null,null,null,null,null,null,null,null,null,null,null,null,null,null,null,null,null,null,null,null,null,null,null,null,null,null,null,null,null,null,null,null,null,null,null,null,null,null,null,null,null,null,null,null,null,null,null,null,null,null,null,null,null,null,null,null,null,null,""]
[null,null,null,null,null,null,null,null,null,null,null,null,null,null,null,null,null,null,null,null,null,"","","","","","",0,1,"",null,null,null,null,null,null,null,null,null,null,null,null,null,null,null,null,null,null,null,null,null,null,null,null,null,null,null,null,null,null,null,null,null,null,null,null,null,null,null,null,null,null,null,null,null,null,null,null,null,null,null,null,null,null,null,null,null,null,null,null,null,null,null,null,null,null,null,null,null,null,null,null,null,null,null,null,null,null,null,null,null,null,null,null,null,null,null,null,null,null,null,null,null,null,null,null,null,null,null,null,null,null,null,null,null,null,null,null,null,null,null,null,null,null,null,null,null,null,null,null,null,null,null,null,null,null,null,null,""]
[null,null,null,null,null,null,null,null,null,null,null,null,null,null,null,null,null,null,null,null,null,"","","","","","",0,1,"",null,null,null,null,null,null,null,null,null,null,null,null,null,null,null,null,null,null,null,null,null,null,null,null,null,null,null,null,null,null,null,null,null,null,null,null,null,null,null,null,null,null,null,null,null,null,null,null,null,null,null,null,null,null,null,null,null,null,null,null,null,null,null,null,null,null,null,null,null,null,null,null,null,null,null,null,null,null,null,null,null,null,null,null,null,null,null,null,null,null,null,null,null,null,null,null,null,null,null,null,null,null,null,null,null,null,null,null,null,null,null,null,null,null,null,null,null,null,null,null,null,null,null,null,null,null,null,null,""]
[null,null,null,null,null,null,null,null,null,null,null,null,null,null,null,null,null,null,null,null,null,"","","","","","",0,1,"",null,null,null,null,null,null,null,null,null,null,null,null,null,null,null,null,null,null,null,null,null,null,null,null,null,null,null,null,null,null,null,null,null,null,null,null,null,null,null,null,null,null,null,null,null,null,null,null,null,null,null,null,null,null,null,null,null,null,null,null,null,null,null,null,null,null,null,null,null,null,null,null,null,null,null,null,null,null,null,null,null,null,null,null,null,null,null,null,null,null,null,null,null,null,null,null,null,null,null,null,null,null,null,null,null,null,null,null,null,null,null,null,null,null,null,null,null,null,null,null,null,null,null,null,null,null,null,null,""]
[null,null,null,null,null,null,null,null,null,null,null,null,null,null,null,null,null,null,null,null,null,"","","","","","",0,1,"",null,null,null,null,null,null,null,null,null,null,null,null,null,null,null,null,null,null,null,null,null,null,null,null,null,null,null,null,null,null,null,null,null,null,null,null,null,null,null,null,null,null,null,null,null,null,null,null,null,null,null,null,null,null,null,null,null,null,null,null,null,null,null,null,null,null,null,null,null,null,null,null,null,null,null,null,null,null,null,null,null,null,null,null,null,null,null,null,null,null,null,null,null,null,null,null,null,null,null,null,null,null,null,null,null,null,null,null,null,null,null,null,null,null,null,null,null,null,null,null,null,null,null,null,null,null,null,null,""]
[null,null,null,null,null,null,null,null,null,null,null,null,null,null,null,null,null,null,null,null,null,"","","","","","",0,1,"",null,null,null,null,null,null,null,null,null,null,null,null,null,null,null,null,null,null,null,null,null,null,null,null,null,null,null,null,null,null,null,null,null,null,null,null,null,null,null,null,null,null,null,null,null,null,null,null,null,null,null,null,null,null,null,null,null,null,null,null,null,null,null,null,null,null,null,null,null,null,null,null,null,null,null,null,null,null,null,null,null,null,null,null,null,null,null,null,null,null,null,null,null,null,null,null,null,null,null,null,null,null,null,null,null,null,null,null,null,null,null,null,null,null,null,null,null,null,null,null,null,null,null,null,null,null,null,null,""]
[null,null,null,null,null,null,null,null,null,null,null,null,null,null,null,null,null,null,null,null,null,"","","","","","",0,1,"",null,null,null,null,null,null,null,null,null,null,null,null,null,null,null,null,null,null,null,null,null,null,null,null,null,null,null,null,null,null,null,null,null,null,null,null,null,null,null,null,null,null,null,null,null,null,null,null,null,null,null,null,null,null,null,null,null,null,null,null,null,null,null,null,null,null,null,null,null,null,null,null,null,null,null,null,null,null,null,null,null,null,null,null,null,null,null,null,null,null,null,null,null,null,null,null,null,null,null,null,null,null,null,null,null,null,null,null,null,null,null,null,null,null,null,null,null,null,null,null,null,null,null,null,null,null,null,null,""]
[null,null,null,null,null,null,null,null,null,null,null,null,null,null,null,null,null,null,null,null,null,"","","","","","",0,1,"",null,null,null,null,null,null,null,null,null,null,null,null,null,null,null,null,null,null,null,null,null,null,null,null,null,null,null,null,null,null,null,null,null,null,null,null,null,null,null,null,null,null,null,null,null,null,null,null,null,null,null,null,null,null,null,null,null,null,null,null,null,null,null,null,null,null,null,null,null,null,null,null,null,null,null,null,null,null,null,null,null,null,null,null,null,null,null,null,null,null,null,null,null,null,null,null,null,null,null,null,null,null,null,null,null,null,null,null,null,null,null,null,null,null,null,null,null,null,null,null,null,null,null,null,null,null,null,null,""]
[null,null,null,null,null,null,null,null,null,null,null,null,null,null,null,null,null,null,null,null,null,"","","","","","",0,1,"",null,null,null,null,null,null,null,null,null,null,null,null,null,null,null,null,null,null,null,null,null,null,null,null,null,null,null,null,null,null,null,null,null,null,null,null,null,null,null,null,null,null,null,null,null,null,null,null,null,null,null,null,null,null,null,null,null,null,null,null,null,null,null,null,null,null,null,null,null,null,null,null,null,null,null,null,null,null,null,null,null,null,null,null,null,null,null,null,null,null,null,null,null,null,null,null,null,null,null,null,null,null,null,null,null,null,null,null,null,null,null,null,null,null,null,null,null,null,null,null,null,null,null,null,null,null,null,null,""]
[null,null,null,null,null,null,null,null,null,null,null,null,null,null,null,null,null,null,null,null,null,"","","","","","",0,1,"",null,null,null,null,null,null,null,null,null,null,null,null,null,null,null,null,null,null,null,null,null,null,null,null,null,null,null,null,null,null,null,null,null,null,null,null,null,null,null,null,null,null,null,null,null,null,null,null,null,null,null,null,null,null,null,null,null,null,null,null,null,null,null,null,null,null,null,null,null,null,null,null,null,null,null,null,null,null,null,null,null,null,null,null,null,null,null,null,null,null,null,null,null,null,null,null,null,null,null,null,null,null,null,null,null,null,null,null,null,null,null,null,null,null,null,null,null,null,null,null,null,null,null,null,null,null,null,null,""]
[null,null,null,null,null,null,null,null,null,null,null,null,null,null,null,null,null,null,null,null,null,"","","","","","",0,1,"",null,null,null,null,null,null,null,null,null,null,null,null,null,null,null,null,null,null,null,null,null,null,null,null,null,null,null,null,null,null,null,null,null,null,null,null,null,null,null,null,null,null,null,null,null,null,null,null,null,null,null,null,null,null,null,null,null,null,null,null,null,null,null,null,null,null,null,null,null,null,null,null,null,null,null,null,null,null,null,null,null,null,null,null,null,null,null,null,null,null,null,null,null,null,null,null,null,null,null,null,null,null,null,null,null,null,null,null,null,null,null,null,null,null,null,null,null,null,null,null,null,null,null,null,null,null,null,null,""]
[null,null,null,null,null,null,null,null,null,null,null,null,null,null,null,null,null,null,null,null,null,"","","","","","",0,1,"",null,null,null,null,null,null,null,null,null,null,null,null,null,null,null,null,null,null,null,null,null,null,null,null,null,null,null,null,null,null,null,null,null,null,null,null,null,null,null,null,null,null,null,null,null,null,null,null,null,null,null,null,null,null,null,null,null,null,null,null,null,null,null,null,null,null,null,null,null,null,null,null,null,null,null,null,null,null,null,null,null,null,null,null,null,null,null,null,null,null,null,null,null,null,null,null,null,null,null,null,null,null,null,null,null,null,null,null,null,null,null,null,null,null,null,null,null,null,null,null,null,null,null,null,null,null,null,null,""]
[null,null,null,null,null,null,null,null,null,null,null,null,null,null,null,null,null,null,null,null,null,"","","","","","",0,1,"",null,null,null,null,null,null,null,null,null,null,null,null,null,null,null,null,null,null,null,null,null,null,null,null,null,null,null,null,null,null,null,null,null,null,null,null,null,null,null,null,null,null,null,null,null,null,null,null,null,null,null,null,null,null,null,null,null,null,null,null,null,null,null,null,null,null,null,null,null,null,null,null,null,null,null,null,null,null,null,null,null,null,null,null,null,null,null,null,null,null,null,null,null,null,null,null,null,null,null,null,null,null,null,null,null,null,null,null,null,null,null,null,null,null,null,null,null,null,null,null,null,null,null,null,null,null,null,null,""]
[null,null,null,null,null,null,null,null,null,null,null,null,null,null,null,null,null,null,null,null,null,"","","","","","",0,1,"",null,null,null,null,null,null,null,null,null,null,null,null,null,null,null,null,null,null,null,null,null,null,null,null,null,null,null,null,null,null,null,null,null,null,null,null,null,null,null,null,null,null,null,null,null,null,null,null,null,null,null,null,null,null,null,null,null,null,null,null,null,null,null,null,null,null,null,null,null,null,null,null,null,null,null,null,null,null,null,null,null,null,null,null,null,null,null,null,null,null,null,null,null,null,null,null,null,null,null,null,null,null,null,null,null,null,null,null,null,null,null,null,null,null,null,null,null,null,null,null,null,null,null,null,null,null,null,null,""]
[null,null,null,null,null,null,null,null,null,null,null,null,null,null,null,null,null,null,null,null,null,"","","","","","",0,1,"",null,null,null,null,null,null,null,null,null,null,null,null,null,null,null,null,null,null,null,null,null,null,null,null,null,null,null,null,null,null,null,null,null,null,null,null,null,null,null,null,null,null,null,null,null,null,null,null,null,null,null,null,null,null,null,null,null,null,null,null,null,null,null,null,null,null,null,null,null,null,null,null,null,null,null,null,null,null,null,null,null,null,null,null,null,null,null,null,null,null,null,null,null,null,null,null,null,null,null,null,null,null,null,null,null,null,null,null,null,null,null,null,null,null,null,null,null,null,null,null,null,null,null,null,null,null,null,null,""]
[null,null,null,null,null,null,null,null,null,null,null,null,null,null,null,null,null,null,null,null,null,{"$f":"IF(L491=\"\",\"\",L491*12/39)","v":""},"","","","","",0,1,"",null,null,null,null,null,null,null,null,null,null,null,null,null,null,null,null,null,null,null,null,null,null,null,null,null,null,null,null,null,null,null,null,null,null,null,null,null,null,null,null,null,null,null,null,null,null,null,null,null,null,null,null,null,null,null,null,null,null,null,null,null,null,null,null,null,null,null,null,null,null,null,null,null,null,null,null,null,null,null,null,null,null,null,null,null,null,null,null,null,null,null,null,null,null,null,null,null,null,null,null,null,null,null,null,null,null,null,null,null,null,null,null,null,null,null,null,null,null,null,null,null,null,null,null,null,null,null,null,""]
[null,null,null,null,null,null,null,null,null,null,null,null,null,null,null,null,null,null,null,null,null,"","","","","","",0,1,"",null,null,null,null,null,null,null,null,null,null,null,null,null,null,null,null,null,null,null,null,null,null,null,null,null,null,null,null,null,null,null,null,null,null,null,null,null,null,null,null,null,null,null,null,null,null,null,null,null,null,null,null,null,null,null,null,null,null,null,null,null,null,null,null,null,null,null,null,null,null,null,null,null,null,null,null,null,null,null,null,null,null,null,null,null,null,null,null,null,null,null,null,null,null,null,null,null,null,null,null,null,null,null,null,null,null,null,null,null,null,null,null,null,null,null,null,null,null,null,null,null,null,null,null,null,null,null,null,""]
[null,null,null,null,null,null,null,null,null,null,null,null,null,null,null,null,null,null,null,null,null,"","","","","","",0,1,"",null,null,null,null,null,null,null,null,null,null,null,null,null,null,null,null,null,null,null,null,null,null,null,null,null,null,null,null,null,null,null,null,null,null,null,null,null,null,null,null,null,null,null,null,null,null,null,null,null,null,null,null,null,null,null,null,null,null,null,null,null,null,null,null,null,null,null,null,null,null,null,null,null,null,null,null,null,null,null,null,null,null,null,null,null,null,null,null,null,null,null,null,null,null,null,null,null,null,null,null,null,null,null,null,null,null,null,null,null,null,null,null,null,null,null,null,null,null,null,null,null,null,null,null,null,null,null,null,""]
[null,null,null,null,null,null,null,null,null,null,null,null,null,null,null,null,null,null,null,null,null,"","","","","","",0,1,"",null,null,null,null,null,null,null,null,null,null,null,null,null,null,null,null,null,null,null,null,null,null,null,null,null,null,null,null,null,null,null,null,null,null,null,null,null,null,null,null,null,null,null,null,null,null,null,null,null,null,null,null,null,null,null,null,null,null,null,null,null,null,null,null,null,null,null,null,null,null,null,null,null,null,null,null,null,null,null,null,null,null,null,null,null,null,null,null,null,null,null,null,null,null,null,null,null,null,null,null,null,null,null,null,null,null,null,null,null,null,null,null,null,null,null,null,null,null,null,null,null,null,null,null,null,null,null,null,""]
[null,null,null,null,null,null,null,null,null,null,null,null,null,null,null,null,null,null,null,null,null,"","","","","","",0,1,"",null,null,null,null,null,null,null,null,null,null,null,null,null,null,null,null,null,null,null,null,null,null,null,null,null,null,null,null,null,null,null,null,null,null,null,null,null,null,null,null,null,null,null,null,null,null,null,null,null,null,null,null,null,null,null,null,null,null,null,null,null,null,null,null,null,null,null,null,null,null,null,null,null,null,null,null,null,null,null,null,null,null,null,null,null,null,null,null,null,null,null,null,null,null,null,null,null,null,null,null,null,null,null,null,null,null,null,null,null,null,null,null,null,null,null,null,null,null,null,null,null,null,null,null,null,null,null,null,""]
[null,null,null,null,null,null,null,null,null,null,null,null,null,null,null,null,null,null,null,null,null,"","","","","","",0,1,"",null,null,null,null,null,null,null,null,null,null,null,null,null,null,null,null,null,null,null,null,null,null,null,null,null,null,null,null,null,null,null,null,null,null,null,null,null,null,null,null,null,null,null,null,null,null,null,null,null,null,null,null,null,null,null,null,null,null,null,null,null,null,null,null,null,null,null,null,null,null,null,null,null,null,null,null,null,null,null,null,null,null,null,null,null,null,null,null,null,null,null,null,null,null,null,null,null,null,null,null,null,null,null,null,null,null,null,null,null,null,null,null,null,null,null,null,null,null,null,null,null,null,null,null,null,null,null,null,""]
[null,null,null,null,null,null,null,null,null,null,null,null,null,null,null,null,null,null,null,null,null,"","","","","","",0,1,"",null,null,null,null,null,null,null,null,null,null,null,null,null,null,null,null,null,null,null,null,null,null,null,null,null,null,null,null,null,null,null,null,null,null,null,null,null,null,null,null,null,null,null,null,null,null,null,null,null,null,null,null,null,null,null,null,null,null,null,null,null,null,null,null,null,null,null,null,null,null,null,null,null,null,null,null,null,null,null,null,null,null,null,null,null,null,null,null,null,null,null,null,null,null,null,null,null,null,null,null,null,null,null,null,null,null,null,null,null,null,null,null,null,null,null,null,null,null,null,null,null,null,null,null,null,null,null,null,""]
[null,null,null,null,null,null,null,null,null,null,null,null,null,null,null,null,null,null,null,null,null,"","","","","","",0,1,"",null,null,null,null,null,null,null,null,null,null,null,null,null,null,null,null,null,null,null,null,null,null,null,null,null,null,null,null,null,null,null,null,null,null,null,null,null,null,null,null,null,null,null,null,null,null,null,null,null,null,null,null,null,null,null,null,null,null,null,null,null,null,null,null,null,null,null,null,null,null,null,null,null,null,null,null,null,null,null,null,null,null,null,null,null,null,null,null,null,null,null,null,null,null,null,null,null,null,null,null,null,null,null,null,null,null,null,null,null,null,null,null,null,null,null,null,null,null,null,null,null,null,null,null,null,null,null,null,""]
[null,null,null,null,null,null,null,null,null,null,null,null,null,null,null,null,null,null,null,null,null,"","","","","","",0,1,"",null,null,null,null,null,null,null,null,null,null,null,null,null,null,null,null,null,null,null,null,null,null,null,null,null,null,null,null,null,null,null,null,null,null,null,null,null,null,null,null,null,null,null,null,null,null,null,null,null,null,null,null,null,null,null,null,null,null,null,null,null,null,null,null,null,null,null,null,null,null,null,null,null,null,null,null,null,null,null,null,null,null,null,null,null,null,null,null,null,null,null,null,null,null,null,null,null,null,null,null,null,null,null,null,null,null,null,null,null,null,null,null,null,null,null,null,null,null,null,null,null,null,null,null,null,null,null,null,""]
[null,null,null,null,null,null,null,null,null,null,null,null,null,null,null,null,null,null,null,null,null,"","","","","","",0,1,"",null,null,null,null,null,null,null,null,null,null,null,null,null,null,null,null,null,null,null,null,null,null,null,null,null,null,null,null,null,null,null,null,null,null,null,null,null,null,null,null,null,null,null,null,null,null,null,null,null,null,null,null,null,null,null,null,null,null,null,null,null,null,null,null,null,null,null,null,null,null,null,null,null,null,null,null,null,null,null,null,null,null,null,null,null,null,null,null,null,null,null,null,null,null,null,null,null,null,null,null,null,null,null,null,null,null,null,null,null,null,null,null,null,null,null,null,null,null,null,null,null,null,null,null,null,null,null,null,""]
[null,null,null,null,null,null,null,null,null,null,null,null,null,null,null,null,null,null,null,null,{"$f":"IF(A360=\"\",\"\",U$5+Header!C$6*(A360-1))","v":""},"","","","","","",0,1,"",null,null,null,null,null,null,null,null,null,null,null,null,null,null,null,null,null,null,null,null,null,null,null,null,null,null,null,null,null,null,null,null,null,null,null,null,null,null,null,null,null,null,null,null,null,null,null,null,null,null,null,null,null,null,null,null,null,null,null,null,null,null,null,null,null,null,null,null,null,null,null,null,null,null,null,null,null,null,null,null,null,null,null,null,null,null,null,null,null,null,null,null,null,null,null,null,null,null,null,null,null,null,null,null,null,null,null,null,null,null,null,null,null,null,null,null,null,null,null,null,null,null,null,null,null,null,null,null,""]
[null,null,null,null,null,null,null,null,null,null,null,null,null,null,null,null,null,null,null,null,{"$f":"IF(A361=\"\",\"\",U$5+Header!C$6*(A361-1))","v":""},"","","","","","",0,1,"",null,null,null,null,null,null,null,null,null,null,null,null,null,null,null,null,null,null,null,null,null,null,null,null,null,null,null,null,null,null,null,null,null,null,null,null,null,null,null,null,null,null,null,null,null,null,null,null,null,null,null,null,null,null,null,null,null,null,null,null,null,null,null,null,null,null,null,null,null,null,null,null,null,null,null,null,null,null,null,null,null,null,null,null,null,null,null,null,null,null,null,null,null,null,null,null,null,null,null,null,null,null,null,null,null,null,null,null,null,null,null,null,null,null,null,null,null,null,null,null,null,null,null,null,null,null,null,null,""]
[null,null,null,null,null,null,null,null,null,null,null,null,null,null,null,null,null,null,null,null,{"$f":"IF(A362=\"\",\"\",U$5+Header!C$6*(A362-1))","v":""},"","","","","","",0,1,"",null,null,null,null,null,null,null,null,null,null,null,null,null,null,null,null,null,null,null,null,null,null,null,null,null,null,null,null,null,null,null,null,null,null,null,null,null,null,null,null,null,null,null,null,null,null,null,null,null,null,null,null,null,null,null,null,null,null,null,null,null,null,null,null,null,null,null,null,null,null,null,null,null,null,null,null,null,null,null,null,null,null,null,null,null,null,null,null,null,null,null,null,null,null,null,null,null,null,null,null,null,null,null,null,null,null,null,null,null,null,null,null,null,null,null,null,null,null,null,null,null,null,null,null,null,null,null,null,""]
[null,null,null,null,null,null,null,null,null,null,null,null,null,null,null,null,null,null,null,null,{"$f":"IF(A363=\"\",\"\",U$5+Header!C$6*(A363-1))","v":""},null,"","","","","",0,1,"",null,null,null,null,null,null,null,null,null,null,null,null,null,null,null,null,null,null,null,null,null,null,null,null,null,null,null,null,null,null,null,null,null,null,null,null,null,null,null,null,null,null,null,null,null,null,null,null,null,null,null,null,null,null,null,null,null,null,null,null,null,null,null,null,null,null,null,null,null,null,null,null,null,null,null,null,null,null,null,null,null,null,null,null,null,null,null,null,null,null,null,null,null,null,null,null,null,null,null,null,null,null,null,null,null,null,null,null,null,null,null,null,null,null,null,null,null,null,null,null,null,null,null,null,null,null,null,null,""]
[null,null,null,null,null,null,null,null,null,null,null,null,null,null,null,null,null,null,null,null,{"$f":"IF(A364=\"\",\"\",U$5+Header!C$6*(A364-1))","v":""},null,{"$f":"IF(F364=\"\",\"\",IF(ISNUMBER(SEARCH(F364,\"d\")),IF(ISNUMBER(SEARCH(G364,\"c\")),\"CS\",IF(ISNUMBER(SEARCH(G364,\"u\")),\"UU\")),\"\"))","v":""},{"$f":"IF(F364=\"\",\"\",IF(ISNUMBER(SEARCH(F364,\"e\")),IF(ISNUMBER(SEARCH(G364,\"c\")),IF(ISNUMBER(SEARCH(H364,\"a\")),\"CS\",\"CU\"),IF(ISNUMBER(SEARCH(H364,\"a\")),\"US\",\"UU\")),\"\"))","v":""},{"$f":"IF(W364=\"\",X364,W364)","v":""},"","",0,1,"",null,null,null,null,null,null,null,null,null,null,null,null,null,null,null,null,null,null,null,null,null,null,null,null,null,null,null,null,null,null,null,null,null,null,null,null,null,null,null,null,null,null,null,null,null,null,null,null,null,null,null,null,null,null,null,null,null,null,null,null,null,null,null,null,null,null,null,null,null,null,null,null,null,null,null,null,null,null,null,null,null,null,null,null,null,null,null,null,null,null,null,null,null,null,null,null,null,null,null,null,null,null,null,null,null,null,null,null,null,null,null,null,null,null,null,null,null,null,null,null,null,null,null,null,null,null,null,null,""]
[null,null,null,null,null,null,null,null,null,null,null,null,null,null,null,null,null,null,null,null,{"$f":"IF(A365=\"\",\"\",U$5+Header!C$6*(A365-1))","v":""},null,"","","","","",0,1,"",null,null,null,null,null,null,null,null,null,null,null,null,null,null,null,null,null,null,null,null,null,null,null,null,null,null,null,null,null,null,null,null,null,null,null,null,null,null,null,null,null,null,null,null,null,null,null,null,null,null,null,null,null,null,null,null,null,null,null,null,null,null,null,null,null,null,null,null,null,null,null,null,null,null,null,null,null,null,null,null,null,null,null,null,null,null,null,null,null,null,null,null,null,null,null,null,null,null,null,null,null,null,null,null,null,null,null,null,null,null,null,null,null,null,null,null,null,null,null,null,null,null,null,null,null,null,null,null,""]
[null,null,null,null,null,null,null,null,null,null,null,null,null,null,null,null,null,null,null,null,{"$f":"IF(A366=\"\",\"\",U$5+Header!C$6*(A366-1))","v":""},null,"","","","","",0,1,"",null,null,null,null,null,null,null,null,null,null,null,null,null,null,null,null,null,null,null,null,null,null,null,null,null,null,null,null,null,null,null,null,null,null,null,null,null,null,null,null,null,null,null,null,null,null,null,null,null,null,null,null,null,null,null,null,null,null,null,null,null,null,null,null,null,null,null,null,null,null,null,null,null,null,null,null,null,null,null,null,null,null,null,null,null,null,null,null,null,null,null,null,null,null,null,null,null,null,null,null,null,null,null,null,null,null,null,null,null,null,null,null,null,null,null,null,null,null,null,null,null,null,null,null,null,null,null,null,""]
[null,null,null,null,null,null,null,null,null,null,null,null,null,null,null,null,null,null,null,null,{"$f":"IF(A367=\"\",\"\",U$5+Header!C$6*(A367-1))","v":""},null,"","","","","",0,1,"",null,null,null,null,null,null,null,null,null,null,null,null,null,null,null,null,null,null,null,null,null,null,null,null,null,null,null,null,null,null,null,null,null,null,null,null,null,null,null,null,null,null,null,null,null,null,null,null,null,null,null,null,null,null,null,null,null,null,null,null,null,null,null,null,null,null,null,null,null,null,null,null,null,null,null,null,null,null,null,null,null,null,null,null,null,null,null,null,null,null,null,null,null,null,null,null,null,null,null,null,null,null,null,null,null,null,null,null,null,null,null,null,null,null,null,null,null,null,null,null,null,null,null,null,null,null,null,null,""]
[null,null,null,null,null,null,null,null,null,null,null,null,null,null,null,null,null,null,null,null,{"$f":"IF(A368=\"\",\"\",U$5+Header!C$6*(A368-1))","v":""},null,"","","","","",0,1,"",null,null,null,null,null,null,null,null,null,null,null,null,null,null,null,null,null,null,null,null,null,null,null,null,null,null,null,null,null,null,null,null,null,null,null,null,null,null,null,null,null,null,null,null,null,null,null,null,null,null,null,null,null,null,null,null,null,null,null,null,null,null,null,null,null,null,null,null,null,null,null,null,null,null,null,null,null,null,null,null,null,null,null,null,null,null,null,null,null,null,null,null,null,null,null,null,null,null,null,null,null,null,null,null,null,null,null,null,null,null,null,null,null,null,null,null,null,null,null,null,null,null,null,null,null,null,null,null,""]
[null,null,null,null,null,null,null,null,null,null,null,null,null,null,null,null,null,null,null,null,{"$f":"IF(A369=\"\",\"\",U$5+Header!C$6*(A369-1))","v":""},null,"","","","","",0,1,"",null,null,null,null,null,null,null,null,null,null,null,null,null,null,null,null,null,null,null,null,null,null,null,null,null,null,null,null,null,null,null,null,null,null,null,null,null,null,null,null,null,null,null,null,null,null,null,null,null,null,null,null,null,null,null,null,null,null,null,null,null,null,null,null,null,null,null,null,null,null,null,null,null,null,null,null,null,null,null,null,null,null,null,null,null,null,null,null,null,null,null,null,null,null,null,null,null,null,null,null,null,null,null,null,null,null,null,null,null,null,null,null,null,null,null,null,null,null,null,null,null,null,null,null,null,null,null,null,""]
[null,null,null,null,null,null,null,null,null,null,null,null,null,null,null,null,null,null,null,null,{"$f":"IF(A370=\"\",\"\",U$5+Header!C$6*(A370-1))","v":""},null,"","","","","",0,1,"",null,null,null,null,null,null,null,null,null,null,null,null,null,null,null,null,null,null,null,null,null,null,null,null,null,null,null,null,null,null,null,null,null,null,null,null,null,null,null,null,null,null,null,null,null,null,null,null,null,null,null,null,null,null,null,null,null,null,null,null,null,null,null,null,null,null,null,null,null,null,null,null,null,null,null,null,null,null,null,null,null,null,null,null,null,null,null,null,null,null,null,null,null,null,null,null,null,null,null,null,null,null,null,null,null,null,null,null,null,null,null,null,null,null,null,null,null,null,null,null,null,null,null,null,null,null,null,null,""]
[null,null,null,null,null,null,null,null,null,null,null,null,null,null,null,null,null,null,null,null,{"$f":"IF(A371=\"\",\"\",U$5+Header!C$6*(A371-1))","v":""},null,"","","","","",0,1,"",null,null,null,null,null,null,null,null,null,null,null,null,null,null,null,null,null,null,null,null,null,null,null,null,null,null,null,null,null,null,null,null,null,null,null,null,null,null,null,null,null,null,null,null,null,null,null,null,null,null,null,null,null,null,null,null,null,null,null,null,null,null,null,null,null,null,null,null,null,null,null,null,null,null,null,null,null,null,null,null,null,null,null,null,null,null,null,null,null,null,null,null,null,null,null,null,null,null,null,null,null,null,null,null,null,null,null,null,null,null,null,null,null,null,null,null,null,null,null,null,null,null,null,null,null,null,null,null,""]
[null,null,null,null,null,null,null,null,null,null,null,null,null,null,null,null,null,null,null,null,{"$f":"IF(A372=\"\",\"\",U$5+Header!C$6*(A372-1))","v":""},null,"","","","","",0,1,"",null,null,null,null,null,null,null,null,null,null,null,null,null,null,null,null,null,null,null,null,null,null,null,null,null,null,null,null,null,null,null,null,null,null,null,null,null,null,null,null,null,null,null,null,null,null,null,null,null,null,null,null,null,null,null,null,null,null,null,null,null,null,null,null,null,null,null,null,null,null,null,null,null,null,null,null,null,null,null,null,null,null,null,null,null,null,null,null,null,null,null,null,null,null,null,null,null,null,null,null,null,null,null,null,null,null,null,null,null,null,null,null,null,null,null,null,null,null,null,null,null,null,null,null,null,null,null,null,""]
[null,null,null,null,null,null,null,null,null,null,null,null,null,null,null,null,null,null,null,null,{"$f":"IF(A373=\"\",\"\",U$5+Header!C$6*(A373-1))","v":""},null,"","","","","",0,1,"",null,null,null,null,null,null,null,null,null,null,null,null,null,null,null,null,null,null,null,null,null,null,null,null,null,null,null,null,null,null,null,null,null,null,null,null,null,null,null,null,null,null,null,null,null,null,null,null,null,null,null,null,null,null,null,null,null,null,null,null,null,null,null,null,null,null,null,null,null,null,null,null,null,null,null,null,null,null,null,null,null,null,null,null,null,null,null,null,null,null,null,null,null,null,null,null,null,null,null,null,null,null,null,null,null,null,null,null,null,null,null,null,null,null,null,null,null,null,null,null,null,null,null,null,null,null,null,null,""]
[null,null,null,null,null,null,null,null,null,null,null,null,null,null,null,null,null,null,null,null,{"$f":"IF(A374=\"\",\"\",U$5+Header!C$6*(A374-1))","v":""},null,"","","","","",0,1,"",null,null,null,null,null,null,null,null,null,null,null,null,null,null,null,null,null,null,null,null,null,null,null,null,null,null,null,null,null,null,null,null,null,null,null,null,null,null,null,null,null,null,null,null,null,null,null,null,null,null,null,null,null,null,null,null,null,null,null,null,null,null,null,null,null,null,null,null,null,null,null,null,null,null,null,null,null,null,null,null,null,null,null,null,null,null,null,null,null,null,null,null,null,null,null,null,null,null,null,null,null,null,null,null,null,null,null,null,null,null,null,null,null,null,null,null,null,null,null,null,null,null,null,null,null,null,null,null,""]
[null,null,null,null,null,null,null,null,null,null,null,null,null,null,null,null,null,null,null,null,{"$f":"IF(A375=\"\",\"\",U$5+Header!C$6*(A375-1))","v":""},null,"","","","","",0,1,"",null,null,null,null,null,null,null,null,null,null,null,null,null,null,null,null,null,null,null,null,null,null,null,null,null,null,null,null,null,null,null,null,null,null,null,null,null,null,null,null,null,null,null,null,null,null,null,null,null,null,null,null,null,null,null,null,null,null,null,null,null,null,null,null,null,null,null,null,null,null,null,null,null,null,null,null,null,null,null,null,null,null,null,null,null,null,null,null,null,null,null,null,null,null,null,null,null,null,null,null,null,null,null,null,null,null,null,null,null,null,null,null,null,null,null,null,null,null,null,null,null,null,null,null,null,null,null,null,""]
[null,null,null,null,null,null,null,null,null,null,null,null,null,null,null,null,null,null,null,null,{"$f":"IF(A376=\"\",\"\",U$5+Header!C$6*(A376-1))","v":""},null,"","","","","",0,1,"",null,null,null,null,null,null,null,null,null,null,null,null,null,null,null,null,null,null,null,null,null,null,null,null,null,null,null,null,null,null,null,null,null,null,null,null,null,null,null,null,null,null,null,null,null,null,null,null,null,null,null,null,null,null,null,null,null,null,null,null,null,null,null,null,null,null,null,null,null,null,null,null,null,null,null,null,null,null,null,null,null,null,null,null,null,null,null,null,null,null,null,null,null,null,null,null,null,null,null,null,null,null,null,null,null,null,null,null,null,null,null,null,null,null,null,null,null,null,null,null,null,null,null,null,null,null,null,null,""]
[null,null,null,null,null,null,null,null,null,null,null,null,null,null,null,null,null,null,null,null,{"$f":"IF(A377=\"\",\"\",U$5+Header!C$6*(A377-1))","v":""},null,"","","","","",0,1,"",null,null,null,null,null,null,null,null,null,null,null,null,null,null,null,null,null,null,null,null,null,null,null,null,null,null,null,null,null,null,null,null,null,null,null,null,null,null,null,null,null,null,null,null,null,null,null,null,null,null,null,null,null,null,null,null,null,null,null,null,null,null,null,null,null,null,null,null,null,null,null,null,null,null,null,null,null,null,null,null,null,null,null,null,null,null,null,null,null,null,null,null,null,null,null,null,null,null,null,null,null,null,null,null,null,null,null,null,null,null,null,null,null,null,null,null,null,null,null,null,null,null,null,null,null,null,null,null,""]
[null,null,null,null,null,null,null,null,null,null,null,null,null,null,null,null,null,null,null,null,{"$f":"IF(A378=\"\",\"\",U$5+Header!C$6*(A378-1))","v":""},null,"","","","","",0,1,"",null,null,null,null,null,null,null,null,null,null,null,null,null,null,null,null,null,null,null,null,null,null,null,null,null,null,null,null,null,null,null,null,null,null,null,null,null,null,null,null,null,null,null,null,null,null,null,null,null,null,null,null,null,null,null,null,null,null,null,null,null,null,null,null,null,null,null,null,null,null,null,null,null,null,null,null,null,null,null,null,null,null,null,null,null,null,null,null,null,null,null,null,null,null,null,null,null,null,null,null,null,null,null,null,null,null,null,null,null,null,null,null,null,null,null,null,null,null,null,null,null,null,null,null,null,null,null,null,""]
[null,null,null,null,null,null,null,null,null,null,null,null,null,null,null,null,null,null,null,null,{"$f":"IF(A379=\"\",\"\",U$5+Header!C$6*(A379-1))","v":""},null,"","","","","",0,1,"",null,null,null,null,null,null,null,null,null,null,null,null,null,null,null,null,null,null,null,null,null,null,null,null,null,null,null,null,null,null,null,null,null,null,null,null,null,null,null,null,null,null,null,null,null,null,null,null,null,null,null,null,null,null,null,null,null,null,null,null,null,null,null,null,null,null,null,null,null,null,null,null,null,null,null,null,null,null,null,null,null,null,null,null,null,null,null,null,null,null,null,null,null,null,null,null,null,null,null,null,null,null,null,null,null,null,null,null,null,null,null,null,null,null,null,null,null,null,null,null,null,null,null,null,null,null,null,null,""]
[null,null,null,null,null,null,null,null,null,null,null,null,null,null,null,null,null,null,null,null,{"$f":"IF(A380=\"\",\"\",U$5+Header!C$6*(A380-1))","v":""},null,"","","","","",0,1,"",null,null,null,null,null,null,null,null,null,null,null,null,null,null,null,null,null,null,null,null,null,null,null,null,null,null,null,null,null,null,null,null,null,null,null,null,null,null,null,null,null,null,null,null,null,null,null,null,null,null,null,null,null,null,null,null,null,null,null,null,null,null,null,null,null,null,null,null,null,null,null,null,null,null,null,null,null,null,null,null,null,null,null,null,null,null,null,null,null,null,null,null,null,null,null,null,null,null,null,null,null,null,null,null,null,null,null,null,null,null,null,null,null,null,null,null,null,null,null,null,null,null,null,null,null,null,null,null,""]
[null,null,null,null,null,null,null,null,null,null,null,null,null,null,null,null,null,null,null,null,{"$f":"IF(A381=\"\",\"\",U$5+Header!C$6*(A381-1))","v":""},null,"","","","","",0,1,"",null,null,null,null,null,null,null,null,null,null,null,null,null,null,null,null,null,null,null,null,null,null,null,null,null,null,null,null,null,null,null,null,null,null,null,null,null,null,null,null,null,null,null,null,null,null,null,null,null,null,null,null,null,null,null,null,null,null,null,null,null,null,null,null,null,null,null,null,null,null,null,null,null,null,null,null,null,null,null,null,null,null,null,null,null,null,null,null,null,null,null,null,null,null,null,null,null,null,null,null,null,null,null,null,null,null,null,null,null,null,null,null,null,null,null,null,null,null,null,null,null,null,null,null,null,null,null,null,""]
[null,null,null,null,null,null,null,null,null,null,null,null,null,null,null,null,null,null,null,null,{"$f":"IF(A382=\"\",\"\",U$5+Header!C$6*(A382-1))","v":""},null,"","","","","",0,1,"",null,null,null,null,null,null,null,null,null,null,null,null,null,null,null,null,null,null,null,null,null,null,null,null,null,null,null,null,null,null,null,null,null,null,null,null,null,null,null,null,null,null,null,null,null,null,null,null,null,null,null,null,null,null,null,null,null,null,null,null,null,null,null,null,null,null,null,null,null,null,null,null,null,null,null,null,null,null,null,null,null,null,null,null,null,null,null,null,null,null,null,null,null,null,null,null,null,null,null,null,null,null,null,null,null,null,null,null,null,null,null,null,null,null,null,null,null,null,null,null,null,null,null,null,null,null,null,null,""]
[null,null,null,null,null,null,null,null,null,null,null,null,null,null,null,null,null,null,null,null,{"$f":"IF(A383=\"\",\"\",U$5+Header!C$6*(A383-1))","v":""},null,"","","","","",0,1,"",null,null,null,null,null,null,null,null,null,null,null,null,null,null,null,null,null,null,null,null,null,null,null,null,null,null,null,null,null,null,null,null,null,null,null,null,null,null,null,null,null,null,null,null,null,null,null,null,null,null,null,null,null,null,null,null,null,null,null,null,null,null,null,null,null,null,null,null,null,null,null,null,null,null,null,null,null,null,null,null,null,null,null,null,null,null,null,null,null,null,null,null,null,null,null,null,null,null,null,null,null,null,null,null,null,null,null,null,null,null,null,null,null,null,null,null,null,null,null,null,null,null,null,null,null,null,null,null,""]
[null,null,null,null,null,null,null,null,null,null,null,null,null,null,null,null,null,null,null,null,{"$f":"IF(A384=\"\",\"\",U$5+Header!C$6*(A384-1))","v":""},null,"","","","","",0,1,"",null,null,null,null,null,null,null,null,null,null,null,null,null,null,null,null,null,null,null,null,null,null,null,null,null,null,null,null,null,null,null,null,null,null,null,null,null,null,null,null,null,null,null,null,null,null,null,null,null,null,null,null,null,null,null,null,null,null,null,null,null,null,null,null,null,null,null,null,null,null,null,null,null,null,null,null,null,null,null,null,null,null,null,null,null,null,null,null,null,null,null,null,null,null,null,null,null,null,null,null,null,null,null,null,null,null,null,null,null,null,null,null,null,null,null,null,null,null,null,null,null,null,null,null,null,null,null,null,""]
[null,null,null,null,null,null,null,null,null,null,null,null,null,null,null,null,null,null,null,null,{"$f":"IF(A385=\"\",\"\",U$5+Header!C$6*(A385-1))","v":""},null,"","","","","",0,1,"",null,null,null,null,null,null,null,null,null,null,null,null,null,null,null,null,null,null,null,null,null,null,null,null,null,null,null,null,null,null,null,null,null,null,null,null,null,null,null,null,null,null,null,null,null,null,null,null,null,null,null,null,null,null,null,null,null,null,null,null,null,null,null,null,null,null,null,null,null,null,null,null,null,null,null,null,null,null,null,null,null,null,null,null,null,null,null,null,null,null,null,null,null,null,null,null,null,null,null,null,null,null,null,null,null,null,null,null,null,null,null,null,null,null,null,null,null,null,null,null,null,null,null,null,null,null,null,null,""]
[null,null,null,null,null,null,null,null,null,null,null,null,null,null,null,null,null,null,null,null,{"$f":"IF(A386=\"\",\"\",U$5+Header!C$6*(A386-1))","v":""},null,"","","","","",0,1,"",null,null,null,null,null,null,null,null,null,null,null,null,null,null,null,null,null,null,null,null,null,null,null,null,null,null,null,null,null,null,null,null,null,null,null,null,null,null,null,null,null,null,null,null,null,null,null,null,null,null,null,null,null,null,null,null,null,null,null,null,null,null,null,null,null,null,null,null,null,null,null,null,null,null,null,null,null,null,null,null,null,null,null,null,null,null,null,null,null,null,null,null,null,null,null,null,null,null,null,null,null,null,null,null,null,null,null,null,null,null,null,null,null,null,null,null,null,null,null,null,null,null,null,null,null,null,null,null,""]
[null,null,null,null,null,null,null,null,null,null,null,null,null,null,null,null,null,null,null,null,{"$f":"IF(A387=\"\",\"\",U$5+Header!C$6*(A387-1))","v":""},null,"","","","","",0,1,"",null,null,null,null,null,null,null,null,null,null,null,null,null,null,null,null,null,null,null,null,null,null,null,null,null,null,null,null,null,null,null,null,null,null,null,null,null,null,null,null,null,null,null,null,null,null,null,null,null,null,null,null,null,null,null,null,null,null,null,null,null,null,null,null,null,null,null,null,null,null,null,null,null,null,null,null,null,null,null,null,null,null,null,null,null,null,null,null,null,null,null,null,null,null,null,null,null,null,null,null,null,null,null,null,null,null,null,null,null,null,null,null,null,null,null,null,null,null,null,null,null,null,null,null,null,null,null,null,""]
[null,null,null,null,null,null,null,null,null,null,null,null,null,null,null,null,null,null,null,null,{"$f":"IF(A388=\"\",\"\",U$5+Header!C$6*(A388-1))","v":""},null,"","","","","",0,1,"",null,null,null,null,null,null,null,null,null,null,null,null,null,null,null,null,null,null,null,null,null,null,null,null,null,null,null,null,null,null,null,null,null,null,null,null,null,null,null,null,null,null,null,null,null,null,null,null,null,null,null,null,null,null,null,null,null,null,null,null,null,null,null,null,null,null,null,null,null,null,null,null,null,null,null,null,null,null,null,null,null,null,null,null,null,null,null,null,null,null,null,null,null,null,null,null,null,null,null,null,null,null,null,null,null,null,null,null,null,null,null,null,null,null,null,null,null,null,null,null,null,null,null,null,null,null,null,null,""]
[null,null,null,null,null,null,null,null,null,null,null,null,null,null,null,null,null,null,null,null,{"$f":"IF(A389=\"\",\"\",U$5+Header!C$6*(A389-1))","v":""},null,"","","","","",0,1,"",null,null,null,null,null,null,null,null,null,null,null,null,null,null,null,null,null,null,null,null,null,null,null,null,null,null,null,null,null,null,null,null,null,null,null,null,null,null,null,null,null,null,null,null,null,null,null,null,null,null,null,null,null,null,null,null,null,null,null,null,null,null,null,null,null,null,null,null,null,null,null,null,null,null,null,null,null,null,null,null,null,null,null,null,null,null,null,null,null,null,null,null,null,null,null,null,null,null,null,null,null,null,null,null,null,null,null,null,null,null,null,null,null,null,null,null,null,null,null,null,null,null,null,null,null,null,null,null,""]
[null,null,null,null,null,null,null,null,null,null,null,null,null,null,null,null,null,null,null,null,{"$f":"IF(A390=\"\",\"\",U$5+Header!C$6*(A390-1))","v":""},null,"","","",{"$f":"IF($Y390=\"cs\",1,IF($Y390=\"cu\",2,IF($Y390=\"us\",3,IF($Y390=\"uu\",4,\"\"))))","v":""},{"$f":"IF(A390=\"\",\"\",A390)","v":""},{"$f":"C390","v":0},1,{"$f":"IF(AA390<>\"\",SUMIF(AC:AC,AA390,AB:AB),\"\")","v":""},null,null,null,null,null,null,null,null,null,null,null,null,null,null,null,null,null,null,null,null,null,null,null,null,null,null,null,null,null,null,null,null,null,null,null,null,null,null,null,null,null,null,null,null,null,null,null,null,null,null,null,null,null,null,null,null,null,null,null,null,null,null,null,null,null,null,null,null,null,null,null,null,null,null,null,null,null,null,null,null,null,null,null,null,null,null,null,null,null,null,null,null,null,null,null,null,null,null,null,null,null,null,null,null,null,null,null,null,null,null,null,null,null,null,null,null,null,null,null,null,null,null,null,null,null,null,null,null,""]
[null,null,null,null,null,null,null,null,null,null,null,null,null,null,null,null,null,null,null,null,{"$f":"IF(A391=\"\",\"\",U$5+Header!C$6*(A391-1))","v":""},null,"","","","","",0,{"$f":"IF(A391>A390,A391,AC390)","v":1},"",null,null,null,null,null,null,null,null,null,null,null,null,null,null,null,null,null,null,null,null,null,null,null,null,null,null,null,null,null,null,null,null,null,null,null,null,null,null,null,null,null,null,null,null,null,null,null,null,null,null,null,null,null,null,null,null,null,null,null,null,null,null,null,null,null,null,null,null,null,null,null,null,null,null,null,null,null,null,null,null,null,null,null,null,null,null,null,null,null,null,null,null,null,null,null,null,null,null,null,null,null,null,null,null,null,null,null,null,null,null,null,null,null,null,null,null,null,null,null,null,null,null,null,null,null,null,null,null,{"$f":"IF(E391=\"\",\"\",E391+1)","v":""}]
[null,null,null,null,null,null,null,null,null,null,null,null,null,null,null,null,null,null,null,null,{"$f":"IF(A392=\"\",\"\",U$5+Header!C$6*(A392-1))","v":""},null,"","","","","",0,1,"",null,null,null,null,null,null,null,null,null,null,null,null,null,null,null,null,null,null,null,null,null,null,null,null,null,null,null,null,null,null,null,null,null,null,null,null,null,null,null,null,null,null,null,null,null,null,null,null,null,null,null,null,null,null,null,null,null,null,null,null,null,null,null,null,null,null,null,null,null,null,null,null,null,null,null,null,null,null,null,null,null,null,null,null,null,null,null,null,null,null,null,null,null,null,null,null,null,null,null,null,null,null,null,null,null,null,null,null,null,null,null,null,null,null,null,null,null,null,null,null,null,null,null,null,null,null,null,null,""]
[null,null,null,null,null,null,null,null,null,null,null,null,null,null,null,null,null,null,null,null,{"$f":"IF(A393=\"\",\"\",U$5+Header!C$6*(A393-1))","v":""},null,"","","","","",0,1,"",null,null,null,null,null,null,null,null,null,null,null,null,null,null,null,null,null,null,null,null,null,null,null,null,null,null,null,null,null,null,null,null,null,null,null,null,null,null,null,null,null,null,null,null,null,null,null,null,null,null,null,null,null,null,null,null,null,null,null,null,null,null,null,null,null,null,null,null,null,null,null,null,null,null,null,null,null,null,null,null,null,null,null,null,null,null,null,null,null,null,null,null,null,null,null,null,null,null,null,null,null,null,null,null,null,null,null,null,null,null,null,null,null,null,null,null,null,null,null,null,null,null,null,null,null,null,null,null,""]
[null,null,null,null,null,null,null,null,null,null,null,null,null,null,null,null,null,null,null,null,{"$f":"IF(A394=\"\",\"\",U$5+Header!C$6*(A394-1))","v":""},null,"","","","","",0,1,"",null,null,null,null,null,null,null,null,null,null,null,null,null,null,null,null,null,null,null,null,null,null,null,null,null,null,null,null,null,null,null,null,null,null,null,null,null,null,null,null,null,null,null,null,null,null,null,null,null,null,null,null,null,null,null,null,null,null,null,null,null,null,null,null,null,null,null,null,null,null,null,null,null,null,null,null,null,null,null,null,null,null,null,null,null,null,null,null,null,null,null,null,null,null,null,null,null,null,null,null,null,null,null,null,null,null,null,null,null,null,null,null,null,null,null,null,null,null,null,null,null,null,null,null,null,null,null,null,""]
[null,null,null,null,null,null,null,null,null,null,null,null,null,null,null,null,null,null,null,null,{"$f":"IF(A395=\"\",\"\",U$5+Header!C$6*(A395-1))","v":""},null,"","","","","",0,1,"",null,null,null,null,null,null,null,null,null,null,null,null,null,null,null,null,null,null,null,null,null,null,null,null,null,null,null,null,null,null,null,null,null,null,null,null,null,null,null,null,null,null,null,null,null,null,null,null,null,null,null,null,null,null,null,null,null,null,null,null,null,null,null,null,null,null,null,null,null,null,null,null,null,null,null,null,null,null,null,null,null,null,null,null,null,null,null,null,null,null,null,null,null,null,null,null,null,null,null,null,null,null,null,null,null,null,null,null,null,null,null,null,null,null,null,null,null,null,null,null,null,null,null,null,null,null,null,null,""]
[null,null,null,null,null,null,null,null,null,null,null,null,null,null,null,null,null,null,null,null,{"$f":"IF(A396=\"\",\"\",U$5+Header!C$6*(A396-1))","v":""},null,"","","","","",0,1,"",null,null,null,null,null,null,null,null,null,null,null,null,null,null,null,null,null,null,null,null,null,null,null,null,null,null,null,null,null,null,null,null,null,null,null,null,null,null,null,null,null,null,null,null,null,null,null,null,null,null,null,null,null,null,null,null,null,null,null,null,null,null,null,null,null,null,null,null,null,null,null,null,null,null,null,null,null,null,null,null,null,null,null,null,null,null,null,null,null,null,null,null,null,null,null,null,null,null,null,null,null,null,null,null,null,null,null,null,null,null,null,null,null,null,null,null,null,null,null,null,null,null,null,null,null,null,null,null,""]
[null,null,null,null,null,null,null,null,null,null,null,null,null,null,null,null,null,null,null,null,{"$f":"IF(A397=\"\",\"\",U$5+Header!C$6*(A397-1))","v":""},null,"","","","","",0,1,"",null,null,null,null,null,null,null,null,null,null,null,null,null,null,null,null,null,null,null,null,null,null,null,null,null,null,null,null,null,null,null,null,null,null,null,null,null,null,null,null,null,null,null,null,null,null,null,null,null,null,null,null,null,null,null,null,null,null,null,null,null,null,null,null,null,null,null,null,null,null,null,null,null,null,null,null,null,null,null,null,null,null,null,null,null,null,null,null,null,null,null,null,null,null,null,null,null,null,null,null,null,null,null,null,null,null,null,null,null,null,null,null,null,null,null,null,null,null,null,null,null,null,null,null,null,null,null,null,""]
[null,null,null,null,null,null,null,null,null,null,null,null,null,null,null,null,null,null,null,null,{"$f":"IF(A398=\"\",\"\",U$5+Header!C$6*(A398-1))","v":""},null,"","","","","",0,1,"",null,null,null,null,null,null,null,null,null,null,null,null,null,null,null,null,null,null,null,null,null,null,null,null,null,null,null,null,null,null,null,null,null,null,null,null,null,null,null,null,null,null,null,null,null,null,null,null,null,null,null,null,null,null,null,null,null,null,null,null,null,null,null,null,null,null,null,null,null,null,null,null,null,null,null,null,null,null,null,null,null,null,null,null,null,null,null,null,null,null,null,null,null,null,null,null,null,null,null,null,null,null,null,null,null,null,null,null,null,null,null,null,null,null,null,null,null,null,null,null,null,null,null,null,null,null,null,null,""]
[null,null,null,null,null,null,null,null,null,null,null,null,null,null,null,null,null,null,null,null,{"$f":"IF(A399=\"\",\"\",U$5+Header!C$6*(A399-1))","v":""},null,"","","","","",0,1,"",null,null,null,null,null,null,null,null,null,null,null,null,null,null,null,null,null,null,null,null,null,null,null,null,null,null,null,null,null,null,null,null,null,null,null,null,null,null,null,null,null,null,null,null,null,null,null,null,null,null,null,null,null,null,null,null,null,null,null,null,null,null,null,null,null,null,null,null,null,null,null,null,null,null,null,null,null,null,null,null,null,null,null,null,null,null,null,null,null,null,null,null,null,null,null,null,null,null,null,null,null,null,null,null,null,null,null,null,null,null,null,null,null,null,null,null,null,null,null,null,null,null,null,null,null,null,null,null,""]
[null,null,null,null,null,null,null,null,null,null,null,null,null,null,null,null,null,null,null,null,{"$f":"IF(A400=\"\",\"\",U$5+Header!C$6*(A400-1))","v":""},null,"","","","","",0,1,"",null,null,null,null,null,null,null,null,null,null,null,null,null,null,null,null,null,null,null,null,null,null,null,null,null,null,null,null,null,null,null,null,null,null,null,null,null,null,null,null,null,null,null,null,null,null,null,null,null,null,null,null,null,null,null,null,null,null,null,null,null,null,null,null,null,null,null,null,null,null,null,null,null,null,null,null,null,null,null,null,null,null,null,null,null,null,null,null,null,null,null,null,null,null,null,null,null,null,null,null,null,null,null,null,null,null,null,null,null,null,null,null,null,null,null,null,null,null,null,null,null,null,null,null,null,null,null,null,""]
[null,null,null,null,null,null,null,null,null,null,null,null,null,null,null,null,null,null,null,null,{"$f":"IF(A401=\"\",\"\",U$5+Header!C$6*(A401-1))","v":""},null,"","","","","",0,1,"",null,null,null,null,null,null,null,null,null,null,null,null,null,null,null,null,null,null,null,null,null,null,null,null,null,null,null,null,null,null,null,null,null,null,null,null,null,null,null,null,null,null,null,null,null,null,null,null,null,null,null,null,null,null,null,null,null,null,null,null,null,null,null,null,null,null,null,null,null,null,null,null,null,null,null,null,null,null,null,null,null,null,null,null,null,null,null,null,null,null,null,null,null,null,null,null,null,null,null,null,null,null,null,null,null,null,null,null,null,null,null,null,null,null,null,null,null,null,null,null,null,null,null,null,null,null,null,null,""]
[null,null,null,null,null,null,null,null,null,null,null,null,null,null,null,null,null,null,null,null,{"$f":"IF(A402=\"\",\"\",U$5+Header!C$6*(A402-1))","v":""},null,"","","","","",0,1,"",null,null,null,null,null,null,null,null,null,null,null,null,null,null,null,null,null,null,null,null,null,null,null,null,null,null,null,null,null,null,null,null,null,null,null,null,null,null,null,null,null,null,null,null,null,null,null,null,null,null,null,null,null,null,null,null,null,null,null,null,null,null,null,null,null,null,null,null,null,null,null,null,null,null,null,null,null,null,null,null,null,null,null,null,null,null,null,null,null,null,null,null,null,null,null,null,null,null,null,null,null,null,null,null,null,null,null,null,null,null,null,null,null,null,null,null,null,null,null,null,null,null,null,null,null,null,null,null,""]
[null,null,null,null,null,null,null,null,null,null,null,null,null,null,null,null,null,null,null,null,{"$f":"IF(A403=\"\",\"\",U$5+Header!C$6*(A403-1))","v":""},null,"","","","","",0,1,"",null,null,null,null,null,null,null,null,null,null,null,null,null,null,null,null,null,null,null,null,null,null,null,null,null,null,null,null,null,null,null,null,null,null,null,null,null,null,null,null,null,null,null,null,null,null,null,null,null,null,null,null,null,null,null,null,null,null,null,null,null,null,null,null,null,null,null,null,null,null,null,null,null,null,null,null,null,null,null,null,null,null,null,null,null,null,null,null,null,null,null,null,null,null,null,null,null,null,null,null,null,null,null,null,null,null,null,null,null,null,null,null,null,null,null,null,null,null,null,null,null,null,null,null,null,null,null,null,""]
[null,null,null,null,null,null,null,null,null,null,null,null,null,null,null,null,null,null,null,null,{"$f":"IF(A404=\"\",\"\",U$5+Header!C$6*(A404-1))","v":""},null,"","","","","",0,1,"",null,null,null,null,null,null,null,null,null,null,null,null,null,null,null,null,null,null,null,null,null,null,null,null,null,null,null,null,null,null,null,null,null,null,null,null,null,null,null,null,null,null,null,null,null,null,null,null,null,null,null,null,null,null,null,null,null,null,null,null,null,null,null,null,null,null,null,null,null,null,null,null,null,null,null,null,null,null,null,null,null,null,null,null,null,null,null,null,null,null,null,null,null,null,null,null,null,null,null,null,null,null,null,null,null,null,null,null,null,null,null,null,null,null,null,null,null,null,null,null,null,null,null,null,null,null,null,null,""]
[null,null,null,null,null,null,null,null,null,null,null,null,null,null,null,null,null,null,null,null,{"$f":"IF(A405=\"\",\"\",U$5+Header!C$6*(A405-1))","v":""},null,"","","","","",0,1,"",null,null,null,null,null,null,null,null,null,null,null,null,null,null,null,null,null,null,null,null,null,null,null,null,null,null,null,null,null,null,null,null,null,null,null,null,null,null,null,null,null,null,null,null,null,null,null,null,null,null,null,null,null,null,null,null,null,null,null,null,null,null,null,null,null,null,null,null,null,null,null,null,null,null,null,null,null,null,null,null,null,null,null,null,null,null,null,null,null,null,null,null,null,null,null,null,null,null,null,null,null,null,null,null,null,null,null,null,null,null,null,null,null,null,null,null,null,null,null,null,null,null,null,null,null,null,null,null,""]
[null,null,null,null,null,null,null,null,null,null,null,null,null,null,null,null,null,null,null,null,{"$f":"IF(A406=\"\",\"\",U$5+Header!C$6*(A406-1))","v":""},null,"","","","","",0,1,"",null,null,null,null,null,null,null,null,null,null,null,null,null,null,null,null,null,null,null,null,null,null,null,null,null,null,null,null,null,null,null,null,null,null,null,null,null,null,null,null,null,null,null,null,null,null,null,null,null,null,null,null,null,null,null,null,null,null,null,null,null,null,null,null,null,null,null,null,null,null,null,null,null,null,null,null,null,null,null,null,null,null,null,null,null,null,null,null,null,null,null,null,null,null,null,null,null,null,null,null,null,null,null,null,null,null,null,null,null,null,null,null,null,null,null,null,null,null,null,null,null,null,null,null,null,null,null,null,""]
[null,null,null,null,null,null,null,null,null,null,null,null,null,null,null,null,null,null,null,null,{"$f":"IF(A407=\"\",\"\",U$5+Header!C$6*(A407-1))","v":""},null,"","","","","",0,1,"",null,null,null,null,null,null,null,null,null,null,null,null,null,null,null,null,null,null,null,null,null,null,null,null,null,null,null,null,null,null,null,null,null,null,null,null,null,null,null,null,null,null,null,null,null,null,null,null,null,null,null,null,null,null,null,null,null,null,null,null,null,null,null,null,null,null,null,null,null,null,null,null,null,null,null,null,null,null,null,null,null,null,null,null,null,null,null,null,null,null,null,null,null,null,null,null,null,null,null,null,null,null,null,null,null,null,null,null,null,null,null,null,null,null,null,null,null,null,null,null,null,null,null,null,null,null,null,null,""]
[null,null,null,null,null,null,null,null,null,null,null,null,null,null,null,null,null,null,null,null,{"$f":"IF(A408=\"\",\"\",U$5+Header!C$6*(A408-1))","v":""},null,"","","","","",0,1,"",null,null,null,null,null,null,null,null,null,null,null,null,null,null,null,null,null,null,null,null,null,null,null,null,null,null,null,null,null,null,null,null,null,null,null,null,null,null,null,null,null,null,null,null,null,null,null,null,null,null,null,null,null,null,null,null,null,null,null,null,null,null,null,null,null,null,null,null,null,null,null,null,null,null,null,null,null,null,null,null,null,null,null,null,null,null,null,null,null,null,null,null,null,null,null,null,null,null,null,null,null,null,null,null,null,null,null,null,null,null,null,null,null,null,null,null,null,null,null,null,null,null,null,null,null,null,null,null,""]
[null,null,null,null,null,null,null,null,null,null,null,null,null,null,null,null,null,null,null,null,{"$f":"IF(A409=\"\",\"\",U$5+Header!C$6*(A409-1))","v":""},null,"","","","","",0,1,"",null,null,null,null,null,null,null,null,null,null,null,null,null,null,null,null,null,null,null,null,null,null,null,null,null,null,null,null,null,null,null,null,null,null,null,null,null,null,null,null,null,null,null,null,null,null,null,null,null,null,null,null,null,null,null,null,null,null,null,null,null,null,null,null,null,null,null,null,null,null,null,null,null,null,null,null,null,null,null,null,null,null,null,null,null,null,null,null,null,null,null,null,null,null,null,null,null,null,null,null,null,null,null,null,null,null,null,null,null,null,null,null,null,null,null,null,null,null,null,null,null,null,null,null,null,null,null,null,""]
[null,null,null,null,null,null,null,null,null,null,null,null,null,null,null,null,null,null,null,null,{"$f":"IF(A410=\"\",\"\",U$5+Header!C$6*(A410-1))","v":""},null,"","","","","",0,1,"",null,null,null,null,null,null,null,null,null,null,null,null,null,null,null,null,null,null,null,null,null,null,null,null,null,null,null,null,null,null,null,null,null,null,null,null,null,null,null,null,null,null,null,null,null,null,null,null,null,null,null,null,null,null,null,null,null,null,null,null,null,null,null,null,null,null,null,null,null,null,null,null,null,null,null,null,null,null,null,null,null,null,null,null,null,null,null,null,null,null,null,null,null,null,null,null,null,null,null,null,null,null,null,null,null,null,null,null,null,null,null,null,null,null,null,null,null,null,null,null,null,null,null,null,null,null,null,null,""]
[null,null,null,null,null,null,null,null,null,null,null,null,null,null,null,null,null,null,null,null,{"$f":"IF(A411=\"\",\"\",U$5+Header!C$6*(A411-1))","v":""},null,"","","","","",0,1,"",null,null,null,null,null,null,null,null,null,null,null,null,null,null,null,null,null,null,null,null,null,null,null,null,null,null,null,null,null,null,null,null,null,null,null,null,null,null,null,null,null,null,null,null,null,null,null,null,null,null,null,null,null,null,null,null,null,null,null,null,null,null,null,null,null,null,null,null,null,null,null,null,null,null,null,null,null,null,null,null,null,null,null,null,null,null,null,null,null,null,null,null,null,null,null,null,null,null,null,null,null,null,null,null,null,null,null,null,null,null,null,null,null,null,null,null,null,null,null,null,null,null,null,null,null,null,null,null,""]
[null,null,null,null,null,null,null,null,null,null,null,null,null,null,null,null,null,null,null,null,{"$f":"IF(A412=\"\",\"\",U$5+Header!C$6*(A412-1))","v":""},null,"","","","","",0,1,"",null,null,null,null,null,null,null,null,null,null,null,null,null,null,null,null,null,null,null,null,null,null,null,null,null,null,null,null,null,null,null,null,null,null,null,null,null,null,null,null,null,null,null,null,null,null,null,null,null,null,null,null,null,null,null,null,null,null,null,null,null,null,null,null,null,null,null,null,null,null,null,null,null,null,null,null,null,null,null,null,null,null,null,null,null,null,null,null,null,null,null,null,null,null,null,null,null,null,null,null,null,null,null,null,null,null,null,null,null,null,null,null,null,null,null,null,null,null,null,null,null,null,null,null,null,null,null,null,""]
[null,null,null,null,null,null,null,null,null,null,null,null,null,null,null,null,null,null,null,null,{"$f":"IF(A413=\"\",\"\",U$5+Header!C$6*(A413-1))","v":""},null,"","","","","",0,1,"",null,null,null,null,null,null,null,null,null,null,null,null,null,null,null,null,null,null,null,null,null,null,null,null,null,null,null,null,null,null,null,null,null,null,null,null,null,null,null,null,null,null,null,null,null,null,null,null,null,null,null,null,null,null,null,null,null,null,null,null,null,null,null,null,null,null,null,null,null,null,null,null,null,null,null,null,null,null,null,null,null,null,null,null,null,null,null,null,null,null,null,null,null,null,null,null,null,null,null,null,null,null,null,null,null,null,null,null,null,null,null,null,null,null,null,null,null,null,null,null,null,null,null,null,null,null,null,null,""]
[null,null,null,null,null,null,null,null,null,null,null,null,null,null,null,null,null,null,null,null,{"$f":"IF(A414=\"\",\"\",U$5+Header!C$6*(A414-1))","v":""},null,"","","","","",0,1,"",null,null,null,null,null,null,null,null,null,null,null,null,null,null,null,null,null,null,null,null,null,null,null,null,null,null,null,null,null,null,null,null,null,null,null,null,null,null,null,null,null,null,null,null,null,null,null,null,null,null,null,null,null,null,null,null,null,null,null,null,null,null,null,null,null,null,null,null,null,null,null,null,null,null,null,null,null,null,null,null,null,null,null,null,null,null,null,null,null,null,null,null,null,null,null,null,null,null,null,null,null,null,null,null,null,null,null,null,null,null,null,null,null,null,null,null,null,null,null,null,null,null,null,null,null,null,null,null,""]
[null,null,null,null,null,null,null,null,null,null,null,null,null,null,null,null,null,null,null,null,{"$f":"IF(A415=\"\",\"\",U$5+Header!C$6*(A415-1))","v":""},null,"","","","","",0,1,"",null,null,null,null,null,null,null,null,null,null,null,null,null,null,null,null,null,null,null,null,null,null,null,null,null,null,null,null,null,null,null,null,null,null,null,null,null,null,null,null,null,null,null,null,null,null,null,null,null,null,null,null,null,null,null,null,null,null,null,null,null,null,null,null,null,null,null,null,null,null,null,null,null,null,null,null,null,null,null,null,null,null,null,null,null,null,null,null,null,null,null,null,null,null,null,null,null,null,null,null,null,null,null,null,null,null,null,null,null,null,null,null,null,null,null,null,null,null,null,null,null,null,null,null,null,null,null,null,""]
[null,null,null,null,null,null,null,null,null,null,null,null,null,null,null,null,null,null,null,null,{"$f":"IF(A416=\"\",\"\",U$5+Header!C$6*(A416-1))","v":""},null,"","","","","",0,1,"",null,null,null,null,null,null,null,null,null,null,null,null,null,null,null,null,null,null,null,null,null,null,null,null,null,null,null,null,null,null,null,null,null,null,null,null,null,null,null,null,null,null,null,null,null,null,null,null,null,null,null,null,null,null,null,null,null,null,null,null,null,null,null,null,null,null,null,null,null,null,null,null,null,null,null,null,null,null,null,null,null,null,null,null,null,null,null,null,null,null,null,null,null,null,null,null,null,null,null,null,null,null,null,null,null,null,null,null,null,null,null,null,null,null,null,null,null,null,null,null,null,null,null,null,null,null,null,null,""]
[null,null,null,null,null,null,null,null,null,null,null,null,null,null,null,null,null,null,null,null,{"$f":"IF(A417=\"\",\"\",U$5+Header!C$6*(A417-1))","v":""},null,"","","","","",0,1,"",null,null,null,null,null,null,null,null,null,null,null,null,null,null,null,null,null,null,null,null,null,null,null,null,null,null,null,null,null,null,null,null,null,null,null,null,null,null,null,null,null,null,null,null,null,null,null,null,null,null,null,null,null,null,null,null,null,null,null,null,null,null,null,null,null,null,null,null,null,null,null,null,null,null,null,null,null,null,null,null,null,null,null,null,null,null,null,null,null,null,null,null,null,null,null,null,null,null,null,null,null,null,null,null,null,null,null,null,null,null,null,null,null,null,null,null,null,null,null,null,null,null,null,null,null,null,null,null,""]
[null,null,null,null,null,null,null,null,null,null,null,null,null,null,null,null,null,null,null,null,{"$f":"IF(A418=\"\",\"\",U$5+Header!C$6*(A418-1))","v":""},null,"","","","","",0,1,"",null,null,null,null,null,null,null,null,null,null,null,null,null,null,null,null,null,null,null,null,null,null,null,null,null,null,null,null,null,null,null,null,null,null,null,null,null,null,null,null,null,null,null,null,null,null,null,null,null,null,null,null,null,null,null,null,null,null,null,null,null,null,null,null,null,null,null,null,null,null,null,null,null,null,null,null,null,null,null,null,null,null,null,null,null,null,null,null,null,null,null,null,null,null,null,null,null,null,null,null,null,null,null,null,null,null,null,null,null,null,null,null,null,null,null,null,null,null,null,null,null,null,null,null,null,null,null,null,""]
[null,null,null,null,null,null,null,null,null,null,null,null,null,null,null,null,null,null,null,null,{"$f":"IF(A419=\"\",\"\",U$5+Header!C$6*(A419-1))","v":""},null,"","","","","",0,1,"",null,null,null,null,null,null,null,null,null,null,null,null,null,null,null,null,null,null,null,null,null,null,null,null,null,null,null,null,null,null,null,null,null,null,null,null,null,null,null,null,null,null,null,null,null,null,null,null,null,null,null,null,null,null,null,null,null,null,null,null,null,null,null,null,null,null,null,null,null,null,null,null,null,null,null,null,null,null,null,null,null,null,null,null,null,null,null,null,null,null,null,null,null,null,null,null,null,null,null,null,null,null,null,null,null,null,null,null,null,null,null,null,null,null,null,null,null,null,null,null,null,null,null,null,null,null,null,null,""]
[null,null,null,null,null,null,null,null,null,null,null,null,null,null,null,null,null,null,null,null,{"$f":"IF(A420=\"\",\"\",U$5+Header!C$6*(A420-1))","v":""},null,"","","","","",0,1,"",null,null,null,null,null,null,null,null,null,null,null,null,null,null,null,null,null,null,null,null,null,null,null,null,null,null,null,null,null,null,null,null,null,null,null,null,null,null,null,null,null,null,null,null,null,null,null,null,null,null,null,null,null,null,null,null,null,null,null,null,null,null,null,null,null,null,null,null,null,null,null,null,null,null,null,null,null,null,null,null,null,null,null,null,null,null,null,null,null,null,null,null,null,null,null,null,null,null,null,null,null,null,null,null,null,null,null,null,null,null,null,null,null,null,null,null,null,null,null,null,null,null,null,null,null,null,null,null,""]
[null,null,null,null,null,null,null,null,null,null,null,null,null,null,null,null,null,null,null,null,{"$f":"IF(A421=\"\",\"\",U$5+Header!C$6*(A421-1))","v":""},null,"","","","","",0,1,"",null,null,null,null,null,null,null,null,null,null,null,null,null,null,null,null,null,null,null,null,null,null,null,null,null,null,null,null,null,null,null,null,null,null,null,null,null,null,null,null,null,null,null,null,null,null,null,null,null,null,null,null,null,null,null,null,null,null,null,null,null,null,null,null,null,null,null,null,null,null,null,null,null,null,null,null,null,null,null,null,null,null,null,null,null,null,null,null,null,null,null,null,null,null,null,null,null,null,null,null,null,null,null,null,null,null,null,null,null,null,null,null,null,null,null,null,null,null,null,null,null,null,null,null,null,null,null,null,""]
[null,null,null,null,null,null,null,null,null,null,null,null,null,null,null,null,null,null,null,null,{"$f":"IF(A422=\"\",\"\",U$5+Header!C$6*(A422-1))","v":""},null,"","","","","",0,1,"",null,null,null,null,null,null,null,null,null,null,null,null,null,null,null,null,null,null,null,null,null,null,null,null,null,null,null,null,null,null,null,null,null,null,null,null,null,null,null,null,null,null,null,null,null,null,null,null,null,null,null,null,null,null,null,null,null,null,null,null,null,null,null,null,null,null,null,null,null,null,null,null,null,null,null,null,null,null,null,null,null,null,null,null,null,null,null,null,null,null,null,null,null,null,null,null,null,null,null,null,null,null,null,null,null,null,null,null,null,null,null,null,null,null,null,null,null,null,null,null,null,null,null,null,null,null,null,null,""]
[null,null,null,null,null,null,null,null,null,null,null,null,null,null,null,null,null,null,null,null,{"$f":"IF(A423=\"\",\"\",U$5+Header!C$6*(A423-1))","v":""},null,"","","","","",0,1,"",null,null,null,null,null,null,null,null,null,null,null,null,null,null,null,null,null,null,null,null,null,null,null,null,null,null,null,null,null,null,null,null,null,null,null,null,null,null,null,null,null,null,null,null,null,null,null,null,null,null,null,null,null,null,null,null,null,null,null,null,null,null,null,null,null,null,null,null,null,null,null,null,null,null,null,null,null,null,null,null,null,null,null,null,null,null,null,null,null,null,null,null,null,null,null,null,null,null,null,null,null,null,null,null,null,null,null,null,null,null,null,null,null,null,null,null,null,null,null,null,null,null,null,null,null,null,null,null,""]
[null,null,null,null,null,null,null,null,null,null,null,null,null,null,null,null,null,null,null,null,{"$f":"IF(A424=\"\",\"\",U$5+Header!C$6*(A424-1))","v":""},null,"","","","","",0,1,"",null,null,null,null,null,null,null,null,null,null,null,null,null,null,null,null,null,null,null,null,null,null,null,null,null,null,null,null,null,null,null,null,null,null,null,null,null,null,null,null,null,null,null,null,null,null,null,null,null,null,null,null,null,null,null,null,null,null,null,null,null,null,null,null,null,null,null,null,null,null,null,null,null,null,null,null,null,null,null,null,null,null,null,null,null,null,null,null,null,null,null,null,null,null,null,null,null,null,null,null,null,null,null,null,null,null,null,null,null,null,null,null,null,null,null,null,null,null,null,null,null,null,null,null,null,null,null,null,""]
[null,null,null,null,null,null,null,null,null,null,null,null,null,null,null,null,null,null,null,null,{"$f":"IF(A425=\"\",\"\",U$5+Header!C$6*(A425-1))","v":""},null,"","","","","",0,1,"",null,null,null,null,null,null,null,null,null,null,null,null,null,null,null,null,null,null,null,null,null,null,null,null,null,null,null,null,null,null,null,null,null,null,null,null,null,null,null,null,null,null,null,null,null,null,null,null,null,null,null,null,null,null,null,null,null,null,null,null,null,null,null,null,null,null,null,null,null,null,null,null,null,null,null,null,null,null,null,null,null,null,null,null,null,null,null,null,null,null,null,null,null,null,null,null,null,null,null,null,null,null,null,null,null,null,null,null,null,null,null,null,null,null,null,null,null,null,null,null,null,null,null,null,null,null,null,null,""]
[null,null,null,null,null,null,null,null,null,null,null,null,null,null,null,null,null,null,null,null,{"$f":"IF(A426=\"\",\"\",U$5+Header!C$6*(A426-1))","v":""},null,"","","","","",0,1,"",null,null,null,null,null,null,null,null,null,null,null,null,null,null,null,null,null,null,null,null,null,null,null,null,null,null,null,null,null,null,null,null,null,null,null,null,null,null,null,null,null,null,null,null,null,null,null,null,null,null,null,null,null,null,null,null,null,null,null,null,null,null,null,null,null,null,null,null,null,null,null,null,null,null,null,null,null,null,null,null,null,null,null,null,null,null,null,null,null,null,null,null,null,null,null,null,null,null,null,null,null,null,null,null,null,null,null,null,null,null,null,null,null,null,null,null,null,null,null,null,null,null,null,null,null,null,null,null,""]
[null,null,null,null,null,null,null,null,null,null,null,null,null,null,null,null,null,null,null,null,{"$f":"IF(A427=\"\",\"\",U$5+Header!C$6*(A427-1))","v":""},null,"","","","","",0,1,"",null,null,null,null,null,null,null,null,null,null,null,null,null,null,null,null,null,null,null,null,null,null,null,null,null,null,null,null,null,null,null,null,null,null,null,null,null,null,null,null,null,null,null,null,null,null,null,null,null,null,null,null,null,null,null,null,null,null,null,null,null,null,null,null,null,null,null,null,null,null,null,null,null,null,null,null,null,null,null,null,null,null,null,null,null,null,null,null,null,null,null,null,null,null,null,null,null,null,null,null,null,null,null,null,null,null,null,null,null,null,null,null,null,null,null,null,null,null,null,null,null,null,null,null,null,null,null,null,""]
[null,null,null,null,null,null,null,null,null,null,null,null,null,null,null,null,null,null,null,null,{"$f":"IF(A428=\"\",\"\",U$5+Header!C$6*(A428-1))","v":""},null,{"$f":"IF(F428=\"\",\"\",IF(ISNUMBER(SEARCH(F428,\"d\")),IF(ISNUMBER(SEARCH(G428,\"c\")),\"CS\",IF(ISNUMBER(SEARCH(G428,\"u\")),\"UU\")),\"\"))","v":""},{"$f":"IF(F428=\"\",\"\",IF(ISNUMBER(SEARCH(F428,\"e\")),IF(ISNUMBER(SEARCH(G428,\"c\")),IF(ISNUMBER(SEARCH(H428,\"a\")),\"CS\",\"CU\"),IF(ISNUMBER(SEARCH(H428,\"a\")),\"US\",\"UU\")),\"\"))","v":""},{"$f":"IF(W428=\"\",X428,W428)","v":""},"","",0,1,"",null,null,null,null,null,null,null,null,null,null,null,null,null,null,null,null,null,null,null,null,null,null,null,null,null,null,null,null,null,null,null,null,null,null,null,null,null,null,null,null,null,null,null,null,null,null,null,null,null,null,null,null,null,null,null,null,null,null,null,null,null,null,null,null,null,null,null,null,null,null,null,null,null,null,null,null,null,null,null,null,null,null,null,null,null,null,null,null,null,null,null,null,null,null,null,null,null,null,null,null,null,null,null,null,null,null,null,null,null,null,null,null,null,null,null,null,null,null,null,null,null,null,null,null,null,null,null,null,""]
[null,null,null,null,null,null,null,null,null,null,null,null,null,null,null,null,null,null,null,null,{"$f":"IF(A429=\"\",\"\",U$5+Header!C$6*(A429-1))","v":""},null,"","","","","",0,1,"",null,null,null,null,null,null,null,null,null,null,null,null,null,null,null,null,null,null,null,null,null,null,null,null,null,null,null,null,null,null,null,null,null,null,null,null,null,null,null,null,null,null,null,null,null,null,null,null,null,null,null,null,null,null,null,null,null,null,null,null,null,null,null,null,null,null,null,null,null,null,null,null,null,null,null,null,null,null,null,null,null,null,null,null,null,null,null,null,null,null,null,null,null,null,null,null,null,null,null,null,null,null,null,null,null,null,null,null,null,null,null,null,null,null,null,null,null,null,null,null,null,null,null,null,null,null,null,null,""]
[null,null,null,null,null,null,null,null,null,null,null,null,null,null,null,null,null,null,null,null,{"$f":"IF(A430=\"\",\"\",U$5+Header!C$6*(A430-1))","v":""},null,"","","","","",0,1,"",null,null,null,null,null,null,null,null,null,null,null,null,null,null,null,null,null,null,null,null,null,null,null,null,null,null,null,null,null,null,null,null,null,null,null,null,null,null,null,null,null,null,null,null,null,null,null,null,null,null,null,null,null,null,null,null,null,null,null,null,null,null,null,null,null,null,null,null,null,null,null,null,null,null,null,null,null,null,null,null,null,null,null,null,null,null,null,null,null,null,null,null,null,null,null,null,null,null,null,null,null,null,null,null,null,null,null,null,null,null,null,null,null,null,null,null,null,null,null,null,null,null,null,null,null,null,null,null,""]
[null,null,null,null,null,null,null,null,null,null,null,null,null,null,null,null,null,null,null,null,{"$f":"IF(A431=\"\",\"\",U$5+Header!C$6*(A431-1))","v":""},null,"","","","","",0,1,"",null,null,null,null,null,null,null,null,null,null,null,null,null,null,null,null,null,null,null,null,null,null,null,null,null,null,null,null,null,null,null,null,null,null,null,null,null,null,null,null,null,null,null,null,null,null,null,null,null,null,null,null,null,null,null,null,null,null,null,null,null,null,null,null,null,null,null,null,null,null,null,null,null,null,null,null,null,null,null,null,null,null,null,null,null,null,null,null,null,null,null,null,null,null,null,null,null,null,null,null,null,null,null,null,null,null,null,null,null,null,null,null,null,null,null,null,null,null,null,null,null,null,null,null,null,null,null,null,""]
[null,null,null,null,null,null,null,null,null,null,null,null,null,null,null,null,null,null,null,null,{"$f":"IF(A432=\"\",\"\",U$5+Header!C$6*(A432-1))","v":""},null,"","","","","",0,1,"",null,null,null,null,null,null,null,null,null,null,null,null,null,null,null,null,null,null,null,null,null,null,null,null,null,null,null,null,null,null,null,null,null,null,null,null,null,null,null,null,null,null,null,null,null,null,null,null,null,null,null,null,null,null,null,null,null,null,null,null,null,null,null,null,null,null,null,null,null,null,null,null,null,null,null,null,null,null,null,null,null,null,null,null,null,null,null,null,null,null,null,null,null,null,null,null,null,null,null,null,null,null,null,null,null,null,null,null,null,null,null,null,null,null,null,null,null,null,null,null,null,null,null,null,null,null,null,null,""]
[null,null,null,null,null,null,null,null,null,null,null,null,null,null,null,null,null,null,null,null,{"$f":"IF(A433=\"\",\"\",U$5+Header!C$6*(A433-1))","v":""},null,"","","","","",0,1,"",null,null,null,null,null,null,null,null,null,null,null,null,null,null,null,null,null,null,null,null,null,null,null,null,null,null,null,null,null,null,null,null,null,null,null,null,null,null,null,null,null,null,null,null,null,null,null,null,null,null,null,null,null,null,null,null,null,null,null,null,null,null,null,null,null,null,null,null,null,null,null,null,null,null,null,null,null,null,null,null,null,null,null,null,null,null,null,null,null,null,null,null,null,null,null,null,null,null,null,null,null,null,null,null,null,null,null,null,null,null,null,null,null,null,null,null,null,null,null,null,null,null,null,null,null,null,null,null,""]
[null,null,null,null,null,null,null,null,null,null,null,null,null,null,null,null,null,null,null,null,{"$f":"IF(A434=\"\",\"\",U$5+Header!C$6*(A434-1))","v":""},null,"","","","","",0,1,"",null,null,null,null,null,null,null,null,null,null,null,null,null,null,null,null,null,null,null,null,null,null,null,null,null,null,null,null,null,null,null,null,null,null,null,null,null,null,null,null,null,null,null,null,null,null,null,null,null,null,null,null,null,null,null,null,null,null,null,null,null,null,null,null,null,null,null,null,null,null,null,null,null,null,null,null,null,null,null,null,null,null,null,null,null,null,null,null,null,null,null,null,null,null,null,null,null,null,null,null,null,null,null,null,null,null,null,null,null,null,null,null,null,null,null,null,null,null,null,null,null,null,null,null,null,null,null,null,""]
[null,null,null,null,null,null,null,null,null,null,null,null,null,null,null,null,null,null,null,null,{"$f":"IF(A435=\"\",\"\",U$5+Header!C$6*(A435-1))","v":""},null,"","","","","",0,1,"",null,null,null,null,null,null,null,null,null,null,null,null,null,null,null,null,null,null,null,null,null,null,null,null,null,null,null,null,null,null,null,null,null,null,null,null,null,null,null,null,null,null,null,null,null,null,null,null,null,null,null,null,null,null,null,null,null,null,null,null,null,null,null,null,null,null,null,null,null,null,null,null,null,null,null,null,null,null,null,null,null,null,null,null,null,null,null,null,null,null,null,null,null,null,null,null,null,null,null,null,null,null,null,null,null,null,null,null,null,null,null,null,null,null,null,null,null,null,null,null,null,null,null,null,null,null,null,null,""]
[null,null,null,null,null,null,null,null,null,null,null,null,null,null,null,null,null,null,null,null,{"$f":"IF(A436=\"\",\"\",U$5+Header!C$6*(A436-1))","v":""},null,"","","","","",0,1,"",null,null,null,null,null,null,null,null,null,null,null,null,null,null,null,null,null,null,null,null,null,null,null,null,null,null,null,null,null,null,null,null,null,null,null,null,null,null,null,null,null,null,null,null,null,null,null,null,null,null,null,null,null,null,null,null,null,null,null,null,null,null,null,null,null,null,null,null,null,null,null,null,null,null,null,null,null,null,null,null,null,null,null,null,null,null,null,null,null,null,null,null,null,null,null,null,null,null,null,null,null,null,null,null,null,null,null,null,null,null,null,null,null,null,null,null,null,null,null,null,null,null,null,null,null,null,null,null,""]
[null,null,null,null,null,null,null,null,null,null,null,null,null,null,null,null,null,null,null,null,{"$f":"IF(A437=\"\",\"\",U$5+Header!C$6*(A437-1))","v":""},null,"","","","","",0,1,"",null,null,null,null,null,null,null,null,null,null,null,null,null,null,null,null,null,null,null,null,null,null,null,null,null,null,null,null,null,null,null,null,null,null,null,null,null,null,null,null,null,null,null,null,null,null,null,null,null,null,null,null,null,null,null,null,null,null,null,null,null,null,null,null,null,null,null,null,null,null,null,null,null,null,null,null,null,null,null,null,null,null,null,null,null,null,null,null,null,null,null,null,null,null,null,null,null,null,null,null,null,null,null,null,null,null,null,null,null,null,null,null,null,null,null,null,null,null,null,null,null,null,null,null,null,null,null,null,""]
[null,null,null,null,null,null,null,null,null,null,null,null,null,null,null,null,null,null,null,null,{"$f":"IF(A438=\"\",\"\",U$5+Header!C$6*(A438-1))","v":""},null,"","","","","",0,1,"",null,null,null,null,null,null,null,null,null,null,null,null,null,null,null,null,null,null,null,null,null,null,null,null,null,null,null,null,null,null,null,null,null,null,null,null,null,null,null,null,null,null,null,null,null,null,null,null,null,null,null,null,null,null,null,null,null,null,null,null,null,null,null,null,null,null,null,null,null,null,null,null,null,null,null,null,null,null,null,null,null,null,null,null,null,null,null,null,null,null,null,null,null,null,null,null,null,null,null,null,null,null,null,null,null,null,null,null,null,null,null,null,null,null,null,null,null,null,null,null,null,null,null,null,null,null,null,null,""]
[null,null,null,null,null,null,null,null,null,null,null,null,null,null,null,null,null,null,null,null,{"$f":"IF(A439=\"\",\"\",U$5+Header!C$6*(A439-1))","v":""},null,"","","","","",0,1,"",null,null,null,null,null,null,null,null,null,null,null,null,null,null,null,null,null,null,null,null,null,null,null,null,null,null,null,null,null,null,null,null,null,null,null,null,null,null,null,null,null,null,null,null,null,null,null,null,null,null,null,null,null,null,null,null,null,null,null,null,null,null,null,null,null,null,null,null,null,null,null,null,null,null,null,null,null,null,null,null,null,null,null,null,null,null,null,null,null,null,null,null,null,null,null,null,null,null,null,null,null,null,null,null,null,null,null,null,null,null,null,null,null,null,null,null,null,null,null,null,null,null,null,null,null,null,null,null,""]
[null,null,null,null,null,null,null,null,null,null,null,null,null,null,null,null,null,null,null,null,{"$f":"IF(A440=\"\",\"\",U$5+Header!C$6*(A440-1))","v":""},null,"","","","","",0,1,"",null,null,null,null,null,null,null,null,null,null,null,null,null,null,null,null,null,null,null,null,null,null,null,null,null,null,null,null,null,null,null,null,null,null,null,null,null,null,null,null,null,null,null,null,null,null,null,null,null,null,null,null,null,null,null,null,null,null,null,null,null,null,null,null,null,null,null,null,null,null,null,null,null,null,null,null,null,null,null,null,null,null,null,null,null,null,null,null,null,null,null,null,null,null,null,null,null,null,null,null,null,null,null,null,null,null,null,null,null,null,null,null,null,null,null,null,null,null,null,null,null,null,null,null,null,null,null,null,""]
[null,null,null,null,null,null,null,null,null,null,null,null,null,null,null,null,null,null,null,null,{"$f":"IF(A441=\"\",\"\",U$5+Header!C$6*(A441-1))","v":""},null,"","","","","",0,1,"",null,null,null,null,null,null,null,null,null,null,null,null,null,null,null,null,null,null,null,null,null,null,null,null,null,null,null,null,null,null,null,null,null,null,null,null,null,null,null,null,null,null,null,null,null,null,null,null,null,null,null,null,null,null,null,null,null,null,null,null,null,null,null,null,null,null,null,null,null,null,null,null,null,null,null,null,null,null,null,null,null,null,null,null,null,null,null,null,null,null,null,null,null,null,null,null,null,null,null,null,null,null,null,null,null,null,null,null,null,null,null,null,null,null,null,null,null,null,null,null,null,null,null,null,null,null,null,null,""]
[null,null,null,null,null,null,null,null,null,null,null,null,null,null,null,null,null,null,null,null,{"$f":"IF(A442=\"\",\"\",U$5+Header!C$6*(A442-1))","v":""},null,"","","","","",0,1,"",null,null,null,null,null,null,null,null,null,null,null,null,null,null,null,null,null,null,null,null,null,null,null,null,null,null,null,null,null,null,null,null,null,null,null,null,null,null,null,null,null,null,null,null,null,null,null,null,null,null,null,null,null,null,null,null,null,null,null,null,null,null,null,null,null,null,null,null,null,null,null,null,null,null,null,null,null,null,null,null,null,null,null,null,null,null,null,null,null,null,null,null,null,null,null,null,null,null,null,null,null,null,null,null,null,null,null,null,null,null,null,null,null,null,null,null,null,null,null,null,null,null,null,null,null,null,null,null,""]
[null,null,null,null,null,null,null,null,null,null,null,null,null,null,null,null,null,null,null,null,{"$f":"IF(A443=\"\",\"\",U$5+Header!C$6*(A443-1))","v":""},null,"","","","","",0,1,"",null,null,null,null,null,null,null,null,null,null,null,null,null,null,null,null,null,null,null,null,null,null,null,null,null,null,null,null,null,null,null,null,null,null,null,null,null,null,null,null,null,null,null,null,null,null,null,null,null,null,null,null,null,null,null,null,null,null,null,null,null,null,null,null,null,null,null,null,null,null,null,null,null,null,null,null,null,null,null,null,null,null,null,null,null,null,null,null,null,null,null,null,null,null,null,null,null,null,null,null,null,null,null,null,null,null,null,null,null,null,null,null,null,null,null,null,null,null,null,null,null,null,null,null,null,null,null,null,""]
[null,null,null,null,null,null,null,null,null,null,null,null,null,null,null,null,null,null,null,null,{"$f":"IF(A444=\"\",\"\",U$5+Header!C$6*(A444-1))","v":""},null,"","","","","",0,1,"",null,null,null,null,null,null,null,null,null,null,null,null,null,null,null,null,null,null,null,null,null,null,null,null,null,null,null,null,null,null,null,null,null,null,null,null,null,null,null,null,null,null,null,null,null,null,null,null,null,null,null,null,null,null,null,null,null,null,null,null,null,null,null,null,null,null,null,null,null,null,null,null,null,null,null,null,null,null,null,null,null,null,null,null,null,null,null,null,null,null,null,null,null,null,null,null,null,null,null,null,null,null,null,null,null,null,null,null,null,null,null,null,null,null,null,null,null,null,null,null,null,null,null,null,null,null,null,null,""]
[null,null,null,null,null,null,null,null,null,null,null,null,null,null,null,null,null,null,null,null,{"$f":"IF(A445=\"\",\"\",U$5+Header!C$6*(A445-1))","v":""},null,"","","","","",0,1,"",null,null,null,null,null,null,null,null,null,null,null,null,null,null,null,null,null,null,null,null,null,null,null,null,null,null,null,null,null,null,null,null,null,null,null,null,null,null,null,null,null,null,null,null,null,null,null,null,null,null,null,null,null,null,null,null,null,null,null,null,null,null,null,null,null,null,null,null,null,null,null,null,null,null,null,null,null,null,null,null,null,null,null,null,null,null,null,null,null,null,null,null,null,null,null,null,null,null,null,null,null,null,null,null,null,null,null,null,null,null,null,null,null,null,null,null,null,null,null,null,null,null,null,null,null,null,null,null,""]
[null,null,null,null,null,null,null,null,null,null,null,null,null,null,null,null,null,null,null,null,{"$f":"IF(A446=\"\",\"\",U$5+Header!C$6*(A446-1))","v":""},null,"","","","","",0,1,"",null,null,null,null,null,null,null,null,null,null,null,null,null,null,null,null,null,null,null,null,null,null,null,null,null,null,null,null,null,null,null,null,null,null,null,null,null,null,null,null,null,null,null,null,null,null,null,null,null,null,null,null,null,null,null,null,null,null,null,null,null,null,null,null,null,null,null,null,null,null,null,null,null,null,null,null,null,null,null,null,null,null,null,null,null,null,null,null,null,null,null,null,null,null,null,null,null,null,null,null,null,null,null,null,null,null,null,null,null,null,null,null,null,null,null,null,null,null,null,null,null,null,null,null,null,null,null,null,""]
[null,null,null,null,null,null,null,null,null,null,null,null,null,null,null,null,null,null,null,null,{"$f":"IF(A447=\"\",\"\",U$5+Header!C$6*(A447-1))","v":""},null,"","","","","",0,1,"",null,null,null,null,null,null,null,null,null,null,null,null,null,null,null,null,null,null,null,null,null,null,null,null,null,null,null,null,null,null,null,null,null,null,null,null,null,null,null,null,null,null,null,null,null,null,null,null,null,null,null,null,null,null,null,null,null,null,null,null,null,null,null,null,null,null,null,null,null,null,null,null,null,null,null,null,null,null,null,null,null,null,null,null,null,null,null,null,null,null,null,null,null,null,null,null,null,null,null,null,null,null,null,null,null,null,null,null,null,null,null,null,null,null,null,null,null,null,null,null,null,null,null,null,null,null,null,null,""]
[null,null,null,null,null,null,null,null,null,null,null,null,null,null,null,null,null,null,null,null,{"$f":"IF(A448=\"\",\"\",U$5+Header!C$6*(A448-1))","v":""},null,"","","","","",0,1,"",null,null,null,null,null,null,null,null,null,null,null,null,null,null,null,null,null,null,null,null,null,null,null,null,null,null,null,null,null,null,null,null,null,null,null,null,null,null,null,null,null,null,null,null,null,null,null,null,null,null,null,null,null,null,null,null,null,null,null,null,null,null,null,null,null,null,null,null,null,null,null,null,null,null,null,null,null,null,null,null,null,null,null,null,null,null,null,null,null,null,null,null,null,null,null,null,null,null,null,null,null,null,null,null,null,null,null,null,null,null,null,null,null,null,null,null,null,null,null,null,null,null,null,null,null,null,null,null,""]
[null,null,null,null,null,null,null,null,null,null,null,null,null,null,null,null,null,null,null,null,{"$f":"IF(A449=\"\",\"\",U$5+Header!C$6*(A449-1))","v":""},null,"","","","","",0,1,"",null,null,null,null,null,null,null,null,null,null,null,null,null,null,null,null,null,null,null,null,null,null,null,null,null,null,null,null,null,null,null,null,null,null,null,null,null,null,null,null,null,null,null,null,null,null,null,null,null,null,null,null,null,null,null,null,null,null,null,null,null,null,null,null,null,null,null,null,null,null,null,null,null,null,null,null,null,null,null,null,null,null,null,null,null,null,null,null,null,null,null,null,null,null,null,null,null,null,null,null,null,null,null,null,null,null,null,null,null,null,null,null,null,null,null,null,null,null,null,null,null,null,null,null,null,null,null,null,""]
[null,null,null,null,null,null,null,null,null,null,null,null,null,null,null,null,null,null,null,null,{"$f":"IF(A450=\"\",\"\",U$5+Header!C$6*(A450-1))","v":""},null,"","","","","",0,1,"",null,null,null,null,null,null,null,null,null,null,null,null,null,null,null,null,null,null,null,null,null,null,null,null,null,null,null,null,null,null,null,null,null,null,null,null,null,null,null,null,null,null,null,null,null,null,null,null,null,null,null,null,null,null,null,null,null,null,null,null,null,null,null,null,null,null,null,null,null,null,null,null,null,null,null,null,null,null,null,null,null,null,null,null,null,null,null,null,null,null,null,null,null,null,null,null,null,null,null,null,null,null,null,null,null,null,null,null,null,null,null,null,null,null,null,null,null,null,null,null,null,null,null,null,null,null,null,null,""]
[null,null,null,null,null,null,null,null,null,null,null,null,null,null,null,null,null,null,null,null,{"$f":"IF(A451=\"\",\"\",U$5+Header!C$6*(A451-1))","v":""},null,"","","","","",0,1,"",null,null,null,null,null,null,null,null,null,null,null,null,null,null,null,null,null,null,null,null,null,null,null,null,null,null,null,null,null,null,null,null,null,null,null,null,null,null,null,null,null,null,null,null,null,null,null,null,null,null,null,null,null,null,null,null,null,null,null,null,null,null,null,null,null,null,null,null,null,null,null,null,null,null,null,null,null,null,null,null,null,null,null,null,null,null,null,null,null,null,null,null,null,null,null,null,null,null,null,null,null,null,null,null,null,null,null,null,null,null,null,null,null,null,null,null,null,null,null,null,null,null,null,null,null,null,null,null,""]
[null,null,null,null,null,null,null,null,null,null,null,null,null,null,null,null,null,null,null,null,{"$f":"IF(A452=\"\",\"\",U$5+Header!C$6*(A452-1))","v":""},null,"","","","","",0,1,"",null,null,null,null,null,null,null,null,null,null,null,null,null,null,null,null,null,null,null,null,null,null,null,null,null,null,null,null,null,null,null,null,null,null,null,null,null,null,null,null,null,null,null,null,null,null,null,null,null,null,null,null,null,null,null,null,null,null,null,null,null,null,null,null,null,null,null,null,null,null,null,null,null,null,null,null,null,null,null,null,null,null,null,null,null,null,null,null,null,null,null,null,null,null,null,null,null,null,null,null,null,null,null,null,null,null,null,null,null,null,null,null,null,null,null,null,null,null,null,null,null,null,null,null,null,null,null,null,""]
[null,null,null,null,null,null,null,null,null,null,null,null,null,null,null,null,null,null,null,null,{"$f":"IF(A453=\"\",\"\",U$5+Header!C$6*(A453-1))","v":""},null,"","","","","",0,1,"",null,null,null,null,null,null,null,null,null,null,null,null,null,null,null,null,null,null,null,null,null,null,null,null,null,null,null,null,null,null,null,null,null,null,null,null,null,null,null,null,null,null,null,null,null,null,null,null,null,null,null,null,null,null,null,null,null,null,null,null,null,null,null,null,null,null,null,null,null,null,null,null,null,null,null,null,null,null,null,null,null,null,null,null,null,null,null,null,null,null,null,null,null,null,null,null,null,null,null,null,null,null,null,null,null,null,null,null,null,null,null,null,null,null,null,null,null,null,null,null,null,null,null,null,null,null,null,null,""]
[null,null,null,null,null,null,null,null,null,null,null,null,null,null,null,null,null,null,null,null,{"$f":"IF(A454=\"\",\"\",U$5+Header!C$6*(A454-1))","v":""},null,"","","",{"$f":"IF($Y454=\"cs\",1,IF($Y454=\"cu\",2,IF($Y454=\"us\",3,IF($Y454=\"uu\",4,\"\"))))","v":""},{"$f":"IF(A454=\"\",\"\",A454)","v":""},{"$f":"C454","v":0},1,{"$f":"IF(AA454<>\"\",SUMIF(AC:AC,AA454,AB:AB),\"\")","v":""},null,null,null,null,null,null,null,null,null,null,null,null,null,null,null,null,null,null,null,null,null,null,null,null,null,null,null,null,null,null,null,null,null,null,null,null,null,null,null,null,null,null,null,null,null,null,null,null,null,null,null,null,null,null,null,null,null,null,null,null,null,null,null,null,null,null,null,null,null,null,null,null,null,null,null,null,null,null,null,null,null,null,null,null,null,null,null,null,null,null,null,null,null,null,null,null,null,null,null,null,null,null,null,null,null,null,null,null,null,null,null,null,null,null,null,null,null,null,null,null,null,null,null,null,null,null,null,null,""]
[null,null,null,null,null,null,null,null,null,null,null,null,null,null,null,null,null,null,null,null,{"$f":"IF(A455=\"\",\"\",U$5+Header!C$6*(A455-1))","v":""},null,"","","","","",0,{"$f":"IF(A455>A454,A455,AC454)","v":1},"",null,null,null,null,null,null,null,null,null,null,null,null,null,null,null,null,null,null,null,null,null,null,null,null,null,null,null,null,null,null,null,null,null,null,null,null,null,null,null,null,null,null,null,null,null,null,null,null,null,null,null,null,null,null,null,null,null,null,null,null,null,null,null,null,null,null,null,null,null,null,null,null,null,null,null,null,null,null,null,null,null,null,null,null,null,null,null,null,null,null,null,null,null,null,null,null,null,null,null,null,null,null,null,null,null,null,null,null,null,null,null,null,null,null,null,null,null,null,null,null,null,null,null,null,null,null,null,null,{"$f":"IF(E455=\"\",\"\",E455+1)","v":""}]
[null,null,null,null,null,null,null,null,null,null,null,null,null,null,null,null,null,null,null,null,{"$f":"IF(A456=\"\",\"\",U$5+Header!C$6*(A456-1))","v":""},null,"","","","","",0,1,"",null,null,null,null,null,null,null,null,null,null,null,null,null,null,null,null,null,null,null,null,null,null,null,null,null,null,null,null,null,null,null,null,null,null,null,null,null,null,null,null,null,null,null,null,null,null,null,null,null,null,null,null,null,null,null,null,null,null,null,null,null,null,null,null,null,null,null,null,null,null,null,null,null,null,null,null,null,null,null,null,null,null,null,null,null,null,null,null,null,null,null,null,null,null,null,null,null,null,null,null,null,null,null,null,null,null,null,null,null,null,null,null,null,null,null,null,null,null,null,null,null,null,null,null,null,null,null,null,""]
[null,null,null,null,null,null,null,null,null,null,null,null,null,null,null,null,null,null,null,null,{"$f":"IF(A457=\"\",\"\",U$5+Header!C$6*(A457-1))","v":""},null,"","","","","",0,1,"",null,null,null,null,null,null,null,null,null,null,null,null,null,null,null,null,null,null,null,null,null,null,null,null,null,null,null,null,null,null,null,null,null,null,null,null,null,null,null,null,null,null,null,null,null,null,null,null,null,null,null,null,null,null,null,null,null,null,null,null,null,null,null,null,null,null,null,null,null,null,null,null,null,null,null,null,null,null,null,null,null,null,null,null,null,null,null,null,null,null,null,null,null,null,null,null,null,null,null,null,null,null,null,null,null,null,null,null,null,null,null,null,null,null,null,null,null,null,null,null,null,null,null,null,null,null,null,null,""]
[null,null,null,null,null,null,null,null,null,null,null,null,null,null,null,null,null,null,null,null,{"$f":"IF(A458=\"\",\"\",U$5+Header!C$6*(A458-1))","v":""},null,"","","","","",0,1,"",null,null,null,null,null,null,null,null,null,null,null,null,null,null,null,null,null,null,null,null,null,null,null,null,null,null,null,null,null,null,null,null,null,null,null,null,null,null,null,null,null,null,null,null,null,null,null,null,null,null,null,null,null,null,null,null,null,null,null,null,null,null,null,null,null,null,null,null,null,null,null,null,null,null,null,null,null,null,null,null,null,null,null,null,null,null,null,null,null,null,null,null,null,null,null,null,null,null,null,null,null,null,null,null,null,null,null,null,null,null,null,null,null,null,null,null,null,null,null,null,null,null,null,null,null,null,null,null,""]
[null,null,null,null,null,null,null,null,null,null,null,null,null,null,null,null,null,null,null,null,{"$f":"IF(A459=\"\",\"\",U$5+Header!C$6*(A459-1))","v":""},null,"","","","","",0,1,"",null,null,null,null,null,null,null,null,null,null,null,null,null,null,null,null,null,null,null,null,null,null,null,null,null,null,null,null,null,null,null,null,null,null,null,null,null,null,null,null,null,null,null,null,null,null,null,null,null,null,null,null,null,null,null,null,null,null,null,null,null,null,null,null,null,null,null,null,null,null,null,null,null,null,null,null,null,null,null,null,null,null,null,null,null,null,null,null,null,null,null,null,null,null,null,null,null,null,null,null,null,null,null,null,null,null,null,null,null,null,null,null,null,null,null,null,null,null,null,null,null,null,null,null,null,null,null,null,""]
[null,null,null,null,null,null,null,null,null,null,null,null,null,null,null,null,null,null,null,null,{"$f":"IF(A460=\"\",\"\",U$5+Header!C$6*(A460-1))","v":""},null,"","","","","",0,1,"",null,null,null,null,null,null,null,null,null,null,null,null,null,null,null,null,null,null,null,null,null,null,null,null,null,null,null,null,null,null,null,null,null,null,null,null,null,null,null,null,null,null,null,null,null,null,null,null,null,null,null,null,null,null,null,null,null,null,null,null,null,null,null,null,null,null,null,null,null,null,null,null,null,null,null,null,null,null,null,null,null,null,null,null,null,null,null,null,null,null,null,null,null,null,null,null,null,null,null,null,null,null,null,null,null,null,null,null,null,null,null,null,null,null,null,null,null,null,null,null,null,null,null,null,null,null,null,null,""]
[null,null,null,null,null,null,null,null,null,null,null,null,null,null,null,null,null,null,null,null,{"$f":"IF(A461=\"\",\"\",U$5+Header!C$6*(A461-1))","v":""},null,"","","","","",0,1,"",null,null,null,null,null,null,null,null,null,null,null,null,null,null,null,null,null,null,null,null,null,null,null,null,null,null,null,null,null,null,null,null,null,null,null,null,null,null,null,null,null,null,null,null,null,null,null,null,null,null,null,null,null,null,null,null,null,null,null,null,null,null,null,null,null,null,null,null,null,null,null,null,null,null,null,null,null,null,null,null,null,null,null,null,null,null,null,null,null,null,null,null,null,null,null,null,null,null,null,null,null,null,null,null,null,null,null,null,null,null,null,null,null,null,null,null,null,null,null,null,null,null,null,null,null,null,null,null,""]
[null,null,null,null,null,null,null,null,null,null,null,null,null,null,null,null,null,null,null,null,{"$f":"IF(A462=\"\",\"\",U$5+Header!C$6*(A462-1))","v":""},null,"","","","","",0,1,"",null,null,null,null,null,null,null,null,null,null,null,null,null,null,null,null,null,null,null,null,null,null,null,null,null,null,null,null,null,null,null,null,null,null,null,null,null,null,null,null,null,null,null,null,null,null,null,null,null,null,null,null,null,null,null,null,null,null,null,null,null,null,null,null,null,null,null,null,null,null,null,null,null,null,null,null,null,null,null,null,null,null,null,null,null,null,null,null,null,null,null,null,null,null,null,null,null,null,null,null,null,null,null,null,null,null,null,null,null,null,null,null,null,null,null,null,null,null,null,null,null,null,null,null,null,null,null,null,""]
[null,null,null,null,null,null,null,null,null,null,null,null,null,null,null,null,null,null,null,null,{"$f":"IF(A463=\"\",\"\",U$5+Header!C$6*(A463-1))","v":""},null,"","","","","",0,1,"",null,null,null,null,null,null,null,null,null,null,null,null,null,null,null,null,null,null,null,null,null,null,null,null,null,null,null,null,null,null,null,null,null,null,null,null,null,null,null,null,null,null,null,null,null,null,null,null,null,null,null,null,null,null,null,null,null,null,null,null,null,null,null,null,null,null,null,null,null,null,null,null,null,null,null,null,null,null,null,null,null,null,null,null,null,null,null,null,null,null,null,null,null,null,null,null,null,null,null,null,null,null,null,null,null,null,null,null,null,null,null,null,null,null,null,null,null,null,null,null,null,null,null,null,null,null,null,null,""]
[null,null,null,null,null,null,null,null,null,null,null,null,null,null,null,null,null,null,null,null,{"$f":"IF(A464=\"\",\"\",U$5+Header!C$6*(A464-1))","v":""},null,"","","","","",0,1,"",null,null,null,null,null,null,null,null,null,null,null,null,null,null,null,null,null,null,null,null,null,null,null,null,null,null,null,null,null,null,null,null,null,null,null,null,null,null,null,null,null,null,null,null,null,null,null,null,null,null,null,null,null,null,null,null,null,null,null,null,null,null,null,null,null,null,null,null,null,null,null,null,null,null,null,null,null,null,null,null,null,null,null,null,null,null,null,null,null,null,null,null,null,null,null,null,null,null,null,null,null,null,null,null,null,null,null,null,null,null,null,null,null,null,null,null,null,null,null,null,null,null,null,null,null,null,null,null,""]
[null,null,null,null,null,null,null,null,null,null,null,null,null,null,null,null,null,null,null,null,{"$f":"IF(A465=\"\",\"\",U$5+Header!C$6*(A465-1))","v":""},null,"","","","","",0,1,"",null,null,null,null,null,null,null,null,null,null,null,null,null,null,null,null,null,null,null,null,null,null,null,null,null,null,null,null,null,null,null,null,null,null,null,null,null,null,null,null,null,null,null,null,null,null,null,null,null,null,null,null,null,null,null,null,null,null,null,null,null,null,null,null,null,null,null,null,null,null,null,null,null,null,null,null,null,null,null,null,null,null,null,null,null,null,null,null,null,null,null,null,null,null,null,null,null,null,null,null,null,null,null,null,null,null,null,null,null,null,null,null,null,null,null,null,null,null,null,null,null,null,null,null,null,null,null,null,""]
[null,null,null,null,null,null,null,null,null,null,null,null,null,null,null,null,null,null,null,null,{"$f":"IF(A466=\"\",\"\",U$5+Header!C$6*(A466-1))","v":""},null,"","","","","",0,1,"",null,null,null,null,null,null,null,null,null,null,null,null,null,null,null,null,null,null,null,null,null,null,null,null,null,null,null,null,null,null,null,null,null,null,null,null,null,null,null,null,null,null,null,null,null,null,null,null,null,null,null,null,null,null,null,null,null,null,null,null,null,null,null,null,null,null,null,null,null,null,null,null,null,null,null,null,null,null,null,null,null,null,null,null,null,null,null,null,null,null,null,null,null,null,null,null,null,null,null,null,null,null,null,null,null,null,null,null,null,null,null,null,null,null,null,null,null,null,null,null,null,null,null,null,null,null,null,null,""]
[null,null,null,null,null,null,null,null,null,null,null,null,null,null,null,null,null,null,null,null,{"$f":"IF(A467=\"\",\"\",U$5+Header!C$6*(A467-1))","v":""},null,"","","","","",0,1,"",null,null,null,null,null,null,null,null,null,null,null,null,null,null,null,null,null,null,null,null,null,null,null,null,null,null,null,null,null,null,null,null,null,null,null,null,null,null,null,null,null,null,null,null,null,null,null,null,null,null,null,null,null,null,null,null,null,null,null,null,null,null,null,null,null,null,null,null,null,null,null,null,null,null,null,null,null,null,null,null,null,null,null,null,null,null,null,null,null,null,null,null,null,null,null,null,null,null,null,null,null,null,null,null,null,null,null,null,null,null,null,null,null,null,null,null,null,null,null,null,null,null,null,null,null,null,null,null,""]
[null,null,null,null,null,null,null,null,null,null,null,null,null,null,null,null,null,null,null,null,{"$f":"IF(A468=\"\",\"\",U$5+Header!C$6*(A468-1))","v":""},null,"","","","","",0,1,"",null,null,null,null,null,null,null,null,null,null,null,null,null,null,null,null,null,null,null,null,null,null,null,null,null,null,null,null,null,null,null,null,null,null,null,null,null,null,null,null,null,null,null,null,null,null,null,null,null,null,null,null,null,null,null,null,null,null,null,null,null,null,null,null,null,null,null,null,null,null,null,null,null,null,null,null,null,null,null,null,null,null,null,null,null,null,null,null,null,null,null,null,null,null,null,null,null,null,null,null,null,null,null,null,null,null,null,null,null,null,null,null,null,null,null,null,null,null,null,null,null,null,null,null,null,null,null,null,""]
[null,null,null,null,null,null,null,null,null,null,null,null,null,null,null,null,null,null,null,null,{"$f":"IF(A469=\"\",\"\",U$5+Header!C$6*(A469-1))","v":""},null,"","","","","",0,1,"",null,null,null,null,null,null,null,null,null,null,null,null,null,null,null,null,null,null,null,null,null,null,null,null,null,null,null,null,null,null,null,null,null,null,null,null,null,null,null,null,null,null,null,null,null,null,null,null,null,null,null,null,null,null,null,null,null,null,null,null,null,null,null,null,null,null,null,null,null,null,null,null,null,null,null,null,null,null,null,null,null,null,null,null,null,null,null,null,null,null,null,null,null,null,null,null,null,null,null,null,null,null,null,null,null,null,null,null,null,null,null,null,null,null,null,null,null,null,null,null,null,null,null,null,null,null,null,null,""]
[null,null,null,null,null,null,null,null,null,null,null,null,null,null,null,null,null,null,null,null,{"$f":"IF(A470=\"\",\"\",U$5+Header!C$6*(A470-1))","v":""},null,"","","","","",0,1,"",null,null,null,null,null,null,null,null,null,null,null,null,null,null,null,null,null,null,null,null,null,null,null,null,null,null,null,null,null,null,null,null,null,null,null,null,null,null,null,null,null,null,null,null,null,null,null,null,null,null,null,null,null,null,null,null,null,null,null,null,null,null,null,null,null,null,null,null,null,null,null,null,null,null,null,null,null,null,null,null,null,null,null,null,null,null,null,null,null,null,null,null,null,null,null,null,null,null,null,null,null,null,null,null,null,null,null,null,null,null,null,null,null,null,null,null,null,null,null,null,null,null,null,null,null,null,null,null,""]
[null,null,null,null,null,null,null,null,null,null,null,null,null,null,null,null,null,null,null,null,{"$f":"IF(A471=\"\",\"\",U$5+Header!C$6*(A471-1))","v":""},null,"","","","","",0,1,"",null,null,null,null,null,null,null,null,null,null,null,null,null,null,null,null,null,null,null,null,null,null,null,null,null,null,null,null,null,null,null,null,null,null,null,null,null,null,null,null,null,null,null,null,null,null,null,null,null,null,null,null,null,null,null,null,null,null,null,null,null,null,null,null,null,null,null,null,null,null,null,null,null,null,null,null,null,null,null,null,null,null,null,null,null,null,null,null,null,null,null,null,null,null,null,null,null,null,null,null,null,null,null,null,null,null,null,null,null,null,null,null,null,null,null,null,null,null,null,null,null,null,null,null,null,null,null,null,""]
[null,null,null,null,null,null,null,null,null,null,null,null,null,null,null,null,null,null,null,null,{"$f":"IF(A472=\"\",\"\",U$5+Header!C$6*(A472-1))","v":""},null,"","","","","",0,1,"",null,null,null,null,null,null,null,null,null,null,null,null,null,null,null,null,null,null,null,null,null,null,null,null,null,null,null,null,null,null,null,null,null,null,null,null,null,null,null,null,null,null,null,null,null,null,null,null,null,null,null,null,null,null,null,null,null,null,null,null,null,null,null,null,null,null,null,null,null,null,null,null,null,null,null,null,null,null,null,null,null,null,null,null,null,null,null,null,null,null,null,null,null,null,null,null,null,null,null,null,null,null,null,null,null,null,null,null,null,null,null,null,null,null,null,null,null,null,null,null,null,null,null,null,null,null,null,null,""]
[null,null,null,null,null,null,null,null,null,null,null,null,null,null,null,null,null,null,null,null,{"$f":"IF(A473=\"\",\"\",U$5+Header!C$6*(A473-1))","v":""},null,"","","","","",0,1,"",null,null,null,null,null,null,null,null,null,null,null,null,null,null,null,null,null,null,null,null,null,null,null,null,null,null,null,null,null,null,null,null,null,null,null,null,null,null,null,null,null,null,null,null,null,null,null,null,null,null,null,null,null,null,null,null,null,null,null,null,null,null,null,null,null,null,null,null,null,null,null,null,null,null,null,null,null,null,null,null,null,null,null,null,null,null,null,null,null,null,null,null,null,null,null,null,null,null,null,null,null,null,null,null,null,null,null,null,null,null,null,null,null,null,null,null,null,null,null,null,null,null,null,null,null,null,null,null,""]
[null,null,null,null,null,null,null,null,null,null,null,null,null,null,null,null,null,null,null,null,{"$f":"IF(A474=\"\",\"\",U$5+Header!C$6*(A474-1))","v":""},null,"","","","","",0,1,"",null,null,null,null,null,null,null,null,null,null,null,null,null,null,null,null,null,null,null,null,null,null,null,null,null,null,null,null,null,null,null,null,null,null,null,null,null,null,null,null,null,null,null,null,null,null,null,null,null,null,null,null,null,null,null,null,null,null,null,null,null,null,null,null,null,null,null,null,null,null,null,null,null,null,null,null,null,null,null,null,null,null,null,null,null,null,null,null,null,null,null,null,null,null,null,null,null,null,null,null,null,null,null,null,null,null,null,null,null,null,null,null,null,null,null,null,null,null,null,null,null,null,null,null,null,null,null,null,""]
[null,null,null,null,null,null,null,null,null,null,null,null,null,null,null,null,null,null,null,null,{"$f":"IF(A475=\"\",\"\",U$5+Header!C$6*(A475-1))","v":""},null,"","","","","",0,1,"",null,null,null,null,null,null,null,null,null,null,null,null,null,null,null,null,null,null,null,null,null,null,null,null,null,null,null,null,null,null,null,null,null,null,null,null,null,null,null,null,null,null,null,null,null,null,null,null,null,null,null,null,null,null,null,null,null,null,null,null,null,null,null,null,null,null,null,null,null,null,null,null,null,null,null,null,null,null,null,null,null,null,null,null,null,null,null,null,null,null,null,null,null,null,null,null,null,null,null,null,null,null,null,null,null,null,null,null,null,null,null,null,null,null,null,null,null,null,null,null,null,null,null,null,null,null,null,null,""]
[null,null,null,null,null,null,null,null,null,null,null,null,null,null,null,null,null,null,null,null,{"$f":"IF(A476=\"\",\"\",U$5+Header!C$6*(A476-1))","v":""},null,"","","","","",0,1,"",null,null,null,null,null,null,null,null,null,null,null,null,null,null,null,null,null,null,null,null,null,null,null,null,null,null,null,null,null,null,null,null,null,null,null,null,null,null,null,null,null,null,null,null,null,null,null,null,null,null,null,null,null,null,null,null,null,null,null,null,null,null,null,null,null,null,null,null,null,null,null,null,null,null,null,null,null,null,null,null,null,null,null,null,null,null,null,null,null,null,null,null,null,null,null,null,null,null,null,null,null,null,null,null,null,null,null,null,null,null,null,null,null,null,null,null,null,null,null,null,null,null,null,null,null,null,null,null,""]
[null,null,null,null,null,null,null,null,null,null,null,null,null,null,null,null,null,null,null,null,{"$f":"IF(A477=\"\",\"\",U$5+Header!C$6*(A477-1))","v":""},null,"","","","","",0,1,"",null,null,null,null,null,null,null,null,null,null,null,null,null,null,null,null,null,null,null,null,null,null,null,null,null,null,null,null,null,null,null,null,null,null,null,null,null,null,null,null,null,null,null,null,null,null,null,null,null,null,null,null,null,null,null,null,null,null,null,null,null,null,null,null,null,null,null,null,null,null,null,null,null,null,null,null,null,null,null,null,null,null,null,null,null,null,null,null,null,null,null,null,null,null,null,null,null,null,null,null,null,null,null,null,null,null,null,null,null,null,null,null,null,null,null,null,null,null,null,null,null,null,null,null,null,null,null,null,""]
[null,null,null,null,null,null,null,null,null,null,null,null,null,null,null,null,null,null,null,null,{"$f":"IF(A478=\"\",\"\",U$5+Header!C$6*(A478-1))","v":""},null,"","","","","",0,1,"",null,null,null,null,null,null,null,null,null,null,null,null,null,null,null,null,null,null,null,null,null,null,null,null,null,null,null,null,null,null,null,null,null,null,null,null,null,null,null,null,null,null,null,null,null,null,null,null,null,null,null,null,null,null,null,null,null,null,null,null,null,null,null,null,null,null,null,null,null,null,null,null,null,null,null,null,null,null,null,null,null,null,null,null,null,null,null,null,null,null,null,null,null,null,null,null,null,null,null,null,null,null,null,null,null,null,null,null,null,null,null,null,null,null,null,null,null,null,null,null,null,null,null,null,null,null,null,null,""]
[null,null,null,null,null,null,null,null,null,null,null,null,null,null,null,null,null,null,null,null,{"$f":"IF(A479=\"\",\"\",U$5+Header!C$6*(A479-1))","v":""},null,"","","","","",0,1,"",null,null,null,null,null,null,null,null,null,null,null,null,null,null,null,null,null,null,null,null,null,null,null,null,null,null,null,null,null,null,null,null,null,null,null,null,null,null,null,null,null,null,null,null,null,null,null,null,null,null,null,null,null,null,null,null,null,null,null,null,null,null,null,null,null,null,null,null,null,null,null,null,null,null,null,null,null,null,null,null,null,null,null,null,null,null,null,null,null,null,null,null,null,null,null,null,null,null,null,null,null,null,null,null,null,null,null,null,null,null,null,null,null,null,null,null,null,null,null,null,null,null,null,null,null,null,null,null,""]
[null,null,null,null,null,null,null,null,null,null,null,null,null,null,null,null,null,null,null,null,{"$f":"IF(A480=\"\",\"\",U$5+Header!C$6*(A480-1))","v":""},null,"","","","","",0,1,"",null,null,null,null,null,null,null,null,null,null,null,null,null,null,null,null,null,null,null,null,null,null,null,null,null,null,null,null,null,null,null,null,null,null,null,null,null,null,null,null,null,null,null,null,null,null,null,null,null,null,null,null,null,null,null,null,null,null,null,null,null,null,null,null,null,null,null,null,null,null,null,null,null,null,null,null,null,null,null,null,null,null,null,null,null,null,null,null,null,null,null,null,null,null,null,null,null,null,null,null,null,null,null,null,null,null,null,null,null,null,null,null,null,null,null,null,null,null,null,null,null,null,null,null,null,null,null,null,""]
[null,null,null,null,null,null,null,null,null,null,null,null,null,null,null,null,null,null,null,null,{"$f":"IF(A481=\"\",\"\",U$5+Header!C$6*(A481-1))","v":""},null,"","","","","",0,1,"",null,null,null,null,null,null,null,null,null,null,null,null,null,null,null,null,null,null,null,null,null,null,null,null,null,null,null,null,null,null,null,null,null,null,null,null,null,null,null,null,null,null,null,null,null,null,null,null,null,null,null,null,null,null,null,null,null,null,null,null,null,null,null,null,null,null,null,null,null,null,null,null,null,null,null,null,null,null,null,null,null,null,null,null,null,null,null,null,null,null,null,null,null,null,null,null,null,null,null,null,null,null,null,null,null,null,null,null,null,null,null,null,null,null,null,null,null,null,null,null,null,null,null,null,null,null,null,null,""]
[null,null,null,null,null,null,null,null,null,null,null,null,null,null,null,null,null,null,null,null,{"$f":"IF(A482=\"\",\"\",U$5+Header!C$6*(A482-1))","v":""},null,"","","","","",0,1,"",null,null,null,null,null,null,null,null,null,null,null,null,null,null,null,null,null,null,null,null,null,null,null,null,null,null,null,null,null,null,null,null,null,null,null,null,null,null,null,null,null,null,null,null,null,null,null,null,null,null,null,null,null,null,null,null,null,null,null,null,null,null,null,null,null,null,null,null,null,null,null,null,null,null,null,null,null,null,null,null,null,null,null,null,null,null,null,null,null,null,null,null,null,null,null,null,null,null,null,null,null,null,null,null,null,null,null,null,null,null,null,null,null,null,null,null,null,null,null,null,null,null,null,null,null,null,null,null,""]
[null,null,null,null,null,null,null,null,null,null,null,null,null,null,null,null,null,null,null,null,{"$f":"IF(A483=\"\",\"\",U$5+Header!C$6*(A483-1))","v":""},null,"","","","","",0,1,"",null,null,null,null,null,null,null,null,null,null,null,null,null,null,null,null,null,null,null,null,null,null,null,null,null,null,null,null,null,null,null,null,null,null,null,null,null,null,null,null,null,null,null,null,null,null,null,null,null,null,null,null,null,null,null,null,null,null,null,null,null,null,null,null,null,null,null,null,null,null,null,null,null,null,null,null,null,null,null,null,null,null,null,null,null,null,null,null,null,null,null,null,null,null,null,null,null,null,null,null,null,null,null,null,null,null,null,null,null,null,null,null,null,null,null,null,null,null,null,null,null,null,null,null,null,null,null,null,""]
[null,null,null,null,null,null,null,null,null,null,null,null,null,null,null,null,null,null,null,null,{"$f":"IF(A484=\"\",\"\",U$5+Header!C$6*(A484-1))","v":""},null,"","","","","",0,1,"",null,null,null,null,null,null,null,null,null,null,null,null,null,null,null,null,null,null,null,null,null,null,null,null,null,null,null,null,null,null,null,null,null,null,null,null,null,null,null,null,null,null,null,null,null,null,null,null,null,null,null,null,null,null,null,null,null,null,null,null,null,null,null,null,null,null,null,null,null,null,null,null,null,null,null,null,null,null,null,null,null,null,null,null,null,null,null,null,null,null,null,null,null,null,null,null,null,null,null,null,null,null,null,null,null,null,null,null,null,null,null,null,null,null,null,null,null,null,null,null,null,null,null,null,null,null,null,null,""]
[null,null,null,null,null,null,null,null,null,null,null,null,null,null,null,null,null,null,null,null,{"$f":"IF(A485=\"\",\"\",U$5+Header!C$6*(A485-1))","v":""},null,"","","","","",0,1,"",null,null,null,null,null,null,null,null,null,null,null,null,null,null,null,null,null,null,null,null,null,null,null,null,null,null,null,null,null,null,null,null,null,null,null,null,null,null,null,null,null,null,null,null,null,null,null,null,null,null,null,null,null,null,null,null,null,null,null,null,null,null,null,null,null,null,null,null,null,null,null,null,null,null,null,null,null,null,null,null,null,null,null,null,null,null,null,null,null,null,null,null,null,null,null,null,null,null,null,null,null,null,null,null,null,null,null,null,null,null,null,null,null,null,null,null,null,null,null,null,null,null,null,null,null,null,null,null,""]
[null,null,null,null,null,null,null,null,null,null,null,null,null,null,null,null,null,null,null,null,{"$f":"IF(A486=\"\",\"\",U$5+Header!C$6*(A486-1))","v":""},null,"","","","","",0,1,"",null,null,null,null,null,null,null,null,null,null,null,null,null,null,null,null,null,null,null,null,null,null,null,null,null,null,null,null,null,null,null,null,null,null,null,null,null,null,null,null,null,null,null,null,null,null,null,null,null,null,null,null,null,null,null,null,null,null,null,null,null,null,null,null,null,null,null,null,null,null,null,null,null,null,null,null,null,null,null,null,null,null,null,null,null,null,null,null,null,null,null,null,null,null,null,null,null,null,null,null,null,null,null,null,null,null,null,null,null,null,null,null,null,null,null,null,null,null,null,null,null,null,null,null,null,null,null,null,""]
[null,null,null,null,null,null,null,null,null,null,null,null,null,null,null,null,null,null,null,null,{"$f":"IF(A487=\"\",\"\",U$5+Header!C$6*(A487-1))","v":""},null,"","","","","",0,1,"",null,null,null,null,null,null,null,null,null,null,null,null,null,null,null,null,null,null,null,null,null,null,null,null,null,null,null,null,null,null,null,null,null,null,null,null,null,null,null,null,null,null,null,null,null,null,null,null,null,null,null,null,null,null,null,null,null,null,null,null,null,null,null,null,null,null,null,null,null,null,null,null,null,null,null,null,null,null,null,null,null,null,null,null,null,null,null,null,null,null,null,null,null,null,null,null,null,null,null,null,null,null,null,null,null,null,null,null,null,null,null,null,null,null,null,null,null,null,null,null,null,null,null,null,null,null,null,null,""]
[null,null,null,null,null,null,null,null,null,null,null,null,null,null,null,null,null,null,null,null,{"$f":"IF(A488=\"\",\"\",U$5+Header!C$6*(A488-1))","v":""},null,"","","","","",0,1,"",null,null,null,null,null,null,null,null,null,null,null,null,null,null,null,null,null,null,null,null,null,null,null,null,null,null,null,null,null,null,null,null,null,null,null,null,null,null,null,null,null,null,null,null,null,null,null,null,null,null,null,null,null,null,null,null,null,null,null,null,null,null,null,null,null,null,null,null,null,null,null,null,null,null,null,null,null,null,null,null,null,null,null,null,null,null,null,null,null,null,null,null,null,null,null,null,null,null,null,null,null,null,null,null,null,null,null,null,null,null,null,null,null,null,null,null,null,null,null,null,null,null,null,null,null,null,null,null,""]
[null,null,null,null,null,null,null,null,null,null,null,null,null,null,null,null,null,null,null,null,{"$f":"IF(A489=\"\",\"\",U$5+Header!C$6*(A489-1))","v":""},null,"","","","","",0,1,"",null,null,null,null,null,null,null,null,null,null,null,null,null,null,null,null,null,null,null,null,null,null,null,null,null,null,null,null,null,null,null,null,null,null,null,null,null,null,null,null,null,null,null,null,null,null,null,null,null,null,null,null,null,null,null,null,null,null,null,null,null,null,null,null,null,null,null,null,null,null,null,null,null,null,null,null,null,null,null,null,null,null,null,null,null,null,null,null,null,null,null,null,null,null,null,null,null,null,null,null,null,null,null,null,null,null,null,null,null,null,null,null,null,null,null,null,null,null,null,null,null,null,null,null,null,null,null,null,""]
[null,null,null,null,null,null,null,null,null,null,null,null,null,null,null,null,null,null,null,null,{"$f":"IF(A490=\"\",\"\",U$5+Header!C$6*(A490-1))","v":""},null,"","","","","",0,1,"",null,null,null,null,null,null,null,null,null,null,null,null,null,null,null,null,null,null,null,null,null,null,null,null,null,null,null,null,null,null,null,null,null,null,null,null,null,null,null,null,null,null,null,null,null,null,null,null,null,null,null,null,null,null,null,null,null,null,null,null,null,null,null,null,null,null,null,null,null,null,null,null,null,null,null,null,null,null,null,null,null,null,null,null,null,null,null,null,null,null,null,null,null,null,null,null,null,null,null,null,null,null,null,null,null,null,null,null,null,null,null,null,null,null,null,null,null,null,null,null,null,null,null,null,null,null,null,null,""]
[null,null,null,null,null,null,null,null,null,null,null,null,null,null,null,null,null,null,null,null,{"$f":"IF(A491=\"\",\"\",U$5+Header!C$6*(A491-1))","v":""},null,"","","","","",0,1,"",null,null,null,null,null,null,null,null,null,null,null,null,null,null,null,null,null,null,null,null,null,null,null,null,null,null,null,null,null,null,null,null,null,null,null,null,null,null,null,null,null,null,null,null,null,null,null,null,null,null,null,null,null,null,null,null,null,null,null,null,null,null,null,null,null,null,null,null,null,null,null,null,null,null,null,null,null,null,null,null,null,null,null,null,null,null,null,null,null,null,null,null,null,null,null,null,null,null,null,null,null,null,null,null,null,null,null,null,null,null,null,null,null,null,null,null,null,null,null,null,null,null,null,null,null,null,null,null,""]
[null,null,null,null,null,null,null,null,null,null,null,null,null,null,null,null,null,null,null,null,{"$f":"IF(A492=\"\",\"\",U$5+Header!C$6*(A492-1))","v":""},null,{"$f":"IF(F492=\"\",\"\",IF(ISNUMBER(SEARCH(F492,\"d\")),IF(ISNUMBER(SEARCH(G492,\"c\")),\"CS\",IF(ISNUMBER(SEARCH(G492,\"u\")),\"UU\")),\"\"))","v":""},{"$f":"IF(F492=\"\",\"\",IF(ISNUMBER(SEARCH(F492,\"e\")),IF(ISNUMBER(SEARCH(G492,\"c\")),IF(ISNUMBER(SEARCH(H492,\"a\")),\"CS\",\"CU\"),IF(ISNUMBER(SEARCH(H492,\"a\")),\"US\",\"UU\")),\"\"))","v":""},{"$f":"IF(W492=\"\",X492,W492)","v":""},"","",0,1,"",null,null,null,null,null,null,null,null,null,null,null,null,null,null,null,null,null,null,null,null,null,null,null,null,null,null,null,null,null,null,null,null,null,null,null,null,null,null,null,null,null,null,null,null,null,null,null,null,null,null,null,null,null,null,null,null,null,null,null,null,null,null,null,null,null,null,null,null,null,null,null,null,null,null,null,null,null,null,null,null,null,null,null,null,null,null,null,null,null,null,null,null,null,null,null,null,null,null,null,null,null,null,null,null,null,null,null,null,null,null,null,null,null,null,null,null,null,null,null,null,null,null,null,null,null,null,null,null,""]
[null,null,null,null,null,null,null,null,null,null,null,null,null,null,null,null,null,null,null,null,{"$f":"IF(A493=\"\",\"\",U$5+Header!C$6*(A493-1))","v":""},null,"","","","","",0,1,"",null,null,null,null,null,null,null,null,null,null,null,null,null,null,null,null,null,null,null,null,null,null,null,null,null,null,null,null,null,null,null,null,null,null,null,null,null,null,null,null,null,null,null,null,null,null,null,null,null,null,null,null,null,null,null,null,null,null,null,null,null,null,null,null,null,null,null,null,null,null,null,null,null,null,null,null,null,null,null,null,null,null,null,null,null,null,null,null,null,null,null,null,null,null,null,null,null,null,null,null,null,null,null,null,null,null,null,null,null,null,null,null,null,null,null,null,null,null,null,null,null,null,null,null,null,null,null,null,""]
[null,null,null,null,null,null,null,null,null,null,null,null,null,null,null,null,null,null,null,null,{"$f":"IF(A494=\"\",\"\",U$5+Header!C$6*(A494-1))","v":""},null,"","","","","",0,1,"",null,null,null,null,null,null,null,null,null,null,null,null,null,null,null,null,null,null,null,null,null,null,null,null,null,null,null,null,null,null,null,null,null,null,null,null,null,null,null,null,null,null,null,null,null,null,null,null,null,null,null,null,null,null,null,null,null,null,null,null,null,null,null,null,null,null,null,null,null,null,null,null,null,null,null,null,null,null,null,null,null,null,null,null,null,null,null,null,null,null,null,null,null,null,null,null,null,null,null,null,null,null,null,null,null,null,null,null,null,null,null,null,null,null,null,null,null,null,null,null,null,null,null,null,null,null,null,null,""]
[null,null,null,null,null,null,null,null,null,null,null,null,null,null,null,null,null,null,null,null,{"$f":"IF(A495=\"\",\"\",U$5+Header!C$6*(A495-1))","v":""},null,"","","","","",0,1,"",null,null,null,null,null,null,null,null,null,null,null,null,null,null,null,null,null,null,null,null,null,null,null,null,null,null,null,null,null,null,null,null,null,null,null,null,null,null,null,null,null,null,null,null,null,null,null,null,null,null,null,null,null,null,null,null,null,null,null,null,null,null,null,null,null,null,null,null,null,null,null,null,null,null,null,null,null,null,null,null,null,null,null,null,null,null,null,null,null,null,null,null,null,null,null,null,null,null,null,null,null,null,null,null,null,null,null,null,null,null,null,null,null,null,null,null,null,null,null,null,null,null,null,null,null,null,null,null,""]
[null,null,null,null,null,null,null,null,null,null,null,null,null,null,null,null,null,null,null,null,{"$f":"IF(A496=\"\",\"\",U$5+Header!C$6*(A496-1))","v":""},null,"","","","","",0,1,"",null,null,null,null,null,null,null,null,null,null,null,null,null,null,null,null,null,null,null,null,null,null,null,null,null,null,null,null,null,null,null,null,null,null,null,null,null,null,null,null,null,null,null,null,null,null,null,null,null,null,null,null,null,null,null,null,null,null,null,null,null,null,null,null,null,null,null,null,null,null,null,null,null,null,null,null,null,null,null,null,null,null,null,null,null,null,null,null,null,null,null,null,null,null,null,null,null,null,null,null,null,null,null,null,null,null,null,null,null,null,null,null,null,null,null,null,null,null,null,null,null,null,null,null,null,null,null,null,""]
[null,null,null,null,null,null,null,null,null,null,null,null,null,null,null,null,null,null,null,null,{"$f":"IF(A497=\"\",\"\",U$5+Header!C$6*(A497-1))","v":""},null,"","","","","",0,1,"",null,null,null,null,null,null,null,null,null,null,null,null,null,null,null,null,null,null,null,null,null,null,null,null,null,null,null,null,null,null,null,null,null,null,null,null,null,null,null,null,null,null,null,null,null,null,null,null,null,null,null,null,null,null,null,null,null,null,null,null,null,null,null,null,null,null,null,null,null,null,null,null,null,null,null,null,null,null,null,null,null,null,null,null,null,null,null,null,null,null,null,null,null,null,null,null,null,null,null,null,null,null,null,null,null,null,null,null,null,null,null,null,null,null,null,null,null,null,null,null,null,null,null,null,null,null,null,null,""]
[null,null,null,null,null,null,null,null,null,null,null,null,null,null,null,null,null,null,null,null,{"$f":"IF(A498=\"\",\"\",U$5+Header!C$6*(A498-1))","v":""},null,"","","","","",0,1,"",null,null,null,null,null,null,null,null,null,null,null,null,null,null,null,null,null,null,null,null,null,null,null,null,null,null,null,null,null,null,null,null,null,null,null,null,null,null,null,null,null,null,null,null,null,null,null,null,null,null,null,null,null,null,null,null,null,null,null,null,null,null,null,null,null,null,null,null,null,null,null,null,null,null,null,null,null,null,null,null,null,null,null,null,null,null,null,null,null,null,null,null,null,null,null,null,null,null,null,null,null,null,null,null,null,null,null,null,null,null,null,null,null,null,null,null,null,null,null,null,null,null,null,null,null,null,null,null,""]
[null,null,null,null,null,null,null,null,null,null,null,null,null,null,null,null,null,null,null,null,{"$f":"IF(A499=\"\",\"\",U$5+Header!C$6*(A499-1))","v":""},null,"","","","","",0,1,"",null,null,null,null,null,null,null,null,null,null,null,null,null,null,null,null,null,null,null,null,null,null,null,null,null,null,null,null,null,null,null,null,null,null,null,null,null,null,null,null,null,null,null,null,null,null,null,null,null,null,null,null,null,null,null,null,null,null,null,null,null,null,null,null,null,null,null,null,null,null,null,null,null,null,null,null,null,null,null,null,null,null,null,null,null,null,null,null,null,null,null,null,null,null,null,null,null,null,null,null,null,null,null,null,null,null,null,null,null,null,null,null,null,null,null,null,null,null,null,null,null,null,null,null,null,null,null,null,""]
[null,null,null,null,1,null,null,null,null,null,null,null,null,null,null,null,null,null,null,null,{"$f":"IF(A500=\"\",\"\",U$5+Header!C$6*(A500-1))","v":""},null,"","","","","",0,1,"",null,null,null,null,null,null,null,null,null,null,null,null,null,null,null,null,null,null,null,null,null,null,null,null,null,null,null,null,null,null,null,null,null,null,null,null,null,null,null,null,null,null,null,null,null,null,null,null,null,null,null,null,null,null,null,null,null,null,null,null,null,null,null,null,null,null,null,null,null,null,null,null,null,null,null,null,null,null,null,null,null,null,null,null,null,null,null,null,null,null,null,null,null,null,null,null,null,null,null,null,null,null,null,null,null,null,null,null,null,null,null,null,null,null,null,null,null,null,null,null,null,null,null,null,null,null,null,null,2]
[null,null,null,null,null,null,null,null,null,null,null,null,null,null,null,null,null,null,null,null,{"$f":"IF(A501=\"\",\"\",U$5+Header!C$6*(A501-1))","v":""},null,"","","","","",0,1,"",null,null,null,null,null,null,null,null,null,null,null,null,null,null,null,null,null,null,null,null,null,null,null,null,null,null,null,null,null,null,null,null,null,null,null,null,null,null,null,null,null,null,null,null,null,null,null,null,null,null,null,null,null,null,null,null,null,null,null,null,null,null,null,null,null,null,null,null,null,null,null,null,null,null,null,null,null,null,null,null,null,null,null,null,null,null,null,null,null,null,null,null,null,null,null,null,null,null,null,null,null,null,null,null,null,null,null,null,null,null,null,null,null,null,null,null,null,null,null,null,null,null,null,null,null,null,null,null,""]
[null,null,null,null,null,null,null,null,null,null,null,null,null,null,null,null,null,null,null,null,{"$f":"IF(A502=\"\",\"\",U$5+Header!C$6*(A502-1))","v":""},null,"","","","","",0,1,"",null,null,null,null,null,null,null,null,null,null,null,null,null,null,null,null,null,null,null,null,null,null,null,null,null,null,null,null,null,null,null,null,null,null,null,null,null,null,null,null,null,null,null,null,null,null,null,null,null,null,null,null,null,null,null,null,null,null,null,null,null,null,null,null,null,null,null,null,null,null,null,null,null,null,null,null,null,null,null,null,null,null,null,null,null,null,null,null,null,null,null,null,null,null,null,null,null,null,null,null,null,null,null,null,null,null,null,null,null,null,null,null,null,null,null,null,null,null,null,null,null,null,null,null,null,null,null,null,""]
[null,null,null,null,null,null,null,null,null,null,null,null,null,null,null,null,null,null,null,null,{"$f":"IF(A503=\"\",\"\",U$5+Header!C$6*(A503-1))","v":""},null,"","","","","",0,1,"",null,null,null,null,null,null,null,null,null,null,null,null,null,null,null,null,null,null,null,null,null,null,null,null,null,null,null,null,null,null,null,null,null,null,null,null,null,null,null,null,null,null,null,null,null,null,null,null,null,null,null,null,null,null,null,null,null,null,null,null,null,null,null,null,null,null,null,null,null,null,null,null,null,null,null,null,null,null,null,null,null,null,null,null,null,null,null,null,null,null,null,null,null,null,null,null,null,null,null,null,null,null,null,null,null,null,null,null,null,null,null,null,null,null,null,null,null,null,null,null,null,null,null,null,null,null,null,null,""]
["Mean/median",null,"",null,null,null,null,"Mean ",null,{"$f":"AVERAGE(J5:J503)","v":{"$error":"#DIV/0!"}},null,{"$f":"AVERAGE(L5:L502)","v":{"$error":"#DIV/0!"}},{"$f":"AVERAGE(M5:M502)","v":{"$error":"#DIV/0!"}},"Totals",{"$f":"SUM(O5:O502)","v":0},{"$f":"SUM(P5:P502)","v":0},{"$f":"SUM(Q5:Q502)","v":0},{"$f":"SUM(R5:R502)","v":0},"Mean ",{"$f":"IF(ISERROR(AVERAGE(T5:T503)),\"\",AVERAGE(T5:T503))","v":""},{"$f":"MAX(U5:U502)","v":0},null,null,null,null,{"$f":"AVERAGE(Z5:Z502)","v":{"$error":"#DIV/0!"}},null,null,null,null,null,null,null,null,null,null,null,null,null,null,null,null,null,null,null,null,null,null,null,null,null,null,null,null,null,null,null,null,null,null,null,null,null,null,null,null,null,null,null,null,null,null,null,null,null,null,null,null,null,null,null,null,null,null,null,null,null,null,null,null,null,null,null,null,null,null,null,null,null,null,null,null,null,null,null,null,null,null,null,null,null,null,null,null,null,null,null,null,null,null,null,null,null,null,null,null,null,null,null,null,null,null,null,null,null,null,null,null,null,null,null,null,null,null,null,null,null,null,null,null,null,null,null,null,null,null,null,null,null,"Percent alteration"]
[null,"Mean ",null,{"$f":"AVERAGE(D5:D502)","v":{"$error":"#DIV/0!"}},{"$f":"AVERAGE(E5:E503)/5","v":0.2},null,null,"Median",null,{"$f":"MEDIAN(J5:J503)","v":{"$error":"#NUM!"}},null,null,null,null,{"$f":"IF(SUM(O5:O206)=0,\"\",SUM(O5:O206))","v":""},null,null,null,"Median",{"$f":"MEDIAN(T5:T503)","v":{"$error":"#NUM!"}},null,null,null,null,null,{"$f":"STDEV(Z5:Z502)","v":{"$error":"#DIV/0!"}},null,null,null,null,null,null,null,null,null,null,null,null,null,null,null,null,null,null,null,null,null,null,null,null,null,null,null,null,null,null,null,null,null,null,null,null,null,null,null,null,null,null,null,null,null,null,null,null,null,null,null,null,null,null,null,null,null,null,null,null,null,null,null,null,null,null,null,null,null,null,null,null,null,null,null,null,null,null,null,null,null,null,null,null,null,null,null,null,null,null,null,null,null,null,null,null,null,null,null,null,null,null,null,null,null,null,null,null,null,null,null,null,null,null,null,null,null,null,null,null,null,null,null,null,null,null,null,null,null,null,null,"Mean ",{"$f":"IF(ISERROR(AVERAGE(FC5:FC503)),\"\",AVERAGE(FC5:FC503))","v":2},{"$f":"FC505/5","v":0.4}]
[null,"Standard Deviation",null,{"$f":"STDEV(D5:D502)","v":{"$error":"#DIV/0!"}},{"$f":"IF(ISERROR(STDEV(E5:E503)),\"\",STDEV(E5:E503)/5)","v":""},null,null,"Standard Deviation",null,{"$f":"STDEV(J5:J503)","v":{"$error":"#DIV/0!"}},null,{"$f":"STDEV(L5:L502)","v":{"$error":"#DIV/0!"}},{"$f":"STDEV(M5:M502)","v":{"$error":"#DIV/0!"}},"Total Plants",{"$f":"COUNTA(N5:N503)","v":0},null,null,null,"Standard Deviation",{"$f":"STDEV(T5:T503)","v":{"$error":"#DIV/0!"}},null,null,null,null,null,{"$f":"COUNT(Z5:Z502)","v":0},null,null,null,null,null,null,null,null,null,null,null,null,null,null,null,null,null,null,null,null,null,null,null,null,null,null,null,null,null,null,null,null,null,null,null,null,null,null,null,null,null,null,null,null,null,null,null,null,null,null,null,null,null,null,null,null,null,null,null,null,null,null,null,null,null,null,null,null,null,null,null,null,null,null,null,null,null,null,null,null,null,null,null,null,null,null,null,null,null,null,null,null,null,null,null,null,null,null,null,null,null,null,null,null,null,null,null,null,null,null,null,null,null,null,null,null,null,null,null,null,null,null,null,null,null,null,null,null,null,null,null,"Standard Deviation",{"$f":"IF(ISERROR(STDEV(FC5:FC503)),\"\",STDEV(FC5:FC503))","v":""},{"$f":"FC506/5","v":{"$error":"#VALUE!"}}]
[null,"Count",null,{"$f":"COUNT(D5:D502)","v":0},{"$f":"IF(COUNT(E5:E503)=0,\"\",COUNT(E5:E503))","v":1},null,null,"Count",null,{"$f":"COUNT(J5:J503)","v":0},null,{"$f":"COUNT(L5:L502)","v":0},{"$f":"COUNT(M5:M502)","v":0},null,null,null,null,null,"Count",{"$f":"COUNT(T5:T502)","v":0},null,null,null,null,null,{"$f":"CONFIDENCE(0.05,Z505,Z506)","v":{"$error":"#DIV/0!"}},null,null,null,null,null,null,null,null,null,null,null,null,null,null,null,null,null,null,null,null,null,null,null,null,null,null,null,null,null,null,null,null,null,null,null,null,null,null,null,null,null,null,null,null,null,null,null,null,null,null,null,null,null,null,null,null,null,null,null,null,null,null,null,null,null,null,null,null,null,null,null,null,null,null,null,null,null,null,null,null,null,null,null,null,null,null,null,null,null,null,null,null,null,null,null,null,null,null,null,null,null,null,null,null,null,null,null,null,null,null,null,null,null,null,null,null,null,null,null,null,null,null,null,null,null,null,null,null,null,null,null,"Count",{"$f":"IF(COUNT(FC5:FC503)=0,\"\",COUNT(FC5:KC503))","v":1}]
[null,"Confidence",null,{"$f":"CONFIDENCE(0.05,D506,D507)","v":{"$error":"#DIV/0!"}},{"$f":"IF(E507=\"\",\"\",CONFIDENCE(0.05,E506,E507))","v":{"$error":"#VALUE!"}},null,null,"Confidence",null,{"$f":"CONFIDENCE(0.05,J506,J507)","v":{"$error":"#DIV/0!"}},null,{"$f":"CONFIDENCE(0.05,L506,L507)","v":{"$error":"#DIV/0!"}},{"$f":"CONFIDENCE(0.05,M506,M507)","v":{"$error":"#DIV/0!"}},null,null,null,null,null,"Confidence",{"$f":"CONFIDENCE(0.05,T506,T507)","v":{"$error":"#DIV/0!"}},null,null,null,null,null,null,null,null,null,null,null,null,null,null,null,null,null,null,null,null,null,null,null,null,null,null,null,null,null,null,null,null,null,null,null,null,null,null,null,null,null,null,null,null,null,null,null,null,null,null,null,null,null,null,null,null,null,null,null,null,null,null,null,null,null,null,null,null,null,null,null,null,null,null,null,null,null,null,null,null,null,null,null,null,null,null,null,null,null,null,null,null,null,null,null,null,null,null,null,null,null,null,null,null,null,null,null,null,null,null,null,null,null,null,null,null,null,null,null,null,null,null,null,null,null,null,null,null,null,null,null,null,null,null,null,null,null,"Confidence",{"$f":"IF(FC507=\"\",\"\",CONFIDENCE(0.05,FC506,FC507))","v":{"$error":"#VALUE!"}},{"$f":"FC508/5","v":{"$error":"#VALUE!"}}]
[null,null,null,"Bootstrap adjust",{"$f":"IF(E508=\"\",\"\",E508*1.0041-0.008)","v":{"$error":"#VALUE!"}},null,null," ",null,null,null,null,null,null,null,null,null,null,"Boot adjust",{"$f":"0.98*T508-0.064","v":{"$error":"#DIV/0!"}},null,"y = 0.9797x - 0.0637",null,null,null,null,null,null,null,null,null,null,null,null,null,null,null,null,null,null,null,null,null,null,null,null,null,null,null,null,null,null,null,null,null,null,null,null,null,null,null,null,null,null,null,null,null,null,null,null,null,null,null,null,null,null,null,null,null,null,null,null,null,null,null,null,null,null,null,null,null,null,null,null,null,null,null,null,null,null,null,null,null,null,null,null,null,null,null,null,null,null,null,null,null,null,null,null,null,null,null,null,null,null,null,null,null,null,null,null,null,null,null,null,null,null,null,null,null,null,null,null,null,null,null,null,null,null,null,null,null,null,null,null,null,null,null,null,{"$f":"IF(FC508=\"\",\"\",FC508*1.0041-0.008)","v":{"$error":"#VALUE!"}},{"$f":"FC509/5","v":{"$error":"#VALUE!"}}]
[]
[null,null,null,null,null,null,null,null,"Units:",{"$f":"Header!F17","v":"In"}]
[null,null,null,null,"From observer variation (Table 9 in the DIG)",null,null,null,null,"From observer variation (Table 9)",null,null,null,null,null,null,null,null,null,"From observer variation (Table 9)",null,null,null,null,null,null,null,null,null,null,null,null,null,null,null,null,null,null,null,null,null,null,null,null,null,null,null,null,null,null,null,null,null,null,null,null,null,null,null,null,null,null,null,null,null,null,null,null,null,null,null,null,null,null,null,null,null,null,null,null,null,null,null,null,null,null,null,null,null,null,null,null,null,null,null,null,null,null,null,null,null,null,null,null,null,null,null,null,null,null,null,null,null,null,null,null,null,null,null,null,null,null,null,null,null,null,null,null,null,null,null,null,null,null,null,null,null,null,null,null,null,null,null,null,null,null,null,null,null,null,null,null,null,null,null,null,null,null,"From observer variation (Table 9)"]
[null,null,null,"ME",{"$f":"IF(F513<0.06,0.06,F513)","v":6.6000000000000003E-2},{"$f":"E514*E505","v":6.6000000000000003E-2},null,null,"ME",{"$f":"IF(ISERROR(J504),0.83,J514*J504)","v":0.83},null,{"$f":"IF(ISERROR(L504),0.45,L514*L504)","v":0.45},null,null,null,null,null,null,"ME",{"$f":"IF(ISERROR(T505),0.52,T515*T504)","v":0.52},null,null,null,null,null,null,null,null,null,null,null,null,null,null,null,null,null,null,null,null,null,null,null,null,null,null,null,null,null,null,null,null,null,null,null,null,null,null,null,null,null,null,null,null,null,null,null,null,null,null,null,null,null,null,null,null,null,null,null,null,null,null,null,null,null,null,null,null,null,null,null,null,null,null,null,null,null,null,null,null,null,null,null,null,null,null,null,null,null,null,null,null,null,null,null,null,null,null,null,null,null,null,null,null,null,null,null,null,null,null,null,null,null,null,null,null,null,null,null,null,null,null,null,null,null,null,null,null,null,null,null,null,null,null,null,null,null,null,{"$f":"IF(FC505=\"\",0.07,FC515*FC505)","v":0.66},{"$f":"FC513/5","v":0.13200000000000001}]
[null,null,null,"RME",0.33,null,null,null,"RME =",0.16,null,0.12,null,null,null,null,null,null,null,null,null,null,null,null,null,null,null,null,null,null,null,null,null,null,null,null,null,null,null,null,null,null,null,null,null,null,null,null,null,null,null,null,null,null,null,null,null,null,null,null,null,null,null,null,null,null,null,null,null,null,null,null,null,null,null,null,null,null,null,null,null,null,null,null,null,null,null,null,null,null,null,null,null,null,null,null,null,null,null,null,null,null,null,null,null,null,null,null,null,null,null,null,null,null,null,null,null,null,null,null,null,null,null,null,null,null,null,null,null,null,null,null,null,null,null,null,null,null,null,null,null,null,null,null,null,null,null,null,null,null,null,null,null,null,null,null,null,null,{"$f":"IF(FC508=\"\",FC513,FC513*1.0041-0.008)","v":{"$error":"#VALUE!"}},{"$f":"FC514/5","v":{"$error":"#VALUE!"}}]
[null,null,null,null,null,null,null,null,null,null,null,null,null,null,null,null,null,null,"RME =",0.27,null,null,null,null,null,null,null,null,null,null,null,null,null,null,null,null,null,null,null,null,null,null,null,null,null,null,null,null,null,null,null,null,null,null,null,null,null,null,null,null,null,null,null,null,null,null,null,null,null,null,null,null,null,null,null,null,null,null,null,null,null,null,null,null,null,null,null,null,null,null,null,null,null,null,null,null,null,null,null,null,null,null,null,null,null,null,null,null,null,null,null,null,null,null,null,null,null,null,null,null,null,null,null,null,null,null,null,null,null,null,null,null,null,null,null,null,null,null,null,null,null,null,null,null,null,null,null,null,null,null,null,null,null,null,null,null,null,null,0.33]
[]
[null,null,null,"N",{"$f":"Header!V2^2*DMA!E506^2/DMA!E513^2","v":{"$error":"#VALUE!"}},null,null,null,"N",{"$f":"Header!U2^2*DMA!J506^2/DMA!J513^2","v":{"$error":"#DIV/0!"}},null,{"$f":"Header!T2^2*DMA!L506^2/DMA!L513^2","v":{"$error":"#DIV/0!"}},null,null,null,null,null,null,"N",{"$f":"Header!R2^2*DMA!T506^2/DMA!T513^2","v":{"$error":"#DIV/0!"}},null,null,null,null,null,null,null,null,null,null,null,null,null,null,null,null,null,null,null,null,null,null,null,null,null,null,null,null,null,null,null,null,null,null,null,null,null,null,null,null,null,null,null,null,null,null,null,null,null,null,null,null,null,null,null,null,null,null,null,null,null,null,null,null,null,null,null,null,null,null,null,null,null,null,null,null,null,null,null,null,null,null,null,null,null,null,null,null,null,null,null,null,null,null,null,null,null,null,null,null,null,null,null,null,null,null,null,null,null,null,null,null,null,null,null,null,null,null,null,null,null,null,null,null,null,null,null,null,null,null,null,null,null,null,null,null,null,"N",{"$f":"Header!V2^2*F506^2/FD514^2","v":{"$error":"#VALUE!"}}]
[]
[]
[]
[]
[]
[]
[]
[]
[]
[]
[]
[]
[]
[]
[]
[]
[]
[]
[]
[null,{"$f":"COUNTIF($B5:$B503,\"\")","v":499}]
[]
["end",{"$f":"MATCH(MAX($A$5:$A$501),A$5:A$501,0)+10","v":11}]
[]
[]
[]
[]
[]
[]
[]
[]
[]
[null,null,null,null,"SAMPLE NEEDED (adjusted to bootstrap)",null,null,null,null,null,null,null,null,null,null,null,null,null,null,null,null,null,null,null,null,null,null,null,null,null,null,null,null,null,null,null,null,null,null,null,null,null,null,null,null,null,null,null,null,null,null,null,null,null,null,null,null,null,null,null,null,null,null,null,null,null,null,null,null,null,null,null,null,null,null,null,null,null,null,null,null,null,null,null,null,null,null,null,null,null,null,null,null,null,null,null,null,null,null,null,null,null,null,null,null,null,null,null,null,null,null,null,null,null,null,null,null,null,null,null,null,null,null,null,null,null,null,null,null,null,null,null,null,null,null,null,null,null,null,null,null,null,null,null,null,null,null,null,null,null,null,null,null,null,null,null,null,null,"SAMPLE NEEDED (adjusted to bootstrap)"]
[null,null,null,null,{"$f":"IF(E506=\"\",80,((DMA!V2)^2*(Header!V3)^2/(Header!I2*F508/F509)^2))","v":80},null,null,null,null,null,null,null,null,null,null,null,null,null,null,null,null,null,null,null,null,null,null,null,null,null,null,null,null,null,null,null,null,null,null,null,null,null,null,null,null,null,null,null,null,null,null,null,null,null,null,null,null,null,null,null,null,null,null,null,null,null,null,null,null,null,null,null,null,null,null,null,null,null,null,null,null,null,null,null,null,null,null,null,null,null,null,null,null,null,null,null,null,null,null,null,null,null,null,null,null,null,null,null,null,null,null,null,null,null,null,null,null,null,null,null,null,null,null,null,null,null,null,null,null,null,null,null,null,null,null,null,null,null,null,null,null,null,null,null,null,null,null,null,null,null,null,null,null,null,null,null,null,null,{"$f":"IF(FC506=\"\",80,((DMA!FT2)^2*(Header!FT3)^2/(Header!FG2*FD508/FD509)^2))","v":80}]
[]
[]
[]
[]
[]
[]
[]
[]
[]
[]
[]
[]
[]
[]
[]
[]
[]
[]
[]
[]
[]
[]
[]
[]
[]
[]
[]
[]
[]
[]
[]
[]
[]
[]
[]
[]
[]
[]
[]
[]
[]
[]
[]
[]
[]
[]
[]
[]
[]
[]
[]
[]
[]
[]
[]
[]
[]
[null,null,null,null,null,null,null,null,null,null,null,null,null,null,null,null,null,null,null,null,null,null,null,null,null,null,null,null,null,null,null,null,null,null,null,null,null,null,null,null,null,null,null,null,null,null,null,null,null,null,null,null,null,null,null,null,null,null,null,null,null,null,null,null,null,null,null,null,null,null,null,null,null,null,null,null,null,null,null,null,null,null,null,null,null,null,null,null,null,null,null,null,null,null,null,null,null,null,null,null,null,null,null,null,null,null,null,null,null,null,null,null,null,null,null,null,null,null,null,null,null,null,"(Sum Early, Mid, Late)"]
[]
[null,null,null,null,null,null,null,null,null,null,null,null,null,null,null,null,null,null,null,null,null,null,null,null,null,null,null,null,null,null,null,null,null,null,null,null,null,null,null,null,null,null,null,null,null,null,null,null,null,null,null,null,null,null,null,null,null,null,null,null,null,null,null,null,null,null,null,null,null,null,null,null,null,null,null,null,null,null,null,null,null,null,null,null,null,null,null,null,null,null,null,null,null,null,null,null,null,null,null,null,null,null,null,null,null,null,null,null,null,null,null,null,null,null,null,null,null,null,null,null,null,null,"w/o capability & modifer"]

{"sheet":"Cover","index":3,"n_rows":206,"n_cols":10,"rows_kept":206,"cut":false,"hidden":false,"merged":[]}
["% Absolute streambank cover",null,null,"                 Return to DMA table"]
[]
["Sample #","Veg","Rock","Large wood","Calculated Bare/litter",null,null,null,null,"LISTS"]
[1,null,null,null,{"$f":"IF(AND(ISBLANK(B4),ISBLANK(C4),ISBLANK(D4)),\"\",100-SUM(B4:D4))","v":""},"Determine the absolute cover for each of the cover constituents: ",null,null,null,5]
[2,null,null,null,{"$f":"IF(AND(ISBLANK(B5),ISBLANK(C5),ISBLANK(D5)),\"\",100-SUM(B5:D5))","v":""}," (i) Perennial foliar vegetation cover, (ii)  embedded rock including bedrock",null,null,null,10]
[3,null,null,null,"","(>15cm or 6 in), and (iii) large wood (>10 cm or 4 in)",null,null,null,15]
[4,null,null,null,"","Record each cover constituent to the nearest 10 percent. ",null,null,null,20]
[5,null,null,null,""," If two or more cover types overlap, do not add the overlap",null,null,null,25]
[6,null,null,null,""," amounts and only record the portion of overlapping cover",null,null,null,30]
[7,null,null,null,""," closest to or directly on the ground surface",null,null,null,35]
[8,null,null,null,""," (e.g., record rock on the ground and not the overlapping vegetation",null,null,null,40]
[9,null,null,null,""," cover immediately above the rock). ",null,null,null,45]
[10,null,null,null,""," Cover includes all of the above up to .5 meter above the ground surface",null,null,null,50]
[11,null,null,null,"","Do NOT include bare ground, litter,or moss in these estimates.",null,null,null,55]
[12,null,null,null,"","        That cover quantity is calculated.",null,null,null,60]
[13,null,null,null,"",null,null,null,null,65]
[14,null,null,null,"",null,null,null,null,70]
[15,null,null,null,"",null,null,null,null,75]
[16,null,null,null,"",null,null,null,null,80]
[17,null,null,null,"",null,null,null,null,85]
[18,null,null,null,"",null,null,null,null,90]
[19,null,null,null,"",null,null,null,null,95]
[20,null,null,null,"",null,null,null,null,100]
[21,null,null,null,""]
[22,null,null,null,""]
[23,null,null,null,""]
[24,null,null,null,""]
[25,null,null,null,""]
[26,null,null,null,""]
[27,null,null,null,""]
[28,null,null,null,""]
[29,null,null,null,""]
[30,null,null,null,""]
[31,null,null,null,""]
[32,null,null,null,""]
[33,null,null,null,""]
[34,null,null,null,""]
[35,null,null,null,""]
[36,null,null,null,""]
[37,null,null,null,""]
[38,null,null,null,""]
[39,null,null,null,""]
[40,null,null,null,""]
[41,null,null,null,""]
[42,null,null,null,""]
[43,null,null,null,""]
[44,null,null,null,""]
[45,null,null,null,""]
[46,null,null,null,""]
[47,null,null,null,""]
[48,null,null,null,""]
[49,null,null,null,""]
[50,null,null,null,""]
[51,null,null,null,""]
[52,null,null,null,""]
[53,null,null,null,""]
[54,null,null,null,""]
[55,null,null,null,""]
[56,null,null,null,""]
[57,null,null,null,""]
[58,null,null,null,""]
[59,null,null,null,""]
[60,null,null,null,""]
[61,null,null,null,""]
[62,null,null,null,""]
[63,null,null,null,""]
[64,null,null,null,""]
[65,null,null,null,""]
[66,null,null,null,{"$f":"IF(AND(ISBLANK(B69),ISBLANK(C69),ISBLANK(D69)),\"\",100-SUM(B69:D69))","v":""}]
[67,null,null,null,""]
[68,null,null,null,""]
[69,null,null,null,""]
[70,null,null,null,""]
[71,null,null,null,""]
[72,null,null,null,""]
[73,null,null,null,""]
[74,null,null,null,""]
[75,null,null,null,""]
[76,null,null,null,""]
[77,null,null,null,""]
[78,null,null,null,""]
[79,null,null,null,""]
[80,null,null,null,""]
[81,null,null,null,""]
[82,null,null,null,""]
[83,null,null,null,""]
[84,null,null,null,""]
[85,null,null,null,""]
[86,null,null,null,""]
[87,null,null,null,""]
[88,null,null,null,""]
[89,null,null,null,""]
[90,null,null,null,""]
[91,null,null,null,""]
[92,null,null,null,""]
[93,null,null,null,""]
[94,null,null,null,""]
[95,null,null,null,""]
[96,null,null,null,""]
[97,null,null,null,""]
[98,null,null,null,""]
[99,null,null,null,""]
[100,null,null,null,""]
[101,null,null,null,""]
[102,null,null,null,""]
[103,null,null,null,""]
[104,null,null,null,""]
[105,null,null,null,""]
[106,null,null,null,""]
[107,null,null,null,""]
[108,null,null,null,""]
[109,null,null,null,""]
[110,null,null,null,""]
[111,null,null,null,""]
[112,null,null,null,""]
[113,null,null,null,""]
[114,null,null,null,""]
[115,null,null,null,""]
[116,null,null,null,""]
[117,null,null,null,""]
[118,null,null,null,""]
[119,null,null,null,""]
[120,null,null,null,""]
[121,null,null,null,""]
[122,null,null,null,""]
[123,null,null,null,""]
[124,null,null,null,""]
[125,null,null,null,""]
[126,null,null,null,""]
[127,null,null,null,""]
[128,null,null,null,""]
[129,null,null,null,""]
[130,null,null,null,{"$f":"IF(AND(ISBLANK(B133),ISBLANK(C133),ISBLANK(D133)),\"\",100-SUM(B133:D133))","v":""}]
[131,null,null,null,""]
[132,null,null,null,""]
[133,null,null,null,""]
[134,null,null,null,""]
[135,null,null,null,""]
[136,null,null,null,""]
[137,null,null,null,""]
[138,null,null,null,""]
[139,null,null,null,""]
[140,null,null,null,""]
[141,null,null,null,""]
[142,null,null,null,""]
[143,null,null,null,""]
[144,null,null,null,""]
[145,null,null,null,""]
[146,null,null,null,""]
[147,null,null,null,""]
[148,null,null,null,""]
[149,null,null,null,""]
[150,null,null,null,""]
[151,null,null,null,""]
[152,null,null,null,""]
[153,null,null,null,""]
[154,null,null,null,""]
[155,null,null,null,""]
[156,null,null,null,""]
[157,null,null,null,""]
[158,null,null,null,""]
[159,null,null,null,""]
[160,null,null,null,""]
[161,null,null,null,""]
[162,null,null,null,""]
[163,null,null,null,""]
[164,null,null,null,""]
[165,null,null,null,""]
[166,null,null,null,""]
[167,null,null,null,""]
[168,null,null,null,""]
[169,null,null,null,""]
[170,null,null,null,""]
[171,null,null,null,""]
[172,null,null,null,""]
[173,null,null,null,""]
[174,null,null,null,""]
[175,null,null,null,""]
[176,null,null,null,""]
[177,null,null,null,""]
[178,null,null,null,""]
[179,null,null,null,""]
[180,null,null,null,""]
[181,null,null,null,""]
[182,null,null,null,""]
[183,null,null,null,""]
[184,null,null,null,""]
[185,null,null,null,""]
[186,null,null,null,""]
[187,null,null,null,""]
[188,null,null,null,""]
[189,null,null,null,""]
[190,null,null,null,""]
[191,null,null,null,""]
[192,null,null,null,""]
[193,null,null,null,""]
[194,null,null,null,{"$f":"IF(AND(ISBLANK(B197),ISBLANK(C197),ISBLANK(D197)),\"\",100-SUM(B197:D197))","v":""}]
[195,null,null,null,""]
[196,null,null,null,""]
[197,null,null,null,""]
[198,null,null,null,""]
[199,null,null,null,""]
[200,null,null,null,""]
["Total =",{"$f":"SUM(B4:B203)","v":0},{"$f":"SUM(C4:C203)","v":0},{"$f":"SUM(D4:D203)","v":0},{"$f":"SUM(E4:E203)","v":0}]
["Average=",{"$f":"B204/SUM($EP204:$ES204)","v":{"$error":"#DIV/0!"}},{"$f":"C204/SUM($EP204:$ES204)","v":{"$error":"#DIV/0!"}},{"$f":"D204/SUM($EP204:$ES204)","v":{"$error":"#DIV/0!"}},{"$f":"E204/SUM($EP204:$ES204)","v":{"$error":"#DIV/0!"}}]
["N",{"$f":"COUNT(B4:B203)","v":0},{"$f":"COUNT(C4:C203)","v":0},{"$f":"COUNT(D4:D203)","v":0},{"$f":"COUNT(E4:E203)","v":0}]

{"sheet":"Substr","index":4,"n_rows":61,"n_cols":37,"rows_kept":61,"cut":false,"hidden":false,"merged":[]}
["DATE:",null,"mm/dd/yyyy",null,null,null,"Pick the size class from the drop-down list then select the cell in which to enter the selected value.",null,null,null,null,null,null,null,null,null,null,null,null,null,"Krumbein Phi:",null,"W C Krumbein & L L Sloss, Stratigraphy and Sedimentation, 2nd edition (Freeman, San Francisco, 1963)."]
["Substrate Form",null,null,null,"Sample size needed:",null,null,{"$f":"IF(ISERROR(((Header!P2)^2*(O9)^2)/(O10)^2),\"\",((Header!P2)^2*(O9)^2)/(O10)^2)","v":""},null,"N=",{"$f":"COUNT(B5:K60)","v":0},null,null,"Metrics",null,null,null,null,null,null,null,null,null,null,null,null,null,null,null,null,null,null,1,null,"p","Y",2]
["Record sizes in millimeters",null,null,"Did you use a gravelometer (y/n)?:",null,null,null,null,null,null,null,null,null,null,null,null,null,null,null,null,null,null,null,null,null,null,null,null,null,null,null,null,2,null,"r",null,4]
["Sample #","Pebble 1","Pebble 2","Pebble 3","Pebble 4","Pebble 5","Pebble 6","Pebble 7","Pebble 8","Pebble 9","Pebble 10","Habitat -pool(p) riffle(r)","Indicate which pebbles  were estimated*","% Fines","Median particle size mm","D16","D50","D84",null,null,null,null,null,null,null,null,null,null,null,null,null,null,3,null,null,null,6]
[2,null,null,null,null,null,null,null,null,null,null,null,null,{"$f":"COUNTIF(B5:K60,\"<6\")/K2","v":{"$error":"#DIV/0!"}},{"$f":"MEDIAN(B5:K60)","v":{"$error":"#NUM!"}},{"$f":"MAX(S14:S35)","v":{"$error":"#DIV/0!"}},{"$f":"MAX(T15:T30)","v":{"$error":"#DIV/0!"}},{"$f":"MAX(U15:U30)","v":{"$error":"#DIV/0!"}},null,null,null,null,null,null,null,null,null,null,null,null,null,null,4,null,null,null,8]
[4,null,null,null,null,null,null,null,null,null,null,null,null,null,"φ",{"$f":"-LOG(P5,2)","v":{"$error":"#DIV/0!"}},{"$f":"-LOG(Q5,2)","v":{"$error":"#DIV/0!"}},{"$f":"-LOG(R5,2)","v":{"$error":"#DIV/0!"}},null,null,null,null,null,null,null,null,null,null,null,null,null,null,5,null,null,null,10]
[6,null,null,null,null,null,null,null,null,null,null,null,null," "," ",null,null,null,null,null,null,null,null,null,null,null,null,null,null,null,null,null,6,null,null,null,12]
[8,null,null,null,null,null,null,null,null,null,null,null,null,null,null,null,null,null,null,null,null,null,null,null,null,null,null,null,null,null,null,null,7,null,null,null,14]
[10,null,null,null,null,null,null,null,null,null,null,null,null,"Std Dev",{"$f":"STDEV(B5:K60)","v":{"$error":"#DIV/0!"}},null,null,null,null,null,null,null,null,null,null,null,null,null,null,null,null,null,8,null,null,null,16]
[12,null,null,null,null,null,null,null,null,null,null," ",null,"Margin of error",{"$f":"Header!G2*AVERAGE(B5:K60)","v":{"$error":"#DIV/0!"}},null,null,null,null,null,null,null,null,null,null,null,null,null,null,null,null,null,9,null,null,null,18]
[14,null,null,null,null,null,null,null,null,null,null,null,null,null,null,null,null,null,null,null,null,null,null,null,null,null,null,null,null,null,null,null,10,null,null,null,20]
[16,null,null,null,null,null,null,null,null,null,null," "," ",null,null,null,null,null,null,null,null,null,null,"Cumulative Frequency Distribution",null,null,null,null,null,null,null,null,null,null,null,null,22]
[18,null,null,null,null,null,null,null,null,null,null,null,null,"Class    Name","Particle Size Class (mm)","Total particles","Mid Point"," Cumulative %","D16","D50","D84","φ",null,null,null,null,null,null,null,null,null,null,null,null,null,null,24]
[20,null,null,null,null,null,null,null,null,null,null," "," ",null,null,null,0,0,null,null,null,null,null,null,null,null,null,null,null,null,null,null,null,null,null,null,26]
[22,null,null,null,null,null,null,null,null,null,null,null,null,"Sand","<2",{"$f":"IF(COUNTIF(B$5:K$60,\"<=2\")=0,0.001,COUNTIF(B$5:K$60,\"<=2\"))","v":1E-3},2,{"$f":"IF(P15<>0,100*(P15/P$36),\"\")","v":{"$error":"#DIV/0!"}},{"$f":"IF($R15>=16,IF($R14<16,$Q15-(($R15-16)/($R15-$R14)*($Q15-$Q14)),\"\"),\"\")","v":{"$error":"#DIV/0!"}},{"$f":"IF($R15>=50,IF($R14<50,$Q15-(($R15-50)/($R15-$R14)*($Q15-$Q14)),\"\"),\"\")","v":{"$error":"#DIV/0!"}},{"$f":"IF($R15>=84,IF($R14<84,$Q15-(($R15-84)/($R15-$R14)*($Q15-$Q14)),\"\"),\"\")","v":{"$error":"#DIV/0!"}},-1,null,null,null,null,null,null,null,null,null,null,null,null,null,null,28]
[24,null,null,null,null,null,null,null,null,null,null," "," ","VF Gravel","2 - 2.8",{"$f":"COUNTIF(B$5:K$60,\"<=2.8\")-P15","v":-1E-3},{"$f":"AVERAGE(2,2.8)","v":2.4},{"$f":"IF(A39<>\"\",100*SUM(P$15:P16)/P$36,\"\")","v":{"$error":"#DIV/0!"}},{"$f":"IF($R16>=16,IF($R15<16,$Q16-(($R16-16)/($R16-$R15)*($Q16-$Q15)),\"\"),\"\")","v":{"$error":"#DIV/0!"}},{"$f":"IF($R16>=50,IF($R15<50,$Q16-(($R16-50)/($R16-$R15)*($Q16-$Q15)),\"\"),\"\")","v":{"$error":"#DIV/0!"}},{"$f":"IF($R16>=84,IF($R15<84,$Q16-(($R16-84)/($R16-$R15)*($Q16-$Q15)),\"\"),\"\")","v":{"$error":"#DIV/0!"}},-1.5,null,null,null,null,null,null,null,null,null,null,null,null,null,null,30]
[26,null,null,null,null,null,null,null,null,null,null,null,null,"VF Gravel","2.8 - 4",{"$f":"COUNTIF(B$5:K$60,\"<=4\")-SUM(P$15:P16)","v":0},{"$f":"AVERAGE(2.8,4)","v":3.4},{"$f":"IF(A39<>\"\",100*SUM(P$15:P17)/P$36,\"\")","v":{"$error":"#DIV/0!"}},{"$error":"#DIV/0!"},{"$error":"#DIV/0!"},{"$error":"#DIV/0!"},-2,null,null,null,null,null,null,null,null,null,null,null,null,null,null,32]
[28,null,null,null,null,null,null,null,null,null,null," "," ","Fine Gravel","4 - 5.6",{"$f":"COUNTIF(B$5:K$60,\"<=5.6\")-SUM(P$15:P17)","v":0},{"$f":"AVERAGE(4,5.6)","v":4.8},{"$f":"IF(A39<>\"\",100*SUM(P$15:P18)/P$36,\"\")","v":{"$error":"#DIV/0!"}},{"$error":"#DIV/0!"},{"$error":"#DIV/0!"},{"$error":"#DIV/0!"},-2.5,null,null,null,null,null,null,null,null,null,null,null,null,null,null,34]
[30,null,null,null,null,null,null,null,null,null,null,null,null,"Fine Gravel","5.6 - 8",{"$f":"COUNTIF(B$5:K$60,\"<=8\")-SUM(P$15:P18)","v":0},{"$f":"AVERAGE(5.6,8)","v":6.8},{"$f":"IF(A39<>\"\",100*SUM(P$15:P19)/P$36,\"\")","v":{"$error":"#DIV/0!"}},{"$error":"#DIV/0!"},{"$error":"#DIV/0!"},{"$error":"#DIV/0!"},-3,null,null,null,null,null,null,null,null,null,null,null,null,null,null,36]
[32,null,null,null,null,null,null,null,null,null,null," "," ","Med. Gravel","8 - 11.3",{"$f":"COUNTIF(B$5:K$60,\"<=11.3\")-SUM(P$15:P19)","v":0},{"$f":"AVERAGE(8,11.3)","v":9.65},{"$f":"IF(A39<>\"\",100*SUM(P$15:P20)/P$36,\"\")","v":{"$error":"#DIV/0!"}},{"$error":"#DIV/0!"},{"$error":"#DIV/0!"},{"$error":"#DIV/0!"},-3.5,null,null,null,null,null,null,null,null,null,null,null,null,null,null,38]
[34,null,null,null,null,null,null,null,null,null,null,null,null,"Med. Gravel","11.3 - 16",{"$f":"COUNTIF(B$5:K$60,\"<=16\")-SUM(P$15:P20)","v":0},{"$f":"AVERAGE(11.3,16)","v":13.65},{"$f":"IF(A39<>\"\",100*SUM(P$15:P21)/P$36,\"\")","v":{"$error":"#DIV/0!"}},{"$error":"#DIV/0!"},{"$error":"#DIV/0!"},{"$error":"#DIV/0!"},-4,null,null,null,null,null,null,null,null,null,null,null,null,null,null,40]
[36,null,null,null,null,null,null,null,null,null,null," "," ","Coarse Gravel","16 - 22.6",{"$f":"COUNTIF(B$5:K$60,\"<=22.6\")-SUM(P$15:P21)","v":0},{"$f":"AVERAGE(16,22.6)","v":19.3},{"$f":"IF(A39<>\"\",100*SUM(P$15:P22)/P$36,\"\")","v":{"$error":"#DIV/0!"}},{"$error":"#DIV/0!"},{"$error":"#DIV/0!"},{"$error":"#DIV/0!"},-4.5,null,null,null,null,null,null,null,null,null,null,null,null,null,null,42]
[38,null,null,null,null,null,null,null,null,null,null,null,null,"Coarse Gravel","22.6 - 32",{"$f":"COUNTIF(B$5:K$60,\"<=32\")-SUM(P$15:P22)","v":0},{"$f":"AVERAGE(22.6,32)","v":27.3},{"$f":"IF(A39<>\"\",100*SUM(P$15:P23)/P$36,\"\")","v":{"$error":"#DIV/0!"}},{"$error":"#DIV/0!"},{"$error":"#DIV/0!"},{"$error":"#DIV/0!"},-5,null,null,null,null,null,null,null,null,null,null,null,null,null,null,44]
[40,null,null,null,null,null,null,null,null,null,null," "," ","VC Gravel","32 - 45.3",{"$f":"COUNTIF(B$5:K$60,\"<=45.3\")-SUM(P$15:P23)","v":0},{"$f":"AVERAGE(32,45.3)","v":38.65},{"$f":"IF(A39<>\"\",100*SUM(P$15:P24)/P$36,\"\")","v":{"$error":"#DIV/0!"}},{"$error":"#DIV/0!"},{"$error":"#DIV/0!"},{"$error":"#DIV/0!"},-5.5,null,null,null,null,null,null,null,null,null,null,null,null,null,null,46]
[42,null,null,null,null,null,null,null,null,null,null,null,null,"VC Gravel","45.3 - 64",{"$f":"COUNTIF(B$5:K$60,\"<=64\")-SUM(P$15:P24)","v":0},{"$f":"AVERAGE(45.3,64)","v":54.65},{"$f":"IF(A39<>\"\",100*SUM(P$15:P25)/P$36,\"\")","v":{"$error":"#DIV/0!"}},{"$error":"#DIV/0!"},{"$error":"#DIV/0!"},{"$error":"#DIV/0!"},-6,null,null,null,null,null,null,null,null,null,null,null,null,null,null,48]
[44,null,null,null,null,null,null,null,null,null,null," "," ","Sm. Cobble","64 - 90.5",{"$f":"COUNTIF(B$5:K$60,\"<=90.5\")-SUM(P$15:P25)","v":0},{"$f":"AVERAGE(64,90.5)","v":77.25},{"$f":"IF(A39<>\"\",100*SUM(P$15:P26)/P$36,\"\")","v":{"$error":"#DIV/0!"}},{"$error":"#DIV/0!"},{"$error":"#DIV/0!"},{"$error":"#DIV/0!"},-6.5,null,null,null,null,null,null,null,null,null,null,null,null,null,null,50]
[46,null,null,null,null,null,null,null,null,null,null,null,null,"Sm. Cobble","90.5 - 128",{"$f":"COUNTIF(B$5:K$60,\"<=128\")-SUM(P$15:P26)","v":0},{"$f":"AVERAGE(90.5,128)","v":109.25},{"$f":"IF(A39<>\"\",100*SUM(P$15:P27)/P$36,\"\")","v":{"$error":"#DIV/0!"}},{"$error":"#DIV/0!"},{"$error":"#DIV/0!"},{"$error":"#DIV/0!"},-7,null,null,null,null,null,null,null,null,null,null,null,null,null,null,52]
[48,null,null,null,null,null,null,null,null,null,null," "," ","Lg. Cobble","128 - 181",{"$f":"COUNTIF(B$5:K$60,\"<=181\")-SUM(P$15:P27)","v":0},{"$f":"AVERAGE(128,181)","v":154.5},{"$f":"IF(A39<>\"\",100*SUM(P$15:P28)/P$36,\"\")","v":{"$error":"#DIV/0!"}},{"$error":"#DIV/0!"},{"$error":"#DIV/0!"},{"$error":"#DIV/0!"},-7.5,null,null,null,null,null,null,null,null,null,null,null,null,null,null,54]
[50,null,null,null,null,null,null,null,null,null,null,null,null,"Lg. Cobble","181 - 256",{"$f":"COUNTIF(B$5:K$60,\"<=256\")-SUM(P$15:P28)","v":0},{"$f":"AVERAGE(181,256)","v":218.5},{"$f":"IF(A39<>\"\",100*SUM(P$15:P29)/P$36,\"\")","v":{"$error":"#DIV/0!"}},{"$error":"#DIV/0!"},{"$error":"#DIV/0!"},{"$error":"#DIV/0!"},-8,null,null,null,null,null,null,null,null,null,null,null,null,null,null,56]
[52,null,null,null,null,null,null,null,null,null,null," "," ","Sm. Boulder","256 - 362",{"$f":"COUNTIF(B$5:K$60,\"<=362\")-SUM(P$15:P29)","v":0},{"$f":"AVERAGE(256,362)","v":309},{"$f":"IF(A39<>\"\",100*SUM(P$15:P30)/P$36,\"\")","v":{"$error":"#DIV/0!"}},{"$error":"#DIV/0!"},{"$error":"#DIV/0!"},{"$error":"#DIV/0!"},-8.5,null,null,null,null,null,null,null,null,null,null,null,null,null,null,58]
[54,null,null,null,null,null,null,null,null,null,null,null,null,"Sm. Boulder","362 - 512",{"$f":"COUNTIF(B$5:K$60,\"<=512\")-SUM(P$15:P30)","v":0},{"$f":"AVERAGE(362,512)","v":437},{"$f":"IF(A39<>\"\",100*SUM(P$15:P31)/P$36,\"\")","v":{"$error":"#DIV/0!"}},null,{"$f":"IF($R31>50,IF($R30<50,($R31-16)/($R31-$R30)*($Q31-$Q30)+$Q30,\"\"),\"\")","v":{"$error":"#DIV/0!"}},null,-9,null,null,null,null,null,null,null,null,null,null,null,null,null,null,60]
[56,null,null,null,null,null,null,null,null,null,null," "," ","Med. Boulder","512 - 1024",{"$f":"COUNTIF(B$5:K$60,\"<=1024\")-SUM(P$15:P31)","v":0},{"$f":"AVERAGE(512,1024)","v":768},{"$f":"IF(A39<>\"\",100*SUM(P$15:P32)/P$36,\"\")","v":{"$error":"#DIV/0!"}},null,null,null,-9.5]
[58,null,null,null,null,null,null,null,null,null,null,null,null,"Lg. Boulder","1024 - 2048",{"$f":"COUNTIF(B$5:K$60,\"<=2048\")-SUM(P$15:P32)","v":0},{"$f":"AVERAGE(1024,2048)","v":1536},{"$f":"IF(A39<>\"\",100*SUM(P$15:P33)/P$36,\"\")","v":{"$error":"#DIV/0!"}},null,null,null,-10]
[60,null,null,null,null,null,null,null,null,null,null," "," ","VL Boulder","2048 - 4096",{"$f":"COUNTIF(B$5:K$60,\"<=4096\")-SUM(P$15:P33)","v":0},{"$f":"AVERAGE(2048,4086)","v":3067},{"$f":"IF(A39<>\"\",100*SUM(P$15:P34)/P$36,\"\")","v":{"$error":"#DIV/0!"}},null,null,null,-11]
[62,null,null,null,null,null,null,null,null,null,null,null,null,"Bedrock",">4096 ",{"$f":"COUNTIF(B$5:K$60,\">4096\")","v":0},5000,{"$f":"IF(A39<>\"\",100*SUM(P$15:P35)/P$36,\"\")","v":{"$error":"#DIV/0!"}},null,null,null,-12,null,null,null,null,"φ"]
[64,null,null,null,null,null,null,null,null,null,null," "," ",null,"TOTAL",{"$f":"SUM(P15:P35)","v":0},null,null,null,"Particle size for which 30% of particles are smaller:",null,null,null,null,null,2.4,{"$f":"-LOG(Z36,2)","v":-1.2630344058337937}]
[66,null,null,null,null,null,null,null,null,null,null,null,null,"Drop-down lists","Particle size"]
[68,null,null,null,null,null,null,null,null,null,null," "," ","Sand",2]
[70,null,null,null,null,null,null,null,null,null,null," "," ","VF Gravel",2.8]
[72,null,null,null,null,null,null,null,null,null,null," "," ","VF Gravel",4]
[74,null,null,null,null,null,null,null,null,null,null," "," ","Fine Gravel",5.6]
[76,null,null,null,null,null,null,null,null,null,null," "," ","Fine Gravel",8]
[78,null,null,null,null,null,null,null,null,null,null," "," ","Med. Gravel",11]
[80,null,null,null,null,null,null,null,null,null,null," "," ","Med. Gravel",16]
[82,null,null,null,null,null,null,null,null,null,null," "," ","Coarse Gravel",22.6]
[84,null,null,null,null,null,null,null,null,null,null," "," ","Coarse Gravel",32]
[86,null,null,null,null,null,null,null,null,null,null," "," ","VC Gravel",45]
[88,null,null,null,null,null,null,null,null,null,null," "," ","VC Gravel",64]
[90,null,null,null,null,null,null,null,null,null,null," "," ","Sm. Cobble",90]
[92,null,null,null,null,null,null,null,null,null,null," "," ","Sm. Cobble",128]
[94,null,null,null,null,null,null,null,null,null,null," "," ","Lg. Cobble",180]
[96,null,null,null,null,null,null,null,null,null,null," "," ","Lg. Cobble",256]
[98,null,null,null,null,null,null,null,null,null,null," "," ","Sm. Boulder",362]
[100,null,null,null,null,null,null,null,null,null,null," "," ","Sm. Boulder",512]
[102,null,null,null,null,null,null,null,null,null,null," "," ","Med. Boulder",1024]
[104,null,null,null,null,null,null,null,null,null,null," "," ","Lg. Boulder",2048]
[106,null,null,null,null,null,null,null,null,null,null," "," ","VL Boulder",4096]
[108,null,null,null,null,null,null,null,null,null,null," "," ","bedrock",8000]
[110,null,null,null,null,null,null,null,null,null,null," "," ",null,"reset"]
[112,null,null,null,null,null,null,null,null,null,null," "," "]
[null,null,null,null,null,null,null,null,null,null,null,null,"*Estimate particle sizes for those that cannot be measured.  For the relevant row, write down the pebble #'s (e.g.: 8, 9, 10) that were estimated.  It may be possible to differentiate sand, fine gravel, coarse gravel,   fine cobble, coarse cobble, boulder, and bedrock by a combination of visual clues, sound, and feel.   Those size classes are included in the drop-down lists"]

{"sheet":"Thal","index":5,"n_rows":504,"n_cols":23,"rows_kept":504,"cut":false,"hidden":false,"merged":[]}
["RESIDUAL POOL DEPTH AND POOL FREQUENCY"]
[null,null,"Combo Boxes (at left):  Select a value from the drop down list and then select the appropriate cell in the column below."]
["All Measured Pools and Riffles",null,null,null,null,null,null,null,null,null,null,null,"Excluding Pools less than .06 m deep (95% conf interval residual depth)",null,null,null,null,null,null,null,null,"LISTS"]
["Distance between measurements  ","Thalweg depth"," Riffle Crest (r) or Pool Bottom (p)","Running Distance","Riffle Crest depths","Pool depths","Pool Length","Riffle Length","Total Distance:",null,{"$f":"MAX(D:D)","v":0},"Meters","Riffle Crest depths","Pool depths","Pool Length","Riffle Length","Total Distance:",null,{"$f":"MAX(D:D)","v":0},"Meters",null,"Distance (m)","Depth (m)"]
[null,null,"r",{"$f":"A5","v":0},{"$f":"IF($B5=\"\",\"\",IF($C5=\"r\",$B5,\"\"))","v":""},{"$f":"IF($B5=\"\",\"\",IF($C5=\"p\",$B5,\"\"))","v":""},{"$f":"IF($B5=\"\",\"\",IF($C5=\"p\",($A5)*2,\"\"))","v":""},null,"Percent Pools:",null,{"$f":"IF(COUNT(G5:G280)>COUNT(H5:H280),SUM(G5:G280)/(K4+AVERAGE(H5:H280)),SUM(G5:G280)/(K4))","v":{"$error":"#DIV/0!"}},null,{"$f":"IF(B6-B5<0.06,\"\",IF($B5=\"\",\"\",IF($C5=\"r\",$B5,\"\")))","v":""},{"$f":"IF(B6-B5<0.06,\"\",IF($B5=\"\",\"\",IF($C5=\"p\",$B5,\"\")))","v":""},{"$f":"IF($B5=\"\",\"\",IF($C5=\"p\",($A5)*2,\"\"))","v":""},null,"Percent Pools:",null,{"$f":"IF(COUNT(O5:O280)>COUNT(P5:P280),SUM(O5:O280)/(S4+AVERAGE(P5:P280)),SUM(O5:O280)/(S4))","v":{"$error":"#DIV/0!"}},null,null,0.1,0.01]
[null,null,"p",{"$f":"A6+D5","v":0},{"$f":"IF(B6=\"\",\"\",IF(C6=\"r\",B6,\"\"))","v":""},{"$f":"IF(B6=\"\",\"\",IF(C6=\"p\",B6,\"\"))","v":""},{"$f":"IF(B6=\"\",\"\",IF(C6=\"p\",(A6)*2,\"\"))","v":""},{"$f":"IF($B7=\"\",\"\",IF($C6=\"p\",($A7)-0.5*$A6,\"\"))","v":""},"Number Pools:",null,{"$f":"COUNT(F5:F280)","v":0},null,{"$f":"IF(B7-B6<0.06,\"\",IF($B6=\"\",\"\",IF($C6=\"r\",$B6,\"\")))","v":""},{"$f":"IF(B6-B5<0.06,\"\",IF($B6=\"\",\"\",IF($C6=\"p\",$B6,\"\")))","v":""},{"$f":"IF(B6-B5<0.06,\"\",IF($B6=\"\",\"\",IF($C6=\"p\",($A6)*2,\"\")))","v":""},{"$f":"IF(B6-B5<0.06,\"\",IF($B7=\"\",\"\",IF($C6=\"p\",($A7)-0.5*$A6,\"\")))","v":""},"Number Pools:",null,{"$f":"COUNT(N5:N280)","v":0},null,null,0.2,0.02]
[null,null,"r",0,{"$f":"IF(B7=\"\",\"\",IF(C7=\"r\",B7,\"\"))","v":""},{"$f":"IF(B7=\"\",\"\",IF(C7=\"p\",B7,\"\"))","v":""},{"$f":"IF(B7=\"\",\"\",IF(C7=\"p\",(A7)*2,\"\"))","v":""},{"$f":"IF($B8=\"\",\"\",IF($C7=\"p\",($A8)-0.5*$A7,\"\"))","v":""},"Pool Frequency:",null,{"$f":"K6/MAX(D75:D348)*1609.344","v":{"$error":"#DIV/0!"}},"Per Mile","",{"$f":"IF(B7-B6<0.06,\"\",IF($B7=\"\",\"\",IF($C7=\"p\",$B7,\"\")))","v":""},{"$f":"IF(B7-B6<0.06,\"\",IF($B7=\"\",\"\",IF($C7=\"p\",($A7)*2,\"\")))","v":""},{"$f":"IF(B7-B6<0.06,\"\",IF($B8=\"\",\"\",IF($C7=\"p\",($A8)-0.5*$A7,\"\")))","v":""},"Pool Frequency:",null,{"$f":"S6/MAX(D75:D348)*1609.344","v":{"$error":"#DIV/0!"}},"Per Mile",null,0.3,0.03]
[null,null,"p",0,{"$f":"IF(B8=\"\",\"\",IF(C8=\"r\",B8,\"\"))","v":""},{"$f":"IF(B8=\"\",\"\",IF(C8=\"p\",B8,\"\"))","v":""},{"$f":"IF(B8=\"\",\"\",IF(C8=\"p\",IF(A8>A7,A8,(A8)*2),\"\"))","v":""},"","Residual Pool Depth:",null,{"$f":"AVERAGE(F5:F280)-AVERAGE(E5:E280)","v":{"$error":"#DIV/0!"}},"Meters","","","","","Residual Pool Depth:",null,{"$f":"AVERAGE(N5:N280)-AVERAGE(M5:M280)","v":{"$error":"#DIV/0!"}},"Meters",null,0.4,0.04]
[null,null,"r",0,{"$f":"IF(B9=\"\",\"\",IF(C9=\"r\",B9,\"\"))","v":""},{"$f":"IF(B9=\"\",\"\",IF(C9=\"p\",B9,\"\"))","v":""},{"$f":"IF(B9=\"\",\"\",IF(C9=\"p\",IF(A9>A8,A9,(A9)*2),\"\"))","v":""},"",null,null,null,null,"","","","",null,null,null,null,null,0.5,0.05]
[null,null,"p",0,"","","","","ALL DEPTHS",null,null,null,"","","","","ALL DEPTHS(exclude pools <.06)",null,null,null,null,0.6,0.06]
[null,null,"r",0,"","","","","MEAN",{"$f":"AVERAGE(E$5:F$280)","v":{"$error":"#DIV/0!"}},null,null,"","","","","MEAN",{"$f":"AVERAGE(M$5:N$280)","v":{"$error":"#DIV/0!"}},null,null,null,0.7,7.0000000000000007E-2]
[null,null,"p",0,"","","","","ST DEV",{"$f":"STDEV(E$5:F$280)","v":{"$error":"#DIV/0!"}},null,null,"","","","","ST DEV",{"$f":"STDEV(M$5:N$280)","v":{"$error":"#DIV/0!"}},null,null,null,0.8,0.08]
[null,null,"r",0,"","","","","COUNT",{"$f":"COUNT(E$5:F$280)","v":0},null,null,"","","","","COUNT",{"$f":"COUNT(M$5:N$280)","v":0},null,null,null,0.9,0.09]
[null,null,"p",0,"","","","","CI",{"$f":"CONFIDENCE(0.05,J12,J13)","v":{"$error":"#DIV/0!"}},null,null,"","","","","CI",{"$f":"CONFIDENCE(0.05,R12,R13)","v":{"$error":"#DIV/0!"}},null,null,null,1,0.1]
[null,null,"r",0,"","","","",null,null,null,null,"","","","",null,null,null,null,null,1.1000000000000001,0.11]
[null,null,"p",0,"","","","",null,null,null,null,"","","","",null,null,null,null,null,1.2,0.12]
[null,null,"r",0,"","","","",null,null,null,null,"","","","",null,null,null,null,null,1.3,0.13]
[null,null,"p",0,"","","","",null,null,null,null,"","","","",null,null,null,null,null,1.4,0.14000000000000001]
[null,null,"r",0,"","","","",null,null,null,null,"","","","",null,null,null,null,null,1.5,0.15]
[null,null,"p",0,"","","","",null,null,null,null,"","","","",null,null,null,null,null,1.6,0.16]
[null,null,"r",0,"","","","",null,null,null,null,"","","","",null,null,null,null,null,1.7,0.17]
[null,null,"p",0,"","","","",null,null,null,null,"","","","",null,null,null,null,null,1.8,0.18]
[null,null,"r",0,"","","","",null,null,null,null,"","","","",null,null,null,null,null,1.9,0.19]
[null,null,"p",0,"","","","",null,null,null,null,"","","","",null,null,null,null,null,2,0.2]
[null,null,"r",0,"","","","",null,null,null,null,"","","","",null,null,null,null,null,2.1,0.21]
[null,null,"p",0,"","","","",null,null,null,null,"","","","",null,null,null,null,null,2.2000000000000002,0.22]
[null,null,"r",0,"","","","",null,null,null,null,"","","","",null,null,null,null,null,2.2999999999999998,0.23]
[null,null,"p",0,"","","","",null,null,null,null,"","","","",null,null,null,null,null,2.4,0.24]
[null,null,"r",0,"","","","",null,null,null,null,"","","","",null,null,null,null,null,2.5,0.25]
[null,null,"p",0,"","","","",null,null,null,null,"","","","",null,null,null,null,null,2.6,0.26]
[null,null,"r",0,"","","","",null,null,null,null,"","","","",null,null,null,null,null,2.7,0.27]
[null,null,"p",0,"","","","",null,null,null,null,"","","","",null,null,null,null,null,2.8,0.28000000000000003]
[null,null,"r",0,"","","","",null,null,null,null,"","","","",null,null,null,null,null,2.9,0.28999999999999998]
[null,null,"p",0,"","","","",null,null,null,null,"","","","",null,null,null,null,null,3,0.3]
[null,null,"r",0,"","","","",null,null,null,null,"","","","",null,null,null,null,null,3.1,0.31]
[null,null,"p",0,"","","","",null,null,null,null,"","","","",null,null,null,null,null,3.2,0.32]
[null,null,"r",0,"","","","",null,null,null,null,"","","","",null,null,null,null,null,3.3,0.33]
[null,null,"p",0,"","","","",null,null,null,null,"","","","",null,null,null,null,null,3.4,0.34]
[null,null,"r",0,"","","","",null,null,null,null,"","","","",null,null,null,null,null,3.5,0.35]
[null,null,"p",0,"","","","",null,null,null,null,"","","","",null,null,null,null,null,3.6,0.36]
[null,null,"r",0,"","","","",null,null,null,null,"","","","",null,null,null,null,null,3.7,0.37]
[null,null,"p",0,"","","","",null,null,null,null,"","","","",null,null,null,null,null,3.8,0.38]
[null,null,"r",0,"","","","",null,null,null,null,"","","","",null,null,null,null,null,3.9,0.39]
[null,null,"p",0,"","","","",null,null,null,null,"","","","",null,null,null,null,null,4,0.4]
[null,null,"r",0,"","","","",null,null,null,null,"","","","",null,null,null,null,null,4.0999999999999996,0.41]
[null,null,"p",0,"","","","",null,null,null,null,"","","","",null,null,null,null,null,4.2,0.42]
[null,null,"r",0,"","","","",null,null,null,null,"","","","",null,null,null,null,null,4.3,0.43]
[null,null,"p",0,"","","","",null,null,null,null,"","","","",null,null,null,null,null,4.4000000000000004,0.44]
[null,null,"r",0,"","","","",null,null,null,null,"","","","",null,null,null,null,null,4.5,0.45]
[null,null,"p",0,"","","","",null,null,null,null,"","","","",null,null,null,null,null,4.5999999999999996,0.46]
[null,null,"r",0,"","","","",null,null,null,null,"","","","",null,null,null,null,null,4.7,0.47]
[null,null,"p",0,"","","","",null,null,null,null,"","","","",null,null,null,null,null,4.8,0.48]
[null,null,"r",0,"","","","",null,null,null,null,"","","","",null,null,null,null,null,4.9000000000000004,0.49]
[null,null,"p",0,"","","","",null,null,null,null,"","","","",null,null,null,null,null,5,0.5]
[null,null,"r",0,"","","","",null,null,null,null,"","","","",null,null,null,null,null,5.0999999999999996,0.51]
[null,null,"p",0,"","","","",null,null,null,null,"","","","",null,null,null,null,null,5.2,0.52]
[null,null,"r",0,"","","","",null,null,null,null,"","","","",null,null,null,null,null,5.3,0.53]
[null,null,"p",0,"","","","",null,null,null,null,"","","","",null,null,null,null,null,5.4,0.54]
[null,null,"r",0,"","","","",null,null,null,null,"","","","",null,null,null,null,null,5.5,0.55000000000000004]
[null,null,"p",0,"","","","",null,null,null,null,"","","","",null,null,null,null,null,5.6,0.56000000000000005]
[null,null,"r",0,"","","","",null,null,null,null,"","","","",null,null,null,null,null,5.7,0.56999999999999995]
[null,null,"p",0,"","","","",null,null,null,null,"","","","",null,null,null,null,null,5.8,0.57999999999999996]
[null,null,"r",0,"","","","",null,null,null,null,"","","","",null,null,null,null,null,5.9,0.59]
[null,null,"p",0,"","","","",null,null,null,null,"","","","",null,null,null,null,null,6,0.6]
[null,null,"r",0,"","","","",null,null,null,null,"","","","",null,null,null,null,null,6.1,0.61]
[null,null,"p",0,"","","","",null,null,null,null,"","","","",null,null,null,null,null,6.2,0.62]
[null,null,"r",0,"","","","",null,null,null,null,"","","","",null,null,null,null,null,6.3,0.63]
[null,null,"p",0,"","","","",null,null,null,null,"","","","",null,null,null,null,null,6.4,0.64]
[null,null,"r",0,"","","","",null,null,null,null,"","","","",null,null,null,null,null,6.5,0.65]
[null,null,"p",{"$f":"A70+D69","v":0},"","","","",null,null,null,null,{"$f":"IF(B71-B70<0.06,\"\",IF($B70=\"\",\"\",IF($C70=\"r\",$B70,\"\")))","v":""},"","","",null,null,null,null,null,6.6,0.66]
[null,null,"r",0,"","","",{"$f":"IF($B72=\"\",\"\",IF($C71=\"p\",($A72)-0.5*$A71,\"\"))","v":""},null,null,null,null,"",{"$f":"IF(B71-B70<0.06,\"\",IF($B71=\"\",\"\",IF($C71=\"p\",$B71,\"\")))","v":""},{"$f":"IF(B71-B70<0.06,\"\",IF($B71=\"\",\"\",IF($C71=\"p\",($A71)*2,\"\")))","v":""},{"$f":"IF(B71-B70<0.06,\"\",IF($B72=\"\",\"\",IF($C71=\"p\",($A72)-0.5*$A71,\"\")))","v":""},null,null,null,null,null,6.7,0.67]
[null,null,"p",0,"","","","",null,null,null,null,"","","","",null,null,null,null,null,6.8,0.68]
[null,null,"r",0,{"$f":"IF(B73=\"\",\"\",IF(C73=\"r\",B73,\"\"))","v":""},{"$f":"IF(B73=\"\",\"\",IF(C73=\"p\",B73,\"\"))","v":""},{"$f":"IF(B73=\"\",\"\",IF(C73=\"p\",IF(A73>A72,A73,(A73)*2),\"\"))","v":""},"",null,null,null,null,"","","","",null,null,null,null,null,6.9,0.69]
[null,null,"p",0,"","","","",null,null,null,null,"","","","",null,null,null,null,null,7,0.7]
[null,null,"r",0,"","","","",null,null,null,null,"","","","",null,null,null,null,null,7.1,0.71]
[null,null,"p",0,"","","","",null,null,null,null,"","","","",null,null,null,null,null,7.2,0.72]
[null,null,"r",0,"","","","",null,null,null,null,"","","","",null,null,null,null,null,7.3,0.73]
[null,null,"p",0,"","","","",null,null,null,null,"","","","",null,null,null,null,null,7.4,0.74]
[null,null,"r",0,"","","","",null,null,null,null,"","","","",null,null,null,null,null,7.5,0.75]
[null,null,"p",0,"","","","",null,null,null,null,"","","","",null,null,null,null,null,7.6,0.76]
[null,null,"r",0,"","","","",null,null,null,null,"","","","",null,null,null,null,null,7.7,0.77]
[null,null,"p",0,"","","","",null,null,null,null,"","","","",null,null,null,null,null,7.8,0.78]
[null,null,"r",0,"","","","",null,null,null,null,"","","","",null,null,null,null,null,7.9,0.79]
[null,null,"p",0,"","","","",null,null,null,null,"","","","",null,null,null,null,null,8,0.8]
[null,null,"r",0,"","","","",null,null,null,null,"","","","",null,null,null,null,null,8.1,0.81]
[null,null,"p",0,"","","","",null,null,null,null,"","","","",null,null,null,null,null,8.1999999999999993,0.82]
[null,null,"r",0,"","","","",null,null,null,null,"","","","",null,null,null,null,null,8.3000000000000007,0.83]
[null,null,"p",0,"","","","",null,null,null,null,"","","","",null,null,null,null,null,8.4,0.84]
[null,null,"r",0,"","","","",null,null,null,null,"","","","",null,null,null,null,null,8.5,0.85]
[null,null,"p",0,"","","","",null,null,null,null,"","","","",null,null,null,null,null,8.6,0.86]
[null,null,"r",0,"","","","",null,null,null,null,"","","","",null,null,null,null,null,8.6999999999999993,0.87]
[null,null,"p",0,"","","","",null,null,null,null,"","","","",null,null,null,null,null,8.8000000000000007,0.88]
[null,null,"r",0,"","","","",null,null,null,null,"","","","",null,null,null,null,null,8.9,0.89]
[null,null,"p",0,"","","","",null,null,null,null,"","","","",null,null,null,null,null,9,0.9]
[null,null,"r",0,"","","","",null,null,null,null,"","","","",null,null,null,null,null,9.1,0.91]
[null,null,"p",0,"","","","",null,null,null,null,"","","","",null,null,null,null,null,9.1999999999999993,0.92]
[null,null,"r",0,"","","","",null,null,null,null,"","","","",null,null,null,null,null,9.3000000000000007,0.93]
[null,null,"p",0,"","","","",null,null,null,null,"","","","",null,null,null,null,null,9.4,0.94]
[null,null,"r",0,"","","","",null,null,null,null,"","","","",null,null,null,null,null,9.5,0.95]
[null,null,"p",0,"","","","",null,null,null,null,"","","","",null,null,null,null,null,9.6,0.96]
[null,null,"r",0,"","","","",null,null,null,null,"","","","",null,null,null,null,null,9.6999999999999993,0.97]
[null,null,"p",0,"","","","",null,null,null,null,"","","","",null,null,null,null,null,9.8000000000000007,0.98]
[null,null,"r",0,"","","","",null,null,null,null,"","","","",null,null,null,null,null,9.9,0.99]
[null,null,"p",0,"","","","",null,null,null,null,"","","","",null,null,null,null,null,10,1]
[null,null,"r",0,"","","","",null,null,null,null,"","","","",null,null,null,null,null,10.1,1.01]
[null,null,"p",0,"","","","",null,null,null,null,"","","","",null,null,null,null,null,10.199999999999999,1.02]
[null,null,"r",0,"","","","",null,null,null,null,"","","","",null,null,null,null,null,10.3,1.03]
[null,null,"p",0,"","","","",null,null,null,null,"","","","",null,null,null,null,null,10.4,1.04]
[null,null,"r",0,"","","","",null,null,null,null,"","","","",null,null,null,null,null,10.5,1.05]
[null,null,"p",0,"","","","",null,null,null,null,"","","","",null,null,null,null,null,10.6,1.06]
[null,null,"r",0,"","","","",null,null,null,null,"","","","",null,null,null,null,null,10.7,1.07]
[null,null,"p",0,"","","","",null,null,null,null,"","","","",null,null,null,null,null,10.8,1.08]
[null,null,"r",0,"","","","",null,null,null,null,"","","","",null,null,null,null,null,10.9,1.0900000000000001]
[null,null,"p",0,"","","","",null,null,null,null,"","","","",null,null,null,null,null,11,1.1000000000000001]
[null,null,"r",0,"","","","",null,null,null,null,"","","","",null,null,null,null,null,11.1,1.1100000000000001]
[null,null,"p",0,"","","","",null,null,null,null,"","","","",null,null,null,null,null,11.2,1.1200000000000001]
[null,null,"r",0,"","","","",null,null,null,null,"","","","",null,null,null,null,null,11.3,1.1299999999999999]
[null,null,"p",0,"","","","",null,null,null,null,"","","","",null,null,null,null,null,11.4,1.1399999999999999]
[null,null,"r",0,"","","","",null,null,null,null,"","","","",null,null,null,null,null,11.5,1.1499999999999999]
[null,null,"p",0,"","","","",null,null,null,null,"","","","",null,null,null,null,null,11.6,1.1599999999999999]
[null,null,"r",0,"","","","",null,null,null,null,"","","","",null,null,null,null,null,11.7,1.17]
[null,null,"p",0,"","","","",null,null,null,null,"","","","",null,null,null,null,null,11.8,1.18]
[null,null,"r",0,"","","","",null,null,null,null,"","","","",null,null,null,null,null,11.9,1.19]
[null,null,"p",0,"","","","",null,null,null,null,"","","","",null,null,null,null,null,12,1.2]
[null,null,"r",0,"","","","",null,null,null,null,"","","","",null,null,null,null,null,12.1,1.21]
[null,null,"p",0,"","","","",null,null,null,null,"","","","",null,null,null,null,null,12.2,1.22]
[null,null,"r",0,"","","","",null,null,null,null,"","","","",null,null,null,null,null,12.3,1.23]
[null,null,"p",0,"","","","",null,null,null,null,"","","","",null,null,null,null,null,12.4,1.24]
[null,null,"r",0,"","","","",null,null,null,null,"","","","",null,null,null,null,null,12.5,1.25]
[null,null,"p",0,"","","","",null,null,null,null,"","","","",null,null,null,null,null,12.6,1.26]
[null,null,"r",0,"","","","",null,null,null,null,"","","","",null,null,null,null,null,12.7,1.27]
[null,null,"p",0,"","","","",null,null,null,null,"","","","",null,null,null,null,null,12.8,1.28]
[null,null,"r",0,"","","","",null,null,null,null,"","","","",null,null,null,null,null,12.9,1.29]
[null,null,"p",{"$f":"A134+D133","v":0},"","","","",null,null,null,null,{"$f":"IF(B135-B134<0.06,\"\",IF($B134=\"\",\"\",IF($C134=\"r\",$B134,\"\")))","v":""},"","","",null,null,null,null,null,13,1.3]
[null,null,"r",0,"","","",{"$f":"IF($B136=\"\",\"\",IF($C135=\"p\",($A136)-0.5*$A135,\"\"))","v":""},null,null,null,null,"",{"$f":"IF(B135-B134<0.06,\"\",IF($B135=\"\",\"\",IF($C135=\"p\",$B135,\"\")))","v":""},{"$f":"IF(B135-B134<0.06,\"\",IF($B135=\"\",\"\",IF($C135=\"p\",($A135)*2,\"\")))","v":""},{"$f":"IF(B135-B134<0.06,\"\",IF($B136=\"\",\"\",IF($C135=\"p\",($A136)-0.5*$A135,\"\")))","v":""},null,null,null,null,null,13.1,1.31]
[null,null,"p",0,"","","","",null,null,null,null,"","","","",null,null,null,null,null,13.2,1.32]
[null,null,"r",0,{"$f":"IF(B137=\"\",\"\",IF(C137=\"r\",B137,\"\"))","v":""},{"$f":"IF(B137=\"\",\"\",IF(C137=\"p\",B137,\"\"))","v":""},{"$f":"IF(B137=\"\",\"\",IF(C137=\"p\",IF(A137>A136,A137,(A137)*2),\"\"))","v":""},"",null,null,null,null,"","","","",null,null,null,null,null,13.3,1.33]
[null,null,"p",0,"","","","",null,null,null,null,"","","","",null,null,null,null,null,13.4,1.34]
[null,null,"r",0,"","","","",null,null,null,null,"","","","",null,null,null,null,null,13.5,1.35]
[null,null,"p",0,"","","","",null,null,null,null,"","","","",null,null,null,null,null,13.6,1.36]
[null,null,"r",0,"","","","",null,null,null,null,"","","","",null,null,null,null,null,13.7,1.37]
[null,null,"p",0,"","","","",null,null,null,null,"","","","",null,null,null,null,null,13.8,1.38]
[null,null,"r",0,"","","","",null,null,null,null,"","","","",null,null,null,null,null,13.9,1.39]
[null,null,"p",0,"","","","",null,null,null,null,"","","","",null,null,null,null,null,14,1.4]
[null,null,"r",0,"","","","",null,null,null,null,"","","","",null,null,null,null,null,14.1,1.41]
[null,null,"p",0,"","","","",null,null,null,null,"","","","",null,null,null,null,null,14.2,1.42]
[null,null,"r",0,"","","","",null,null,null,null,"","","","",null,null,null,null,null,14.3,1.43]
[null,null,"p",0,"","","","",null,null,null,null,"","","","",null,null,null,null,null,14.4,1.44]
[null,null,"r",0,"","","","",null,null,null,null,"","","","",null,null,null,null,null,14.5,1.45]
[null,null,"p",0,"","","","",null,null,null,null,"","","","",null,null,null,null,null,14.6,1.46]
[null,null,"r",0,"","","","",null,null,null,null,"","","","",null,null,null,null,null,14.7,1.47]
[null,null,"p",0,"","","","",null,null,null,null,"","","","",null,null,null,null,null,14.8,1.48]
[null,null,"r",0,"","","","",null,null,null,null,"","","","",null,null,null,null,null,14.9,1.49]
[null,null,"p",0,"","","","",null,null,null,null,"","","","",null,null,null,null,null,15,1.5]
[null,null,"r",0,"","","","",null,null,null,null,"","","","",null,null,null,null,null,15.1,1.51]
[null,null,"p",0,"","","","",null,null,null,null,"","","","",null,null,null,null,null,15.2,1.52]
[null,null,"r",0,"","","","",null,null,null,null,"","","","",null,null,null,null,null,15.3,1.53]
[null,null,"p",0,"","","","",null,null,null,null,"","","","",null,null,null,null,null,15.4,1.54]
[null,null,"r",0,"","","","",null,null,null,null,"","","","",null,null,null,null,null,15.5,1.55]
[null,null,"p",0,"","","","",null,null,null,null,"","","","",null,null,null,null,null,15.6,1.56]
[null,null,"r",0,"","","","",null,null,null,null,"","","","",null,null,null,null,null,15.7,1.57]
[null,null,"p",0,"","","","",null,null,null,null,"","","","",null,null,null,null,null,15.8,1.58]
[null,null,"r",0,"","","","",null,null,null,null,"","","","",null,null,null,null,null,15.9,1.59]
[null,null,"p",0,"","","","",null,null,null,null,"","","","",null,null,null,null,null,16,1.6]
[null,null,"r",0,"","","","",null,null,null,null,"","","","",null,null,null,null,null,16.100000000000001,1.61]
[null,null,"p",0,"","","","",null,null,null,null,"","","","",null,null,null,null,null,16.2,1.62]
[null,null,"r",0,"","","","",null,null,null,null,"","","","",null,null,null,null,null,16.3,1.63]
[null,null,"p",0,"","","","",null,null,null,null,"","","","",null,null,null,null,null,16.399999999999999,1.64]
[null,null,"r",0,"","","","",null,null,null,null,"","","","",null,null,null,null,null,16.5,1.65]
[null,null,"p",0,"","","","",null,null,null,null,"","","","",null,null,null,null,null,16.600000000000001,1.66]
[null,null,"r",0,"","","","",null,null,null,null,"","","","",null,null,null,null,null,16.7,1.67]
[null,null,"p",0,"","","","",null,null,null,null,"","","","",null,null,null,null,null,16.8,1.68]
[null,null,"r",0,"","","","",null,null,null,null,"","","","",null,null,null,null,null,16.899999999999999,1.69]
[null,null,"p",0,"","","","",null,null,null,null,"","","","",null,null,null,null,null,17,1.7]
[null,null,"r",0,"","","","",null,null,null,null,"","","","",null,null,null,null,null,17.100000000000001,1.71]
[null,null,"p",0,"","","","",null,null,null,null,"","","","",null,null,null,null,null,17.2,1.72]
[null,null,"r",0,"","","","",null,null,null,null,"","","","",null,null,null,null,null,17.3,1.73]
[null,null,"p",0,"","","","",null,null,null,null,"","","","",null,null,null,null,null,17.399999999999999,1.74]
[null,null,"r",0,"","","","",null,null,null,null,"","","","",null,null,null,null,null,17.5,1.75]
[null,null,"p",0,"","","","",null,null,null,null,"","","","",null,null,null,null,null,17.600000000000001,1.76]
[null,null,"r",0,"","","","",null,null,null,null,"","","","",null,null,null,null,null,17.7,1.77]
[null,null,"p",0,"","","","",null,null,null,null,"","","","",null,null,null,null,null,17.8,1.78]
[null,null,"r",0,"","","","",null,null,null,null,"","","","",null,null,null,null,null,17.899999999999999,1.79]
[null,null,"p",0,"","","","",null,null,null,null,"","","","",null,null,null,null,null,18,1.8]
[null,null,"r",0,"","","","",null,null,null,null,"","","","",null,null,null,null,null,18.100000000000001,1.81]
[null,null,"p",0,"","","","",null,null,null,null,"","","","",null,null,null,null,null,18.2,1.82]
[null,null,"r",0,"","","","",null,null,null,null,"","","","",null,null,null,null,null,18.3,1.83]
[null,null,"p",0,"","","","",null,null,null,null,"","","","",null,null,null,null,null,18.399999999999999,1.84]
[null,null,"r",0,"","","","",null,null,null,null,"","","","",null,null,null,null,null,18.5,1.85]
[null,null,"p",0,"","","","",null,null,null,null,"","","","",null,null,null,null,null,18.600000000000001,1.86]
[null,null,"r",0,"","","","",null,null,null,null,"","","","",null,null,null,null,null,18.7,1.87]
[null,null,"p",0,"","","","",null,null,null,null,"","","","",null,null,null,null,null,18.8,1.88]
[null,null,"r",0,"","","","",null,null,null,null,"","","","",null,null,null,null,null,18.899999999999999,1.89]
[null,null,"p",0,"","","","",null,null,null,null,"","","","",null,null,null,null,null,19,1.9]
[null,null,"r",0,"","","","",null,null,null,null,"","","","",null,null,null,null,null,19.100000000000001,1.91]
[null,null,"p",0,"","","","",null,null,null,null,"","","","",null,null,null,null,null,19.2,1.92]
[null,null,"r",0,"","","","",null,null,null,null,"","","","",null,null,null,null,null,19.3,1.93]
[null,null,"p",{"$f":"A198+D197","v":0},"","","","",null,null,null,null,{"$f":"IF(B199-B198<0.06,\"\",IF($B198=\"\",\"\",IF($C198=\"r\",$B198,\"\")))","v":""},"","","",null,null,null,null,null,19.399999999999999,1.94]
[null,null,"r",0,"","","",{"$f":"IF($B200=\"\",\"\",IF($C199=\"p\",($A200)-0.5*$A199,\"\"))","v":""},null,null,null,null,"",{"$f":"IF(B199-B198<0.06,\"\",IF($B199=\"\",\"\",IF($C199=\"p\",$B199,\"\")))","v":""},{"$f":"IF(B199-B198<0.06,\"\",IF($B199=\"\",\"\",IF($C199=\"p\",($A199)*2,\"\")))","v":""},{"$f":"IF(B199-B198<0.06,\"\",IF($B200=\"\",\"\",IF($C199=\"p\",($A200)-0.5*$A199,\"\")))","v":""},null,null,null,null,null,19.5,1.95]
[null,null,"p",0,"","","","",null,null,null,null,"","","","",null,null,null,null,null,19.600000000000001,1.96]
[null,null,"r",0,{"$f":"IF(B201=\"\",\"\",IF(C201=\"r\",B201,\"\"))","v":""},{"$f":"IF(B201=\"\",\"\",IF(C201=\"p\",B201,\"\"))","v":""},{"$f":"IF(B201=\"\",\"\",IF(C201=\"p\",IF(A201>A200,A201,(A201)*2),\"\"))","v":""},"",null,null,null,null,"","","","",null,null,null,null,null,19.7,1.97]
[null,null,"p",0,"","","","",null,null,null,null,"","","","",null,null,null,null,null,19.8,1.98]
[null,null,"r",0,"","","","",null,null,null,null,"","","","",null,null,null,null,null,19.899999999999999,1.99]
[null,null,"p",0,"","","","",null,null,null,null,"","","","",null,null,null,null,null,20,2]
[null,null,"r",0,"","","","",null,null,null,null,"","","","",null,null,null,null,null,20.100000000000001,2.0099999999999998]
[null,null,"p",0,"","","","",null,null,null,null,"","","","",null,null,null,null,null,20.2,2.02]
[null,null,"r",0,"","","","",null,null,null,null,"","","","",null,null,null,null,null,20.3,2.0299999999999998]
[null,null,"p",0,"","","","",null,null,null,null,"","","","",null,null,null,null,null,20.399999999999999,2.04]
[null,null,"r",0,"","","","",null,null,null,null,"","","","",null,null,null,null,null,20.5,2.0499999999999998]
[null,null,"p",0,"","","","",null,null,null,null,"","","","",null,null,null,null,null,20.6,2.06]
[null,null,"r",0,"","","","",null,null,null,null,"","","","",null,null,null,null,null,20.7,2.0699999999999998]
[null,null,"p",0,"","","","",null,null,null,null,"","","","",null,null,null,null,null,20.8,2.08]
[null,null,"r",0,"","","","",null,null,null,null,"","","","",null,null,null,null,null,20.9,2.09]
[null,null,"p",0,"","","","",null,null,null,null,"","","","",null,null,null,null,null,21,2.1]
[null,null,"r",0,"","","","",null,null,null,null,"","","","",null,null,null,null,null,21.1,2.11]
[null,null,"p",0,"","","","",null,null,null,null,"","","","",null,null,null,null,null,21.2,2.12]
[null,null,"r",0,"","","","",null,null,null,null,"","","","",null,null,null,null,null,21.3,2.13]
[null,null,"p",0,"","","","",null,null,null,null,"","","","",null,null,null,null,null,21.4,2.14]
[null,null,"r",0,"","","","",null,null,null,null,"","","","",null,null,null,null,null,21.5,2.15]
[null,null,"p",0,"","","","",null,null,null,null,"","","","",null,null,null,null,null,21.6,2.16]
[null,null,"r",0,"","","","",null,null,null,null,"","","","",null,null,null,null,null,21.7,2.17]
[null,null,"p",0,"","","","",null,null,null,null,"","","","",null,null,null,null,null,21.8,2.1800000000000002]
[null,null,"r",0,"","","","",null,null,null,null,"","","","",null,null,null,null,null,21.9,2.19]
[null,null,"p",0,"","","","",null,null,null,null,"","","","",null,null,null,null,null,22,2.2000000000000002]
[null,null,"r",0,"","","","",null,null,null,null,"","","","",null,null,null,null,null,22.1,2.21]
[null,null,"p",0,"","","","",null,null,null,null,"","","","",null,null,null,null,null,22.2,2.2200000000000002]
[null,null,"r",0,"","","","",null,null,null,null,"","","","",null,null,null,null,null,22.3,2.23]
[null,null,"p",0,"","","","",null,null,null,null,"","","","",null,null,null,null,null,22.4,2.2400000000000002]
[null,null,"r",0,"","","","",null,null,null,null,"","","","",null,null,null,null,null,22.5,2.25]
[null,null,"p",0,"","","","",null,null,null,null,"","","","",null,null,null,null,null,22.6,2.2599999999999998]
[null,null,"r",0,"","","","",null,null,null,null,"","","","",null,null,null,null,null,22.7,2.27]
[null,null,"p",0,"","","","",null,null,null,null,"","","","",null,null,null,null,null,22.8,2.2799999999999998]
[null,null,"r",0,"","","","",null,null,null,null,"","","","",null,null,null,null,null,22.9,2.29]
[null,null,"p",0,"","","","",null,null,null,null,"","","","",null,null,null,null,null,23,2.2999999999999998]
[null,null,"r",0,"","","","",null,null,null,null,"","","","",null,null,null,null,null,23.1,2.31]
[null,null,"p",0,"","","","",null,null,null,null,"","","","",null,null,null,null,null,23.2,2.3199999999999998]
[null,null,"r",0,"","","","",null,null,null,null,"","","","",null,null,null,null,null,23.3,2.33]
[null,null,"p",0,"","","","",null,null,null,null,"","","","",null,null,null,null,null,23.4,2.34]
[null,null,"r",0,"","","","",null,null,null,null,"","","","",null,null,null,null,null,23.5,2.35]
[null,null,"p",0,"","","","",null,null,null,null,"","","","",null,null,null,null,null,23.6,2.36]
[null,null,"r",0,"","","","",null,null,null,null,"","","","",null,null,null,null,null,23.7,2.37]
[null,null,"p",0,"","","","",null,null,null,null,"","","","",null,null,null,null,null,23.8,2.38]
[null,null,"r",0,"","","","",null,null,null,null,"","","","",null,null,null,null,null,23.9,2.39]
[null,null,"p",0,"","","","",null,null,null,null,"","","","",null,null,null,null,null,24,2.4]
[null,null,"r",0,"","","","",null,null,null,null,"","","","",null,null,null,null,null,24.1,2.41]
[null,null,"p",0,"","","","",null,null,null,null,"","","","",null,null,null,null,null,24.2,2.42]
[null,null,"r",0,"","","","",null,null,null,null,"","","","",null,null,null,null,null,24.3,2.4300000000000002]
[null,null,"p",0,"","","","",null,null,null,null,"","","","",null,null,null,null,null,24.4,2.44]
[null,null,"r",0,"","","","",null,null,null,null,"","","","",null,null,null,null,null,24.5,2.4500000000000002]
[null,null,"p",0,"","","","",null,null,null,null,"","","","",null,null,null,null,null,24.6,2.46]
[null,null,"r",0,"","","","",null,null,null,null,"","","","",null,null,null,null,null,24.7,2.4700000000000002]
[null,null,"p",0,"","","","",null,null,null,null,"","","","",null,null,null,null,null,24.8,2.48]
[null,null,"r",0,"","","","",null,null,null,null,"","","","",null,null,null,null,null,24.9,2.4900000000000002]
[null,null,"p",0,"","","","",null,null,null,null,"","","","",null,null,null,null,null,25,2.5]
[null,null,"r",0,"","","","",null,null,null,null,"","","","",null,null,null,null,null,25.1,2.5099999999999998]
[null,null,"p",0,"","","","",null,null,null,null,"","","","",null,null,null,null,null,25.2,2.52]
[null,null,"r",0,"","","","",null,null,null,null,"","","","",null,null,null,null,null,25.3,2.5299999999999998]
[null,null,"p",0,"","","","",null,null,null,null,"","","","",null,null,null,null,null,25.4,2.54]
[null,null,"r",0,"","","","",null,null,null,null,"","","","",null,null,null,null,null,25.5,2.5499999999999998]
[null,null,"p",0,"","","","",null,null,null,null,"","","","",null,null,null,null,null,25.6,2.56]
[null,null,"r",0,"","","","",null,null,null,null,"","","","",null,null,null,null,null,25.7,2.57]
[null,null,"p",{"$f":"A262+D261","v":0},"","","","",null,null,null,null,{"$f":"IF(B263-B262<0.06,\"\",IF($B262=\"\",\"\",IF($C262=\"r\",$B262,\"\")))","v":""},"","","",null,null,null,null,null,25.8,2.58]
[null,null,"r",0,"","","",{"$f":"IF($B264=\"\",\"\",IF($C263=\"p\",($A264)-0.5*$A263,\"\"))","v":""},null,null,null,null,"",{"$f":"IF(B263-B262<0.06,\"\",IF($B263=\"\",\"\",IF($C263=\"p\",$B263,\"\")))","v":""},{"$f":"IF(B263-B262<0.06,\"\",IF($B263=\"\",\"\",IF($C263=\"p\",($A263)*2,\"\")))","v":""},{"$f":"IF(B263-B262<0.06,\"\",IF($B264=\"\",\"\",IF($C263=\"p\",($A264)-0.5*$A263,\"\")))","v":""},null,null,null,null,null,25.9,2.59]
[null,null,"p",0,"","","","",null,null,null,null,"","","","",null,null,null,null,null,26,2.6]
[null,null,"r",0,{"$f":"IF(B265=\"\",\"\",IF(C265=\"r\",B265,\"\"))","v":""},{"$f":"IF(B265=\"\",\"\",IF(C265=\"p\",B265,\"\"))","v":""},{"$f":"IF(B265=\"\",\"\",IF(C265=\"p\",IF(A265>A264,A265,(A265)*2),\"\"))","v":""},"",null,null,null,null,"","","","",null,null,null,null,null,26.1,2.61]
[null,null,"p",0,"","","","",null,null,null,null,"","","","",null,null,null,null,null,26.2,2.62]
[null,null,"r",0,"","","","",null,null,null,null,"","","","",null,null,null,null,null,26.3,2.63]
[null,null,"p",0,"","","","",null,null,null,null,"","","","",null,null,null,null,null,26.4,2.64]
[null,null,"r",0,"","","","",null,null,null,null,"","","","",null,null,null,null,null,26.5,2.65]
[null,null,"p",0,"","","","",null,null,null,null,"","","","",null,null,null,null,null,26.6,2.66]
[null,null,"r",0,"","","","",null,null,null,null,"","","","",null,null,null,null,null,26.7,2.67]
[null,null,"p",0,"","","","",null,null,null,null,"","","","",null,null,null,null,null,26.8,2.68]
[null,null,"r",0,"","","","",null,null,null,null,"","","","",null,null,null,null,null,26.9,2.69]
[null,null,"p",0,"","","","",null,null,null,null,"","","","",null,null,null,null,null,27,2.7]
[null,null,"r",0,"","","","",null,null,null,null,"","","","",null,null,null,null,null,27.1,2.71]
[null,null,"p",0,"","","","",null,null,null,null,"","","","",null,null,null,null,null,27.2,2.72]
[null,null,"r",0,"","","","",null,null,null,null,"","","","",null,null,null,null,null,27.3,2.73]
[null,null,"p",0,"","","","",null,null,null,null,"","","","",null,null,null,null,null,27.4,2.74]
[null,null,"r",0,"","","","",null,null,null,null,"","","","",null,null,null,null,null,27.5,2.75]
[null,null,"p",0,"","","","",null,null,null,null,"","","","",null,null,null,null,null,27.6,2.76]
[null,null,"r",null,null,null,null,null,null,null,null,null,null,null,null,null,null,null,null,null,null,27.7,2.77]
[null,null,"p",null,null,null,null,null,null,null,null,null,null,null,null,null,null,null,null,null,null,27.8,2.78]
[null,null,null,null,null,null,null,null,null,null,null,null,null,null,null,null,null,null,null,null,null,27.9,2.79]
[null,null,null,null,null,null,null,null,null,null,null,null,null,null,null,null,null,null,null,null,null,28,2.8]
[null,null,null,null,null,null,null,null,null,null,null,null,null,null,null,null,null,null,null,null,null,28.1,2.81]
[null,null,null,null,null,null,null,null,null,null,null,null,null,null,null,null,null,null,null,null,null,28.2,2.82]
[null,null,null,null,null,null,null,null,null,null,null,null,null,null,null,null,null,null,null,null,null,28.3,2.83]
[null,null,null,null,null,null,null,null,null,null,null,null,null,null,null,null,null,null,null,null,null,28.4,2.84]
[null,null,null,null,null,null,null,null,null,null,null,null,null,null,null,null,null,null,null,null,null,28.5,2.85]
[null,null,null,null,null,null,null,null,null,null,null,null,null,null,null,null,null,null,null,null,null,28.6,2.86]
[null,null,null,null,null,null,null,null,null,null,null,null,null,null,null,null,null,null,null,null,null,28.7,2.87]
[null,null,null,null,null,null,null,null,null,null,null,null,null,null,null,null,null,null,null,null,null,28.8,2.88]
[null,null,null,null,null,null,null,null,null,null,null,null,null,null,null,null,null,null,null,null,null,28.9,2.89]
[null,null,null,null,null,null,null,null,null,null,null,null,null,null,null,null,null,null,null,null,null,29,2.9]
[null,null,null,null,null,null,null,null,null,null,null,null,null,null,null,null,null,null,null,null,null,29.1,2.91]
[null,null,null,null,null,null,null,null,null,null,null,null,null,null,null,null,null,null,null,null,null,29.2,2.92]
[null,null,null,null,null,null,null,null,null,null,null,null,null,null,null,null,null,null,null,null,null,29.3,2.93]
[null,null,null,null,null,null,null,null,null,null,null,null,null,null,null,null,null,null,null,null,null,29.4,2.94]
[null,null,null,null,null,null,null,null,null,null,null,null,null,null,null,null,null,null,null,null,null,29.5,2.95]
[null,null,null,null,null,null,null,null,null,null,null,null,null,null,null,null,null,null,null,null,null,29.6,2.96]
[null,null,null,null,null,null,null,null,null,null,null,null,null,null,null,null,null,null,null,null,null,29.7,2.97]
[null,null,null,null,null,null,null,null,null,null,null,null,null,null,null,null,null,null,null,null,null,29.8,2.98]
[null,null,null,null,null,null,null,null,null,null,null,null,null,null,null,null,null,null,null,null,null,29.9,2.99]
[null,null,null,null,null,null,null,null,null,null,null,null,null,null,null,null,null,null,null,null,null,30,3]
[null,null,null,null,null,null,null,null,null,null,null,null,null,null,null,null,null,null,null,null,null,30.1,3.01]
[null,null,null,null,null,null,null,null,null,null,null,null,null,null,null,null,null,null,null,null,null,30.2,3.02]
[null,null,null,null,null,null,null,null,null,null,null,null,null,null,null,null,null,null,null,null,null,30.3,3.03]
[null,null,null,null,null,null,null,null,null,null,null,null,null,null,null,null,null,null,null,null,null,30.4,3.04]
[null,null,null,null,null,null,null,null,null,null,null,null,null,null,null,null,null,null,null,null,null,30.5,3.05]
[null,null,null,null,null,null,null,null,null,null,null,null,null,null,null,null,null,null,null,null,null,30.6,3.06]
[null,null,null,null,null,null,null,null,null,null,null,null,null,null,null,null,null,null,null,null,null,30.7,3.07]
[null,null,null,null,null,null,null,null,null,null,null,null,null,null,null,null,null,null,null,null,null,30.8,3.08]
[null,null,null,null,null,null,null,null,null,null,null,null,null,null,null,null,null,null,null,null,null,30.9,3.09]
[null,null,null,null,null,null,null,null,null,null,null,null,null,null,null,null,null,null,null,null,null,31,3.1]
[null,null,null,null,null,null,null,null,null,null,null,null,null,null,null,null,null,null,null,null,null,31.1,3.11]
[null,null,null,null,null,null,null,null,null,null,null,null,null,null,null,null,null,null,null,null,null,31.2,3.12]
[null,null,null,null,null,null,null,null,null,null,null,null,null,null,null,null,null,null,null,null,null,31.3,3.13]
[null,null,null,null,null,null,null,null,null,null,null,null,null,null,null,null,null,null,null,null,null,31.4,3.14]
[null,null,null,null,null,null,null,null,null,null,null,null,null,null,null,null,null,null,null,null,null,31.5,3.15]
[null,null,null,null,null,null,null,null,null,null,null,null,null,null,null,null,null,null,null,null,null,31.6,3.16]
[null,null,null,null,null,null,null,null,null,null,null,null,null,null,null,null,null,null,null,null,null,31.7,3.17]
[null,null,null,null,null,null,null,null,null,null,null,null,null,null,null,null,null,null,null,null,null,31.8,3.18]
[null,null,null,null,null,null,null,null,null,null,null,null,null,null,null,null,null,null,null,null,null,31.9,3.19]
[null,null,null,null,null,null,null,null,null,null,null,null,null,null,null,null,null,null,null,null,null,32,3.2]
[null,null,null,null,null,null,null,null,null,null,null,null,null,null,null,null,null,null,null,null,null,32.1,3.21]
[null,null,null,null,null,null,null,null,null,null,null,null,null,null,null,null,null,null,null,null,null,32.200000000000003,3.22]
[null,null,null,null,null,null,null,null,null,null,null,null,null,null,null,null,null,null,null,null,null,32.299999999999997,3.23]
[null,null,null,null,null,null,null,null,null,null,null,null,null,null,null,null,null,null,null,null,null,32.399999999999899,3.24]
[null,null,null,null,null,null,null,null,null,null,null,null,null,null,null,null,null,null,null,null,null,32.5,3.25]
[null,null,null,null,null,null,null,null,null,null,null,null,null,null,null,null,null,null,null,null,null,32.6,3.26]
[null,null,null,null,null,null,null,null,null,null,null,null,null,null,null,null,null,null,null,null,null,32.699999999999903,3.27]
[null,null,null,null,null,null,null,null,null,null,null,null,null,null,null,null,null,null,null,null,null,32.799999999999898,3.28]
[null,null,null,null,null,null,null,null,null,null,null,null,null,null,null,null,null,null,null,null,null,32.899999999999899,3.29]
[null,null,null,null,null,null,null,null,null,null,null,null,null,null,null,null,null,null,null,null,null,32.999999999999901,3.3]
[null,null,null,null,null,null,null,null,null,null,null,null,null,null,null,null,null,null,null,null,null,33.099999999999902,3.31]
[null,null,null,null,null,null,null,null,null,null,null,null,null,null,null,null,null,null,null,null,null,33.199999999999903,3.32]
[null,null,null,null,null,null,null,null,null,null,null,null,null,null,null,null,null,null,null,null,null,33.299999999999898,3.33]
[null,null,null,null,null,null,null,null,null,null,null,null,null,null,null,null,null,null,null,null,null,33.399999999999899,3.34]
[null,null,null,null,null,null,null,null,null,null,null,null,null,null,null,null,null,null,null,null,null,33.499999999999901,3.35]
[null,null,null,null,null,null,null,null,null,null,null,null,null,null,null,null,null,null,null,null,null,33.599999999999902,3.36]
[null,null,null,null,null,null,null,null,null,null,null,null,null,null,null,null,null,null,null,null,null,33.699999999999903,3.37]
[null,null,null,null,null,null,null,null,null,null,null,null,null,null,null,null,null,null,null,null,null,33.799999999999898,3.38]
[null,null,null,null,null,null,null,null,null,null,null,null,null,null,null,null,null,null,null,null,null,33.899999999999899,3.39]
[null,null,null,null,null,null,null,null,null,null,null,null,null,null,null,null,null,null,null,null,null,33.999999999999901,3.4]
[null,null,null,null,null,null,null,null,null,null,null,null,null,null,null,null,null,null,null,null,null,34.099999999999902,3.41]
[null,null,null,null,null,null,null,null,null,null,null,null,null,null,null,null,null,null,null,null,null,34.199999999999903,3.42]
[null,null,null,null,null,null,null,null,null,null,null,null,null,null,null,null,null,null,null,null,null,34.299999999999898,3.43]
[null,null,null,null,null,null,null,null,null,null,null,null,null,null,null,null,null,null,null,null,null,34.399999999999899,3.44]
[null,null,null,null,null,null,null,null,null,null,null,null,null,null,null,null,null,null,null,null,null,34.499999999999901,3.45]
[null,null,null,null,null,null,null,null,null,null,null,null,null,null,null,null,null,null,null,null,null,34.599999999999902,3.46]
[null,null,null,null,null,null,null,null,null,null,null,null,null,null,null,null,null,null,null,null,null,34.699999999999903,3.47]
[null,null,null,null,null,null,null,null,null,null,null,null,null,null,null,null,null,null,null,null,null,34.799999999999898,3.48]
[null,null,null,null,null,null,null,null,null,null,null,null,null,null,null,null,null,null,null,null,null,34.899999999999899,3.49]
[null,null,null,null,null,null,null,null,null,null,null,null,null,null,null,null,null,null,null,null,null,34.999999999999901,3.5]
[null,null,null,null,null,null,null,null,null,null,null,null,null,null,null,null,null,null,null,null,null,35.099999999999902,3.51]
[null,null,null,null,null,null,null,null,null,null,null,null,null,null,null,null,null,null,null,null,null,35.199999999999903,3.52]
[null,null,null,null,null,null,null,null,null,null,null,null,null,null,null,null,null,null,null,null,null,35.299999999999898,3.53]
[null,null,null,null,null,null,null,null,null,null,null,null,null,null,null,null,null,null,null,null,null,35.399999999999899,3.54]
[null,null,null,null,null,null,null,null,null,null,null,null,null,null,null,null,null,null,null,null,null,35.499999999999901,3.55]
[null,null,null,null,null,null,null,null,null,null,null,null,null,null,null,null,null,null,null,null,null,35.599999999999902,3.56]
[null,null,null,null,null,null,null,null,null,null,null,null,null,null,null,null,null,null,null,null,null,35.699999999999903,3.57]
[null,null,null,null,null,null,null,null,null,null,null,null,null,null,null,null,null,null,null,null,null,35.799999999999898,3.58]
[null,null,null,null,null,null,null,null,null,null,null,null,null,null,null,null,null,null,null,null,null,35.899999999999899,3.59]
[null,null,null,null,null,null,null,null,null,null,null,null,null,null,null,null,null,null,null,null,null,35.999999999999901,3.6]
[null,null,null,null,null,null,null,null,null,null,null,null,null,null,null,null,null,null,null,null,null,36.099999999999902,3.61]
[null,null,null,null,null,null,null,null,null,null,null,null,null,null,null,null,null,null,null,null,null,36.199999999999903,3.62]
[null,null,null,null,null,null,null,null,null,null,null,null,null,null,null,null,null,null,null,null,null,36.299999999999898,3.63]
[null,null,null,null,null,null,null,null,null,null,null,null,null,null,null,null,null,null,null,null,null,36.399999999999899,3.64]
[null,null,null,null,null,null,null,null,null,null,null,null,null,null,null,null,null,null,null,null,null,36.499999999999901,3.65]
[null,null,null,null,null,null,null,null,null,null,null,null,null,null,null,null,null,null,null,null,null,36.599999999999902,3.66]
[null,null,null,null,null,null,null,null,null,null,null,null,null,null,null,null,null,null,null,null,null,36.699999999999903,3.67]
[null,null,null,null,null,null,null,null,null,null,null,null,null,null,null,null,null,null,null,null,null,36.799999999999898,3.68]
[null,null,null,null,null,null,null,null,null,null,null,null,null,null,null,null,null,null,null,null,null,36.899999999999899,3.69]
[null,null,null,null,null,null,null,null,null,null,null,null,null,null,null,null,null,null,null,null,null,36.999999999999901,3.7]
[null,null,null,null,null,null,null,null,null,null,null,null,null,null,null,null,null,null,null,null,null,37.099999999999902,3.71]
[null,null,null,null,null,null,null,null,null,null,null,null,null,null,null,null,null,null,null,null,null,37.199999999999903,3.72]
[null,null,null,null,null,null,null,null,null,null,null,null,null,null,null,null,null,null,null,null,null,37.299999999999898,3.73]
[null,null,null,null,null,null,null,null,null,null,null,null,null,null,null,null,null,null,null,null,null,37.3999999999998,3.74]
[null,null,null,null,null,null,null,null,null,null,null,null,null,null,null,null,null,null,null,null,null,37.499999999999801,3.75]
[null,null,null,null,null,null,null,null,null,null,null,null,null,null,null,null,null,null,null,null,null,37.599999999999802,3.76]
[null,null,null,null,null,null,null,null,null,null,null,null,null,null,null,null,null,null,null,null,null,37.699999999999797,3.77]
[null,null,null,null,null,null,null,null,null,null,null,null,null,null,null,null,null,null,null,null,null,37.799999999999798,3.78]
[null,null,null,null,null,null,null,null,null,null,null,null,null,null,null,null,null,null,null,null,null,37.8999999999998,3.79]
[null,null,null,null,null,null,null,null,null,null,null,null,null,null,null,null,null,null,null,null,null,37.999999999999801,3.8]
[null,null,null,null,null,null,null,null,null,null,null,null,null,null,null,null,null,null,null,null,null,38.099999999999802,3.81]
[null,null,null,null,null,null,null,null,null,null,null,null,null,null,null,null,null,null,null,null,null,38.199999999999797,3.82]
[null,null,null,null,null,null,null,null,null,null,null,null,null,null,null,null,null,null,null,null,null,38.299999999999798,3.83]
[null,null,null,null,null,null,null,null,null,null,null,null,null,null,null,null,null,null,null,null,null,38.3999999999998,3.84]
[null,null,null,null,null,null,null,null,null,null,null,null,null,null,null,null,null,null,null,null,null,38.499999999999801,3.85]
[null,null,null,null,null,null,null,null,null,null,null,null,null,null,null,null,null,null,null,null,null,38.599999999999802,3.86]
[null,null,null,null,null,null,null,null,null,null,null,null,null,null,null,null,null,null,null,null,null,38.699999999999797,3.87]
[null,null,null,null,null,null,null,null,null,null,null,null,null,null,null,null,null,null,null,null,null,38.799999999999798,3.88]
[null,null,null,null,null,null,null,null,null,null,null,null,null,null,null,null,null,null,null,null,null,38.8999999999998,3.89]
[null,null,null,null,null,null,null,null,null,null,null,null,null,null,null,null,null,null,null,null,null,38.999999999999801,3.9]
[null,null,null,null,null,null,null,null,null,null,null,null,null,null,null,null,null,null,null,null,null,39.099999999999802,3.91]
[null,null,null,null,null,null,null,null,null,null,null,null,null,null,null,null,null,null,null,null,null,39.199999999999797,3.92]
[null,null,null,null,null,null,null,null,null,null,null,null,null,null,null,null,null,null,null,null,null,39.299999999999798,3.93]
[null,null,null,null,null,null,null,null,null,null,null,null,null,null,null,null,null,null,null,null,null,39.3999999999998,3.94]
[null,null,null,null,null,null,null,null,null,null,null,null,null,null,null,null,null,null,null,null,null,39.499999999999801,3.95]
[null,null,null,null,null,null,null,null,null,null,null,null,null,null,null,null,null,null,null,null,null,39.599999999999802,3.96]
[null,null,null,null,null,null,null,null,null,null,null,null,null,null,null,null,null,null,null,null,null,39.699999999999797,3.97]
[null,null,null,null,null,null,null,null,null,null,null,null,null,null,null,null,null,null,null,null,null,39.799999999999798,3.98]
[null,null,null,null,null,null,null,null,null,null,null,null,null,null,null,null,null,null,null,null,null,39.8999999999998,3.99]
[null,null,null,null,null,null,null,null,null,null,null,null,null,null,null,null,null,null,null,null,null,39.999999999999801,4]
[null,null,null,null,null,null,null,null,null,null,null,null,null,null,null,null,null,null,null,null,null,40.099999999999802,4.01]
[null,null,null,null,null,null,null,null,null,null,null,null,null,null,null,null,null,null,null,null,null,40.199999999999797,4.0199999999999996]
[null,null,null,null,null,null,null,null,null,null,null,null,null,null,null,null,null,null,null,null,null,40.299999999999798,4.03]
[null,null,null,null,null,null,null,null,null,null,null,null,null,null,null,null,null,null,null,null,null,40.3999999999998,4.04]
[null,null,null,null,null,null,null,null,null,null,null,null,null,null,null,null,null,null,null,null,null,40.499999999999801,4.05]
[null,null,null,null,null,null,null,null,null,null,null,null,null,null,null,null,null,null,null,null,null,40.599999999999802,4.0599999999999996]
[null,null,null,null,null,null,null,null,null,null,null,null,null,null,null,null,null,null,null,null,null,40.699999999999797,4.07]
[null,null,null,null,null,null,null,null,null,null,null,null,null,null,null,null,null,null,null,null,null,40.799999999999798,4.08]
[null,null,null,null,null,null,null,null,null,null,null,null,null,null,null,null,null,null,null,null,null,40.8999999999998,4.09]
[null,null,null,null,null,null,null,null,null,null,null,null,null,null,null,null,null,null,null,null,null,40.999999999999801,4.0999999999999996]
[null,null,null,null,null,null,null,null,null,null,null,null,null,null,null,null,null,null,null,null,null,41.099999999999802,4.1100000000000003]
[null,null,null,null,null,null,null,null,null,null,null,null,null,null,null,null,null,null,null,null,null,41.199999999999797,4.12]
[null,null,null,null,null,null,null,null,null,null,null,null,null,null,null,null,null,null,null,null,null,41.299999999999798,4.13]
[null,null,null,null,null,null,null,null,null,null,null,null,null,null,null,null,null,null,null,null,null,41.3999999999998,4.1399999999999997]
[null,null,null,null,null,null,null,null,null,null,null,null,null,null,null,null,null,null,null,null,null,41.499999999999801,4.1500000000000004]
[null,null,null,null,null,null,null,null,null,null,null,null,null,null,null,null,null,null,null,null,null,41.599999999999802,4.16]
[null,null,null,null,null,null,null,null,null,null,null,null,null,null,null,null,null,null,null,null,null,41.699999999999797,4.17]
[null,null,null,null,null,null,null,null,null,null,null,null,null,null,null,null,null,null,null,null,null,41.799999999999798,4.18]
[null,null,null,null,null,null,null,null,null,null,null,null,null,null,null,null,null,null,null,null,null,41.8999999999997,4.1900000000000004]
[null,null,null,null,null,null,null,null,null,null,null,null,null,null,null,null,null,null,null,null,null,41.999999999999702,4.2]
[null,null,null,null,null,null,null,null,null,null,null,null,null,null,null,null,null,null,null,null,null,42.099999999999703,4.21]
[null,null,null,null,null,null,null,null,null,null,null,null,null,null,null,null,null,null,null,null,null,42.199999999999697,4.22]
[null,null,null,null,null,null,null,null,null,null,null,null,null,null,null,null,null,null,null,null,null,42.299999999999699,4.2300000000000004]
[null,null,null,null,null,null,null,null,null,null,null,null,null,null,null,null,null,null,null,null,null,42.3999999999997,4.24]
[null,null,null,null,null,null,null,null,null,null,null,null,null,null,null,null,null,null,null,null,null,42.499999999999702,4.25]
[null,null,null,null,null,null,null,null,null,null,null,null,null,null,null,null,null,null,null,null,null,42.599999999999703,4.26]
[null,null,null,null,null,null,null,null,null,null,null,null,null,null,null,null,null,null,null,null,null,42.699999999999697,4.2699999999999996]
[null,null,null,null,null,null,null,null,null,null,null,null,null,null,null,null,null,null,null,null,null,42.799999999999699,4.28]
[null,null,null,null,null,null,null,null,null,null,null,null,null,null,null,null,null,null,null,null,null,42.8999999999997,4.29]
[null,null,null,null,null,null,null,null,null,null,null,null,null,null,null,null,null,null,null,null,null,42.999999999999702,4.3]
[null,null,null,null,null,null,null,null,null,null,null,null,null,null,null,null,null,null,null,null,null,43.099999999999703,4.3099999999999996]
[null,null,null,null,null,null,null,null,null,null,null,null,null,null,null,null,null,null,null,null,null,43.199999999999697,4.32]
[null,null,null,null,null,null,null,null,null,null,null,null,null,null,null,null,null,null,null,null,null,43.299999999999699,4.33]
[null,null,null,null,null,null,null,null,null,null,null,null,null,null,null,null,null,null,null,null,null,43.3999999999997,4.34]
[null,null,null,null,null,null,null,null,null,null,null,null,null,null,null,null,null,null,null,null,null,43.499999999999702,4.3499999999999996]
[null,null,null,null,null,null,null,null,null,null,null,null,null,null,null,null,null,null,null,null,null,43.599999999999703,4.3600000000000003]
[null,null,null,null,null,null,null,null,null,null,null,null,null,null,null,null,null,null,null,null,null,43.699999999999697,4.37]
[null,null,null,null,null,null,null,null,null,null,null,null,null,null,null,null,null,null,null,null,null,43.799999999999699,4.38]
[null,null,null,null,null,null,null,null,null,null,null,null,null,null,null,null,null,null,null,null,null,43.8999999999997,4.3899999999999997]
[null,null,null,null,null,null,null,null,null,null,null,null,null,null,null,null,null,null,null,null,null,43.999999999999702,4.4000000000000004]
[null,null,null,null,null,null,null,null,null,null,null,null,null,null,null,null,null,null,null,null,null,44.099999999999703,4.41]
[null,null,null,null,null,null,null,null,null,null,null,null,null,null,null,null,null,null,null,null,null,44.199999999999697,4.42]
[null,null,null,null,null,null,null,null,null,null,null,null,null,null,null,null,null,null,null,null,null,44.299999999999699,4.43]
[null,null,null,null,null,null,null,null,null,null,null,null,null,null,null,null,null,null,null,null,null,44.3999999999997,4.4400000000000004]
[null,null,null,null,null,null,null,null,null,null,null,null,null,null,null,null,null,null,null,null,null,44.499999999999702,4.45]
[null,null,null,null,null,null,null,null,null,null,null,null,null,null,null,null,null,null,null,null,null,44.599999999999703,4.46]
[null,null,null,null,null,null,null,null,null,null,null,null,null,null,null,null,null,null,null,null,null,44.699999999999697,4.47]
[null,null,null,null,null,null,null,null,null,null,null,null,null,null,null,null,null,null,null,null,null,44.799999999999699,4.4800000000000004]
[null,null,null,null,null,null,null,null,null,null,null,null,null,null,null,null,null,null,null,null,null,44.8999999999997,4.49]
[null,null,null,null,null,null,null,null,null,null,null,null,null,null,null,null,null,null,null,null,null,44.999999999999702,4.5]
[null,null,null,null,null,null,null,null,null,null,null,null,null,null,null,null,null,null,null,null,null,45.099999999999703,4.51]
[null,null,null,null,null,null,null,null,null,null,null,null,null,null,null,null,null,null,null,null,null,45.199999999999697,4.5199999999999996]
[null,null,null,null,null,null,null,null,null,null,null,null,null,null,null,null,null,null,null,null,null,45.299999999999699,4.53]
[null,null,null,null,null,null,null,null,null,null,null,null,null,null,null,null,null,null,null,null,null,45.3999999999997,4.54]
[null,null,null,null,null,null,null,null,null,null,null,null,null,null,null,null,null,null,null,null,null,45.499999999999702,4.55]
[null,null,null,null,null,null,null,null,null,null,null,null,null,null,null,null,null,null,null,null,null,45.599999999999703,4.5599999999999996]
[null,null,null,null,null,null,null,null,null,null,null,null,null,null,null,null,null,null,null,null,null,45.699999999999697,4.57]
[null,null,null,null,null,null,null,null,null,null,null,null,null,null,null,null,null,null,null,null,null,45.799999999999699,4.58]
[null,null,null,null,null,null,null,null,null,null,null,null,null,null,null,null,null,null,null,null,null,45.8999999999997,4.59]
[null,null,null,null,null,null,null,null,null,null,null,null,null,null,null,null,null,null,null,null,null,45.999999999999702,4.5999999999999996]
[null,null,null,null,null,null,null,null,null,null,null,null,null,null,null,null,null,null,null,null,null,46.099999999999703,4.6100000000000003]
[null,null,null,null,null,null,null,null,null,null,null,null,null,null,null,null,null,null,null,null,null,46.199999999999697,4.62]
[null,null,null,null,null,null,null,null,null,null,null,null,null,null,null,null,null,null,null,null,null,46.299999999999699,4.63]
[null,null,null,null,null,null,null,null,null,null,null,null,null,null,null,null,null,null,null,null,null,46.3999999999997,4.6399999999999997]
[null,null,null,null,null,null,null,null,null,null,null,null,null,null,null,null,null,null,null,null,null,46.499999999999702,4.6500000000000004]
[null,null,null,null,null,null,null,null,null,null,null,null,null,null,null,null,null,null,null,null,null,46.599999999999604,4.66]
[null,null,null,null,null,null,null,null,null,null,null,null,null,null,null,null,null,null,null,null,null,46.699999999999598,4.67]
[null,null,null,null,null,null,null,null,null,null,null,null,null,null,null,null,null,null,null,null,null,46.799999999999599,4.68]
[null,null,null,null,null,null,null,null,null,null,null,null,null,null,null,null,null,null,null,null,null,46.899999999999601,4.6900000000000004]
[null,null,null,null,null,null,null,null,null,null,null,null,null,null,null,null,null,null,null,null,null,46.999999999999602,4.7]
[null,null,null,null,null,null,null,null,null,null,null,null,null,null,null,null,null,null,null,null,null,47.099999999999604,4.71]
[null,null,null,null,null,null,null,null,null,null,null,null,null,null,null,null,null,null,null,null,null,47.199999999999598,4.72]
[null,null,null,null,null,null,null,null,null,null,null,null,null,null,null,null,null,null,null,null,null,47.299999999999599,4.7300000000000004]
[null,null,null,null,null,null,null,null,null,null,null,null,null,null,null,null,null,null,null,null,null,47.399999999999601,4.74]
[null,null,null,null,null,null,null,null,null,null,null,null,null,null,null,null,null,null,null,null,null,47.499999999999602,4.75]
[null,null,null,null,null,null,null,null,null,null,null,null,null,null,null,null,null,null,null,null,null,47.599999999999604,4.76]
[null,null,null,null,null,null,null,null,null,null,null,null,null,null,null,null,null,null,null,null,null,47.699999999999598,4.7699999999999996]
[null,null,null,null,null,null,null,null,null,null,null,null,null,null,null,null,null,null,null,null,null,47.799999999999599,4.78]
[null,null,null,null,null,null,null,null,null,null,null,null,null,null,null,null,null,null,null,null,null,47.899999999999601,4.79]
[null,null,null,null,null,null,null,null,null,null,null,null,null,null,null,null,null,null,null,null,null,47.999999999999602,4.8]
[null,null,null,null,null,null,null,null,null,null,null,null,null,null,null,null,null,null,null,null,null,48.099999999999604,4.8099999999999996]
[null,null,null,null,null,null,null,null,null,null,null,null,null,null,null,null,null,null,null,null,null,48.199999999999598,4.82]
[null,null,null,null,null,null,null,null,null,null,null,null,null,null,null,null,null,null,null,null,null,48.299999999999599,4.83]
[null,null,null,null,null,null,null,null,null,null,null,null,null,null,null,null,null,null,null,null,null,48.399999999999601,4.84]
[null,null,null,null,null,null,null,null,null,null,null,null,null,null,null,null,null,null,null,null,null,48.499999999999602,4.8499999999999996]
[null,null,null,null,null,null,null,null,null,null,null,null,null,null,null,null,null,null,null,null,null,48.599999999999604,4.8600000000000003]
[null,null,null,null,null,null,null,null,null,null,null,null,null,null,null,null,null,null,null,null,null,48.699999999999598,4.87]
[null,null,null,null,null,null,null,null,null,null,null,null,null,null,null,null,null,null,null,null,null,48.799999999999599,4.88]
[null,null,null,null,null,null,null,null,null,null,null,null,null,null,null,null,null,null,null,null,null,48.899999999999601,4.8899999999999997]
[null,null,null,null,null,null,null,null,null,null,null,null,null,null,null,null,null,null,null,null,null,48.999999999999602,4.9000000000000004]
[null,null,null,null,null,null,null,null,null,null,null,null,null,null,null,null,null,null,null,null,null,49.099999999999604,4.91]
[null,null,null,null,null,null,null,null,null,null,null,null,null,null,null,null,null,null,null,null,null,49.199999999999598,4.92]
[null,null,null,null,null,null,null,null,null,null,null,null,null,null,null,null,null,null,null,null,null,49.299999999999599,4.93]
[null,null,null,null,null,null,null,null,null,null,null,null,null,null,null,null,null,null,null,null,null,49.399999999999601,4.9400000000000004]
[null,null,null,null,null,null,null,null,null,null,null,null,null,null,null,null,null,null,null,null,null,49.499999999999602,4.95]
[null,null,null,null,null,null,null,null,null,null,null,null,null,null,null,null,null,null,null,null,null,49.599999999999604,4.96]
[null,null,null,null,null,null,null,null,null,null,null,null,null,null,null,null,null,null,null,null,null,49.699999999999598,4.97]
[null,null,null,null,null,null,null,null,null,null,null,null,null,null,null,null,null,null,null,null,null,49.799999999999599,4.9800000000000004]
[null,null,null,null,null,null,null,null,null,null,null,null,null,null,null,null,null,null,null,null,null,49.899999999999601,4.99]
[null,null,null,null,null,null,null,null,null,null,null,null,null,null,null,null,null,null,null,null,null,49.999999999999602,5]

{"sheet":"Comments","index":6,"n_rows":500,"n_cols":32,"rows_kept":500,"cut":false,"hidden":false,"merged":[]}
["Plot No.","Comment",null,null,null,null,null,null,"UPDATED:","2025-01-01",null,null,null,null,null,null,null,null,null,"Data Filter","Plot #",{"$f":"DMA!E2","v":"Streambank Alteration"},{"$f":"DMA!I1","v":"      Stubble Height"},{"$f":"DMA!L2","v":"GGW"},{"$f":"DMA!S1","v":"   Woody Species Use"},null,"Raw data","Plot #",{"$f":"V1","v":"Streambank Alteration"},{"$f":"W1","v":"      Stubble Height"},{"$f":"X1","v":"GGW"},{"$f":"Y1","v":"   Woody Species Use"}]
[null,null,null,null,null,null,null,null,null,null,null,null,null,null,null,null,null,null,null,null,1,{"$f":"IF(ISERROR(AVERAGEIF($AA:$AA,$U2,AC:AC)),\"\",AVERAGEIF($AA:$AA,$U2,AC:AC))","v":20},{"$f":"IF(ISERROR(AVERAGEIF($AA:$AA,$U2,AD:AD)),\"\",AVERAGEIF($AA:$AA,$U2,AD:AD))","v":""},{"$f":"IF(ISERROR(AVERAGEIF($AA:$AA,$U2,AE:AE)),\"\",AVERAGEIF($AA:$AA,$U2,AE:AE))","v":""},{"$f":"IF(ISERROR(AVERAGEIF($AA:$AA,$U2,AF:AF)),\"\",AVERAGEIF($AA:$AA,$U2,AF:AF))","v":""},null,{"$f":"AB2","v":1},{"$f":"IF(DMA!A5=\"\",\"\",DMA!A5)","v":1},{"$f":"IF(DMA!$E5=\"\",\"\",DMA!$E5/5*100)","v":""},{"$f":"IF(DMA!J5=\"\",\"\",DMA!J5)","v":""},{"$f":"IF(DMA!L5=\"\",\"\",DMA!L5)","v":""},{"$f":"IF(DMA!T5=\"\",\"\",DMA!T5)","v":""}]
[null,null,null,null,null,null,null,null,"back","This version now contains combo boxes for ease of data entry into those field tablets that make it",null,null,null,null,null,null,null,null,null,null,2,{"$f":"IF(ISERROR(AVERAGEIF(AA:AA,U3,AC:AC)),\"\",AVERAGEIF(AA:AA,U3,AC:AC))","v":""},{"$f":"IF(ISERROR(AVERAGEIF($AA:$AA,$U3,AD:AD)),\"\",AVERAGEIF($AA:$AA,$U3,AD:AD))","v":""},{"$f":"IF(ISERROR(AVERAGEIF($AA:$AA,$U3,AE:AE)),\"\",AVERAGEIF($AA:$AA,$U3,AE:AE))","v":""},{"$f":"IF(ISERROR(AVERAGEIF($AA:$AA,$U3,AF:AF)),\"\",AVERAGEIF($AA:$AA,$U3,AF:AF))","v":""},null,{"$f":"IF(AB3=AA2+1,AB3,AA2)","v":1},{"$f":"IF(DMA!A6=\"\",\"\",DMA!A6)","v":""},{"$f":"IF(DMA!$E6=\"\",\"\",DMA!$E6/5*100)","v":""},{"$f":"IF(DMA!J6=\"\",\"\",DMA!J6)","v":""},{"$f":"IF(DMA!L6=\"\",\"\",DMA!L6)","v":""},{"$f":"IF(DMA!T6=\"\",\"\",DMA!T6)","v":""}]
[null,null,null,null,null,null,null,null,null,"difficult to select the drop-down arrow.  The previous drop-down boxes have not been remvoed for .",null,null,null,null,null,null,null,null,null,null,3,"","","","",null,{"$f":"IF(AB4=AA3+1,AB4,AA3)","v":1},{"$f":"IF(DMA!A7=\"\",\"\",DMA!A7)","v":""},{"$f":"IF(DMA!$E7=\"\",\"\",DMA!$E7/5*100)","v":""},{"$f":"IF(DMA!J7=\"\",\"\",DMA!J7)","v":""},{"$f":"IF(DMA!L7=\"\",\"\",DMA!L7)","v":""},{"$f":"IF(DMA!T7=\"\",\"\",DMA!T7)","v":""}]
[null,null,null,null,null,null,null,null,null,"those who prefer to use them.  Combo Boxes require that macros are enabled.",null,null,null,null,null,null,null,null,null,null,4,"","","","",null,1,{"$f":"IF(DMA!A8=\"\",\"\",DMA!A8)","v":""},{"$f":"IF(DMA!$E8=\"\",\"\",DMA!$E8/5*100)","v":""},{"$f":"IF(DMA!J8=\"\",\"\",DMA!J8)","v":""},{"$f":"IF(DMA!L8=\"\",\"\",DMA!L8)","v":""},{"$f":"IF(DMA!T8=\"\",\"\",DMA!T8)","v":""}]
[null,null,null,null,null,null,null,null,null,null,null,null,null,null,null,null,null,null,null,null,5,"","","","",null,1,{"$f":"IF(DMA!A9=\"\",\"\",DMA!A9)","v":""},{"$f":"IF(DMA!$E9=\"\",\"\",DMA!$E9/5*100)","v":""},{"$f":"IF(DMA!J9=\"\",\"\",DMA!J9)","v":""},{"$f":"IF(DMA!L9=\"\",\"\",DMA!L9)","v":""},{"$f":"IF(DMA!T9=\"\",\"\",DMA!T9)","v":""}]
[null,null,null,null,null,null,null,null,null,"This version is consistent with the updated MIM  Data Instructions Guide 2025 available at: ",null,null,null,null,null,null,null,null,null,null,6,"","","","",null,1,{"$f":"IF(DMA!A10=\"\",\"\",DMA!A10)","v":""},{"$f":"IF(DMA!$E10=\"\",\"\",DMA!$E10/5*100)","v":""},{"$f":"IF(DMA!J10=\"\",\"\",DMA!J10)","v":""},{"$f":"IF(DMA!L10=\"\",\"\",DMA!L10)","v":""},{"$f":"IF(DMA!T10=\"\",\"\",DMA!T10)","v":""}]
[null,null,null,null,null,null,null,null,null,"rmsmim.com",null,null,null,null,null,null,null,null,null,null,7,"","","","",null,1,{"$f":"IF(DMA!A11=\"\",\"\",DMA!A11)","v":""},{"$f":"IF(DMA!$E11=\"\",\"\",DMA!$E11/5*100)","v":""},{"$f":"IF(DMA!J11=\"\",\"\",DMA!J11)","v":""},{"$f":"IF(DMA!L11=\"\",\"\",DMA!L11)","v":""},{"$f":"IF(DMA!T11=\"\",\"\",DMA!T11)","v":""}]
[null,null,null,null,null,null,null,null,null,null,null,null,null,null,null,null,null,null,null,null,8,"","","","",null,1,{"$f":"IF(DMA!A12=\"\",\"\",DMA!A12)","v":""},{"$f":"IF(DMA!$E12=\"\",\"\",DMA!$E12/5*100)","v":""},{"$f":"IF(DMA!J12=\"\",\"\",DMA!J12)","v":""},{"$f":"IF(DMA!L12=\"\",\"\",DMA!L12)","v":""},{"$f":"IF(DMA!T12=\"\",\"\",DMA!T12)","v":""}]
[null,null,null,null,null,null,null,null,null,"The \"Spatial\" tab can be used to test whether or not there is spatial autocorrelation",null,null,null,null,null,null,null,null,null,null,9,"","","","",null,1,{"$f":"IF(DMA!A13=\"\",\"\",DMA!A13)","v":""},{"$f":"IF(DMA!$E13=\"\",\"\",DMA!$E13/5*100)","v":""},{"$f":"IF(DMA!J13=\"\",\"\",DMA!J13)","v":""},{"$f":"IF(DMA!L13=\"\",\"\",DMA!L13)","v":""},{"$f":"IF(DMA!T13=\"\",\"\",DMA!T13)","v":""}]
[null,null,null,null,null,null,null,null,null,"after collecting a number of samples for indicators that more commonly associate",null,null,null,null,null,null,null,null,null,null,10,"","","","",null,1,{"$f":"IF(DMA!A14=\"\",\"\",DMA!A14)","v":""},{"$f":"IF(DMA!$E14=\"\",\"\",DMA!$E14/5*100)","v":""},{"$f":"IF(DMA!J14=\"\",\"\",DMA!J14)","v":""},{"$f":"IF(DMA!L14=\"\",\"\",DMA!L14)","v":""},{"$f":"IF(DMA!T14=\"\",\"\",DMA!T14)","v":""}]
[null,null,null,null,null,null,null,null,null,"with spatial autocorrelation.   If there is a strong positive correlation (>.3), consider",null,null,null,null,null,null,null,null,null,null,11,"",{"$f":"IF(ISERROR(AVERAGEIF($AA:$AA,$U12,AD:AD)),\"\",AVERAGEIF($AA:$AA,$U12,AD:AD))","v":""},{"$f":"IF(ISERROR(AVERAGEIF($AA:$AA,$U12,AE:AE)),\"\",AVERAGEIF($AA:$AA,$U12,AE:AE))","v":""},{"$f":"IF(ISERROR(AVERAGEIF($AA:$AA,$U12,AF:AF)),\"\",AVERAGEIF($AA:$AA,$U12,AF:AF))","v":""},null,1,{"$f":"IF(DMA!A15=\"\",\"\",DMA!A15)","v":""},{"$f":"IF(DMA!$E15=\"\",\"\",DMA!$E15/5*100)","v":""},{"$f":"IF(DMA!J15=\"\",\"\",DMA!J15)","v":""},{"$f":"IF(DMA!L15=\"\",\"\",DMA!L15)","v":""},{"$f":"IF(DMA!T15=\"\",\"\",DMA!T15)","v":""}]
[null,null,null,null,null,null,null,null,null,"increasing sample point spacing.  However, as more samples are collected the test",null,null,null,null,null,null,null,null,null,null,12,"","","","",null,1,{"$f":"IF(DMA!A16=\"\",\"\",DMA!A16)","v":""},{"$f":"IF(DMA!$E16=\"\",\"\",DMA!$E16/5*100)","v":""},{"$f":"IF(DMA!J16=\"\",\"\",DMA!J16)","v":""},{"$f":"IF(DMA!L16=\"\",\"\",DMA!L16)","v":""},{"$f":"IF(DMA!T16=\"\",\"\",DMA!T16)","v":""}]
[null,null,null,null,null,null,null,null,null,"may be negative for spatial autocorrelation.  Previously it was suggested to test after",null,null,null,null,null,null,null,null,null,null,13,"","","","",null,1,{"$f":"IF(DMA!A17=\"\",\"\",DMA!A17)","v":""},{"$f":"IF(DMA!$E17=\"\",\"\",DMA!$E17/5*100)","v":""},{"$f":"IF(DMA!J17=\"\",\"\",DMA!J17)","v":""},{"$f":"IF(DMA!L17=\"\",\"\",DMA!L17)","v":""},{"$f":"IF(DMA!T17=\"\",\"\",DMA!T17)","v":""}]
[null,null,null,null,null,null,null,null,null,"collecting just 10 samples, but more will likely be needed to achieve a reliable test.",null,null,null,null,null,null,null,null,null,null,14,"","","","",null,1,{"$f":"IF(DMA!A18=\"\",\"\",DMA!A18)","v":""},{"$f":"IF(DMA!$E18=\"\",\"\",DMA!$E18/5*100)","v":""},{"$f":"IF(DMA!J18=\"\",\"\",DMA!J18)","v":""},{"$f":"IF(DMA!L18=\"\",\"\",DMA!L18)","v":""},{"$f":"IF(DMA!T18=\"\",\"\",DMA!T18)","v":""}]
[null,null,null,null,null,null,null,null,null,"One convention is to collect all samples on the left side (approx 40), then make the",null,null,null,null,null,null,null,null,null,null,15,"","","","",null,1,{"$f":"IF(DMA!A19=\"\",\"\",DMA!A19)","v":""},{"$f":"IF(DMA!$E19=\"\",\"\",DMA!$E19/5*100)","v":""},{"$f":"IF(DMA!J19=\"\",\"\",DMA!J19)","v":""},{"$f":"IF(DMA!L19=\"\",\"\",DMA!L19)","v":""},{"$f":"IF(DMA!T19=\"\",\"\",DMA!T19)","v":""}]
[null,null,null,null,null,null,null,null,null,"test.  If expanding the sample spacing is desired, consider expanding the length of",null,null,null,null,null,null,null,null,null,null,16,"","","","",null,1,{"$f":"IF(DMA!A20=\"\",\"\",DMA!A20)","v":""},{"$f":"IF(DMA!$E20=\"\",\"\",DMA!$E20/5*100)","v":""},{"$f":"IF(DMA!J20=\"\",\"\",DMA!J20)","v":""},{"$f":"IF(DMA!L20=\"\",\"\",DMA!L20)","v":""},{"$f":"IF(DMA!T20=\"\",\"\",DMA!T20)","v":""}]
[null,null,null,null,null,null,null,null,null,"the DMA at that point.  ",null,null,null,null,null,null,null,null,null,null,17,"","","","",null,1,{"$f":"IF(DMA!A21=\"\",\"\",DMA!A21)","v":""},{"$f":"IF(DMA!$E21=\"\",\"\",DMA!$E21/5*100)","v":""},{"$f":"IF(DMA!J21=\"\",\"\",DMA!J21)","v":""},{"$f":"IF(DMA!L21=\"\",\"\",DMA!L21)","v":""},{"$f":"IF(DMA!T21=\"\",\"\",DMA!T21)","v":""}]
[null,null,null,null,null,null,null,null,null,null,null,null,null,null,null,null,null,null,null,null,18,"","","","",null,1,{"$f":"IF(DMA!A22=\"\",\"\",DMA!A22)","v":""},{"$f":"IF(DMA!$E22=\"\",\"\",DMA!$E22/5*100)","v":""},{"$f":"IF(DMA!J22=\"\",\"\",DMA!J22)","v":""},{"$f":"IF(DMA!L22=\"\",\"\",DMA!L22)","v":""},{"$f":"IF(DMA!T22=\"\",\"\",DMA!T22)","v":""}]
[null,null,null,null,null,null,null,null,null,null,null,null,null,null,null,null,null,null,null,null,19,"","","","",null,1,{"$f":"IF(DMA!A23=\"\",\"\",DMA!A23)","v":""},{"$f":"IF(DMA!$E23=\"\",\"\",DMA!$E23/5*100)","v":""},{"$f":"IF(DMA!J23=\"\",\"\",DMA!J23)","v":""},{"$f":"IF(DMA!L23=\"\",\"\",DMA!L23)","v":""},{"$f":"IF(DMA!T23=\"\",\"\",DMA!T23)","v":""}]
[null,null,null,null,null,null,null,null,null,null,null,null,null,null,null,null,null,null,null,null,20,"","","","",null,1,{"$f":"IF(DMA!A24=\"\",\"\",DMA!A24)","v":""},{"$f":"IF(DMA!$E24=\"\",\"\",DMA!$E24/5*100)","v":""},{"$f":"IF(DMA!J24=\"\",\"\",DMA!J24)","v":""},{"$f":"IF(DMA!L24=\"\",\"\",DMA!L24)","v":""},{"$f":"IF(DMA!T24=\"\",\"\",DMA!T24)","v":""}]
[null,null,null,null,null,null,null,null,null,null,null,null,null,null,null,null,null,null,null,null,21,"","","","",null,1,{"$f":"IF(DMA!A25=\"\",\"\",DMA!A25)","v":""},{"$f":"IF(DMA!$E25=\"\",\"\",DMA!$E25/5*100)","v":""},{"$f":"IF(DMA!J25=\"\",\"\",DMA!J25)","v":""},{"$f":"IF(DMA!L25=\"\",\"\",DMA!L25)","v":""},{"$f":"IF(DMA!T25=\"\",\"\",DMA!T25)","v":""}]
[null,null,null,null,null,null,null,null,null,null,null,null,null,null,null,null,null,null,null,null,22,"","","","",null,1,{"$f":"IF(DMA!A26=\"\",\"\",DMA!A26)","v":""},{"$f":"IF(DMA!$E26=\"\",\"\",DMA!$E26/5*100)","v":""},{"$f":"IF(DMA!J26=\"\",\"\",DMA!J26)","v":""},{"$f":"IF(DMA!L26=\"\",\"\",DMA!L26)","v":""},{"$f":"IF(DMA!T26=\"\",\"\",DMA!T26)","v":""}]
[null,null,null,null,null,null,null,null,null,null,null,null,null,null,null,null,null,null,null,null,23,"","","","",null,1,{"$f":"IF(DMA!A27=\"\",\"\",DMA!A27)","v":""},{"$f":"IF(DMA!$E27=\"\",\"\",DMA!$E27/5*100)","v":""},{"$f":"IF(DMA!J27=\"\",\"\",DMA!J27)","v":""},{"$f":"IF(DMA!L27=\"\",\"\",DMA!L27)","v":""},{"$f":"IF(DMA!T27=\"\",\"\",DMA!T27)","v":""}]
[null,null,null,null,null,null,null,null,null,null,null,null,null,null,null,null,null,null,null,null,24,"","","","",null,1,{"$f":"IF(DMA!A28=\"\",\"\",DMA!A28)","v":""},{"$f":"IF(DMA!$E28=\"\",\"\",DMA!$E28/5*100)","v":""},{"$f":"IF(DMA!J28=\"\",\"\",DMA!J28)","v":""},{"$f":"IF(DMA!L28=\"\",\"\",DMA!L28)","v":""},{"$f":"IF(DMA!T28=\"\",\"\",DMA!T28)","v":""}]
[null,null,null,null,null,null,null,null,null,null,null,null,null,null,null,null,null,null,null,null,25,"","","","",null,1,{"$f":"IF(DMA!A29=\"\",\"\",DMA!A29)","v":""},{"$f":"IF(DMA!$E29=\"\",\"\",DMA!$E29/5*100)","v":""},{"$f":"IF(DMA!J29=\"\",\"\",DMA!J29)","v":""},{"$f":"IF(DMA!L29=\"\",\"\",DMA!L29)","v":""},{"$f":"IF(DMA!T29=\"\",\"\",DMA!T29)","v":""}]
[null,null,null,null,null,null,null,null,null,null,null,null,null,null,null,null,null,null,null,null,26,"","","","",null,1,{"$f":"IF(DMA!A30=\"\",\"\",DMA!A30)","v":""},{"$f":"IF(DMA!$E30=\"\",\"\",DMA!$E30/5*100)","v":""},{"$f":"IF(DMA!J30=\"\",\"\",DMA!J30)","v":""},{"$f":"IF(DMA!L30=\"\",\"\",DMA!L30)","v":""},{"$f":"IF(DMA!T30=\"\",\"\",DMA!T30)","v":""}]
[null,null,null,null,null,null,null,null,null,null,null,null,null,null,null,null,null,null,null,null,27,"","","","",null,1,{"$f":"IF(DMA!A31=\"\",\"\",DMA!A31)","v":""},{"$f":"IF(DMA!$E31=\"\",\"\",DMA!$E31/5*100)","v":""},{"$f":"IF(DMA!J31=\"\",\"\",DMA!J31)","v":""},{"$f":"IF(DMA!L31=\"\",\"\",DMA!L31)","v":""},{"$f":"IF(DMA!T31=\"\",\"\",DMA!T31)","v":""}]
[null,null,null,null,null,null,null,null,null,null,null,null,null,null,null,null,null,null,null,null,28,"","","","",null,1,{"$f":"IF(DMA!A32=\"\",\"\",DMA!A32)","v":""},{"$f":"IF(DMA!$E32=\"\",\"\",DMA!$E32/5*100)","v":""},{"$f":"IF(DMA!J32=\"\",\"\",DMA!J32)","v":""},{"$f":"IF(DMA!L32=\"\",\"\",DMA!L32)","v":""},{"$f":"IF(DMA!T32=\"\",\"\",DMA!T32)","v":""}]
[null,null,null,null,null,null,null,null,null,null,null,null,null,null,null,null,null,null,null,null,29,"","","","",null,1,{"$f":"IF(DMA!A33=\"\",\"\",DMA!A33)","v":""},{"$f":"IF(DMA!$E33=\"\",\"\",DMA!$E33/5*100)","v":""},{"$f":"IF(DMA!J33=\"\",\"\",DMA!J33)","v":""},{"$f":"IF(DMA!L33=\"\",\"\",DMA!L33)","v":""},{"$f":"IF(DMA!T33=\"\",\"\",DMA!T33)","v":""}]
[null,null,null,null,null,null,null,null,null,null,null,null,null,null,null,null,null,null,null,null,30,"","","","",null,1,{"$f":"IF(DMA!A34=\"\",\"\",DMA!A34)","v":""},{"$f":"IF(DMA!$E34=\"\",\"\",DMA!$E34/5*100)","v":""},{"$f":"IF(DMA!J34=\"\",\"\",DMA!J34)","v":""},{"$f":"IF(DMA!L34=\"\",\"\",DMA!L34)","v":""},{"$f":"IF(DMA!T34=\"\",\"\",DMA!T34)","v":""}]
[null,null,null,null,null,null,null,null,null,null,null,null,null,null,null,null,null,null,null,null,31,"","","","",null,1,{"$f":"IF(DMA!A35=\"\",\"\",DMA!A35)","v":""},{"$f":"IF(DMA!$E35=\"\",\"\",DMA!$E35/5*100)","v":""},{"$f":"IF(DMA!J35=\"\",\"\",DMA!J35)","v":""},{"$f":"IF(DMA!L35=\"\",\"\",DMA!L35)","v":""},{"$f":"IF(DMA!T35=\"\",\"\",DMA!T35)","v":""}]
[null,null,null,null,null,null,null,null,null,null,null,null,null,null,null,null,null,null,null,null,32,"","","","",null,1,{"$f":"IF(DMA!A36=\"\",\"\",DMA!A36)","v":""},{"$f":"IF(DMA!$E36=\"\",\"\",DMA!$E36/5*100)","v":""},{"$f":"IF(DMA!J36=\"\",\"\",DMA!J36)","v":""},{"$f":"IF(DMA!L36=\"\",\"\",DMA!L36)","v":""},{"$f":"IF(DMA!T36=\"\",\"\",DMA!T36)","v":""}]
[null,null,null,null,null,null,null,null,null,null,null,null,null,null,null,null,null,null,null,null,33,"","","","",null,1,{"$f":"IF(DMA!A37=\"\",\"\",DMA!A37)","v":""},{"$f":"IF(DMA!$E37=\"\",\"\",DMA!$E37/5*100)","v":""},{"$f":"IF(DMA!J37=\"\",\"\",DMA!J37)","v":""},{"$f":"IF(DMA!L37=\"\",\"\",DMA!L37)","v":""},{"$f":"IF(DMA!T37=\"\",\"\",DMA!T37)","v":""}]
[null,null,null,null,null,null,null,null,null,null,null,null,null,null,null,null,null,null,null,null,34,"","","","",null,1,{"$f":"IF(DMA!A38=\"\",\"\",DMA!A38)","v":""},{"$f":"IF(DMA!$E38=\"\",\"\",DMA!$E38/5*100)","v":""},{"$f":"IF(DMA!J38=\"\",\"\",DMA!J38)","v":""},{"$f":"IF(DMA!L38=\"\",\"\",DMA!L38)","v":""},{"$f":"IF(DMA!T38=\"\",\"\",DMA!T38)","v":""}]
[null,null,null,null,null,null,null,null,null,null,null,null,null,null,null,null,null,null,null,null,35,"","","","",null,1,{"$f":"IF(DMA!A39=\"\",\"\",DMA!A39)","v":""},{"$f":"IF(DMA!$E39=\"\",\"\",DMA!$E39/5*100)","v":""},{"$f":"IF(DMA!J39=\"\",\"\",DMA!J39)","v":""},{"$f":"IF(DMA!L39=\"\",\"\",DMA!L39)","v":""},{"$f":"IF(DMA!T39=\"\",\"\",DMA!T39)","v":""}]
[null,null,null,null,null,null,null,null,null,null,null,null,null,null,null,null,null,null,null,null,36,"","","","",null,1,{"$f":"IF(DMA!A40=\"\",\"\",DMA!A40)","v":""},{"$f":"IF(DMA!$E40=\"\",\"\",DMA!$E40/5*100)","v":""},{"$f":"IF(DMA!J40=\"\",\"\",DMA!J40)","v":""},{"$f":"IF(DMA!L40=\"\",\"\",DMA!L40)","v":""},{"$f":"IF(DMA!T40=\"\",\"\",DMA!T40)","v":""}]
[null,null,null,null,null,null,null,null,null,null,null,null,null,null,null,null,null,null,null,null,37,"","","","",null,1,{"$f":"IF(DMA!A41=\"\",\"\",DMA!A41)","v":""},{"$f":"IF(DMA!$E41=\"\",\"\",DMA!$E41/5*100)","v":""},{"$f":"IF(DMA!J41=\"\",\"\",DMA!J41)","v":""},{"$f":"IF(DMA!L41=\"\",\"\",DMA!L41)","v":""},{"$f":"IF(DMA!T41=\"\",\"\",DMA!T41)","v":""}]
[null,null,null,null,null,null,null,null,null,null,null,null,null,null,null,null,null,null,null,null,38,"","","","",null,1,{"$f":"IF(DMA!A42=\"\",\"\",DMA!A42)","v":""},{"$f":"IF(DMA!$E42=\"\",\"\",DMA!$E42/5*100)","v":""},{"$f":"IF(DMA!J42=\"\",\"\",DMA!J42)","v":""},{"$f":"IF(DMA!L42=\"\",\"\",DMA!L42)","v":""},{"$f":"IF(DMA!T42=\"\",\"\",DMA!T42)","v":""}]
[null,null,null,null,null,null,null,null,null,null,null,null,null,null,null,null,null,null,null,null,39,"","","","",null,1,{"$f":"IF(DMA!A43=\"\",\"\",DMA!A43)","v":""},{"$f":"IF(DMA!$E43=\"\",\"\",DMA!$E43/5*100)","v":""},{"$f":"IF(DMA!J43=\"\",\"\",DMA!J43)","v":""},{"$f":"IF(DMA!L43=\"\",\"\",DMA!L43)","v":""},{"$f":"IF(DMA!T43=\"\",\"\",DMA!T43)","v":""}]
[null,null,null,null,null,null,null,null,null,null,null,null,null,null,null,null,null,null,null,null,40,"","","","",null,1,{"$f":"IF(DMA!A44=\"\",\"\",DMA!A44)","v":""},{"$f":"IF(DMA!$E44=\"\",\"\",DMA!$E44/5*100)","v":""},{"$f":"IF(DMA!J44=\"\",\"\",DMA!J44)","v":""},{"$f":"IF(DMA!L44=\"\",\"\",DMA!L44)","v":""},{"$f":"IF(DMA!T44=\"\",\"\",DMA!T44)","v":""}]
[null,null,null,null,null,null,null,null,null,null,null,null,null,null,null,null,null,null,null,null,41,"","","","",null,1,{"$f":"IF(DMA!A45=\"\",\"\",DMA!A45)","v":""},{"$f":"IF(DMA!$E45=\"\",\"\",DMA!$E45/5*100)","v":""},{"$f":"IF(DMA!J45=\"\",\"\",DMA!J45)","v":""},{"$f":"IF(DMA!L45=\"\",\"\",DMA!L45)","v":""},{"$f":"IF(DMA!T45=\"\",\"\",DMA!T45)","v":""}]
[null,null,null,null,null,null,null,null,null,null,null,null,null,null,null,null,null,null,null,null,42,"","","","",null,1,{"$f":"IF(DMA!A46=\"\",\"\",DMA!A46)","v":""},{"$f":"IF(DMA!$E46=\"\",\"\",DMA!$E46/5*100)","v":""},{"$f":"IF(DMA!J46=\"\",\"\",DMA!J46)","v":""},{"$f":"IF(DMA!L46=\"\",\"\",DMA!L46)","v":""},{"$f":"IF(DMA!T46=\"\",\"\",DMA!T46)","v":""}]
[null,null,null,null,null,null,null,null,null,null,null,null,null,null,null,null,null,null,null,null,43,"","","","",null,1,{"$f":"IF(DMA!A47=\"\",\"\",DMA!A47)","v":""},{"$f":"IF(DMA!$E47=\"\",\"\",DMA!$E47/5*100)","v":""},{"$f":"IF(DMA!J47=\"\",\"\",DMA!J47)","v":""},{"$f":"IF(DMA!L47=\"\",\"\",DMA!L47)","v":""},{"$f":"IF(DMA!T47=\"\",\"\",DMA!T47)","v":""}]
[null,null,null,null,null,null,null,null,null,null,null,null,null,null,null,null,null,null,null,null,44,"","","","",null,1,{"$f":"IF(DMA!A48=\"\",\"\",DMA!A48)","v":""},{"$f":"IF(DMA!$E48=\"\",\"\",DMA!$E48/5*100)","v":""},{"$f":"IF(DMA!J48=\"\",\"\",DMA!J48)","v":""},{"$f":"IF(DMA!L48=\"\",\"\",DMA!L48)","v":""},{"$f":"IF(DMA!T48=\"\",\"\",DMA!T48)","v":""}]
[null,null,null,null,null,null,null,null,null,null,null,null,null,null,null,null,null,null,null,null,45,"","","","",null,1,{"$f":"IF(DMA!A49=\"\",\"\",DMA!A49)","v":""},{"$f":"IF(DMA!$E49=\"\",\"\",DMA!$E49/5*100)","v":""},{"$f":"IF(DMA!J49=\"\",\"\",DMA!J49)","v":""},{"$f":"IF(DMA!L49=\"\",\"\",DMA!L49)","v":""},{"$f":"IF(DMA!T49=\"\",\"\",DMA!T49)","v":""}]
[null,null,null,null,null,null,null,null,null,null,null,null,null,null,null,null,null,null,null,null,46,"","","","",null,1,{"$f":"IF(DMA!A50=\"\",\"\",DMA!A50)","v":""},{"$f":"IF(DMA!$E50=\"\",\"\",DMA!$E50/5*100)","v":""},{"$f":"IF(DMA!J50=\"\",\"\",DMA!J50)","v":""},{"$f":"IF(DMA!L50=\"\",\"\",DMA!L50)","v":""},{"$f":"IF(DMA!T50=\"\",\"\",DMA!T50)","v":""}]
[null,null,null,null,null,null,null,null,null,null,null,null,null,null,null,null,null,null,null,null,47,"","","","",null,1,{"$f":"IF(DMA!A51=\"\",\"\",DMA!A51)","v":""},{"$f":"IF(DMA!$E51=\"\",\"\",DMA!$E51/5*100)","v":""},{"$f":"IF(DMA!J51=\"\",\"\",DMA!J51)","v":""},{"$f":"IF(DMA!L51=\"\",\"\",DMA!L51)","v":""},{"$f":"IF(DMA!T51=\"\",\"\",DMA!T51)","v":""}]
[null,null,null,null,null,null,null,null,null,null,null,null,null,null,null,null,null,null,null,null,48,"","","","",null,1,{"$f":"IF(DMA!A52=\"\",\"\",DMA!A52)","v":""},{"$f":"IF(DMA!$E52=\"\",\"\",DMA!$E52/5*100)","v":""},{"$f":"IF(DMA!J52=\"\",\"\",DMA!J52)","v":""},{"$f":"IF(DMA!L52=\"\",\"\",DMA!L52)","v":""},{"$f":"IF(DMA!T52=\"\",\"\",DMA!T52)","v":""}]
[null,null,null,null,null,null,null,null,null,null,null,null,null,null,null,null,null,null,null,null,49,"","","","",null,1,{"$f":"IF(DMA!A53=\"\",\"\",DMA!A53)","v":""},{"$f":"IF(DMA!$E53=\"\",\"\",DMA!$E53/5*100)","v":""},{"$f":"IF(DMA!J53=\"\",\"\",DMA!J53)","v":""},{"$f":"IF(DMA!L53=\"\",\"\",DMA!L53)","v":""},{"$f":"IF(DMA!T53=\"\",\"\",DMA!T53)","v":""}]
[null,null,null,null,null,null,null,null,null,null,null,null,null,null,null,null,null,null,null,null,50,"","","","",null,1,{"$f":"IF(DMA!A54=\"\",\"\",DMA!A54)","v":""},{"$f":"IF(DMA!$E54=\"\",\"\",DMA!$E54/5*100)","v":""},{"$f":"IF(DMA!J54=\"\",\"\",DMA!J54)","v":""},{"$f":"IF(DMA!L54=\"\",\"\",DMA!L54)","v":""},{"$f":"IF(DMA!T54=\"\",\"\",DMA!T54)","v":""}]
[null,null,null,null,null,null,null,null,null,null,null,null,null,null,null,null,null,null,null,null,51,"","","","",null,1,{"$f":"IF(DMA!A55=\"\",\"\",DMA!A55)","v":""},{"$f":"IF(DMA!$E55=\"\",\"\",DMA!$E55/5*100)","v":""},{"$f":"IF(DMA!J55=\"\",\"\",DMA!J55)","v":""},{"$f":"IF(DMA!L55=\"\",\"\",DMA!L55)","v":""},{"$f":"IF(DMA!T55=\"\",\"\",DMA!T55)","v":""}]
[null,null,null,null,null,null,null,null,null,null,null,null,null,null,null,null,null,null,null,null,52,"","","","",null,1,{"$f":"IF(DMA!A56=\"\",\"\",DMA!A56)","v":""},{"$f":"IF(DMA!$E56=\"\",\"\",DMA!$E56/5*100)","v":""},{"$f":"IF(DMA!J56=\"\",\"\",DMA!J56)","v":""},{"$f":"IF(DMA!L56=\"\",\"\",DMA!L56)","v":""},{"$f":"IF(DMA!T56=\"\",\"\",DMA!T56)","v":""}]
[null,null,null,null,null,null,null,null,null,null,null,null,null,null,null,null,null,null,null,null,53,"","","","",null,1,{"$f":"IF(DMA!A57=\"\",\"\",DMA!A57)","v":""},{"$f":"IF(DMA!$E57=\"\",\"\",DMA!$E57/5*100)","v":""},{"$f":"IF(DMA!J57=\"\",\"\",DMA!J57)","v":""},{"$f":"IF(DMA!L57=\"\",\"\",DMA!L57)","v":""},{"$f":"IF(DMA!T57=\"\",\"\",DMA!T57)","v":""}]
[null,null,null,null,null,null,null,null,null,null,null,null,null,null,null,null,null,null,null,null,54,"","","","",null,1,{"$f":"IF(DMA!A58=\"\",\"\",DMA!A58)","v":""},{"$f":"IF(DMA!$E58=\"\",\"\",DMA!$E58/5*100)","v":""},{"$f":"IF(DMA!J58=\"\",\"\",DMA!J58)","v":""},{"$f":"IF(DMA!L58=\"\",\"\",DMA!L58)","v":""},{"$f":"IF(DMA!T58=\"\",\"\",DMA!T58)","v":""}]
[null,null,null,null,null,null,null,null,null,null,null,null,null,null,null,null,null,null,null,null,55,"","","","",null,1,{"$f":"IF(DMA!A59=\"\",\"\",DMA!A59)","v":""},{"$f":"IF(DMA!$E59=\"\",\"\",DMA!$E59/5*100)","v":""},{"$f":"IF(DMA!J59=\"\",\"\",DMA!J59)","v":""},{"$f":"IF(DMA!L59=\"\",\"\",DMA!L59)","v":""},{"$f":"IF(DMA!T59=\"\",\"\",DMA!T59)","v":""}]
[null,null,null,null,null,null,null,null,null,null,null,null,null,null,null,null,null,null,null,null,56,"","","","",null,1,{"$f":"IF(DMA!A60=\"\",\"\",DMA!A60)","v":""},{"$f":"IF(DMA!$E60=\"\",\"\",DMA!$E60/5*100)","v":""},{"$f":"IF(DMA!J60=\"\",\"\",DMA!J60)","v":""},{"$f":"IF(DMA!L60=\"\",\"\",DMA!L60)","v":""},{"$f":"IF(DMA!T60=\"\",\"\",DMA!T60)","v":""}]
[null,null,null,null,null,null,null,null,null,null,null,null,null,null,null,null,null,null,null,null,57,"","","","",null,1,{"$f":"IF(DMA!A61=\"\",\"\",DMA!A61)","v":""},{"$f":"IF(DMA!$E61=\"\",\"\",DMA!$E61/5*100)","v":""},{"$f":"IF(DMA!J61=\"\",\"\",DMA!J61)","v":""},{"$f":"IF(DMA!L61=\"\",\"\",DMA!L61)","v":""},{"$f":"IF(DMA!T61=\"\",\"\",DMA!T61)","v":""}]
[null,null,null,null,null,null,null,null,null,null,null,null,null,null,null,null,null,null,null,null,58,"","","","",null,1,{"$f":"IF(DMA!A62=\"\",\"\",DMA!A62)","v":""},{"$f":"IF(DMA!$E62=\"\",\"\",DMA!$E62/5*100)","v":""},{"$f":"IF(DMA!J62=\"\",\"\",DMA!J62)","v":""},{"$f":"IF(DMA!L62=\"\",\"\",DMA!L62)","v":""},{"$f":"IF(DMA!T62=\"\",\"\",DMA!T62)","v":""}]
[null,null,null,null,null,null,null,null,null,null,null,null,null,null,null,null,null,null,null,null,59,"","","","",null,1,{"$f":"IF(DMA!A63=\"\",\"\",DMA!A63)","v":""},{"$f":"IF(DMA!$E63=\"\",\"\",DMA!$E63/5*100)","v":""},{"$f":"IF(DMA!J63=\"\",\"\",DMA!J63)","v":""},{"$f":"IF(DMA!L63=\"\",\"\",DMA!L63)","v":""},{"$f":"IF(DMA!T63=\"\",\"\",DMA!T63)","v":""}]
[null,null,null,null,null,null,null,null,null,null,null,null,null,null,null,null,null,null,null,null,60,"","","","",null,1,{"$f":"IF(DMA!A64=\"\",\"\",DMA!A64)","v":""},{"$f":"IF(DMA!$E64=\"\",\"\",DMA!$E64/5*100)","v":""},{"$f":"IF(DMA!J64=\"\",\"\",DMA!J64)","v":""},{"$f":"IF(DMA!L64=\"\",\"\",DMA!L64)","v":""},{"$f":"IF(DMA!T64=\"\",\"\",DMA!T64)","v":""}]
[null,null,null,null,null,null,null,null,null,null,null,null,null,null,null,null,null,null,null,null,61,"","","","",null,1,{"$f":"IF(DMA!A65=\"\",\"\",DMA!A65)","v":""},{"$f":"IF(DMA!$E65=\"\",\"\",DMA!$E65/5*100)","v":""},{"$f":"IF(DMA!J65=\"\",\"\",DMA!J65)","v":""},{"$f":"IF(DMA!L65=\"\",\"\",DMA!L65)","v":""},{"$f":"IF(DMA!T65=\"\",\"\",DMA!T65)","v":""}]
[null,null,null,null,null,null,null,null,null,null,null,null,null,null,null,null,null,null,null,null,62,"","","","",null,1,{"$f":"IF(DMA!A66=\"\",\"\",DMA!A66)","v":""},{"$f":"IF(DMA!$E66=\"\",\"\",DMA!$E66/5*100)","v":""},{"$f":"IF(DMA!J66=\"\",\"\",DMA!J66)","v":""},{"$f":"IF(DMA!L66=\"\",\"\",DMA!L66)","v":""},{"$f":"IF(DMA!T66=\"\",\"\",DMA!T66)","v":""}]
[null,null,null,null,null,null,null,null,null,null,null,null,null,null,null,null,null,null,null,null,63,"","","","",null,1,{"$f":"IF(DMA!A67=\"\",\"\",DMA!A67)","v":""},{"$f":"IF(DMA!$E67=\"\",\"\",DMA!$E67/5*100)","v":""},{"$f":"IF(DMA!J67=\"\",\"\",DMA!J67)","v":""},{"$f":"IF(DMA!L67=\"\",\"\",DMA!L67)","v":""},{"$f":"IF(DMA!T67=\"\",\"\",DMA!T67)","v":""}]
[null,null,null,null,null,null,null,null,null,null,null,null,null,null,null,null,null,null,null,null,64,"","","","",null,1,{"$f":"IF(DMA!A68=\"\",\"\",DMA!A68)","v":""},{"$f":"IF(DMA!$E68=\"\",\"\",DMA!$E68/5*100)","v":""},{"$f":"IF(DMA!J68=\"\",\"\",DMA!J68)","v":""},{"$f":"IF(DMA!L68=\"\",\"\",DMA!L68)","v":""},{"$f":"IF(DMA!T68=\"\",\"\",DMA!T68)","v":""}]
[null,null,null,null,null,null,null,null,null,null,null,null,null,null,null,null,null,null,null,null,65,"","","","",null,1,{"$f":"IF(DMA!A69=\"\",\"\",DMA!A69)","v":""},{"$f":"IF(DMA!$E69=\"\",\"\",DMA!$E69/5*100)","v":""},{"$f":"IF(DMA!J69=\"\",\"\",DMA!J69)","v":""},{"$f":"IF(DMA!L69=\"\",\"\",DMA!L69)","v":""},{"$f":"IF(DMA!T69=\"\",\"\",DMA!T69)","v":""}]
[null,null,null,null,null,null,null,null,null,null,null,null,null,null,null,null,null,null,null,null,66,{"$f":"IF(ISERROR(AVERAGEIF(AA:AA,U67,AC:AC)),\"\",AVERAGEIF(AA:AA,U67,AC:AC))","v":""},"","","",null,1,{"$f":"IF(DMA!A70=\"\",\"\",DMA!A70)","v":""},{"$f":"IF(DMA!$E70=\"\",\"\",DMA!$E70/5*100)","v":""},{"$f":"IF(DMA!J70=\"\",\"\",DMA!J70)","v":""},{"$f":"IF(DMA!L70=\"\",\"\",DMA!L70)","v":""},{"$f":"IF(DMA!T70=\"\",\"\",DMA!T70)","v":""}]
[null,null,null,null,null,null,null,null,null,null,null,null,null,null,null,null,null,null,null,null,67,"","","","",null,{"$f":"IF(AB68=AA67+1,AB68,AA67)","v":1},{"$f":"IF(DMA!A71=\"\",\"\",DMA!A71)","v":""},{"$f":"IF(DMA!$E71=\"\",\"\",DMA!$E71/5*100)","v":""},{"$f":"IF(DMA!J71=\"\",\"\",DMA!J71)","v":""},{"$f":"IF(DMA!L71=\"\",\"\",DMA!L71)","v":""},{"$f":"IF(DMA!T71=\"\",\"\",DMA!T71)","v":""}]
[null,null,null,null,null,null,null,null,null,null,null,null,null,null,null,null,null,null,null,null,68,"","","","",null,1,{"$f":"IF(DMA!A72=\"\",\"\",DMA!A72)","v":""},{"$f":"IF(DMA!$E72=\"\",\"\",DMA!$E72/5*100)","v":""},{"$f":"IF(DMA!J72=\"\",\"\",DMA!J72)","v":""},{"$f":"IF(DMA!L72=\"\",\"\",DMA!L72)","v":""},{"$f":"IF(DMA!T72=\"\",\"\",DMA!T72)","v":""}]
[null,null,null,null,null,null,null,null,null,null,null,null,null,null,null,null,null,null,null,null,69,"","","","",null,1,{"$f":"IF(DMA!A73=\"\",\"\",DMA!A73)","v":""},{"$f":"IF(DMA!$E73=\"\",\"\",DMA!$E73/5*100)","v":""},{"$f":"IF(DMA!J73=\"\",\"\",DMA!J73)","v":""},{"$f":"IF(DMA!L73=\"\",\"\",DMA!L73)","v":""},{"$f":"IF(DMA!T73=\"\",\"\",DMA!T73)","v":""}]
[null,null,null,null,null,null,null,null,null,null,null,null,null,null,null,null,null,null,null,null,70,"","","","",null,1,{"$f":"IF(DMA!A74=\"\",\"\",DMA!A74)","v":""},{"$f":"IF(DMA!$E74=\"\",\"\",DMA!$E74/5*100)","v":""},{"$f":"IF(DMA!J74=\"\",\"\",DMA!J74)","v":""},{"$f":"IF(DMA!L74=\"\",\"\",DMA!L74)","v":""},{"$f":"IF(DMA!T74=\"\",\"\",DMA!T74)","v":""}]
[null,null,null,null,null,null,null,null,null,null,null,null,null,null,null,null,null,null,null,null,71,"","","","",null,1,{"$f":"IF(DMA!A75=\"\",\"\",DMA!A75)","v":""},{"$f":"IF(DMA!$E75=\"\",\"\",DMA!$E75/5*100)","v":""},{"$f":"IF(DMA!J75=\"\",\"\",DMA!J75)","v":""},{"$f":"IF(DMA!L75=\"\",\"\",DMA!L75)","v":""},{"$f":"IF(DMA!T75=\"\",\"\",DMA!T75)","v":""}]
[null,null,null,null,null,null,null,null,null,null,null,null,null,null,null,null,null,null,null,null,72,"","","","",null,1,{"$f":"IF(DMA!A76=\"\",\"\",DMA!A76)","v":""},{"$f":"IF(DMA!$E76=\"\",\"\",DMA!$E76/5*100)","v":""},{"$f":"IF(DMA!J76=\"\",\"\",DMA!J76)","v":""},{"$f":"IF(DMA!L76=\"\",\"\",DMA!L76)","v":""},{"$f":"IF(DMA!T76=\"\",\"\",DMA!T76)","v":""}]
[null,null,null,null,null,null,null,null,null,null,null,null,null,null,null,null,null,null,null,null,73,"","","","",null,1,{"$f":"IF(DMA!A77=\"\",\"\",DMA!A77)","v":""},{"$f":"IF(DMA!$E77=\"\",\"\",DMA!$E77/5*100)","v":""},{"$f":"IF(DMA!J77=\"\",\"\",DMA!J77)","v":""},{"$f":"IF(DMA!L77=\"\",\"\",DMA!L77)","v":""},{"$f":"IF(DMA!T77=\"\",\"\",DMA!T77)","v":""}]
[null,null,null,null,null,null,null,null,null,null,null,null,null,null,null,null,null,null,null,null,74,"","","","",null,1,{"$f":"IF(DMA!A78=\"\",\"\",DMA!A78)","v":""},{"$f":"IF(DMA!$E78=\"\",\"\",DMA!$E78/5*100)","v":""},{"$f":"IF(DMA!J78=\"\",\"\",DMA!J78)","v":""},{"$f":"IF(DMA!L78=\"\",\"\",DMA!L78)","v":""},{"$f":"IF(DMA!T78=\"\",\"\",DMA!T78)","v":""}]
[null,null,null,null,null,null,null,null,null,null,null,null,null,null,null,null,null,null,null,null,75,"",{"$f":"IF(ISERROR(AVERAGEIF($AA:$AA,$U76,AD:AD)),\"\",AVERAGEIF($AA:$AA,$U76,AD:AD))","v":""},{"$f":"IF(ISERROR(AVERAGEIF($AA:$AA,$U76,AE:AE)),\"\",AVERAGEIF($AA:$AA,$U76,AE:AE))","v":""},{"$f":"IF(ISERROR(AVERAGEIF($AA:$AA,$U76,AF:AF)),\"\",AVERAGEIF($AA:$AA,$U76,AF:AF))","v":""},null,1,{"$f":"IF(DMA!A79=\"\",\"\",DMA!A79)","v":""},{"$f":"IF(DMA!$E79=\"\",\"\",DMA!$E79/5*100)","v":""},{"$f":"IF(DMA!J79=\"\",\"\",DMA!J79)","v":""},{"$f":"IF(DMA!L79=\"\",\"\",DMA!L79)","v":""},{"$f":"IF(DMA!T79=\"\",\"\",DMA!T79)","v":""}]
[null,null,null,null,null,null,null,null,null,null,null,null,null,null,null,null,null,null,null,null,76,"","","","",null,1,{"$f":"IF(DMA!A80=\"\",\"\",DMA!A80)","v":""},{"$f":"IF(DMA!$E80=\"\",\"\",DMA!$E80/5*100)","v":""},{"$f":"IF(DMA!J80=\"\",\"\",DMA!J80)","v":""},{"$f":"IF(DMA!L80=\"\",\"\",DMA!L80)","v":""},{"$f":"IF(DMA!T80=\"\",\"\",DMA!T80)","v":""}]
[null,null,null,null,null,null,null,null,null,null,null,null,null,null,null,null,null,null,null,null,77,"","","","",null,1,{"$f":"IF(DMA!A81=\"\",\"\",DMA!A81)","v":""},{"$f":"IF(DMA!$E81=\"\",\"\",DMA!$E81/5*100)","v":""},{"$f":"IF(DMA!J81=\"\",\"\",DMA!J81)","v":""},{"$f":"IF(DMA!L81=\"\",\"\",DMA!L81)","v":""},{"$f":"IF(DMA!T81=\"\",\"\",DMA!T81)","v":""}]
[null,null,null,null,null,null,null,null,null,null,null,null,null,null,null,null,null,null,null,null,78,"","","","",null,1,{"$f":"IF(DMA!A82=\"\",\"\",DMA!A82)","v":""},{"$f":"IF(DMA!$E82=\"\",\"\",DMA!$E82/5*100)","v":""},{"$f":"IF(DMA!J82=\"\",\"\",DMA!J82)","v":""},{"$f":"IF(DMA!L82=\"\",\"\",DMA!L82)","v":""},{"$f":"IF(DMA!T82=\"\",\"\",DMA!T82)","v":""}]
[null,null,null,null,null,null,null,null,null,null,null,null,null,null,null,null,null,null,null,null,79,"","","","",null,1,{"$f":"IF(DMA!A83=\"\",\"\",DMA!A83)","v":""},{"$f":"IF(DMA!$E83=\"\",\"\",DMA!$E83/5*100)","v":""},{"$f":"IF(DMA!J83=\"\",\"\",DMA!J83)","v":""},{"$f":"IF(DMA!L83=\"\",\"\",DMA!L83)","v":""},{"$f":"IF(DMA!T83=\"\",\"\",DMA!T83)","v":""}]
[null,null,null,null,null,null,null,null,null,null,null,null,null,null,null,null,null,null,null,null,80,"","","","",null,1,{"$f":"IF(DMA!A84=\"\",\"\",DMA!A84)","v":""},{"$f":"IF(DMA!$E84=\"\",\"\",DMA!$E84/5*100)","v":""},{"$f":"IF(DMA!J84=\"\",\"\",DMA!J84)","v":""},{"$f":"IF(DMA!L84=\"\",\"\",DMA!L84)","v":""},{"$f":"IF(DMA!T84=\"\",\"\",DMA!T84)","v":""}]
[null,null,null,null,null,null,null,null,null,null,null,null,null,null,null,null,null,null,null,null,81,"","","","",null,1,{"$f":"IF(DMA!A85=\"\",\"\",DMA!A85)","v":""},{"$f":"IF(DMA!$E85=\"\",\"\",DMA!$E85/5*100)","v":""},{"$f":"IF(DMA!J85=\"\",\"\",DMA!J85)","v":""},{"$f":"IF(DMA!L85=\"\",\"\",DMA!L85)","v":""},{"$f":"IF(DMA!T85=\"\",\"\",DMA!T85)","v":""}]
[null,null,null,null,null,null,null,null,null,null,null,null,null,null,null,null,null,null,null,null,82,"","","","",null,1,{"$f":"IF(DMA!A86=\"\",\"\",DMA!A86)","v":""},{"$f":"IF(DMA!$E86=\"\",\"\",DMA!$E86/5*100)","v":""},{"$f":"IF(DMA!J86=\"\",\"\",DMA!J86)","v":""},{"$f":"IF(DMA!L86=\"\",\"\",DMA!L86)","v":""},{"$f":"IF(DMA!T86=\"\",\"\",DMA!T86)","v":""}]
[null,null,null,null,null,null,null,null,null,null,null,null,null,null,null,null,null,null,null,null,83,"","","","",null,1,{"$f":"IF(DMA!A87=\"\",\"\",DMA!A87)","v":""},{"$f":"IF(DMA!$E87=\"\",\"\",DMA!$E87/5*100)","v":""},{"$f":"IF(DMA!J87=\"\",\"\",DMA!J87)","v":""},{"$f":"IF(DMA!L87=\"\",\"\",DMA!L87)","v":""},{"$f":"IF(DMA!T87=\"\",\"\",DMA!T87)","v":""}]
[null,null,null,null,null,null,null,null,null,null,null,null,null,null,null,null,null,null,null,null,84,"","","","",null,1,{"$f":"IF(DMA!A88=\"\",\"\",DMA!A88)","v":""},{"$f":"IF(DMA!$E88=\"\",\"\",DMA!$E88/5*100)","v":""},{"$f":"IF(DMA!J88=\"\",\"\",DMA!J88)","v":""},{"$f":"IF(DMA!L88=\"\",\"\",DMA!L88)","v":""},{"$f":"IF(DMA!T88=\"\",\"\",DMA!T88)","v":""}]
[null,null,null,null,null,null,null,null,null,null,null,null,null,null,null,null,null,null,null,null,85,"","","","",null,1,{"$f":"IF(DMA!A89=\"\",\"\",DMA!A89)","v":""},{"$f":"IF(DMA!$E89=\"\",\"\",DMA!$E89/5*100)","v":""},{"$f":"IF(DMA!J89=\"\",\"\",DMA!J89)","v":""},{"$f":"IF(DMA!L89=\"\",\"\",DMA!L89)","v":""},{"$f":"IF(DMA!T89=\"\",\"\",DMA!T89)","v":""}]
[null,null,null,null,null,null,null,null,null,null,null,null,null,null,null,null,null,null,null,null,86,"","","","",null,1,{"$f":"IF(DMA!A90=\"\",\"\",DMA!A90)","v":""},{"$f":"IF(DMA!$E90=\"\",\"\",DMA!$E90/5*100)","v":""},{"$f":"IF(DMA!J90=\"\",\"\",DMA!J90)","v":""},{"$f":"IF(DMA!L90=\"\",\"\",DMA!L90)","v":""},{"$f":"IF(DMA!T90=\"\",\"\",DMA!T90)","v":""}]
[null,null,null,null,null,null,null,null,null,null,null,null,null,null,null,null,null,null,null,null,87,"","","","",null,1,{"$f":"IF(DMA!A91=\"\",\"\",DMA!A91)","v":""},{"$f":"IF(DMA!$E91=\"\",\"\",DMA!$E91/5*100)","v":""},{"$f":"IF(DMA!J91=\"\",\"\",DMA!J91)","v":""},{"$f":"IF(DMA!L91=\"\",\"\",DMA!L91)","v":""},{"$f":"IF(DMA!T91=\"\",\"\",DMA!T91)","v":""}]
[null,null,null,null,null,null,null,null,null,null,null,null,null,null,null,null,null,null,null,null,88,"","","","",null,1,{"$f":"IF(DMA!A92=\"\",\"\",DMA!A92)","v":""},{"$f":"IF(DMA!$E92=\"\",\"\",DMA!$E92/5*100)","v":""},{"$f":"IF(DMA!J92=\"\",\"\",DMA!J92)","v":""},{"$f":"IF(DMA!L92=\"\",\"\",DMA!L92)","v":""},{"$f":"IF(DMA!T92=\"\",\"\",DMA!T92)","v":""}]
[null,null,null,null,null,null,null,null,null,null,null,null,null,null,null,null,null,null,null,null,89,"","","","",null,1,{"$f":"IF(DMA!A93=\"\",\"\",DMA!A93)","v":""},{"$f":"IF(DMA!$E93=\"\",\"\",DMA!$E93/5*100)","v":""},{"$f":"IF(DMA!J93=\"\",\"\",DMA!J93)","v":""},{"$f":"IF(DMA!L93=\"\",\"\",DMA!L93)","v":""},{"$f":"IF(DMA!T93=\"\",\"\",DMA!T93)","v":""}]
[null,null,null,null,null,null,null,null,null,null,null,null,null,null,null,null,null,null,null,null,90,"","","","",null,1,{"$f":"IF(DMA!A94=\"\",\"\",DMA!A94)","v":""},{"$f":"IF(DMA!$E94=\"\",\"\",DMA!$E94/5*100)","v":""},{"$f":"IF(DMA!J94=\"\",\"\",DMA!J94)","v":""},{"$f":"IF(DMA!L94=\"\",\"\",DMA!L94)","v":""},{"$f":"IF(DMA!T94=\"\",\"\",DMA!T94)","v":""}]
[null,null,null,null,null,null,null,null,null,null,null,null,null,null,null,null,null,null,null,null,91,"","","","",null,1,{"$f":"IF(DMA!A95=\"\",\"\",DMA!A95)","v":""},{"$f":"IF(DMA!$E95=\"\",\"\",DMA!$E95/5*100)","v":""},{"$f":"IF(DMA!J95=\"\",\"\",DMA!J95)","v":""},{"$f":"IF(DMA!L95=\"\",\"\",DMA!L95)","v":""},{"$f":"IF(DMA!T95=\"\",\"\",DMA!T95)","v":""}]
[null,null,null,null,null,null,null,null,null,null,null,null,null,null,null,null,null,null,null,null,92,"","","","",null,1,{"$f":"IF(DMA!A96=\"\",\"\",DMA!A96)","v":""},{"$f":"IF(DMA!$E96=\"\",\"\",DMA!$E96/5*100)","v":""},{"$f":"IF(DMA!J96=\"\",\"\",DMA!J96)","v":""},{"$f":"IF(DMA!L96=\"\",\"\",DMA!L96)","v":""},{"$f":"IF(DMA!T96=\"\",\"\",DMA!T96)","v":""}]
[null,null,null,null,null,null,null,null,null,null,null,null,null,null,null,null,null,null,null,null,93,"","","","",null,1,{"$f":"IF(DMA!A97=\"\",\"\",DMA!A97)","v":""},{"$f":"IF(DMA!$E97=\"\",\"\",DMA!$E97/5*100)","v":""},{"$f":"IF(DMA!J97=\"\",\"\",DMA!J97)","v":""},{"$f":"IF(DMA!L97=\"\",\"\",DMA!L97)","v":""},{"$f":"IF(DMA!T97=\"\",\"\",DMA!T97)","v":""}]
[null,null,null,null,null,null,null,null,null,null,null,null,null,null,null,null,null,null,null,null,94,"","","","",null,1,{"$f":"IF(DMA!A98=\"\",\"\",DMA!A98)","v":""},{"$f":"IF(DMA!$E98=\"\",\"\",DMA!$E98/5*100)","v":""},{"$f":"IF(DMA!J98=\"\",\"\",DMA!J98)","v":""},{"$f":"IF(DMA!L98=\"\",\"\",DMA!L98)","v":""},{"$f":"IF(DMA!T98=\"\",\"\",DMA!T98)","v":""}]
[null,null,null,null,null,null,null,null,null,null,null,null,null,null,null,null,null,null,null,null,95,"","","","",null,1,{"$f":"IF(DMA!A99=\"\",\"\",DMA!A99)","v":""},{"$f":"IF(DMA!$E99=\"\",\"\",DMA!$E99/5*100)","v":""},{"$f":"IF(DMA!J99=\"\",\"\",DMA!J99)","v":""},{"$f":"IF(DMA!L99=\"\",\"\",DMA!L99)","v":""},{"$f":"IF(DMA!T99=\"\",\"\",DMA!T99)","v":""}]
[null,null,null,null,null,null,null,null,null,null,null,null,null,null,null,null,null,null,null,null,96,"","","","",null,1,{"$f":"IF(DMA!A100=\"\",\"\",DMA!A100)","v":""},{"$f":"IF(DMA!$E100=\"\",\"\",DMA!$E100/5*100)","v":""},{"$f":"IF(DMA!J100=\"\",\"\",DMA!J100)","v":""},{"$f":"IF(DMA!L100=\"\",\"\",DMA!L100)","v":""},{"$f":"IF(DMA!T100=\"\",\"\",DMA!T100)","v":""}]
[null,null,null,null,null,null,null,null,null,null,null,null,null,null,null,null,null,null,null,null,97,"","","","",null,1,{"$f":"IF(DMA!A101=\"\",\"\",DMA!A101)","v":""},{"$f":"IF(DMA!$E101=\"\",\"\",DMA!$E101/5*100)","v":""},{"$f":"IF(DMA!J101=\"\",\"\",DMA!J101)","v":""},{"$f":"IF(DMA!L101=\"\",\"\",DMA!L101)","v":""},{"$f":"IF(DMA!T101=\"\",\"\",DMA!T101)","v":""}]
[null,null,null,null,null,null,null,null,null,null,null,null,null,null,null,null,null,null,null,null,98,"","","","",null,1,{"$f":"IF(DMA!A102=\"\",\"\",DMA!A102)","v":""},{"$f":"IF(DMA!$E102=\"\",\"\",DMA!$E102/5*100)","v":""},{"$f":"IF(DMA!J102=\"\",\"\",DMA!J102)","v":""},{"$f":"IF(DMA!L102=\"\",\"\",DMA!L102)","v":""},{"$f":"IF(DMA!T102=\"\",\"\",DMA!T102)","v":""}]
[null,null,null,null,null,null,null,null,null,null,null,null,null,null,null,null,null,null,null,null,99,"","","","",null,1,{"$f":"IF(DMA!A103=\"\",\"\",DMA!A103)","v":""},{"$f":"IF(DMA!$E103=\"\",\"\",DMA!$E103/5*100)","v":""},{"$f":"IF(DMA!J103=\"\",\"\",DMA!J103)","v":""},{"$f":"IF(DMA!L103=\"\",\"\",DMA!L103)","v":""},{"$f":"IF(DMA!T103=\"\",\"\",DMA!T103)","v":""}]
[null,null,null,null,null,null,null,null,null,null,null,null,null,null,null,null,null,null,null,null,100,"","","","",null,1,{"$f":"IF(DMA!A104=\"\",\"\",DMA!A104)","v":""},{"$f":"IF(DMA!$E104=\"\",\"\",DMA!$E104/5*100)","v":""},{"$f":"IF(DMA!J104=\"\",\"\",DMA!J104)","v":""},{"$f":"IF(DMA!L104=\"\",\"\",DMA!L104)","v":""},{"$f":"IF(DMA!T104=\"\",\"\",DMA!T104)","v":""}]
[null,null,null,null,null,null,null,null,null,null,null,null,null,null,null,null,null,null,null,null,101,"","","","",null,1,{"$f":"IF(DMA!A105=\"\",\"\",DMA!A105)","v":""},{"$f":"IF(DMA!$E105=\"\",\"\",DMA!$E105/5*100)","v":""},{"$f":"IF(DMA!J105=\"\",\"\",DMA!J105)","v":""},{"$f":"IF(DMA!L105=\"\",\"\",DMA!L105)","v":""},{"$f":"IF(DMA!T105=\"\",\"\",DMA!T105)","v":""}]
[null,null,null,null,null,null,null,null,null,null,null,null,null,null,null,null,null,null,null,null,102,"","","","",null,1,{"$f":"IF(DMA!A106=\"\",\"\",DMA!A106)","v":""},{"$f":"IF(DMA!$E106=\"\",\"\",DMA!$E106/5*100)","v":""},{"$f":"IF(DMA!J106=\"\",\"\",DMA!J106)","v":""},{"$f":"IF(DMA!L106=\"\",\"\",DMA!L106)","v":""},{"$f":"IF(DMA!T106=\"\",\"\",DMA!T106)","v":""}]
[null,null,null,null,null,null,null,null,null,null,null,null,null,null,null,null,null,null,null,null,103,"","","","",null,1,{"$f":"IF(DMA!A107=\"\",\"\",DMA!A107)","v":""},{"$f":"IF(DMA!$E107=\"\",\"\",DMA!$E107/5*100)","v":""},{"$f":"IF(DMA!J107=\"\",\"\",DMA!J107)","v":""},{"$f":"IF(DMA!L107=\"\",\"\",DMA!L107)","v":""},{"$f":"IF(DMA!T107=\"\",\"\",DMA!T107)","v":""}]
[null,null,null,null,null,null,null,null,null,null,null,null,null,null,null,null,null,null,null,null,104,"","","","",null,1,{"$f":"IF(DMA!A108=\"\",\"\",DMA!A108)","v":""},{"$f":"IF(DMA!$E108=\"\",\"\",DMA!$E108/5*100)","v":""},{"$f":"IF(DMA!J108=\"\",\"\",DMA!J108)","v":""},{"$f":"IF(DMA!L108=\"\",\"\",DMA!L108)","v":""},{"$f":"IF(DMA!T108=\"\",\"\",DMA!T108)","v":""}]
[null,null,null,null,null,null,null,null,null,null,null,null,null,null,null,null,null,null,null,null,105,"","","","",null,1,{"$f":"IF(DMA!A109=\"\",\"\",DMA!A109)","v":""},{"$f":"IF(DMA!$E109=\"\",\"\",DMA!$E109/5*100)","v":""},{"$f":"IF(DMA!J109=\"\",\"\",DMA!J109)","v":""},{"$f":"IF(DMA!L109=\"\",\"\",DMA!L109)","v":""},{"$f":"IF(DMA!T109=\"\",\"\",DMA!T109)","v":""}]
[null,null,null,null,null,null,null,null,null,null,null,null,null,null,null,null,null,null,null,null,106,"","","","",null,1,{"$f":"IF(DMA!A110=\"\",\"\",DMA!A110)","v":""},{"$f":"IF(DMA!$E110=\"\",\"\",DMA!$E110/5*100)","v":""},{"$f":"IF(DMA!J110=\"\",\"\",DMA!J110)","v":""},{"$f":"IF(DMA!L110=\"\",\"\",DMA!L110)","v":""},{"$f":"IF(DMA!T110=\"\",\"\",DMA!T110)","v":""}]
[null,null,null,null,null,null,null,null,null,null,null,null,null,null,null,null,null,null,null,null,107,"","","","",null,1,{"$f":"IF(DMA!A111=\"\",\"\",DMA!A111)","v":""},{"$f":"IF(DMA!$E111=\"\",\"\",DMA!$E111/5*100)","v":""},{"$f":"IF(DMA!J111=\"\",\"\",DMA!J111)","v":""},{"$f":"IF(DMA!L111=\"\",\"\",DMA!L111)","v":""},{"$f":"IF(DMA!T111=\"\",\"\",DMA!T111)","v":""}]
[null,null,null,null,null,null,null,null,null,null,null,null,null,null,null,null,null,null,null,null,108,"","","","",null,1,{"$f":"IF(DMA!A112=\"\",\"\",DMA!A112)","v":""},{"$f":"IF(DMA!$E112=\"\",\"\",DMA!$E112/5*100)","v":""},{"$f":"IF(DMA!J112=\"\",\"\",DMA!J112)","v":""},{"$f":"IF(DMA!L112=\"\",\"\",DMA!L112)","v":""},{"$f":"IF(DMA!T112=\"\",\"\",DMA!T112)","v":""}]
[null,null,null,null,null,null,null,null,null,null,null,null,null,null,null,null,null,null,null,null,109,"","","","",null,1,{"$f":"IF(DMA!A113=\"\",\"\",DMA!A113)","v":""},{"$f":"IF(DMA!$E113=\"\",\"\",DMA!$E113/5*100)","v":""},{"$f":"IF(DMA!J113=\"\",\"\",DMA!J113)","v":""},{"$f":"IF(DMA!L113=\"\",\"\",DMA!L113)","v":""},{"$f":"IF(DMA!T113=\"\",\"\",DMA!T113)","v":""}]
[null,null,null,null,null,null,null,null,null,null,null,null,null,null,null,null,null,null,null,null,110,"","","","",null,1,{"$f":"IF(DMA!A114=\"\",\"\",DMA!A114)","v":""},{"$f":"IF(DMA!$E114=\"\",\"\",DMA!$E114/5*100)","v":""},{"$f":"IF(DMA!J114=\"\",\"\",DMA!J114)","v":""},{"$f":"IF(DMA!L114=\"\",\"\",DMA!L114)","v":""},{"$f":"IF(DMA!T114=\"\",\"\",DMA!T114)","v":""}]
[null,null,null,null,null,null,null,null,null,null,null,null,null,null,null,null,null,null,null,null,111,"","","","",null,1,{"$f":"IF(DMA!A115=\"\",\"\",DMA!A115)","v":""},{"$f":"IF(DMA!$E115=\"\",\"\",DMA!$E115/5*100)","v":""},{"$f":"IF(DMA!J115=\"\",\"\",DMA!J115)","v":""},{"$f":"IF(DMA!L115=\"\",\"\",DMA!L115)","v":""},{"$f":"IF(DMA!T115=\"\",\"\",DMA!T115)","v":""}]
[null,null,null,null,null,null,null,null,null,null,null,null,null,null,null,null,null,null,null,null,112,"","","","",null,1,{"$f":"IF(DMA!A116=\"\",\"\",DMA!A116)","v":""},{"$f":"IF(DMA!$E116=\"\",\"\",DMA!$E116/5*100)","v":""},{"$f":"IF(DMA!J116=\"\",\"\",DMA!J116)","v":""},{"$f":"IF(DMA!L116=\"\",\"\",DMA!L116)","v":""},{"$f":"IF(DMA!T116=\"\",\"\",DMA!T116)","v":""}]
[null,null,null,null,null,null,null,null,null,null,null,null,null,null,null,null,null,null,null,null,113,"","","","",null,1,{"$f":"IF(DMA!A117=\"\",\"\",DMA!A117)","v":""},{"$f":"IF(DMA!$E117=\"\",\"\",DMA!$E117/5*100)","v":""},{"$f":"IF(DMA!J117=\"\",\"\",DMA!J117)","v":""},{"$f":"IF(DMA!L117=\"\",\"\",DMA!L117)","v":""},{"$f":"IF(DMA!T117=\"\",\"\",DMA!T117)","v":""}]
[null,null,null,null,null,null,null,null,null,null,null,null,null,null,null,null,null,null,null,null,114,"","","","",null,1,{"$f":"IF(DMA!A118=\"\",\"\",DMA!A118)","v":""},{"$f":"IF(DMA!$E118=\"\",\"\",DMA!$E118/5*100)","v":""},{"$f":"IF(DMA!J118=\"\",\"\",DMA!J118)","v":""},{"$f":"IF(DMA!L118=\"\",\"\",DMA!L118)","v":""},{"$f":"IF(DMA!T118=\"\",\"\",DMA!T118)","v":""}]
[null,null,null,null,null,null,null,null,null,null,null,null,null,null,null,null,null,null,null,null,115,"","","","",null,1,{"$f":"IF(DMA!A119=\"\",\"\",DMA!A119)","v":""},{"$f":"IF(DMA!$E119=\"\",\"\",DMA!$E119/5*100)","v":""},{"$f":"IF(DMA!J119=\"\",\"\",DMA!J119)","v":""},{"$f":"IF(DMA!L119=\"\",\"\",DMA!L119)","v":""},{"$f":"IF(DMA!T119=\"\",\"\",DMA!T119)","v":""}]
[null,null,null,null,null,null,null,null,null,null,null,null,null,null,null,null,null,null,null,null,116,"","","","",null,1,{"$f":"IF(DMA!A120=\"\",\"\",DMA!A120)","v":""},{"$f":"IF(DMA!$E120=\"\",\"\",DMA!$E120/5*100)","v":""},{"$f":"IF(DMA!J120=\"\",\"\",DMA!J120)","v":""},{"$f":"IF(DMA!L120=\"\",\"\",DMA!L120)","v":""},{"$f":"IF(DMA!T120=\"\",\"\",DMA!T120)","v":""}]
[null,null,null,null,null,null,null,null,null,null,null,null,null,null,null,null,null,null,null,null,117,"","","","",null,1,{"$f":"IF(DMA!A121=\"\",\"\",DMA!A121)","v":""},{"$f":"IF(DMA!$E121=\"\",\"\",DMA!$E121/5*100)","v":""},{"$f":"IF(DMA!J121=\"\",\"\",DMA!J121)","v":""},{"$f":"IF(DMA!L121=\"\",\"\",DMA!L121)","v":""},{"$f":"IF(DMA!T121=\"\",\"\",DMA!T121)","v":""}]
[null,null,null,null,null,null,null,null,null,null,null,null,null,null,null,null,null,null,null,null,118,"","","","",null,1,{"$f":"IF(DMA!A122=\"\",\"\",DMA!A122)","v":""},{"$f":"IF(DMA!$E122=\"\",\"\",DMA!$E122/5*100)","v":""},{"$f":"IF(DMA!J122=\"\",\"\",DMA!J122)","v":""},{"$f":"IF(DMA!L122=\"\",\"\",DMA!L122)","v":""},{"$f":"IF(DMA!T122=\"\",\"\",DMA!T122)","v":""}]
[null,null,null,null,null,null,null,null,null,null,null,null,null,null,null,null,null,null,null,null,119,"","","","",null,1,{"$f":"IF(DMA!A123=\"\",\"\",DMA!A123)","v":""},{"$f":"IF(DMA!$E123=\"\",\"\",DMA!$E123/5*100)","v":""},{"$f":"IF(DMA!J123=\"\",\"\",DMA!J123)","v":""},{"$f":"IF(DMA!L123=\"\",\"\",DMA!L123)","v":""},{"$f":"IF(DMA!T123=\"\",\"\",DMA!T123)","v":""}]
[null,null,null,null,null,null,null,null,null,null,null,null,null,null,null,null,null,null,null,null,120,"","","","",null,1,{"$f":"IF(DMA!A124=\"\",\"\",DMA!A124)","v":""},{"$f":"IF(DMA!$E124=\"\",\"\",DMA!$E124/5*100)","v":""},{"$f":"IF(DMA!J124=\"\",\"\",DMA!J124)","v":""},{"$f":"IF(DMA!L124=\"\",\"\",DMA!L124)","v":""},{"$f":"IF(DMA!T124=\"\",\"\",DMA!T124)","v":""}]
[null,null,null,null,null,null,null,null,null,null,null,null,null,null,null,null,null,null,null,null,121,"","","","",null,1,{"$f":"IF(DMA!A125=\"\",\"\",DMA!A125)","v":""},{"$f":"IF(DMA!$E125=\"\",\"\",DMA!$E125/5*100)","v":""},{"$f":"IF(DMA!J125=\"\",\"\",DMA!J125)","v":""},{"$f":"IF(DMA!L125=\"\",\"\",DMA!L125)","v":""},{"$f":"IF(DMA!T125=\"\",\"\",DMA!T125)","v":""}]
[null,null,null,null,null,null,null,null,null,null,null,null,null,null,null,null,null,null,null,null,122,"","","","",null,1,{"$f":"IF(DMA!A126=\"\",\"\",DMA!A126)","v":""},{"$f":"IF(DMA!$E126=\"\",\"\",DMA!$E126/5*100)","v":""},{"$f":"IF(DMA!J126=\"\",\"\",DMA!J126)","v":""},{"$f":"IF(DMA!L126=\"\",\"\",DMA!L126)","v":""},{"$f":"IF(DMA!T126=\"\",\"\",DMA!T126)","v":""}]
[null,null,null,null,null,null,null,null,null,null,null,null,null,null,null,null,null,null,null,null,123,"","","","",null,1,{"$f":"IF(DMA!A127=\"\",\"\",DMA!A127)","v":""},{"$f":"IF(DMA!$E127=\"\",\"\",DMA!$E127/5*100)","v":""},{"$f":"IF(DMA!J127=\"\",\"\",DMA!J127)","v":""},{"$f":"IF(DMA!L127=\"\",\"\",DMA!L127)","v":""},{"$f":"IF(DMA!T127=\"\",\"\",DMA!T127)","v":""}]
[null,null,null,null,null,null,null,null,null,null,null,null,null,null,null,null,null,null,null,null,124,"","","","",null,1,{"$f":"IF(DMA!A128=\"\",\"\",DMA!A128)","v":""},{"$f":"IF(DMA!$E128=\"\",\"\",DMA!$E128/5*100)","v":""},{"$f":"IF(DMA!J128=\"\",\"\",DMA!J128)","v":""},{"$f":"IF(DMA!L128=\"\",\"\",DMA!L128)","v":""},{"$f":"IF(DMA!T128=\"\",\"\",DMA!T128)","v":""}]
[null,null,null,null,null,null,null,null,null,null,null,null,null,null,null,null,null,null,null,null,125,"","","","",null,1,{"$f":"IF(DMA!A129=\"\",\"\",DMA!A129)","v":""},{"$f":"IF(DMA!$E129=\"\",\"\",DMA!$E129/5*100)","v":""},{"$f":"IF(DMA!J129=\"\",\"\",DMA!J129)","v":""},{"$f":"IF(DMA!L129=\"\",\"\",DMA!L129)","v":""},{"$f":"IF(DMA!T129=\"\",\"\",DMA!T129)","v":""}]
[null,null,null,null,null,null,null,null,null,null,null,null,null,null,null,null,null,null,null,null,126,"","","","",null,1,{"$f":"IF(DMA!A130=\"\",\"\",DMA!A130)","v":""},{"$f":"IF(DMA!$E130=\"\",\"\",DMA!$E130/5*100)","v":""},{"$f":"IF(DMA!J130=\"\",\"\",DMA!J130)","v":""},{"$f":"IF(DMA!L130=\"\",\"\",DMA!L130)","v":""},{"$f":"IF(DMA!T130=\"\",\"\",DMA!T130)","v":""}]
[null,null,null,null,null,null,null,null,null,null,null,null,null,null,null,null,null,null,null,null,127,"","","","",null,1,{"$f":"IF(DMA!A131=\"\",\"\",DMA!A131)","v":""},{"$f":"IF(DMA!$E131=\"\",\"\",DMA!$E131/5*100)","v":""},{"$f":"IF(DMA!J131=\"\",\"\",DMA!J131)","v":""},{"$f":"IF(DMA!L131=\"\",\"\",DMA!L131)","v":""},{"$f":"IF(DMA!T131=\"\",\"\",DMA!T131)","v":""}]
[null,null,null,null,null,null,null,null,null,null,null,null,null,null,null,null,null,null,null,null,128,"","","","",null,1,{"$f":"IF(DMA!A132=\"\",\"\",DMA!A132)","v":""},{"$f":"IF(DMA!$E132=\"\",\"\",DMA!$E132/5*100)","v":""},{"$f":"IF(DMA!J132=\"\",\"\",DMA!J132)","v":""},{"$f":"IF(DMA!L132=\"\",\"\",DMA!L132)","v":""},{"$f":"IF(DMA!T132=\"\",\"\",DMA!T132)","v":""}]
[null,null,null,null,null,null,null,null,null,null,null,null,null,null,null,null,null,null,null,null,129,"","","","",null,1,{"$f":"IF(DMA!A133=\"\",\"\",DMA!A133)","v":""},{"$f":"IF(DMA!$E133=\"\",\"\",DMA!$E133/5*100)","v":""},{"$f":"IF(DMA!J133=\"\",\"\",DMA!J133)","v":""},{"$f":"IF(DMA!L133=\"\",\"\",DMA!L133)","v":""},{"$f":"IF(DMA!T133=\"\",\"\",DMA!T133)","v":""}]
[null,null,null,null,null,null,null,null,null,null,null,null,null,null,null,null,null,null,null,null,130,{"$f":"IF(ISERROR(AVERAGEIF(AA:AA,U131,AC:AC)),\"\",AVERAGEIF(AA:AA,U131,AC:AC))","v":""},"","","",null,1,{"$f":"IF(DMA!A134=\"\",\"\",DMA!A134)","v":""},{"$f":"IF(DMA!$E134=\"\",\"\",DMA!$E134/5*100)","v":""},{"$f":"IF(DMA!J134=\"\",\"\",DMA!J134)","v":""},{"$f":"IF(DMA!L134=\"\",\"\",DMA!L134)","v":""},{"$f":"IF(DMA!T134=\"\",\"\",DMA!T134)","v":""}]
[null,null,null,null,null,null,null,null,null,null,null,null,null,null,null,null,null,null,null,null,131,"","","","",null,{"$f":"IF(AB132=AA131+1,AB132,AA131)","v":1},{"$f":"IF(DMA!A135=\"\",\"\",DMA!A135)","v":""},{"$f":"IF(DMA!$E135=\"\",\"\",DMA!$E135/5*100)","v":""},{"$f":"IF(DMA!J135=\"\",\"\",DMA!J135)","v":""},{"$f":"IF(DMA!L135=\"\",\"\",DMA!L135)","v":""},{"$f":"IF(DMA!T135=\"\",\"\",DMA!T135)","v":""}]
[null,null,null,null,null,null,null,null,null,null,null,null,null,null,null,null,null,null,null,null,132,"","","","",null,1,{"$f":"IF(DMA!A136=\"\",\"\",DMA!A136)","v":""},{"$f":"IF(DMA!$E136=\"\",\"\",DMA!$E136/5*100)","v":""},{"$f":"IF(DMA!J136=\"\",\"\",DMA!J136)","v":""},{"$f":"IF(DMA!L136=\"\",\"\",DMA!L136)","v":""},{"$f":"IF(DMA!T136=\"\",\"\",DMA!T136)","v":""}]
[null,null,null,null,null,null,null,null,null,null,null,null,null,null,null,null,null,null,null,null,133,"","","","",null,1,{"$f":"IF(DMA!A137=\"\",\"\",DMA!A137)","v":""},{"$f":"IF(DMA!$E137=\"\",\"\",DMA!$E137/5*100)","v":""},{"$f":"IF(DMA!J137=\"\",\"\",DMA!J137)","v":""},{"$f":"IF(DMA!L137=\"\",\"\",DMA!L137)","v":""},{"$f":"IF(DMA!T137=\"\",\"\",DMA!T137)","v":""}]
[null,null,null,null,null,null,null,null,null,null,null,null,null,null,null,null,null,null,null,null,134,"","","","",null,1,{"$f":"IF(DMA!A138=\"\",\"\",DMA!A138)","v":""},{"$f":"IF(DMA!$E138=\"\",\"\",DMA!$E138/5*100)","v":""},{"$f":"IF(DMA!J138=\"\",\"\",DMA!J138)","v":""},{"$f":"IF(DMA!L138=\"\",\"\",DMA!L138)","v":""},{"$f":"IF(DMA!T138=\"\",\"\",DMA!T138)","v":""}]
[null,null,null,null,null,null,null,null,null,null,null,null,null,null,null,null,null,null,null,null,135,"","","","",null,1,{"$f":"IF(DMA!A139=\"\",\"\",DMA!A139)","v":""},{"$f":"IF(DMA!$E139=\"\",\"\",DMA!$E139/5*100)","v":""},{"$f":"IF(DMA!J139=\"\",\"\",DMA!J139)","v":""},{"$f":"IF(DMA!L139=\"\",\"\",DMA!L139)","v":""},{"$f":"IF(DMA!T139=\"\",\"\",DMA!T139)","v":""}]
[null,null,null,null,null,null,null,null,null,null,null,null,null,null,null,null,null,null,null,null,136,"","","","",null,1,{"$f":"IF(DMA!A140=\"\",\"\",DMA!A140)","v":""},{"$f":"IF(DMA!$E140=\"\",\"\",DMA!$E140/5*100)","v":""},{"$f":"IF(DMA!J140=\"\",\"\",DMA!J140)","v":""},{"$f":"IF(DMA!L140=\"\",\"\",DMA!L140)","v":""},{"$f":"IF(DMA!T140=\"\",\"\",DMA!T140)","v":""}]
[null,null,null,null,null,null,null,null,null,null,null,null,null,null,null,null,null,null,null,null,137,"","","","",null,1,{"$f":"IF(DMA!A141=\"\",\"\",DMA!A141)","v":""},{"$f":"IF(DMA!$E141=\"\",\"\",DMA!$E141/5*100)","v":""},{"$f":"IF(DMA!J141=\"\",\"\",DMA!J141)","v":""},{"$f":"IF(DMA!L141=\"\",\"\",DMA!L141)","v":""},{"$f":"IF(DMA!T141=\"\",\"\",DMA!T141)","v":""}]
[null,null,null,null,null,null,null,null,null,null,null,null,null,null,null,null,null,null,null,null,138,"","","","",null,1,{"$f":"IF(DMA!A142=\"\",\"\",DMA!A142)","v":""},{"$f":"IF(DMA!$E142=\"\",\"\",DMA!$E142/5*100)","v":""},{"$f":"IF(DMA!J142=\"\",\"\",DMA!J142)","v":""},{"$f":"IF(DMA!L142=\"\",\"\",DMA!L142)","v":""},{"$f":"IF(DMA!T142=\"\",\"\",DMA!T142)","v":""}]
[null,null,null,null,null,null,null,null,null,null,null,null,null,null,null,null,null,null,null,null,139,"",{"$f":"IF(ISERROR(AVERAGEIF($AA:$AA,$U140,AD:AD)),\"\",AVERAGEIF($AA:$AA,$U140,AD:AD))","v":""},{"$f":"IF(ISERROR(AVERAGEIF($AA:$AA,$U140,AE:AE)),\"\",AVERAGEIF($AA:$AA,$U140,AE:AE))","v":""},{"$f":"IF(ISERROR(AVERAGEIF($AA:$AA,$U140,AF:AF)),\"\",AVERAGEIF($AA:$AA,$U140,AF:AF))","v":""},null,1,{"$f":"IF(DMA!A143=\"\",\"\",DMA!A143)","v":""},{"$f":"IF(DMA!$E143=\"\",\"\",DMA!$E143/5*100)","v":""},{"$f":"IF(DMA!J143=\"\",\"\",DMA!J143)","v":""},{"$f":"IF(DMA!L143=\"\",\"\",DMA!L143)","v":""},{"$f":"IF(DMA!T143=\"\",\"\",DMA!T143)","v":""}]
[null,null,null,null,null,null,null,null,null,null,null,null,null,null,null,null,null,null,null,null,140,"","","","",null,1,{"$f":"IF(DMA!A144=\"\",\"\",DMA!A144)","v":""},{"$f":"IF(DMA!$E144=\"\",\"\",DMA!$E144/5*100)","v":""},{"$f":"IF(DMA!J144=\"\",\"\",DMA!J144)","v":""},{"$f":"IF(DMA!L144=\"\",\"\",DMA!L144)","v":""},{"$f":"IF(DMA!T144=\"\",\"\",DMA!T144)","v":""}]
[null,null,null,null,null,null,null,null,null,null,null,null,null,null,null,null,null,null,null,null,141,"","","","",null,1,{"$f":"IF(DMA!A145=\"\",\"\",DMA!A145)","v":""},{"$f":"IF(DMA!$E145=\"\",\"\",DMA!$E145/5*100)","v":""},{"$f":"IF(DMA!J145=\"\",\"\",DMA!J145)","v":""},{"$f":"IF(DMA!L145=\"\",\"\",DMA!L145)","v":""},{"$f":"IF(DMA!T145=\"\",\"\",DMA!T145)","v":""}]
[null,null,null,null,null,null,null,null,null,null,null,null,null,null,null,null,null,null,null,null,142,"","","","",null,1,{"$f":"IF(DMA!A146=\"\",\"\",DMA!A146)","v":""},{"$f":"IF(DMA!$E146=\"\",\"\",DMA!$E146/5*100)","v":""},{"$f":"IF(DMA!J146=\"\",\"\",DMA!J146)","v":""},{"$f":"IF(DMA!L146=\"\",\"\",DMA!L146)","v":""},{"$f":"IF(DMA!T146=\"\",\"\",DMA!T146)","v":""}]
[null,null,null,null,null,null,null,null,null,null,null,null,null,null,null,null,null,null,null,null,143,"","","","",null,1,{"$f":"IF(DMA!A147=\"\",\"\",DMA!A147)","v":""},{"$f":"IF(DMA!$E147=\"\",\"\",DMA!$E147/5*100)","v":""},{"$f":"IF(DMA!J147=\"\",\"\",DMA!J147)","v":""},{"$f":"IF(DMA!L147=\"\",\"\",DMA!L147)","v":""},{"$f":"IF(DMA!T147=\"\",\"\",DMA!T147)","v":""}]
[null,null,null,null,null,null,null,null,null,null,null,null,null,null,null,null,null,null,null,null,144,"","","","",null,1,{"$f":"IF(DMA!A148=\"\",\"\",DMA!A148)","v":""},{"$f":"IF(DMA!$E148=\"\",\"\",DMA!$E148/5*100)","v":""},{"$f":"IF(DMA!J148=\"\",\"\",DMA!J148)","v":""},{"$f":"IF(DMA!L148=\"\",\"\",DMA!L148)","v":""},{"$f":"IF(DMA!T148=\"\",\"\",DMA!T148)","v":""}]
[null,null,null,null,null,null,null,null,null,null,null,null,null,null,null,null,null,null,null,null,145,"","","","",null,1,{"$f":"IF(DMA!A149=\"\",\"\",DMA!A149)","v":""},{"$f":"IF(DMA!$E149=\"\",\"\",DMA!$E149/5*100)","v":""},{"$f":"IF(DMA!J149=\"\",\"\",DMA!J149)","v":""},{"$f":"IF(DMA!L149=\"\",\"\",DMA!L149)","v":""},{"$f":"IF(DMA!T149=\"\",\"\",DMA!T149)","v":""}]
[null,null,null,null,null,null,null,null,null,null,null,null,null,null,null,null,null,null,null,null,146,"","","","",null,1,{"$f":"IF(DMA!A150=\"\",\"\",DMA!A150)","v":""},{"$f":"IF(DMA!$E150=\"\",\"\",DMA!$E150/5*100)","v":""},{"$f":"IF(DMA!J150=\"\",\"\",DMA!J150)","v":""},{"$f":"IF(DMA!L150=\"\",\"\",DMA!L150)","v":""},{"$f":"IF(DMA!T150=\"\",\"\",DMA!T150)","v":""}]
[null,null,null,null,null,null,null,null,null,null,null,null,null,null,null,null,null,null,null,null,147,"","","","",null,1,{"$f":"IF(DMA!A151=\"\",\"\",DMA!A151)","v":""},{"$f":"IF(DMA!$E151=\"\",\"\",DMA!$E151/5*100)","v":""},{"$f":"IF(DMA!J151=\"\",\"\",DMA!J151)","v":""},{"$f":"IF(DMA!L151=\"\",\"\",DMA!L151)","v":""},{"$f":"IF(DMA!T151=\"\",\"\",DMA!T151)","v":""}]
[null,null,null,null,null,null,null,null,null,null,null,null,null,null,null,null,null,null,null,null,148,"","","","",null,1,{"$f":"IF(DMA!A152=\"\",\"\",DMA!A152)","v":""},{"$f":"IF(DMA!$E152=\"\",\"\",DMA!$E152/5*100)","v":""},{"$f":"IF(DMA!J152=\"\",\"\",DMA!J152)","v":""},{"$f":"IF(DMA!L152=\"\",\"\",DMA!L152)","v":""},{"$f":"IF(DMA!T152=\"\",\"\",DMA!T152)","v":""}]
[null,null,null,null,null,null,null,null,null,null,null,null,null,null,null,null,null,null,null,null,149,"","","","",null,1,{"$f":"IF(DMA!A153=\"\",\"\",DMA!A153)","v":""},{"$f":"IF(DMA!$E153=\"\",\"\",DMA!$E153/5*100)","v":""},{"$f":"IF(DMA!J153=\"\",\"\",DMA!J153)","v":""},{"$f":"IF(DMA!L153=\"\",\"\",DMA!L153)","v":""},{"$f":"IF(DMA!T153=\"\",\"\",DMA!T153)","v":""}]
[null,null,null,null,null,null,null,null,null,null,null,null,null,null,null,null,null,null,null,null,150,"","","","",null,1,{"$f":"IF(DMA!A154=\"\",\"\",DMA!A154)","v":""},{"$f":"IF(DMA!$E154=\"\",\"\",DMA!$E154/5*100)","v":""},{"$f":"IF(DMA!J154=\"\",\"\",DMA!J154)","v":""},{"$f":"IF(DMA!L154=\"\",\"\",DMA!L154)","v":""},{"$f":"IF(DMA!T154=\"\",\"\",DMA!T154)","v":""}]
[null,null,null,null,null,null,null,null,null,null,null,null,null,null,null,null,null,null,null,null,null,null,null,null,null,null,1,{"$f":"IF(DMA!A155=\"\",\"\",DMA!A155)","v":""},{"$f":"IF(DMA!$E155=\"\",\"\",DMA!$E155/5*100)","v":""},{"$f":"IF(DMA!J155=\"\",\"\",DMA!J155)","v":""},{"$f":"IF(DMA!L155=\"\",\"\",DMA!L155)","v":""},{"$f":"IF(DMA!T155=\"\",\"\",DMA!T155)","v":""}]
[null,null,null,null,null,null,null,null,null,null,null,null,null,null,null,null,null,null,null,null,null,null,null,null,null,null,1,{"$f":"IF(DMA!A156=\"\",\"\",DMA!A156)","v":""},{"$f":"IF(DMA!$E156=\"\",\"\",DMA!$E156/5*100)","v":""},{"$f":"IF(DMA!J156=\"\",\"\",DMA!J156)","v":""},{"$f":"IF(DMA!L156=\"\",\"\",DMA!L156)","v":""},{"$f":"IF(DMA!T156=\"\",\"\",DMA!T156)","v":""}]
[null,null,null,null,null,null,null,null,null,null,null,null,null,null,null,null,null,null,null,null,null,null,null,null,null,null,1,{"$f":"IF(DMA!A157=\"\",\"\",DMA!A157)","v":""},{"$f":"IF(DMA!$E157=\"\",\"\",DMA!$E157/5*100)","v":""},{"$f":"IF(DMA!J157=\"\",\"\",DMA!J157)","v":""},{"$f":"IF(DMA!L157=\"\",\"\",DMA!L157)","v":""},{"$f":"IF(DMA!T157=\"\",\"\",DMA!T157)","v":""}]
[null,null,null,null,null,null,null,null,null,null,null,null,null,null,null,null,null,null,null,null,null,null,null,null,null,null,1,{"$f":"IF(DMA!A158=\"\",\"\",DMA!A158)","v":""},{"$f":"IF(DMA!$E158=\"\",\"\",DMA!$E158/5*100)","v":""},{"$f":"IF(DMA!J158=\"\",\"\",DMA!J158)","v":""},{"$f":"IF(DMA!L158=\"\",\"\",DMA!L158)","v":""},{"$f":"IF(DMA!T158=\"\",\"\",DMA!T158)","v":""}]
[null,null,null,null,null,null,null,null,null,null,null,null,null,null,null,null,null,null,null,null,null,null,null,null,null,null,1,{"$f":"IF(DMA!A159=\"\",\"\",DMA!A159)","v":""},{"$f":"IF(DMA!$E159=\"\",\"\",DMA!$E159/5*100)","v":""},{"$f":"IF(DMA!J159=\"\",\"\",DMA!J159)","v":""},{"$f":"IF(DMA!L159=\"\",\"\",DMA!L159)","v":""},{"$f":"IF(DMA!T159=\"\",\"\",DMA!T159)","v":""}]
[null,null,null,null,null,null,null,null,null,null,null,null,null,null,null,null,null,null,null,null,null,null,null,null,null,null,1,{"$f":"IF(DMA!A160=\"\",\"\",DMA!A160)","v":""},{"$f":"IF(DMA!$E160=\"\",\"\",DMA!$E160/5*100)","v":""},{"$f":"IF(DMA!J160=\"\",\"\",DMA!J160)","v":""},{"$f":"IF(DMA!L160=\"\",\"\",DMA!L160)","v":""},{"$f":"IF(DMA!T160=\"\",\"\",DMA!T160)","v":""}]
[null,null,null,null,null,null,null,null,null,null,null,null,null,null,null,null,null,null,null,null,null,null,null,null,null,null,1,{"$f":"IF(DMA!A161=\"\",\"\",DMA!A161)","v":""},{"$f":"IF(DMA!$E161=\"\",\"\",DMA!$E161/5*100)","v":""},{"$f":"IF(DMA!J161=\"\",\"\",DMA!J161)","v":""},{"$f":"IF(DMA!L161=\"\",\"\",DMA!L161)","v":""},{"$f":"IF(DMA!T161=\"\",\"\",DMA!T161)","v":""}]
[null,null,null,null,null,null,null,null,null,null,null,null,null,null,null,null,null,null,null,null,null,null,null,null,null,null,1,{"$f":"IF(DMA!A162=\"\",\"\",DMA!A162)","v":""},{"$f":"IF(DMA!$E162=\"\",\"\",DMA!$E162/5*100)","v":""},{"$f":"IF(DMA!J162=\"\",\"\",DMA!J162)","v":""},{"$f":"IF(DMA!L162=\"\",\"\",DMA!L162)","v":""},{"$f":"IF(DMA!T162=\"\",\"\",DMA!T162)","v":""}]
[null,null,null,null,null,null,null,null,null,null,null,null,null,null,null,null,null,null,null,null,null,null,null,null,null,null,1,{"$f":"IF(DMA!A163=\"\",\"\",DMA!A163)","v":""},{"$f":"IF(DMA!$E163=\"\",\"\",DMA!$E163/5*100)","v":""},{"$f":"IF(DMA!J163=\"\",\"\",DMA!J163)","v":""},{"$f":"IF(DMA!L163=\"\",\"\",DMA!L163)","v":""},{"$f":"IF(DMA!T163=\"\",\"\",DMA!T163)","v":""}]
[null,null,null,null,null,null,null,null,null,null,null,null,null,null,null,null,null,null,null,null,null,null,null,null,null,null,1,{"$f":"IF(DMA!A164=\"\",\"\",DMA!A164)","v":""},{"$f":"IF(DMA!$E164=\"\",\"\",DMA!$E164/5*100)","v":""},{"$f":"IF(DMA!J164=\"\",\"\",DMA!J164)","v":""},{"$f":"IF(DMA!L164=\"\",\"\",DMA!L164)","v":""},{"$f":"IF(DMA!T164=\"\",\"\",DMA!T164)","v":""}]
[null,null,null,null,null,null,null,null,null,null,null,null,null,null,null,null,null,null,null,null,null,null,null,null,null,null,1,{"$f":"IF(DMA!A165=\"\",\"\",DMA!A165)","v":""},{"$f":"IF(DMA!$E165=\"\",\"\",DMA!$E165/5*100)","v":""},{"$f":"IF(DMA!J165=\"\",\"\",DMA!J165)","v":""},{"$f":"IF(DMA!L165=\"\",\"\",DMA!L165)","v":""},{"$f":"IF(DMA!T165=\"\",\"\",DMA!T165)","v":""}]
[null,null,null,null,null,null,null,null,null,null,null,null,null,null,null,null,null,null,null,null,null,null,null,null,null,null,1,{"$f":"IF(DMA!A166=\"\",\"\",DMA!A166)","v":""},{"$f":"IF(DMA!$E166=\"\",\"\",DMA!$E166/5*100)","v":""},{"$f":"IF(DMA!J166=\"\",\"\",DMA!J166)","v":""},{"$f":"IF(DMA!L166=\"\",\"\",DMA!L166)","v":""},{"$f":"IF(DMA!T166=\"\",\"\",DMA!T166)","v":""}]
[null,null,null,null,null,null,null,null,null,null,null,null,null,null,null,null,null,null,null,null,null,null,null,null,null,null,1,{"$f":"IF(DMA!A167=\"\",\"\",DMA!A167)","v":""},{"$f":"IF(DMA!$E167=\"\",\"\",DMA!$E167/5*100)","v":""},{"$f":"IF(DMA!J167=\"\",\"\",DMA!J167)","v":""},{"$f":"IF(DMA!L167=\"\",\"\",DMA!L167)","v":""},{"$f":"IF(DMA!T167=\"\",\"\",DMA!T167)","v":""}]
[null,null,null,null,null,null,null,null,null,null,null,null,null,null,null,null,null,null,null,null,null,null,null,null,null,null,1,{"$f":"IF(DMA!A168=\"\",\"\",DMA!A168)","v":""},{"$f":"IF(DMA!$E168=\"\",\"\",DMA!$E168/5*100)","v":""},{"$f":"IF(DMA!J168=\"\",\"\",DMA!J168)","v":""},{"$f":"IF(DMA!L168=\"\",\"\",DMA!L168)","v":""},{"$f":"IF(DMA!T168=\"\",\"\",DMA!T168)","v":""}]
[null,null,null,null,null,null,null,null,null,null,null,null,null,null,null,null,null,null,null,null,null,null,null,null,null,null,1,{"$f":"IF(DMA!A169=\"\",\"\",DMA!A169)","v":""},{"$f":"IF(DMA!$E169=\"\",\"\",DMA!$E169/5*100)","v":""},{"$f":"IF(DMA!J169=\"\",\"\",DMA!J169)","v":""},{"$f":"IF(DMA!L169=\"\",\"\",DMA!L169)","v":""},{"$f":"IF(DMA!T169=\"\",\"\",DMA!T169)","v":""}]
[null,null,null,null,null,null,null,null,null,null,null,null,null,null,null,null,null,null,null,null,null,null,null,null,null,null,1,{"$f":"IF(DMA!A170=\"\",\"\",DMA!A170)","v":""},{"$f":"IF(DMA!$E170=\"\",\"\",DMA!$E170/5*100)","v":""},{"$f":"IF(DMA!J170=\"\",\"\",DMA!J170)","v":""},{"$f":"IF(DMA!L170=\"\",\"\",DMA!L170)","v":""},{"$f":"IF(DMA!T170=\"\",\"\",DMA!T170)","v":""}]
[null,null,null,null,null,null,null,null,null,null,null,null,null,null,null,null,null,null,null,null,null,null,null,null,null,null,1,{"$f":"IF(DMA!A171=\"\",\"\",DMA!A171)","v":""},{"$f":"IF(DMA!$E171=\"\",\"\",DMA!$E171/5*100)","v":""},{"$f":"IF(DMA!J171=\"\",\"\",DMA!J171)","v":""},{"$f":"IF(DMA!L171=\"\",\"\",DMA!L171)","v":""},{"$f":"IF(DMA!T171=\"\",\"\",DMA!T171)","v":""}]
[null,null,null,null,null,null,null,null,null,null,null,null,null,null,null,null,null,null,null,null,null,null,null,null,null,null,1,{"$f":"IF(DMA!A172=\"\",\"\",DMA!A172)","v":""},{"$f":"IF(DMA!$E172=\"\",\"\",DMA!$E172/5*100)","v":""},{"$f":"IF(DMA!J172=\"\",\"\",DMA!J172)","v":""},{"$f":"IF(DMA!L172=\"\",\"\",DMA!L172)","v":""},{"$f":"IF(DMA!T172=\"\",\"\",DMA!T172)","v":""}]
[null,null,null,null,null,null,null,null,null,null,null,null,null,null,null,null,null,null,null,null,null,null,null,null,null,null,1,{"$f":"IF(DMA!A173=\"\",\"\",DMA!A173)","v":""},{"$f":"IF(DMA!$E173=\"\",\"\",DMA!$E173/5*100)","v":""},{"$f":"IF(DMA!J173=\"\",\"\",DMA!J173)","v":""},{"$f":"IF(DMA!L173=\"\",\"\",DMA!L173)","v":""},{"$f":"IF(DMA!T173=\"\",\"\",DMA!T173)","v":""}]
[null,null,null,null,null,null,null,null,null,null,null,null,null,null,null,null,null,null,null,null,null,null,null,null,null,null,1,{"$f":"IF(DMA!A174=\"\",\"\",DMA!A174)","v":""},{"$f":"IF(DMA!$E174=\"\",\"\",DMA!$E174/5*100)","v":""},{"$f":"IF(DMA!J174=\"\",\"\",DMA!J174)","v":""},{"$f":"IF(DMA!L174=\"\",\"\",DMA!L174)","v":""},{"$f":"IF(DMA!T174=\"\",\"\",DMA!T174)","v":""}]
[null,null,null,null,null,null,null,null,null,null,null,null,null,null,null,null,null,null,null,null,null,null,null,null,null,null,1,{"$f":"IF(DMA!A175=\"\",\"\",DMA!A175)","v":""},{"$f":"IF(DMA!$E175=\"\",\"\",DMA!$E175/5*100)","v":""},{"$f":"IF(DMA!J175=\"\",\"\",DMA!J175)","v":""},{"$f":"IF(DMA!L175=\"\",\"\",DMA!L175)","v":""},{"$f":"IF(DMA!T175=\"\",\"\",DMA!T175)","v":""}]
[null,null,null,null,null,null,null,null,null,null,null,null,null,null,null,null,null,null,null,null,null,null,null,null,null,null,1,{"$f":"IF(DMA!A176=\"\",\"\",DMA!A176)","v":""},{"$f":"IF(DMA!$E176=\"\",\"\",DMA!$E176/5*100)","v":""},{"$f":"IF(DMA!J176=\"\",\"\",DMA!J176)","v":""},{"$f":"IF(DMA!L176=\"\",\"\",DMA!L176)","v":""},{"$f":"IF(DMA!T176=\"\",\"\",DMA!T176)","v":""}]
[null,null,null,null,null,null,null,null,null,null,null,null,null,null,null,null,null,null,null,null,null,null,null,null,null,null,1,{"$f":"IF(DMA!A177=\"\",\"\",DMA!A177)","v":""},{"$f":"IF(DMA!$E177=\"\",\"\",DMA!$E177/5*100)","v":""},{"$f":"IF(DMA!J177=\"\",\"\",DMA!J177)","v":""},{"$f":"IF(DMA!L177=\"\",\"\",DMA!L177)","v":""},{"$f":"IF(DMA!T177=\"\",\"\",DMA!T177)","v":""}]
[null,null,null,null,null,null,null,null,null,null,null,null,null,null,null,null,null,null,null,null,null,null,null,null,null,null,1,{"$f":"IF(DMA!A178=\"\",\"\",DMA!A178)","v":""},{"$f":"IF(DMA!$E178=\"\",\"\",DMA!$E178/5*100)","v":""},{"$f":"IF(DMA!J178=\"\",\"\",DMA!J178)","v":""},{"$f":"IF(DMA!L178=\"\",\"\",DMA!L178)","v":""},{"$f":"IF(DMA!T178=\"\",\"\",DMA!T178)","v":""}]
[null,null,null,null,null,null,null,null,null,null,null,null,null,null,null,null,null,null,null,null,null,null,null,null,null,null,1,{"$f":"IF(DMA!A179=\"\",\"\",DMA!A179)","v":""},{"$f":"IF(DMA!$E179=\"\",\"\",DMA!$E179/5*100)","v":""},{"$f":"IF(DMA!J179=\"\",\"\",DMA!J179)","v":""},{"$f":"IF(DMA!L179=\"\",\"\",DMA!L179)","v":""},{"$f":"IF(DMA!T179=\"\",\"\",DMA!T179)","v":""}]
[null,null,null,null,null,null,null,null,null,null,null,null,null,null,null,null,null,null,null,null,null,null,null,null,null,null,1,{"$f":"IF(DMA!A180=\"\",\"\",DMA!A180)","v":""},{"$f":"IF(DMA!$E180=\"\",\"\",DMA!$E180/5*100)","v":""},{"$f":"IF(DMA!J180=\"\",\"\",DMA!J180)","v":""},{"$f":"IF(DMA!L180=\"\",\"\",DMA!L180)","v":""},{"$f":"IF(DMA!T180=\"\",\"\",DMA!T180)","v":""}]
[null,null,null,null,null,null,null,null,null,null,null,null,null,null,null,null,null,null,null,null,null,null,null,null,null,null,1,{"$f":"IF(DMA!A181=\"\",\"\",DMA!A181)","v":""},{"$f":"IF(DMA!$E181=\"\",\"\",DMA!$E181/5*100)","v":""},{"$f":"IF(DMA!J181=\"\",\"\",DMA!J181)","v":""},{"$f":"IF(DMA!L181=\"\",\"\",DMA!L181)","v":""},{"$f":"IF(DMA!T181=\"\",\"\",DMA!T181)","v":""}]
[null,null,null,null,null,null,null,null,null,null,null,null,null,null,null,null,null,null,null,null,null,null,null,null,null,null,1,{"$f":"IF(DMA!A182=\"\",\"\",DMA!A182)","v":""},{"$f":"IF(DMA!$E182=\"\",\"\",DMA!$E182/5*100)","v":""},{"$f":"IF(DMA!J182=\"\",\"\",DMA!J182)","v":""},{"$f":"IF(DMA!L182=\"\",\"\",DMA!L182)","v":""},{"$f":"IF(DMA!T182=\"\",\"\",DMA!T182)","v":""}]
[null,null,null,null,null,null,null,null,null,null,null,null,null,null,null,null,null,null,null,null,null,null,null,null,null,null,1,{"$f":"IF(DMA!A183=\"\",\"\",DMA!A183)","v":""},{"$f":"IF(DMA!$E183=\"\",\"\",DMA!$E183/5*100)","v":""},{"$f":"IF(DMA!J183=\"\",\"\",DMA!J183)","v":""},{"$f":"IF(DMA!L183=\"\",\"\",DMA!L183)","v":""},{"$f":"IF(DMA!T183=\"\",\"\",DMA!T183)","v":""}]
[null,null,null,null,null,null,null,null,null,null,null,null,null,null,null,null,null,null,null,null,null,null,null,null,null,null,1,{"$f":"IF(DMA!A184=\"\",\"\",DMA!A184)","v":""},{"$f":"IF(DMA!$E184=\"\",\"\",DMA!$E184/5*100)","v":""},{"$f":"IF(DMA!J184=\"\",\"\",DMA!J184)","v":""},{"$f":"IF(DMA!L184=\"\",\"\",DMA!L184)","v":""},{"$f":"IF(DMA!T184=\"\",\"\",DMA!T184)","v":""}]
[null,null,null,null,null,null,null,null,null,null,null,null,null,null,null,null,null,null,null,null,null,null,null,null,null,null,1,{"$f":"IF(DMA!A185=\"\",\"\",DMA!A185)","v":""},{"$f":"IF(DMA!$E185=\"\",\"\",DMA!$E185/5*100)","v":""},{"$f":"IF(DMA!J185=\"\",\"\",DMA!J185)","v":""},{"$f":"IF(DMA!L185=\"\",\"\",DMA!L185)","v":""},{"$f":"IF(DMA!T185=\"\",\"\",DMA!T185)","v":""}]
[null,null,null,null,null,null,null,null,null,null,null,null,null,null,null,null,null,null,null,null,null,null,null,null,null,null,1,{"$f":"IF(DMA!A186=\"\",\"\",DMA!A186)","v":""},{"$f":"IF(DMA!$E186=\"\",\"\",DMA!$E186/5*100)","v":""},{"$f":"IF(DMA!J186=\"\",\"\",DMA!J186)","v":""},{"$f":"IF(DMA!L186=\"\",\"\",DMA!L186)","v":""},{"$f":"IF(DMA!T186=\"\",\"\",DMA!T186)","v":""}]
[null,null,null,null,null,null,null,null,null,null,null,null,null,null,null,null,null,null,null,null,null,null,null,null,null,null,1,{"$f":"IF(DMA!A187=\"\",\"\",DMA!A187)","v":""},{"$f":"IF(DMA!$E187=\"\",\"\",DMA!$E187/5*100)","v":""},{"$f":"IF(DMA!J187=\"\",\"\",DMA!J187)","v":""},{"$f":"IF(DMA!L187=\"\",\"\",DMA!L187)","v":""},{"$f":"IF(DMA!T187=\"\",\"\",DMA!T187)","v":""}]
[null,null,null,null,null,null,null,null,null,null,null,null,null,null,null,null,null,null,null,null,null,null,null,null,null,null,1,{"$f":"IF(DMA!A188=\"\",\"\",DMA!A188)","v":""},{"$f":"IF(DMA!$E188=\"\",\"\",DMA!$E188/5*100)","v":""},{"$f":"IF(DMA!J188=\"\",\"\",DMA!J188)","v":""},{"$f":"IF(DMA!L188=\"\",\"\",DMA!L188)","v":""},{"$f":"IF(DMA!T188=\"\",\"\",DMA!T188)","v":""}]
[null,null,null,null,null,null,null,null,null,null,null,null,null,null,null,null,null,null,null,null,null,null,null,null,null,null,1,{"$f":"IF(DMA!A189=\"\",\"\",DMA!A189)","v":""},{"$f":"IF(DMA!$E189=\"\",\"\",DMA!$E189/5*100)","v":""},{"$f":"IF(DMA!J189=\"\",\"\",DMA!J189)","v":""},{"$f":"IF(DMA!L189=\"\",\"\",DMA!L189)","v":""},{"$f":"IF(DMA!T189=\"\",\"\",DMA!T189)","v":""}]
[null,null,null,null,null,null,null,null,null,null,null,null,null,null,null,null,null,null,null,null,null,null,null,null,null,null,1,{"$f":"IF(DMA!A190=\"\",\"\",DMA!A190)","v":""},{"$f":"IF(DMA!$E190=\"\",\"\",DMA!$E190/5*100)","v":""},{"$f":"IF(DMA!J190=\"\",\"\",DMA!J190)","v":""},{"$f":"IF(DMA!L190=\"\",\"\",DMA!L190)","v":""},{"$f":"IF(DMA!T190=\"\",\"\",DMA!T190)","v":""}]
[null,null,null,null,null,null,null,null,null,null,null,null,null,null,null,null,null,null,null,null,null,null,null,null,null,null,1,{"$f":"IF(DMA!A191=\"\",\"\",DMA!A191)","v":""},{"$f":"IF(DMA!$E191=\"\",\"\",DMA!$E191/5*100)","v":""},{"$f":"IF(DMA!J191=\"\",\"\",DMA!J191)","v":""},{"$f":"IF(DMA!L191=\"\",\"\",DMA!L191)","v":""},{"$f":"IF(DMA!T191=\"\",\"\",DMA!T191)","v":""}]
[null,null,null,null,null,null,null,null,null,null,null,null,null,null,null,null,null,null,null,null,null,null,null,null,null,null,1,{"$f":"IF(DMA!A192=\"\",\"\",DMA!A192)","v":""},{"$f":"IF(DMA!$E192=\"\",\"\",DMA!$E192/5*100)","v":""},{"$f":"IF(DMA!J192=\"\",\"\",DMA!J192)","v":""},{"$f":"IF(DMA!L192=\"\",\"\",DMA!L192)","v":""},{"$f":"IF(DMA!T192=\"\",\"\",DMA!T192)","v":""}]
[null,null,null,null,null,null,null,null,null,null,null,null,null,null,null,null,null,null,null,null,null,null,null,null,null,null,1,{"$f":"IF(DMA!A193=\"\",\"\",DMA!A193)","v":""},{"$f":"IF(DMA!$E193=\"\",\"\",DMA!$E193/5*100)","v":""},{"$f":"IF(DMA!J193=\"\",\"\",DMA!J193)","v":""},{"$f":"IF(DMA!L193=\"\",\"\",DMA!L193)","v":""},{"$f":"IF(DMA!T193=\"\",\"\",DMA!T193)","v":""}]
[null,null,null,null,null,null,null,null,null,null,null,null,null,null,null,null,null,null,null,null,null,null,null,null,null,null,1,{"$f":"IF(DMA!A194=\"\",\"\",DMA!A194)","v":""},{"$f":"IF(DMA!$E194=\"\",\"\",DMA!$E194/5*100)","v":""},{"$f":"IF(DMA!J194=\"\",\"\",DMA!J194)","v":""},{"$f":"IF(DMA!L194=\"\",\"\",DMA!L194)","v":""},{"$f":"IF(DMA!T194=\"\",\"\",DMA!T194)","v":""}]
[null,null,null,null,null,null,null,null,null,null,null,null,null,null,null,null,null,null,null,null,null,null,null,null,null,null,1,{"$f":"IF(DMA!A195=\"\",\"\",DMA!A195)","v":""},{"$f":"IF(DMA!$E195=\"\",\"\",DMA!$E195/5*100)","v":""},{"$f":"IF(DMA!J195=\"\",\"\",DMA!J195)","v":""},{"$f":"IF(DMA!L195=\"\",\"\",DMA!L195)","v":""},{"$f":"IF(DMA!T195=\"\",\"\",DMA!T195)","v":""}]
[null,null,null,null,null,null,null,null,null,null,null,null,null,null,null,null,null,null,null,null,null,null,null,null,null,null,1,{"$f":"IF(DMA!A196=\"\",\"\",DMA!A196)","v":""},{"$f":"IF(DMA!$E196=\"\",\"\",DMA!$E196/5*100)","v":""},{"$f":"IF(DMA!J196=\"\",\"\",DMA!J196)","v":""},{"$f":"IF(DMA!L196=\"\",\"\",DMA!L196)","v":""},{"$f":"IF(DMA!T196=\"\",\"\",DMA!T196)","v":""}]
[null,null,null,null,null,null,null,null,null,null,null,null,null,null,null,null,null,null,null,null,null,null,null,null,null,null,1,{"$f":"IF(DMA!A197=\"\",\"\",DMA!A197)","v":""},{"$f":"IF(DMA!$E197=\"\",\"\",DMA!$E197/5*100)","v":""},{"$f":"IF(DMA!J197=\"\",\"\",DMA!J197)","v":""},{"$f":"IF(DMA!L197=\"\",\"\",DMA!L197)","v":""},{"$f":"IF(DMA!T197=\"\",\"\",DMA!T197)","v":""}]
[null,null,null,null,null,null,null,null,null,null,null,null,null,null,null,null,null,null,null,null,null,null,null,null,null,null,1,{"$f":"IF(DMA!A198=\"\",\"\",DMA!A198)","v":""},{"$f":"IF(DMA!$E198=\"\",\"\",DMA!$E198/5*100)","v":""},{"$f":"IF(DMA!J198=\"\",\"\",DMA!J198)","v":""},{"$f":"IF(DMA!L198=\"\",\"\",DMA!L198)","v":""},{"$f":"IF(DMA!T198=\"\",\"\",DMA!T198)","v":""}]
[null,null,null,null,null,null,null,null,null,null,null,null,null,null,null,null,null,null,null,null,null,null,null,null,null,null,{"$f":"IF(AB196=AA195+1,AB196,AA195)","v":1},{"$f":"IF(DMA!A199=\"\",\"\",DMA!A199)","v":""},{"$f":"IF(DMA!$E199=\"\",\"\",DMA!$E199/5*100)","v":""},{"$f":"IF(DMA!J199=\"\",\"\",DMA!J199)","v":""},{"$f":"IF(DMA!L199=\"\",\"\",DMA!L199)","v":""},{"$f":"IF(DMA!T199=\"\",\"\",DMA!T199)","v":""}]
[null,null,null,null,null,null,null,null,null,null,null,null,null,null,null,null,null,null,null,null,null,null,null,null,null,null,1,{"$f":"IF(DMA!A200=\"\",\"\",DMA!A200)","v":""},{"$f":"IF(DMA!$E200=\"\",\"\",DMA!$E200/5*100)","v":""},{"$f":"IF(DMA!J200=\"\",\"\",DMA!J200)","v":""},{"$f":"IF(DMA!L200=\"\",\"\",DMA!L200)","v":""},{"$f":"IF(DMA!T200=\"\",\"\",DMA!T200)","v":""}]
[null,null,null,null,null,null,null,null,null,null,null,null,null,null,null,null,null,null,null,null,null,null,null,null,null,null,1,{"$f":"IF(DMA!A201=\"\",\"\",DMA!A201)","v":""},{"$f":"IF(DMA!$E201=\"\",\"\",DMA!$E201/5*100)","v":""},{"$f":"IF(DMA!J201=\"\",\"\",DMA!J201)","v":""},{"$f":"IF(DMA!L201=\"\",\"\",DMA!L201)","v":""},{"$f":"IF(DMA!T201=\"\",\"\",DMA!T201)","v":""}]
[null,null,null,null,null,null,null,null,null,null,null,null,null,null,null,null,null,null,null,null,null,null,null,null,null,null,1,{"$f":"IF(DMA!A202=\"\",\"\",DMA!A202)","v":""},{"$f":"IF(DMA!$E202=\"\",\"\",DMA!$E202/5*100)","v":""},{"$f":"IF(DMA!J202=\"\",\"\",DMA!J202)","v":""},{"$f":"IF(DMA!L202=\"\",\"\",DMA!L202)","v":""},{"$f":"IF(DMA!T202=\"\",\"\",DMA!T202)","v":""}]
[null,null,null,null,null,null,null,null,null,null,null,null,null,null,null,null,null,null,null,null,null,null,null,null,null,null,1,{"$f":"IF(DMA!A203=\"\",\"\",DMA!A203)","v":""},{"$f":"IF(DMA!$E203=\"\",\"\",DMA!$E203/5*100)","v":""},{"$f":"IF(DMA!J203=\"\",\"\",DMA!J203)","v":""},{"$f":"IF(DMA!L203=\"\",\"\",DMA!L203)","v":""},{"$f":"IF(DMA!T203=\"\",\"\",DMA!T203)","v":""}]
[null,null,null,null,null,null,null,null,null,null,null,null,null,null,null,null,null,null,null,null,null,null,null,null,null,null,1,{"$f":"IF(DMA!A204=\"\",\"\",DMA!A204)","v":""},{"$f":"IF(DMA!$E204=\"\",\"\",DMA!$E204/5*100)","v":""},{"$f":"IF(DMA!J204=\"\",\"\",DMA!J204)","v":""},{"$f":"IF(DMA!L204=\"\",\"\",DMA!L204)","v":""},{"$f":"IF(DMA!T204=\"\",\"\",DMA!T204)","v":""}]
[null,null,null,null,null,null,null,null,null,null,null,null,null,null,null,null,null,null,null,null,null,null,null,null,null,null,1,{"$f":"IF(DMA!A205=\"\",\"\",DMA!A205)","v":""},{"$f":"IF(DMA!$E205=\"\",\"\",DMA!$E205/5*100)","v":""},{"$f":"IF(DMA!J205=\"\",\"\",DMA!J205)","v":""},{"$f":"IF(DMA!L205=\"\",\"\",DMA!L205)","v":""},{"$f":"IF(DMA!T205=\"\",\"\",DMA!T205)","v":""}]
[null,null,null,null,null,null,null,null,null,null,null,null,null,null,null,null,null,null,null,null,null,null,null,null,null,null,1,{"$f":"IF(DMA!A206=\"\",\"\",DMA!A206)","v":""},{"$f":"IF(DMA!$E206=\"\",\"\",DMA!$E206/5*100)","v":""},{"$f":"IF(DMA!J206=\"\",\"\",DMA!J206)","v":""},{"$f":"IF(DMA!L206=\"\",\"\",DMA!L206)","v":""},{"$f":"IF(DMA!T206=\"\",\"\",DMA!T206)","v":""}]
[null,null,null,null,null,null,null,null,null,null,null,null,null,null,null,null,null,null,null,null,null,null,null,null,null,null,1,{"$f":"IF(DMA!A207=\"\",\"\",DMA!A207)","v":""},{"$f":"IF(DMA!$E207=\"\",\"\",DMA!$E207/5*100)","v":""},{"$f":"IF(DMA!J207=\"\",\"\",DMA!J207)","v":""},{"$f":"IF(DMA!L207=\"\",\"\",DMA!L207)","v":""},{"$f":"IF(DMA!T207=\"\",\"\",DMA!T207)","v":""}]
[null,null,null,null,null,null,null,null,null,null,null,null,null,null,null,null,null,null,null,null,null,null,null,null,null,null,1,{"$f":"IF(DMA!A208=\"\",\"\",DMA!A208)","v":""},{"$f":"IF(DMA!$E208=\"\",\"\",DMA!$E208/5*100)","v":""},{"$f":"IF(DMA!J208=\"\",\"\",DMA!J208)","v":""},{"$f":"IF(DMA!L208=\"\",\"\",DMA!L208)","v":""},{"$f":"IF(DMA!T208=\"\",\"\",DMA!T208)","v":""}]
[null,null,null,null,null,null,null,null,null,null,null,null,null,null,null,null,null,null,null,null,null,null,null,null,null,null,1,{"$f":"IF(DMA!A209=\"\",\"\",DMA!A209)","v":""},{"$f":"IF(DMA!$E209=\"\",\"\",DMA!$E209/5*100)","v":""},{"$f":"IF(DMA!J209=\"\",\"\",DMA!J209)","v":""},{"$f":"IF(DMA!L209=\"\",\"\",DMA!L209)","v":""},{"$f":"IF(DMA!T209=\"\",\"\",DMA!T209)","v":""}]
[null,null,null,null,null,null,null,null,null,null,null,null,null,null,null,null,null,null,null,null,null,null,null,null,null,null,1,{"$f":"IF(DMA!A210=\"\",\"\",DMA!A210)","v":""},{"$f":"IF(DMA!$E210=\"\",\"\",DMA!$E210/5*100)","v":""},{"$f":"IF(DMA!J210=\"\",\"\",DMA!J210)","v":""},{"$f":"IF(DMA!L210=\"\",\"\",DMA!L210)","v":""},{"$f":"IF(DMA!T210=\"\",\"\",DMA!T210)","v":""}]
[null,null,null,null,null,null,null,null,null,null,null,null,null,null,null,null,null,null,null,null,null,null,null,null,null,null,1,{"$f":"IF(DMA!A211=\"\",\"\",DMA!A211)","v":""},{"$f":"IF(DMA!$E211=\"\",\"\",DMA!$E211/5*100)","v":""},{"$f":"IF(DMA!J211=\"\",\"\",DMA!J211)","v":""},{"$f":"IF(DMA!L211=\"\",\"\",DMA!L211)","v":""},{"$f":"IF(DMA!T211=\"\",\"\",DMA!T211)","v":""}]
[null,null,null,null,null,null,null,null,null,null,null,null,null,null,null,null,null,null,null,null,null,null,null,null,null,null,1,{"$f":"IF(DMA!A212=\"\",\"\",DMA!A212)","v":""},{"$f":"IF(DMA!$E212=\"\",\"\",DMA!$E212/5*100)","v":""},{"$f":"IF(DMA!J212=\"\",\"\",DMA!J212)","v":""},{"$f":"IF(DMA!L212=\"\",\"\",DMA!L212)","v":""},{"$f":"IF(DMA!T212=\"\",\"\",DMA!T212)","v":""}]
[null,null,null,null,null,null,null,null,null,null,null,null,null,null,null,null,null,null,null,null,null,null,null,null,null,null,1,{"$f":"IF(DMA!A213=\"\",\"\",DMA!A213)","v":""},{"$f":"IF(DMA!$E213=\"\",\"\",DMA!$E213/5*100)","v":""},{"$f":"IF(DMA!J213=\"\",\"\",DMA!J213)","v":""},{"$f":"IF(DMA!L213=\"\",\"\",DMA!L213)","v":""},{"$f":"IF(DMA!T213=\"\",\"\",DMA!T213)","v":""}]
[null,null,null,null,null,null,null,null,null,null,null,null,null,null,null,null,null,null,null,null,null,null,null,null,null,null,1,{"$f":"IF(DMA!A214=\"\",\"\",DMA!A214)","v":""},{"$f":"IF(DMA!$E214=\"\",\"\",DMA!$E214/5*100)","v":""},{"$f":"IF(DMA!J214=\"\",\"\",DMA!J214)","v":""},{"$f":"IF(DMA!L214=\"\",\"\",DMA!L214)","v":""},{"$f":"IF(DMA!T214=\"\",\"\",DMA!T214)","v":""}]
[null,null,null,null,null,null,null,null,null,null,null,null,null,null,null,null,null,null,null,null,null,null,null,null,null,null,1,{"$f":"IF(DMA!A215=\"\",\"\",DMA!A215)","v":""},{"$f":"IF(DMA!$E215=\"\",\"\",DMA!$E215/5*100)","v":""},{"$f":"IF(DMA!J215=\"\",\"\",DMA!J215)","v":""},{"$f":"IF(DMA!L215=\"\",\"\",DMA!L215)","v":""},{"$f":"IF(DMA!T215=\"\",\"\",DMA!T215)","v":""}]
[null,null,null,null,null,null,null,null,null,null,null,null,null,null,null,null,null,null,null,null,null,null,null,null,null,null,1,{"$f":"IF(DMA!A216=\"\",\"\",DMA!A216)","v":""},{"$f":"IF(DMA!$E216=\"\",\"\",DMA!$E216/5*100)","v":""},{"$f":"IF(DMA!J216=\"\",\"\",DMA!J216)","v":""},{"$f":"IF(DMA!L216=\"\",\"\",DMA!L216)","v":""},{"$f":"IF(DMA!T216=\"\",\"\",DMA!T216)","v":""}]
[null,null,null,null,null,null,null,null,null,null,null,null,null,null,null,null,null,null,null,null,null,null,null,null,null,null,1,{"$f":"IF(DMA!A217=\"\",\"\",DMA!A217)","v":""},{"$f":"IF(DMA!$E217=\"\",\"\",DMA!$E217/5*100)","v":""},{"$f":"IF(DMA!J217=\"\",\"\",DMA!J217)","v":""},{"$f":"IF(DMA!L217=\"\",\"\",DMA!L217)","v":""},{"$f":"IF(DMA!T217=\"\",\"\",DMA!T217)","v":""}]
[null,null,null,null,null,null,null,null,null,null,null,null,null,null,null,null,null,null,null,null,null,null,null,null,null,null,1,{"$f":"IF(DMA!A218=\"\",\"\",DMA!A218)","v":""},{"$f":"IF(DMA!$E218=\"\",\"\",DMA!$E218/5*100)","v":""},{"$f":"IF(DMA!J218=\"\",\"\",DMA!J218)","v":""},{"$f":"IF(DMA!L218=\"\",\"\",DMA!L218)","v":""},{"$f":"IF(DMA!T218=\"\",\"\",DMA!T218)","v":""}]
[null,null,null,null,null,null,null,null,null,null,null,null,null,null,null,null,null,null,null,null,null,null,null,null,null,null,1,{"$f":"IF(DMA!A219=\"\",\"\",DMA!A219)","v":""},{"$f":"IF(DMA!$E219=\"\",\"\",DMA!$E219/5*100)","v":""},{"$f":"IF(DMA!J219=\"\",\"\",DMA!J219)","v":""},{"$f":"IF(DMA!L219=\"\",\"\",DMA!L219)","v":""},{"$f":"IF(DMA!T219=\"\",\"\",DMA!T219)","v":""}]
[null,null,null,null,null,null,null,null,null,null,null,null,null,null,null,null,null,null,null,null,null,null,null,null,null,null,1,{"$f":"IF(DMA!A220=\"\",\"\",DMA!A220)","v":""},{"$f":"IF(DMA!$E220=\"\",\"\",DMA!$E220/5*100)","v":""},{"$f":"IF(DMA!J220=\"\",\"\",DMA!J220)","v":""},{"$f":"IF(DMA!L220=\"\",\"\",DMA!L220)","v":""},{"$f":"IF(DMA!T220=\"\",\"\",DMA!T220)","v":""}]
[null,null,null,null,null,null,null,null,null,null,null,null,null,null,null,null,null,null,null,null,null,null,null,null,null,null,1,{"$f":"IF(DMA!A221=\"\",\"\",DMA!A221)","v":""},{"$f":"IF(DMA!$E221=\"\",\"\",DMA!$E221/5*100)","v":""},{"$f":"IF(DMA!J221=\"\",\"\",DMA!J221)","v":""},{"$f":"IF(DMA!L221=\"\",\"\",DMA!L221)","v":""},{"$f":"IF(DMA!T221=\"\",\"\",DMA!T221)","v":""}]
[null,null,null,null,null,null,null,null,null,null,null,null,null,null,null,null,null,null,null,null,null,null,null,null,null,null,1,{"$f":"IF(DMA!A222=\"\",\"\",DMA!A222)","v":""},{"$f":"IF(DMA!$E222=\"\",\"\",DMA!$E222/5*100)","v":""},{"$f":"IF(DMA!J222=\"\",\"\",DMA!J222)","v":""},{"$f":"IF(DMA!L222=\"\",\"\",DMA!L222)","v":""},{"$f":"IF(DMA!T222=\"\",\"\",DMA!T222)","v":""}]
[null,null,null,null,null,null,null,null,null,null,null,null,null,null,null,null,null,null,null,null,null,null,null,null,null,null,1,{"$f":"IF(DMA!A223=\"\",\"\",DMA!A223)","v":""},{"$f":"IF(DMA!$E223=\"\",\"\",DMA!$E223/5*100)","v":""},{"$f":"IF(DMA!J223=\"\",\"\",DMA!J223)","v":""},{"$f":"IF(DMA!L223=\"\",\"\",DMA!L223)","v":""},{"$f":"IF(DMA!T223=\"\",\"\",DMA!T223)","v":""}]
[null,null,null,null,null,null,null,null,null,null,null,null,null,null,null,null,null,null,null,null,null,null,null,null,null,null,1,{"$f":"IF(DMA!A224=\"\",\"\",DMA!A224)","v":""},{"$f":"IF(DMA!$E224=\"\",\"\",DMA!$E224/5*100)","v":""},{"$f":"IF(DMA!J224=\"\",\"\",DMA!J224)","v":""},{"$f":"IF(DMA!L224=\"\",\"\",DMA!L224)","v":""},{"$f":"IF(DMA!T224=\"\",\"\",DMA!T224)","v":""}]
[null,null,null,null,null,null,null,null,null,null,null,null,null,null,null,null,null,null,null,null,null,null,null,null,null,null,1,{"$f":"IF(DMA!A225=\"\",\"\",DMA!A225)","v":""},{"$f":"IF(DMA!$E225=\"\",\"\",DMA!$E225/5*100)","v":""},{"$f":"IF(DMA!J225=\"\",\"\",DMA!J225)","v":""},{"$f":"IF(DMA!L225=\"\",\"\",DMA!L225)","v":""},{"$f":"IF(DMA!T225=\"\",\"\",DMA!T225)","v":""}]
[null,null,null,null,null,null,null,null,null,null,null,null,null,null,null,null,null,null,null,null,null,null,null,null,null,null,1,{"$f":"IF(DMA!A226=\"\",\"\",DMA!A226)","v":""},{"$f":"IF(DMA!$E226=\"\",\"\",DMA!$E226/5*100)","v":""},{"$f":"IF(DMA!J226=\"\",\"\",DMA!J226)","v":""},{"$f":"IF(DMA!L226=\"\",\"\",DMA!L226)","v":""},{"$f":"IF(DMA!T226=\"\",\"\",DMA!T226)","v":""}]
[null,null,null,null,null,null,null,null,null,null,null,null,null,null,null,null,null,null,null,null,null,null,null,null,null,null,1,{"$f":"IF(DMA!A227=\"\",\"\",DMA!A227)","v":""},{"$f":"IF(DMA!$E227=\"\",\"\",DMA!$E227/5*100)","v":""},{"$f":"IF(DMA!J227=\"\",\"\",DMA!J227)","v":""},{"$f":"IF(DMA!L227=\"\",\"\",DMA!L227)","v":""},{"$f":"IF(DMA!T227=\"\",\"\",DMA!T227)","v":""}]
[null,null,null,null,null,null,null,null,null,null,null,null,null,null,null,null,null,null,null,null,null,null,null,null,null,null,1,{"$f":"IF(DMA!A228=\"\",\"\",DMA!A228)","v":""},{"$f":"IF(DMA!$E228=\"\",\"\",DMA!$E228/5*100)","v":""},{"$f":"IF(DMA!J228=\"\",\"\",DMA!J228)","v":""},{"$f":"IF(DMA!L228=\"\",\"\",DMA!L228)","v":""},{"$f":"IF(DMA!T228=\"\",\"\",DMA!T228)","v":""}]
[null,null,null,null,null,null,null,null,null,null,null,null,null,null,null,null,null,null,null,null,null,null,null,null,null,null,1,{"$f":"IF(DMA!A229=\"\",\"\",DMA!A229)","v":""},{"$f":"IF(DMA!$E229=\"\",\"\",DMA!$E229/5*100)","v":""},{"$f":"IF(DMA!J229=\"\",\"\",DMA!J229)","v":""},{"$f":"IF(DMA!L229=\"\",\"\",DMA!L229)","v":""},{"$f":"IF(DMA!T229=\"\",\"\",DMA!T229)","v":""}]
[null,null,null,null,null,null,null,null,null,null,null,null,null,null,null,null,null,null,null,null,null,null,null,null,null,null,1,{"$f":"IF(DMA!A230=\"\",\"\",DMA!A230)","v":""},{"$f":"IF(DMA!$E230=\"\",\"\",DMA!$E230/5*100)","v":""},{"$f":"IF(DMA!J230=\"\",\"\",DMA!J230)","v":""},{"$f":"IF(DMA!L230=\"\",\"\",DMA!L230)","v":""},{"$f":"IF(DMA!T230=\"\",\"\",DMA!T230)","v":""}]
[null,null,null,null,null,null,null,null,null,null,null,null,null,null,null,null,null,null,null,null,null,null,null,null,null,null,1,{"$f":"IF(DMA!A231=\"\",\"\",DMA!A231)","v":""},{"$f":"IF(DMA!$E231=\"\",\"\",DMA!$E231/5*100)","v":""},{"$f":"IF(DMA!J231=\"\",\"\",DMA!J231)","v":""},{"$f":"IF(DMA!L231=\"\",\"\",DMA!L231)","v":""},{"$f":"IF(DMA!T231=\"\",\"\",DMA!T231)","v":""}]
[null,null,null,null,null,null,null,null,null,null,null,null,null,null,null,null,null,null,null,null,null,null,null,null,null,null,1,{"$f":"IF(DMA!A232=\"\",\"\",DMA!A232)","v":""},{"$f":"IF(DMA!$E232=\"\",\"\",DMA!$E232/5*100)","v":""},{"$f":"IF(DMA!J232=\"\",\"\",DMA!J232)","v":""},{"$f":"IF(DMA!L232=\"\",\"\",DMA!L232)","v":""},{"$f":"IF(DMA!T232=\"\",\"\",DMA!T232)","v":""}]
[null,null,null,null,null,null,null,null,null,null,null,null,null,null,null,null,null,null,null,null,null,null,null,null,null,null,1,{"$f":"IF(DMA!A233=\"\",\"\",DMA!A233)","v":""},{"$f":"IF(DMA!$E233=\"\",\"\",DMA!$E233/5*100)","v":""},{"$f":"IF(DMA!J233=\"\",\"\",DMA!J233)","v":""},{"$f":"IF(DMA!L233=\"\",\"\",DMA!L233)","v":""},{"$f":"IF(DMA!T233=\"\",\"\",DMA!T233)","v":""}]
[null,null,null,null,null,null,null,null,null,null,null,null,null,null,null,null,null,null,null,null,null,null,null,null,null,null,1,{"$f":"IF(DMA!A234=\"\",\"\",DMA!A234)","v":""},{"$f":"IF(DMA!$E234=\"\",\"\",DMA!$E234/5*100)","v":""},{"$f":"IF(DMA!J234=\"\",\"\",DMA!J234)","v":""},{"$f":"IF(DMA!L234=\"\",\"\",DMA!L234)","v":""},{"$f":"IF(DMA!T234=\"\",\"\",DMA!T234)","v":""}]
[null,null,null,null,null,null,null,null,null,null,null,null,null,null,null,null,null,null,null,null,null,null,null,null,null,null,1,{"$f":"IF(DMA!A235=\"\",\"\",DMA!A235)","v":""},{"$f":"IF(DMA!$E235=\"\",\"\",DMA!$E235/5*100)","v":""},{"$f":"IF(DMA!J235=\"\",\"\",DMA!J235)","v":""},{"$f":"IF(DMA!L235=\"\",\"\",DMA!L235)","v":""},{"$f":"IF(DMA!T235=\"\",\"\",DMA!T235)","v":""}]
[null,null,null,null,null,null,null,null,null,null,null,null,null,null,null,null,null,null,null,null,null,null,null,null,null,null,1,{"$f":"IF(DMA!A236=\"\",\"\",DMA!A236)","v":""},{"$f":"IF(DMA!$E236=\"\",\"\",DMA!$E236/5*100)","v":""},{"$f":"IF(DMA!J236=\"\",\"\",DMA!J236)","v":""},{"$f":"IF(DMA!L236=\"\",\"\",DMA!L236)","v":""},{"$f":"IF(DMA!T236=\"\",\"\",DMA!T236)","v":""}]
[null,null,null,null,null,null,null,null,null,null,null,null,null,null,null,null,null,null,null,null,null,null,null,null,null,null,1,{"$f":"IF(DMA!A237=\"\",\"\",DMA!A237)","v":""},{"$f":"IF(DMA!$E237=\"\",\"\",DMA!$E237/5*100)","v":""},{"$f":"IF(DMA!J237=\"\",\"\",DMA!J237)","v":""},{"$f":"IF(DMA!L237=\"\",\"\",DMA!L237)","v":""},{"$f":"IF(DMA!T237=\"\",\"\",DMA!T237)","v":""}]
[null,null,null,null,null,null,null,null,null,null,null,null,null,null,null,null,null,null,null,null,null,null,null,null,null,null,1,{"$f":"IF(DMA!A238=\"\",\"\",DMA!A238)","v":""},{"$f":"IF(DMA!$E238=\"\",\"\",DMA!$E238/5*100)","v":""},{"$f":"IF(DMA!J238=\"\",\"\",DMA!J238)","v":""},{"$f":"IF(DMA!L238=\"\",\"\",DMA!L238)","v":""},{"$f":"IF(DMA!T238=\"\",\"\",DMA!T238)","v":""}]
[null,null,null,null,null,null,null,null,null,null,null,null,null,null,null,null,null,null,null,null,null,null,null,null,null,null,1,{"$f":"IF(DMA!A239=\"\",\"\",DMA!A239)","v":""},{"$f":"IF(DMA!$E239=\"\",\"\",DMA!$E239/5*100)","v":""},{"$f":"IF(DMA!J239=\"\",\"\",DMA!J239)","v":""},{"$f":"IF(DMA!L239=\"\",\"\",DMA!L239)","v":""},{"$f":"IF(DMA!T239=\"\",\"\",DMA!T239)","v":""}]
[null,null,null,null,null,null,null,null,null,null,null,null,null,null,null,null,null,null,null,null,null,null,null,null,null,null,1,{"$f":"IF(DMA!A240=\"\",\"\",DMA!A240)","v":""},{"$f":"IF(DMA!$E240=\"\",\"\",DMA!$E240/5*100)","v":""},{"$f":"IF(DMA!J240=\"\",\"\",DMA!J240)","v":""},{"$f":"IF(DMA!L240=\"\",\"\",DMA!L240)","v":""},{"$f":"IF(DMA!T240=\"\",\"\",DMA!T240)","v":""}]
[null,null,null,null,null,null,null,null,null,null,null,null,null,null,null,null,null,null,null,null,null,null,null,null,null,null,1,{"$f":"IF(DMA!A241=\"\",\"\",DMA!A241)","v":""},{"$f":"IF(DMA!$E241=\"\",\"\",DMA!$E241/5*100)","v":""},{"$f":"IF(DMA!J241=\"\",\"\",DMA!J241)","v":""},{"$f":"IF(DMA!L241=\"\",\"\",DMA!L241)","v":""},{"$f":"IF(DMA!T241=\"\",\"\",DMA!T241)","v":""}]
[null,null,null,null,null,null,null,null,null,null,null,null,null,null,null,null,null,null,null,null,null,null,null,null,null,null,1,{"$f":"IF(DMA!A242=\"\",\"\",DMA!A242)","v":""},{"$f":"IF(DMA!$E242=\"\",\"\",DMA!$E242/5*100)","v":""},{"$f":"IF(DMA!J242=\"\",\"\",DMA!J242)","v":""},{"$f":"IF(DMA!L242=\"\",\"\",DMA!L242)","v":""},{"$f":"IF(DMA!T242=\"\",\"\",DMA!T242)","v":""}]
[null,null,null,null,null,null,null,null,null,null,null,null,null,null,null,null,null,null,null,null,null,null,null,null,null,null,1,{"$f":"IF(DMA!A243=\"\",\"\",DMA!A243)","v":""},{"$f":"IF(DMA!$E243=\"\",\"\",DMA!$E243/5*100)","v":""},{"$f":"IF(DMA!J243=\"\",\"\",DMA!J243)","v":""},{"$f":"IF(DMA!L243=\"\",\"\",DMA!L243)","v":""},{"$f":"IF(DMA!T243=\"\",\"\",DMA!T243)","v":""}]
[null,null,null,null,null,null,null,null,null,null,null,null,null,null,null,null,null,null,null,null,null,null,null,null,null,null,1,{"$f":"IF(DMA!A244=\"\",\"\",DMA!A244)","v":""},{"$f":"IF(DMA!$E244=\"\",\"\",DMA!$E244/5*100)","v":""},{"$f":"IF(DMA!J244=\"\",\"\",DMA!J244)","v":""},{"$f":"IF(DMA!L244=\"\",\"\",DMA!L244)","v":""},{"$f":"IF(DMA!T244=\"\",\"\",DMA!T244)","v":""}]
[null,null,null,null,null,null,null,null,null,null,null,null,null,null,null,null,null,null,null,null,null,null,null,null,null,null,1,{"$f":"IF(DMA!A245=\"\",\"\",DMA!A245)","v":""},{"$f":"IF(DMA!$E245=\"\",\"\",DMA!$E245/5*100)","v":""},{"$f":"IF(DMA!J245=\"\",\"\",DMA!J245)","v":""},{"$f":"IF(DMA!L245=\"\",\"\",DMA!L245)","v":""},{"$f":"IF(DMA!T245=\"\",\"\",DMA!T245)","v":""}]
[null,null,null,null,null,null,null,null,null,null,null,null,null,null,null,null,null,null,null,null,null,null,null,null,null,null,1,{"$f":"IF(DMA!A246=\"\",\"\",DMA!A246)","v":""},{"$f":"IF(DMA!$E246=\"\",\"\",DMA!$E246/5*100)","v":""},{"$f":"IF(DMA!J246=\"\",\"\",DMA!J246)","v":""},{"$f":"IF(DMA!L246=\"\",\"\",DMA!L246)","v":""},{"$f":"IF(DMA!T246=\"\",\"\",DMA!T246)","v":""}]
[null,null,null,null,null,null,null,null,null,null,null,null,null,null,null,null,null,null,null,null,null,null,null,null,null,null,1,{"$f":"IF(DMA!A247=\"\",\"\",DMA!A247)","v":""},{"$f":"IF(DMA!$E247=\"\",\"\",DMA!$E247/5*100)","v":""},{"$f":"IF(DMA!J247=\"\",\"\",DMA!J247)","v":""},{"$f":"IF(DMA!L247=\"\",\"\",DMA!L247)","v":""},{"$f":"IF(DMA!T247=\"\",\"\",DMA!T247)","v":""}]
[null,null,null,null,null,null,null,null,null,null,null,null,null,null,null,null,null,null,null,null,null,null,null,null,null,null,1,{"$f":"IF(DMA!A248=\"\",\"\",DMA!A248)","v":""},{"$f":"IF(DMA!$E248=\"\",\"\",DMA!$E248/5*100)","v":""},{"$f":"IF(DMA!J248=\"\",\"\",DMA!J248)","v":""},{"$f":"IF(DMA!L248=\"\",\"\",DMA!L248)","v":""},{"$f":"IF(DMA!T248=\"\",\"\",DMA!T248)","v":""}]
[null,null,null,null,null,null,null,null,null,null,null,null,null,null,null,null,null,null,null,null,null,null,null,null,null,null,1,{"$f":"IF(DMA!A249=\"\",\"\",DMA!A249)","v":""},{"$f":"IF(DMA!$E249=\"\",\"\",DMA!$E249/5*100)","v":""},{"$f":"IF(DMA!J249=\"\",\"\",DMA!J249)","v":""},{"$f":"IF(DMA!L249=\"\",\"\",DMA!L249)","v":""},{"$f":"IF(DMA!T249=\"\",\"\",DMA!T249)","v":""}]
[null,null,null,null,null,null,null,null,null,null,null,null,null,null,null,null,null,null,null,null,null,null,null,null,null,null,1,{"$f":"IF(DMA!A250=\"\",\"\",DMA!A250)","v":""},{"$f":"IF(DMA!$E250=\"\",\"\",DMA!$E250/5*100)","v":""},{"$f":"IF(DMA!J250=\"\",\"\",DMA!J250)","v":""},{"$f":"IF(DMA!L250=\"\",\"\",DMA!L250)","v":""},{"$f":"IF(DMA!T250=\"\",\"\",DMA!T250)","v":""}]
[null,null,null,null,null,null,null,null,null,null,null,null,null,null,null,null,null,null,null,null,null,null,null,null,null,null,1,{"$f":"IF(DMA!A251=\"\",\"\",DMA!A251)","v":""},{"$f":"IF(DMA!$E251=\"\",\"\",DMA!$E251/5*100)","v":""},{"$f":"IF(DMA!J251=\"\",\"\",DMA!J251)","v":""},{"$f":"IF(DMA!L251=\"\",\"\",DMA!L251)","v":""},{"$f":"IF(DMA!T251=\"\",\"\",DMA!T251)","v":""}]
[null,null,null,null,null,null,null,null,null,null,null,null,null,null,null,null,null,null,null,null,null,null,null,null,null,null,1,{"$f":"IF(DMA!A252=\"\",\"\",DMA!A252)","v":""},{"$f":"IF(DMA!$E252=\"\",\"\",DMA!$E252/5*100)","v":""},{"$f":"IF(DMA!J252=\"\",\"\",DMA!J252)","v":""},{"$f":"IF(DMA!L252=\"\",\"\",DMA!L252)","v":""},{"$f":"IF(DMA!T252=\"\",\"\",DMA!T252)","v":""}]
[null,null,null,null,null,null,null,null,null,null,null,null,null,null,null,null,null,null,null,null,null,null,null,null,null,null,1,{"$f":"IF(DMA!A253=\"\",\"\",DMA!A253)","v":""},{"$f":"IF(DMA!$E253=\"\",\"\",DMA!$E253/5*100)","v":""},{"$f":"IF(DMA!J253=\"\",\"\",DMA!J253)","v":""},{"$f":"IF(DMA!L253=\"\",\"\",DMA!L253)","v":""},{"$f":"IF(DMA!T253=\"\",\"\",DMA!T253)","v":""}]
[null,null,null,null,null,null,null,null,null,null,null,null,null,null,null,null,null,null,null,null,null,null,null,null,null,null,1,{"$f":"IF(DMA!A254=\"\",\"\",DMA!A254)","v":""},{"$f":"IF(DMA!$E254=\"\",\"\",DMA!$E254/5*100)","v":""},{"$f":"IF(DMA!J254=\"\",\"\",DMA!J254)","v":""},{"$f":"IF(DMA!L254=\"\",\"\",DMA!L254)","v":""},{"$f":"IF(DMA!T254=\"\",\"\",DMA!T254)","v":""}]
[null,null,null,null,null,null,null,null,null,null,null,null,null,null,null,null,null,null,null,null,null,null,null,null,null,null,1,{"$f":"IF(DMA!A255=\"\",\"\",DMA!A255)","v":""},{"$f":"IF(DMA!$E255=\"\",\"\",DMA!$E255/5*100)","v":""},{"$f":"IF(DMA!J255=\"\",\"\",DMA!J255)","v":""},{"$f":"IF(DMA!L255=\"\",\"\",DMA!L255)","v":""},{"$f":"IF(DMA!T255=\"\",\"\",DMA!T255)","v":""}]
[null,null,null,null,null,null,null,null,null,null,null,null,null,null,null,null,null,null,null,null,null,null,null,null,null,null,1,{"$f":"IF(DMA!A256=\"\",\"\",DMA!A256)","v":""},{"$f":"IF(DMA!$E256=\"\",\"\",DMA!$E256/5*100)","v":""},{"$f":"IF(DMA!J256=\"\",\"\",DMA!J256)","v":""},{"$f":"IF(DMA!L256=\"\",\"\",DMA!L256)","v":""},{"$f":"IF(DMA!T256=\"\",\"\",DMA!T256)","v":""}]
[null,null,null,null,null,null,null,null,null,null,null,null,null,null,null,null,null,null,null,null,null,null,null,null,null,null,1,{"$f":"IF(DMA!A257=\"\",\"\",DMA!A257)","v":""},{"$f":"IF(DMA!$E257=\"\",\"\",DMA!$E257/5*100)","v":""},{"$f":"IF(DMA!J257=\"\",\"\",DMA!J257)","v":""},{"$f":"IF(DMA!L257=\"\",\"\",DMA!L257)","v":""},{"$f":"IF(DMA!T257=\"\",\"\",DMA!T257)","v":""}]
[null,null,null,null,null,null,null,null,null,null,null,null,null,null,null,null,null,null,null,null,null,null,null,null,null,null,1,{"$f":"IF(DMA!A258=\"\",\"\",DMA!A258)","v":""},{"$f":"IF(DMA!$E258=\"\",\"\",DMA!$E258/5*100)","v":""},{"$f":"IF(DMA!J258=\"\",\"\",DMA!J258)","v":""},{"$f":"IF(DMA!L258=\"\",\"\",DMA!L258)","v":""},{"$f":"IF(DMA!T258=\"\",\"\",DMA!T258)","v":""}]
[null,null,null,null,null,null,null,null,null,null,null,null,null,null,null,null,null,null,null,null,null,null,null,null,null,null,1,{"$f":"IF(DMA!A259=\"\",\"\",DMA!A259)","v":""},{"$f":"IF(DMA!$E259=\"\",\"\",DMA!$E259/5*100)","v":""},{"$f":"IF(DMA!J259=\"\",\"\",DMA!J259)","v":""},{"$f":"IF(DMA!L259=\"\",\"\",DMA!L259)","v":""},{"$f":"IF(DMA!T259=\"\",\"\",DMA!T259)","v":""}]
[null,null,null,null,null,null,null,null,null,null,null,null,null,null,null,null,null,null,null,null,null,null,null,null,null,null,1,{"$f":"IF(DMA!A260=\"\",\"\",DMA!A260)","v":""},{"$f":"IF(DMA!$E260=\"\",\"\",DMA!$E260/5*100)","v":""},{"$f":"IF(DMA!J260=\"\",\"\",DMA!J260)","v":""},{"$f":"IF(DMA!L260=\"\",\"\",DMA!L260)","v":""},{"$f":"IF(DMA!T260=\"\",\"\",DMA!T260)","v":""}]
[null,null,null,null,null,null,null,null,null,null,null,null,null,null,null,null,null,null,null,null,null,null,null,null,null,null,1,{"$f":"IF(DMA!A261=\"\",\"\",DMA!A261)","v":""},{"$f":"IF(DMA!$E261=\"\",\"\",DMA!$E261/5*100)","v":""},{"$f":"IF(DMA!J261=\"\",\"\",DMA!J261)","v":""},{"$f":"IF(DMA!L261=\"\",\"\",DMA!L261)","v":""},{"$f":"IF(DMA!T261=\"\",\"\",DMA!T261)","v":""}]
[null,null,null,null,null,null,null,null,null,null,null,null,null,null,null,null,null,null,null,null,null,null,null,null,null,null,1,{"$f":"IF(DMA!A262=\"\",\"\",DMA!A262)","v":""},{"$f":"IF(DMA!$E262=\"\",\"\",DMA!$E262/5*100)","v":""},{"$f":"IF(DMA!J262=\"\",\"\",DMA!J262)","v":""},{"$f":"IF(DMA!L262=\"\",\"\",DMA!L262)","v":""},{"$f":"IF(DMA!T262=\"\",\"\",DMA!T262)","v":""}]
[null,null,null,null,null,null,null,null,null,null,null,null,null,null,null,null,null,null,null,null,null,null,null,null,null,null,{"$f":"IF(AB260=AA259+1,AB260,AA259)","v":1},{"$f":"IF(DMA!A263=\"\",\"\",DMA!A263)","v":""},{"$f":"IF(DMA!$E263=\"\",\"\",DMA!$E263/5*100)","v":""},{"$f":"IF(DMA!J263=\"\",\"\",DMA!J263)","v":""},{"$f":"IF(DMA!L263=\"\",\"\",DMA!L263)","v":""},{"$f":"IF(DMA!T263=\"\",\"\",DMA!T263)","v":""}]
[null,null,null,null,null,null,null,null,null,null,null,null,null,null,null,null,null,null,null,null,null,null,null,null,null,null,1,{"$f":"IF(DMA!A264=\"\",\"\",DMA!A264)","v":""},{"$f":"IF(DMA!$E264=\"\",\"\",DMA!$E264/5*100)","v":""},{"$f":"IF(DMA!J264=\"\",\"\",DMA!J264)","v":""},{"$f":"IF(DMA!L264=\"\",\"\",DMA!L264)","v":""},{"$f":"IF(DMA!T264=\"\",\"\",DMA!T264)","v":""}]
[null,null,null,null,null,null,null,null,null,null,null,null,null,null,null,null,null,null,null,null,null,null,null,null,null,null,1,{"$f":"IF(DMA!A265=\"\",\"\",DMA!A265)","v":""},{"$f":"IF(DMA!$E265=\"\",\"\",DMA!$E265/5*100)","v":""},{"$f":"IF(DMA!J265=\"\",\"\",DMA!J265)","v":""},{"$f":"IF(DMA!L265=\"\",\"\",DMA!L265)","v":""},{"$f":"IF(DMA!T265=\"\",\"\",DMA!T265)","v":""}]
[null,null,null,null,null,null,null,null,null,null,null,null,null,null,null,null,null,null,null,null,null,null,null,null,null,null,1,{"$f":"IF(DMA!A266=\"\",\"\",DMA!A266)","v":""},{"$f":"IF(DMA!$E266=\"\",\"\",DMA!$E266/5*100)","v":""},{"$f":"IF(DMA!J266=\"\",\"\",DMA!J266)","v":""},{"$f":"IF(DMA!L266=\"\",\"\",DMA!L266)","v":""},{"$f":"IF(DMA!T266=\"\",\"\",DMA!T266)","v":""}]
[null,null,null,null,null,null,null,null,null,null,null,null,null,null,null,null,null,null,null,null,null,null,null,null,null,null,1,{"$f":"IF(DMA!A267=\"\",\"\",DMA!A267)","v":""},{"$f":"IF(DMA!$E267=\"\",\"\",DMA!$E267/5*100)","v":""},{"$f":"IF(DMA!J267=\"\",\"\",DMA!J267)","v":""},{"$f":"IF(DMA!L267=\"\",\"\",DMA!L267)","v":""},{"$f":"IF(DMA!T267=\"\",\"\",DMA!T267)","v":""}]
[null,null,null,null,null,null,null,null,null,null,null,null,null,null,null,null,null,null,null,null,null,null,null,null,null,null,1,{"$f":"IF(DMA!A268=\"\",\"\",DMA!A268)","v":""},{"$f":"IF(DMA!$E268=\"\",\"\",DMA!$E268/5*100)","v":""},{"$f":"IF(DMA!J268=\"\",\"\",DMA!J268)","v":""},{"$f":"IF(DMA!L268=\"\",\"\",DMA!L268)","v":""},{"$f":"IF(DMA!T268=\"\",\"\",DMA!T268)","v":""}]
[null,null,null,null,null,null,null,null,null,null,null,null,null,null,null,null,null,null,null,null,null,null,null,null,null,null,1,{"$f":"IF(DMA!A269=\"\",\"\",DMA!A269)","v":""},{"$f":"IF(DMA!$E269=\"\",\"\",DMA!$E269/5*100)","v":""},{"$f":"IF(DMA!J269=\"\",\"\",DMA!J269)","v":""},{"$f":"IF(DMA!L269=\"\",\"\",DMA!L269)","v":""},{"$f":"IF(DMA!T269=\"\",\"\",DMA!T269)","v":""}]
[null,null,null,null,null,null,null,null,null,null,null,null,null,null,null,null,null,null,null,null,null,null,null,null,null,null,1,{"$f":"IF(DMA!A270=\"\",\"\",DMA!A270)","v":""},{"$f":"IF(DMA!$E270=\"\",\"\",DMA!$E270/5*100)","v":""},{"$f":"IF(DMA!J270=\"\",\"\",DMA!J270)","v":""},{"$f":"IF(DMA!L270=\"\",\"\",DMA!L270)","v":""},{"$f":"IF(DMA!T270=\"\",\"\",DMA!T270)","v":""}]
[null,null,null,null,null,null,null,null,null,null,null,null,null,null,null,null,null,null,null,null,null,null,null,null,null,null,1,{"$f":"IF(DMA!A271=\"\",\"\",DMA!A271)","v":""},{"$f":"IF(DMA!$E271=\"\",\"\",DMA!$E271/5*100)","v":""},{"$f":"IF(DMA!J271=\"\",\"\",DMA!J271)","v":""},{"$f":"IF(DMA!L271=\"\",\"\",DMA!L271)","v":""},{"$f":"IF(DMA!T271=\"\",\"\",DMA!T271)","v":""}]
[null,null,null,null,null,null,null,null,null,null,null,null,null,null,null,null,null,null,null,null,null,null,null,null,null,null,1,{"$f":"IF(DMA!A272=\"\",\"\",DMA!A272)","v":""},{"$f":"IF(DMA!$E272=\"\",\"\",DMA!$E272/5*100)","v":""},{"$f":"IF(DMA!J272=\"\",\"\",DMA!J272)","v":""},{"$f":"IF(DMA!L272=\"\",\"\",DMA!L272)","v":""},{"$f":"IF(DMA!T272=\"\",\"\",DMA!T272)","v":""}]
[null,null,null,null,null,null,null,null,null,null,null,null,null,null,null,null,null,null,null,null,null,null,null,null,null,null,1,{"$f":"IF(DMA!A273=\"\",\"\",DMA!A273)","v":""},{"$f":"IF(DMA!$E273=\"\",\"\",DMA!$E273/5*100)","v":""},{"$f":"IF(DMA!J273=\"\",\"\",DMA!J273)","v":""},{"$f":"IF(DMA!L273=\"\",\"\",DMA!L273)","v":""},{"$f":"IF(DMA!T273=\"\",\"\",DMA!T273)","v":""}]
[null,null,null,null,null,null,null,null,null,null,null,null,null,null,null,null,null,null,null,null,null,null,null,null,null,null,1,{"$f":"IF(DMA!A274=\"\",\"\",DMA!A274)","v":""},{"$f":"IF(DMA!$E274=\"\",\"\",DMA!$E274/5*100)","v":""},{"$f":"IF(DMA!J274=\"\",\"\",DMA!J274)","v":""},{"$f":"IF(DMA!L274=\"\",\"\",DMA!L274)","v":""},{"$f":"IF(DMA!T274=\"\",\"\",DMA!T274)","v":""}]
[null,null,null,null,null,null,null,null,null,null,null,null,null,null,null,null,null,null,null,null,null,null,null,null,null,null,1,{"$f":"IF(DMA!A275=\"\",\"\",DMA!A275)","v":""},{"$f":"IF(DMA!$E275=\"\",\"\",DMA!$E275/5*100)","v":""},{"$f":"IF(DMA!J275=\"\",\"\",DMA!J275)","v":""},{"$f":"IF(DMA!L275=\"\",\"\",DMA!L275)","v":""},{"$f":"IF(DMA!T275=\"\",\"\",DMA!T275)","v":""}]
[null,null,null,null,null,null,null,null,null,null,null,null,null,null,null,null,null,null,null,null,null,null,null,null,null,null,1,{"$f":"IF(DMA!A276=\"\",\"\",DMA!A276)","v":""},{"$f":"IF(DMA!$E276=\"\",\"\",DMA!$E276/5*100)","v":""},{"$f":"IF(DMA!J276=\"\",\"\",DMA!J276)","v":""},{"$f":"IF(DMA!L276=\"\",\"\",DMA!L276)","v":""},{"$f":"IF(DMA!T276=\"\",\"\",DMA!T276)","v":""}]
[null,null,null,null,null,null,null,null,null,null,null,null,null,null,null,null,null,null,null,null,null,null,null,null,null,null,1,{"$f":"IF(DMA!A277=\"\",\"\",DMA!A277)","v":""},{"$f":"IF(DMA!$E277=\"\",\"\",DMA!$E277/5*100)","v":""},{"$f":"IF(DMA!J277=\"\",\"\",DMA!J277)","v":""},{"$f":"IF(DMA!L277=\"\",\"\",DMA!L277)","v":""},{"$f":"IF(DMA!T277=\"\",\"\",DMA!T277)","v":""}]
[null,null,null,null,null,null,null,null,null,null,null,null,null,null,null,null,null,null,null,null,null,null,null,null,null,null,1,{"$f":"IF(DMA!A278=\"\",\"\",DMA!A278)","v":""},{"$f":"IF(DMA!$E278=\"\",\"\",DMA!$E278/5*100)","v":""},{"$f":"IF(DMA!J278=\"\",\"\",DMA!J278)","v":""},{"$f":"IF(DMA!L278=\"\",\"\",DMA!L278)","v":""},{"$f":"IF(DMA!T278=\"\",\"\",DMA!T278)","v":""}]
[null,null,null,null,null,null,null,null,null,null,null,null,null,null,null,null,null,null,null,null,null,null,null,null,null,null,1,{"$f":"IF(DMA!A279=\"\",\"\",DMA!A279)","v":""},{"$f":"IF(DMA!$E279=\"\",\"\",DMA!$E279/5*100)","v":""},{"$f":"IF(DMA!J279=\"\",\"\",DMA!J279)","v":""},{"$f":"IF(DMA!L279=\"\",\"\",DMA!L279)","v":""},{"$f":"IF(DMA!T279=\"\",\"\",DMA!T279)","v":""}]
[null,null,null,null,null,null,null,null,null,null,null,null,null,null,null,null,null,null,null,null,null,null,null,null,null,null,1,{"$f":"IF(DMA!A280=\"\",\"\",DMA!A280)","v":""},{"$f":"IF(DMA!$E280=\"\",\"\",DMA!$E280/5*100)","v":""},{"$f":"IF(DMA!J280=\"\",\"\",DMA!J280)","v":""},{"$f":"IF(DMA!L280=\"\",\"\",DMA!L280)","v":""},{"$f":"IF(DMA!T280=\"\",\"\",DMA!T280)","v":""}]
[null,null,null,null,null,null,null,null,null,null,null,null,null,null,null,null,null,null,null,null,null,null,null,null,null,null,1,{"$f":"IF(DMA!A281=\"\",\"\",DMA!A281)","v":""},{"$f":"IF(DMA!$E281=\"\",\"\",DMA!$E281/5*100)","v":""},{"$f":"IF(DMA!J281=\"\",\"\",DMA!J281)","v":""},{"$f":"IF(DMA!L281=\"\",\"\",DMA!L281)","v":""},{"$f":"IF(DMA!T281=\"\",\"\",DMA!T281)","v":""}]
[null,null,null,null,null,null,null,null,null,null,null,null,null,null,null,null,null,null,null,null,null,null,null,null,null,null,1,{"$f":"IF(DMA!A282=\"\",\"\",DMA!A282)","v":""},{"$f":"IF(DMA!$E282=\"\",\"\",DMA!$E282/5*100)","v":""},{"$f":"IF(DMA!J282=\"\",\"\",DMA!J282)","v":""},{"$f":"IF(DMA!L282=\"\",\"\",DMA!L282)","v":""},{"$f":"IF(DMA!T282=\"\",\"\",DMA!T282)","v":""}]
[null,null,null,null,null,null,null,null,null,null,null,null,null,null,null,null,null,null,null,null,null,null,null,null,null,null,1,{"$f":"IF(DMA!A283=\"\",\"\",DMA!A283)","v":""},{"$f":"IF(DMA!$E283=\"\",\"\",DMA!$E283/5*100)","v":""},{"$f":"IF(DMA!J283=\"\",\"\",DMA!J283)","v":""},{"$f":"IF(DMA!L283=\"\",\"\",DMA!L283)","v":""},{"$f":"IF(DMA!T283=\"\",\"\",DMA!T283)","v":""}]
[null,null,null,null,null,null,null,null,null,null,null,null,null,null,null,null,null,null,null,null,null,null,null,null,null,null,1,{"$f":"IF(DMA!A284=\"\",\"\",DMA!A284)","v":""},{"$f":"IF(DMA!$E284=\"\",\"\",DMA!$E284/5*100)","v":""},{"$f":"IF(DMA!J284=\"\",\"\",DMA!J284)","v":""},{"$f":"IF(DMA!L284=\"\",\"\",DMA!L284)","v":""},{"$f":"IF(DMA!T284=\"\",\"\",DMA!T284)","v":""}]
[null,null,null,null,null,null,null,null,null,null,null,null,null,null,null,null,null,null,null,null,null,null,null,null,null,null,1,{"$f":"IF(DMA!A285=\"\",\"\",DMA!A285)","v":""},{"$f":"IF(DMA!$E285=\"\",\"\",DMA!$E285/5*100)","v":""},{"$f":"IF(DMA!J285=\"\",\"\",DMA!J285)","v":""},{"$f":"IF(DMA!L285=\"\",\"\",DMA!L285)","v":""},{"$f":"IF(DMA!T285=\"\",\"\",DMA!T285)","v":""}]
[null,null,null,null,null,null,null,null,null,null,null,null,null,null,null,null,null,null,null,null,null,null,null,null,null,null,1,{"$f":"IF(DMA!A286=\"\",\"\",DMA!A286)","v":""},{"$f":"IF(DMA!$E286=\"\",\"\",DMA!$E286/5*100)","v":""},{"$f":"IF(DMA!J286=\"\",\"\",DMA!J286)","v":""},{"$f":"IF(DMA!L286=\"\",\"\",DMA!L286)","v":""},{"$f":"IF(DMA!T286=\"\",\"\",DMA!T286)","v":""}]
[null,null,null,null,null,null,null,null,null,null,null,null,null,null,null,null,null,null,null,null,null,null,null,null,null,null,1,{"$f":"IF(DMA!A287=\"\",\"\",DMA!A287)","v":""},{"$f":"IF(DMA!$E287=\"\",\"\",DMA!$E287/5*100)","v":""},{"$f":"IF(DMA!J287=\"\",\"\",DMA!J287)","v":""},{"$f":"IF(DMA!L287=\"\",\"\",DMA!L287)","v":""},{"$f":"IF(DMA!T287=\"\",\"\",DMA!T287)","v":""}]
[null,null,null,null,null,null,null,null,null,null,null,null,null,null,null,null,null,null,null,null,null,null,null,null,null,null,1,{"$f":"IF(DMA!A288=\"\",\"\",DMA!A288)","v":""},{"$f":"IF(DMA!$E288=\"\",\"\",DMA!$E288/5*100)","v":""},{"$f":"IF(DMA!J288=\"\",\"\",DMA!J288)","v":""},{"$f":"IF(DMA!L288=\"\",\"\",DMA!L288)","v":""},{"$f":"IF(DMA!T288=\"\",\"\",DMA!T288)","v":""}]
[null,null,null,null,null,null,null,null,null,null,null,null,null,null,null,null,null,null,null,null,null,null,null,null,null,null,1,{"$f":"IF(DMA!A289=\"\",\"\",DMA!A289)","v":""},{"$f":"IF(DMA!$E289=\"\",\"\",DMA!$E289/5*100)","v":""},{"$f":"IF(DMA!J289=\"\",\"\",DMA!J289)","v":""},{"$f":"IF(DMA!L289=\"\",\"\",DMA!L289)","v":""},{"$f":"IF(DMA!T289=\"\",\"\",DMA!T289)","v":""}]
[null,null,null,null,null,null,null,null,null,null,null,null,null,null,null,null,null,null,null,null,null,null,null,null,null,null,1,{"$f":"IF(DMA!A290=\"\",\"\",DMA!A290)","v":""},{"$f":"IF(DMA!$E290=\"\",\"\",DMA!$E290/5*100)","v":""},{"$f":"IF(DMA!J290=\"\",\"\",DMA!J290)","v":""},{"$f":"IF(DMA!L290=\"\",\"\",DMA!L290)","v":""},{"$f":"IF(DMA!T290=\"\",\"\",DMA!T290)","v":""}]
[null,null,null,null,null,null,null,null,null,null,null,null,null,null,null,null,null,null,null,null,null,null,null,null,null,null,1,{"$f":"IF(DMA!A291=\"\",\"\",DMA!A291)","v":""},{"$f":"IF(DMA!$E291=\"\",\"\",DMA!$E291/5*100)","v":""},{"$f":"IF(DMA!J291=\"\",\"\",DMA!J291)","v":""},{"$f":"IF(DMA!L291=\"\",\"\",DMA!L291)","v":""},{"$f":"IF(DMA!T291=\"\",\"\",DMA!T291)","v":""}]
[null,null,null,null,null,null,null,null,null,null,null,null,null,null,null,null,null,null,null,null,null,null,null,null,null,null,1,{"$f":"IF(DMA!A292=\"\",\"\",DMA!A292)","v":""},{"$f":"IF(DMA!$E292=\"\",\"\",DMA!$E292/5*100)","v":""},{"$f":"IF(DMA!J292=\"\",\"\",DMA!J292)","v":""},{"$f":"IF(DMA!L292=\"\",\"\",DMA!L292)","v":""},{"$f":"IF(DMA!T292=\"\",\"\",DMA!T292)","v":""}]
[null,null,null,null,null,null,null,null,null,null,null,null,null,null,null,null,null,null,null,null,null,null,null,null,null,null,1,{"$f":"IF(DMA!A293=\"\",\"\",DMA!A293)","v":""},{"$f":"IF(DMA!$E293=\"\",\"\",DMA!$E293/5*100)","v":""},{"$f":"IF(DMA!J293=\"\",\"\",DMA!J293)","v":""},{"$f":"IF(DMA!L293=\"\",\"\",DMA!L293)","v":""},{"$f":"IF(DMA!T293=\"\",\"\",DMA!T293)","v":""}]
[null,null,null,null,null,null,null,null,null,null,null,null,null,null,null,null,null,null,null,null,null,null,null,null,null,null,1,{"$f":"IF(DMA!A294=\"\",\"\",DMA!A294)","v":""},{"$f":"IF(DMA!$E294=\"\",\"\",DMA!$E294/5*100)","v":""},{"$f":"IF(DMA!J294=\"\",\"\",DMA!J294)","v":""},{"$f":"IF(DMA!L294=\"\",\"\",DMA!L294)","v":""},{"$f":"IF(DMA!T294=\"\",\"\",DMA!T294)","v":""}]
[null,null,null,null,null,null,null,null,null,null,null,null,null,null,null,null,null,null,null,null,null,null,null,null,null,null,1,{"$f":"IF(DMA!A295=\"\",\"\",DMA!A295)","v":""},{"$f":"IF(DMA!$E295=\"\",\"\",DMA!$E295/5*100)","v":""},{"$f":"IF(DMA!J295=\"\",\"\",DMA!J295)","v":""},{"$f":"IF(DMA!L295=\"\",\"\",DMA!L295)","v":""},{"$f":"IF(DMA!T295=\"\",\"\",DMA!T295)","v":""}]
[null,null,null,null,null,null,null,null,null,null,null,null,null,null,null,null,null,null,null,null,null,null,null,null,null,null,1,{"$f":"IF(DMA!A296=\"\",\"\",DMA!A296)","v":""},{"$f":"IF(DMA!$E296=\"\",\"\",DMA!$E296/5*100)","v":""},{"$f":"IF(DMA!J296=\"\",\"\",DMA!J296)","v":""},{"$f":"IF(DMA!L296=\"\",\"\",DMA!L296)","v":""},{"$f":"IF(DMA!T296=\"\",\"\",DMA!T296)","v":""}]
[null,null,null,null,null,null,null,null,null,null,null,null,null,null,null,null,null,null,null,null,null,null,null,null,null,null,1,{"$f":"IF(DMA!A297=\"\",\"\",DMA!A297)","v":""},{"$f":"IF(DMA!$E297=\"\",\"\",DMA!$E297/5*100)","v":""},{"$f":"IF(DMA!J297=\"\",\"\",DMA!J297)","v":""},{"$f":"IF(DMA!L297=\"\",\"\",DMA!L297)","v":""},{"$f":"IF(DMA!T297=\"\",\"\",DMA!T297)","v":""}]
[null,null,null,null,null,null,null,null,null,null,null,null,null,null,null,null,null,null,null,null,null,null,null,null,null,null,1,{"$f":"IF(DMA!A298=\"\",\"\",DMA!A298)","v":""},{"$f":"IF(DMA!$E298=\"\",\"\",DMA!$E298/5*100)","v":""},{"$f":"IF(DMA!J298=\"\",\"\",DMA!J298)","v":""},{"$f":"IF(DMA!L298=\"\",\"\",DMA!L298)","v":""},{"$f":"IF(DMA!T298=\"\",\"\",DMA!T298)","v":""}]
[null,null,null,null,null,null,null,null,null,null,null,null,null,null,null,null,null,null,null,null,null,null,null,null,null,null,1,{"$f":"IF(DMA!A299=\"\",\"\",DMA!A299)","v":""},{"$f":"IF(DMA!$E299=\"\",\"\",DMA!$E299/5*100)","v":""},{"$f":"IF(DMA!J299=\"\",\"\",DMA!J299)","v":""},{"$f":"IF(DMA!L299=\"\",\"\",DMA!L299)","v":""},{"$f":"IF(DMA!T299=\"\",\"\",DMA!T299)","v":""}]
[null,null,null,null,null,null,null,null,null,null,null,null,null,null,null,null,null,null,null,null,null,null,null,null,null,null,1,{"$f":"IF(DMA!A300=\"\",\"\",DMA!A300)","v":""},{"$f":"IF(DMA!$E300=\"\",\"\",DMA!$E300/5*100)","v":""},{"$f":"IF(DMA!J300=\"\",\"\",DMA!J300)","v":""},{"$f":"IF(DMA!L300=\"\",\"\",DMA!L300)","v":""},{"$f":"IF(DMA!T300=\"\",\"\",DMA!T300)","v":""}]
[null,null,null,null,null,null,null,null,null,null,null,null,null,null,null,null,null,null,null,null,null,null,null,null,null,null,1,{"$f":"IF(DMA!A301=\"\",\"\",DMA!A301)","v":""},{"$f":"IF(DMA!$E301=\"\",\"\",DMA!$E301/5*100)","v":""},{"$f":"IF(DMA!J301=\"\",\"\",DMA!J301)","v":""},{"$f":"IF(DMA!L301=\"\",\"\",DMA!L301)","v":""},{"$f":"IF(DMA!T301=\"\",\"\",DMA!T301)","v":""}]
[null,null,null,null,null,null,null,null,null,null,null,null,null,null,null,null,null,null,null,null,null,null,null,null,null,null,1,{"$f":"IF(DMA!A302=\"\",\"\",DMA!A302)","v":""},{"$f":"IF(DMA!$E302=\"\",\"\",DMA!$E302/5*100)","v":""},{"$f":"IF(DMA!J302=\"\",\"\",DMA!J302)","v":""},{"$f":"IF(DMA!L302=\"\",\"\",DMA!L302)","v":""},{"$f":"IF(DMA!T302=\"\",\"\",DMA!T302)","v":""}]
[null,null,null,null,null,null,null,null,null,null,null,null,null,null,null,null,null,null,null,null,null,null,null,null,null,null,1,{"$f":"IF(DMA!A303=\"\",\"\",DMA!A303)","v":""},{"$f":"IF(DMA!$E303=\"\",\"\",DMA!$E303/5*100)","v":""},{"$f":"IF(DMA!J303=\"\",\"\",DMA!J303)","v":""},{"$f":"IF(DMA!L303=\"\",\"\",DMA!L303)","v":""},{"$f":"IF(DMA!T303=\"\",\"\",DMA!T303)","v":""}]
[null,null,null,null,null,null,null,null,null,null,null,null,null,null,null,null,null,null,null,null,null,null,null,null,null,null,1,{"$f":"IF(DMA!A304=\"\",\"\",DMA!A304)","v":""},{"$f":"IF(DMA!$E304=\"\",\"\",DMA!$E304/5*100)","v":""},{"$f":"IF(DMA!J304=\"\",\"\",DMA!J304)","v":""},{"$f":"IF(DMA!L304=\"\",\"\",DMA!L304)","v":""},{"$f":"IF(DMA!T304=\"\",\"\",DMA!T304)","v":""}]
[null,null,null,null,null,null,null,null,null,null,null,null,null,null,null,null,null,null,null,null,null,null,null,null,null,null,1,{"$f":"IF(DMA!A305=\"\",\"\",DMA!A305)","v":""},{"$f":"IF(DMA!$E305=\"\",\"\",DMA!$E305/5*100)","v":""},{"$f":"IF(DMA!J305=\"\",\"\",DMA!J305)","v":""},{"$f":"IF(DMA!L305=\"\",\"\",DMA!L305)","v":""},{"$f":"IF(DMA!T305=\"\",\"\",DMA!T305)","v":""}]
[null,null,null,null,null,null,null,null,null,null,null,null,null,null,null,null,null,null,null,null,null,null,null,null,null,null,1,{"$f":"IF(DMA!A306=\"\",\"\",DMA!A306)","v":""},{"$f":"IF(DMA!$E306=\"\",\"\",DMA!$E306/5*100)","v":""},{"$f":"IF(DMA!J306=\"\",\"\",DMA!J306)","v":""},{"$f":"IF(DMA!L306=\"\",\"\",DMA!L306)","v":""},{"$f":"IF(DMA!T306=\"\",\"\",DMA!T306)","v":""}]
[null,null,null,null,null,null,null,null,null,null,null,null,null,null,null,null,null,null,null,null,null,null,null,null,null,null,1,{"$f":"IF(DMA!A307=\"\",\"\",DMA!A307)","v":""},{"$f":"IF(DMA!$E307=\"\",\"\",DMA!$E307/5*100)","v":""},{"$f":"IF(DMA!J307=\"\",\"\",DMA!J307)","v":""},{"$f":"IF(DMA!L307=\"\",\"\",DMA!L307)","v":""},{"$f":"IF(DMA!T307=\"\",\"\",DMA!T307)","v":""}]
[null,null,null,null,null,null,null,null,null,null,null,null,null,null,null,null,null,null,null,null,null,null,null,null,null,null,1,{"$f":"IF(DMA!A308=\"\",\"\",DMA!A308)","v":""},{"$f":"IF(DMA!$E308=\"\",\"\",DMA!$E308/5*100)","v":""},{"$f":"IF(DMA!J308=\"\",\"\",DMA!J308)","v":""},{"$f":"IF(DMA!L308=\"\",\"\",DMA!L308)","v":""},{"$f":"IF(DMA!T308=\"\",\"\",DMA!T308)","v":""}]
[null,null,null,null,null,null,null,null,null,null,null,null,null,null,null,null,null,null,null,null,null,null,null,null,null,null,1,{"$f":"IF(DMA!A309=\"\",\"\",DMA!A309)","v":""},{"$f":"IF(DMA!$E309=\"\",\"\",DMA!$E309/5*100)","v":""},{"$f":"IF(DMA!J309=\"\",\"\",DMA!J309)","v":""},{"$f":"IF(DMA!L309=\"\",\"\",DMA!L309)","v":""},{"$f":"IF(DMA!T309=\"\",\"\",DMA!T309)","v":""}]
[null,null,null,null,null,null,null,null,null,null,null,null,null,null,null,null,null,null,null,null,null,null,null,null,null,null,1,{"$f":"IF(DMA!A310=\"\",\"\",DMA!A310)","v":""},{"$f":"IF(DMA!$E310=\"\",\"\",DMA!$E310/5*100)","v":""},{"$f":"IF(DMA!J310=\"\",\"\",DMA!J310)","v":""},{"$f":"IF(DMA!L310=\"\",\"\",DMA!L310)","v":""},{"$f":"IF(DMA!T310=\"\",\"\",DMA!T310)","v":""}]
[null,null,null,null,null,null,null,null,null,null,null,null,null,null,null,null,null,null,null,null,null,null,null,null,null,null,1,{"$f":"IF(DMA!A311=\"\",\"\",DMA!A311)","v":""},{"$f":"IF(DMA!$E311=\"\",\"\",DMA!$E311/5*100)","v":""},{"$f":"IF(DMA!J311=\"\",\"\",DMA!J311)","v":""},{"$f":"IF(DMA!L311=\"\",\"\",DMA!L311)","v":""},{"$f":"IF(DMA!T311=\"\",\"\",DMA!T311)","v":""}]
[null,null,null,null,null,null,null,null,null,null,null,null,null,null,null,null,null,null,null,null,null,null,null,null,null,null,1,{"$f":"IF(DMA!A312=\"\",\"\",DMA!A312)","v":""},{"$f":"IF(DMA!$E312=\"\",\"\",DMA!$E312/5*100)","v":""},{"$f":"IF(DMA!J312=\"\",\"\",DMA!J312)","v":""},{"$f":"IF(DMA!L312=\"\",\"\",DMA!L312)","v":""},{"$f":"IF(DMA!T312=\"\",\"\",DMA!T312)","v":""}]
[null,null,null,null,null,null,null,null,null,null,null,null,null,null,null,null,null,null,null,null,null,null,null,null,null,null,1,{"$f":"IF(DMA!A313=\"\",\"\",DMA!A313)","v":""},{"$f":"IF(DMA!$E313=\"\",\"\",DMA!$E313/5*100)","v":""},{"$f":"IF(DMA!J313=\"\",\"\",DMA!J313)","v":""},{"$f":"IF(DMA!L313=\"\",\"\",DMA!L313)","v":""},{"$f":"IF(DMA!T313=\"\",\"\",DMA!T313)","v":""}]
[null,null,null,null,null,null,null,null,null,null,null,null,null,null,null,null,null,null,null,null,null,null,null,null,null,null,1,{"$f":"IF(DMA!A314=\"\",\"\",DMA!A314)","v":""},{"$f":"IF(DMA!$E314=\"\",\"\",DMA!$E314/5*100)","v":""},{"$f":"IF(DMA!J314=\"\",\"\",DMA!J314)","v":""},{"$f":"IF(DMA!L314=\"\",\"\",DMA!L314)","v":""},{"$f":"IF(DMA!T314=\"\",\"\",DMA!T314)","v":""}]
[null,null,null,null,null,null,null,null,null,null,null,null,null,null,null,null,null,null,null,null,null,null,null,null,null,null,1,{"$f":"IF(DMA!A315=\"\",\"\",DMA!A315)","v":""},{"$f":"IF(DMA!$E315=\"\",\"\",DMA!$E315/5*100)","v":""},{"$f":"IF(DMA!J315=\"\",\"\",DMA!J315)","v":""},{"$f":"IF(DMA!L315=\"\",\"\",DMA!L315)","v":""},{"$f":"IF(DMA!T315=\"\",\"\",DMA!T315)","v":""}]
[null,null,null,null,null,null,null,null,null,null,null,null,null,null,null,null,null,null,null,null,null,null,null,null,null,null,1,{"$f":"IF(DMA!A316=\"\",\"\",DMA!A316)","v":""},{"$f":"IF(DMA!$E316=\"\",\"\",DMA!$E316/5*100)","v":""},{"$f":"IF(DMA!J316=\"\",\"\",DMA!J316)","v":""},{"$f":"IF(DMA!L316=\"\",\"\",DMA!L316)","v":""},{"$f":"IF(DMA!T316=\"\",\"\",DMA!T316)","v":""}]
[null,null,null,null,null,null,null,null,null,null,null,null,null,null,null,null,null,null,null,null,null,null,null,null,null,null,1,{"$f":"IF(DMA!A317=\"\",\"\",DMA!A317)","v":""},{"$f":"IF(DMA!$E317=\"\",\"\",DMA!$E317/5*100)","v":""},{"$f":"IF(DMA!J317=\"\",\"\",DMA!J317)","v":""},{"$f":"IF(DMA!L317=\"\",\"\",DMA!L317)","v":""},{"$f":"IF(DMA!T317=\"\",\"\",DMA!T317)","v":""}]
[null,null,null,null,null,null,null,null,null,null,null,null,null,null,null,null,null,null,null,null,null,null,null,null,null,null,1,{"$f":"IF(DMA!A318=\"\",\"\",DMA!A318)","v":""},{"$f":"IF(DMA!$E318=\"\",\"\",DMA!$E318/5*100)","v":""},{"$f":"IF(DMA!J318=\"\",\"\",DMA!J318)","v":""},{"$f":"IF(DMA!L318=\"\",\"\",DMA!L318)","v":""},{"$f":"IF(DMA!T318=\"\",\"\",DMA!T318)","v":""}]
[null,null,null,null,null,null,null,null,null,null,null,null,null,null,null,null,null,null,null,null,null,null,null,null,null,null,1,{"$f":"IF(DMA!A319=\"\",\"\",DMA!A319)","v":""},{"$f":"IF(DMA!$E319=\"\",\"\",DMA!$E319/5*100)","v":""},{"$f":"IF(DMA!J319=\"\",\"\",DMA!J319)","v":""},{"$f":"IF(DMA!L319=\"\",\"\",DMA!L319)","v":""},{"$f":"IF(DMA!T319=\"\",\"\",DMA!T319)","v":""}]
[null,null,null,null,null,null,null,null,null,null,null,null,null,null,null,null,null,null,null,null,null,null,null,null,null,null,1,{"$f":"IF(DMA!A320=\"\",\"\",DMA!A320)","v":""},{"$f":"IF(DMA!$E320=\"\",\"\",DMA!$E320/5*100)","v":""},{"$f":"IF(DMA!J320=\"\",\"\",DMA!J320)","v":""},{"$f":"IF(DMA!L320=\"\",\"\",DMA!L320)","v":""},{"$f":"IF(DMA!T320=\"\",\"\",DMA!T320)","v":""}]
[null,null,null,null,null,null,null,null,null,null,null,null,null,null,null,null,null,null,null,null,null,null,null,null,null,null,1,{"$f":"IF(DMA!A321=\"\",\"\",DMA!A321)","v":""},{"$f":"IF(DMA!$E321=\"\",\"\",DMA!$E321/5*100)","v":""},{"$f":"IF(DMA!J321=\"\",\"\",DMA!J321)","v":""},{"$f":"IF(DMA!L321=\"\",\"\",DMA!L321)","v":""},{"$f":"IF(DMA!T321=\"\",\"\",DMA!T321)","v":""}]
[null,null,null,null,null,null,null,null,null,null,null,null,null,null,null,null,null,null,null,null,null,null,null,null,null,null,1,{"$f":"IF(DMA!A322=\"\",\"\",DMA!A322)","v":""},{"$f":"IF(DMA!$E322=\"\",\"\",DMA!$E322/5*100)","v":""},{"$f":"IF(DMA!J322=\"\",\"\",DMA!J322)","v":""},{"$f":"IF(DMA!L322=\"\",\"\",DMA!L322)","v":""},{"$f":"IF(DMA!T322=\"\",\"\",DMA!T322)","v":""}]
[null,null,null,null,null,null,null,null,null,null,null,null,null,null,null,null,null,null,null,null,null,null,null,null,null,null,1,{"$f":"IF(DMA!A323=\"\",\"\",DMA!A323)","v":""},{"$f":"IF(DMA!$E323=\"\",\"\",DMA!$E323/5*100)","v":""},{"$f":"IF(DMA!J323=\"\",\"\",DMA!J323)","v":""},{"$f":"IF(DMA!L323=\"\",\"\",DMA!L323)","v":""},{"$f":"IF(DMA!T323=\"\",\"\",DMA!T323)","v":""}]
[null,null,null,null,null,null,null,null,null,null,null,null,null,null,null,null,null,null,null,null,null,null,null,null,null,null,1,{"$f":"IF(DMA!A324=\"\",\"\",DMA!A324)","v":""},{"$f":"IF(DMA!$E324=\"\",\"\",DMA!$E324/5*100)","v":""},{"$f":"IF(DMA!J324=\"\",\"\",DMA!J324)","v":""},{"$f":"IF(DMA!L324=\"\",\"\",DMA!L324)","v":""},{"$f":"IF(DMA!T324=\"\",\"\",DMA!T324)","v":""}]
[null,null,null,null,null,null,null,null,null,null,null,null,null,null,null,null,null,null,null,null,null,null,null,null,null,null,1,{"$f":"IF(DMA!A325=\"\",\"\",DMA!A325)","v":""},{"$f":"IF(DMA!$E325=\"\",\"\",DMA!$E325/5*100)","v":""},{"$f":"IF(DMA!J325=\"\",\"\",DMA!J325)","v":""},{"$f":"IF(DMA!L325=\"\",\"\",DMA!L325)","v":""},{"$f":"IF(DMA!T325=\"\",\"\",DMA!T325)","v":""}]
[null,null,null,null,null,null,null,null,null,null,null,null,null,null,null,null,null,null,null,null,null,null,null,null,null,null,1,{"$f":"IF(DMA!A326=\"\",\"\",DMA!A326)","v":""},{"$f":"IF(DMA!$E326=\"\",\"\",DMA!$E326/5*100)","v":""},{"$f":"IF(DMA!J326=\"\",\"\",DMA!J326)","v":""},{"$f":"IF(DMA!L326=\"\",\"\",DMA!L326)","v":""},{"$f":"IF(DMA!T326=\"\",\"\",DMA!T326)","v":""}]
[null,null,null,null,null,null,null,null,null,null,null,null,null,null,null,null,null,null,null,null,null,null,null,null,null,null,{"$f":"IF(AB324=AA323+1,AB324,AA323)","v":1},{"$f":"IF(DMA!A327=\"\",\"\",DMA!A327)","v":""},{"$f":"IF(DMA!$E327=\"\",\"\",DMA!$E327/5*100)","v":""},{"$f":"IF(DMA!J327=\"\",\"\",DMA!J327)","v":""},{"$f":"IF(DMA!L327=\"\",\"\",DMA!L327)","v":""},{"$f":"IF(DMA!T327=\"\",\"\",DMA!T327)","v":""}]
[null,null,null,null,null,null,null,null,null,null,null,null,null,null,null,null,null,null,null,null,null,null,null,null,null,null,1,{"$f":"IF(DMA!A328=\"\",\"\",DMA!A328)","v":""},{"$f":"IF(DMA!$E328=\"\",\"\",DMA!$E328/5*100)","v":""},{"$f":"IF(DMA!J328=\"\",\"\",DMA!J328)","v":""},{"$f":"IF(DMA!L328=\"\",\"\",DMA!L328)","v":""},{"$f":"IF(DMA!T328=\"\",\"\",DMA!T328)","v":""}]
[null,null,null,null,null,null,null,null,null,null,null,null,null,null,null,null,null,null,null,null,null,null,null,null,null,null,1,{"$f":"IF(DMA!A329=\"\",\"\",DMA!A329)","v":""},{"$f":"IF(DMA!$E329=\"\",\"\",DMA!$E329/5*100)","v":""},{"$f":"IF(DMA!J329=\"\",\"\",DMA!J329)","v":""},{"$f":"IF(DMA!L329=\"\",\"\",DMA!L329)","v":""},{"$f":"IF(DMA!T329=\"\",\"\",DMA!T329)","v":""}]
[null,null,null,null,null,null,null,null,null,null,null,null,null,null,null,null,null,null,null,null,null,null,null,null,null,null,1,{"$f":"IF(DMA!A330=\"\",\"\",DMA!A330)","v":""},{"$f":"IF(DMA!$E330=\"\",\"\",DMA!$E330/5*100)","v":""},{"$f":"IF(DMA!J330=\"\",\"\",DMA!J330)","v":""},{"$f":"IF(DMA!L330=\"\",\"\",DMA!L330)","v":""},{"$f":"IF(DMA!T330=\"\",\"\",DMA!T330)","v":""}]
[null,null,null,null,null,null,null,null,null,null,null,null,null,null,null,null,null,null,null,null,null,null,null,null,null,null,1,{"$f":"IF(DMA!A331=\"\",\"\",DMA!A331)","v":""},{"$f":"IF(DMA!$E331=\"\",\"\",DMA!$E331/5*100)","v":""},{"$f":"IF(DMA!J331=\"\",\"\",DMA!J331)","v":""},{"$f":"IF(DMA!L331=\"\",\"\",DMA!L331)","v":""},{"$f":"IF(DMA!T331=\"\",\"\",DMA!T331)","v":""}]
[null,null,null,null,null,null,null,null,null,null,null,null,null,null,null,null,null,null,null,null,null,null,null,null,null,null,1,{"$f":"IF(DMA!A332=\"\",\"\",DMA!A332)","v":""},{"$f":"IF(DMA!$E332=\"\",\"\",DMA!$E332/5*100)","v":""},{"$f":"IF(DMA!J332=\"\",\"\",DMA!J332)","v":""},{"$f":"IF(DMA!L332=\"\",\"\",DMA!L332)","v":""},{"$f":"IF(DMA!T332=\"\",\"\",DMA!T332)","v":""}]
[null,null,null,null,null,null,null,null,null,null,null,null,null,null,null,null,null,null,null,null,null,null,null,null,null,null,1,{"$f":"IF(DMA!A333=\"\",\"\",DMA!A333)","v":""},{"$f":"IF(DMA!$E333=\"\",\"\",DMA!$E333/5*100)","v":""},{"$f":"IF(DMA!J333=\"\",\"\",DMA!J333)","v":""},{"$f":"IF(DMA!L333=\"\",\"\",DMA!L333)","v":""},{"$f":"IF(DMA!T333=\"\",\"\",DMA!T333)","v":""}]
[null,null,null,null,null,null,null,null,null,null,null,null,null,null,null,null,null,null,null,null,null,null,null,null,null,null,1,{"$f":"IF(DMA!A334=\"\",\"\",DMA!A334)","v":""},{"$f":"IF(DMA!$E334=\"\",\"\",DMA!$E334/5*100)","v":""},{"$f":"IF(DMA!J334=\"\",\"\",DMA!J334)","v":""},{"$f":"IF(DMA!L334=\"\",\"\",DMA!L334)","v":""},{"$f":"IF(DMA!T334=\"\",\"\",DMA!T334)","v":""}]
[null,null,null,null,null,null,null,null,null,null,null,null,null,null,null,null,null,null,null,null,null,null,null,null,null,null,1,{"$f":"IF(DMA!A335=\"\",\"\",DMA!A335)","v":""},{"$f":"IF(DMA!$E335=\"\",\"\",DMA!$E335/5*100)","v":""},{"$f":"IF(DMA!J335=\"\",\"\",DMA!J335)","v":""},{"$f":"IF(DMA!L335=\"\",\"\",DMA!L335)","v":""},{"$f":"IF(DMA!T335=\"\",\"\",DMA!T335)","v":""}]
[null,null,null,null,null,null,null,null,null,null,null,null,null,null,null,null,null,null,null,null,null,null,null,null,null,null,1,{"$f":"IF(DMA!A336=\"\",\"\",DMA!A336)","v":""},{"$f":"IF(DMA!$E336=\"\",\"\",DMA!$E336/5*100)","v":""},{"$f":"IF(DMA!J336=\"\",\"\",DMA!J336)","v":""},{"$f":"IF(DMA!L336=\"\",\"\",DMA!L336)","v":""},{"$f":"IF(DMA!T336=\"\",\"\",DMA!T336)","v":""}]
[null,null,null,null,null,null,null,null,null,null,null,null,null,null,null,null,null,null,null,null,null,null,null,null,null,null,1,{"$f":"IF(DMA!A337=\"\",\"\",DMA!A337)","v":""},{"$f":"IF(DMA!$E337=\"\",\"\",DMA!$E337/5*100)","v":""},{"$f":"IF(DMA!J337=\"\",\"\",DMA!J337)","v":""},{"$f":"IF(DMA!L337=\"\",\"\",DMA!L337)","v":""},{"$f":"IF(DMA!T337=\"\",\"\",DMA!T337)","v":""}]
[null,null,null,null,null,null,null,null,null,null,null,null,null,null,null,null,null,null,null,null,null,null,null,null,null,null,1,{"$f":"IF(DMA!A338=\"\",\"\",DMA!A338)","v":""},{"$f":"IF(DMA!$E338=\"\",\"\",DMA!$E338/5*100)","v":""},{"$f":"IF(DMA!J338=\"\",\"\",DMA!J338)","v":""},{"$f":"IF(DMA!L338=\"\",\"\",DMA!L338)","v":""},{"$f":"IF(DMA!T338=\"\",\"\",DMA!T338)","v":""}]
[null,null,null,null,null,null,null,null,null,null,null,null,null,null,null,null,null,null,null,null,null,null,null,null,null,null,1,{"$f":"IF(DMA!A339=\"\",\"\",DMA!A339)","v":""},{"$f":"IF(DMA!$E339=\"\",\"\",DMA!$E339/5*100)","v":""},{"$f":"IF(DMA!J339=\"\",\"\",DMA!J339)","v":""},{"$f":"IF(DMA!L339=\"\",\"\",DMA!L339)","v":""},{"$f":"IF(DMA!T339=\"\",\"\",DMA!T339)","v":""}]
[null,null,null,null,null,null,null,null,null,null,null,null,null,null,null,null,null,null,null,null,null,null,null,null,null,null,1,{"$f":"IF(DMA!A340=\"\",\"\",DMA!A340)","v":""},{"$f":"IF(DMA!$E340=\"\",\"\",DMA!$E340/5*100)","v":""},{"$f":"IF(DMA!J340=\"\",\"\",DMA!J340)","v":""},{"$f":"IF(DMA!L340=\"\",\"\",DMA!L340)","v":""},{"$f":"IF(DMA!T340=\"\",\"\",DMA!T340)","v":""}]
[null,null,null,null,null,null,null,null,null,null,null,null,null,null,null,null,null,null,null,null,null,null,null,null,null,null,1,{"$f":"IF(DMA!A341=\"\",\"\",DMA!A341)","v":""},{"$f":"IF(DMA!$E341=\"\",\"\",DMA!$E341/5*100)","v":""},{"$f":"IF(DMA!J341=\"\",\"\",DMA!J341)","v":""},{"$f":"IF(DMA!L341=\"\",\"\",DMA!L341)","v":""},{"$f":"IF(DMA!T341=\"\",\"\",DMA!T341)","v":""}]
[null,null,null,null,null,null,null,null,null,null,null,null,null,null,null,null,null,null,null,null,null,null,null,null,null,null,1,{"$f":"IF(DMA!A342=\"\",\"\",DMA!A342)","v":""},{"$f":"IF(DMA!$E342=\"\",\"\",DMA!$E342/5*100)","v":""},{"$f":"IF(DMA!J342=\"\",\"\",DMA!J342)","v":""},{"$f":"IF(DMA!L342=\"\",\"\",DMA!L342)","v":""},{"$f":"IF(DMA!T342=\"\",\"\",DMA!T342)","v":""}]
[null,null,null,null,null,null,null,null,null,null,null,null,null,null,null,null,null,null,null,null,null,null,null,null,null,null,1,{"$f":"IF(DMA!A343=\"\",\"\",DMA!A343)","v":""},{"$f":"IF(DMA!$E343=\"\",\"\",DMA!$E343/5*100)","v":""},{"$f":"IF(DMA!J343=\"\",\"\",DMA!J343)","v":""},{"$f":"IF(DMA!L343=\"\",\"\",DMA!L343)","v":""},{"$f":"IF(DMA!T343=\"\",\"\",DMA!T343)","v":""}]
[null,null,null,null,null,null,null,null,null,null,null,null,null,null,null,null,null,null,null,null,null,null,null,null,null,null,1,{"$f":"IF(DMA!A344=\"\",\"\",DMA!A344)","v":""},{"$f":"IF(DMA!$E344=\"\",\"\",DMA!$E344/5*100)","v":""},{"$f":"IF(DMA!J344=\"\",\"\",DMA!J344)","v":""},{"$f":"IF(DMA!L344=\"\",\"\",DMA!L344)","v":""},{"$f":"IF(DMA!T344=\"\",\"\",DMA!T344)","v":""}]
[null,null,null,null,null,null,null,null,null,null,null,null,null,null,null,null,null,null,null,null,null,null,null,null,null,null,1,{"$f":"IF(DMA!A345=\"\",\"\",DMA!A345)","v":""},{"$f":"IF(DMA!$E345=\"\",\"\",DMA!$E345/5*100)","v":""},{"$f":"IF(DMA!J345=\"\",\"\",DMA!J345)","v":""},{"$f":"IF(DMA!L345=\"\",\"\",DMA!L345)","v":""},{"$f":"IF(DMA!T345=\"\",\"\",DMA!T345)","v":""}]
[null,null,null,null,null,null,null,null,null,null,null,null,null,null,null,null,null,null,null,null,null,null,null,null,null,null,1,{"$f":"IF(DMA!A346=\"\",\"\",DMA!A346)","v":""},{"$f":"IF(DMA!$E346=\"\",\"\",DMA!$E346/5*100)","v":""},{"$f":"IF(DMA!J346=\"\",\"\",DMA!J346)","v":""},{"$f":"IF(DMA!L346=\"\",\"\",DMA!L346)","v":""},{"$f":"IF(DMA!T346=\"\",\"\",DMA!T346)","v":""}]
[null,null,null,null,null,null,null,null,null,null,null,null,null,null,null,null,null,null,null,null,null,null,null,null,null,null,1,{"$f":"IF(DMA!A347=\"\",\"\",DMA!A347)","v":""},{"$f":"IF(DMA!$E347=\"\",\"\",DMA!$E347/5*100)","v":""},{"$f":"IF(DMA!J347=\"\",\"\",DMA!J347)","v":""},{"$f":"IF(DMA!L347=\"\",\"\",DMA!L347)","v":""},{"$f":"IF(DMA!T347=\"\",\"\",DMA!T347)","v":""}]
[null,null,null,null,null,null,null,null,null,null,null,null,null,null,null,null,null,null,null,null,null,null,null,null,null,null,1,{"$f":"IF(DMA!A348=\"\",\"\",DMA!A348)","v":""},{"$f":"IF(DMA!$E348=\"\",\"\",DMA!$E348/5*100)","v":""},{"$f":"IF(DMA!J348=\"\",\"\",DMA!J348)","v":""},{"$f":"IF(DMA!L348=\"\",\"\",DMA!L348)","v":""},{"$f":"IF(DMA!T348=\"\",\"\",DMA!T348)","v":""}]
[null,null,null,null,null,null,null,null,null,null,null,null,null,null,null,null,null,null,null,null,null,null,null,null,null,null,1,{"$f":"IF(DMA!A349=\"\",\"\",DMA!A349)","v":""},{"$f":"IF(DMA!$E349=\"\",\"\",DMA!$E349/5*100)","v":""},{"$f":"IF(DMA!J349=\"\",\"\",DMA!J349)","v":""},{"$f":"IF(DMA!L349=\"\",\"\",DMA!L349)","v":""},{"$f":"IF(DMA!T349=\"\",\"\",DMA!T349)","v":""}]
[null,null,null,null,null,null,null,null,null,null,null,null,null,null,null,null,null,null,null,null,null,null,null,null,null,null,1,{"$f":"IF(DMA!A350=\"\",\"\",DMA!A350)","v":""},{"$f":"IF(DMA!$E350=\"\",\"\",DMA!$E350/5*100)","v":""},{"$f":"IF(DMA!J350=\"\",\"\",DMA!J350)","v":""},{"$f":"IF(DMA!L350=\"\",\"\",DMA!L350)","v":""},{"$f":"IF(DMA!T350=\"\",\"\",DMA!T350)","v":""}]
[null,null,null,null,null,null,null,null,null,null,null,null,null,null,null,null,null,null,null,null,null,null,null,null,null,null,1,{"$f":"IF(DMA!A351=\"\",\"\",DMA!A351)","v":""},{"$f":"IF(DMA!$E351=\"\",\"\",DMA!$E351/5*100)","v":""},{"$f":"IF(DMA!J351=\"\",\"\",DMA!J351)","v":""},{"$f":"IF(DMA!L351=\"\",\"\",DMA!L351)","v":""},{"$f":"IF(DMA!T351=\"\",\"\",DMA!T351)","v":""}]
[null,null,null,null,null,null,null,null,null,null,null,null,null,null,null,null,null,null,null,null,null,null,null,null,null,null,1,{"$f":"IF(DMA!A352=\"\",\"\",DMA!A352)","v":""},{"$f":"IF(DMA!$E352=\"\",\"\",DMA!$E352/5*100)","v":""},{"$f":"IF(DMA!J352=\"\",\"\",DMA!J352)","v":""},{"$f":"IF(DMA!L352=\"\",\"\",DMA!L352)","v":""},{"$f":"IF(DMA!T352=\"\",\"\",DMA!T352)","v":""}]
[null,null,null,null,null,null,null,null,null,null,null,null,null,null,null,null,null,null,null,null,null,null,null,null,null,null,1,{"$f":"IF(DMA!A353=\"\",\"\",DMA!A353)","v":""},{"$f":"IF(DMA!$E353=\"\",\"\",DMA!$E353/5*100)","v":""},{"$f":"IF(DMA!J353=\"\",\"\",DMA!J353)","v":""},{"$f":"IF(DMA!L353=\"\",\"\",DMA!L353)","v":""},{"$f":"IF(DMA!T353=\"\",\"\",DMA!T353)","v":""}]
[null,null,null,null,null,null,null,null,null,null,null,null,null,null,null,null,null,null,null,null,null,null,null,null,null,null,1,{"$f":"IF(DMA!A354=\"\",\"\",DMA!A354)","v":""},{"$f":"IF(DMA!$E354=\"\",\"\",DMA!$E354/5*100)","v":""},{"$f":"IF(DMA!J354=\"\",\"\",DMA!J354)","v":""},{"$f":"IF(DMA!L354=\"\",\"\",DMA!L354)","v":""},{"$f":"IF(DMA!T354=\"\",\"\",DMA!T354)","v":""}]
[null,null,null,null,null,null,null,null,null,null,null,null,null,null,null,null,null,null,null,null,null,null,null,null,null,null,1,{"$f":"IF(DMA!A355=\"\",\"\",DMA!A355)","v":""},{"$f":"IF(DMA!$E355=\"\",\"\",DMA!$E355/5*100)","v":""},{"$f":"IF(DMA!J355=\"\",\"\",DMA!J355)","v":""},{"$f":"IF(DMA!L355=\"\",\"\",DMA!L355)","v":""},{"$f":"IF(DMA!T355=\"\",\"\",DMA!T355)","v":""}]
[null,null,null,null,null,null,null,null,null,null,null,null,null,null,null,null,null,null,null,null,null,null,null,null,null,null,1,{"$f":"IF(DMA!A356=\"\",\"\",DMA!A356)","v":""},{"$f":"IF(DMA!$E356=\"\",\"\",DMA!$E356/5*100)","v":""},{"$f":"IF(DMA!J356=\"\",\"\",DMA!J356)","v":""},{"$f":"IF(DMA!L356=\"\",\"\",DMA!L356)","v":""},{"$f":"IF(DMA!T356=\"\",\"\",DMA!T356)","v":""}]
[null,null,null,null,null,null,null,null,null,null,null,null,null,null,null,null,null,null,null,null,null,null,null,null,null,null,1,{"$f":"IF(DMA!A357=\"\",\"\",DMA!A357)","v":""},{"$f":"IF(DMA!$E357=\"\",\"\",DMA!$E357/5*100)","v":""},{"$f":"IF(DMA!J357=\"\",\"\",DMA!J357)","v":""},{"$f":"IF(DMA!L357=\"\",\"\",DMA!L357)","v":""},{"$f":"IF(DMA!T357=\"\",\"\",DMA!T357)","v":""}]
[null,null,null,null,null,null,null,null,null,null,null,null,null,null,null,null,null,null,null,null,null,null,null,null,null,null,1,{"$f":"IF(DMA!A358=\"\",\"\",DMA!A358)","v":""},{"$f":"IF(DMA!$E358=\"\",\"\",DMA!$E358/5*100)","v":""},{"$f":"IF(DMA!J358=\"\",\"\",DMA!J358)","v":""},{"$f":"IF(DMA!L358=\"\",\"\",DMA!L358)","v":""},{"$f":"IF(DMA!T358=\"\",\"\",DMA!T358)","v":""}]
[null,null,null,null,null,null,null,null,null,null,null,null,null,null,null,null,null,null,null,null,null,null,null,null,null,null,1,{"$f":"IF(DMA!A359=\"\",\"\",DMA!A359)","v":""},{"$f":"IF(DMA!$E359=\"\",\"\",DMA!$E359/5*100)","v":""},{"$f":"IF(DMA!J359=\"\",\"\",DMA!J359)","v":""},{"$f":"IF(DMA!L359=\"\",\"\",DMA!L359)","v":""},{"$f":"IF(DMA!T359=\"\",\"\",DMA!T359)","v":""}]
[null,null,null,null,null,null,null,null,null,null,null,null,null,null,null,null,null,null,null,null,null,null,null,null,null,null,1,{"$f":"IF(DMA!A360=\"\",\"\",DMA!A360)","v":""},{"$f":"IF(DMA!$E360=\"\",\"\",DMA!$E360/5*100)","v":""},{"$f":"IF(DMA!J360=\"\",\"\",DMA!J360)","v":""},{"$f":"IF(DMA!L360=\"\",\"\",DMA!L360)","v":""},{"$f":"IF(DMA!T360=\"\",\"\",DMA!T360)","v":""}]
[null,null,null,null,null,null,null,null,null,null,null,null,null,null,null,null,null,null,null,null,null,null,null,null,null,null,1,{"$f":"IF(DMA!A361=\"\",\"\",DMA!A361)","v":""},{"$f":"IF(DMA!$E361=\"\",\"\",DMA!$E361/5*100)","v":""},{"$f":"IF(DMA!J361=\"\",\"\",DMA!J361)","v":""},{"$f":"IF(DMA!L361=\"\",\"\",DMA!L361)","v":""},{"$f":"IF(DMA!T361=\"\",\"\",DMA!T361)","v":""}]
[null,null,null,null,null,null,null,null,null,null,null,null,null,null,null,null,null,null,null,null,null,null,null,null,null,null,1,{"$f":"IF(DMA!A362=\"\",\"\",DMA!A362)","v":""},{"$f":"IF(DMA!$E362=\"\",\"\",DMA!$E362/5*100)","v":""},{"$f":"IF(DMA!J362=\"\",\"\",DMA!J362)","v":""},{"$f":"IF(DMA!L362=\"\",\"\",DMA!L362)","v":""},{"$f":"IF(DMA!T362=\"\",\"\",DMA!T362)","v":""}]
[null,null,null,null,null,null,null,null,null,null,null,null,null,null,null,null,null,null,null,null,null,null,null,null,null,null,1,{"$f":"IF(DMA!A363=\"\",\"\",DMA!A363)","v":""},{"$f":"IF(DMA!$E363=\"\",\"\",DMA!$E363/5*100)","v":""},{"$f":"IF(DMA!J363=\"\",\"\",DMA!J363)","v":""},{"$f":"IF(DMA!L363=\"\",\"\",DMA!L363)","v":""},{"$f":"IF(DMA!T363=\"\",\"\",DMA!T363)","v":""}]
[null,null,null,null,null,null,null,null,null,null,null,null,null,null,null,null,null,null,null,null,null,null,null,null,null,null,1,{"$f":"IF(DMA!A364=\"\",\"\",DMA!A364)","v":""},{"$f":"IF(DMA!$E364=\"\",\"\",DMA!$E364/5*100)","v":""},{"$f":"IF(DMA!J364=\"\",\"\",DMA!J364)","v":""},{"$f":"IF(DMA!L364=\"\",\"\",DMA!L364)","v":""},{"$f":"IF(DMA!T364=\"\",\"\",DMA!T364)","v":""}]
[null,null,null,null,null,null,null,null,null,null,null,null,null,null,null,null,null,null,null,null,null,null,null,null,null,null,1,{"$f":"IF(DMA!A365=\"\",\"\",DMA!A365)","v":""},{"$f":"IF(DMA!$E365=\"\",\"\",DMA!$E365/5*100)","v":""},{"$f":"IF(DMA!J365=\"\",\"\",DMA!J365)","v":""},{"$f":"IF(DMA!L365=\"\",\"\",DMA!L365)","v":""},{"$f":"IF(DMA!T365=\"\",\"\",DMA!T365)","v":""}]
[null,null,null,null,null,null,null,null,null,null,null,null,null,null,null,null,null,null,null,null,null,null,null,null,null,null,1,{"$f":"IF(DMA!A366=\"\",\"\",DMA!A366)","v":""},{"$f":"IF(DMA!$E366=\"\",\"\",DMA!$E366/5*100)","v":""},{"$f":"IF(DMA!J366=\"\",\"\",DMA!J366)","v":""},{"$f":"IF(DMA!L366=\"\",\"\",DMA!L366)","v":""},{"$f":"IF(DMA!T366=\"\",\"\",DMA!T366)","v":""}]
[null,null,null,null,null,null,null,null,null,null,null,null,null,null,null,null,null,null,null,null,null,null,null,null,null,null,1,{"$f":"IF(DMA!A367=\"\",\"\",DMA!A367)","v":""},{"$f":"IF(DMA!$E367=\"\",\"\",DMA!$E367/5*100)","v":""},{"$f":"IF(DMA!J367=\"\",\"\",DMA!J367)","v":""},{"$f":"IF(DMA!L367=\"\",\"\",DMA!L367)","v":""},{"$f":"IF(DMA!T367=\"\",\"\",DMA!T367)","v":""}]
[null,null,null,null,null,null,null,null,null,null,null,null,null,null,null,null,null,null,null,null,null,null,null,null,null,null,1,{"$f":"IF(DMA!A368=\"\",\"\",DMA!A368)","v":""},{"$f":"IF(DMA!$E368=\"\",\"\",DMA!$E368/5*100)","v":""},{"$f":"IF(DMA!J368=\"\",\"\",DMA!J368)","v":""},{"$f":"IF(DMA!L368=\"\",\"\",DMA!L368)","v":""},{"$f":"IF(DMA!T368=\"\",\"\",DMA!T368)","v":""}]
[null,null,null,null,null,null,null,null,null,null,null,null,null,null,null,null,null,null,null,null,null,null,null,null,null,null,1,{"$f":"IF(DMA!A369=\"\",\"\",DMA!A369)","v":""},{"$f":"IF(DMA!$E369=\"\",\"\",DMA!$E369/5*100)","v":""},{"$f":"IF(DMA!J369=\"\",\"\",DMA!J369)","v":""},{"$f":"IF(DMA!L369=\"\",\"\",DMA!L369)","v":""},{"$f":"IF(DMA!T369=\"\",\"\",DMA!T369)","v":""}]
[null,null,null,null,null,null,null,null,null,null,null,null,null,null,null,null,null,null,null,null,null,null,null,null,null,null,1,{"$f":"IF(DMA!A370=\"\",\"\",DMA!A370)","v":""},{"$f":"IF(DMA!$E370=\"\",\"\",DMA!$E370/5*100)","v":""},{"$f":"IF(DMA!J370=\"\",\"\",DMA!J370)","v":""},{"$f":"IF(DMA!L370=\"\",\"\",DMA!L370)","v":""},{"$f":"IF(DMA!T370=\"\",\"\",DMA!T370)","v":""}]
[null,null,null,null,null,null,null,null,null,null,null,null,null,null,null,null,null,null,null,null,null,null,null,null,null,null,1,{"$f":"IF(DMA!A371=\"\",\"\",DMA!A371)","v":""},{"$f":"IF(DMA!$E371=\"\",\"\",DMA!$E371/5*100)","v":""},{"$f":"IF(DMA!J371=\"\",\"\",DMA!J371)","v":""},{"$f":"IF(DMA!L371=\"\",\"\",DMA!L371)","v":""},{"$f":"IF(DMA!T371=\"\",\"\",DMA!T371)","v":""}]
[null,null,null,null,null,null,null,null,null,null,null,null,null,null,null,null,null,null,null,null,null,null,null,null,null,null,1,{"$f":"IF(DMA!A372=\"\",\"\",DMA!A372)","v":""},{"$f":"IF(DMA!$E372=\"\",\"\",DMA!$E372/5*100)","v":""},{"$f":"IF(DMA!J372=\"\",\"\",DMA!J372)","v":""},{"$f":"IF(DMA!L372=\"\",\"\",DMA!L372)","v":""},{"$f":"IF(DMA!T372=\"\",\"\",DMA!T372)","v":""}]
[null,null,null,null,null,null,null,null,null,null,null,null,null,null,null,null,null,null,null,null,null,null,null,null,null,null,1,{"$f":"IF(DMA!A373=\"\",\"\",DMA!A373)","v":""},{"$f":"IF(DMA!$E373=\"\",\"\",DMA!$E373/5*100)","v":""},{"$f":"IF(DMA!J373=\"\",\"\",DMA!J373)","v":""},{"$f":"IF(DMA!L373=\"\",\"\",DMA!L373)","v":""},{"$f":"IF(DMA!T373=\"\",\"\",DMA!T373)","v":""}]
[null,null,null,null,null,null,null,null,null,null,null,null,null,null,null,null,null,null,null,null,null,null,null,null,null,null,1,{"$f":"IF(DMA!A374=\"\",\"\",DMA!A374)","v":""},{"$f":"IF(DMA!$E374=\"\",\"\",DMA!$E374/5*100)","v":""},{"$f":"IF(DMA!J374=\"\",\"\",DMA!J374)","v":""},{"$f":"IF(DMA!L374=\"\",\"\",DMA!L374)","v":""},{"$f":"IF(DMA!T374=\"\",\"\",DMA!T374)","v":""}]
[null,null,null,null,null,null,null,null,null,null,null,null,null,null,null,null,null,null,null,null,null,null,null,null,null,null,1,{"$f":"IF(DMA!A375=\"\",\"\",DMA!A375)","v":""},{"$f":"IF(DMA!$E375=\"\",\"\",DMA!$E375/5*100)","v":""},{"$f":"IF(DMA!J375=\"\",\"\",DMA!J375)","v":""},{"$f":"IF(DMA!L375=\"\",\"\",DMA!L375)","v":""},{"$f":"IF(DMA!T375=\"\",\"\",DMA!T375)","v":""}]
[null,null,null,null,null,null,null,null,null,null,null,null,null,null,null,null,null,null,null,null,null,null,null,null,null,null,1,{"$f":"IF(DMA!A376=\"\",\"\",DMA!A376)","v":""},{"$f":"IF(DMA!$E376=\"\",\"\",DMA!$E376/5*100)","v":""},{"$f":"IF(DMA!J376=\"\",\"\",DMA!J376)","v":""},{"$f":"IF(DMA!L376=\"\",\"\",DMA!L376)","v":""},{"$f":"IF(DMA!T376=\"\",\"\",DMA!T376)","v":""}]
[null,null,null,null,null,null,null,null,null,null,null,null,null,null,null,null,null,null,null,null,null,null,null,null,null,null,1,{"$f":"IF(DMA!A377=\"\",\"\",DMA!A377)","v":""},{"$f":"IF(DMA!$E377=\"\",\"\",DMA!$E377/5*100)","v":""},{"$f":"IF(DMA!J377=\"\",\"\",DMA!J377)","v":""},{"$f":"IF(DMA!L377=\"\",\"\",DMA!L377)","v":""},{"$f":"IF(DMA!T377=\"\",\"\",DMA!T377)","v":""}]
[null,null,null,null,null,null,null,null,null,null,null,null,null,null,null,null,null,null,null,null,null,null,null,null,null,null,1,{"$f":"IF(DMA!A378=\"\",\"\",DMA!A378)","v":""},{"$f":"IF(DMA!$E378=\"\",\"\",DMA!$E378/5*100)","v":""},{"$f":"IF(DMA!J378=\"\",\"\",DMA!J378)","v":""},{"$f":"IF(DMA!L378=\"\",\"\",DMA!L378)","v":""},{"$f":"IF(DMA!T378=\"\",\"\",DMA!T378)","v":""}]
[null,null,null,null,null,null,null,null,null,null,null,null,null,null,null,null,null,null,null,null,null,null,null,null,null,null,1,{"$f":"IF(DMA!A379=\"\",\"\",DMA!A379)","v":""},{"$f":"IF(DMA!$E379=\"\",\"\",DMA!$E379/5*100)","v":""},{"$f":"IF(DMA!J379=\"\",\"\",DMA!J379)","v":""},{"$f":"IF(DMA!L379=\"\",\"\",DMA!L379)","v":""},{"$f":"IF(DMA!T379=\"\",\"\",DMA!T379)","v":""}]
[null,null,null,null,null,null,null,null,null,null,null,null,null,null,null,null,null,null,null,null,null,null,null,null,null,null,1,{"$f":"IF(DMA!A380=\"\",\"\",DMA!A380)","v":""},{"$f":"IF(DMA!$E380=\"\",\"\",DMA!$E380/5*100)","v":""},{"$f":"IF(DMA!J380=\"\",\"\",DMA!J380)","v":""},{"$f":"IF(DMA!L380=\"\",\"\",DMA!L380)","v":""},{"$f":"IF(DMA!T380=\"\",\"\",DMA!T380)","v":""}]
[null,null,null,null,null,null,null,null,null,null,null,null,null,null,null,null,null,null,null,null,null,null,null,null,null,null,1,{"$f":"IF(DMA!A381=\"\",\"\",DMA!A381)","v":""},{"$f":"IF(DMA!$E381=\"\",\"\",DMA!$E381/5*100)","v":""},{"$f":"IF(DMA!J381=\"\",\"\",DMA!J381)","v":""},{"$f":"IF(DMA!L381=\"\",\"\",DMA!L381)","v":""},{"$f":"IF(DMA!T381=\"\",\"\",DMA!T381)","v":""}]
[null,null,null,null,null,null,null,null,null,null,null,null,null,null,null,null,null,null,null,null,null,null,null,null,null,null,1,{"$f":"IF(DMA!A382=\"\",\"\",DMA!A382)","v":""},{"$f":"IF(DMA!$E382=\"\",\"\",DMA!$E382/5*100)","v":""},{"$f":"IF(DMA!J382=\"\",\"\",DMA!J382)","v":""},{"$f":"IF(DMA!L382=\"\",\"\",DMA!L382)","v":""},{"$f":"IF(DMA!T382=\"\",\"\",DMA!T382)","v":""}]
[null,null,null,null,null,null,null,null,null,null,null,null,null,null,null,null,null,null,null,null,null,null,null,null,null,null,1,{"$f":"IF(DMA!A383=\"\",\"\",DMA!A383)","v":""},{"$f":"IF(DMA!$E383=\"\",\"\",DMA!$E383/5*100)","v":""},{"$f":"IF(DMA!J383=\"\",\"\",DMA!J383)","v":""},{"$f":"IF(DMA!L383=\"\",\"\",DMA!L383)","v":""},{"$f":"IF(DMA!T383=\"\",\"\",DMA!T383)","v":""}]
[null,null,null,null,null,null,null,null,null,null,null,null,null,null,null,null,null,null,null,null,null,null,null,null,null,null,1,{"$f":"IF(DMA!A384=\"\",\"\",DMA!A384)","v":""},{"$f":"IF(DMA!$E384=\"\",\"\",DMA!$E384/5*100)","v":""},{"$f":"IF(DMA!J384=\"\",\"\",DMA!J384)","v":""},{"$f":"IF(DMA!L384=\"\",\"\",DMA!L384)","v":""},{"$f":"IF(DMA!T384=\"\",\"\",DMA!T384)","v":""}]
[null,null,null,null,null,null,null,null,null,null,null,null,null,null,null,null,null,null,null,null,null,null,null,null,null,null,1,{"$f":"IF(DMA!A385=\"\",\"\",DMA!A385)","v":""},{"$f":"IF(DMA!$E385=\"\",\"\",DMA!$E385/5*100)","v":""},{"$f":"IF(DMA!J385=\"\",\"\",DMA!J385)","v":""},{"$f":"IF(DMA!L385=\"\",\"\",DMA!L385)","v":""},{"$f":"IF(DMA!T385=\"\",\"\",DMA!T385)","v":""}]
[null,null,null,null,null,null,null,null,null,null,null,null,null,null,null,null,null,null,null,null,null,null,null,null,null,null,1,{"$f":"IF(DMA!A386=\"\",\"\",DMA!A386)","v":""},{"$f":"IF(DMA!$E386=\"\",\"\",DMA!$E386/5*100)","v":""},{"$f":"IF(DMA!J386=\"\",\"\",DMA!J386)","v":""},{"$f":"IF(DMA!L386=\"\",\"\",DMA!L386)","v":""},{"$f":"IF(DMA!T386=\"\",\"\",DMA!T386)","v":""}]
[null,null,null,null,null,null,null,null,null,null,null,null,null,null,null,null,null,null,null,null,null,null,null,null,null,null,1,{"$f":"IF(DMA!A387=\"\",\"\",DMA!A387)","v":""},{"$f":"IF(DMA!$E387=\"\",\"\",DMA!$E387/5*100)","v":""},{"$f":"IF(DMA!J387=\"\",\"\",DMA!J387)","v":""},{"$f":"IF(DMA!L387=\"\",\"\",DMA!L387)","v":""},{"$f":"IF(DMA!T387=\"\",\"\",DMA!T387)","v":""}]
[null,null,null,null,null,null,null,null,null,null,null,null,null,null,null,null,null,null,null,null,null,null,null,null,null,null,1,{"$f":"IF(DMA!A388=\"\",\"\",DMA!A388)","v":""},{"$f":"IF(DMA!$E388=\"\",\"\",DMA!$E388/5*100)","v":""},{"$f":"IF(DMA!J388=\"\",\"\",DMA!J388)","v":""},{"$f":"IF(DMA!L388=\"\",\"\",DMA!L388)","v":""},{"$f":"IF(DMA!T388=\"\",\"\",DMA!T388)","v":""}]
[null,null,null,null,null,null,null,null,null,null,null,null,null,null,null,null,null,null,null,null,null,null,null,null,null,null,1,{"$f":"IF(DMA!A389=\"\",\"\",DMA!A389)","v":""},{"$f":"IF(DMA!$E389=\"\",\"\",DMA!$E389/5*100)","v":""},{"$f":"IF(DMA!J389=\"\",\"\",DMA!J389)","v":""},{"$f":"IF(DMA!L389=\"\",\"\",DMA!L389)","v":""},{"$f":"IF(DMA!T389=\"\",\"\",DMA!T389)","v":""}]
[null,null,null,null,null,null,null,null,null,null,null,null,null,null,null,null,null,null,null,null,null,null,null,null,null,null,1,{"$f":"IF(DMA!A390=\"\",\"\",DMA!A390)","v":""},{"$f":"IF(DMA!$E390=\"\",\"\",DMA!$E390/5*100)","v":""},{"$f":"IF(DMA!J390=\"\",\"\",DMA!J390)","v":""},{"$f":"IF(DMA!L390=\"\",\"\",DMA!L390)","v":""},{"$f":"IF(DMA!T390=\"\",\"\",DMA!T390)","v":""}]
[null,null,null,null,null,null,null,null,null,null,null,null,null,null,null,null,null,null,null,null,null,null,null,null,null,null,{"$f":"IF(AB388=AA387+1,AB388,AA387)","v":1},{"$f":"IF(DMA!A391=\"\",\"\",DMA!A391)","v":""},{"$f":"IF(DMA!$E391=\"\",\"\",DMA!$E391/5*100)","v":""},{"$f":"IF(DMA!J391=\"\",\"\",DMA!J391)","v":""},{"$f":"IF(DMA!L391=\"\",\"\",DMA!L391)","v":""},{"$f":"IF(DMA!T391=\"\",\"\",DMA!T391)","v":""}]
[null,null,null,null,null,null,null,null,null,null,null,null,null,null,null,null,null,null,null,null,null,null,null,null,null,null,1,{"$f":"IF(DMA!A392=\"\",\"\",DMA!A392)","v":""},{"$f":"IF(DMA!$E392=\"\",\"\",DMA!$E392/5*100)","v":""},{"$f":"IF(DMA!J392=\"\",\"\",DMA!J392)","v":""},{"$f":"IF(DMA!L392=\"\",\"\",DMA!L392)","v":""},{"$f":"IF(DMA!T392=\"\",\"\",DMA!T392)","v":""}]
[null,null,null,null,null,null,null,null,null,null,null,null,null,null,null,null,null,null,null,null,null,null,null,null,null,null,1,{"$f":"IF(DMA!A393=\"\",\"\",DMA!A393)","v":""},{"$f":"IF(DMA!$E393=\"\",\"\",DMA!$E393/5*100)","v":""},{"$f":"IF(DMA!J393=\"\",\"\",DMA!J393)","v":""},{"$f":"IF(DMA!L393=\"\",\"\",DMA!L393)","v":""},{"$f":"IF(DMA!T393=\"\",\"\",DMA!T393)","v":""}]
[null,null,null,null,null,null,null,null,null,null,null,null,null,null,null,null,null,null,null,null,null,null,null,null,null,null,1,{"$f":"IF(DMA!A394=\"\",\"\",DMA!A394)","v":""},{"$f":"IF(DMA!$E394=\"\",\"\",DMA!$E394/5*100)","v":""},{"$f":"IF(DMA!J394=\"\",\"\",DMA!J394)","v":""},{"$f":"IF(DMA!L394=\"\",\"\",DMA!L394)","v":""},{"$f":"IF(DMA!T394=\"\",\"\",DMA!T394)","v":""}]
[null,null,null,null,null,null,null,null,null,null,null,null,null,null,null,null,null,null,null,null,null,null,null,null,null,null,1,{"$f":"IF(DMA!A395=\"\",\"\",DMA!A395)","v":""},{"$f":"IF(DMA!$E395=\"\",\"\",DMA!$E395/5*100)","v":""},{"$f":"IF(DMA!J395=\"\",\"\",DMA!J395)","v":""},{"$f":"IF(DMA!L395=\"\",\"\",DMA!L395)","v":""},{"$f":"IF(DMA!T395=\"\",\"\",DMA!T395)","v":""}]
[null,null,null,null,null,null,null,null,null,null,null,null,null,null,null,null,null,null,null,null,null,null,null,null,null,null,1,{"$f":"IF(DMA!A396=\"\",\"\",DMA!A396)","v":""},{"$f":"IF(DMA!$E396=\"\",\"\",DMA!$E396/5*100)","v":""},{"$f":"IF(DMA!J396=\"\",\"\",DMA!J396)","v":""},{"$f":"IF(DMA!L396=\"\",\"\",DMA!L396)","v":""},{"$f":"IF(DMA!T396=\"\",\"\",DMA!T396)","v":""}]
[null,null,null,null,null,null,null,null,null,null,null,null,null,null,null,null,null,null,null,null,null,null,null,null,null,null,1,{"$f":"IF(DMA!A397=\"\",\"\",DMA!A397)","v":""},{"$f":"IF(DMA!$E397=\"\",\"\",DMA!$E397/5*100)","v":""},{"$f":"IF(DMA!J397=\"\",\"\",DMA!J397)","v":""},{"$f":"IF(DMA!L397=\"\",\"\",DMA!L397)","v":""},{"$f":"IF(DMA!T397=\"\",\"\",DMA!T397)","v":""}]
[null,null,null,null,null,null,null,null,null,null,null,null,null,null,null,null,null,null,null,null,null,null,null,null,null,null,1,{"$f":"IF(DMA!A398=\"\",\"\",DMA!A398)","v":""},{"$f":"IF(DMA!$E398=\"\",\"\",DMA!$E398/5*100)","v":""},{"$f":"IF(DMA!J398=\"\",\"\",DMA!J398)","v":""},{"$f":"IF(DMA!L398=\"\",\"\",DMA!L398)","v":""},{"$f":"IF(DMA!T398=\"\",\"\",DMA!T398)","v":""}]
[null,null,null,null,null,null,null,null,null,null,null,null,null,null,null,null,null,null,null,null,null,null,null,null,null,null,1,{"$f":"IF(DMA!A399=\"\",\"\",DMA!A399)","v":""},{"$f":"IF(DMA!$E399=\"\",\"\",DMA!$E399/5*100)","v":""},{"$f":"IF(DMA!J399=\"\",\"\",DMA!J399)","v":""},{"$f":"IF(DMA!L399=\"\",\"\",DMA!L399)","v":""},{"$f":"IF(DMA!T399=\"\",\"\",DMA!T399)","v":""}]
[null,null,null,null,null,null,null,null,null,null,null,null,null,null,null,null,null,null,null,null,null,null,null,null,null,null,1,{"$f":"IF(DMA!A400=\"\",\"\",DMA!A400)","v":""},{"$f":"IF(DMA!$E400=\"\",\"\",DMA!$E400/5*100)","v":""},{"$f":"IF(DMA!J400=\"\",\"\",DMA!J400)","v":""},{"$f":"IF(DMA!L400=\"\",\"\",DMA!L400)","v":""},{"$f":"IF(DMA!T400=\"\",\"\",DMA!T400)","v":""}]
[null,null,null,null,null,null,null,null,null,null,null,null,null,null,null,null,null,null,null,null,null,null,null,null,null,null,1,{"$f":"IF(DMA!A401=\"\",\"\",DMA!A401)","v":""},{"$f":"IF(DMA!$E401=\"\",\"\",DMA!$E401/5*100)","v":""},{"$f":"IF(DMA!J401=\"\",\"\",DMA!J401)","v":""},{"$f":"IF(DMA!L401=\"\",\"\",DMA!L401)","v":""},{"$f":"IF(DMA!T401=\"\",\"\",DMA!T401)","v":""}]
[null,null,null,null,null,null,null,null,null,null,null,null,null,null,null,null,null,null,null,null,null,null,null,null,null,null,1,{"$f":"IF(DMA!A402=\"\",\"\",DMA!A402)","v":""},{"$f":"IF(DMA!$E402=\"\",\"\",DMA!$E402/5*100)","v":""},{"$f":"IF(DMA!J402=\"\",\"\",DMA!J402)","v":""},{"$f":"IF(DMA!L402=\"\",\"\",DMA!L402)","v":""},{"$f":"IF(DMA!T402=\"\",\"\",DMA!T402)","v":""}]
[null,null,null,null,null,null,null,null,null,null,null,null,null,null,null,null,null,null,null,null,null,null,null,null,null,null,1,{"$f":"IF(DMA!A403=\"\",\"\",DMA!A403)","v":""},{"$f":"IF(DMA!$E403=\"\",\"\",DMA!$E403/5*100)","v":""},{"$f":"IF(DMA!J403=\"\",\"\",DMA!J403)","v":""},{"$f":"IF(DMA!L403=\"\",\"\",DMA!L403)","v":""},{"$f":"IF(DMA!T403=\"\",\"\",DMA!T403)","v":""}]
[null,null,null,null,null,null,null,null,null,null,null,null,null,null,null,null,null,null,null,null,null,null,null,null,null,null,1,{"$f":"IF(DMA!A404=\"\",\"\",DMA!A404)","v":""},{"$f":"IF(DMA!$E404=\"\",\"\",DMA!$E404/5*100)","v":""},{"$f":"IF(DMA!J404=\"\",\"\",DMA!J404)","v":""},{"$f":"IF(DMA!L404=\"\",\"\",DMA!L404)","v":""},{"$f":"IF(DMA!T404=\"\",\"\",DMA!T404)","v":""}]
[null,null,null,null,null,null,null,null,null,null,null,null,null,null,null,null,null,null,null,null,null,null,null,null,null,null,1,{"$f":"IF(DMA!A405=\"\",\"\",DMA!A405)","v":""},{"$f":"IF(DMA!$E405=\"\",\"\",DMA!$E405/5*100)","v":""},{"$f":"IF(DMA!J405=\"\",\"\",DMA!J405)","v":""},{"$f":"IF(DMA!L405=\"\",\"\",DMA!L405)","v":""},{"$f":"IF(DMA!T405=\"\",\"\",DMA!T405)","v":""}]
[null,null,null,null,null,null,null,null,null,null,null,null,null,null,null,null,null,null,null,null,null,null,null,null,null,null,1,{"$f":"IF(DMA!A406=\"\",\"\",DMA!A406)","v":""},{"$f":"IF(DMA!$E406=\"\",\"\",DMA!$E406/5*100)","v":""},{"$f":"IF(DMA!J406=\"\",\"\",DMA!J406)","v":""},{"$f":"IF(DMA!L406=\"\",\"\",DMA!L406)","v":""},{"$f":"IF(DMA!T406=\"\",\"\",DMA!T406)","v":""}]
[null,null,null,null,null,null,null,null,null,null,null,null,null,null,null,null,null,null,null,null,null,null,null,null,null,null,1,{"$f":"IF(DMA!A407=\"\",\"\",DMA!A407)","v":""},{"$f":"IF(DMA!$E407=\"\",\"\",DMA!$E407/5*100)","v":""},{"$f":"IF(DMA!J407=\"\",\"\",DMA!J407)","v":""},{"$f":"IF(DMA!L407=\"\",\"\",DMA!L407)","v":""},{"$f":"IF(DMA!T407=\"\",\"\",DMA!T407)","v":""}]
[null,null,null,null,null,null,null,null,null,null,null,null,null,null,null,null,null,null,null,null,null,null,null,null,null,null,1,{"$f":"IF(DMA!A408=\"\",\"\",DMA!A408)","v":""},{"$f":"IF(DMA!$E408=\"\",\"\",DMA!$E408/5*100)","v":""},{"$f":"IF(DMA!J408=\"\",\"\",DMA!J408)","v":""},{"$f":"IF(DMA!L408=\"\",\"\",DMA!L408)","v":""},{"$f":"IF(DMA!T408=\"\",\"\",DMA!T408)","v":""}]
[null,null,null,null,null,null,null,null,null,null,null,null,null,null,null,null,null,null,null,null,null,null,null,null,null,null,1,{"$f":"IF(DMA!A409=\"\",\"\",DMA!A409)","v":""},{"$f":"IF(DMA!$E409=\"\",\"\",DMA!$E409/5*100)","v":""},{"$f":"IF(DMA!J409=\"\",\"\",DMA!J409)","v":""},{"$f":"IF(DMA!L409=\"\",\"\",DMA!L409)","v":""},{"$f":"IF(DMA!T409=\"\",\"\",DMA!T409)","v":""}]
[null,null,null,null,null,null,null,null,null,null,null,null,null,null,null,null,null,null,null,null,null,null,null,null,null,null,1,{"$f":"IF(DMA!A410=\"\",\"\",DMA!A410)","v":""},{"$f":"IF(DMA!$E410=\"\",\"\",DMA!$E410/5*100)","v":""},{"$f":"IF(DMA!J410=\"\",\"\",DMA!J410)","v":""},{"$f":"IF(DMA!L410=\"\",\"\",DMA!L410)","v":""},{"$f":"IF(DMA!T410=\"\",\"\",DMA!T410)","v":""}]
[null,null,null,null,null,null,null,null,null,null,null,null,null,null,null,null,null,null,null,null,null,null,null,null,null,null,1,{"$f":"IF(DMA!A411=\"\",\"\",DMA!A411)","v":""},{"$f":"IF(DMA!$E411=\"\",\"\",DMA!$E411/5*100)","v":""},{"$f":"IF(DMA!J411=\"\",\"\",DMA!J411)","v":""},{"$f":"IF(DMA!L411=\"\",\"\",DMA!L411)","v":""},{"$f":"IF(DMA!T411=\"\",\"\",DMA!T411)","v":""}]
[null,null,null,null,null,null,null,null,null,null,null,null,null,null,null,null,null,null,null,null,null,null,null,null,null,null,1,{"$f":"IF(DMA!A412=\"\",\"\",DMA!A412)","v":""},{"$f":"IF(DMA!$E412=\"\",\"\",DMA!$E412/5*100)","v":""},{"$f":"IF(DMA!J412=\"\",\"\",DMA!J412)","v":""},{"$f":"IF(DMA!L412=\"\",\"\",DMA!L412)","v":""},{"$f":"IF(DMA!T412=\"\",\"\",DMA!T412)","v":""}]
[null,null,null,null,null,null,null,null,null,null,null,null,null,null,null,null,null,null,null,null,null,null,null,null,null,null,1,{"$f":"IF(DMA!A413=\"\",\"\",DMA!A413)","v":""},{"$f":"IF(DMA!$E413=\"\",\"\",DMA!$E413/5*100)","v":""},{"$f":"IF(DMA!J413=\"\",\"\",DMA!J413)","v":""},{"$f":"IF(DMA!L413=\"\",\"\",DMA!L413)","v":""},{"$f":"IF(DMA!T413=\"\",\"\",DMA!T413)","v":""}]
[null,null,null,null,null,null,null,null,null,null,null,null,null,null,null,null,null,null,null,null,null,null,null,null,null,null,1,{"$f":"IF(DMA!A414=\"\",\"\",DMA!A414)","v":""},{"$f":"IF(DMA!$E414=\"\",\"\",DMA!$E414/5*100)","v":""},{"$f":"IF(DMA!J414=\"\",\"\",DMA!J414)","v":""},{"$f":"IF(DMA!L414=\"\",\"\",DMA!L414)","v":""},{"$f":"IF(DMA!T414=\"\",\"\",DMA!T414)","v":""}]
[null,null,null,null,null,null,null,null,null,null,null,null,null,null,null,null,null,null,null,null,null,null,null,null,null,null,1,{"$f":"IF(DMA!A415=\"\",\"\",DMA!A415)","v":""},{"$f":"IF(DMA!$E415=\"\",\"\",DMA!$E415/5*100)","v":""},{"$f":"IF(DMA!J415=\"\",\"\",DMA!J415)","v":""},{"$f":"IF(DMA!L415=\"\",\"\",DMA!L415)","v":""},{"$f":"IF(DMA!T415=\"\",\"\",DMA!T415)","v":""}]
[null,null,null,null,null,null,null,null,null,null,null,null,null,null,null,null,null,null,null,null,null,null,null,null,null,null,1,{"$f":"IF(DMA!A416=\"\",\"\",DMA!A416)","v":""},{"$f":"IF(DMA!$E416=\"\",\"\",DMA!$E416/5*100)","v":""},{"$f":"IF(DMA!J416=\"\",\"\",DMA!J416)","v":""},{"$f":"IF(DMA!L416=\"\",\"\",DMA!L416)","v":""},{"$f":"IF(DMA!T416=\"\",\"\",DMA!T416)","v":""}]
[null,null,null,null,null,null,null,null,null,null,null,null,null,null,null,null,null,null,null,null,null,null,null,null,null,null,1,{"$f":"IF(DMA!A417=\"\",\"\",DMA!A417)","v":""},{"$f":"IF(DMA!$E417=\"\",\"\",DMA!$E417/5*100)","v":""},{"$f":"IF(DMA!J417=\"\",\"\",DMA!J417)","v":""},{"$f":"IF(DMA!L417=\"\",\"\",DMA!L417)","v":""},{"$f":"IF(DMA!T417=\"\",\"\",DMA!T417)","v":""}]
[null,null,null,null,null,null,null,null,null,null,null,null,null,null,null,null,null,null,null,null,null,null,null,null,null,null,1,{"$f":"IF(DMA!A418=\"\",\"\",DMA!A418)","v":""},{"$f":"IF(DMA!$E418=\"\",\"\",DMA!$E418/5*100)","v":""},{"$f":"IF(DMA!J418=\"\",\"\",DMA!J418)","v":""},{"$f":"IF(DMA!L418=\"\",\"\",DMA!L418)","v":""},{"$f":"IF(DMA!T418=\"\",\"\",DMA!T418)","v":""}]
[null,null,null,null,null,null,null,null,null,null,null,null,null,null,null,null,null,null,null,null,null,null,null,null,null,null,1,{"$f":"IF(DMA!A419=\"\",\"\",DMA!A419)","v":""},{"$f":"IF(DMA!$E419=\"\",\"\",DMA!$E419/5*100)","v":""},{"$f":"IF(DMA!J419=\"\",\"\",DMA!J419)","v":""},{"$f":"IF(DMA!L419=\"\",\"\",DMA!L419)","v":""},{"$f":"IF(DMA!T419=\"\",\"\",DMA!T419)","v":""}]
[null,null,null,null,null,null,null,null,null,null,null,null,null,null,null,null,null,null,null,null,null,null,null,null,null,null,1,{"$f":"IF(DMA!A420=\"\",\"\",DMA!A420)","v":""},{"$f":"IF(DMA!$E420=\"\",\"\",DMA!$E420/5*100)","v":""},{"$f":"IF(DMA!J420=\"\",\"\",DMA!J420)","v":""},{"$f":"IF(DMA!L420=\"\",\"\",DMA!L420)","v":""},{"$f":"IF(DMA!T420=\"\",\"\",DMA!T420)","v":""}]
[null,null,null,null,null,null,null,null,null,null,null,null,null,null,null,null,null,null,null,null,null,null,null,null,null,null,1,{"$f":"IF(DMA!A421=\"\",\"\",DMA!A421)","v":""},{"$f":"IF(DMA!$E421=\"\",\"\",DMA!$E421/5*100)","v":""},{"$f":"IF(DMA!J421=\"\",\"\",DMA!J421)","v":""},{"$f":"IF(DMA!L421=\"\",\"\",DMA!L421)","v":""},{"$f":"IF(DMA!T421=\"\",\"\",DMA!T421)","v":""}]
[null,null,null,null,null,null,null,null,null,null,null,null,null,null,null,null,null,null,null,null,null,null,null,null,null,null,1,{"$f":"IF(DMA!A422=\"\",\"\",DMA!A422)","v":""},{"$f":"IF(DMA!$E422=\"\",\"\",DMA!$E422/5*100)","v":""},{"$f":"IF(DMA!J422=\"\",\"\",DMA!J422)","v":""},{"$f":"IF(DMA!L422=\"\",\"\",DMA!L422)","v":""},{"$f":"IF(DMA!T422=\"\",\"\",DMA!T422)","v":""}]
[null,null,null,null,null,null,null,null,null,null,null,null,null,null,null,null,null,null,null,null,null,null,null,null,null,null,1,{"$f":"IF(DMA!A423=\"\",\"\",DMA!A423)","v":""},{"$f":"IF(DMA!$E423=\"\",\"\",DMA!$E423/5*100)","v":""},{"$f":"IF(DMA!J423=\"\",\"\",DMA!J423)","v":""},{"$f":"IF(DMA!L423=\"\",\"\",DMA!L423)","v":""},{"$f":"IF(DMA!T423=\"\",\"\",DMA!T423)","v":""}]
[null,null,null,null,null,null,null,null,null,null,null,null,null,null,null,null,null,null,null,null,null,null,null,null,null,null,1,{"$f":"IF(DMA!A424=\"\",\"\",DMA!A424)","v":""},{"$f":"IF(DMA!$E424=\"\",\"\",DMA!$E424/5*100)","v":""},{"$f":"IF(DMA!J424=\"\",\"\",DMA!J424)","v":""},{"$f":"IF(DMA!L424=\"\",\"\",DMA!L424)","v":""},{"$f":"IF(DMA!T424=\"\",\"\",DMA!T424)","v":""}]
[null,null,null,null,null,null,null,null,null,null,null,null,null,null,null,null,null,null,null,null,null,null,null,null,null,null,1,{"$f":"IF(DMA!A425=\"\",\"\",DMA!A425)","v":""},{"$f":"IF(DMA!$E425=\"\",\"\",DMA!$E425/5*100)","v":""},{"$f":"IF(DMA!J425=\"\",\"\",DMA!J425)","v":""},{"$f":"IF(DMA!L425=\"\",\"\",DMA!L425)","v":""},{"$f":"IF(DMA!T425=\"\",\"\",DMA!T425)","v":""}]
[null,null,null,null,null,null,null,null,null,null,null,null,null,null,null,null,null,null,null,null,null,null,null,null,null,null,1,{"$f":"IF(DMA!A426=\"\",\"\",DMA!A426)","v":""},{"$f":"IF(DMA!$E426=\"\",\"\",DMA!$E426/5*100)","v":""},{"$f":"IF(DMA!J426=\"\",\"\",DMA!J426)","v":""},{"$f":"IF(DMA!L426=\"\",\"\",DMA!L426)","v":""},{"$f":"IF(DMA!T426=\"\",\"\",DMA!T426)","v":""}]
[null,null,null,null,null,null,null,null,null,null,null,null,null,null,null,null,null,null,null,null,null,null,null,null,null,null,1,{"$f":"IF(DMA!A427=\"\",\"\",DMA!A427)","v":""},{"$f":"IF(DMA!$E427=\"\",\"\",DMA!$E427/5*100)","v":""},{"$f":"IF(DMA!J427=\"\",\"\",DMA!J427)","v":""},{"$f":"IF(DMA!L427=\"\",\"\",DMA!L427)","v":""},{"$f":"IF(DMA!T427=\"\",\"\",DMA!T427)","v":""}]
[null,null,null,null,null,null,null,null,null,null,null,null,null,null,null,null,null,null,null,null,null,null,null,null,null,null,1,{"$f":"IF(DMA!A428=\"\",\"\",DMA!A428)","v":""},{"$f":"IF(DMA!$E428=\"\",\"\",DMA!$E428/5*100)","v":""},{"$f":"IF(DMA!J428=\"\",\"\",DMA!J428)","v":""},{"$f":"IF(DMA!L428=\"\",\"\",DMA!L428)","v":""},{"$f":"IF(DMA!T428=\"\",\"\",DMA!T428)","v":""}]
[null,null,null,null,null,null,null,null,null,null,null,null,null,null,null,null,null,null,null,null,null,null,null,null,null,null,1,{"$f":"IF(DMA!A429=\"\",\"\",DMA!A429)","v":""},{"$f":"IF(DMA!$E429=\"\",\"\",DMA!$E429/5*100)","v":""},{"$f":"IF(DMA!J429=\"\",\"\",DMA!J429)","v":""},{"$f":"IF(DMA!L429=\"\",\"\",DMA!L429)","v":""},{"$f":"IF(DMA!T429=\"\",\"\",DMA!T429)","v":""}]
[null,null,null,null,null,null,null,null,null,null,null,null,null,null,null,null,null,null,null,null,null,null,null,null,null,null,1,{"$f":"IF(DMA!A430=\"\",\"\",DMA!A430)","v":""},{"$f":"IF(DMA!$E430=\"\",\"\",DMA!$E430/5*100)","v":""},{"$f":"IF(DMA!J430=\"\",\"\",DMA!J430)","v":""},{"$f":"IF(DMA!L430=\"\",\"\",DMA!L430)","v":""},{"$f":"IF(DMA!T430=\"\",\"\",DMA!T430)","v":""}]
[null,null,null,null,null,null,null,null,null,null,null,null,null,null,null,null,null,null,null,null,null,null,null,null,null,null,1,{"$f":"IF(DMA!A431=\"\",\"\",DMA!A431)","v":""},{"$f":"IF(DMA!$E431=\"\",\"\",DMA!$E431/5*100)","v":""},{"$f":"IF(DMA!J431=\"\",\"\",DMA!J431)","v":""},{"$f":"IF(DMA!L431=\"\",\"\",DMA!L431)","v":""},{"$f":"IF(DMA!T431=\"\",\"\",DMA!T431)","v":""}]
[null,null,null,null,null,null,null,null,null,null,null,null,null,null,null,null,null,null,null,null,null,null,null,null,null,null,1,{"$f":"IF(DMA!A432=\"\",\"\",DMA!A432)","v":""},{"$f":"IF(DMA!$E432=\"\",\"\",DMA!$E432/5*100)","v":""},{"$f":"IF(DMA!J432=\"\",\"\",DMA!J432)","v":""},{"$f":"IF(DMA!L432=\"\",\"\",DMA!L432)","v":""},{"$f":"IF(DMA!T432=\"\",\"\",DMA!T432)","v":""}]
[null,null,null,null,null,null,null,null,null,null,null,null,null,null,null,null,null,null,null,null,null,null,null,null,null,null,1,{"$f":"IF(DMA!A433=\"\",\"\",DMA!A433)","v":""},{"$f":"IF(DMA!$E433=\"\",\"\",DMA!$E433/5*100)","v":""},{"$f":"IF(DMA!J433=\"\",\"\",DMA!J433)","v":""},{"$f":"IF(DMA!L433=\"\",\"\",DMA!L433)","v":""},{"$f":"IF(DMA!T433=\"\",\"\",DMA!T433)","v":""}]
[null,null,null,null,null,null,null,null,null,null,null,null,null,null,null,null,null,null,null,null,null,null,null,null,null,null,1,{"$f":"IF(DMA!A434=\"\",\"\",DMA!A434)","v":""},{"$f":"IF(DMA!$E434=\"\",\"\",DMA!$E434/5*100)","v":""},{"$f":"IF(DMA!J434=\"\",\"\",DMA!J434)","v":""},{"$f":"IF(DMA!L434=\"\",\"\",DMA!L434)","v":""},{"$f":"IF(DMA!T434=\"\",\"\",DMA!T434)","v":""}]
[null,null,null,null,null,null,null,null,null,null,null,null,null,null,null,null,null,null,null,null,null,null,null,null,null,null,1,{"$f":"IF(DMA!A435=\"\",\"\",DMA!A435)","v":""},{"$f":"IF(DMA!$E435=\"\",\"\",DMA!$E435/5*100)","v":""},{"$f":"IF(DMA!J435=\"\",\"\",DMA!J435)","v":""},{"$f":"IF(DMA!L435=\"\",\"\",DMA!L435)","v":""},{"$f":"IF(DMA!T435=\"\",\"\",DMA!T435)","v":""}]
[null,null,null,null,null,null,null,null,null,null,null,null,null,null,null,null,null,null,null,null,null,null,null,null,null,null,1,{"$f":"IF(DMA!A436=\"\",\"\",DMA!A436)","v":""},{"$f":"IF(DMA!$E436=\"\",\"\",DMA!$E436/5*100)","v":""},{"$f":"IF(DMA!J436=\"\",\"\",DMA!J436)","v":""},{"$f":"IF(DMA!L436=\"\",\"\",DMA!L436)","v":""},{"$f":"IF(DMA!T436=\"\",\"\",DMA!T436)","v":""}]
[null,null,null,null,null,null,null,null,null,null,null,null,null,null,null,null,null,null,null,null,null,null,null,null,null,null,1,{"$f":"IF(DMA!A437=\"\",\"\",DMA!A437)","v":""},{"$f":"IF(DMA!$E437=\"\",\"\",DMA!$E437/5*100)","v":""},{"$f":"IF(DMA!J437=\"\",\"\",DMA!J437)","v":""},{"$f":"IF(DMA!L437=\"\",\"\",DMA!L437)","v":""},{"$f":"IF(DMA!T437=\"\",\"\",DMA!T437)","v":""}]
[null,null,null,null,null,null,null,null,null,null,null,null,null,null,null,null,null,null,null,null,null,null,null,null,null,null,1,{"$f":"IF(DMA!A438=\"\",\"\",DMA!A438)","v":""},{"$f":"IF(DMA!$E438=\"\",\"\",DMA!$E438/5*100)","v":""},{"$f":"IF(DMA!J438=\"\",\"\",DMA!J438)","v":""},{"$f":"IF(DMA!L438=\"\",\"\",DMA!L438)","v":""},{"$f":"IF(DMA!T438=\"\",\"\",DMA!T438)","v":""}]
[null,null,null,null,null,null,null,null,null,null,null,null,null,null,null,null,null,null,null,null,null,null,null,null,null,null,1,{"$f":"IF(DMA!A439=\"\",\"\",DMA!A439)","v":""},{"$f":"IF(DMA!$E439=\"\",\"\",DMA!$E439/5*100)","v":""},{"$f":"IF(DMA!J439=\"\",\"\",DMA!J439)","v":""},{"$f":"IF(DMA!L439=\"\",\"\",DMA!L439)","v":""},{"$f":"IF(DMA!T439=\"\",\"\",DMA!T439)","v":""}]
[null,null,null,null,null,null,null,null,null,null,null,null,null,null,null,null,null,null,null,null,null,null,null,null,null,null,1,{"$f":"IF(DMA!A440=\"\",\"\",DMA!A440)","v":""},{"$f":"IF(DMA!$E440=\"\",\"\",DMA!$E440/5*100)","v":""},{"$f":"IF(DMA!J440=\"\",\"\",DMA!J440)","v":""},{"$f":"IF(DMA!L440=\"\",\"\",DMA!L440)","v":""},{"$f":"IF(DMA!T440=\"\",\"\",DMA!T440)","v":""}]
[null,null,null,null,null,null,null,null,null,null,null,null,null,null,null,null,null,null,null,null,null,null,null,null,null,null,1,{"$f":"IF(DMA!A441=\"\",\"\",DMA!A441)","v":""},{"$f":"IF(DMA!$E441=\"\",\"\",DMA!$E441/5*100)","v":""},{"$f":"IF(DMA!J441=\"\",\"\",DMA!J441)","v":""},{"$f":"IF(DMA!L441=\"\",\"\",DMA!L441)","v":""},{"$f":"IF(DMA!T441=\"\",\"\",DMA!T441)","v":""}]
[null,null,null,null,null,null,null,null,null,null,null,null,null,null,null,null,null,null,null,null,null,null,null,null,null,null,1,{"$f":"IF(DMA!A442=\"\",\"\",DMA!A442)","v":""},{"$f":"IF(DMA!$E442=\"\",\"\",DMA!$E442/5*100)","v":""},{"$f":"IF(DMA!J442=\"\",\"\",DMA!J442)","v":""},{"$f":"IF(DMA!L442=\"\",\"\",DMA!L442)","v":""},{"$f":"IF(DMA!T442=\"\",\"\",DMA!T442)","v":""}]
[null,null,null,null,null,null,null,null,null,null,null,null,null,null,null,null,null,null,null,null,null,null,null,null,null,null,1,{"$f":"IF(DMA!A443=\"\",\"\",DMA!A443)","v":""},{"$f":"IF(DMA!$E443=\"\",\"\",DMA!$E443/5*100)","v":""},{"$f":"IF(DMA!J443=\"\",\"\",DMA!J443)","v":""},{"$f":"IF(DMA!L443=\"\",\"\",DMA!L443)","v":""},{"$f":"IF(DMA!T443=\"\",\"\",DMA!T443)","v":""}]
[null,null,null,null,null,null,null,null,null,null,null,null,null,null,null,null,null,null,null,null,null,null,null,null,null,null,1,{"$f":"IF(DMA!A444=\"\",\"\",DMA!A444)","v":""},{"$f":"IF(DMA!$E444=\"\",\"\",DMA!$E444/5*100)","v":""},{"$f":"IF(DMA!J444=\"\",\"\",DMA!J444)","v":""},{"$f":"IF(DMA!L444=\"\",\"\",DMA!L444)","v":""},{"$f":"IF(DMA!T444=\"\",\"\",DMA!T444)","v":""}]
[null,null,null,null,null,null,null,null,null,null,null,null,null,null,null,null,null,null,null,null,null,null,null,null,null,null,1,{"$f":"IF(DMA!A445=\"\",\"\",DMA!A445)","v":""},{"$f":"IF(DMA!$E445=\"\",\"\",DMA!$E445/5*100)","v":""},{"$f":"IF(DMA!J445=\"\",\"\",DMA!J445)","v":""},{"$f":"IF(DMA!L445=\"\",\"\",DMA!L445)","v":""},{"$f":"IF(DMA!T445=\"\",\"\",DMA!T445)","v":""}]
[null,null,null,null,null,null,null,null,null,null,null,null,null,null,null,null,null,null,null,null,null,null,null,null,null,null,1,{"$f":"IF(DMA!A446=\"\",\"\",DMA!A446)","v":""},{"$f":"IF(DMA!$E446=\"\",\"\",DMA!$E446/5*100)","v":""},{"$f":"IF(DMA!J446=\"\",\"\",DMA!J446)","v":""},{"$f":"IF(DMA!L446=\"\",\"\",DMA!L446)","v":""},{"$f":"IF(DMA!T446=\"\",\"\",DMA!T446)","v":""}]
[null,null,null,null,null,null,null,null,null,null,null,null,null,null,null,null,null,null,null,null,null,null,null,null,null,null,1,{"$f":"IF(DMA!A447=\"\",\"\",DMA!A447)","v":""},{"$f":"IF(DMA!$E447=\"\",\"\",DMA!$E447/5*100)","v":""},{"$f":"IF(DMA!J447=\"\",\"\",DMA!J447)","v":""},{"$f":"IF(DMA!L447=\"\",\"\",DMA!L447)","v":""},{"$f":"IF(DMA!T447=\"\",\"\",DMA!T447)","v":""}]
[null,null,null,null,null,null,null,null,null,null,null,null,null,null,null,null,null,null,null,null,null,null,null,null,null,null,1,{"$f":"IF(DMA!A448=\"\",\"\",DMA!A448)","v":""},{"$f":"IF(DMA!$E448=\"\",\"\",DMA!$E448/5*100)","v":""},{"$f":"IF(DMA!J448=\"\",\"\",DMA!J448)","v":""},{"$f":"IF(DMA!L448=\"\",\"\",DMA!L448)","v":""},{"$f":"IF(DMA!T448=\"\",\"\",DMA!T448)","v":""}]
[null,null,null,null,null,null,null,null,null,null,null,null,null,null,null,null,null,null,null,null,null,null,null,null,null,null,1,{"$f":"IF(DMA!A449=\"\",\"\",DMA!A449)","v":""},{"$f":"IF(DMA!$E449=\"\",\"\",DMA!$E449/5*100)","v":""},{"$f":"IF(DMA!J449=\"\",\"\",DMA!J449)","v":""},{"$f":"IF(DMA!L449=\"\",\"\",DMA!L449)","v":""},{"$f":"IF(DMA!T449=\"\",\"\",DMA!T449)","v":""}]
[null,null,null,null,null,null,null,null,null,null,null,null,null,null,null,null,null,null,null,null,null,null,null,null,null,null,1,{"$f":"IF(DMA!A450=\"\",\"\",DMA!A450)","v":""},{"$f":"IF(DMA!$E450=\"\",\"\",DMA!$E450/5*100)","v":""},{"$f":"IF(DMA!J450=\"\",\"\",DMA!J450)","v":""},{"$f":"IF(DMA!L450=\"\",\"\",DMA!L450)","v":""},{"$f":"IF(DMA!T450=\"\",\"\",DMA!T450)","v":""}]
[null,null,null,null,null,null,null,null,null,null,null,null,null,null,null,null,null,null,null,null,null,null,null,null,null,null,1,{"$f":"IF(DMA!A451=\"\",\"\",DMA!A451)","v":""},{"$f":"IF(DMA!$E451=\"\",\"\",DMA!$E451/5*100)","v":""},{"$f":"IF(DMA!J451=\"\",\"\",DMA!J451)","v":""},{"$f":"IF(DMA!L451=\"\",\"\",DMA!L451)","v":""},{"$f":"IF(DMA!T451=\"\",\"\",DMA!T451)","v":""}]
[null,null,null,null,null,null,null,null,null,null,null,null,null,null,null,null,null,null,null,null,null,null,null,null,null,null,1,{"$f":"IF(DMA!A452=\"\",\"\",DMA!A452)","v":""},{"$f":"IF(DMA!$E452=\"\",\"\",DMA!$E452/5*100)","v":""},{"$f":"IF(DMA!J452=\"\",\"\",DMA!J452)","v":""},{"$f":"IF(DMA!L452=\"\",\"\",DMA!L452)","v":""},{"$f":"IF(DMA!T452=\"\",\"\",DMA!T452)","v":""}]
[null,null,null,null,null,null,null,null,null,null,null,null,null,null,null,null,null,null,null,null,null,null,null,null,null,null,1,{"$f":"IF(DMA!A453=\"\",\"\",DMA!A453)","v":""},{"$f":"IF(DMA!$E453=\"\",\"\",DMA!$E453/5*100)","v":""},{"$f":"IF(DMA!J453=\"\",\"\",DMA!J453)","v":""},{"$f":"IF(DMA!L453=\"\",\"\",DMA!L453)","v":""},{"$f":"IF(DMA!T453=\"\",\"\",DMA!T453)","v":""}]
[null,null,null,null,null,null,null,null,null,null,null,null,null,null,null,null,null,null,null,null,null,null,null,null,null,null,1,{"$f":"IF(DMA!A454=\"\",\"\",DMA!A454)","v":""},{"$f":"IF(DMA!$E454=\"\",\"\",DMA!$E454/5*100)","v":""},{"$f":"IF(DMA!J454=\"\",\"\",DMA!J454)","v":""},{"$f":"IF(DMA!L454=\"\",\"\",DMA!L454)","v":""},{"$f":"IF(DMA!T454=\"\",\"\",DMA!T454)","v":""}]
[null,null,null,null,null,null,null,null,null,null,null,null,null,null,null,null,null,null,null,null,null,null,null,null,null,null,{"$f":"IF(AB452=AA451+1,AB452,AA451)","v":1},{"$f":"IF(DMA!A455=\"\",\"\",DMA!A455)","v":""},{"$f":"IF(DMA!$E455=\"\",\"\",DMA!$E455/5*100)","v":""},{"$f":"IF(DMA!J455=\"\",\"\",DMA!J455)","v":""},{"$f":"IF(DMA!L455=\"\",\"\",DMA!L455)","v":""},{"$f":"IF(DMA!T455=\"\",\"\",DMA!T455)","v":""}]
[null,null,null,null,null,null,null,null,null,null,null,null,null,null,null,null,null,null,null,null,null,null,null,null,null,null,1,{"$f":"IF(DMA!A456=\"\",\"\",DMA!A456)","v":""},{"$f":"IF(DMA!$E456=\"\",\"\",DMA!$E456/5*100)","v":""},{"$f":"IF(DMA!J456=\"\",\"\",DMA!J456)","v":""},{"$f":"IF(DMA!L456=\"\",\"\",DMA!L456)","v":""},{"$f":"IF(DMA!T456=\"\",\"\",DMA!T456)","v":""}]
[null,null,null,null,null,null,null,null,null,null,null,null,null,null,null,null,null,null,null,null,null,null,null,null,null,null,1,{"$f":"IF(DMA!A457=\"\",\"\",DMA!A457)","v":""},{"$f":"IF(DMA!$E457=\"\",\"\",DMA!$E457/5*100)","v":""},{"$f":"IF(DMA!J457=\"\",\"\",DMA!J457)","v":""},{"$f":"IF(DMA!L457=\"\",\"\",DMA!L457)","v":""},{"$f":"IF(DMA!T457=\"\",\"\",DMA!T457)","v":""}]
[null,null,null,null,null,null,null,null,null,null,null,null,null,null,null,null,null,null,null,null,null,null,null,null,null,null,1,{"$f":"IF(DMA!A458=\"\",\"\",DMA!A458)","v":""},{"$f":"IF(DMA!$E458=\"\",\"\",DMA!$E458/5*100)","v":""},{"$f":"IF(DMA!J458=\"\",\"\",DMA!J458)","v":""},{"$f":"IF(DMA!L458=\"\",\"\",DMA!L458)","v":""},{"$f":"IF(DMA!T458=\"\",\"\",DMA!T458)","v":""}]
[null,null,null,null,null,null,null,null,null,null,null,null,null,null,null,null,null,null,null,null,null,null,null,null,null,null,1,{"$f":"IF(DMA!A459=\"\",\"\",DMA!A459)","v":""},{"$f":"IF(DMA!$E459=\"\",\"\",DMA!$E459/5*100)","v":""},{"$f":"IF(DMA!J459=\"\",\"\",DMA!J459)","v":""},{"$f":"IF(DMA!L459=\"\",\"\",DMA!L459)","v":""},{"$f":"IF(DMA!T459=\"\",\"\",DMA!T459)","v":""}]
[null,null,null,null,null,null,null,null,null,null,null,null,null,null,null,null,null,null,null,null,null,null,null,null,null,null,1,{"$f":"IF(DMA!A460=\"\",\"\",DMA!A460)","v":""},{"$f":"IF(DMA!$E460=\"\",\"\",DMA!$E460/5*100)","v":""},{"$f":"IF(DMA!J460=\"\",\"\",DMA!J460)","v":""},{"$f":"IF(DMA!L460=\"\",\"\",DMA!L460)","v":""},{"$f":"IF(DMA!T460=\"\",\"\",DMA!T460)","v":""}]
[null,null,null,null,null,null,null,null,null,null,null,null,null,null,null,null,null,null,null,null,null,null,null,null,null,null,1,{"$f":"IF(DMA!A461=\"\",\"\",DMA!A461)","v":""},{"$f":"IF(DMA!$E461=\"\",\"\",DMA!$E461/5*100)","v":""},{"$f":"IF(DMA!J461=\"\",\"\",DMA!J461)","v":""},{"$f":"IF(DMA!L461=\"\",\"\",DMA!L461)","v":""},{"$f":"IF(DMA!T461=\"\",\"\",DMA!T461)","v":""}]
[null,null,null,null,null,null,null,null,null,null,null,null,null,null,null,null,null,null,null,null,null,null,null,null,null,null,1,{"$f":"IF(DMA!A462=\"\",\"\",DMA!A462)","v":""},{"$f":"IF(DMA!$E462=\"\",\"\",DMA!$E462/5*100)","v":""},{"$f":"IF(DMA!J462=\"\",\"\",DMA!J462)","v":""},{"$f":"IF(DMA!L462=\"\",\"\",DMA!L462)","v":""},{"$f":"IF(DMA!T462=\"\",\"\",DMA!T462)","v":""}]
[null,null,null,null,null,null,null,null,null,null,null,null,null,null,null,null,null,null,null,null,null,null,null,null,null,null,1,{"$f":"IF(DMA!A463=\"\",\"\",DMA!A463)","v":""},{"$f":"IF(DMA!$E463=\"\",\"\",DMA!$E463/5*100)","v":""},{"$f":"IF(DMA!J463=\"\",\"\",DMA!J463)","v":""},{"$f":"IF(DMA!L463=\"\",\"\",DMA!L463)","v":""},{"$f":"IF(DMA!T463=\"\",\"\",DMA!T463)","v":""}]
[null,null,null,null,null,null,null,null,null,null,null,null,null,null,null,null,null,null,null,null,null,null,null,null,null,null,1,{"$f":"IF(DMA!A464=\"\",\"\",DMA!A464)","v":""},{"$f":"IF(DMA!$E464=\"\",\"\",DMA!$E464/5*100)","v":""},{"$f":"IF(DMA!J464=\"\",\"\",DMA!J464)","v":""},{"$f":"IF(DMA!L464=\"\",\"\",DMA!L464)","v":""},{"$f":"IF(DMA!T464=\"\",\"\",DMA!T464)","v":""}]
[null,null,null,null,null,null,null,null,null,null,null,null,null,null,null,null,null,null,null,null,null,null,null,null,null,null,1,{"$f":"IF(DMA!A465=\"\",\"\",DMA!A465)","v":""},{"$f":"IF(DMA!$E465=\"\",\"\",DMA!$E465/5*100)","v":""},{"$f":"IF(DMA!J465=\"\",\"\",DMA!J465)","v":""},{"$f":"IF(DMA!L465=\"\",\"\",DMA!L465)","v":""},{"$f":"IF(DMA!T465=\"\",\"\",DMA!T465)","v":""}]
[null,null,null,null,null,null,null,null,null,null,null,null,null,null,null,null,null,null,null,null,null,null,null,null,null,null,1,{"$f":"IF(DMA!A466=\"\",\"\",DMA!A466)","v":""},{"$f":"IF(DMA!$E466=\"\",\"\",DMA!$E466/5*100)","v":""},{"$f":"IF(DMA!J466=\"\",\"\",DMA!J466)","v":""},{"$f":"IF(DMA!L466=\"\",\"\",DMA!L466)","v":""},{"$f":"IF(DMA!T466=\"\",\"\",DMA!T466)","v":""}]
[null,null,null,null,null,null,null,null,null,null,null,null,null,null,null,null,null,null,null,null,null,null,null,null,null,null,1,{"$f":"IF(DMA!A467=\"\",\"\",DMA!A467)","v":""},{"$f":"IF(DMA!$E467=\"\",\"\",DMA!$E467/5*100)","v":""},{"$f":"IF(DMA!J467=\"\",\"\",DMA!J467)","v":""},{"$f":"IF(DMA!L467=\"\",\"\",DMA!L467)","v":""},{"$f":"IF(DMA!T467=\"\",\"\",DMA!T467)","v":""}]
[null,null,null,null,null,null,null,null,null,null,null,null,null,null,null,null,null,null,null,null,null,null,null,null,null,null,1,{"$f":"IF(DMA!A468=\"\",\"\",DMA!A468)","v":""},{"$f":"IF(DMA!$E468=\"\",\"\",DMA!$E468/5*100)","v":""},{"$f":"IF(DMA!J468=\"\",\"\",DMA!J468)","v":""},{"$f":"IF(DMA!L468=\"\",\"\",DMA!L468)","v":""},{"$f":"IF(DMA!T468=\"\",\"\",DMA!T468)","v":""}]
[null,null,null,null,null,null,null,null,null,null,null,null,null,null,null,null,null,null,null,null,null,null,null,null,null,null,1,{"$f":"IF(DMA!A469=\"\",\"\",DMA!A469)","v":""},{"$f":"IF(DMA!$E469=\"\",\"\",DMA!$E469/5*100)","v":""},{"$f":"IF(DMA!J469=\"\",\"\",DMA!J469)","v":""},{"$f":"IF(DMA!L469=\"\",\"\",DMA!L469)","v":""},{"$f":"IF(DMA!T469=\"\",\"\",DMA!T469)","v":""}]
[null,null,null,null,null,null,null,null,null,null,null,null,null,null,null,null,null,null,null,null,null,null,null,null,null,null,1,{"$f":"IF(DMA!A470=\"\",\"\",DMA!A470)","v":""},{"$f":"IF(DMA!$E470=\"\",\"\",DMA!$E470/5*100)","v":""},{"$f":"IF(DMA!J470=\"\",\"\",DMA!J470)","v":""},{"$f":"IF(DMA!L470=\"\",\"\",DMA!L470)","v":""},{"$f":"IF(DMA!T470=\"\",\"\",DMA!T470)","v":""}]
[null,null,null,null,null,null,null,null,null,null,null,null,null,null,null,null,null,null,null,null,null,null,null,null,null,null,1,{"$f":"IF(DMA!A471=\"\",\"\",DMA!A471)","v":""},{"$f":"IF(DMA!$E471=\"\",\"\",DMA!$E471/5*100)","v":""},{"$f":"IF(DMA!J471=\"\",\"\",DMA!J471)","v":""},{"$f":"IF(DMA!L471=\"\",\"\",DMA!L471)","v":""},{"$f":"IF(DMA!T471=\"\",\"\",DMA!T471)","v":""}]
[null,null,null,null,null,null,null,null,null,null,null,null,null,null,null,null,null,null,null,null,null,null,null,null,null,null,1,{"$f":"IF(DMA!A472=\"\",\"\",DMA!A472)","v":""},{"$f":"IF(DMA!$E472=\"\",\"\",DMA!$E472/5*100)","v":""},{"$f":"IF(DMA!J472=\"\",\"\",DMA!J472)","v":""},{"$f":"IF(DMA!L472=\"\",\"\",DMA!L472)","v":""},{"$f":"IF(DMA!T472=\"\",\"\",DMA!T472)","v":""}]
[null,null,null,null,null,null,null,null,null,null,null,null,null,null,null,null,null,null,null,null,null,null,null,null,null,null,1,{"$f":"IF(DMA!A473=\"\",\"\",DMA!A473)","v":""},{"$f":"IF(DMA!$E473=\"\",\"\",DMA!$E473/5*100)","v":""},{"$f":"IF(DMA!J473=\"\",\"\",DMA!J473)","v":""},{"$f":"IF(DMA!L473=\"\",\"\",DMA!L473)","v":""},{"$f":"IF(DMA!T473=\"\",\"\",DMA!T473)","v":""}]
[null,null,null,null,null,null,null,null,null,null,null,null,null,null,null,null,null,null,null,null,null,null,null,null,null,null,1,{"$f":"IF(DMA!A474=\"\",\"\",DMA!A474)","v":""},{"$f":"IF(DMA!$E474=\"\",\"\",DMA!$E474/5*100)","v":""},{"$f":"IF(DMA!J474=\"\",\"\",DMA!J474)","v":""},{"$f":"IF(DMA!L474=\"\",\"\",DMA!L474)","v":""},{"$f":"IF(DMA!T474=\"\",\"\",DMA!T474)","v":""}]
[null,null,null,null,null,null,null,null,null,null,null,null,null,null,null,null,null,null,null,null,null,null,null,null,null,null,1,{"$f":"IF(DMA!A475=\"\",\"\",DMA!A475)","v":""},{"$f":"IF(DMA!$E475=\"\",\"\",DMA!$E475/5*100)","v":""},{"$f":"IF(DMA!J475=\"\",\"\",DMA!J475)","v":""},{"$f":"IF(DMA!L475=\"\",\"\",DMA!L475)","v":""},{"$f":"IF(DMA!T475=\"\",\"\",DMA!T475)","v":""}]
[null,null,null,null,null,null,null,null,null,null,null,null,null,null,null,null,null,null,null,null,null,null,null,null,null,null,1,{"$f":"IF(DMA!A476=\"\",\"\",DMA!A476)","v":""},{"$f":"IF(DMA!$E476=\"\",\"\",DMA!$E476/5*100)","v":""},{"$f":"IF(DMA!J476=\"\",\"\",DMA!J476)","v":""},{"$f":"IF(DMA!L476=\"\",\"\",DMA!L476)","v":""},{"$f":"IF(DMA!T476=\"\",\"\",DMA!T476)","v":""}]
[null,null,null,null,null,null,null,null,null,null,null,null,null,null,null,null,null,null,null,null,null,null,null,null,null,null,1,{"$f":"IF(DMA!A477=\"\",\"\",DMA!A477)","v":""},{"$f":"IF(DMA!$E477=\"\",\"\",DMA!$E477/5*100)","v":""},{"$f":"IF(DMA!J477=\"\",\"\",DMA!J477)","v":""},{"$f":"IF(DMA!L477=\"\",\"\",DMA!L477)","v":""},{"$f":"IF(DMA!T477=\"\",\"\",DMA!T477)","v":""}]
[null,null,null,null,null,null,null,null,null,null,null,null,null,null,null,null,null,null,null,null,null,null,null,null,null,null,1,{"$f":"IF(DMA!A478=\"\",\"\",DMA!A478)","v":""},{"$f":"IF(DMA!$E478=\"\",\"\",DMA!$E478/5*100)","v":""},{"$f":"IF(DMA!J478=\"\",\"\",DMA!J478)","v":""},{"$f":"IF(DMA!L478=\"\",\"\",DMA!L478)","v":""},{"$f":"IF(DMA!T478=\"\",\"\",DMA!T478)","v":""}]
[null,null,null,null,null,null,null,null,null,null,null,null,null,null,null,null,null,null,null,null,null,null,null,null,null,null,1,{"$f":"IF(DMA!A479=\"\",\"\",DMA!A479)","v":""},{"$f":"IF(DMA!$E479=\"\",\"\",DMA!$E479/5*100)","v":""},{"$f":"IF(DMA!J479=\"\",\"\",DMA!J479)","v":""},{"$f":"IF(DMA!L479=\"\",\"\",DMA!L479)","v":""},{"$f":"IF(DMA!T479=\"\",\"\",DMA!T479)","v":""}]
[null,null,null,null,null,null,null,null,null,null,null,null,null,null,null,null,null,null,null,null,null,null,null,null,null,null,1,{"$f":"IF(DMA!A480=\"\",\"\",DMA!A480)","v":""},{"$f":"IF(DMA!$E480=\"\",\"\",DMA!$E480/5*100)","v":""},{"$f":"IF(DMA!J480=\"\",\"\",DMA!J480)","v":""},{"$f":"IF(DMA!L480=\"\",\"\",DMA!L480)","v":""},{"$f":"IF(DMA!T480=\"\",\"\",DMA!T480)","v":""}]
[null,null,null,null,null,null,null,null,null,null,null,null,null,null,null,null,null,null,null,null,null,null,null,null,null,null,1,{"$f":"IF(DMA!A481=\"\",\"\",DMA!A481)","v":""},{"$f":"IF(DMA!$E481=\"\",\"\",DMA!$E481/5*100)","v":""},{"$f":"IF(DMA!J481=\"\",\"\",DMA!J481)","v":""},{"$f":"IF(DMA!L481=\"\",\"\",DMA!L481)","v":""},{"$f":"IF(DMA!T481=\"\",\"\",DMA!T481)","v":""}]
[null,null,null,null,null,null,null,null,null,null,null,null,null,null,null,null,null,null,null,null,null,null,null,null,null,null,1,{"$f":"IF(DMA!A482=\"\",\"\",DMA!A482)","v":""},{"$f":"IF(DMA!$E482=\"\",\"\",DMA!$E482/5*100)","v":""},{"$f":"IF(DMA!J482=\"\",\"\",DMA!J482)","v":""},{"$f":"IF(DMA!L482=\"\",\"\",DMA!L482)","v":""},{"$f":"IF(DMA!T482=\"\",\"\",DMA!T482)","v":""}]
[null,null,null,null,null,null,null,null,null,null,null,null,null,null,null,null,null,null,null,null,null,null,null,null,null,null,1,{"$f":"IF(DMA!A483=\"\",\"\",DMA!A483)","v":""},{"$f":"IF(DMA!$E483=\"\",\"\",DMA!$E483/5*100)","v":""},{"$f":"IF(DMA!J483=\"\",\"\",DMA!J483)","v":""},{"$f":"IF(DMA!L483=\"\",\"\",DMA!L483)","v":""},{"$f":"IF(DMA!T483=\"\",\"\",DMA!T483)","v":""}]
[null,null,null,null,null,null,null,null,null,null,null,null,null,null,null,null,null,null,null,null,null,null,null,null,null,null,1,{"$f":"IF(DMA!A484=\"\",\"\",DMA!A484)","v":""},{"$f":"IF(DMA!$E484=\"\",\"\",DMA!$E484/5*100)","v":""},{"$f":"IF(DMA!J484=\"\",\"\",DMA!J484)","v":""},{"$f":"IF(DMA!L484=\"\",\"\",DMA!L484)","v":""},{"$f":"IF(DMA!T484=\"\",\"\",DMA!T484)","v":""}]
[null,null,null,null,null,null,null,null,null,null,null,null,null,null,null,null,null,null,null,null,null,null,null,null,null,null,1,{"$f":"IF(DMA!A485=\"\",\"\",DMA!A485)","v":""},{"$f":"IF(DMA!$E485=\"\",\"\",DMA!$E485/5*100)","v":""},{"$f":"IF(DMA!J485=\"\",\"\",DMA!J485)","v":""},{"$f":"IF(DMA!L485=\"\",\"\",DMA!L485)","v":""},{"$f":"IF(DMA!T485=\"\",\"\",DMA!T485)","v":""}]
[null,null,null,null,null,null,null,null,null,null,null,null,null,null,null,null,null,null,null,null,null,null,null,null,null,null,1,{"$f":"IF(DMA!A486=\"\",\"\",DMA!A486)","v":""},{"$f":"IF(DMA!$E486=\"\",\"\",DMA!$E486/5*100)","v":""},{"$f":"IF(DMA!J486=\"\",\"\",DMA!J486)","v":""},{"$f":"IF(DMA!L486=\"\",\"\",DMA!L486)","v":""},{"$f":"IF(DMA!T486=\"\",\"\",DMA!T486)","v":""}]
[null,null,null,null,null,null,null,null,null,null,null,null,null,null,null,null,null,null,null,null,null,null,null,null,null,null,1,{"$f":"IF(DMA!A487=\"\",\"\",DMA!A487)","v":""},{"$f":"IF(DMA!$E487=\"\",\"\",DMA!$E487/5*100)","v":""},{"$f":"IF(DMA!J487=\"\",\"\",DMA!J487)","v":""},{"$f":"IF(DMA!L487=\"\",\"\",DMA!L487)","v":""},{"$f":"IF(DMA!T487=\"\",\"\",DMA!T487)","v":""}]
[null,null,null,null,null,null,null,null,null,null,null,null,null,null,null,null,null,null,null,null,null,null,null,null,null,null,1,{"$f":"IF(DMA!A488=\"\",\"\",DMA!A488)","v":""},{"$f":"IF(DMA!$E488=\"\",\"\",DMA!$E488/5*100)","v":""},{"$f":"IF(DMA!J488=\"\",\"\",DMA!J488)","v":""},{"$f":"IF(DMA!L488=\"\",\"\",DMA!L488)","v":""},{"$f":"IF(DMA!T488=\"\",\"\",DMA!T488)","v":""}]
[null,null,null,null,null,null,null,null,null,null,null,null,null,null,null,null,null,null,null,null,null,null,null,null,null,null,1,{"$f":"IF(DMA!A489=\"\",\"\",DMA!A489)","v":""},{"$f":"IF(DMA!$E489=\"\",\"\",DMA!$E489/5*100)","v":""},{"$f":"IF(DMA!J489=\"\",\"\",DMA!J489)","v":""},{"$f":"IF(DMA!L489=\"\",\"\",DMA!L489)","v":""},{"$f":"IF(DMA!T489=\"\",\"\",DMA!T489)","v":""}]
[null,null,null,null,null,null,null,null,null,null,null,null,null,null,null,null,null,null,null,null,null,null,null,null,null,null,1,{"$f":"IF(DMA!A490=\"\",\"\",DMA!A490)","v":""},{"$f":"IF(DMA!$E490=\"\",\"\",DMA!$E490/5*100)","v":""},{"$f":"IF(DMA!J490=\"\",\"\",DMA!J490)","v":""},{"$f":"IF(DMA!L490=\"\",\"\",DMA!L490)","v":""},{"$f":"IF(DMA!T490=\"\",\"\",DMA!T490)","v":""}]
[null,null,null,null,null,null,null,null,null,null,null,null,null,null,null,null,null,null,null,null,null,null,null,null,null,null,1,{"$f":"IF(DMA!A491=\"\",\"\",DMA!A491)","v":""},{"$f":"IF(DMA!$E491=\"\",\"\",DMA!$E491/5*100)","v":""},{"$f":"IF(DMA!J491=\"\",\"\",DMA!J491)","v":""},{"$f":"IF(DMA!L491=\"\",\"\",DMA!L491)","v":""},{"$f":"IF(DMA!T491=\"\",\"\",DMA!T491)","v":""}]
[null,null,null,null,null,null,null,null,null,null,null,null,null,null,null,null,null,null,null,null,null,null,null,null,null,null,1,{"$f":"IF(DMA!A492=\"\",\"\",DMA!A492)","v":""},{"$f":"IF(DMA!$E492=\"\",\"\",DMA!$E492/5*100)","v":""},{"$f":"IF(DMA!J492=\"\",\"\",DMA!J492)","v":""},{"$f":"IF(DMA!L492=\"\",\"\",DMA!L492)","v":""},{"$f":"IF(DMA!T492=\"\",\"\",DMA!T492)","v":""}]
[null,null,null,null,null,null,null,null,null,null,null,null,null,null,null,null,null,null,null,null,null,null,null,null,null,null,1,{"$f":"IF(DMA!A493=\"\",\"\",DMA!A493)","v":""},{"$f":"IF(DMA!$E493=\"\",\"\",DMA!$E493/5*100)","v":""},{"$f":"IF(DMA!J493=\"\",\"\",DMA!J493)","v":""},{"$f":"IF(DMA!L493=\"\",\"\",DMA!L493)","v":""},{"$f":"IF(DMA!T493=\"\",\"\",DMA!T493)","v":""}]
[null,null,null,null,null,null,null,null,null,null,null,null,null,null,null,null,null,null,null,null,null,null,null,null,null,null,1,{"$f":"IF(DMA!A494=\"\",\"\",DMA!A494)","v":""},{"$f":"IF(DMA!$E494=\"\",\"\",DMA!$E494/5*100)","v":""},{"$f":"IF(DMA!J494=\"\",\"\",DMA!J494)","v":""},{"$f":"IF(DMA!L494=\"\",\"\",DMA!L494)","v":""},{"$f":"IF(DMA!T494=\"\",\"\",DMA!T494)","v":""}]
[null,null,null,null,null,null,null,null,null,null,null,null,null,null,null,null,null,null,null,null,null,null,null,null,null,null,1,{"$f":"IF(DMA!A495=\"\",\"\",DMA!A495)","v":""},{"$f":"IF(DMA!$E495=\"\",\"\",DMA!$E495/5*100)","v":""},{"$f":"IF(DMA!J495=\"\",\"\",DMA!J495)","v":""},{"$f":"IF(DMA!L495=\"\",\"\",DMA!L495)","v":""},{"$f":"IF(DMA!T495=\"\",\"\",DMA!T495)","v":""}]
[null,null,null,null,null,null,null,null,null,null,null,null,null,null,null,null,null,null,null,null,null,null,null,null,null,null,1,{"$f":"IF(DMA!A496=\"\",\"\",DMA!A496)","v":""},{"$f":"IF(DMA!$E496=\"\",\"\",DMA!$E496/5*100)","v":""},{"$f":"IF(DMA!J496=\"\",\"\",DMA!J496)","v":""},{"$f":"IF(DMA!L496=\"\",\"\",DMA!L496)","v":""},{"$f":"IF(DMA!T496=\"\",\"\",DMA!T496)","v":""}]
[null,null,null,null,null,null,null,null,null,null,null,null,null,null,null,null,null,null,null,null,null,null,null,null,null,null,1,{"$f":"IF(DMA!A497=\"\",\"\",DMA!A497)","v":""},{"$f":"IF(DMA!$E497=\"\",\"\",DMA!$E497/5*100)","v":""},{"$f":"IF(DMA!J497=\"\",\"\",DMA!J497)","v":""},{"$f":"IF(DMA!L497=\"\",\"\",DMA!L497)","v":""},{"$f":"IF(DMA!T497=\"\",\"\",DMA!T497)","v":""}]
[null,null,null,null,null,null,null,null,null,null,null,null,null,null,null,null,null,null,null,null,null,null,null,null,null,null,1,{"$f":"IF(DMA!A498=\"\",\"\",DMA!A498)","v":""},{"$f":"IF(DMA!$E498=\"\",\"\",DMA!$E498/5*100)","v":""},{"$f":"IF(DMA!J498=\"\",\"\",DMA!J498)","v":""},{"$f":"IF(DMA!L498=\"\",\"\",DMA!L498)","v":""},{"$f":"IF(DMA!T498=\"\",\"\",DMA!T498)","v":""}]
[null,null,null,null,null,null,null,null,null,null,null,null,null,null,null,null,null,null,null,null,null,null,null,null,null,null,1,{"$f":"IF(DMA!A499=\"\",\"\",DMA!A499)","v":""},{"$f":"IF(DMA!$E499=\"\",\"\",DMA!$E499/5*100)","v":""},{"$f":"IF(DMA!J499=\"\",\"\",DMA!J499)","v":""},{"$f":"IF(DMA!L499=\"\",\"\",DMA!L499)","v":""},{"$f":"IF(DMA!T499=\"\",\"\",DMA!T499)","v":""}]
[null,null,null,null,null,null,null,null,null,null,null,null,null,null,null,null,null,null,null,null,null,null,null,null,null,null,1,{"$f":"IF(DMA!A500=\"\",\"\",DMA!A500)","v":""},{"$f":"IF(DMA!$E500=\"\",\"\",DMA!$E500/5*100)","v":20},{"$f":"IF(DMA!J500=\"\",\"\",DMA!J500)","v":""},{"$f":"IF(DMA!L500=\"\",\"\",DMA!L500)","v":""},{"$f":"IF(DMA!T500=\"\",\"\",DMA!T500)","v":""}]
[null,null,null,null,null,null,null,null,null,null,null,null,null,null,null,null,null,null,null,null,null,null,null,null,null,null,1,{"$f":"IF(DMA!A501=\"\",\"\",DMA!A501)","v":""},{"$f":"IF(DMA!$E501=\"\",\"\",DMA!$E501/5*100)","v":""},{"$f":"IF(DMA!J501=\"\",\"\",DMA!J501)","v":""},{"$f":"IF(DMA!L501=\"\",\"\",DMA!L501)","v":""},{"$f":"IF(DMA!T501=\"\",\"\",DMA!T501)","v":""}]
[null,null,null,null,null,null,null,null,null,null,null,null,null,null,null,null,null,null,null,null,null,null,null,null,null,null,1,{"$f":"IF(DMA!A502=\"\",\"\",DMA!A502)","v":""},{"$f":"IF(DMA!$E502=\"\",\"\",DMA!$E502/5*100)","v":""},{"$f":"IF(DMA!J502=\"\",\"\",DMA!J502)","v":""},{"$f":"IF(DMA!L502=\"\",\"\",DMA!L502)","v":""},{"$f":"IF(DMA!T502=\"\",\"\",DMA!T502)","v":""}]
[null,null,null,null,null,null,null,null,null,null,null,null,null,null,null,null,null,null,null,null,null,null,null,null,null,null,1,{"$f":"IF(DMA!A503=\"\",\"\",DMA!A503)","v":""},{"$f":"IF(DMA!$E503=\"\",\"\",DMA!$E503/5*100)","v":""},{"$f":"IF(DMA!J503=\"\",\"\",DMA!J503)","v":""},{"$f":"IF(DMA!L503=\"\",\"\",DMA!L503)","v":""},{"$f":"IF(DMA!T503=\"\",\"\",DMA!T503)","v":""}]

{"sheet":"Graphs","index":7,"n_rows":208,"n_cols":67,"rows_kept":208,"cut":false,"hidden":false,"merged":[]}
[]
[]
["RIPARIAN VEGETATION VARIABLES",null,null,null,null,null,"Plant Diversity Index ",null,null,null,null,null,null,null,null,null,null,null,null,null,null,null,null,null,null,null,null,null,null,null,null,null,null,null,"FREQUENCY DISTRIBUTIONS"]
[]
[null,null,null,"TOTAL*=",{"$f":"SUM(B13:B199)","v":0},null,{"$f":"IF(A13=\"\",\"\",COUNT(B13:B199)*AVERAGE(B13:B199)/STDEV(B13:B199))","v":""},null,null,null,null,null,null,null,null,null,null,null,null,null,null,null,null,null,null,null,null,null,null,null,null,null,null,null,"Woody Plant Height",null,null,null,null,null,"Percentile Heights"]
[]
[null,null,null,"* If Total is not greater than 100, some species in the data are not accounted for in the analysis.  ",null,null,null,null,null,null,null,null,null,null,null,null,null,null,null,null,null,null,null,null,null,null,null,null,null,null,null,null,null,null,"Class  ","Height range","Total plants","Height","Frequency",null,"85th Percentile","50th Percentile","25th Percentile"]
[null,null,null,"   Check the plant codes to be certain that they are correct.",null,null,null,null,null,null,null,null,null,null,null,null,null,null,null,null,null,null,null,null,null,null,null,null,null,null,null,null,null,null,1,"<.5",{"$f":"COUNTIF(DMA!D$5:D$503,1)","v":0},0.4,{"$f":"IF(AK8<>0,100*(AK8/AK$14),\"\")","v":""}]
[" ",null,null,"** If corrections are made, clear the Species Plant Code list below then re-run the macro",null,null,null,null,null,null,null,null,null,null,null,null,null,null,null,null,null,null,null,null,null,null,null,null,null,null,null,null,null,null,2,".5 - 1",{"$f":"COUNTIF(DMA!D$5:D$503,2)","v":0},0.75,{"$f":"IF(AK9<>0,100*(SUM(AK8:AK9)/AK$14),\"\")","v":""},null,{"$f":"IF($AM9>=85,IF($AM8<85,$AL9-(($AM9-85)/($AM9-$AM8)*($AL9-$AL8)),\"\"),\"\")","v":""},{"$f":"IF($AM9>=50,IF($AM8<50,$AL9-(($AM9-50)/($AM9-$AM8)*($AL9-$AL8)),\"\"),\"\")","v":""},{"$f":"IF($AM9>=25,IF($AM8<25,$AL9-(($AM9-25)/($AM9-$AM8)*($AL9-$AL8)),\"\"),\"\")","v":""}]
[null,null,null,null,null,null,null,null,null,null,null,null,null,null,null,null,null,null,null,null,null,null,"              ALL WOODY SPECIES COMBINED",null,null,"ESTIMATED TOTAL POPULATION WOODY PLANTS",null,null,null,null,null,null,null,null,3,"1 - 2",{"$f":"COUNTIF(DMA!D$5:D$503,3)","v":0},1.5,{"$f":"IF(AK10<>0,100*(SUM(AK8:AK10)/AK$14),\"\")","v":""},null,{"$f":"IF($AM10>=85,IF($AM9<85,$AL10-(($AM10-85)/($AM10-$AM9)*($AL10-$AL9)),\"\"),\"\")","v":""},{"$f":"IF($AM10>=50,IF($AM9<50,$AL10-(($AM10-50)/($AM10-$AM9)*($AL10-$AL9)),\"\"),\"\")","v":""},{"$f":"IF($AM10>=25,IF($AM9<25,$AL10-(($AM10-25)/($AM10-$AM9)*($AL10-$AL9)),\"\"),\"\")","v":""}]
["               PLANT SPECIES COMPOSITION",null,null,null,"     STUBBLE HEIGHT",null,null,"  WOODY HEIGHT",null,null,"   WOODY USE",null,null,"WOODY SPECIES",null,"WOODY AGE Class",null,null," ",null,null," ",{"$f":"IF(SUM(AC13:AC55)=0,\"\",SUM(AC13:AC55)/SUM(P13:P199))","v":""},{"$f":"IF(SUM(AD13:AD55)=0,\"\",SUM(AD13:AD55)/SUM(Q13:Q199))","v":""},{"$f":"IF(SUM(AE13:AE55)=0,\"\",SUM(AE13:AE55)/SUM(R13:R199))","v":""},"Adjusted for sampling bias",null,null,null,null,null,null,null,null,4,"2 - 4",{"$f":"COUNTIF(DMA!D$5:D$503,4)","v":0},3,{"$f":"IF(AK11<>0,100*(SUM(AK8:AK11)/AK$14),\"\")","v":""},null,{"$f":"IF($AM11>=85,IF($AM10<85,$AL11-(($AM11-85)/($AM11-$AM10)*($AL11-$AL10)),\"\"),\"\")","v":""},{"$f":"IF($AM11>=50,IF($AM10<50,$AL11-(($AM11-50)/($AM11-$AM10)*($AL11-$AL10)),\"\"),\"\")","v":""},{"$f":"IF($AM11>=25,IF($AM10<25,$AL11-(($AM11-25)/($AM11-$AM10)*($AL11-$AL10)),\"\"),\"\")","v":""},null,null,null,null,null,null,null,null,"WOODY AGE Class - STATISTICS",null,null,null,null,null,null,null,null,null,null,null,null,"Sample points (quadrats)"]
["Species Plant Code","Greenline Composition ","Cover","Constancy","Key Species","N","Avg Height (in)","Plant Code","N","Avg Height (mt)","Key Species","N","Avg Use (%)","Frequency              (N)","Key Species","Seedlings","Young","Mature","Rhizom-atous*","N","Plots","Avg plants per plot","Conf Interval as % of Estimated population - SEEDLINGS","Conf Interval as % of Estimated population - YOUNG","Conf Interval as % of Estimated population - MATURE","SEEDLINGS","YOUNG","MATURE",null,null,null,null,null,null,5,"4 - 8",{"$f":"COUNTIF(DMA!D$5:D$503,5)","v":0},6,{"$f":"IF(AK12<>0,100*(SUM(AK8:AK12)/AK$14),\"\")","v":""},null,{"$f":"IF($AM12>=85,IF($AM11<85,$AL12-(($AM12-85)/($AM12-$AM11)*($AL12-$AL11)),\"\"),\"\")","v":""},{"$f":"IF($AM12>=50,IF($AM11<50,$AL12-(($AM12-50)/($AM12-$AM11)*($AL12-$AL11)),\"\"),\"\")","v":""},{"$f":"IF($AM12>=25,IF($AM11<25,$AL12-(($AM12-25)/($AM12-$AM11)*($AL12-$AL11)),\"\"),\"\")","v":""},null,null,null,null,null,null,null,null,"Confidence Interval SEEDLINGS","Confidence Interval YOUNG","Confidence Interval MATURE","Standard deviation SEEDLINGS","Standard deviation YOUNG","Standard deviation MATURE","Average SEEDLINGS","Average YOUNG","Average MATURE",null,"Stubble Plants","Woody Plants",null,"Count seedlings","Count Young","Count Mature"]
[null,null,null,null,null,null,null,null,null,null,null,null,null,null,null,null,null,null,null,null,null,null,null,null,null,null,null,null,{"$f":"IF(W13=\"\",\"\",W13*P13)","v":""},{"$f":"IF(X13=\"\",\"\",X13*Q13)","v":""},"",null,null,null,6,">8",{"$f":"COUNTIF(DMA!D$5:D$503,6)","v":0},12,{"$f":"IF(AK13<>0,100*(SUM(AK8:AK13)/AK$14),\"\")","v":""},null,{"$f":"IF($AM13>=85,IF($AM12<85,$AL13-(($AM13-85)/($AM13-$AM12)*($AL13-$AL12)),\"\"),\"\")","v":""},{"$f":"IF($AM13>=50,IF($AM12<50,$AL13-(($AM13-50)/($AM13-$AM12)*($AL13-$AL12)),\"\"),\"\")","v":""},{"$f":"IF($AM13>=25,IF($AM12<25,$AL13-(($AM13-25)/($AM13-$AM12)*($AL13-$AL12)),\"\"),\"\")","v":""},null,null,null,null,null,null,null,null,{"$f":"IF(BC13=\"\",\"\",IF(BC13=1,\"\",IF(BC13=0,\"\",CONFIDENCE(0.05,BC13,BM13))))","v":""},{"$f":"IF(BD13=\"\",\"\",IF(BD13=1,\"\",IF(BD13=0,\"\",CONFIDENCE(0.05,BD13,BN13))))","v":""},{"$f":"IF(BE13=\"\",\"\",IF(BE13=1,\"\",IF(BE13=0,\"\",CONFIDENCE(0.05,BE13,BO13))))","v":""},{"$f":"IF(P13=\"\",\"\",IF(P13=0,\"\",SQRT(SUMIF(DMA!$DK$5:$DK$503,Graphs!$O13,DMA!DL$5:DL$503))/COUNTIF(DMA!$DK$5:$DK$503,Graphs!$O13)))","v":""},{"$f":"IF(Q13=\"\",\"\",IF(Q13=0,\"\",SQRT(SUMIF(DMA!$DK$5:$DK$503,Graphs!$O13,DMA!DM$5:DM$503))/COUNTIF(DMA!$DK$5:$DK$503,Graphs!$O13)))","v":""},{"$f":"IF(R13=\"\",\"\",IF(R13=0,\"\",SQRT(SUMIF(DMA!$DK$5:$DK$503,Graphs!$O13,DMA!DN$5:DN$503))/COUNTIF(DMA!$DK$5:$DK$503,Graphs!$O13)))","v":""},{"$f":"IF($P13=\"\",\"\",IF(P13=0,\"\",AVERAGEIF(DMA!$N$5:$N$503,Graphs!$O13,DMA!O$5:O$503)))","v":""},{"$f":"IF($Q13=\"\",\"\",IF(Q13=0,\"\",AVERAGEIF(DMA!$N$5:$N$503,Graphs!$O13,DMA!P$5:P$503)))","v":""},{"$f":"IF($R13=\"\",\"\",IF(R13=0,\"\",AVERAGEIF(DMA!$N$5:$N$503,Graphs!$O13,DMA!Q$5:Q$503)))","v":""},null,null,null,null,{"$f":"IF($O13=\"\",\"\",COUNTIFS(DMA!$N$5:$N$503,Graphs!$O13,DMA!O$5:O$503,\">0\"))","v":""},{"$f":"IF($O13=\"\",\"\",COUNTIFS(DMA!$N$5:$N$503,Graphs!$O13,DMA!P$5:P$503,\">0\"))","v":""},{"$f":"IF($O13=\"\",\"\",COUNTIFS(DMA!$N$5:$N$503,Graphs!$O13,DMA!Q$5:Q$503,\">0\"))","v":""}]
[null,null,null,null,null,null,null,null,null,null,null,null,null,null,null,null,null,null,null,null,null,null,null,null,null,null,null,null,{"$f":"IF(W14=\"\",\"\",W14*P14)","v":""},"","",null,null,null,"Total",null,{"$f":"SUM(AK8:AK13)","v":0},null,null,null,null,null,null,null,null,null,null,null,null,null,null,{"$f":"IF(BC14=\"\",\"\",IF(BC14=1,\"\",IF(BC14=0,\"\",CONFIDENCE(0.05,BC14,BM14))))","v":""},{"$f":"IF(BD14=\"\",\"\",IF(BD14=1,\"\",IF(BD14=0,\"\",CONFIDENCE(0.05,BD14,BN14))))","v":""},{"$f":"IF(BE14=\"\",\"\",IF(BE14=1,\"\",IF(BE14=0,\"\",CONFIDENCE(0.05,BE14,BO14))))","v":""},{"$f":"IF(P14=\"\",\"\",IF(P14=0,\"\",SQRT(SUMIF(DMA!$DK$5:$DK$503,Graphs!$O14,DMA!DL$5:DL$503))/COUNTIF(DMA!$DK$5:$DK$503,Graphs!$O14)))","v":""},{"$f":"IF(Q14=\"\",\"\",IF(Q14=0,\"\",SQRT(SUMIF(DMA!$DK$5:$DK$503,Graphs!$O14,DMA!DM$5:DM$503))/COUNTIF(DMA!$DK$5:$DK$503,Graphs!$O14)))","v":""},{"$f":"IF(R14=\"\",\"\",IF(R14=0,\"\",SQRT(SUMIF(DMA!$DK$5:$DK$503,Graphs!$O14,DMA!DN$5:DN$503))/COUNTIF(DMA!$DK$5:$DK$503,Graphs!$O14)))","v":""},{"$f":"IF($P14=\"\",\"\",IF(P14=0,\"\",AVERAGEIF(DMA!$N$5:$N$503,Graphs!$O14,DMA!O$5:O$503)))","v":""},{"$f":"IF($Q14=\"\",\"\",IF(Q14=0,\"\",AVERAGEIF(DMA!$N$5:$N$503,Graphs!$O14,DMA!P$5:P$503)))","v":""},{"$f":"IF($R14=\"\",\"\",IF(R14=0,\"\",AVERAGEIF(DMA!$N$5:$N$503,Graphs!$O14,DMA!Q$5:Q$503)))","v":""},null,null,null,null,{"$f":"IF($O14=\"\",\"\",COUNTIFS(DMA!$N$5:$N$503,Graphs!$O14,DMA!O$5:O$503,\">0\"))","v":""},{"$f":"IF($O14=\"\",\"\",COUNTIFS(DMA!$N$5:$N$503,Graphs!$O14,DMA!P$5:P$503,\">0\"))","v":""},{"$f":"IF($O14=\"\",\"\",COUNTIFS(DMA!$N$5:$N$503,Graphs!$O14,DMA!Q$5:Q$503,\">0\"))","v":""}]
[null,null,null,null,null,null,null,null,null,null,null,null,null,null,null,null,null,null,null,null,null,null,null,null,null,null,null,null,"","","",null,null,null,null,null,null,null,null,null,null,null,null,null,null,null,null,null,null,null,null,"","","",{"$f":"IF(P15=\"\",\"\",IF(P15=0,\"\",SQRT(SUMIF(DMA!$DK$5:$DK$503,Graphs!$O15,DMA!DL$5:DL$503))/COUNTIF(DMA!$DK$5:$DK$503,Graphs!$O15)))","v":""},{"$f":"IF(Q15=\"\",\"\",IF(Q15=0,\"\",SQRT(SUMIF(DMA!$DK$5:$DK$503,Graphs!$O15,DMA!DM$5:DM$503))/COUNTIF(DMA!$DK$5:$DK$503,Graphs!$O15)))","v":""},{"$f":"IF(R15=\"\",\"\",IF(R15=0,\"\",SQRT(SUMIF(DMA!$DK$5:$DK$503,Graphs!$O15,DMA!DN$5:DN$503))/COUNTIF(DMA!$DK$5:$DK$503,Graphs!$O15)))","v":""},{"$f":"IF($P15=\"\",\"\",IF(P15=0,\"\",AVERAGEIF(DMA!$N$5:$N$503,Graphs!$O15,DMA!O$5:O$503)))","v":""},{"$f":"IF($Q15=\"\",\"\",IF(Q15=0,\"\",AVERAGEIF(DMA!$N$5:$N$503,Graphs!$O15,DMA!P$5:P$503)))","v":""},{"$f":"IF($R15=\"\",\"\",IF(R15=0,\"\",AVERAGEIF(DMA!$N$5:$N$503,Graphs!$O15,DMA!Q$5:Q$503)))","v":""},null,null,null,null,{"$f":"IF($O15=\"\",\"\",COUNTIFS(DMA!$N$5:$N$503,Graphs!$O15,DMA!O$5:O$503,\">0\"))","v":""},{"$f":"IF($O15=\"\",\"\",COUNTIFS(DMA!$N$5:$N$503,Graphs!$O15,DMA!P$5:P$503,\">0\"))","v":""},{"$f":"IF($O15=\"\",\"\",COUNTIFS(DMA!$N$5:$N$503,Graphs!$O15,DMA!Q$5:Q$503,\">0\"))","v":""}]
[null,null,null,null,null,null,null,null,null,null,null,null,null,null,null,null,null,null,null,null,null,null,null,null,null,null,null,null,"","","",null,null,null,null,null,null,null,null,null,null,null,null,null,null,null,null,null,null,null,null,"","","",{"$f":"IF(P16=\"\",\"\",IF(P16=0,\"\",SQRT(SUMIF(DMA!$DK$5:$DK$503,Graphs!$O16,DMA!DL$5:DL$503))/COUNTIF(DMA!$DK$5:$DK$503,Graphs!$O16)))","v":""},{"$f":"IF(Q16=\"\",\"\",IF(Q16=0,\"\",SQRT(SUMIF(DMA!$DK$5:$DK$503,Graphs!$O16,DMA!DM$5:DM$503))/COUNTIF(DMA!$DK$5:$DK$503,Graphs!$O16)))","v":""},{"$f":"IF(R16=\"\",\"\",IF(R16=0,\"\",SQRT(SUMIF(DMA!$DK$5:$DK$503,Graphs!$O16,DMA!DN$5:DN$503))/COUNTIF(DMA!$DK$5:$DK$503,Graphs!$O16)))","v":""},{"$f":"IF($P16=\"\",\"\",IF(P16=0,\"\",AVERAGEIF(DMA!$N$5:$N$503,Graphs!$O16,DMA!O$5:O$503)))","v":""},{"$f":"IF($Q16=\"\",\"\",IF(Q16=0,\"\",AVERAGEIF(DMA!$N$5:$N$503,Graphs!$O16,DMA!P$5:P$503)))","v":""},{"$f":"IF($R16=\"\",\"\",IF(R16=0,\"\",AVERAGEIF(DMA!$N$5:$N$503,Graphs!$O16,DMA!Q$5:Q$503)))","v":""},null,null,null,null,{"$f":"IF($O16=\"\",\"\",COUNTIFS(DMA!$N$5:$N$503,Graphs!$O16,DMA!O$5:O$503,\">0\"))","v":""},{"$f":"IF($O16=\"\",\"\",COUNTIFS(DMA!$N$5:$N$503,Graphs!$O16,DMA!P$5:P$503,\">0\"))","v":""},{"$f":"IF($O16=\"\",\"\",COUNTIFS(DMA!$N$5:$N$503,Graphs!$O16,DMA!Q$5:Q$503,\">0\"))","v":""}]
[null,null,null,null,null,null,null,null,null,null,null,null,null,null,null,null,null,null,null,null,null,null,null,null,null,null,null,null,"","","",null,null,null,null,null,null,null,null,null,null,null,null,null,null,null,null,null,null,null,null,"","","",{"$f":"IF(P17=\"\",\"\",IF(P17=0,\"\",SQRT(SUMIF(DMA!$DK$5:$DK$503,Graphs!$O17,DMA!DL$5:DL$503))/COUNTIF(DMA!$DK$5:$DK$503,Graphs!$O17)))","v":""},{"$f":"IF(Q17=\"\",\"\",IF(Q17=0,\"\",SQRT(SUMIF(DMA!$DK$5:$DK$503,Graphs!$O17,DMA!DM$5:DM$503))/COUNTIF(DMA!$DK$5:$DK$503,Graphs!$O17)))","v":""},{"$f":"IF(R17=\"\",\"\",IF(R17=0,\"\",SQRT(SUMIF(DMA!$DK$5:$DK$503,Graphs!$O17,DMA!DN$5:DN$503))/COUNTIF(DMA!$DK$5:$DK$503,Graphs!$O17)))","v":""},{"$f":"IF($P17=\"\",\"\",IF(P17=0,\"\",AVERAGEIF(DMA!$N$5:$N$503,Graphs!$O17,DMA!O$5:O$503)))","v":""},{"$f":"IF($Q17=\"\",\"\",IF(Q17=0,\"\",AVERAGEIF(DMA!$N$5:$N$503,Graphs!$O17,DMA!P$5:P$503)))","v":""},{"$f":"IF($R17=\"\",\"\",IF(R17=0,\"\",AVERAGEIF(DMA!$N$5:$N$503,Graphs!$O17,DMA!Q$5:Q$503)))","v":""},null,null,null,null,{"$f":"IF($O17=\"\",\"\",COUNTIFS(DMA!$N$5:$N$503,Graphs!$O17,DMA!O$5:O$503,\">0\"))","v":""},{"$f":"IF($O17=\"\",\"\",COUNTIFS(DMA!$N$5:$N$503,Graphs!$O17,DMA!P$5:P$503,\">0\"))","v":""},{"$f":"IF($O17=\"\",\"\",COUNTIFS(DMA!$N$5:$N$503,Graphs!$O17,DMA!Q$5:Q$503,\">0\"))","v":""}]
[null,null,null,null,null,null,null,null,null,null,null,null,null,null,null,null,null,null,null,null,null,null,null,null,null,null,null,null,"","","",null,null,null,null,null,null,null,null,null,null,null,null,null,null,null,null,null,null,null,null,"","","",{"$f":"IF(P18=\"\",\"\",IF(P18=0,\"\",SQRT(SUMIF(DMA!$DK$5:$DK$503,Graphs!$O18,DMA!DL$5:DL$503))/COUNTIF(DMA!$DK$5:$DK$503,Graphs!$O18)))","v":""},{"$f":"IF(Q18=\"\",\"\",IF(Q18=0,\"\",SQRT(SUMIF(DMA!$DK$5:$DK$503,Graphs!$O18,DMA!DM$5:DM$503))/COUNTIF(DMA!$DK$5:$DK$503,Graphs!$O18)))","v":""},{"$f":"IF(R18=\"\",\"\",IF(R18=0,\"\",SQRT(SUMIF(DMA!$DK$5:$DK$503,Graphs!$O18,DMA!DN$5:DN$503))/COUNTIF(DMA!$DK$5:$DK$503,Graphs!$O18)))","v":""},{"$f":"IF($P18=\"\",\"\",IF(P18=0,\"\",AVERAGEIF(DMA!$N$5:$N$503,Graphs!$O18,DMA!O$5:O$503)))","v":""},{"$f":"IF($Q18=\"\",\"\",IF(Q18=0,\"\",AVERAGEIF(DMA!$N$5:$N$503,Graphs!$O18,DMA!P$5:P$503)))","v":""},{"$f":"IF($R18=\"\",\"\",IF(R18=0,\"\",AVERAGEIF(DMA!$N$5:$N$503,Graphs!$O18,DMA!Q$5:Q$503)))","v":""},null,null,null,null,{"$f":"IF($O18=\"\",\"\",COUNTIFS(DMA!$N$5:$N$503,Graphs!$O18,DMA!O$5:O$503,\">0\"))","v":""},{"$f":"IF($O18=\"\",\"\",COUNTIFS(DMA!$N$5:$N$503,Graphs!$O18,DMA!P$5:P$503,\">0\"))","v":""},{"$f":"IF($O18=\"\",\"\",COUNTIFS(DMA!$N$5:$N$503,Graphs!$O18,DMA!Q$5:Q$503,\">0\"))","v":""}]
[null,null,null,null,null,null,null,null,null,null,null,null,null,null,null,null,null,null,null,null,null,null,null,null,null,null,null,null,"","","",null,null,null,null,null,null,null,null,null,null,null,null,null,null,null,null,null,null,null,null,"","","",{"$f":"IF(P19=\"\",\"\",IF(P19=0,\"\",SQRT(SUMIF(DMA!$DK$5:$DK$503,Graphs!$O19,DMA!DL$5:DL$503))/COUNTIF(DMA!$DK$5:$DK$503,Graphs!$O19)))","v":""},{"$f":"IF(Q19=\"\",\"\",IF(Q19=0,\"\",SQRT(SUMIF(DMA!$DK$5:$DK$503,Graphs!$O19,DMA!DM$5:DM$503))/COUNTIF(DMA!$DK$5:$DK$503,Graphs!$O19)))","v":""},{"$f":"IF(R19=\"\",\"\",IF(R19=0,\"\",SQRT(SUMIF(DMA!$DK$5:$DK$503,Graphs!$O19,DMA!DN$5:DN$503))/COUNTIF(DMA!$DK$5:$DK$503,Graphs!$O19)))","v":""},{"$f":"IF($P19=\"\",\"\",IF(P19=0,\"\",AVERAGEIF(DMA!$N$5:$N$503,Graphs!$O19,DMA!O$5:O$503)))","v":""},{"$f":"IF($Q19=\"\",\"\",IF(Q19=0,\"\",AVERAGEIF(DMA!$N$5:$N$503,Graphs!$O19,DMA!P$5:P$503)))","v":""},{"$f":"IF($R19=\"\",\"\",IF(R19=0,\"\",AVERAGEIF(DMA!$N$5:$N$503,Graphs!$O19,DMA!Q$5:Q$503)))","v":""},null,null,null,null,{"$f":"IF($O19=\"\",\"\",COUNTIFS(DMA!$N$5:$N$503,Graphs!$O19,DMA!O$5:O$503,\">0\"))","v":""},{"$f":"IF($O19=\"\",\"\",COUNTIFS(DMA!$N$5:$N$503,Graphs!$O19,DMA!P$5:P$503,\">0\"))","v":""},{"$f":"IF($O19=\"\",\"\",COUNTIFS(DMA!$N$5:$N$503,Graphs!$O19,DMA!Q$5:Q$503,\">0\"))","v":""}]
[null,null,null,null,null,null,null,null,null,null,null,null,null,null,null,null,null,null,null,null,null,null,null,null,null,null,null,null,{"$f":"IF(W164=\"\",\"\",W164*P164)","v":""},{"$f":"IF(X164=\"\",\"\",X164*Q164)","v":""},{"$f":"IF(Y164=\"\",\"\",Y164*R164)","v":""},null,null,null,null,null,null,null,null,null,null,null,null,null,null,null,null,null,null,null,null,"","","",{"$f":"IF(P20=\"\",\"\",IF(P20=0,\"\",SQRT(SUMIF(DMA!$DK$5:$DK$503,Graphs!$O20,DMA!DL$5:DL$503))/COUNTIF(DMA!$DK$5:$DK$503,Graphs!$O20)))","v":""},{"$f":"IF(Q20=\"\",\"\",IF(Q20=0,\"\",SQRT(SUMIF(DMA!$DK$5:$DK$503,Graphs!$O20,DMA!DM$5:DM$503))/COUNTIF(DMA!$DK$5:$DK$503,Graphs!$O20)))","v":""},{"$f":"IF(R20=\"\",\"\",IF(R20=0,\"\",SQRT(SUMIF(DMA!$DK$5:$DK$503,Graphs!$O20,DMA!DN$5:DN$503))/COUNTIF(DMA!$DK$5:$DK$503,Graphs!$O20)))","v":""},{"$f":"IF($P20=\"\",\"\",IF(P20=0,\"\",AVERAGEIF(DMA!$N$5:$N$503,Graphs!$O20,DMA!O$5:O$503)))","v":""},{"$f":"IF($Q20=\"\",\"\",IF(Q20=0,\"\",AVERAGEIF(DMA!$N$5:$N$503,Graphs!$O20,DMA!P$5:P$503)))","v":""},{"$f":"IF($R20=\"\",\"\",IF(R20=0,\"\",AVERAGEIF(DMA!$N$5:$N$503,Graphs!$O20,DMA!Q$5:Q$503)))","v":""},null,null,null,null,{"$f":"IF($O20=\"\",\"\",COUNTIFS(DMA!$N$5:$N$503,Graphs!$O20,DMA!O$5:O$503,\">0\"))","v":""},{"$f":"IF($O20=\"\",\"\",COUNTIFS(DMA!$N$5:$N$503,Graphs!$O20,DMA!P$5:P$503,\">0\"))","v":""},{"$f":"IF($O20=\"\",\"\",COUNTIFS(DMA!$N$5:$N$503,Graphs!$O20,DMA!Q$5:Q$503,\">0\"))","v":""}]
[null,null,null,null,null,null,null,null,null,null,null,null,null,null,null,null,null,null,null,null,null,null,null,null,null,null,null,null,"","","",null,null,null,null,null,null,null,null,null,null,null,null,null,null,null,null,null,null,null,null,"","","",{"$f":"IF(P21=\"\",\"\",IF(P21=0,\"\",SQRT(SUMIF(DMA!$DK$5:$DK$503,Graphs!$O21,DMA!DL$5:DL$503))/COUNTIF(DMA!$DK$5:$DK$503,Graphs!$O21)))","v":""},{"$f":"IF(Q21=\"\",\"\",IF(Q21=0,\"\",SQRT(SUMIF(DMA!$DK$5:$DK$503,Graphs!$O21,DMA!DM$5:DM$503))/COUNTIF(DMA!$DK$5:$DK$503,Graphs!$O21)))","v":""},{"$f":"IF(R21=\"\",\"\",IF(R21=0,\"\",SQRT(SUMIF(DMA!$DK$5:$DK$503,Graphs!$O21,DMA!DN$5:DN$503))/COUNTIF(DMA!$DK$5:$DK$503,Graphs!$O21)))","v":""},{"$f":"IF($P21=\"\",\"\",IF(P21=0,\"\",AVERAGEIF(DMA!$N$5:$N$503,Graphs!$O21,DMA!O$5:O$503)))","v":""},{"$f":"IF($Q21=\"\",\"\",IF(Q21=0,\"\",AVERAGEIF(DMA!$N$5:$N$503,Graphs!$O21,DMA!P$5:P$503)))","v":""},{"$f":"IF($R21=\"\",\"\",IF(R21=0,\"\",AVERAGEIF(DMA!$N$5:$N$503,Graphs!$O21,DMA!Q$5:Q$503)))","v":""},null,null,null,null,{"$f":"IF($O21=\"\",\"\",COUNTIFS(DMA!$N$5:$N$503,Graphs!$O21,DMA!O$5:O$503,\">0\"))","v":""},{"$f":"IF($O21=\"\",\"\",COUNTIFS(DMA!$N$5:$N$503,Graphs!$O21,DMA!P$5:P$503,\">0\"))","v":""},{"$f":"IF($O21=\"\",\"\",COUNTIFS(DMA!$N$5:$N$503,Graphs!$O21,DMA!Q$5:Q$503,\">0\"))","v":""}]
[null,null,null,null,null,null,null,null,null,null,null,null,null,null,null,null,null,null,null,null,null,null,null,null,null,null,null,null,"","","",null,null,null,null,null,null,null,null,null,null,null,null,null,null,null,null,null,null,null,null,"","","",{"$f":"IF(P22=\"\",\"\",IF(P22=0,\"\",SQRT(SUMIF(DMA!$DK$5:$DK$503,Graphs!$O22,DMA!DL$5:DL$503))/COUNTIF(DMA!$DK$5:$DK$503,Graphs!$O22)))","v":""},{"$f":"IF(Q22=\"\",\"\",IF(Q22=0,\"\",SQRT(SUMIF(DMA!$DK$5:$DK$503,Graphs!$O22,DMA!DM$5:DM$503))/COUNTIF(DMA!$DK$5:$DK$503,Graphs!$O22)))","v":""},{"$f":"IF(R22=\"\",\"\",IF(R22=0,\"\",SQRT(SUMIF(DMA!$DK$5:$DK$503,Graphs!$O22,DMA!DN$5:DN$503))/COUNTIF(DMA!$DK$5:$DK$503,Graphs!$O22)))","v":""},{"$f":"IF($P22=\"\",\"\",IF(P22=0,\"\",AVERAGEIF(DMA!$N$5:$N$503,Graphs!$O22,DMA!O$5:O$503)))","v":""},{"$f":"IF($Q22=\"\",\"\",IF(Q22=0,\"\",AVERAGEIF(DMA!$N$5:$N$503,Graphs!$O22,DMA!P$5:P$503)))","v":""},{"$f":"IF($R22=\"\",\"\",IF(R22=0,\"\",AVERAGEIF(DMA!$N$5:$N$503,Graphs!$O22,DMA!Q$5:Q$503)))","v":""},null,null,null,null,{"$f":"IF($O22=\"\",\"\",COUNTIFS(DMA!$N$5:$N$503,Graphs!$O22,DMA!O$5:O$503,\">0\"))","v":""},{"$f":"IF($O22=\"\",\"\",COUNTIFS(DMA!$N$5:$N$503,Graphs!$O22,DMA!P$5:P$503,\">0\"))","v":""},{"$f":"IF($O22=\"\",\"\",COUNTIFS(DMA!$N$5:$N$503,Graphs!$O22,DMA!Q$5:Q$503,\">0\"))","v":""}]
[null,null,null,null,null,null,null,null,null,null,null,null,null,null,null,null,null,null,null,null,null,null,null,null,null,null,null,null,"","","",null,null,null,null,null,null,null,null,null,null,null,null,null,null,null,null,null,null,null,null,"","","",{"$f":"IF(P23=\"\",\"\",IF(P23=0,\"\",SQRT(SUMIF(DMA!$DK$5:$DK$503,Graphs!$O23,DMA!DL$5:DL$503))/COUNTIF(DMA!$DK$5:$DK$503,Graphs!$O23)))","v":""},{"$f":"IF(Q23=\"\",\"\",IF(Q23=0,\"\",SQRT(SUMIF(DMA!$DK$5:$DK$503,Graphs!$O23,DMA!DM$5:DM$503))/COUNTIF(DMA!$DK$5:$DK$503,Graphs!$O23)))","v":""},{"$f":"IF(R23=\"\",\"\",IF(R23=0,\"\",SQRT(SUMIF(DMA!$DK$5:$DK$503,Graphs!$O23,DMA!DN$5:DN$503))/COUNTIF(DMA!$DK$5:$DK$503,Graphs!$O23)))","v":""},{"$f":"IF($P23=\"\",\"\",IF(P23=0,\"\",AVERAGEIF(DMA!$N$5:$N$503,Graphs!$O23,DMA!O$5:O$503)))","v":""},{"$f":"IF($Q23=\"\",\"\",IF(Q23=0,\"\",AVERAGEIF(DMA!$N$5:$N$503,Graphs!$O23,DMA!P$5:P$503)))","v":""},{"$f":"IF($R23=\"\",\"\",IF(R23=0,\"\",AVERAGEIF(DMA!$N$5:$N$503,Graphs!$O23,DMA!Q$5:Q$503)))","v":""},null,null,null,null,{"$f":"IF($O23=\"\",\"\",COUNTIFS(DMA!$N$5:$N$503,Graphs!$O23,DMA!O$5:O$503,\">0\"))","v":""},{"$f":"IF($O23=\"\",\"\",COUNTIFS(DMA!$N$5:$N$503,Graphs!$O23,DMA!P$5:P$503,\">0\"))","v":""},{"$f":"IF($O23=\"\",\"\",COUNTIFS(DMA!$N$5:$N$503,Graphs!$O23,DMA!Q$5:Q$503,\">0\"))","v":""}]
[null,null,null,null,null,null,null,null,null,null,null,null,null,null,null,null,null,null,null,null,null,null,null,null,null,null,null,null,"","","",null,null,null,null,null,null,null,null,null,null,null,null,null,null,null,null,null,null,null,null,"","","",{"$f":"IF(P24=\"\",\"\",IF(P24=0,\"\",SQRT(SUMIF(DMA!$DK$5:$DK$503,Graphs!$O24,DMA!DL$5:DL$503))/COUNTIF(DMA!$DK$5:$DK$503,Graphs!$O24)))","v":""},{"$f":"IF(Q24=\"\",\"\",IF(Q24=0,\"\",SQRT(SUMIF(DMA!$DK$5:$DK$503,Graphs!$O24,DMA!DM$5:DM$503))/COUNTIF(DMA!$DK$5:$DK$503,Graphs!$O24)))","v":""},{"$f":"IF(R24=\"\",\"\",IF(R24=0,\"\",SQRT(SUMIF(DMA!$DK$5:$DK$503,Graphs!$O24,DMA!DN$5:DN$503))/COUNTIF(DMA!$DK$5:$DK$503,Graphs!$O24)))","v":""},{"$f":"IF($P24=\"\",\"\",IF(P24=0,\"\",AVERAGEIF(DMA!$N$5:$N$503,Graphs!$O24,DMA!O$5:O$503)))","v":""},{"$f":"IF($Q24=\"\",\"\",IF(Q24=0,\"\",AVERAGEIF(DMA!$N$5:$N$503,Graphs!$O24,DMA!P$5:P$503)))","v":""},{"$f":"IF($R24=\"\",\"\",IF(R24=0,\"\",AVERAGEIF(DMA!$N$5:$N$503,Graphs!$O24,DMA!Q$5:Q$503)))","v":""},null,null,null,null,{"$f":"IF($O24=\"\",\"\",COUNTIFS(DMA!$N$5:$N$503,Graphs!$O24,DMA!O$5:O$503,\">0\"))","v":""},{"$f":"IF($O24=\"\",\"\",COUNTIFS(DMA!$N$5:$N$503,Graphs!$O24,DMA!P$5:P$503,\">0\"))","v":""},{"$f":"IF($O24=\"\",\"\",COUNTIFS(DMA!$N$5:$N$503,Graphs!$O24,DMA!Q$5:Q$503,\">0\"))","v":""}]
[null,null,null,null,null,null,null,null,null,null,null,null,null,null,null,null,null,null,null,null,null,null,null,null,null,null,null,null,"","","",null,null,null,null,null,null,null,null,null,null,null,null,null,null,null,null,null,null,null,null,"","","",{"$f":"IF(P25=\"\",\"\",IF(P25=0,\"\",SQRT(SUMIF(DMA!$DK$5:$DK$503,Graphs!$O25,DMA!DL$5:DL$503))/COUNTIF(DMA!$DK$5:$DK$503,Graphs!$O25)))","v":""},{"$f":"IF(Q25=\"\",\"\",IF(Q25=0,\"\",SQRT(SUMIF(DMA!$DK$5:$DK$503,Graphs!$O25,DMA!DM$5:DM$503))/COUNTIF(DMA!$DK$5:$DK$503,Graphs!$O25)))","v":""},{"$f":"IF(R25=\"\",\"\",IF(R25=0,\"\",SQRT(SUMIF(DMA!$DK$5:$DK$503,Graphs!$O25,DMA!DN$5:DN$503))/COUNTIF(DMA!$DK$5:$DK$503,Graphs!$O25)))","v":""},{"$f":"IF($P25=\"\",\"\",IF(P25=0,\"\",AVERAGEIF(DMA!$N$5:$N$503,Graphs!$O25,DMA!O$5:O$503)))","v":""},{"$f":"IF($Q25=\"\",\"\",IF(Q25=0,\"\",AVERAGEIF(DMA!$N$5:$N$503,Graphs!$O25,DMA!P$5:P$503)))","v":""},{"$f":"IF($R25=\"\",\"\",IF(R25=0,\"\",AVERAGEIF(DMA!$N$5:$N$503,Graphs!$O25,DMA!Q$5:Q$503)))","v":""},null,null,null,null,{"$f":"IF($O25=\"\",\"\",COUNTIFS(DMA!$N$5:$N$503,Graphs!$O25,DMA!O$5:O$503,\">0\"))","v":""},{"$f":"IF($O25=\"\",\"\",COUNTIFS(DMA!$N$5:$N$503,Graphs!$O25,DMA!P$5:P$503,\">0\"))","v":""},{"$f":"IF($O25=\"\",\"\",COUNTIFS(DMA!$N$5:$N$503,Graphs!$O25,DMA!Q$5:Q$503,\">0\"))","v":""}]
[null,null,null,null,null,null,null,null,null,null,null,null,null,null,null,null,null,null,null,null,null,null,null,null,null,null,null,null,"","","",null,null,null,null,null,null,null,null,null,null,null,null,null,null,null,null,null,null,null,null,"","","",{"$f":"IF(P26=\"\",\"\",IF(P26=0,\"\",SQRT(SUMIF(DMA!$DK$5:$DK$503,Graphs!$O26,DMA!DL$5:DL$503))/COUNTIF(DMA!$DK$5:$DK$503,Graphs!$O26)))","v":""},{"$f":"IF(Q26=\"\",\"\",IF(Q26=0,\"\",SQRT(SUMIF(DMA!$DK$5:$DK$503,Graphs!$O26,DMA!DM$5:DM$503))/COUNTIF(DMA!$DK$5:$DK$503,Graphs!$O26)))","v":""},{"$f":"IF(R26=\"\",\"\",IF(R26=0,\"\",SQRT(SUMIF(DMA!$DK$5:$DK$503,Graphs!$O26,DMA!DN$5:DN$503))/COUNTIF(DMA!$DK$5:$DK$503,Graphs!$O26)))","v":""},{"$f":"IF($P26=\"\",\"\",IF(P26=0,\"\",AVERAGEIF(DMA!$N$5:$N$503,Graphs!$O26,DMA!O$5:O$503)))","v":""},{"$f":"IF($Q26=\"\",\"\",IF(Q26=0,\"\",AVERAGEIF(DMA!$N$5:$N$503,Graphs!$O26,DMA!P$5:P$503)))","v":""},{"$f":"IF($R26=\"\",\"\",IF(R26=0,\"\",AVERAGEIF(DMA!$N$5:$N$503,Graphs!$O26,DMA!Q$5:Q$503)))","v":""},null,null,null,null,{"$f":"IF($O26=\"\",\"\",COUNTIFS(DMA!$N$5:$N$503,Graphs!$O26,DMA!O$5:O$503,\">0\"))","v":""},{"$f":"IF($O26=\"\",\"\",COUNTIFS(DMA!$N$5:$N$503,Graphs!$O26,DMA!P$5:P$503,\">0\"))","v":""},{"$f":"IF($O26=\"\",\"\",COUNTIFS(DMA!$N$5:$N$503,Graphs!$O26,DMA!Q$5:Q$503,\">0\"))","v":""}]
[null,null,null,null,null,null,null,null,null,null,null,null,null,null,null,null,null,null,null,null,null,null,null,null,null,null,null,null,"","","",null,null,null,null,null,null,null,null,null,null,null,null,null,null,null,null,null,null,null,null,"","","",{"$f":"IF(P27=\"\",\"\",IF(P27=0,\"\",SQRT(SUMIF(DMA!$DK$5:$DK$503,Graphs!$O27,DMA!DL$5:DL$503))/COUNTIF(DMA!$DK$5:$DK$503,Graphs!$O27)))","v":""},{"$f":"IF(Q27=\"\",\"\",IF(Q27=0,\"\",SQRT(SUMIF(DMA!$DK$5:$DK$503,Graphs!$O27,DMA!DM$5:DM$503))/COUNTIF(DMA!$DK$5:$DK$503,Graphs!$O27)))","v":""},{"$f":"IF(R27=\"\",\"\",IF(R27=0,\"\",SQRT(SUMIF(DMA!$DK$5:$DK$503,Graphs!$O27,DMA!DN$5:DN$503))/COUNTIF(DMA!$DK$5:$DK$503,Graphs!$O27)))","v":""},{"$f":"IF($P27=\"\",\"\",IF(P27=0,\"\",AVERAGEIF(DMA!$N$5:$N$503,Graphs!$O27,DMA!O$5:O$503)))","v":""},{"$f":"IF($Q27=\"\",\"\",IF(Q27=0,\"\",AVERAGEIF(DMA!$N$5:$N$503,Graphs!$O27,DMA!P$5:P$503)))","v":""},{"$f":"IF($R27=\"\",\"\",IF(R27=0,\"\",AVERAGEIF(DMA!$N$5:$N$503,Graphs!$O27,DMA!Q$5:Q$503)))","v":""},null,null,null,null,{"$f":"IF($O27=\"\",\"\",COUNTIFS(DMA!$N$5:$N$503,Graphs!$O27,DMA!O$5:O$503,\">0\"))","v":""},{"$f":"IF($O27=\"\",\"\",COUNTIFS(DMA!$N$5:$N$503,Graphs!$O27,DMA!P$5:P$503,\">0\"))","v":""},{"$f":"IF($O27=\"\",\"\",COUNTIFS(DMA!$N$5:$N$503,Graphs!$O27,DMA!Q$5:Q$503,\">0\"))","v":""}]
[null,null,null,null,null,null,null,null,null,null,null,null,null,null,null,null,null,null,null,null,null,null,null,null,null,null,null,null,"","","",null,null,null,null,null,null,null,null,null,null,null,null,null,null,null,null,null,null,null,null,"","","",{"$f":"IF(P28=\"\",\"\",IF(P28=0,\"\",SQRT(SUMIF(DMA!$DK$5:$DK$503,Graphs!$O28,DMA!DL$5:DL$503))/COUNTIF(DMA!$DK$5:$DK$503,Graphs!$O28)))","v":""},{"$f":"IF(Q28=\"\",\"\",IF(Q28=0,\"\",SQRT(SUMIF(DMA!$DK$5:$DK$503,Graphs!$O28,DMA!DM$5:DM$503))/COUNTIF(DMA!$DK$5:$DK$503,Graphs!$O28)))","v":""},{"$f":"IF(R28=\"\",\"\",IF(R28=0,\"\",SQRT(SUMIF(DMA!$DK$5:$DK$503,Graphs!$O28,DMA!DN$5:DN$503))/COUNTIF(DMA!$DK$5:$DK$503,Graphs!$O28)))","v":""},{"$f":"IF($P28=\"\",\"\",IF(P28=0,\"\",AVERAGEIF(DMA!$N$5:$N$503,Graphs!$O28,DMA!O$5:O$503)))","v":""},{"$f":"IF($Q28=\"\",\"\",IF(Q28=0,\"\",AVERAGEIF(DMA!$N$5:$N$503,Graphs!$O28,DMA!P$5:P$503)))","v":""},{"$f":"IF($R28=\"\",\"\",IF(R28=0,\"\",AVERAGEIF(DMA!$N$5:$N$503,Graphs!$O28,DMA!Q$5:Q$503)))","v":""},null,null,null,null,{"$f":"IF($O28=\"\",\"\",COUNTIFS(DMA!$N$5:$N$503,Graphs!$O28,DMA!O$5:O$503,\">0\"))","v":""},{"$f":"IF($O28=\"\",\"\",COUNTIFS(DMA!$N$5:$N$503,Graphs!$O28,DMA!P$5:P$503,\">0\"))","v":""},{"$f":"IF($O28=\"\",\"\",COUNTIFS(DMA!$N$5:$N$503,Graphs!$O28,DMA!Q$5:Q$503,\">0\"))","v":""}]
[null,null,null,null,null,null,null,null,null,null,null,null,null,null,null,null,null,null,null,null,null,null,null,null,null,null,null,null,"","","",null,null,null,null,null,null,null,null,null,null,null,null,null,null,null,null,null,null,null,null,"","","",{"$f":"IF(P29=\"\",\"\",IF(P29=0,\"\",SQRT(SUMIF(DMA!$DK$5:$DK$503,Graphs!$O29,DMA!DL$5:DL$503))/COUNTIF(DMA!$DK$5:$DK$503,Graphs!$O29)))","v":""},{"$f":"IF(Q29=\"\",\"\",IF(Q29=0,\"\",SQRT(SUMIF(DMA!$DK$5:$DK$503,Graphs!$O29,DMA!DM$5:DM$503))/COUNTIF(DMA!$DK$5:$DK$503,Graphs!$O29)))","v":""},{"$f":"IF(R29=\"\",\"\",IF(R29=0,\"\",SQRT(SUMIF(DMA!$DK$5:$DK$503,Graphs!$O29,DMA!DN$5:DN$503))/COUNTIF(DMA!$DK$5:$DK$503,Graphs!$O29)))","v":""},{"$f":"IF($P29=\"\",\"\",IF(P29=0,\"\",AVERAGEIF(DMA!$N$5:$N$503,Graphs!$O29,DMA!O$5:O$503)))","v":""},{"$f":"IF($Q29=\"\",\"\",IF(Q29=0,\"\",AVERAGEIF(DMA!$N$5:$N$503,Graphs!$O29,DMA!P$5:P$503)))","v":""},{"$f":"IF($R29=\"\",\"\",IF(R29=0,\"\",AVERAGEIF(DMA!$N$5:$N$503,Graphs!$O29,DMA!Q$5:Q$503)))","v":""},null,null,null,null,{"$f":"IF($O29=\"\",\"\",COUNTIFS(DMA!$N$5:$N$503,Graphs!$O29,DMA!O$5:O$503,\">0\"))","v":""},{"$f":"IF($O29=\"\",\"\",COUNTIFS(DMA!$N$5:$N$503,Graphs!$O29,DMA!P$5:P$503,\">0\"))","v":""},{"$f":"IF($O29=\"\",\"\",COUNTIFS(DMA!$N$5:$N$503,Graphs!$O29,DMA!Q$5:Q$503,\">0\"))","v":""}]
[null,null,null,null,null,null,null,null,null,null,null,null,null,null,null,null,null,null,null,null,null,null,null,null,null,null,null,null,"","","",null,null,null,null,null,null,null,null,null,null,null,null,null,null,null,null,null,null,null,null,"","","",{"$f":"IF(P30=\"\",\"\",IF(P30=0,\"\",SQRT(SUMIF(DMA!$DK$5:$DK$503,Graphs!$O30,DMA!DL$5:DL$503))/COUNTIF(DMA!$DK$5:$DK$503,Graphs!$O30)))","v":""},{"$f":"IF(Q30=\"\",\"\",IF(Q30=0,\"\",SQRT(SUMIF(DMA!$DK$5:$DK$503,Graphs!$O30,DMA!DM$5:DM$503))/COUNTIF(DMA!$DK$5:$DK$503,Graphs!$O30)))","v":""},{"$f":"IF(R30=\"\",\"\",IF(R30=0,\"\",SQRT(SUMIF(DMA!$DK$5:$DK$503,Graphs!$O30,DMA!DN$5:DN$503))/COUNTIF(DMA!$DK$5:$DK$503,Graphs!$O30)))","v":""},{"$f":"IF($P30=\"\",\"\",IF(P30=0,\"\",AVERAGEIF(DMA!$N$5:$N$503,Graphs!$O30,DMA!O$5:O$503)))","v":""},{"$f":"IF($Q30=\"\",\"\",IF(Q30=0,\"\",AVERAGEIF(DMA!$N$5:$N$503,Graphs!$O30,DMA!P$5:P$503)))","v":""},{"$f":"IF($R30=\"\",\"\",IF(R30=0,\"\",AVERAGEIF(DMA!$N$5:$N$503,Graphs!$O30,DMA!Q$5:Q$503)))","v":""},null,null,null,null,{"$f":"IF($O30=\"\",\"\",COUNTIFS(DMA!$N$5:$N$503,Graphs!$O30,DMA!O$5:O$503,\">0\"))","v":""},{"$f":"IF($O30=\"\",\"\",COUNTIFS(DMA!$N$5:$N$503,Graphs!$O30,DMA!P$5:P$503,\">0\"))","v":""},{"$f":"IF($O30=\"\",\"\",COUNTIFS(DMA!$N$5:$N$503,Graphs!$O30,DMA!Q$5:Q$503,\">0\"))","v":""}]
[null,null,null,null,null,null,null,null,null,null,null,null,null,null,null,null,null,null,null,null,null,null,null,null,null,null,null,null,"","","",null,null,null,null,null,null,null,null,null,null,null,null,null,null,null,null,null,null,null,null,"","","",{"$f":"IF(P31=\"\",\"\",IF(P31=0,\"\",SQRT(SUMIF(DMA!$DK$5:$DK$503,Graphs!$O31,DMA!DL$5:DL$503))/COUNTIF(DMA!$DK$5:$DK$503,Graphs!$O31)))","v":""},{"$f":"IF(Q31=\"\",\"\",IF(Q31=0,\"\",SQRT(SUMIF(DMA!$DK$5:$DK$503,Graphs!$O31,DMA!DM$5:DM$503))/COUNTIF(DMA!$DK$5:$DK$503,Graphs!$O31)))","v":""},{"$f":"IF(R31=\"\",\"\",IF(R31=0,\"\",SQRT(SUMIF(DMA!$DK$5:$DK$503,Graphs!$O31,DMA!DN$5:DN$503))/COUNTIF(DMA!$DK$5:$DK$503,Graphs!$O31)))","v":""},{"$f":"IF($P31=\"\",\"\",IF(P31=0,\"\",AVERAGEIF(DMA!$N$5:$N$503,Graphs!$O31,DMA!O$5:O$503)))","v":""},{"$f":"IF($Q31=\"\",\"\",IF(Q31=0,\"\",AVERAGEIF(DMA!$N$5:$N$503,Graphs!$O31,DMA!P$5:P$503)))","v":""},{"$f":"IF($R31=\"\",\"\",IF(R31=0,\"\",AVERAGEIF(DMA!$N$5:$N$503,Graphs!$O31,DMA!Q$5:Q$503)))","v":""},null,null,null,null,{"$f":"IF($O31=\"\",\"\",COUNTIFS(DMA!$N$5:$N$503,Graphs!$O31,DMA!O$5:O$503,\">0\"))","v":""},{"$f":"IF($O31=\"\",\"\",COUNTIFS(DMA!$N$5:$N$503,Graphs!$O31,DMA!P$5:P$503,\">0\"))","v":""},{"$f":"IF($O31=\"\",\"\",COUNTIFS(DMA!$N$5:$N$503,Graphs!$O31,DMA!Q$5:Q$503,\">0\"))","v":""}]
[null,null,null,null,null,null,null,null,null,null,null,null,null,null,null,null,null,null,null,null,null,null,null,null,null,null,null,null,"","","",null,null,null,null,null,null,null,null,null,null,null,null,null,null,null,null,null,null,null,null,"","","",{"$f":"IF(P32=\"\",\"\",IF(P32=0,\"\",SQRT(SUMIF(DMA!$DK$5:$DK$503,Graphs!$O32,DMA!DL$5:DL$503))/COUNTIF(DMA!$DK$5:$DK$503,Graphs!$O32)))","v":""},{"$f":"IF(Q32=\"\",\"\",IF(Q32=0,\"\",SQRT(SUMIF(DMA!$DK$5:$DK$503,Graphs!$O32,DMA!DM$5:DM$503))/COUNTIF(DMA!$DK$5:$DK$503,Graphs!$O32)))","v":""},{"$f":"IF(R32=\"\",\"\",IF(R32=0,\"\",SQRT(SUMIF(DMA!$DK$5:$DK$503,Graphs!$O32,DMA!DN$5:DN$503))/COUNTIF(DMA!$DK$5:$DK$503,Graphs!$O32)))","v":""},{"$f":"IF($P32=\"\",\"\",IF(P32=0,\"\",AVERAGEIF(DMA!$N$5:$N$503,Graphs!$O32,DMA!O$5:O$503)))","v":""},{"$f":"IF($Q32=\"\",\"\",IF(Q32=0,\"\",AVERAGEIF(DMA!$N$5:$N$503,Graphs!$O32,DMA!P$5:P$503)))","v":""},{"$f":"IF($R32=\"\",\"\",IF(R32=0,\"\",AVERAGEIF(DMA!$N$5:$N$503,Graphs!$O32,DMA!Q$5:Q$503)))","v":""},null,null,null,null,{"$f":"IF($O32=\"\",\"\",COUNTIFS(DMA!$N$5:$N$503,Graphs!$O32,DMA!O$5:O$503,\">0\"))","v":""},{"$f":"IF($O32=\"\",\"\",COUNTIFS(DMA!$N$5:$N$503,Graphs!$O32,DMA!P$5:P$503,\">0\"))","v":""},{"$f":"IF($O32=\"\",\"\",COUNTIFS(DMA!$N$5:$N$503,Graphs!$O32,DMA!Q$5:Q$503,\">0\"))","v":""}]
[null,null,null,null,null,null,null,null,null,null,null,null,null,null,null,null,null,null,null,null,null,null,null,null,null,null,null,null,"","","",null,null,null,null,null,null,null,null,null,null,null,null,null,null,null,null,null,null,null,null,"","","",{"$f":"IF(P33=\"\",\"\",IF(P33=0,\"\",SQRT(SUMIF(DMA!$DK$5:$DK$503,Graphs!$O33,DMA!DL$5:DL$503))/COUNTIF(DMA!$DK$5:$DK$503,Graphs!$O33)))","v":""},{"$f":"IF(Q33=\"\",\"\",IF(Q33=0,\"\",SQRT(SUMIF(DMA!$DK$5:$DK$503,Graphs!$O33,DMA!DM$5:DM$503))/COUNTIF(DMA!$DK$5:$DK$503,Graphs!$O33)))","v":""},{"$f":"IF(R33=\"\",\"\",IF(R33=0,\"\",SQRT(SUMIF(DMA!$DK$5:$DK$503,Graphs!$O33,DMA!DN$5:DN$503))/COUNTIF(DMA!$DK$5:$DK$503,Graphs!$O33)))","v":""},{"$f":"IF($P33=\"\",\"\",IF(P33=0,\"\",AVERAGEIF(DMA!$N$5:$N$503,Graphs!$O33,DMA!O$5:O$503)))","v":""},{"$f":"IF($Q33=\"\",\"\",IF(Q33=0,\"\",AVERAGEIF(DMA!$N$5:$N$503,Graphs!$O33,DMA!P$5:P$503)))","v":""},{"$f":"IF($R33=\"\",\"\",IF(R33=0,\"\",AVERAGEIF(DMA!$N$5:$N$503,Graphs!$O33,DMA!Q$5:Q$503)))","v":""},null,null,null,null,{"$f":"IF($O33=\"\",\"\",COUNTIFS(DMA!$N$5:$N$503,Graphs!$O33,DMA!O$5:O$503,\">0\"))","v":""},{"$f":"IF($O33=\"\",\"\",COUNTIFS(DMA!$N$5:$N$503,Graphs!$O33,DMA!P$5:P$503,\">0\"))","v":""},{"$f":"IF($O33=\"\",\"\",COUNTIFS(DMA!$N$5:$N$503,Graphs!$O33,DMA!Q$5:Q$503,\">0\"))","v":""}]
[null,null,null,null,null,null,null,null,null,null,null,null,null,null,null,null,null,null,null,null,null,null,null,null,null,null,null,null,"","","",null,null,null,null,null,null,null,null,null,null,null,null,null,null,null,null,null,null,null,null,"","","",{"$f":"IF(P34=\"\",\"\",IF(P34=0,\"\",SQRT(SUMIF(DMA!$DK$5:$DK$503,Graphs!$O34,DMA!DL$5:DL$503))/COUNTIF(DMA!$DK$5:$DK$503,Graphs!$O34)))","v":""},{"$f":"IF(Q34=\"\",\"\",IF(Q34=0,\"\",SQRT(SUMIF(DMA!$DK$5:$DK$503,Graphs!$O34,DMA!DM$5:DM$503))/COUNTIF(DMA!$DK$5:$DK$503,Graphs!$O34)))","v":""},{"$f":"IF(R34=\"\",\"\",IF(R34=0,\"\",SQRT(SUMIF(DMA!$DK$5:$DK$503,Graphs!$O34,DMA!DN$5:DN$503))/COUNTIF(DMA!$DK$5:$DK$503,Graphs!$O34)))","v":""},{"$f":"IF($P34=\"\",\"\",IF(P34=0,\"\",AVERAGEIF(DMA!$N$5:$N$503,Graphs!$O34,DMA!O$5:O$503)))","v":""},{"$f":"IF($Q34=\"\",\"\",IF(Q34=0,\"\",AVERAGEIF(DMA!$N$5:$N$503,Graphs!$O34,DMA!P$5:P$503)))","v":""},{"$f":"IF($R34=\"\",\"\",IF(R34=0,\"\",AVERAGEIF(DMA!$N$5:$N$503,Graphs!$O34,DMA!Q$5:Q$503)))","v":""},null,null,null,null,{"$f":"IF($O34=\"\",\"\",COUNTIFS(DMA!$N$5:$N$503,Graphs!$O34,DMA!O$5:O$503,\">0\"))","v":""},{"$f":"IF($O34=\"\",\"\",COUNTIFS(DMA!$N$5:$N$503,Graphs!$O34,DMA!P$5:P$503,\">0\"))","v":""},{"$f":"IF($O34=\"\",\"\",COUNTIFS(DMA!$N$5:$N$503,Graphs!$O34,DMA!Q$5:Q$503,\">0\"))","v":""}]
[null,null,null,null,null,null,null,null,null,null,null,null,null,null,null,null,null,null,null,null,null,null,null,null,null,null,null,null,"","","",null,null,null,null,null,null,null,null,null,null,"GGW",null,null,null,null,null,null,null,null,null,"","","",{"$f":"IF(P35=\"\",\"\",IF(P35=0,\"\",SQRT(SUMIF(DMA!$DK$5:$DK$503,Graphs!$O35,DMA!DL$5:DL$503))/COUNTIF(DMA!$DK$5:$DK$503,Graphs!$O35)))","v":""},{"$f":"IF(Q35=\"\",\"\",IF(Q35=0,\"\",SQRT(SUMIF(DMA!$DK$5:$DK$503,Graphs!$O35,DMA!DM$5:DM$503))/COUNTIF(DMA!$DK$5:$DK$503,Graphs!$O35)))","v":""},{"$f":"IF(R35=\"\",\"\",IF(R35=0,\"\",SQRT(SUMIF(DMA!$DK$5:$DK$503,Graphs!$O35,DMA!DN$5:DN$503))/COUNTIF(DMA!$DK$5:$DK$503,Graphs!$O35)))","v":""},{"$f":"IF($P35=\"\",\"\",IF(P35=0,\"\",AVERAGEIF(DMA!$N$5:$N$503,Graphs!$O35,DMA!O$5:O$503)))","v":""},{"$f":"IF($Q35=\"\",\"\",IF(Q35=0,\"\",AVERAGEIF(DMA!$N$5:$N$503,Graphs!$O35,DMA!P$5:P$503)))","v":""},{"$f":"IF($R35=\"\",\"\",IF(R35=0,\"\",AVERAGEIF(DMA!$N$5:$N$503,Graphs!$O35,DMA!Q$5:Q$503)))","v":""},null,null,null,null,{"$f":"IF($O35=\"\",\"\",COUNTIFS(DMA!$N$5:$N$503,Graphs!$O35,DMA!O$5:O$503,\">0\"))","v":""},{"$f":"IF($O35=\"\",\"\",COUNTIFS(DMA!$N$5:$N$503,Graphs!$O35,DMA!P$5:P$503,\">0\"))","v":""},{"$f":"IF($O35=\"\",\"\",COUNTIFS(DMA!$N$5:$N$503,Graphs!$O35,DMA!Q$5:Q$503,\">0\"))","v":""}]
[null,null,null,null,null,null,null,null,null,null,null,null,null,null,null,null,null,null,null,null,null,null,null,null,null,null,null,null,"","","",null,null,null,null,null,null,null,null,null,null,null,null,null,null,null,null,null,null,null,null,"","","",{"$f":"IF(P36=\"\",\"\",IF(P36=0,\"\",SQRT(SUMIF(DMA!$DK$5:$DK$503,Graphs!$O36,DMA!DL$5:DL$503))/COUNTIF(DMA!$DK$5:$DK$503,Graphs!$O36)))","v":""},{"$f":"IF(Q36=\"\",\"\",IF(Q36=0,\"\",SQRT(SUMIF(DMA!$DK$5:$DK$503,Graphs!$O36,DMA!DM$5:DM$503))/COUNTIF(DMA!$DK$5:$DK$503,Graphs!$O36)))","v":""},{"$f":"IF(R36=\"\",\"\",IF(R36=0,\"\",SQRT(SUMIF(DMA!$DK$5:$DK$503,Graphs!$O36,DMA!DN$5:DN$503))/COUNTIF(DMA!$DK$5:$DK$503,Graphs!$O36)))","v":""},{"$f":"IF($P36=\"\",\"\",IF(P36=0,\"\",AVERAGEIF(DMA!$N$5:$N$503,Graphs!$O36,DMA!O$5:O$503)))","v":""},{"$f":"IF($Q36=\"\",\"\",IF(Q36=0,\"\",AVERAGEIF(DMA!$N$5:$N$503,Graphs!$O36,DMA!P$5:P$503)))","v":""},{"$f":"IF($R36=\"\",\"\",IF(R36=0,\"\",AVERAGEIF(DMA!$N$5:$N$503,Graphs!$O36,DMA!Q$5:Q$503)))","v":""},null,null,null,null,{"$f":"IF($O36=\"\",\"\",COUNTIFS(DMA!$N$5:$N$503,Graphs!$O36,DMA!O$5:O$503,\">0\"))","v":""},{"$f":"IF($O36=\"\",\"\",COUNTIFS(DMA!$N$5:$N$503,Graphs!$O36,DMA!P$5:P$503,\">0\"))","v":""},{"$f":"IF($O36=\"\",\"\",COUNTIFS(DMA!$N$5:$N$503,Graphs!$O36,DMA!Q$5:Q$503,\">0\"))","v":""}]
[null,null,null,null,null,null,null,null,null,null,null,null,null,null,null,null,null,null,null,null,null,null,null,null,null,null,null,null,"","","",null,null,null,null,null,null,null,null,null,null,"Range (m)","Samples","Proportion","Bin","Cumulative",null,null,null,null,null,"","","",{"$f":"IF(P37=\"\",\"\",IF(P37=0,\"\",SQRT(SUMIF(DMA!$DK$5:$DK$503,Graphs!$O37,DMA!DL$5:DL$503))/COUNTIF(DMA!$DK$5:$DK$503,Graphs!$O37)))","v":""},{"$f":"IF(Q37=\"\",\"\",IF(Q37=0,\"\",SQRT(SUMIF(DMA!$DK$5:$DK$503,Graphs!$O37,DMA!DM$5:DM$503))/COUNTIF(DMA!$DK$5:$DK$503,Graphs!$O37)))","v":""},{"$f":"IF(R37=\"\",\"\",IF(R37=0,\"\",SQRT(SUMIF(DMA!$DK$5:$DK$503,Graphs!$O37,DMA!DN$5:DN$503))/COUNTIF(DMA!$DK$5:$DK$503,Graphs!$O37)))","v":""},{"$f":"IF($P37=\"\",\"\",IF(P37=0,\"\",AVERAGEIF(DMA!$N$5:$N$503,Graphs!$O37,DMA!O$5:O$503)))","v":""},{"$f":"IF($Q37=\"\",\"\",IF(Q37=0,\"\",AVERAGEIF(DMA!$N$5:$N$503,Graphs!$O37,DMA!P$5:P$503)))","v":""},{"$f":"IF($R37=\"\",\"\",IF(R37=0,\"\",AVERAGEIF(DMA!$N$5:$N$503,Graphs!$O37,DMA!Q$5:Q$503)))","v":""},null,null,null,null,{"$f":"IF($O37=\"\",\"\",COUNTIFS(DMA!$N$5:$N$503,Graphs!$O37,DMA!O$5:O$503,\">0\"))","v":""},{"$f":"IF($O37=\"\",\"\",COUNTIFS(DMA!$N$5:$N$503,Graphs!$O37,DMA!P$5:P$503,\">0\"))","v":""},{"$f":"IF($O37=\"\",\"\",COUNTIFS(DMA!$N$5:$N$503,Graphs!$O37,DMA!Q$5:Q$503,\">0\"))","v":""}]
[null,null,null,null,null,null,null,null,null,null,null,null,null,null,null,null,null,null,null,null,null,null,null,null,null,null,null,null,"","","",null,null,null,null,null,null,null,null,null,null,"<1",{"$f":"COUNTIF(DMA!L$5:L$503,\"<=1\")","v":0},{"$f":"IF(AQ38<>0,100*(AQ38/AQ$44),0)","v":0},1,{"$f":"AR38","v":0},null,null,null,null,null,"","","",{"$f":"IF(P38=\"\",\"\",IF(P38=0,\"\",SQRT(SUMIF(DMA!$DK$5:$DK$503,Graphs!$O38,DMA!DL$5:DL$503))/COUNTIF(DMA!$DK$5:$DK$503,Graphs!$O38)))","v":""},{"$f":"IF(Q38=\"\",\"\",IF(Q38=0,\"\",SQRT(SUMIF(DMA!$DK$5:$DK$503,Graphs!$O38,DMA!DM$5:DM$503))/COUNTIF(DMA!$DK$5:$DK$503,Graphs!$O38)))","v":""},{"$f":"IF(R38=\"\",\"\",IF(R38=0,\"\",SQRT(SUMIF(DMA!$DK$5:$DK$503,Graphs!$O38,DMA!DN$5:DN$503))/COUNTIF(DMA!$DK$5:$DK$503,Graphs!$O38)))","v":""},{"$f":"IF($P38=\"\",\"\",IF(P38=0,\"\",AVERAGEIF(DMA!$N$5:$N$503,Graphs!$O38,DMA!O$5:O$503)))","v":""},{"$f":"IF($Q38=\"\",\"\",IF(Q38=0,\"\",AVERAGEIF(DMA!$N$5:$N$503,Graphs!$O38,DMA!P$5:P$503)))","v":""},{"$f":"IF($R38=\"\",\"\",IF(R38=0,\"\",AVERAGEIF(DMA!$N$5:$N$503,Graphs!$O38,DMA!Q$5:Q$503)))","v":""},null,null,null,null,{"$f":"IF($O38=\"\",\"\",COUNTIFS(DMA!$N$5:$N$503,Graphs!$O38,DMA!O$5:O$503,\">0\"))","v":""},{"$f":"IF($O38=\"\",\"\",COUNTIFS(DMA!$N$5:$N$503,Graphs!$O38,DMA!P$5:P$503,\">0\"))","v":""},{"$f":"IF($O38=\"\",\"\",COUNTIFS(DMA!$N$5:$N$503,Graphs!$O38,DMA!Q$5:Q$503,\">0\"))","v":""}]
[null,null,null,null,null,null,null,null,null,null,null,null,null,null,null,null,null,null,null,null,null,null,null,null,null,null,null,null,"","","",null,null,null,null,null,null,null,null,null,null,"1 - 2",{"$f":"COUNTIF(DMA!L$5:L$503,\"<=2\")-AQ38","v":0},0,2,{"$f":"IF(AR39=\"\",\"\",AR39+AT38)","v":0},null,null,null,null,null,"","","",{"$f":"IF(P39=\"\",\"\",IF(P39=0,\"\",SQRT(SUMIF(DMA!$DK$5:$DK$503,Graphs!$O39,DMA!DL$5:DL$503))/COUNTIF(DMA!$DK$5:$DK$503,Graphs!$O39)))","v":""},{"$f":"IF(Q39=\"\",\"\",IF(Q39=0,\"\",SQRT(SUMIF(DMA!$DK$5:$DK$503,Graphs!$O39,DMA!DM$5:DM$503))/COUNTIF(DMA!$DK$5:$DK$503,Graphs!$O39)))","v":""},{"$f":"IF(R39=\"\",\"\",IF(R39=0,\"\",SQRT(SUMIF(DMA!$DK$5:$DK$503,Graphs!$O39,DMA!DN$5:DN$503))/COUNTIF(DMA!$DK$5:$DK$503,Graphs!$O39)))","v":""},{"$f":"IF($P39=\"\",\"\",IF(P39=0,\"\",AVERAGEIF(DMA!$N$5:$N$503,Graphs!$O39,DMA!O$5:O$503)))","v":""},{"$f":"IF($Q39=\"\",\"\",IF(Q39=0,\"\",AVERAGEIF(DMA!$N$5:$N$503,Graphs!$O39,DMA!P$5:P$503)))","v":""},{"$f":"IF($R39=\"\",\"\",IF(R39=0,\"\",AVERAGEIF(DMA!$N$5:$N$503,Graphs!$O39,DMA!Q$5:Q$503)))","v":""},null,null,null,null,{"$f":"IF($O39=\"\",\"\",COUNTIFS(DMA!$N$5:$N$503,Graphs!$O39,DMA!O$5:O$503,\">0\"))","v":""},{"$f":"IF($O39=\"\",\"\",COUNTIFS(DMA!$N$5:$N$503,Graphs!$O39,DMA!P$5:P$503,\">0\"))","v":""},{"$f":"IF($O39=\"\",\"\",COUNTIFS(DMA!$N$5:$N$503,Graphs!$O39,DMA!Q$5:Q$503,\">0\"))","v":""}]
[null,null,null,null,null,null,null,null,null,null,null,null,null,null,null,null,null,null,null,null,null,null,null,null,null,null,null,null,"","","",null,null,null,null,null,null,null,null,null,null,"2- 4",{"$f":"COUNTIF(DMA!L$5:L$503,\"<=4\")-SUM(AQ38:AQ39)","v":0},0,4,{"$f":"IF(AR40=\"\",\"\",AR40+AT39)","v":0},null,null,null,null,null,"","","",{"$f":"IF(P40=\"\",\"\",IF(P40=0,\"\",SQRT(SUMIF(DMA!$DK$5:$DK$503,Graphs!$O40,DMA!DL$5:DL$503))/COUNTIF(DMA!$DK$5:$DK$503,Graphs!$O40)))","v":""},{"$f":"IF(Q40=\"\",\"\",IF(Q40=0,\"\",SQRT(SUMIF(DMA!$DK$5:$DK$503,Graphs!$O40,DMA!DM$5:DM$503))/COUNTIF(DMA!$DK$5:$DK$503,Graphs!$O40)))","v":""},{"$f":"IF(R40=\"\",\"\",IF(R40=0,\"\",SQRT(SUMIF(DMA!$DK$5:$DK$503,Graphs!$O40,DMA!DN$5:DN$503))/COUNTIF(DMA!$DK$5:$DK$503,Graphs!$O40)))","v":""},{"$f":"IF($P40=\"\",\"\",IF(P40=0,\"\",AVERAGEIF(DMA!$N$5:$N$503,Graphs!$O40,DMA!O$5:O$503)))","v":""},{"$f":"IF($Q40=\"\",\"\",IF(Q40=0,\"\",AVERAGEIF(DMA!$N$5:$N$503,Graphs!$O40,DMA!P$5:P$503)))","v":""},{"$f":"IF($R40=\"\",\"\",IF(R40=0,\"\",AVERAGEIF(DMA!$N$5:$N$503,Graphs!$O40,DMA!Q$5:Q$503)))","v":""},null,null,null,null,{"$f":"IF($O40=\"\",\"\",COUNTIFS(DMA!$N$5:$N$503,Graphs!$O40,DMA!O$5:O$503,\">0\"))","v":""},{"$f":"IF($O40=\"\",\"\",COUNTIFS(DMA!$N$5:$N$503,Graphs!$O40,DMA!P$5:P$503,\">0\"))","v":""},{"$f":"IF($O40=\"\",\"\",COUNTIFS(DMA!$N$5:$N$503,Graphs!$O40,DMA!Q$5:Q$503,\">0\"))","v":""}]
[null,null,null,null,null,null,null,null,null,null,null,null,null,null,null,null,null,null,null,null,null,null,null,null,null,null,null,null,"","","",null,null,null,null,null,null,null,null,null,null,"4 - 6",{"$f":"COUNTIF(DMA!L$5:L$503,\"<=6\")-SUM(AQ38:AQ40)","v":0},0,6,{"$f":"IF(AR41=\"\",\"\",AR41+AT40)","v":0},null,null,null,null,null,"","","",{"$f":"IF(P41=\"\",\"\",IF(P41=0,\"\",SQRT(SUMIF(DMA!$DK$5:$DK$503,Graphs!$O41,DMA!DL$5:DL$503))/COUNTIF(DMA!$DK$5:$DK$503,Graphs!$O41)))","v":""},{"$f":"IF(Q41=\"\",\"\",IF(Q41=0,\"\",SQRT(SUMIF(DMA!$DK$5:$DK$503,Graphs!$O41,DMA!DM$5:DM$503))/COUNTIF(DMA!$DK$5:$DK$503,Graphs!$O41)))","v":""},{"$f":"IF(R41=\"\",\"\",IF(R41=0,\"\",SQRT(SUMIF(DMA!$DK$5:$DK$503,Graphs!$O41,DMA!DN$5:DN$503))/COUNTIF(DMA!$DK$5:$DK$503,Graphs!$O41)))","v":""},{"$f":"IF($P41=\"\",\"\",IF(P41=0,\"\",AVERAGEIF(DMA!$N$5:$N$503,Graphs!$O41,DMA!O$5:O$503)))","v":""},{"$f":"IF($Q41=\"\",\"\",IF(Q41=0,\"\",AVERAGEIF(DMA!$N$5:$N$503,Graphs!$O41,DMA!P$5:P$503)))","v":""},{"$f":"IF($R41=\"\",\"\",IF(R41=0,\"\",AVERAGEIF(DMA!$N$5:$N$503,Graphs!$O41,DMA!Q$5:Q$503)))","v":""},null,null,null,null,{"$f":"IF($O41=\"\",\"\",COUNTIFS(DMA!$N$5:$N$503,Graphs!$O41,DMA!O$5:O$503,\">0\"))","v":""},{"$f":"IF($O41=\"\",\"\",COUNTIFS(DMA!$N$5:$N$503,Graphs!$O41,DMA!P$5:P$503,\">0\"))","v":""},{"$f":"IF($O41=\"\",\"\",COUNTIFS(DMA!$N$5:$N$503,Graphs!$O41,DMA!Q$5:Q$503,\">0\"))","v":""}]
[null,null,null,null,null,null,null,null,null,null,null,null,null,null,null,null,null,null,null,null,null,null,null,null,null,null,null,null,"","","",null,null,null,null,null,null,null,null,null,null,"6 - 8",{"$f":"COUNTIF(DMA!L$5:L$503,\"<=8\")-SUM(AQ38:AQ41)","v":0},0,8,{"$f":"IF(AR42=\"\",\"\",AR42+AT41)","v":0},null,null,null,null,null,"","","",{"$f":"IF(P42=\"\",\"\",IF(P42=0,\"\",SQRT(SUMIF(DMA!$DK$5:$DK$503,Graphs!$O42,DMA!DL$5:DL$503))/COUNTIF(DMA!$DK$5:$DK$503,Graphs!$O42)))","v":""},{"$f":"IF(Q42=\"\",\"\",IF(Q42=0,\"\",SQRT(SUMIF(DMA!$DK$5:$DK$503,Graphs!$O42,DMA!DM$5:DM$503))/COUNTIF(DMA!$DK$5:$DK$503,Graphs!$O42)))","v":""},{"$f":"IF(R42=\"\",\"\",IF(R42=0,\"\",SQRT(SUMIF(DMA!$DK$5:$DK$503,Graphs!$O42,DMA!DN$5:DN$503))/COUNTIF(DMA!$DK$5:$DK$503,Graphs!$O42)))","v":""},{"$f":"IF($P42=\"\",\"\",IF(P42=0,\"\",AVERAGEIF(DMA!$N$5:$N$503,Graphs!$O42,DMA!O$5:O$503)))","v":""},{"$f":"IF($Q42=\"\",\"\",IF(Q42=0,\"\",AVERAGEIF(DMA!$N$5:$N$503,Graphs!$O42,DMA!P$5:P$503)))","v":""},{"$f":"IF($R42=\"\",\"\",IF(R42=0,\"\",AVERAGEIF(DMA!$N$5:$N$503,Graphs!$O42,DMA!Q$5:Q$503)))","v":""},null,null,null,null,{"$f":"IF($O42=\"\",\"\",COUNTIFS(DMA!$N$5:$N$503,Graphs!$O42,DMA!O$5:O$503,\">0\"))","v":""},{"$f":"IF($O42=\"\",\"\",COUNTIFS(DMA!$N$5:$N$503,Graphs!$O42,DMA!P$5:P$503,\">0\"))","v":""},{"$f":"IF($O42=\"\",\"\",COUNTIFS(DMA!$N$5:$N$503,Graphs!$O42,DMA!Q$5:Q$503,\">0\"))","v":""}]
[null,null,null,null,null,null,null,null,null,null,null,null,null,null,null,null,null,null,null,null,null,null,null,null,null,null,null,null,"","","",null,null,null,null,null,null,null,null,null,null,">8",{"$f":"COUNTIF(DMA!L$5:L$503,\">8\")","v":0},0,10,{"$f":"IF(AR43=\"\",\"\",AR43+AT42)","v":0},null,null,null,null,null,"","","",{"$f":"IF(P43=\"\",\"\",IF(P43=0,\"\",SQRT(SUMIF(DMA!$DK$5:$DK$503,Graphs!$O43,DMA!DL$5:DL$503))/COUNTIF(DMA!$DK$5:$DK$503,Graphs!$O43)))","v":""},{"$f":"IF(Q43=\"\",\"\",IF(Q43=0,\"\",SQRT(SUMIF(DMA!$DK$5:$DK$503,Graphs!$O43,DMA!DM$5:DM$503))/COUNTIF(DMA!$DK$5:$DK$503,Graphs!$O43)))","v":""},{"$f":"IF(R43=\"\",\"\",IF(R43=0,\"\",SQRT(SUMIF(DMA!$DK$5:$DK$503,Graphs!$O43,DMA!DN$5:DN$503))/COUNTIF(DMA!$DK$5:$DK$503,Graphs!$O43)))","v":""},{"$f":"IF($P43=\"\",\"\",IF(P43=0,\"\",AVERAGEIF(DMA!$N$5:$N$503,Graphs!$O43,DMA!O$5:O$503)))","v":""},{"$f":"IF($Q43=\"\",\"\",IF(Q43=0,\"\",AVERAGEIF(DMA!$N$5:$N$503,Graphs!$O43,DMA!P$5:P$503)))","v":""},{"$f":"IF($R43=\"\",\"\",IF(R43=0,\"\",AVERAGEIF(DMA!$N$5:$N$503,Graphs!$O43,DMA!Q$5:Q$503)))","v":""},null,null,null,null,{"$f":"IF($O43=\"\",\"\",COUNTIFS(DMA!$N$5:$N$503,Graphs!$O43,DMA!O$5:O$503,\">0\"))","v":""},{"$f":"IF($O43=\"\",\"\",COUNTIFS(DMA!$N$5:$N$503,Graphs!$O43,DMA!P$5:P$503,\">0\"))","v":""},{"$f":"IF($O43=\"\",\"\",COUNTIFS(DMA!$N$5:$N$503,Graphs!$O43,DMA!Q$5:Q$503,\">0\"))","v":""}]
[null,null,null,null,null,null,null,null,null,null,null,null,null,null,null,null,null,null,null,null,null,null,null,null,null,null,null,null,"","","",null,null,null,null,null,null,null,null,null,null,"Total",{"$f":"SUM(AQ38:AQ43)","v":0},null,null,null,null,null,null,null,null,"","","",{"$f":"IF(P44=\"\",\"\",IF(P44=0,\"\",SQRT(SUMIF(DMA!$DK$5:$DK$503,Graphs!$O44,DMA!DL$5:DL$503))/COUNTIF(DMA!$DK$5:$DK$503,Graphs!$O44)))","v":""},{"$f":"IF(Q44=\"\",\"\",IF(Q44=0,\"\",SQRT(SUMIF(DMA!$DK$5:$DK$503,Graphs!$O44,DMA!DM$5:DM$503))/COUNTIF(DMA!$DK$5:$DK$503,Graphs!$O44)))","v":""},{"$f":"IF(R44=\"\",\"\",IF(R44=0,\"\",SQRT(SUMIF(DMA!$DK$5:$DK$503,Graphs!$O44,DMA!DN$5:DN$503))/COUNTIF(DMA!$DK$5:$DK$503,Graphs!$O44)))","v":""},{"$f":"IF($P44=\"\",\"\",IF(P44=0,\"\",AVERAGEIF(DMA!$N$5:$N$503,Graphs!$O44,DMA!O$5:O$503)))","v":""},{"$f":"IF($Q44=\"\",\"\",IF(Q44=0,\"\",AVERAGEIF(DMA!$N$5:$N$503,Graphs!$O44,DMA!P$5:P$503)))","v":""},{"$f":"IF($R44=\"\",\"\",IF(R44=0,\"\",AVERAGEIF(DMA!$N$5:$N$503,Graphs!$O44,DMA!Q$5:Q$503)))","v":""},null,null,null,null,{"$f":"IF($O44=\"\",\"\",COUNTIFS(DMA!$N$5:$N$503,Graphs!$O44,DMA!O$5:O$503,\">0\"))","v":""},{"$f":"IF($O44=\"\",\"\",COUNTIFS(DMA!$N$5:$N$503,Graphs!$O44,DMA!P$5:P$503,\">0\"))","v":""},{"$f":"IF($O44=\"\",\"\",COUNTIFS(DMA!$N$5:$N$503,Graphs!$O44,DMA!Q$5:Q$503,\">0\"))","v":""}]
[null,null,null,null,null,null,null,null,null,null,null,null,null,null,null,null,null,null,null,null,null,null,null,null,null,null,null,null,"","","",null,null,null,null,null,null,null,null,null,null,null,null,null,null,null,null,null,null,null,null,"","","",{"$f":"IF(P45=\"\",\"\",IF(P45=0,\"\",SQRT(SUMIF(DMA!$DK$5:$DK$503,Graphs!$O45,DMA!DL$5:DL$503))/COUNTIF(DMA!$DK$5:$DK$503,Graphs!$O45)))","v":""},{"$f":"IF(Q45=\"\",\"\",IF(Q45=0,\"\",SQRT(SUMIF(DMA!$DK$5:$DK$503,Graphs!$O45,DMA!DM$5:DM$503))/COUNTIF(DMA!$DK$5:$DK$503,Graphs!$O45)))","v":""},{"$f":"IF(R45=\"\",\"\",IF(R45=0,\"\",SQRT(SUMIF(DMA!$DK$5:$DK$503,Graphs!$O45,DMA!DN$5:DN$503))/COUNTIF(DMA!$DK$5:$DK$503,Graphs!$O45)))","v":""},{"$f":"IF($P45=\"\",\"\",IF(P45=0,\"\",AVERAGEIF(DMA!$N$5:$N$503,Graphs!$O45,DMA!O$5:O$503)))","v":""},{"$f":"IF($Q45=\"\",\"\",IF(Q45=0,\"\",AVERAGEIF(DMA!$N$5:$N$503,Graphs!$O45,DMA!P$5:P$503)))","v":""},{"$f":"IF($R45=\"\",\"\",IF(R45=0,\"\",AVERAGEIF(DMA!$N$5:$N$503,Graphs!$O45,DMA!Q$5:Q$503)))","v":""},null,null,null,null,{"$f":"IF($O45=\"\",\"\",COUNTIFS(DMA!$N$5:$N$503,Graphs!$O45,DMA!O$5:O$503,\">0\"))","v":""},{"$f":"IF($O45=\"\",\"\",COUNTIFS(DMA!$N$5:$N$503,Graphs!$O45,DMA!P$5:P$503,\">0\"))","v":""},{"$f":"IF($O45=\"\",\"\",COUNTIFS(DMA!$N$5:$N$503,Graphs!$O45,DMA!Q$5:Q$503,\">0\"))","v":""}]
[null,null,null,null,null,null,null,null,null,null,null,null,null,null,null,null,null,null,null,null,null,null,null,null,null,null,null,null,"","","",null,null,null,null,null,null,null,null,null,null,null,null,null,null,null,null,null,null,null,null,"","","",{"$f":"IF(P46=\"\",\"\",IF(P46=0,\"\",SQRT(SUMIF(DMA!$DK$5:$DK$503,Graphs!$O46,DMA!DL$5:DL$503))/COUNTIF(DMA!$DK$5:$DK$503,Graphs!$O46)))","v":""},{"$f":"IF(Q46=\"\",\"\",IF(Q46=0,\"\",SQRT(SUMIF(DMA!$DK$5:$DK$503,Graphs!$O46,DMA!DM$5:DM$503))/COUNTIF(DMA!$DK$5:$DK$503,Graphs!$O46)))","v":""},{"$f":"IF(R46=\"\",\"\",IF(R46=0,\"\",SQRT(SUMIF(DMA!$DK$5:$DK$503,Graphs!$O46,DMA!DN$5:DN$503))/COUNTIF(DMA!$DK$5:$DK$503,Graphs!$O46)))","v":""},{"$f":"IF($P46=\"\",\"\",IF(P46=0,\"\",AVERAGEIF(DMA!$N$5:$N$503,Graphs!$O46,DMA!O$5:O$503)))","v":""},{"$f":"IF($Q46=\"\",\"\",IF(Q46=0,\"\",AVERAGEIF(DMA!$N$5:$N$503,Graphs!$O46,DMA!P$5:P$503)))","v":""},{"$f":"IF($R46=\"\",\"\",IF(R46=0,\"\",AVERAGEIF(DMA!$N$5:$N$503,Graphs!$O46,DMA!Q$5:Q$503)))","v":""},null,null,null,null,{"$f":"IF($O46=\"\",\"\",COUNTIFS(DMA!$N$5:$N$503,Graphs!$O46,DMA!O$5:O$503,\">0\"))","v":""},{"$f":"IF($O46=\"\",\"\",COUNTIFS(DMA!$N$5:$N$503,Graphs!$O46,DMA!P$5:P$503,\">0\"))","v":""},{"$f":"IF($O46=\"\",\"\",COUNTIFS(DMA!$N$5:$N$503,Graphs!$O46,DMA!Q$5:Q$503,\">0\"))","v":""}]
[null,null,null,null,null,null,null,null,null,null,null,null,null,null,null,null,null,null,null,null,null,null,null,null,null,null,null,null,"","","",null,null,null,null,null,null,null,null,null,null,null,null,null,null,null,null,null,null,null,null,"","","",{"$f":"IF(P47=\"\",\"\",IF(P47=0,\"\",SQRT(SUMIF(DMA!$DK$5:$DK$503,Graphs!$O47,DMA!DL$5:DL$503))/COUNTIF(DMA!$DK$5:$DK$503,Graphs!$O47)))","v":""},{"$f":"IF(Q47=\"\",\"\",IF(Q47=0,\"\",SQRT(SUMIF(DMA!$DK$5:$DK$503,Graphs!$O47,DMA!DM$5:DM$503))/COUNTIF(DMA!$DK$5:$DK$503,Graphs!$O47)))","v":""},{"$f":"IF(R47=\"\",\"\",IF(R47=0,\"\",SQRT(SUMIF(DMA!$DK$5:$DK$503,Graphs!$O47,DMA!DN$5:DN$503))/COUNTIF(DMA!$DK$5:$DK$503,Graphs!$O47)))","v":""},{"$f":"IF($P47=\"\",\"\",IF(P47=0,\"\",AVERAGEIF(DMA!$N$5:$N$503,Graphs!$O47,DMA!O$5:O$503)))","v":""},{"$f":"IF($Q47=\"\",\"\",IF(Q47=0,\"\",AVERAGEIF(DMA!$N$5:$N$503,Graphs!$O47,DMA!P$5:P$503)))","v":""},{"$f":"IF($R47=\"\",\"\",IF(R47=0,\"\",AVERAGEIF(DMA!$N$5:$N$503,Graphs!$O47,DMA!Q$5:Q$503)))","v":""},null,null,null,null,{"$f":"IF($O47=\"\",\"\",COUNTIFS(DMA!$N$5:$N$503,Graphs!$O47,DMA!O$5:O$503,\">0\"))","v":""},{"$f":"IF($O47=\"\",\"\",COUNTIFS(DMA!$N$5:$N$503,Graphs!$O47,DMA!P$5:P$503,\">0\"))","v":""},{"$f":"IF($O47=\"\",\"\",COUNTIFS(DMA!$N$5:$N$503,Graphs!$O47,DMA!Q$5:Q$503,\">0\"))","v":""}]
[null,null,null,null,null,null,null,null,null,null,null,null,null,null,null,null,null,null,null,null,null,null,null,null,null,null,null,null,"","","",null,null,null,null,null,null,null,null,null,null,null,null,null,null,null,null,null,null,null,null,"","","",{"$f":"IF(P48=\"\",\"\",IF(P48=0,\"\",SQRT(SUMIF(DMA!$DK$5:$DK$503,Graphs!$O48,DMA!DL$5:DL$503))/COUNTIF(DMA!$DK$5:$DK$503,Graphs!$O48)))","v":""},{"$f":"IF(Q48=\"\",\"\",IF(Q48=0,\"\",SQRT(SUMIF(DMA!$DK$5:$DK$503,Graphs!$O48,DMA!DM$5:DM$503))/COUNTIF(DMA!$DK$5:$DK$503,Graphs!$O48)))","v":""},{"$f":"IF(R48=\"\",\"\",IF(R48=0,\"\",SQRT(SUMIF(DMA!$DK$5:$DK$503,Graphs!$O48,DMA!DN$5:DN$503))/COUNTIF(DMA!$DK$5:$DK$503,Graphs!$O48)))","v":""},{"$f":"IF($P48=\"\",\"\",IF(P48=0,\"\",AVERAGEIF(DMA!$N$5:$N$503,Graphs!$O48,DMA!O$5:O$503)))","v":""},{"$f":"IF($Q48=\"\",\"\",IF(Q48=0,\"\",AVERAGEIF(DMA!$N$5:$N$503,Graphs!$O48,DMA!P$5:P$503)))","v":""},{"$f":"IF($R48=\"\",\"\",IF(R48=0,\"\",AVERAGEIF(DMA!$N$5:$N$503,Graphs!$O48,DMA!Q$5:Q$503)))","v":""},null,null,null,null,{"$f":"IF($O48=\"\",\"\",COUNTIFS(DMA!$N$5:$N$503,Graphs!$O48,DMA!O$5:O$503,\">0\"))","v":""},{"$f":"IF($O48=\"\",\"\",COUNTIFS(DMA!$N$5:$N$503,Graphs!$O48,DMA!P$5:P$503,\">0\"))","v":""},{"$f":"IF($O48=\"\",\"\",COUNTIFS(DMA!$N$5:$N$503,Graphs!$O48,DMA!Q$5:Q$503,\">0\"))","v":""}]
[null,null,null,null,null,null,null,null,null,null,null,null,null,null,null,null,null,null,null,null,null,null,null,null,null,null,null,null,"","","",null,null,null,null,null,null,null,null,null,null,null,null,null,null,null,null,null,null,null,null,"","","",{"$f":"IF(P49=\"\",\"\",IF(P49=0,\"\",SQRT(SUMIF(DMA!$DK$5:$DK$503,Graphs!$O49,DMA!DL$5:DL$503))/COUNTIF(DMA!$DK$5:$DK$503,Graphs!$O49)))","v":""},{"$f":"IF(Q49=\"\",\"\",IF(Q49=0,\"\",SQRT(SUMIF(DMA!$DK$5:$DK$503,Graphs!$O49,DMA!DM$5:DM$503))/COUNTIF(DMA!$DK$5:$DK$503,Graphs!$O49)))","v":""},{"$f":"IF(R49=\"\",\"\",IF(R49=0,\"\",SQRT(SUMIF(DMA!$DK$5:$DK$503,Graphs!$O49,DMA!DN$5:DN$503))/COUNTIF(DMA!$DK$5:$DK$503,Graphs!$O49)))","v":""},{"$f":"IF($P49=\"\",\"\",IF(P49=0,\"\",AVERAGEIF(DMA!$N$5:$N$503,Graphs!$O49,DMA!O$5:O$503)))","v":""},{"$f":"IF($Q49=\"\",\"\",IF(Q49=0,\"\",AVERAGEIF(DMA!$N$5:$N$503,Graphs!$O49,DMA!P$5:P$503)))","v":""},{"$f":"IF($R49=\"\",\"\",IF(R49=0,\"\",AVERAGEIF(DMA!$N$5:$N$503,Graphs!$O49,DMA!Q$5:Q$503)))","v":""},null,null,null,null,{"$f":"IF($O49=\"\",\"\",COUNTIFS(DMA!$N$5:$N$503,Graphs!$O49,DMA!O$5:O$503,\">0\"))","v":""},{"$f":"IF($O49=\"\",\"\",COUNTIFS(DMA!$N$5:$N$503,Graphs!$O49,DMA!P$5:P$503,\">0\"))","v":""},{"$f":"IF($O49=\"\",\"\",COUNTIFS(DMA!$N$5:$N$503,Graphs!$O49,DMA!Q$5:Q$503,\">0\"))","v":""}]
[null,null,null,null,null,null,null,null,null,null,null,null,null,null,null,null,null,null,null,null,null,null,null,null,null,null,null,null,"","","",null,null,null,null,null,null,null,null,null,null,null,null,null,null,null,null,null,null,null,null,"","","",{"$f":"IF(P50=\"\",\"\",IF(P50=0,\"\",SQRT(SUMIF(DMA!$DK$5:$DK$503,Graphs!$O50,DMA!DL$5:DL$503))/COUNTIF(DMA!$DK$5:$DK$503,Graphs!$O50)))","v":""},{"$f":"IF(Q50=\"\",\"\",IF(Q50=0,\"\",SQRT(SUMIF(DMA!$DK$5:$DK$503,Graphs!$O50,DMA!DM$5:DM$503))/COUNTIF(DMA!$DK$5:$DK$503,Graphs!$O50)))","v":""},{"$f":"IF(R50=\"\",\"\",IF(R50=0,\"\",SQRT(SUMIF(DMA!$DK$5:$DK$503,Graphs!$O50,DMA!DN$5:DN$503))/COUNTIF(DMA!$DK$5:$DK$503,Graphs!$O50)))","v":""},{"$f":"IF($P50=\"\",\"\",IF(P50=0,\"\",AVERAGEIF(DMA!$N$5:$N$503,Graphs!$O50,DMA!O$5:O$503)))","v":""},{"$f":"IF($Q50=\"\",\"\",IF(Q50=0,\"\",AVERAGEIF(DMA!$N$5:$N$503,Graphs!$O50,DMA!P$5:P$503)))","v":""},{"$f":"IF($R50=\"\",\"\",IF(R50=0,\"\",AVERAGEIF(DMA!$N$5:$N$503,Graphs!$O50,DMA!Q$5:Q$503)))","v":""},null,null,null,null,{"$f":"IF($O50=\"\",\"\",COUNTIFS(DMA!$N$5:$N$503,Graphs!$O50,DMA!O$5:O$503,\">0\"))","v":""},{"$f":"IF($O50=\"\",\"\",COUNTIFS(DMA!$N$5:$N$503,Graphs!$O50,DMA!P$5:P$503,\">0\"))","v":""},{"$f":"IF($O50=\"\",\"\",COUNTIFS(DMA!$N$5:$N$503,Graphs!$O50,DMA!Q$5:Q$503,\">0\"))","v":""}]
[null,null,null,null,null,null,null,null,null,null,null,null,null,null,null,null,null,null,null,null,null,null,null,null,null,null,null,null,"","","",null,null,null,null,null,null,null,null,null,null,null,null,null,null,null,null,null,null,null,null,"","","",{"$f":"IF(P51=\"\",\"\",IF(P51=0,\"\",SQRT(SUMIF(DMA!$DK$5:$DK$503,Graphs!$O51,DMA!DL$5:DL$503))/COUNTIF(DMA!$DK$5:$DK$503,Graphs!$O51)))","v":""},{"$f":"IF(Q51=\"\",\"\",IF(Q51=0,\"\",SQRT(SUMIF(DMA!$DK$5:$DK$503,Graphs!$O51,DMA!DM$5:DM$503))/COUNTIF(DMA!$DK$5:$DK$503,Graphs!$O51)))","v":""},{"$f":"IF(R51=\"\",\"\",IF(R51=0,\"\",SQRT(SUMIF(DMA!$DK$5:$DK$503,Graphs!$O51,DMA!DN$5:DN$503))/COUNTIF(DMA!$DK$5:$DK$503,Graphs!$O51)))","v":""},{"$f":"IF($P51=\"\",\"\",IF(P51=0,\"\",AVERAGEIF(DMA!$N$5:$N$503,Graphs!$O51,DMA!O$5:O$503)))","v":""},{"$f":"IF($Q51=\"\",\"\",IF(Q51=0,\"\",AVERAGEIF(DMA!$N$5:$N$503,Graphs!$O51,DMA!P$5:P$503)))","v":""},{"$f":"IF($R51=\"\",\"\",IF(R51=0,\"\",AVERAGEIF(DMA!$N$5:$N$503,Graphs!$O51,DMA!Q$5:Q$503)))","v":""},null,null,null,null,{"$f":"IF($O51=\"\",\"\",COUNTIFS(DMA!$N$5:$N$503,Graphs!$O51,DMA!O$5:O$503,\">0\"))","v":""},{"$f":"IF($O51=\"\",\"\",COUNTIFS(DMA!$N$5:$N$503,Graphs!$O51,DMA!P$5:P$503,\">0\"))","v":""},{"$f":"IF($O51=\"\",\"\",COUNTIFS(DMA!$N$5:$N$503,Graphs!$O51,DMA!Q$5:Q$503,\">0\"))","v":""}]
[null,null,null,null,null,null,null,null,null,null,null,null,null,null,null,null,null,null,null,null,null,null,null,null,null,null,null,null,"","","",null,null,null,null,null,null,null,null,null,null,null,null,null,null,null,null,null,null,null,null,"","","",{"$f":"IF(P52=\"\",\"\",IF(P52=0,\"\",SQRT(SUMIF(DMA!$DK$5:$DK$503,Graphs!$O52,DMA!DL$5:DL$503))/COUNTIF(DMA!$DK$5:$DK$503,Graphs!$O52)))","v":""},{"$f":"IF(Q52=\"\",\"\",IF(Q52=0,\"\",SQRT(SUMIF(DMA!$DK$5:$DK$503,Graphs!$O52,DMA!DM$5:DM$503))/COUNTIF(DMA!$DK$5:$DK$503,Graphs!$O52)))","v":""},{"$f":"IF(R52=\"\",\"\",IF(R52=0,\"\",SQRT(SUMIF(DMA!$DK$5:$DK$503,Graphs!$O52,DMA!DN$5:DN$503))/COUNTIF(DMA!$DK$5:$DK$503,Graphs!$O52)))","v":""},{"$f":"IF($P52=\"\",\"\",IF(P52=0,\"\",AVERAGEIF(DMA!$N$5:$N$503,Graphs!$O52,DMA!O$5:O$503)))","v":""},{"$f":"IF($Q52=\"\",\"\",IF(Q52=0,\"\",AVERAGEIF(DMA!$N$5:$N$503,Graphs!$O52,DMA!P$5:P$503)))","v":""},{"$f":"IF($R52=\"\",\"\",IF(R52=0,\"\",AVERAGEIF(DMA!$N$5:$N$503,Graphs!$O52,DMA!Q$5:Q$503)))","v":""},null,null,null,null,{"$f":"IF($O52=\"\",\"\",COUNTIFS(DMA!$N$5:$N$503,Graphs!$O52,DMA!O$5:O$503,\">0\"))","v":""},{"$f":"IF($O52=\"\",\"\",COUNTIFS(DMA!$N$5:$N$503,Graphs!$O52,DMA!P$5:P$503,\">0\"))","v":""},{"$f":"IF($O52=\"\",\"\",COUNTIFS(DMA!$N$5:$N$503,Graphs!$O52,DMA!Q$5:Q$503,\">0\"))","v":""}]
[null,null,null,null,null,null,null,null,null,null,null,null,null,null,null,null,null,null,null,null,null,null,null,null,null,null,null,null,"","","",null,null,null,null,null,null,null,null,null,null,null,null,null,null,null,null,null,null,null,null,"","","",{"$f":"IF(P53=\"\",\"\",IF(P53=0,\"\",SQRT(SUMIF(DMA!$DK$5:$DK$503,Graphs!$O53,DMA!DL$5:DL$503))/COUNTIF(DMA!$DK$5:$DK$503,Graphs!$O53)))","v":""},{"$f":"IF(Q53=\"\",\"\",IF(Q53=0,\"\",SQRT(SUMIF(DMA!$DK$5:$DK$503,Graphs!$O53,DMA!DM$5:DM$503))/COUNTIF(DMA!$DK$5:$DK$503,Graphs!$O53)))","v":""},{"$f":"IF(R53=\"\",\"\",IF(R53=0,\"\",SQRT(SUMIF(DMA!$DK$5:$DK$503,Graphs!$O53,DMA!DN$5:DN$503))/COUNTIF(DMA!$DK$5:$DK$503,Graphs!$O53)))","v":""},{"$f":"IF($P53=\"\",\"\",IF(P53=0,\"\",AVERAGEIF(DMA!$N$5:$N$503,Graphs!$O53,DMA!O$5:O$503)))","v":""},{"$f":"IF($Q53=\"\",\"\",IF(Q53=0,\"\",AVERAGEIF(DMA!$N$5:$N$503,Graphs!$O53,DMA!P$5:P$503)))","v":""},{"$f":"IF($R53=\"\",\"\",IF(R53=0,\"\",AVERAGEIF(DMA!$N$5:$N$503,Graphs!$O53,DMA!Q$5:Q$503)))","v":""},null,null,null,null,{"$f":"IF($O53=\"\",\"\",COUNTIFS(DMA!$N$5:$N$503,Graphs!$O53,DMA!O$5:O$503,\">0\"))","v":""},{"$f":"IF($O53=\"\",\"\",COUNTIFS(DMA!$N$5:$N$503,Graphs!$O53,DMA!P$5:P$503,\">0\"))","v":""},{"$f":"IF($O53=\"\",\"\",COUNTIFS(DMA!$N$5:$N$503,Graphs!$O53,DMA!Q$5:Q$503,\">0\"))","v":""}]
[null,null,null,null,null,null,null,null,null,null,null,null,null,null,null,null,null,null,null,null,null,null,null,null,null,null,null,null,"","","",null,null,null,null,null,null,null,null,null,null,null,null,null,null,null,null,null,null,null,null,"","","",{"$f":"IF(P54=\"\",\"\",IF(P54=0,\"\",SQRT(SUMIF(DMA!$DK$5:$DK$503,Graphs!$O54,DMA!DL$5:DL$503))/COUNTIF(DMA!$DK$5:$DK$503,Graphs!$O54)))","v":""},{"$f":"IF(Q54=\"\",\"\",IF(Q54=0,\"\",SQRT(SUMIF(DMA!$DK$5:$DK$503,Graphs!$O54,DMA!DM$5:DM$503))/COUNTIF(DMA!$DK$5:$DK$503,Graphs!$O54)))","v":""},{"$f":"IF(R54=\"\",\"\",IF(R54=0,\"\",SQRT(SUMIF(DMA!$DK$5:$DK$503,Graphs!$O54,DMA!DN$5:DN$503))/COUNTIF(DMA!$DK$5:$DK$503,Graphs!$O54)))","v":""},{"$f":"IF($P54=\"\",\"\",IF(P54=0,\"\",AVERAGEIF(DMA!$N$5:$N$503,Graphs!$O54,DMA!O$5:O$503)))","v":""},{"$f":"IF($Q54=\"\",\"\",IF(Q54=0,\"\",AVERAGEIF(DMA!$N$5:$N$503,Graphs!$O54,DMA!P$5:P$503)))","v":""},{"$f":"IF($R54=\"\",\"\",IF(R54=0,\"\",AVERAGEIF(DMA!$N$5:$N$503,Graphs!$O54,DMA!Q$5:Q$503)))","v":""},null,null,null,null,{"$f":"IF($O54=\"\",\"\",COUNTIFS(DMA!$N$5:$N$503,Graphs!$O54,DMA!O$5:O$503,\">0\"))","v":""},{"$f":"IF($O54=\"\",\"\",COUNTIFS(DMA!$N$5:$N$503,Graphs!$O54,DMA!P$5:P$503,\">0\"))","v":""},{"$f":"IF($O54=\"\",\"\",COUNTIFS(DMA!$N$5:$N$503,Graphs!$O54,DMA!Q$5:Q$503,\">0\"))","v":""}]
[null,null,null,null,null,null,null,null,null,null,null,null,null,null,null,null,null,null,null,null,null,null,null,null,null,null,null,null,"","","",null,null,null,null,null,null,null,null,null,null,null,null,null,null,null,null,null,null,null,null,"","","",{"$f":"IF(P55=\"\",\"\",IF(P55=0,\"\",SQRT(SUMIF(DMA!$DK$5:$DK$503,Graphs!$O55,DMA!DL$5:DL$503))/COUNTIF(DMA!$DK$5:$DK$503,Graphs!$O55)))","v":""},{"$f":"IF(Q55=\"\",\"\",IF(Q55=0,\"\",SQRT(SUMIF(DMA!$DK$5:$DK$503,Graphs!$O55,DMA!DM$5:DM$503))/COUNTIF(DMA!$DK$5:$DK$503,Graphs!$O55)))","v":""},{"$f":"IF(R55=\"\",\"\",IF(R55=0,\"\",SQRT(SUMIF(DMA!$DK$5:$DK$503,Graphs!$O55,DMA!DN$5:DN$503))/COUNTIF(DMA!$DK$5:$DK$503,Graphs!$O55)))","v":""},{"$f":"IF($P55=\"\",\"\",IF(P55=0,\"\",AVERAGEIF(DMA!$N$5:$N$503,Graphs!$O55,DMA!O$5:O$503)))","v":""},{"$f":"IF($Q55=\"\",\"\",IF(Q55=0,\"\",AVERAGEIF(DMA!$N$5:$N$503,Graphs!$O55,DMA!P$5:P$503)))","v":""},{"$f":"IF($R55=\"\",\"\",IF(R55=0,\"\",AVERAGEIF(DMA!$N$5:$N$503,Graphs!$O55,DMA!Q$5:Q$503)))","v":""},null,null,null,null,{"$f":"IF($O55=\"\",\"\",COUNTIFS(DMA!$N$5:$N$503,Graphs!$O55,DMA!O$5:O$503,\">0\"))","v":""},{"$f":"IF($O55=\"\",\"\",COUNTIFS(DMA!$N$5:$N$503,Graphs!$O55,DMA!P$5:P$503,\">0\"))","v":""},{"$f":"IF($O55=\"\",\"\",COUNTIFS(DMA!$N$5:$N$503,Graphs!$O55,DMA!Q$5:Q$503,\">0\"))","v":""}]
[null,null,null,null,null,null,null,null,null,null,null,null,null,null,null,null,null,null,null,null,null,null,null,null,null,null,null,null,null,null,null,null,null,null,null,null,null,null,null,null,null,null,null,null,null,null,null,null,null,null,null,{"$f":"IF(BC56=\"\",\"\",IF(BC56=1,\"\",IF(BC56=0,\"\",CONFIDENCE(0.05,BC56,BM56))))","v":""},{"$f":"IF(BD56=\"\",\"\",IF(BD56=1,\"\",IF(BD56=0,\"\",CONFIDENCE(0.05,BD56,BN56))))","v":""},{"$f":"IF(BE56=\"\",\"\",IF(BE56=1,\"\",IF(BE56=0,\"\",CONFIDENCE(0.05,BE56,BO56))))","v":""},{"$f":"IF(P56=\"\",\"\",IF(P56=0,\"\",SQRT(SUMIF(DMA!$DK$5:$DK$503,Graphs!$O56,DMA!DL$5:DL$503))/COUNTIF(DMA!$DK$5:$DK$503,Graphs!$O56)))","v":""},{"$f":"IF(Q56=\"\",\"\",IF(Q56=0,\"\",SQRT(SUMIF(DMA!$DK$5:$DK$503,Graphs!$O56,DMA!DM$5:DM$503))/COUNTIF(DMA!$DK$5:$DK$503,Graphs!$O56)))","v":""},{"$f":"IF(R56=\"\",\"\",IF(R56=0,\"\",SQRT(SUMIF(DMA!$DK$5:$DK$503,Graphs!$O56,DMA!DN$5:DN$503))/COUNTIF(DMA!$DK$5:$DK$503,Graphs!$O56)))","v":""},{"$f":"IF($P56=\"\",\"\",IF(P56=0,\"\",AVERAGEIF(DMA!$N$5:$N$503,Graphs!$O56,DMA!O$5:O$503)))","v":""},{"$f":"IF($Q56=\"\",\"\",IF(Q56=0,\"\",AVERAGEIF(DMA!$N$5:$N$503,Graphs!$O56,DMA!P$5:P$503)))","v":""},{"$f":"IF($R56=\"\",\"\",IF(R56=0,\"\",AVERAGEIF(DMA!$N$5:$N$503,Graphs!$O56,DMA!Q$5:Q$503)))","v":""}]
[null,null,null,null,null,null,null,null,null,null,null,null,null,null,null,null,null,null,null,null,null,null,null,null,null,null,null,null,null,null,null,null,null,null,null,null,null,null,null,null,null,null,null,null,null,null,null,null,null,null,null,"","","",{"$f":"IF(P57=\"\",\"\",IF(P57=0,\"\",SQRT(SUMIF(DMA!$DK$5:$DK$503,Graphs!$O57,DMA!DL$5:DL$503))/COUNTIF(DMA!$DK$5:$DK$503,Graphs!$O57)))","v":""},{"$f":"IF(Q57=\"\",\"\",IF(Q57=0,\"\",SQRT(SUMIF(DMA!$DK$5:$DK$503,Graphs!$O57,DMA!DM$5:DM$503))/COUNTIF(DMA!$DK$5:$DK$503,Graphs!$O57)))","v":""},{"$f":"IF(R57=\"\",\"\",IF(R57=0,\"\",SQRT(SUMIF(DMA!$DK$5:$DK$503,Graphs!$O57,DMA!DN$5:DN$503))/COUNTIF(DMA!$DK$5:$DK$503,Graphs!$O57)))","v":""},{"$f":"IF($P57=\"\",\"\",IF(P57=0,\"\",AVERAGEIF(DMA!$N$5:$N$503,Graphs!$O57,DMA!O$5:O$503)))","v":""},{"$f":"IF($Q57=\"\",\"\",IF(Q57=0,\"\",AVERAGEIF(DMA!$N$5:$N$503,Graphs!$O57,DMA!P$5:P$503)))","v":""},{"$f":"IF($R57=\"\",\"\",IF(R57=0,\"\",AVERAGEIF(DMA!$N$5:$N$503,Graphs!$O57,DMA!Q$5:Q$503)))","v":""}]
[null,null,null,null,null,null,null,null,null,null,null,null,null,null,null,null,null,null,null,null,null,null,null,null,null,null,null,null,null,null,null,null,null,null,null,null,null,null,null,null,null,null,null,null,null,null,null,null,null,null,null,"","","",{"$f":"IF(P58=\"\",\"\",IF(P58=0,\"\",SQRT(SUMIF(DMA!$DK$5:$DK$503,Graphs!$O58,DMA!DL$5:DL$503))/COUNTIF(DMA!$DK$5:$DK$503,Graphs!$O58)))","v":""},{"$f":"IF(Q58=\"\",\"\",IF(Q58=0,\"\",SQRT(SUMIF(DMA!$DK$5:$DK$503,Graphs!$O58,DMA!DM$5:DM$503))/COUNTIF(DMA!$DK$5:$DK$503,Graphs!$O58)))","v":""},{"$f":"IF(R58=\"\",\"\",IF(R58=0,\"\",SQRT(SUMIF(DMA!$DK$5:$DK$503,Graphs!$O58,DMA!DN$5:DN$503))/COUNTIF(DMA!$DK$5:$DK$503,Graphs!$O58)))","v":""},{"$f":"IF($P58=\"\",\"\",IF(P58=0,\"\",AVERAGEIF(DMA!$N$5:$N$503,Graphs!$O58,DMA!O$5:O$503)))","v":""},{"$f":"IF($Q58=\"\",\"\",IF(Q58=0,\"\",AVERAGEIF(DMA!$N$5:$N$503,Graphs!$O58,DMA!P$5:P$503)))","v":""},{"$f":"IF($R58=\"\",\"\",IF(R58=0,\"\",AVERAGEIF(DMA!$N$5:$N$503,Graphs!$O58,DMA!Q$5:Q$503)))","v":""}]
[null,null,null,null,null,null,null,null,null,null,null,null,null,null,null,null,null,null,null,null,null,null,null,null,null,null,null,null,null,null,null,null,null,null,null,null,null,null,null,null,null,null,null,null,null,null,null,null,null,null,null,"","","",{"$f":"IF(P59=\"\",\"\",IF(P59=0,\"\",SQRT(SUMIF(DMA!$DK$5:$DK$503,Graphs!$O59,DMA!DL$5:DL$503))/COUNTIF(DMA!$DK$5:$DK$503,Graphs!$O59)))","v":""},{"$f":"IF(Q59=\"\",\"\",IF(Q59=0,\"\",SQRT(SUMIF(DMA!$DK$5:$DK$503,Graphs!$O59,DMA!DM$5:DM$503))/COUNTIF(DMA!$DK$5:$DK$503,Graphs!$O59)))","v":""},{"$f":"IF(R59=\"\",\"\",IF(R59=0,\"\",SQRT(SUMIF(DMA!$DK$5:$DK$503,Graphs!$O59,DMA!DN$5:DN$503))/COUNTIF(DMA!$DK$5:$DK$503,Graphs!$O59)))","v":""},{"$f":"IF($P59=\"\",\"\",IF(P59=0,\"\",AVERAGEIF(DMA!$N$5:$N$503,Graphs!$O59,DMA!O$5:O$503)))","v":""},{"$f":"IF($Q59=\"\",\"\",IF(Q59=0,\"\",AVERAGEIF(DMA!$N$5:$N$503,Graphs!$O59,DMA!P$5:P$503)))","v":""},{"$f":"IF($R59=\"\",\"\",IF(R59=0,\"\",AVERAGEIF(DMA!$N$5:$N$503,Graphs!$O59,DMA!Q$5:Q$503)))","v":""}]
[null,null,null,null,null,null,null,null,null,null,null,null,null,null,null,null,null,null,null,null,null,null,null,null,null,null,null,null,null,null,null,null,null,null,null,null,null,null,null,null,null,null,null,null,null,null,null,null,null,null,null,"","","",{"$f":"IF(P60=\"\",\"\",IF(P60=0,\"\",SQRT(SUMIF(DMA!$DK$5:$DK$503,Graphs!$O60,DMA!DL$5:DL$503))/COUNTIF(DMA!$DK$5:$DK$503,Graphs!$O60)))","v":""},{"$f":"IF(Q60=\"\",\"\",IF(Q60=0,\"\",SQRT(SUMIF(DMA!$DK$5:$DK$503,Graphs!$O60,DMA!DM$5:DM$503))/COUNTIF(DMA!$DK$5:$DK$503,Graphs!$O60)))","v":""},{"$f":"IF(R60=\"\",\"\",IF(R60=0,\"\",SQRT(SUMIF(DMA!$DK$5:$DK$503,Graphs!$O60,DMA!DN$5:DN$503))/COUNTIF(DMA!$DK$5:$DK$503,Graphs!$O60)))","v":""},{"$f":"IF($P60=\"\",\"\",IF(P60=0,\"\",AVERAGEIF(DMA!$N$5:$N$503,Graphs!$O60,DMA!O$5:O$503)))","v":""},{"$f":"IF($Q60=\"\",\"\",IF(Q60=0,\"\",AVERAGEIF(DMA!$N$5:$N$503,Graphs!$O60,DMA!P$5:P$503)))","v":""},{"$f":"IF($R60=\"\",\"\",IF(R60=0,\"\",AVERAGEIF(DMA!$N$5:$N$503,Graphs!$O60,DMA!Q$5:Q$503)))","v":""}]
[null,null,null,null,null,null,null,null,null,null,null,null,null,null,null,null,null,null,null,null,null,null,null,null,null,null,null,null,null,null,null,null,null,null,null,null,null,null,null,null,null,null,null,null,null,null,null,null,null,null,null,"","","",{"$f":"IF(P61=\"\",\"\",IF(P61=0,\"\",SQRT(SUMIF(DMA!$DK$5:$DK$503,Graphs!$O61,DMA!DL$5:DL$503))/COUNTIF(DMA!$DK$5:$DK$503,Graphs!$O61)))","v":""},{"$f":"IF(Q61=\"\",\"\",IF(Q61=0,\"\",SQRT(SUMIF(DMA!$DK$5:$DK$503,Graphs!$O61,DMA!DM$5:DM$503))/COUNTIF(DMA!$DK$5:$DK$503,Graphs!$O61)))","v":""},{"$f":"IF(R61=\"\",\"\",IF(R61=0,\"\",SQRT(SUMIF(DMA!$DK$5:$DK$503,Graphs!$O61,DMA!DN$5:DN$503))/COUNTIF(DMA!$DK$5:$DK$503,Graphs!$O61)))","v":""},{"$f":"IF($P61=\"\",\"\",IF(P61=0,\"\",AVERAGEIF(DMA!$N$5:$N$503,Graphs!$O61,DMA!O$5:O$503)))","v":""},{"$f":"IF($Q61=\"\",\"\",IF(Q61=0,\"\",AVERAGEIF(DMA!$N$5:$N$503,Graphs!$O61,DMA!P$5:P$503)))","v":""},{"$f":"IF($R61=\"\",\"\",IF(R61=0,\"\",AVERAGEIF(DMA!$N$5:$N$503,Graphs!$O61,DMA!Q$5:Q$503)))","v":""}]
[null,null,null,null,null,null,null,null,null,null,null,null,null,null,null,null,null,null,null,null,null,null,null,null,null,null,null,null,null,null,null,null,null,null,null,null,null,null,null,null,null,null,null,null,null,null,null,null,null,null,null,"","","",{"$f":"IF(P62=\"\",\"\",IF(P62=0,\"\",SQRT(SUMIF(DMA!$DK$5:$DK$503,Graphs!$O62,DMA!DL$5:DL$503))/COUNTIF(DMA!$DK$5:$DK$503,Graphs!$O62)))","v":""},{"$f":"IF(Q62=\"\",\"\",IF(Q62=0,\"\",SQRT(SUMIF(DMA!$DK$5:$DK$503,Graphs!$O62,DMA!DM$5:DM$503))/COUNTIF(DMA!$DK$5:$DK$503,Graphs!$O62)))","v":""},{"$f":"IF(R62=\"\",\"\",IF(R62=0,\"\",SQRT(SUMIF(DMA!$DK$5:$DK$503,Graphs!$O62,DMA!DN$5:DN$503))/COUNTIF(DMA!$DK$5:$DK$503,Graphs!$O62)))","v":""},{"$f":"IF($P62=\"\",\"\",IF(P62=0,\"\",AVERAGEIF(DMA!$N$5:$N$503,Graphs!$O62,DMA!O$5:O$503)))","v":""},{"$f":"IF($Q62=\"\",\"\",IF(Q62=0,\"\",AVERAGEIF(DMA!$N$5:$N$503,Graphs!$O62,DMA!P$5:P$503)))","v":""},{"$f":"IF($R62=\"\",\"\",IF(R62=0,\"\",AVERAGEIF(DMA!$N$5:$N$503,Graphs!$O62,DMA!Q$5:Q$503)))","v":""}]
[null,null,null,null,null,null,null,null,null,null,null,null,null,null,null,null,null,null,null,null,null,null,null,null,null,null,null,null,null,null,null,null,null,null,null,null,null,null,null,null,null,null,null,null,null,null,null,null,null,null,null,"","","",{"$f":"IF(P63=\"\",\"\",IF(P63=0,\"\",SQRT(SUMIF(DMA!$DK$5:$DK$503,Graphs!$O63,DMA!DL$5:DL$503))/COUNTIF(DMA!$DK$5:$DK$503,Graphs!$O63)))","v":""},{"$f":"IF(Q63=\"\",\"\",IF(Q63=0,\"\",SQRT(SUMIF(DMA!$DK$5:$DK$503,Graphs!$O63,DMA!DM$5:DM$503))/COUNTIF(DMA!$DK$5:$DK$503,Graphs!$O63)))","v":""},{"$f":"IF(R63=\"\",\"\",IF(R63=0,\"\",SQRT(SUMIF(DMA!$DK$5:$DK$503,Graphs!$O63,DMA!DN$5:DN$503))/COUNTIF(DMA!$DK$5:$DK$503,Graphs!$O63)))","v":""},{"$f":"IF($P63=\"\",\"\",IF(P63=0,\"\",AVERAGEIF(DMA!$N$5:$N$503,Graphs!$O63,DMA!O$5:O$503)))","v":""},{"$f":"IF($Q63=\"\",\"\",IF(Q63=0,\"\",AVERAGEIF(DMA!$N$5:$N$503,Graphs!$O63,DMA!P$5:P$503)))","v":""},{"$f":"IF($R63=\"\",\"\",IF(R63=0,\"\",AVERAGEIF(DMA!$N$5:$N$503,Graphs!$O63,DMA!Q$5:Q$503)))","v":""}]
[null,null,null,null,null,null,null,null,null,null,null,null,null,null,null,null,null,null,null,null,null,null,null,null,null,null,null,null,null,null,null,null,null,null,null,null,null,null,null,null,null,null,null,null,null,null,null,null,null,null,null,"","","",{"$f":"IF(P64=\"\",\"\",IF(P64=0,\"\",SQRT(SUMIF(DMA!$DK$5:$DK$503,Graphs!$O64,DMA!DL$5:DL$503))/COUNTIF(DMA!$DK$5:$DK$503,Graphs!$O64)))","v":""},{"$f":"IF(Q64=\"\",\"\",IF(Q64=0,\"\",SQRT(SUMIF(DMA!$DK$5:$DK$503,Graphs!$O64,DMA!DM$5:DM$503))/COUNTIF(DMA!$DK$5:$DK$503,Graphs!$O64)))","v":""},{"$f":"IF(R64=\"\",\"\",IF(R64=0,\"\",SQRT(SUMIF(DMA!$DK$5:$DK$503,Graphs!$O64,DMA!DN$5:DN$503))/COUNTIF(DMA!$DK$5:$DK$503,Graphs!$O64)))","v":""},{"$f":"IF($P64=\"\",\"\",IF(P64=0,\"\",AVERAGEIF(DMA!$N$5:$N$503,Graphs!$O64,DMA!O$5:O$503)))","v":""},{"$f":"IF($Q64=\"\",\"\",IF(Q64=0,\"\",AVERAGEIF(DMA!$N$5:$N$503,Graphs!$O64,DMA!P$5:P$503)))","v":""},{"$f":"IF($R64=\"\",\"\",IF(R64=0,\"\",AVERAGEIF(DMA!$N$5:$N$503,Graphs!$O64,DMA!Q$5:Q$503)))","v":""}]
[null,"","","","","","","","","","","","","","","","","","","","",null,null,null,null,null,null,null,null,null,null,null,null,null,null,null,null,null,null,null,null,null,null,null,null,null,null,null,null,null,null,"","","",{"$f":"IF(P65=\"\",\"\",IF(P65=0,\"\",SQRT(SUMIF(DMA!$DK$5:$DK$503,Graphs!$O65,DMA!DL$5:DL$503))/COUNTIF(DMA!$DK$5:$DK$503,Graphs!$O65)))","v":""},{"$f":"IF(Q65=\"\",\"\",IF(Q65=0,\"\",SQRT(SUMIF(DMA!$DK$5:$DK$503,Graphs!$O65,DMA!DM$5:DM$503))/COUNTIF(DMA!$DK$5:$DK$503,Graphs!$O65)))","v":""},{"$f":"IF(R65=\"\",\"\",IF(R65=0,\"\",SQRT(SUMIF(DMA!$DK$5:$DK$503,Graphs!$O65,DMA!DN$5:DN$503))/COUNTIF(DMA!$DK$5:$DK$503,Graphs!$O65)))","v":""},{"$f":"IF($P65=\"\",\"\",IF(P65=0,\"\",AVERAGEIF(DMA!$N$5:$N$503,Graphs!$O65,DMA!O$5:O$503)))","v":""},{"$f":"IF($Q65=\"\",\"\",IF(Q65=0,\"\",AVERAGEIF(DMA!$N$5:$N$503,Graphs!$O65,DMA!P$5:P$503)))","v":""},{"$f":"IF($R65=\"\",\"\",IF(R65=0,\"\",AVERAGEIF(DMA!$N$5:$N$503,Graphs!$O65,DMA!Q$5:Q$503)))","v":""}]
[null,"","","","","","","","","","","","","","","","","","","","",null,null,null,null,null,null,null,null,null,null,null,null,null,null,null,null,null,null,null,null,null,null,null,null,null,null,null,null,null,null,"","","",{"$f":"IF(P66=\"\",\"\",IF(P66=0,\"\",SQRT(SUMIF(DMA!$DK$5:$DK$503,Graphs!$O66,DMA!DL$5:DL$503))/COUNTIF(DMA!$DK$5:$DK$503,Graphs!$O66)))","v":""},{"$f":"IF(Q66=\"\",\"\",IF(Q66=0,\"\",SQRT(SUMIF(DMA!$DK$5:$DK$503,Graphs!$O66,DMA!DM$5:DM$503))/COUNTIF(DMA!$DK$5:$DK$503,Graphs!$O66)))","v":""},{"$f":"IF(R66=\"\",\"\",IF(R66=0,\"\",SQRT(SUMIF(DMA!$DK$5:$DK$503,Graphs!$O66,DMA!DN$5:DN$503))/COUNTIF(DMA!$DK$5:$DK$503,Graphs!$O66)))","v":""},{"$f":"IF($P66=\"\",\"\",IF(P66=0,\"\",AVERAGEIF(DMA!$N$5:$N$503,Graphs!$O66,DMA!O$5:O$503)))","v":""},{"$f":"IF($Q66=\"\",\"\",IF(Q66=0,\"\",AVERAGEIF(DMA!$N$5:$N$503,Graphs!$O66,DMA!P$5:P$503)))","v":""},{"$f":"IF($R66=\"\",\"\",IF(R66=0,\"\",AVERAGEIF(DMA!$N$5:$N$503,Graphs!$O66,DMA!Q$5:Q$503)))","v":""}]
[null,"","","","","","","","","","","","","","","","","","","","",null,null,null,null,null,null,null,null,null,null,null,null,null,null,null,null,null,null,null,null,null,null,null,null,null,null,null,null,null,null,"","","",{"$f":"IF(P67=\"\",\"\",IF(P67=0,\"\",SQRT(SUMIF(DMA!$DK$5:$DK$503,Graphs!$O67,DMA!DL$5:DL$503))/COUNTIF(DMA!$DK$5:$DK$503,Graphs!$O67)))","v":""},{"$f":"IF(Q67=\"\",\"\",IF(Q67=0,\"\",SQRT(SUMIF(DMA!$DK$5:$DK$503,Graphs!$O67,DMA!DM$5:DM$503))/COUNTIF(DMA!$DK$5:$DK$503,Graphs!$O67)))","v":""},{"$f":"IF(R67=\"\",\"\",IF(R67=0,\"\",SQRT(SUMIF(DMA!$DK$5:$DK$503,Graphs!$O67,DMA!DN$5:DN$503))/COUNTIF(DMA!$DK$5:$DK$503,Graphs!$O67)))","v":""},{"$f":"IF($P67=\"\",\"\",IF(P67=0,\"\",AVERAGEIF(DMA!$N$5:$N$503,Graphs!$O67,DMA!O$5:O$503)))","v":""},{"$f":"IF($Q67=\"\",\"\",IF(Q67=0,\"\",AVERAGEIF(DMA!$N$5:$N$503,Graphs!$O67,DMA!P$5:P$503)))","v":""},{"$f":"IF($R67=\"\",\"\",IF(R67=0,\"\",AVERAGEIF(DMA!$N$5:$N$503,Graphs!$O67,DMA!Q$5:Q$503)))","v":""}]
[null,"","","","","","","","","","","","","","","","","","","","",null,null,null,null,null,null,null,null,null,null,null,null,null,null,null,null,null,null,null,null,null,null,null,null,null,null,null,null,null,null,"","","",{"$f":"IF(P68=\"\",\"\",IF(P68=0,\"\",SQRT(SUMIF(DMA!$DK$5:$DK$503,Graphs!$O68,DMA!DL$5:DL$503))/COUNTIF(DMA!$DK$5:$DK$503,Graphs!$O68)))","v":""},{"$f":"IF(Q68=\"\",\"\",IF(Q68=0,\"\",SQRT(SUMIF(DMA!$DK$5:$DK$503,Graphs!$O68,DMA!DM$5:DM$503))/COUNTIF(DMA!$DK$5:$DK$503,Graphs!$O68)))","v":""},{"$f":"IF(R68=\"\",\"\",IF(R68=0,\"\",SQRT(SUMIF(DMA!$DK$5:$DK$503,Graphs!$O68,DMA!DN$5:DN$503))/COUNTIF(DMA!$DK$5:$DK$503,Graphs!$O68)))","v":""},{"$f":"IF($P68=\"\",\"\",IF(P68=0,\"\",AVERAGEIF(DMA!$N$5:$N$503,Graphs!$O68,DMA!O$5:O$503)))","v":""},{"$f":"IF($Q68=\"\",\"\",IF(Q68=0,\"\",AVERAGEIF(DMA!$N$5:$N$503,Graphs!$O68,DMA!P$5:P$503)))","v":""},{"$f":"IF($R68=\"\",\"\",IF(R68=0,\"\",AVERAGEIF(DMA!$N$5:$N$503,Graphs!$O68,DMA!Q$5:Q$503)))","v":""}]
[null,"","","","","","","","","","","","","","","","","","","","",null,null,null,null,null,null,null,null,null,null,null,null,null,null,null,null,null,null,null,null,null,null,null,null,null,null,null,null,null,null,"","","",{"$f":"IF(P69=\"\",\"\",IF(P69=0,\"\",SQRT(SUMIF(DMA!$DK$5:$DK$503,Graphs!$O69,DMA!DL$5:DL$503))/COUNTIF(DMA!$DK$5:$DK$503,Graphs!$O69)))","v":""},{"$f":"IF(Q69=\"\",\"\",IF(Q69=0,\"\",SQRT(SUMIF(DMA!$DK$5:$DK$503,Graphs!$O69,DMA!DM$5:DM$503))/COUNTIF(DMA!$DK$5:$DK$503,Graphs!$O69)))","v":""},{"$f":"IF(R69=\"\",\"\",IF(R69=0,\"\",SQRT(SUMIF(DMA!$DK$5:$DK$503,Graphs!$O69,DMA!DN$5:DN$503))/COUNTIF(DMA!$DK$5:$DK$503,Graphs!$O69)))","v":""},{"$f":"IF($P69=\"\",\"\",IF(P69=0,\"\",AVERAGEIF(DMA!$N$5:$N$503,Graphs!$O69,DMA!O$5:O$503)))","v":""},{"$f":"IF($Q69=\"\",\"\",IF(Q69=0,\"\",AVERAGEIF(DMA!$N$5:$N$503,Graphs!$O69,DMA!P$5:P$503)))","v":""},{"$f":"IF($R69=\"\",\"\",IF(R69=0,\"\",AVERAGEIF(DMA!$N$5:$N$503,Graphs!$O69,DMA!Q$5:Q$503)))","v":""}]
[null,"","","","","","","","","","","","","","","","","","","","",null,null,null,null,null,null,null,null,null,null,null,null,null,null,null,null,null,null,null,null,null,null,null,null,null,null,null,null,null,null,"","","",{"$f":"IF(P70=\"\",\"\",IF(P70=0,\"\",SQRT(SUMIF(DMA!$DK$5:$DK$503,Graphs!$O70,DMA!DL$5:DL$503))/COUNTIF(DMA!$DK$5:$DK$503,Graphs!$O70)))","v":""},{"$f":"IF(Q70=\"\",\"\",IF(Q70=0,\"\",SQRT(SUMIF(DMA!$DK$5:$DK$503,Graphs!$O70,DMA!DM$5:DM$503))/COUNTIF(DMA!$DK$5:$DK$503,Graphs!$O70)))","v":""},{"$f":"IF(R70=\"\",\"\",IF(R70=0,\"\",SQRT(SUMIF(DMA!$DK$5:$DK$503,Graphs!$O70,DMA!DN$5:DN$503))/COUNTIF(DMA!$DK$5:$DK$503,Graphs!$O70)))","v":""},{"$f":"IF($P70=\"\",\"\",IF(P70=0,\"\",AVERAGEIF(DMA!$N$5:$N$503,Graphs!$O70,DMA!O$5:O$503)))","v":""},{"$f":"IF($Q70=\"\",\"\",IF(Q70=0,\"\",AVERAGEIF(DMA!$N$5:$N$503,Graphs!$O70,DMA!P$5:P$503)))","v":""},{"$f":"IF($R70=\"\",\"\",IF(R70=0,\"\",AVERAGEIF(DMA!$N$5:$N$503,Graphs!$O70,DMA!Q$5:Q$503)))","v":""}]
[null,"","","","","","","","","","","","","","","","","","","","",null,null,null,null,null,null,null,null,null,null,null,null,null,null,null,null,null,null,null,null,null,null,null,null,null,null,null,null,null,null,"","","",{"$f":"IF(P71=\"\",\"\",IF(P71=0,\"\",SQRT(SUMIF(DMA!$DK$5:$DK$503,Graphs!$O71,DMA!DL$5:DL$503))/COUNTIF(DMA!$DK$5:$DK$503,Graphs!$O71)))","v":""},{"$f":"IF(Q71=\"\",\"\",IF(Q71=0,\"\",SQRT(SUMIF(DMA!$DK$5:$DK$503,Graphs!$O71,DMA!DM$5:DM$503))/COUNTIF(DMA!$DK$5:$DK$503,Graphs!$O71)))","v":""},{"$f":"IF(R71=\"\",\"\",IF(R71=0,\"\",SQRT(SUMIF(DMA!$DK$5:$DK$503,Graphs!$O71,DMA!DN$5:DN$503))/COUNTIF(DMA!$DK$5:$DK$503,Graphs!$O71)))","v":""},{"$f":"IF($P71=\"\",\"\",IF(P71=0,\"\",AVERAGEIF(DMA!$N$5:$N$503,Graphs!$O71,DMA!O$5:O$503)))","v":""},{"$f":"IF($Q71=\"\",\"\",IF(Q71=0,\"\",AVERAGEIF(DMA!$N$5:$N$503,Graphs!$O71,DMA!P$5:P$503)))","v":""},{"$f":"IF($R71=\"\",\"\",IF(R71=0,\"\",AVERAGEIF(DMA!$N$5:$N$503,Graphs!$O71,DMA!Q$5:Q$503)))","v":""}]
[null,"","","","","","","","","","","","","","","","","","","","",null,null,null,null,null,null,null,null,null,null,null,null,null,null,null,null,null,null,null,null,null,null,null,null,null,null,null,null,null,null,"","","",{"$f":"IF(P72=\"\",\"\",IF(P72=0,\"\",SQRT(SUMIF(DMA!$DK$5:$DK$503,Graphs!$O72,DMA!DL$5:DL$503))/COUNTIF(DMA!$DK$5:$DK$503,Graphs!$O72)))","v":""},{"$f":"IF(Q72=\"\",\"\",IF(Q72=0,\"\",SQRT(SUMIF(DMA!$DK$5:$DK$503,Graphs!$O72,DMA!DM$5:DM$503))/COUNTIF(DMA!$DK$5:$DK$503,Graphs!$O72)))","v":""},{"$f":"IF(R72=\"\",\"\",IF(R72=0,\"\",SQRT(SUMIF(DMA!$DK$5:$DK$503,Graphs!$O72,DMA!DN$5:DN$503))/COUNTIF(DMA!$DK$5:$DK$503,Graphs!$O72)))","v":""},{"$f":"IF($P72=\"\",\"\",IF(P72=0,\"\",AVERAGEIF(DMA!$N$5:$N$503,Graphs!$O72,DMA!O$5:O$503)))","v":""},{"$f":"IF($Q72=\"\",\"\",IF(Q72=0,\"\",AVERAGEIF(DMA!$N$5:$N$503,Graphs!$O72,DMA!P$5:P$503)))","v":""},{"$f":"IF($R72=\"\",\"\",IF(R72=0,\"\",AVERAGEIF(DMA!$N$5:$N$503,Graphs!$O72,DMA!Q$5:Q$503)))","v":""}]
[null,"","","","","","","","","","","","","","","","","","","","",null,null,null,null,null,null,null,null,null,null,null,null,null,null,null,null,null,null,null,null,null,null,null,null,null,null,null,null,null,null,"","","",{"$f":"IF(P73=\"\",\"\",IF(P73=0,\"\",SQRT(SUMIF(DMA!$DK$5:$DK$503,Graphs!$O73,DMA!DL$5:DL$503))/COUNTIF(DMA!$DK$5:$DK$503,Graphs!$O73)))","v":""},{"$f":"IF(Q73=\"\",\"\",IF(Q73=0,\"\",SQRT(SUMIF(DMA!$DK$5:$DK$503,Graphs!$O73,DMA!DM$5:DM$503))/COUNTIF(DMA!$DK$5:$DK$503,Graphs!$O73)))","v":""},{"$f":"IF(R73=\"\",\"\",IF(R73=0,\"\",SQRT(SUMIF(DMA!$DK$5:$DK$503,Graphs!$O73,DMA!DN$5:DN$503))/COUNTIF(DMA!$DK$5:$DK$503,Graphs!$O73)))","v":""},{"$f":"IF($P73=\"\",\"\",IF(P73=0,\"\",AVERAGEIF(DMA!$N$5:$N$503,Graphs!$O73,DMA!O$5:O$503)))","v":""},{"$f":"IF($Q73=\"\",\"\",IF(Q73=0,\"\",AVERAGEIF(DMA!$N$5:$N$503,Graphs!$O73,DMA!P$5:P$503)))","v":""},{"$f":"IF($R73=\"\",\"\",IF(R73=0,\"\",AVERAGEIF(DMA!$N$5:$N$503,Graphs!$O73,DMA!Q$5:Q$503)))","v":""}]
[null,"","","","","","","","","","","","","","","","","","","","",null,null,null,null,null,null,null,null,null,null,null,null,null,null,null,null,null,null,null,null,null,null,null,null,null,null,null,null,null,null,"","","",{"$f":"IF(P74=\"\",\"\",IF(P74=0,\"\",SQRT(SUMIF(DMA!$DK$5:$DK$503,Graphs!$O74,DMA!DL$5:DL$503))/COUNTIF(DMA!$DK$5:$DK$503,Graphs!$O74)))","v":""},{"$f":"IF(Q74=\"\",\"\",IF(Q74=0,\"\",SQRT(SUMIF(DMA!$DK$5:$DK$503,Graphs!$O74,DMA!DM$5:DM$503))/COUNTIF(DMA!$DK$5:$DK$503,Graphs!$O74)))","v":""},{"$f":"IF(R74=\"\",\"\",IF(R74=0,\"\",SQRT(SUMIF(DMA!$DK$5:$DK$503,Graphs!$O74,DMA!DN$5:DN$503))/COUNTIF(DMA!$DK$5:$DK$503,Graphs!$O74)))","v":""},{"$f":"IF($P74=\"\",\"\",IF(P74=0,\"\",AVERAGEIF(DMA!$N$5:$N$503,Graphs!$O74,DMA!O$5:O$503)))","v":""},{"$f":"IF($Q74=\"\",\"\",IF(Q74=0,\"\",AVERAGEIF(DMA!$N$5:$N$503,Graphs!$O74,DMA!P$5:P$503)))","v":""},{"$f":"IF($R74=\"\",\"\",IF(R74=0,\"\",AVERAGEIF(DMA!$N$5:$N$503,Graphs!$O74,DMA!Q$5:Q$503)))","v":""}]
[null,"","","","","","","","","","","","","","","","","","","","",null,null,null,null,null,null,null,null,null,null,null,null,null,null,null,null,null,null,null,null,null,null,null,null,null,null,null,null,null,null,"","","",{"$f":"IF(P75=\"\",\"\",IF(P75=0,\"\",SQRT(SUMIF(DMA!$DK$5:$DK$503,Graphs!$O75,DMA!DL$5:DL$503))/COUNTIF(DMA!$DK$5:$DK$503,Graphs!$O75)))","v":""},{"$f":"IF(Q75=\"\",\"\",IF(Q75=0,\"\",SQRT(SUMIF(DMA!$DK$5:$DK$503,Graphs!$O75,DMA!DM$5:DM$503))/COUNTIF(DMA!$DK$5:$DK$503,Graphs!$O75)))","v":""},{"$f":"IF(R75=\"\",\"\",IF(R75=0,\"\",SQRT(SUMIF(DMA!$DK$5:$DK$503,Graphs!$O75,DMA!DN$5:DN$503))/COUNTIF(DMA!$DK$5:$DK$503,Graphs!$O75)))","v":""},{"$f":"IF($P75=\"\",\"\",IF(P75=0,\"\",AVERAGEIF(DMA!$N$5:$N$503,Graphs!$O75,DMA!O$5:O$503)))","v":""},{"$f":"IF($Q75=\"\",\"\",IF(Q75=0,\"\",AVERAGEIF(DMA!$N$5:$N$503,Graphs!$O75,DMA!P$5:P$503)))","v":""},{"$f":"IF($R75=\"\",\"\",IF(R75=0,\"\",AVERAGEIF(DMA!$N$5:$N$503,Graphs!$O75,DMA!Q$5:Q$503)))","v":""}]
[null,"","","","","","","","","","","","","","","","","","","","",null,null,null,null,null,null,null,null,null,null,null,null,null,null,null,null,null,null,null,null,null,null,null,null,null,null,null,null,null,null,"","","",{"$f":"IF(P76=\"\",\"\",IF(P76=0,\"\",SQRT(SUMIF(DMA!$DK$5:$DK$503,Graphs!$O76,DMA!DL$5:DL$503))/COUNTIF(DMA!$DK$5:$DK$503,Graphs!$O76)))","v":""},{"$f":"IF(Q76=\"\",\"\",IF(Q76=0,\"\",SQRT(SUMIF(DMA!$DK$5:$DK$503,Graphs!$O76,DMA!DM$5:DM$503))/COUNTIF(DMA!$DK$5:$DK$503,Graphs!$O76)))","v":""},{"$f":"IF(R76=\"\",\"\",IF(R76=0,\"\",SQRT(SUMIF(DMA!$DK$5:$DK$503,Graphs!$O76,DMA!DN$5:DN$503))/COUNTIF(DMA!$DK$5:$DK$503,Graphs!$O76)))","v":""},{"$f":"IF($P76=\"\",\"\",IF(P76=0,\"\",AVERAGEIF(DMA!$N$5:$N$503,Graphs!$O76,DMA!O$5:O$503)))","v":""},{"$f":"IF($Q76=\"\",\"\",IF(Q76=0,\"\",AVERAGEIF(DMA!$N$5:$N$503,Graphs!$O76,DMA!P$5:P$503)))","v":""},{"$f":"IF($R76=\"\",\"\",IF(R76=0,\"\",AVERAGEIF(DMA!$N$5:$N$503,Graphs!$O76,DMA!Q$5:Q$503)))","v":""}]
[null,"","","","","","","","","","","","","","","","","","","","",null,null,null,null,null,null,null,null,null,null,null,null,null,null,null,null,null,null,null,null,null,null,null,null,null,null,null,null,null,null,"","","",{"$f":"IF(P77=\"\",\"\",IF(P77=0,\"\",SQRT(SUMIF(DMA!$DK$5:$DK$503,Graphs!$O77,DMA!DL$5:DL$503))/COUNTIF(DMA!$DK$5:$DK$503,Graphs!$O77)))","v":""},{"$f":"IF(Q77=\"\",\"\",IF(Q77=0,\"\",SQRT(SUMIF(DMA!$DK$5:$DK$503,Graphs!$O77,DMA!DM$5:DM$503))/COUNTIF(DMA!$DK$5:$DK$503,Graphs!$O77)))","v":""},{"$f":"IF(R77=\"\",\"\",IF(R77=0,\"\",SQRT(SUMIF(DMA!$DK$5:$DK$503,Graphs!$O77,DMA!DN$5:DN$503))/COUNTIF(DMA!$DK$5:$DK$503,Graphs!$O77)))","v":""},{"$f":"IF($P77=\"\",\"\",IF(P77=0,\"\",AVERAGEIF(DMA!$N$5:$N$503,Graphs!$O77,DMA!O$5:O$503)))","v":""},{"$f":"IF($Q77=\"\",\"\",IF(Q77=0,\"\",AVERAGEIF(DMA!$N$5:$N$503,Graphs!$O77,DMA!P$5:P$503)))","v":""},{"$f":"IF($R77=\"\",\"\",IF(R77=0,\"\",AVERAGEIF(DMA!$N$5:$N$503,Graphs!$O77,DMA!Q$5:Q$503)))","v":""}]
[null,"","","","","","","","","","","","","","","","","","","","",null,null,null,null,null,null,null,null,null,null,null,null,null,null,null,null,null,null,null,null,null,null,null,null,null,null,null,null,null,null,"","","",{"$f":"IF(P78=\"\",\"\",IF(P78=0,\"\",SQRT(SUMIF(DMA!$DK$5:$DK$503,Graphs!$O78,DMA!DL$5:DL$503))/COUNTIF(DMA!$DK$5:$DK$503,Graphs!$O78)))","v":""},{"$f":"IF(Q78=\"\",\"\",IF(Q78=0,\"\",SQRT(SUMIF(DMA!$DK$5:$DK$503,Graphs!$O78,DMA!DM$5:DM$503))/COUNTIF(DMA!$DK$5:$DK$503,Graphs!$O78)))","v":""},{"$f":"IF(R78=\"\",\"\",IF(R78=0,\"\",SQRT(SUMIF(DMA!$DK$5:$DK$503,Graphs!$O78,DMA!DN$5:DN$503))/COUNTIF(DMA!$DK$5:$DK$503,Graphs!$O78)))","v":""},{"$f":"IF($P78=\"\",\"\",IF(P78=0,\"\",AVERAGEIF(DMA!$N$5:$N$503,Graphs!$O78,DMA!O$5:O$503)))","v":""},{"$f":"IF($Q78=\"\",\"\",IF(Q78=0,\"\",AVERAGEIF(DMA!$N$5:$N$503,Graphs!$O78,DMA!P$5:P$503)))","v":""},{"$f":"IF($R78=\"\",\"\",IF(R78=0,\"\",AVERAGEIF(DMA!$N$5:$N$503,Graphs!$O78,DMA!Q$5:Q$503)))","v":""}]
[null,"","","","","","","","","","","","","","","","","","","","",null,null,null,null,null,null,null,null,null,null,null,null,null,null,null,null,null,null,null,null,null,null,null,null,null,null,null,null,null,null,"","","",{"$f":"IF(P79=\"\",\"\",IF(P79=0,\"\",SQRT(SUMIF(DMA!$DK$5:$DK$503,Graphs!$O79,DMA!DL$5:DL$503))/COUNTIF(DMA!$DK$5:$DK$503,Graphs!$O79)))","v":""},{"$f":"IF(Q79=\"\",\"\",IF(Q79=0,\"\",SQRT(SUMIF(DMA!$DK$5:$DK$503,Graphs!$O79,DMA!DM$5:DM$503))/COUNTIF(DMA!$DK$5:$DK$503,Graphs!$O79)))","v":""},{"$f":"IF(R79=\"\",\"\",IF(R79=0,\"\",SQRT(SUMIF(DMA!$DK$5:$DK$503,Graphs!$O79,DMA!DN$5:DN$503))/COUNTIF(DMA!$DK$5:$DK$503,Graphs!$O79)))","v":""},{"$f":"IF($P79=\"\",\"\",IF(P79=0,\"\",AVERAGEIF(DMA!$N$5:$N$503,Graphs!$O79,DMA!O$5:O$503)))","v":""},{"$f":"IF($Q79=\"\",\"\",IF(Q79=0,\"\",AVERAGEIF(DMA!$N$5:$N$503,Graphs!$O79,DMA!P$5:P$503)))","v":""},{"$f":"IF($R79=\"\",\"\",IF(R79=0,\"\",AVERAGEIF(DMA!$N$5:$N$503,Graphs!$O79,DMA!Q$5:Q$503)))","v":""}]
[null,"","","","","","","","","","","","","","","","","","","","",null,null,null,null,null,null,null,null,null,null,null,null,null,null,null,null,null,null,null,null,null,null,null,null,null,null,null,null,null,null,"","","",{"$f":"IF(P80=\"\",\"\",IF(P80=0,\"\",SQRT(SUMIF(DMA!$DK$5:$DK$503,Graphs!$O80,DMA!DL$5:DL$503))/COUNTIF(DMA!$DK$5:$DK$503,Graphs!$O80)))","v":""},{"$f":"IF(Q80=\"\",\"\",IF(Q80=0,\"\",SQRT(SUMIF(DMA!$DK$5:$DK$503,Graphs!$O80,DMA!DM$5:DM$503))/COUNTIF(DMA!$DK$5:$DK$503,Graphs!$O80)))","v":""},{"$f":"IF(R80=\"\",\"\",IF(R80=0,\"\",SQRT(SUMIF(DMA!$DK$5:$DK$503,Graphs!$O80,DMA!DN$5:DN$503))/COUNTIF(DMA!$DK$5:$DK$503,Graphs!$O80)))","v":""},{"$f":"IF($P80=\"\",\"\",IF(P80=0,\"\",AVERAGEIF(DMA!$N$5:$N$503,Graphs!$O80,DMA!O$5:O$503)))","v":""},{"$f":"IF($Q80=\"\",\"\",IF(Q80=0,\"\",AVERAGEIF(DMA!$N$5:$N$503,Graphs!$O80,DMA!P$5:P$503)))","v":""},{"$f":"IF($R80=\"\",\"\",IF(R80=0,\"\",AVERAGEIF(DMA!$N$5:$N$503,Graphs!$O80,DMA!Q$5:Q$503)))","v":""}]
[null,"","","","","","","","","","","","","","","","","","","","",null,null,null,null,null,null,null,null,null,null,null,null,null,null,null,null,null,null,null,null,null,null,null,null,null,null,null,null,null,null,"","","",{"$f":"IF(P81=\"\",\"\",IF(P81=0,\"\",SQRT(SUMIF(DMA!$DK$5:$DK$503,Graphs!$O81,DMA!DL$5:DL$503))/COUNTIF(DMA!$DK$5:$DK$503,Graphs!$O81)))","v":""},{"$f":"IF(Q81=\"\",\"\",IF(Q81=0,\"\",SQRT(SUMIF(DMA!$DK$5:$DK$503,Graphs!$O81,DMA!DM$5:DM$503))/COUNTIF(DMA!$DK$5:$DK$503,Graphs!$O81)))","v":""},{"$f":"IF(R81=\"\",\"\",IF(R81=0,\"\",SQRT(SUMIF(DMA!$DK$5:$DK$503,Graphs!$O81,DMA!DN$5:DN$503))/COUNTIF(DMA!$DK$5:$DK$503,Graphs!$O81)))","v":""},{"$f":"IF($P81=\"\",\"\",IF(P81=0,\"\",AVERAGEIF(DMA!$N$5:$N$503,Graphs!$O81,DMA!O$5:O$503)))","v":""},{"$f":"IF($Q81=\"\",\"\",IF(Q81=0,\"\",AVERAGEIF(DMA!$N$5:$N$503,Graphs!$O81,DMA!P$5:P$503)))","v":""},{"$f":"IF($R81=\"\",\"\",IF(R81=0,\"\",AVERAGEIF(DMA!$N$5:$N$503,Graphs!$O81,DMA!Q$5:Q$503)))","v":""}]
[null,"","","","","","","","","","","","","","","","","","","","",null,null,null,null,null,null,null,null,null,null,null,null,null,null,null,null,null,null,null,null,null,null,null,null,null,null,null,null,null,null,"","","",{"$f":"IF(P82=\"\",\"\",IF(P82=0,\"\",SQRT(SUMIF(DMA!$DK$5:$DK$503,Graphs!$O82,DMA!DL$5:DL$503))/COUNTIF(DMA!$DK$5:$DK$503,Graphs!$O82)))","v":""},{"$f":"IF(Q82=\"\",\"\",IF(Q82=0,\"\",SQRT(SUMIF(DMA!$DK$5:$DK$503,Graphs!$O82,DMA!DM$5:DM$503))/COUNTIF(DMA!$DK$5:$DK$503,Graphs!$O82)))","v":""},{"$f":"IF(R82=\"\",\"\",IF(R82=0,\"\",SQRT(SUMIF(DMA!$DK$5:$DK$503,Graphs!$O82,DMA!DN$5:DN$503))/COUNTIF(DMA!$DK$5:$DK$503,Graphs!$O82)))","v":""},{"$f":"IF($P82=\"\",\"\",IF(P82=0,\"\",AVERAGEIF(DMA!$N$5:$N$503,Graphs!$O82,DMA!O$5:O$503)))","v":""},{"$f":"IF($Q82=\"\",\"\",IF(Q82=0,\"\",AVERAGEIF(DMA!$N$5:$N$503,Graphs!$O82,DMA!P$5:P$503)))","v":""},{"$f":"IF($R82=\"\",\"\",IF(R82=0,\"\",AVERAGEIF(DMA!$N$5:$N$503,Graphs!$O82,DMA!Q$5:Q$503)))","v":""}]
[null,"","","","","","","","","","","","","","","","","","","","",null,null,null,null,null,null,null,null,null,null,null,null,null,null,null,null,null,null,null,null,null,null,null,null,null,null,null,null,null,null,"","","",{"$f":"IF(P83=\"\",\"\",IF(P83=0,\"\",SQRT(SUMIF(DMA!$DK$5:$DK$503,Graphs!$O83,DMA!DL$5:DL$503))/COUNTIF(DMA!$DK$5:$DK$503,Graphs!$O83)))","v":""},{"$f":"IF(Q83=\"\",\"\",IF(Q83=0,\"\",SQRT(SUMIF(DMA!$DK$5:$DK$503,Graphs!$O83,DMA!DM$5:DM$503))/COUNTIF(DMA!$DK$5:$DK$503,Graphs!$O83)))","v":""},{"$f":"IF(R83=\"\",\"\",IF(R83=0,\"\",SQRT(SUMIF(DMA!$DK$5:$DK$503,Graphs!$O83,DMA!DN$5:DN$503))/COUNTIF(DMA!$DK$5:$DK$503,Graphs!$O83)))","v":""},{"$f":"IF($P83=\"\",\"\",IF(P83=0,\"\",AVERAGEIF(DMA!$N$5:$N$503,Graphs!$O83,DMA!O$5:O$503)))","v":""},{"$f":"IF($Q83=\"\",\"\",IF(Q83=0,\"\",AVERAGEIF(DMA!$N$5:$N$503,Graphs!$O83,DMA!P$5:P$503)))","v":""},{"$f":"IF($R83=\"\",\"\",IF(R83=0,\"\",AVERAGEIF(DMA!$N$5:$N$503,Graphs!$O83,DMA!Q$5:Q$503)))","v":""}]
[null,"","","","","","","","","","","","","","","","","","","","",null,null,null,null,null,null,null,null,null,null,null,null,null,null,null,null,null,null,null,null,null,null,null,null,null,null,null,null,null,null,"","","",{"$f":"IF(P84=\"\",\"\",IF(P84=0,\"\",SQRT(SUMIF(DMA!$DK$5:$DK$503,Graphs!$O84,DMA!DL$5:DL$503))/COUNTIF(DMA!$DK$5:$DK$503,Graphs!$O84)))","v":""},{"$f":"IF(Q84=\"\",\"\",IF(Q84=0,\"\",SQRT(SUMIF(DMA!$DK$5:$DK$503,Graphs!$O84,DMA!DM$5:DM$503))/COUNTIF(DMA!$DK$5:$DK$503,Graphs!$O84)))","v":""},{"$f":"IF(R84=\"\",\"\",IF(R84=0,\"\",SQRT(SUMIF(DMA!$DK$5:$DK$503,Graphs!$O84,DMA!DN$5:DN$503))/COUNTIF(DMA!$DK$5:$DK$503,Graphs!$O84)))","v":""},{"$f":"IF($P84=\"\",\"\",IF(P84=0,\"\",AVERAGEIF(DMA!$N$5:$N$503,Graphs!$O84,DMA!O$5:O$503)))","v":""},{"$f":"IF($Q84=\"\",\"\",IF(Q84=0,\"\",AVERAGEIF(DMA!$N$5:$N$503,Graphs!$O84,DMA!P$5:P$503)))","v":""},{"$f":"IF($R84=\"\",\"\",IF(R84=0,\"\",AVERAGEIF(DMA!$N$5:$N$503,Graphs!$O84,DMA!Q$5:Q$503)))","v":""}]
[null,"","","","","","","","","","","","","","","","","","","","",null,null,null,null,null,null,null,null,null,null,null,null,null,null,null,null,null,null,null,null,null,null,null,null,null,null,null,null,null,null,"","","",{"$f":"IF(P85=\"\",\"\",IF(P85=0,\"\",SQRT(SUMIF(DMA!$DK$5:$DK$503,Graphs!$O85,DMA!DL$5:DL$503))/COUNTIF(DMA!$DK$5:$DK$503,Graphs!$O85)))","v":""},{"$f":"IF(Q85=\"\",\"\",IF(Q85=0,\"\",SQRT(SUMIF(DMA!$DK$5:$DK$503,Graphs!$O85,DMA!DM$5:DM$503))/COUNTIF(DMA!$DK$5:$DK$503,Graphs!$O85)))","v":""},{"$f":"IF(R85=\"\",\"\",IF(R85=0,\"\",SQRT(SUMIF(DMA!$DK$5:$DK$503,Graphs!$O85,DMA!DN$5:DN$503))/COUNTIF(DMA!$DK$5:$DK$503,Graphs!$O85)))","v":""},{"$f":"IF($P85=\"\",\"\",IF(P85=0,\"\",AVERAGEIF(DMA!$N$5:$N$503,Graphs!$O85,DMA!O$5:O$503)))","v":""},{"$f":"IF($Q85=\"\",\"\",IF(Q85=0,\"\",AVERAGEIF(DMA!$N$5:$N$503,Graphs!$O85,DMA!P$5:P$503)))","v":""},{"$f":"IF($R85=\"\",\"\",IF(R85=0,\"\",AVERAGEIF(DMA!$N$5:$N$503,Graphs!$O85,DMA!Q$5:Q$503)))","v":""}]
[null,"","","","","","","","","","","","","","","","","","","","",null,null,null,null,null,null,null,null,null,null,null,null,null,null,null,null,null,null,null,null,null,null,null,null,null,null,null,null,null,null,"","","",{"$f":"IF(P86=\"\",\"\",IF(P86=0,\"\",SQRT(SUMIF(DMA!$DK$5:$DK$503,Graphs!$O86,DMA!DL$5:DL$503))/COUNTIF(DMA!$DK$5:$DK$503,Graphs!$O86)))","v":""},{"$f":"IF(Q86=\"\",\"\",IF(Q86=0,\"\",SQRT(SUMIF(DMA!$DK$5:$DK$503,Graphs!$O86,DMA!DM$5:DM$503))/COUNTIF(DMA!$DK$5:$DK$503,Graphs!$O86)))","v":""},{"$f":"IF(R86=\"\",\"\",IF(R86=0,\"\",SQRT(SUMIF(DMA!$DK$5:$DK$503,Graphs!$O86,DMA!DN$5:DN$503))/COUNTIF(DMA!$DK$5:$DK$503,Graphs!$O86)))","v":""},{"$f":"IF($P86=\"\",\"\",IF(P86=0,\"\",AVERAGEIF(DMA!$N$5:$N$503,Graphs!$O86,DMA!O$5:O$503)))","v":""},{"$f":"IF($Q86=\"\",\"\",IF(Q86=0,\"\",AVERAGEIF(DMA!$N$5:$N$503,Graphs!$O86,DMA!P$5:P$503)))","v":""},{"$f":"IF($R86=\"\",\"\",IF(R86=0,\"\",AVERAGEIF(DMA!$N$5:$N$503,Graphs!$O86,DMA!Q$5:Q$503)))","v":""}]
[null,"","","","","","","","","","","","","","","","","","","","",null,null,null,null,null,null,null,null,null,null,null,null,null,null,null,null,null,null,null,null,null,null,null,null,null,null,null,null,null,null,"","","",{"$f":"IF(P87=\"\",\"\",IF(P87=0,\"\",SQRT(SUMIF(DMA!$DK$5:$DK$503,Graphs!$O87,DMA!DL$5:DL$503))/COUNTIF(DMA!$DK$5:$DK$503,Graphs!$O87)))","v":""},{"$f":"IF(Q87=\"\",\"\",IF(Q87=0,\"\",SQRT(SUMIF(DMA!$DK$5:$DK$503,Graphs!$O87,DMA!DM$5:DM$503))/COUNTIF(DMA!$DK$5:$DK$503,Graphs!$O87)))","v":""},{"$f":"IF(R87=\"\",\"\",IF(R87=0,\"\",SQRT(SUMIF(DMA!$DK$5:$DK$503,Graphs!$O87,DMA!DN$5:DN$503))/COUNTIF(DMA!$DK$5:$DK$503,Graphs!$O87)))","v":""},{"$f":"IF($P87=\"\",\"\",IF(P87=0,\"\",AVERAGEIF(DMA!$N$5:$N$503,Graphs!$O87,DMA!O$5:O$503)))","v":""},{"$f":"IF($Q87=\"\",\"\",IF(Q87=0,\"\",AVERAGEIF(DMA!$N$5:$N$503,Graphs!$O87,DMA!P$5:P$503)))","v":""},{"$f":"IF($R87=\"\",\"\",IF(R87=0,\"\",AVERAGEIF(DMA!$N$5:$N$503,Graphs!$O87,DMA!Q$5:Q$503)))","v":""}]
[null,"","","","","","","","","","","","","","","","","","","","",null,null,null,null,null,null,null,null,null,null,null,null,null,null,null,null,null,null,null,null,null,null,null,null,null,null,null,null,null,null,"","","",{"$f":"IF(P88=\"\",\"\",IF(P88=0,\"\",SQRT(SUMIF(DMA!$DK$5:$DK$503,Graphs!$O88,DMA!DL$5:DL$503))/COUNTIF(DMA!$DK$5:$DK$503,Graphs!$O88)))","v":""},{"$f":"IF(Q88=\"\",\"\",IF(Q88=0,\"\",SQRT(SUMIF(DMA!$DK$5:$DK$503,Graphs!$O88,DMA!DM$5:DM$503))/COUNTIF(DMA!$DK$5:$DK$503,Graphs!$O88)))","v":""},{"$f":"IF(R88=\"\",\"\",IF(R88=0,\"\",SQRT(SUMIF(DMA!$DK$5:$DK$503,Graphs!$O88,DMA!DN$5:DN$503))/COUNTIF(DMA!$DK$5:$DK$503,Graphs!$O88)))","v":""},{"$f":"IF($P88=\"\",\"\",IF(P88=0,\"\",AVERAGEIF(DMA!$N$5:$N$503,Graphs!$O88,DMA!O$5:O$503)))","v":""},{"$f":"IF($Q88=\"\",\"\",IF(Q88=0,\"\",AVERAGEIF(DMA!$N$5:$N$503,Graphs!$O88,DMA!P$5:P$503)))","v":""},{"$f":"IF($R88=\"\",\"\",IF(R88=0,\"\",AVERAGEIF(DMA!$N$5:$N$503,Graphs!$O88,DMA!Q$5:Q$503)))","v":""}]
[null,"","","","","","","","","","","","","","","","","","","","",null,null,null,null,null,null,null,null,null,null,null,null,null,null,null,null,null,null,null,null,null,null,null,null,null,null,null,null,null,null,"","","",{"$f":"IF(P89=\"\",\"\",IF(P89=0,\"\",SQRT(SUMIF(DMA!$DK$5:$DK$503,Graphs!$O89,DMA!DL$5:DL$503))/COUNTIF(DMA!$DK$5:$DK$503,Graphs!$O89)))","v":""},{"$f":"IF(Q89=\"\",\"\",IF(Q89=0,\"\",SQRT(SUMIF(DMA!$DK$5:$DK$503,Graphs!$O89,DMA!DM$5:DM$503))/COUNTIF(DMA!$DK$5:$DK$503,Graphs!$O89)))","v":""},{"$f":"IF(R89=\"\",\"\",IF(R89=0,\"\",SQRT(SUMIF(DMA!$DK$5:$DK$503,Graphs!$O89,DMA!DN$5:DN$503))/COUNTIF(DMA!$DK$5:$DK$503,Graphs!$O89)))","v":""},{"$f":"IF($P89=\"\",\"\",IF(P89=0,\"\",AVERAGEIF(DMA!$N$5:$N$503,Graphs!$O89,DMA!O$5:O$503)))","v":""},{"$f":"IF($Q89=\"\",\"\",IF(Q89=0,\"\",AVERAGEIF(DMA!$N$5:$N$503,Graphs!$O89,DMA!P$5:P$503)))","v":""},{"$f":"IF($R89=\"\",\"\",IF(R89=0,\"\",AVERAGEIF(DMA!$N$5:$N$503,Graphs!$O89,DMA!Q$5:Q$503)))","v":""}]
[null,"","","","","","","","","","","","","","","","","","","","",null,null,null,null,null,null,null,null,null,null,null,null,null,null,null,null,null,null,null,null,null,null,null,null,null,null,null,null,null,null,"","","",{"$f":"IF(P90=\"\",\"\",IF(P90=0,\"\",SQRT(SUMIF(DMA!$DK$5:$DK$503,Graphs!$O90,DMA!DL$5:DL$503))/COUNTIF(DMA!$DK$5:$DK$503,Graphs!$O90)))","v":""},{"$f":"IF(Q90=\"\",\"\",IF(Q90=0,\"\",SQRT(SUMIF(DMA!$DK$5:$DK$503,Graphs!$O90,DMA!DM$5:DM$503))/COUNTIF(DMA!$DK$5:$DK$503,Graphs!$O90)))","v":""},{"$f":"IF(R90=\"\",\"\",IF(R90=0,\"\",SQRT(SUMIF(DMA!$DK$5:$DK$503,Graphs!$O90,DMA!DN$5:DN$503))/COUNTIF(DMA!$DK$5:$DK$503,Graphs!$O90)))","v":""},{"$f":"IF($P90=\"\",\"\",IF(P90=0,\"\",AVERAGEIF(DMA!$N$5:$N$503,Graphs!$O90,DMA!O$5:O$503)))","v":""},{"$f":"IF($Q90=\"\",\"\",IF(Q90=0,\"\",AVERAGEIF(DMA!$N$5:$N$503,Graphs!$O90,DMA!P$5:P$503)))","v":""},{"$f":"IF($R90=\"\",\"\",IF(R90=0,\"\",AVERAGEIF(DMA!$N$5:$N$503,Graphs!$O90,DMA!Q$5:Q$503)))","v":""}]
[null,"","","","","","","","","","","","","","","","","","","","",null,null,null,null,null,null,null,null,null,null,null,null,null,null,null,null,null,null,null,null,null,null,null,null,null,null,null,null,null,null,"","","",{"$f":"IF(P91=\"\",\"\",IF(P91=0,\"\",SQRT(SUMIF(DMA!$DK$5:$DK$503,Graphs!$O91,DMA!DL$5:DL$503))/COUNTIF(DMA!$DK$5:$DK$503,Graphs!$O91)))","v":""},{"$f":"IF(Q91=\"\",\"\",IF(Q91=0,\"\",SQRT(SUMIF(DMA!$DK$5:$DK$503,Graphs!$O91,DMA!DM$5:DM$503))/COUNTIF(DMA!$DK$5:$DK$503,Graphs!$O91)))","v":""},{"$f":"IF(R91=\"\",\"\",IF(R91=0,\"\",SQRT(SUMIF(DMA!$DK$5:$DK$503,Graphs!$O91,DMA!DN$5:DN$503))/COUNTIF(DMA!$DK$5:$DK$503,Graphs!$O91)))","v":""},{"$f":"IF($P91=\"\",\"\",IF(P91=0,\"\",AVERAGEIF(DMA!$N$5:$N$503,Graphs!$O91,DMA!O$5:O$503)))","v":""},{"$f":"IF($Q91=\"\",\"\",IF(Q91=0,\"\",AVERAGEIF(DMA!$N$5:$N$503,Graphs!$O91,DMA!P$5:P$503)))","v":""},{"$f":"IF($R91=\"\",\"\",IF(R91=0,\"\",AVERAGEIF(DMA!$N$5:$N$503,Graphs!$O91,DMA!Q$5:Q$503)))","v":""}]
[null,"","","","","","","","","","","","","","","","","","","","",null,null,null,null,null,null,null,null,null,null,null,null,null,null,null,null,null,null,null,null,null,null,null,null,null,null,null,null,null,null,"","","",{"$f":"IF(P92=\"\",\"\",IF(P92=0,\"\",SQRT(SUMIF(DMA!$DK$5:$DK$503,Graphs!$O92,DMA!DL$5:DL$503))/COUNTIF(DMA!$DK$5:$DK$503,Graphs!$O92)))","v":""},{"$f":"IF(Q92=\"\",\"\",IF(Q92=0,\"\",SQRT(SUMIF(DMA!$DK$5:$DK$503,Graphs!$O92,DMA!DM$5:DM$503))/COUNTIF(DMA!$DK$5:$DK$503,Graphs!$O92)))","v":""},{"$f":"IF(R92=\"\",\"\",IF(R92=0,\"\",SQRT(SUMIF(DMA!$DK$5:$DK$503,Graphs!$O92,DMA!DN$5:DN$503))/COUNTIF(DMA!$DK$5:$DK$503,Graphs!$O92)))","v":""},{"$f":"IF($P92=\"\",\"\",IF(P92=0,\"\",AVERAGEIF(DMA!$N$5:$N$503,Graphs!$O92,DMA!O$5:O$503)))","v":""},{"$f":"IF($Q92=\"\",\"\",IF(Q92=0,\"\",AVERAGEIF(DMA!$N$5:$N$503,Graphs!$O92,DMA!P$5:P$503)))","v":""},{"$f":"IF($R92=\"\",\"\",IF(R92=0,\"\",AVERAGEIF(DMA!$N$5:$N$503,Graphs!$O92,DMA!Q$5:Q$503)))","v":""}]
[null,"","","","","","","","","","","","","","","","","","","","",null,null,null,null,null,null,null,null,null,null,null,null,null,null,null,null,null,null,null,null,null,null,null,null,null,null,null,null,null,null,"","","",{"$f":"IF(P93=\"\",\"\",IF(P93=0,\"\",SQRT(SUMIF(DMA!$DK$5:$DK$503,Graphs!$O93,DMA!DL$5:DL$503))/COUNTIF(DMA!$DK$5:$DK$503,Graphs!$O93)))","v":""},{"$f":"IF(Q93=\"\",\"\",IF(Q93=0,\"\",SQRT(SUMIF(DMA!$DK$5:$DK$503,Graphs!$O93,DMA!DM$5:DM$503))/COUNTIF(DMA!$DK$5:$DK$503,Graphs!$O93)))","v":""},{"$f":"IF(R93=\"\",\"\",IF(R93=0,\"\",SQRT(SUMIF(DMA!$DK$5:$DK$503,Graphs!$O93,DMA!DN$5:DN$503))/COUNTIF(DMA!$DK$5:$DK$503,Graphs!$O93)))","v":""},{"$f":"IF($P93=\"\",\"\",IF(P93=0,\"\",AVERAGEIF(DMA!$N$5:$N$503,Graphs!$O93,DMA!O$5:O$503)))","v":""},{"$f":"IF($Q93=\"\",\"\",IF(Q93=0,\"\",AVERAGEIF(DMA!$N$5:$N$503,Graphs!$O93,DMA!P$5:P$503)))","v":""},{"$f":"IF($R93=\"\",\"\",IF(R93=0,\"\",AVERAGEIF(DMA!$N$5:$N$503,Graphs!$O93,DMA!Q$5:Q$503)))","v":""}]
[null,"","","","","","","","","","","","","","","","","","","","",null,null,null,null,null,null,null,null,null,null,null,null,null,null,null,null,null,null,null,null,null,null,null,null,null,null,null,null,null,null,"","","",{"$f":"IF(P94=\"\",\"\",IF(P94=0,\"\",SQRT(SUMIF(DMA!$DK$5:$DK$503,Graphs!$O94,DMA!DL$5:DL$503))/COUNTIF(DMA!$DK$5:$DK$503,Graphs!$O94)))","v":""},{"$f":"IF(Q94=\"\",\"\",IF(Q94=0,\"\",SQRT(SUMIF(DMA!$DK$5:$DK$503,Graphs!$O94,DMA!DM$5:DM$503))/COUNTIF(DMA!$DK$5:$DK$503,Graphs!$O94)))","v":""},{"$f":"IF(R94=\"\",\"\",IF(R94=0,\"\",SQRT(SUMIF(DMA!$DK$5:$DK$503,Graphs!$O94,DMA!DN$5:DN$503))/COUNTIF(DMA!$DK$5:$DK$503,Graphs!$O94)))","v":""},{"$f":"IF($P94=\"\",\"\",IF(P94=0,\"\",AVERAGEIF(DMA!$N$5:$N$503,Graphs!$O94,DMA!O$5:O$503)))","v":""},{"$f":"IF($Q94=\"\",\"\",IF(Q94=0,\"\",AVERAGEIF(DMA!$N$5:$N$503,Graphs!$O94,DMA!P$5:P$503)))","v":""},{"$f":"IF($R94=\"\",\"\",IF(R94=0,\"\",AVERAGEIF(DMA!$N$5:$N$503,Graphs!$O94,DMA!Q$5:Q$503)))","v":""}]
[null,"","","","","","","","","","","","","","","","","","","","",null,null,null,null,null,null,null,null,null,null,null,null,null,null,null,null,null,null,null,null,null,null,null,null,null,null,null,null,null,null,"","","",{"$f":"IF(P95=\"\",\"\",IF(P95=0,\"\",SQRT(SUMIF(DMA!$DK$5:$DK$503,Graphs!$O95,DMA!DL$5:DL$503))/COUNTIF(DMA!$DK$5:$DK$503,Graphs!$O95)))","v":""},{"$f":"IF(Q95=\"\",\"\",IF(Q95=0,\"\",SQRT(SUMIF(DMA!$DK$5:$DK$503,Graphs!$O95,DMA!DM$5:DM$503))/COUNTIF(DMA!$DK$5:$DK$503,Graphs!$O95)))","v":""},{"$f":"IF(R95=\"\",\"\",IF(R95=0,\"\",SQRT(SUMIF(DMA!$DK$5:$DK$503,Graphs!$O95,DMA!DN$5:DN$503))/COUNTIF(DMA!$DK$5:$DK$503,Graphs!$O95)))","v":""},{"$f":"IF($P95=\"\",\"\",IF(P95=0,\"\",AVERAGEIF(DMA!$N$5:$N$503,Graphs!$O95,DMA!O$5:O$503)))","v":""},{"$f":"IF($Q95=\"\",\"\",IF(Q95=0,\"\",AVERAGEIF(DMA!$N$5:$N$503,Graphs!$O95,DMA!P$5:P$503)))","v":""},{"$f":"IF($R95=\"\",\"\",IF(R95=0,\"\",AVERAGEIF(DMA!$N$5:$N$503,Graphs!$O95,DMA!Q$5:Q$503)))","v":""}]
[null,"","","","","","","","","","","","","","","","","","","","",null,null,null,null,null,null,null,null,null,null,null,null,null,null,null,null,null,null,null,null,null,null,null,null,null,null,null,null,null,null,"","","",{"$f":"IF(P96=\"\",\"\",IF(P96=0,\"\",SQRT(SUMIF(DMA!$DK$5:$DK$503,Graphs!$O96,DMA!DL$5:DL$503))/COUNTIF(DMA!$DK$5:$DK$503,Graphs!$O96)))","v":""},{"$f":"IF(Q96=\"\",\"\",IF(Q96=0,\"\",SQRT(SUMIF(DMA!$DK$5:$DK$503,Graphs!$O96,DMA!DM$5:DM$503))/COUNTIF(DMA!$DK$5:$DK$503,Graphs!$O96)))","v":""},{"$f":"IF(R96=\"\",\"\",IF(R96=0,\"\",SQRT(SUMIF(DMA!$DK$5:$DK$503,Graphs!$O96,DMA!DN$5:DN$503))/COUNTIF(DMA!$DK$5:$DK$503,Graphs!$O96)))","v":""},{"$f":"IF($P96=\"\",\"\",IF(P96=0,\"\",AVERAGEIF(DMA!$N$5:$N$503,Graphs!$O96,DMA!O$5:O$503)))","v":""},{"$f":"IF($Q96=\"\",\"\",IF(Q96=0,\"\",AVERAGEIF(DMA!$N$5:$N$503,Graphs!$O96,DMA!P$5:P$503)))","v":""},{"$f":"IF($R96=\"\",\"\",IF(R96=0,\"\",AVERAGEIF(DMA!$N$5:$N$503,Graphs!$O96,DMA!Q$5:Q$503)))","v":""}]
[null,"","","","","","","","","","","","","","","","","","","","",null,null,null,null,null,null,null,null,null,null,null,null,null,null,null,null,null,null,null,null,null,null,null,null,null,null,null,null,null,null,"","","",{"$f":"IF(P97=\"\",\"\",IF(P97=0,\"\",SQRT(SUMIF(DMA!$DK$5:$DK$503,Graphs!$O97,DMA!DL$5:DL$503))/COUNTIF(DMA!$DK$5:$DK$503,Graphs!$O97)))","v":""},{"$f":"IF(Q97=\"\",\"\",IF(Q97=0,\"\",SQRT(SUMIF(DMA!$DK$5:$DK$503,Graphs!$O97,DMA!DM$5:DM$503))/COUNTIF(DMA!$DK$5:$DK$503,Graphs!$O97)))","v":""},{"$f":"IF(R97=\"\",\"\",IF(R97=0,\"\",SQRT(SUMIF(DMA!$DK$5:$DK$503,Graphs!$O97,DMA!DN$5:DN$503))/COUNTIF(DMA!$DK$5:$DK$503,Graphs!$O97)))","v":""},{"$f":"IF($P97=\"\",\"\",IF(P97=0,\"\",AVERAGEIF(DMA!$N$5:$N$503,Graphs!$O97,DMA!O$5:O$503)))","v":""},{"$f":"IF($Q97=\"\",\"\",IF(Q97=0,\"\",AVERAGEIF(DMA!$N$5:$N$503,Graphs!$O97,DMA!P$5:P$503)))","v":""},{"$f":"IF($R97=\"\",\"\",IF(R97=0,\"\",AVERAGEIF(DMA!$N$5:$N$503,Graphs!$O97,DMA!Q$5:Q$503)))","v":""}]
[null,"","","","","","","","","","","","","","","","","","","","",null,null,null,null,null,null,null,null,null,null,null,null,null,null,null,null,null,null,null,null,null,null,null,null,null,null,null,null,null,null,"","","",{"$f":"IF(P98=\"\",\"\",IF(P98=0,\"\",SQRT(SUMIF(DMA!$DK$5:$DK$503,Graphs!$O98,DMA!DL$5:DL$503))/COUNTIF(DMA!$DK$5:$DK$503,Graphs!$O98)))","v":""},{"$f":"IF(Q98=\"\",\"\",IF(Q98=0,\"\",SQRT(SUMIF(DMA!$DK$5:$DK$503,Graphs!$O98,DMA!DM$5:DM$503))/COUNTIF(DMA!$DK$5:$DK$503,Graphs!$O98)))","v":""},{"$f":"IF(R98=\"\",\"\",IF(R98=0,\"\",SQRT(SUMIF(DMA!$DK$5:$DK$503,Graphs!$O98,DMA!DN$5:DN$503))/COUNTIF(DMA!$DK$5:$DK$503,Graphs!$O98)))","v":""},{"$f":"IF($P98=\"\",\"\",IF(P98=0,\"\",AVERAGEIF(DMA!$N$5:$N$503,Graphs!$O98,DMA!O$5:O$503)))","v":""},{"$f":"IF($Q98=\"\",\"\",IF(Q98=0,\"\",AVERAGEIF(DMA!$N$5:$N$503,Graphs!$O98,DMA!P$5:P$503)))","v":""},{"$f":"IF($R98=\"\",\"\",IF(R98=0,\"\",AVERAGEIF(DMA!$N$5:$N$503,Graphs!$O98,DMA!Q$5:Q$503)))","v":""}]
[null,"","","","","","","","","","","","","","","","","","","","",null,null,null,null,null,null,null,null,null,null,null,null,null,null,null,null,null,null,null,null,null,null,null,null,null,null,null,null,null,null,"","","",{"$f":"IF(P99=\"\",\"\",IF(P99=0,\"\",SQRT(SUMIF(DMA!$DK$5:$DK$503,Graphs!$O99,DMA!DL$5:DL$503))/COUNTIF(DMA!$DK$5:$DK$503,Graphs!$O99)))","v":""},{"$f":"IF(Q99=\"\",\"\",IF(Q99=0,\"\",SQRT(SUMIF(DMA!$DK$5:$DK$503,Graphs!$O99,DMA!DM$5:DM$503))/COUNTIF(DMA!$DK$5:$DK$503,Graphs!$O99)))","v":""},{"$f":"IF(R99=\"\",\"\",IF(R99=0,\"\",SQRT(SUMIF(DMA!$DK$5:$DK$503,Graphs!$O99,DMA!DN$5:DN$503))/COUNTIF(DMA!$DK$5:$DK$503,Graphs!$O99)))","v":""},{"$f":"IF($P99=\"\",\"\",IF(P99=0,\"\",AVERAGEIF(DMA!$N$5:$N$503,Graphs!$O99,DMA!O$5:O$503)))","v":""},{"$f":"IF($Q99=\"\",\"\",IF(Q99=0,\"\",AVERAGEIF(DMA!$N$5:$N$503,Graphs!$O99,DMA!P$5:P$503)))","v":""},{"$f":"IF($R99=\"\",\"\",IF(R99=0,\"\",AVERAGEIF(DMA!$N$5:$N$503,Graphs!$O99,DMA!Q$5:Q$503)))","v":""}]
[null,"","","","","","","","","","","","","","","","","","","","",null,null,null,null,null,null,null,null,null,null,null,null,null,null,null,null,null,null,null,null,null,null,null,null,null,null,null,null,null,null,"","","",{"$f":"IF(P100=\"\",\"\",IF(P100=0,\"\",SQRT(SUMIF(DMA!$DK$5:$DK$503,Graphs!$O100,DMA!DL$5:DL$503))/COUNTIF(DMA!$DK$5:$DK$503,Graphs!$O100)))","v":""},{"$f":"IF(Q100=\"\",\"\",IF(Q100=0,\"\",SQRT(SUMIF(DMA!$DK$5:$DK$503,Graphs!$O100,DMA!DM$5:DM$503))/COUNTIF(DMA!$DK$5:$DK$503,Graphs!$O100)))","v":""},{"$f":"IF(R100=\"\",\"\",IF(R100=0,\"\",SQRT(SUMIF(DMA!$DK$5:$DK$503,Graphs!$O100,DMA!DN$5:DN$503))/COUNTIF(DMA!$DK$5:$DK$503,Graphs!$O100)))","v":""},{"$f":"IF($P100=\"\",\"\",IF(P100=0,\"\",AVERAGEIF(DMA!$N$5:$N$503,Graphs!$O100,DMA!O$5:O$503)))","v":""},{"$f":"IF($Q100=\"\",\"\",IF(Q100=0,\"\",AVERAGEIF(DMA!$N$5:$N$503,Graphs!$O100,DMA!P$5:P$503)))","v":""},{"$f":"IF($R100=\"\",\"\",IF(R100=0,\"\",AVERAGEIF(DMA!$N$5:$N$503,Graphs!$O100,DMA!Q$5:Q$503)))","v":""}]
[null,"","","","","","","","","","","","","","","","","","","","",null,null,null,null,null,null,null,null,null,null,null,null,null,null,null,null,null,null,null,null,null,null,null,null,null,null,null,null,null,null,"","","",{"$f":"IF(P101=\"\",\"\",IF(P101=0,\"\",SQRT(SUMIF(DMA!$DK$5:$DK$503,Graphs!$O101,DMA!DL$5:DL$503))/COUNTIF(DMA!$DK$5:$DK$503,Graphs!$O101)))","v":""},{"$f":"IF(Q101=\"\",\"\",IF(Q101=0,\"\",SQRT(SUMIF(DMA!$DK$5:$DK$503,Graphs!$O101,DMA!DM$5:DM$503))/COUNTIF(DMA!$DK$5:$DK$503,Graphs!$O101)))","v":""},{"$f":"IF(R101=\"\",\"\",IF(R101=0,\"\",SQRT(SUMIF(DMA!$DK$5:$DK$503,Graphs!$O101,DMA!DN$5:DN$503))/COUNTIF(DMA!$DK$5:$DK$503,Graphs!$O101)))","v":""},{"$f":"IF($P101=\"\",\"\",IF(P101=0,\"\",AVERAGEIF(DMA!$N$5:$N$503,Graphs!$O101,DMA!O$5:O$503)))","v":""},{"$f":"IF($Q101=\"\",\"\",IF(Q101=0,\"\",AVERAGEIF(DMA!$N$5:$N$503,Graphs!$O101,DMA!P$5:P$503)))","v":""},{"$f":"IF($R101=\"\",\"\",IF(R101=0,\"\",AVERAGEIF(DMA!$N$5:$N$503,Graphs!$O101,DMA!Q$5:Q$503)))","v":""}]
[null,"","","","","","","","","","","","","","","","","","","","",null,null,null,null,null,null,null,null,null,null,null,null,null,null,null,null,null,null,null,null,null,null,null,null,null,null,null,null,null,null,"","","",{"$f":"IF(P102=\"\",\"\",IF(P102=0,\"\",SQRT(SUMIF(DMA!$DK$5:$DK$503,Graphs!$O102,DMA!DL$5:DL$503))/COUNTIF(DMA!$DK$5:$DK$503,Graphs!$O102)))","v":""},{"$f":"IF(Q102=\"\",\"\",IF(Q102=0,\"\",SQRT(SUMIF(DMA!$DK$5:$DK$503,Graphs!$O102,DMA!DM$5:DM$503))/COUNTIF(DMA!$DK$5:$DK$503,Graphs!$O102)))","v":""},{"$f":"IF(R102=\"\",\"\",IF(R102=0,\"\",SQRT(SUMIF(DMA!$DK$5:$DK$503,Graphs!$O102,DMA!DN$5:DN$503))/COUNTIF(DMA!$DK$5:$DK$503,Graphs!$O102)))","v":""},{"$f":"IF($P102=\"\",\"\",IF(P102=0,\"\",AVERAGEIF(DMA!$N$5:$N$503,Graphs!$O102,DMA!O$5:O$503)))","v":""},{"$f":"IF($Q102=\"\",\"\",IF(Q102=0,\"\",AVERAGEIF(DMA!$N$5:$N$503,Graphs!$O102,DMA!P$5:P$503)))","v":""},{"$f":"IF($R102=\"\",\"\",IF(R102=0,\"\",AVERAGEIF(DMA!$N$5:$N$503,Graphs!$O102,DMA!Q$5:Q$503)))","v":""}]
[null,"","","","","","","","","","","","","","","","","","","","",null,null,null,null,null,null,null,null,null,null,null,null,null,null,null,null,null,null,null,null,null,null,null,null,null,null,null,null,null,null,"","","",{"$f":"IF(P103=\"\",\"\",IF(P103=0,\"\",SQRT(SUMIF(DMA!$DK$5:$DK$503,Graphs!$O103,DMA!DL$5:DL$503))/COUNTIF(DMA!$DK$5:$DK$503,Graphs!$O103)))","v":""},{"$f":"IF(Q103=\"\",\"\",IF(Q103=0,\"\",SQRT(SUMIF(DMA!$DK$5:$DK$503,Graphs!$O103,DMA!DM$5:DM$503))/COUNTIF(DMA!$DK$5:$DK$503,Graphs!$O103)))","v":""},{"$f":"IF(R103=\"\",\"\",IF(R103=0,\"\",SQRT(SUMIF(DMA!$DK$5:$DK$503,Graphs!$O103,DMA!DN$5:DN$503))/COUNTIF(DMA!$DK$5:$DK$503,Graphs!$O103)))","v":""},{"$f":"IF($P103=\"\",\"\",IF(P103=0,\"\",AVERAGEIF(DMA!$N$5:$N$503,Graphs!$O103,DMA!O$5:O$503)))","v":""},{"$f":"IF($Q103=\"\",\"\",IF(Q103=0,\"\",AVERAGEIF(DMA!$N$5:$N$503,Graphs!$O103,DMA!P$5:P$503)))","v":""},{"$f":"IF($R103=\"\",\"\",IF(R103=0,\"\",AVERAGEIF(DMA!$N$5:$N$503,Graphs!$O103,DMA!Q$5:Q$503)))","v":""}]
[null,"","","","","","","","","","","","","","","","","","","","",null,null,null,null,null,null,null,null,null,null,null,null,null,null,null,null,null,null,null,null,null,null,null,null,null,null,null,null,null,null,"","","",{"$f":"IF(P104=\"\",\"\",IF(P104=0,\"\",SQRT(SUMIF(DMA!$DK$5:$DK$503,Graphs!$O104,DMA!DL$5:DL$503))/COUNTIF(DMA!$DK$5:$DK$503,Graphs!$O104)))","v":""},{"$f":"IF(Q104=\"\",\"\",IF(Q104=0,\"\",SQRT(SUMIF(DMA!$DK$5:$DK$503,Graphs!$O104,DMA!DM$5:DM$503))/COUNTIF(DMA!$DK$5:$DK$503,Graphs!$O104)))","v":""},{"$f":"IF(R104=\"\",\"\",IF(R104=0,\"\",SQRT(SUMIF(DMA!$DK$5:$DK$503,Graphs!$O104,DMA!DN$5:DN$503))/COUNTIF(DMA!$DK$5:$DK$503,Graphs!$O104)))","v":""},{"$f":"IF($P104=\"\",\"\",IF(P104=0,\"\",AVERAGEIF(DMA!$N$5:$N$503,Graphs!$O104,DMA!O$5:O$503)))","v":""},{"$f":"IF($Q104=\"\",\"\",IF(Q104=0,\"\",AVERAGEIF(DMA!$N$5:$N$503,Graphs!$O104,DMA!P$5:P$503)))","v":""},{"$f":"IF($R104=\"\",\"\",IF(R104=0,\"\",AVERAGEIF(DMA!$N$5:$N$503,Graphs!$O104,DMA!Q$5:Q$503)))","v":""}]
[null,"","","","","","","","","","","","","","","","","","","","",null,null,null,null,null,null,null,null,null,null,null,null,null,null,null,null,null,null,null,null,null,null,null,null,null,null,null,null,null,null,"","","",{"$f":"IF(P105=\"\",\"\",IF(P105=0,\"\",SQRT(SUMIF(DMA!$DK$5:$DK$503,Graphs!$O105,DMA!DL$5:DL$503))/COUNTIF(DMA!$DK$5:$DK$503,Graphs!$O105)))","v":""},{"$f":"IF(Q105=\"\",\"\",IF(Q105=0,\"\",SQRT(SUMIF(DMA!$DK$5:$DK$503,Graphs!$O105,DMA!DM$5:DM$503))/COUNTIF(DMA!$DK$5:$DK$503,Graphs!$O105)))","v":""},{"$f":"IF(R105=\"\",\"\",IF(R105=0,\"\",SQRT(SUMIF(DMA!$DK$5:$DK$503,Graphs!$O105,DMA!DN$5:DN$503))/COUNTIF(DMA!$DK$5:$DK$503,Graphs!$O105)))","v":""},{"$f":"IF($P105=\"\",\"\",IF(P105=0,\"\",AVERAGEIF(DMA!$N$5:$N$503,Graphs!$O105,DMA!O$5:O$503)))","v":""},{"$f":"IF($Q105=\"\",\"\",IF(Q105=0,\"\",AVERAGEIF(DMA!$N$5:$N$503,Graphs!$O105,DMA!P$5:P$503)))","v":""},{"$f":"IF($R105=\"\",\"\",IF(R105=0,\"\",AVERAGEIF(DMA!$N$5:$N$503,Graphs!$O105,DMA!Q$5:Q$503)))","v":""}]
[null,"","","","","","","","","","","","","","","","","","","","",null,null,null,null,null,null,null,null,null,null,null,null,null,null,null,null,null,null,null,null,null,null,null,null,null,null,null,null,null,null,"","","",{"$f":"IF(P106=\"\",\"\",IF(P106=0,\"\",SQRT(SUMIF(DMA!$DK$5:$DK$503,Graphs!$O106,DMA!DL$5:DL$503))/COUNTIF(DMA!$DK$5:$DK$503,Graphs!$O106)))","v":""},{"$f":"IF(Q106=\"\",\"\",IF(Q106=0,\"\",SQRT(SUMIF(DMA!$DK$5:$DK$503,Graphs!$O106,DMA!DM$5:DM$503))/COUNTIF(DMA!$DK$5:$DK$503,Graphs!$O106)))","v":""},{"$f":"IF(R106=\"\",\"\",IF(R106=0,\"\",SQRT(SUMIF(DMA!$DK$5:$DK$503,Graphs!$O106,DMA!DN$5:DN$503))/COUNTIF(DMA!$DK$5:$DK$503,Graphs!$O106)))","v":""},{"$f":"IF($P106=\"\",\"\",IF(P106=0,\"\",AVERAGEIF(DMA!$N$5:$N$503,Graphs!$O106,DMA!O$5:O$503)))","v":""},{"$f":"IF($Q106=\"\",\"\",IF(Q106=0,\"\",AVERAGEIF(DMA!$N$5:$N$503,Graphs!$O106,DMA!P$5:P$503)))","v":""},{"$f":"IF($R106=\"\",\"\",IF(R106=0,\"\",AVERAGEIF(DMA!$N$5:$N$503,Graphs!$O106,DMA!Q$5:Q$503)))","v":""}]
[null,"","","","","","","","","","","","","","","","","","","","",null,null,null,null,null,null,null,null,null,null,null,null,null,null,null,null,null,null,null,null,null,null,null,null,null,null,null,null,null,null,"","","",{"$f":"IF(P107=\"\",\"\",IF(P107=0,\"\",SQRT(SUMIF(DMA!$DK$5:$DK$503,Graphs!$O107,DMA!DL$5:DL$503))/COUNTIF(DMA!$DK$5:$DK$503,Graphs!$O107)))","v":""},{"$f":"IF(Q107=\"\",\"\",IF(Q107=0,\"\",SQRT(SUMIF(DMA!$DK$5:$DK$503,Graphs!$O107,DMA!DM$5:DM$503))/COUNTIF(DMA!$DK$5:$DK$503,Graphs!$O107)))","v":""},{"$f":"IF(R107=\"\",\"\",IF(R107=0,\"\",SQRT(SUMIF(DMA!$DK$5:$DK$503,Graphs!$O107,DMA!DN$5:DN$503))/COUNTIF(DMA!$DK$5:$DK$503,Graphs!$O107)))","v":""},{"$f":"IF($P107=\"\",\"\",IF(P107=0,\"\",AVERAGEIF(DMA!$N$5:$N$503,Graphs!$O107,DMA!O$5:O$503)))","v":""},{"$f":"IF($Q107=\"\",\"\",IF(Q107=0,\"\",AVERAGEIF(DMA!$N$5:$N$503,Graphs!$O107,DMA!P$5:P$503)))","v":""},{"$f":"IF($R107=\"\",\"\",IF(R107=0,\"\",AVERAGEIF(DMA!$N$5:$N$503,Graphs!$O107,DMA!Q$5:Q$503)))","v":""}]
[null,"","","","","","","","","","","","","","","","","","","","",null,null,null,null,null,null,null,null,null,null,null,null,null,null,null,null,null,null,null,null,null,null,null,null,null,null,null,null,null,null,"","","",{"$f":"IF(P108=\"\",\"\",IF(P108=0,\"\",SQRT(SUMIF(DMA!$DK$5:$DK$503,Graphs!$O108,DMA!DL$5:DL$503))/COUNTIF(DMA!$DK$5:$DK$503,Graphs!$O108)))","v":""},{"$f":"IF(Q108=\"\",\"\",IF(Q108=0,\"\",SQRT(SUMIF(DMA!$DK$5:$DK$503,Graphs!$O108,DMA!DM$5:DM$503))/COUNTIF(DMA!$DK$5:$DK$503,Graphs!$O108)))","v":""},{"$f":"IF(R108=\"\",\"\",IF(R108=0,\"\",SQRT(SUMIF(DMA!$DK$5:$DK$503,Graphs!$O108,DMA!DN$5:DN$503))/COUNTIF(DMA!$DK$5:$DK$503,Graphs!$O108)))","v":""},{"$f":"IF($P108=\"\",\"\",IF(P108=0,\"\",AVERAGEIF(DMA!$N$5:$N$503,Graphs!$O108,DMA!O$5:O$503)))","v":""},{"$f":"IF($Q108=\"\",\"\",IF(Q108=0,\"\",AVERAGEIF(DMA!$N$5:$N$503,Graphs!$O108,DMA!P$5:P$503)))","v":""},{"$f":"IF($R108=\"\",\"\",IF(R108=0,\"\",AVERAGEIF(DMA!$N$5:$N$503,Graphs!$O108,DMA!Q$5:Q$503)))","v":""}]
[null,"","","","","","","","","","","","","","","","","","","","",null,null,null,null,null,null,null,null,null,null,null,null,null,null,null,null,null,null,null,null,null,null,null,null,null,null,null,null,null,null,"","","",{"$f":"IF(P109=\"\",\"\",IF(P109=0,\"\",SQRT(SUMIF(DMA!$DK$5:$DK$503,Graphs!$O109,DMA!DL$5:DL$503))/COUNTIF(DMA!$DK$5:$DK$503,Graphs!$O109)))","v":""},{"$f":"IF(Q109=\"\",\"\",IF(Q109=0,\"\",SQRT(SUMIF(DMA!$DK$5:$DK$503,Graphs!$O109,DMA!DM$5:DM$503))/COUNTIF(DMA!$DK$5:$DK$503,Graphs!$O109)))","v":""},{"$f":"IF(R109=\"\",\"\",IF(R109=0,\"\",SQRT(SUMIF(DMA!$DK$5:$DK$503,Graphs!$O109,DMA!DN$5:DN$503))/COUNTIF(DMA!$DK$5:$DK$503,Graphs!$O109)))","v":""},{"$f":"IF($P109=\"\",\"\",IF(P109=0,\"\",AVERAGEIF(DMA!$N$5:$N$503,Graphs!$O109,DMA!O$5:O$503)))","v":""},{"$f":"IF($Q109=\"\",\"\",IF(Q109=0,\"\",AVERAGEIF(DMA!$N$5:$N$503,Graphs!$O109,DMA!P$5:P$503)))","v":""},{"$f":"IF($R109=\"\",\"\",IF(R109=0,\"\",AVERAGEIF(DMA!$N$5:$N$503,Graphs!$O109,DMA!Q$5:Q$503)))","v":""}]
[null,"","","","","","","","","","","","","","","","","","","","",null,null,null,null,null,null,null,null,null,null,null,null,null,null,null,null,null,null,null,null,null,null,null,null,null,null,null,null,null,null,"","","",{"$f":"IF(P110=\"\",\"\",IF(P110=0,\"\",SQRT(SUMIF(DMA!$DK$5:$DK$503,Graphs!$O110,DMA!DL$5:DL$503))/COUNTIF(DMA!$DK$5:$DK$503,Graphs!$O110)))","v":""},{"$f":"IF(Q110=\"\",\"\",IF(Q110=0,\"\",SQRT(SUMIF(DMA!$DK$5:$DK$503,Graphs!$O110,DMA!DM$5:DM$503))/COUNTIF(DMA!$DK$5:$DK$503,Graphs!$O110)))","v":""},{"$f":"IF(R110=\"\",\"\",IF(R110=0,\"\",SQRT(SUMIF(DMA!$DK$5:$DK$503,Graphs!$O110,DMA!DN$5:DN$503))/COUNTIF(DMA!$DK$5:$DK$503,Graphs!$O110)))","v":""},{"$f":"IF($P110=\"\",\"\",IF(P110=0,\"\",AVERAGEIF(DMA!$N$5:$N$503,Graphs!$O110,DMA!O$5:O$503)))","v":""},{"$f":"IF($Q110=\"\",\"\",IF(Q110=0,\"\",AVERAGEIF(DMA!$N$5:$N$503,Graphs!$O110,DMA!P$5:P$503)))","v":""},{"$f":"IF($R110=\"\",\"\",IF(R110=0,\"\",AVERAGEIF(DMA!$N$5:$N$503,Graphs!$O110,DMA!Q$5:Q$503)))","v":""}]
[null,"","","","","","","","","","","","","","","","","","","","",null,null,null,null,null,null,null,null,null,null,null,null,null,null,null,null,null,null,null,null,null,null,null,null,null,null,null,null,null,null,"","","",{"$f":"IF(P111=\"\",\"\",IF(P111=0,\"\",SQRT(SUMIF(DMA!$DK$5:$DK$503,Graphs!$O111,DMA!DL$5:DL$503))/COUNTIF(DMA!$DK$5:$DK$503,Graphs!$O111)))","v":""},{"$f":"IF(Q111=\"\",\"\",IF(Q111=0,\"\",SQRT(SUMIF(DMA!$DK$5:$DK$503,Graphs!$O111,DMA!DM$5:DM$503))/COUNTIF(DMA!$DK$5:$DK$503,Graphs!$O111)))","v":""},{"$f":"IF(R111=\"\",\"\",IF(R111=0,\"\",SQRT(SUMIF(DMA!$DK$5:$DK$503,Graphs!$O111,DMA!DN$5:DN$503))/COUNTIF(DMA!$DK$5:$DK$503,Graphs!$O111)))","v":""},{"$f":"IF($P111=\"\",\"\",IF(P111=0,\"\",AVERAGEIF(DMA!$N$5:$N$503,Graphs!$O111,DMA!O$5:O$503)))","v":""},{"$f":"IF($Q111=\"\",\"\",IF(Q111=0,\"\",AVERAGEIF(DMA!$N$5:$N$503,Graphs!$O111,DMA!P$5:P$503)))","v":""},{"$f":"IF($R111=\"\",\"\",IF(R111=0,\"\",AVERAGEIF(DMA!$N$5:$N$503,Graphs!$O111,DMA!Q$5:Q$503)))","v":""}]
[null,"","","","","","","","","","","","","","","","","","","","",null,null,null,null,null,null,null,null,null,null,null,null,null,null,null,null,null,null,null,null,null,null,null,null,null,null,null,null,null,null,"","","",{"$f":"IF(P112=\"\",\"\",IF(P112=0,\"\",SQRT(SUMIF(DMA!$DK$5:$DK$503,Graphs!$O112,DMA!DL$5:DL$503))/COUNTIF(DMA!$DK$5:$DK$503,Graphs!$O112)))","v":""},{"$f":"IF(Q112=\"\",\"\",IF(Q112=0,\"\",SQRT(SUMIF(DMA!$DK$5:$DK$503,Graphs!$O112,DMA!DM$5:DM$503))/COUNTIF(DMA!$DK$5:$DK$503,Graphs!$O112)))","v":""},{"$f":"IF(R112=\"\",\"\",IF(R112=0,\"\",SQRT(SUMIF(DMA!$DK$5:$DK$503,Graphs!$O112,DMA!DN$5:DN$503))/COUNTIF(DMA!$DK$5:$DK$503,Graphs!$O112)))","v":""},{"$f":"IF($P112=\"\",\"\",IF(P112=0,\"\",AVERAGEIF(DMA!$N$5:$N$503,Graphs!$O112,DMA!O$5:O$503)))","v":""},{"$f":"IF($Q112=\"\",\"\",IF(Q112=0,\"\",AVERAGEIF(DMA!$N$5:$N$503,Graphs!$O112,DMA!P$5:P$503)))","v":""},{"$f":"IF($R112=\"\",\"\",IF(R112=0,\"\",AVERAGEIF(DMA!$N$5:$N$503,Graphs!$O112,DMA!Q$5:Q$503)))","v":""}]
[null,"","","","","","","","","","","","","","","","","","","","",null,null,null,null,null,null,null,null,null,null,null,null,null,null,null,null,null,null,null,null,null,null,null,null,null,null,null,null,null,null,"","","",{"$f":"IF(P113=\"\",\"\",IF(P113=0,\"\",SQRT(SUMIF(DMA!$DK$5:$DK$503,Graphs!$O113,DMA!DL$5:DL$503))/COUNTIF(DMA!$DK$5:$DK$503,Graphs!$O113)))","v":""},{"$f":"IF(Q113=\"\",\"\",IF(Q113=0,\"\",SQRT(SUMIF(DMA!$DK$5:$DK$503,Graphs!$O113,DMA!DM$5:DM$503))/COUNTIF(DMA!$DK$5:$DK$503,Graphs!$O113)))","v":""},{"$f":"IF(R113=\"\",\"\",IF(R113=0,\"\",SQRT(SUMIF(DMA!$DK$5:$DK$503,Graphs!$O113,DMA!DN$5:DN$503))/COUNTIF(DMA!$DK$5:$DK$503,Graphs!$O113)))","v":""},{"$f":"IF($P113=\"\",\"\",IF(P113=0,\"\",AVERAGEIF(DMA!$N$5:$N$503,Graphs!$O113,DMA!O$5:O$503)))","v":""},{"$f":"IF($Q113=\"\",\"\",IF(Q113=0,\"\",AVERAGEIF(DMA!$N$5:$N$503,Graphs!$O113,DMA!P$5:P$503)))","v":""},{"$f":"IF($R113=\"\",\"\",IF(R113=0,\"\",AVERAGEIF(DMA!$N$5:$N$503,Graphs!$O113,DMA!Q$5:Q$503)))","v":""}]
[null,"","","","","","","","","","","","","","","","","","","","",null,null,null,null,null,null,null,null,null,null,null,null,null,null,null,null,null,null,null,null,null,null,null,null,null,null,null,null,null,null,"","","",{"$f":"IF(P114=\"\",\"\",IF(P114=0,\"\",SQRT(SUMIF(DMA!$DK$5:$DK$503,Graphs!$O114,DMA!DL$5:DL$503))/COUNTIF(DMA!$DK$5:$DK$503,Graphs!$O114)))","v":""},{"$f":"IF(Q114=\"\",\"\",IF(Q114=0,\"\",SQRT(SUMIF(DMA!$DK$5:$DK$503,Graphs!$O114,DMA!DM$5:DM$503))/COUNTIF(DMA!$DK$5:$DK$503,Graphs!$O114)))","v":""},{"$f":"IF(R114=\"\",\"\",IF(R114=0,\"\",SQRT(SUMIF(DMA!$DK$5:$DK$503,Graphs!$O114,DMA!DN$5:DN$503))/COUNTIF(DMA!$DK$5:$DK$503,Graphs!$O114)))","v":""},{"$f":"IF($P114=\"\",\"\",IF(P114=0,\"\",AVERAGEIF(DMA!$N$5:$N$503,Graphs!$O114,DMA!O$5:O$503)))","v":""},{"$f":"IF($Q114=\"\",\"\",IF(Q114=0,\"\",AVERAGEIF(DMA!$N$5:$N$503,Graphs!$O114,DMA!P$5:P$503)))","v":""},{"$f":"IF($R114=\"\",\"\",IF(R114=0,\"\",AVERAGEIF(DMA!$N$5:$N$503,Graphs!$O114,DMA!Q$5:Q$503)))","v":""}]
[null,"","","","","","","","","","","","","","","","","","","","",null,null,null,null,null,null,null,null,null,null,null,null,null,null,null,null,null,null,null,null,null,null,null,null,null,null,null,null,null,null,"","","",{"$f":"IF(P115=\"\",\"\",IF(P115=0,\"\",SQRT(SUMIF(DMA!$DK$5:$DK$503,Graphs!$O115,DMA!DL$5:DL$503))/COUNTIF(DMA!$DK$5:$DK$503,Graphs!$O115)))","v":""},{"$f":"IF(Q115=\"\",\"\",IF(Q115=0,\"\",SQRT(SUMIF(DMA!$DK$5:$DK$503,Graphs!$O115,DMA!DM$5:DM$503))/COUNTIF(DMA!$DK$5:$DK$503,Graphs!$O115)))","v":""},{"$f":"IF(R115=\"\",\"\",IF(R115=0,\"\",SQRT(SUMIF(DMA!$DK$5:$DK$503,Graphs!$O115,DMA!DN$5:DN$503))/COUNTIF(DMA!$DK$5:$DK$503,Graphs!$O115)))","v":""},{"$f":"IF($P115=\"\",\"\",IF(P115=0,\"\",AVERAGEIF(DMA!$N$5:$N$503,Graphs!$O115,DMA!O$5:O$503)))","v":""},{"$f":"IF($Q115=\"\",\"\",IF(Q115=0,\"\",AVERAGEIF(DMA!$N$5:$N$503,Graphs!$O115,DMA!P$5:P$503)))","v":""},{"$f":"IF($R115=\"\",\"\",IF(R115=0,\"\",AVERAGEIF(DMA!$N$5:$N$503,Graphs!$O115,DMA!Q$5:Q$503)))","v":""}]
[null,"","","","","","","","","","","","","","","","","","","","",null,null,null,null,null,null,null,null,null,null,null,null,null,null,null,null,null,null,null,null,null,null,null,null,null,null,null,null,null,null,"","","",{"$f":"IF(P116=\"\",\"\",IF(P116=0,\"\",SQRT(SUMIF(DMA!$DK$5:$DK$503,Graphs!$O116,DMA!DL$5:DL$503))/COUNTIF(DMA!$DK$5:$DK$503,Graphs!$O116)))","v":""},{"$f":"IF(Q116=\"\",\"\",IF(Q116=0,\"\",SQRT(SUMIF(DMA!$DK$5:$DK$503,Graphs!$O116,DMA!DM$5:DM$503))/COUNTIF(DMA!$DK$5:$DK$503,Graphs!$O116)))","v":""},{"$f":"IF(R116=\"\",\"\",IF(R116=0,\"\",SQRT(SUMIF(DMA!$DK$5:$DK$503,Graphs!$O116,DMA!DN$5:DN$503))/COUNTIF(DMA!$DK$5:$DK$503,Graphs!$O116)))","v":""},{"$f":"IF($P116=\"\",\"\",IF(P116=0,\"\",AVERAGEIF(DMA!$N$5:$N$503,Graphs!$O116,DMA!O$5:O$503)))","v":""},{"$f":"IF($Q116=\"\",\"\",IF(Q116=0,\"\",AVERAGEIF(DMA!$N$5:$N$503,Graphs!$O116,DMA!P$5:P$503)))","v":""},{"$f":"IF($R116=\"\",\"\",IF(R116=0,\"\",AVERAGEIF(DMA!$N$5:$N$503,Graphs!$O116,DMA!Q$5:Q$503)))","v":""}]
[null,"","","","","","","","","","","","","","","","","","","","",null,null,null,null,null,null,null,null,null,null,null,null,null,null,null,null,null,null,null,null,null,null,null,null,null,null,null,null,null,null,"","","",{"$f":"IF(P117=\"\",\"\",IF(P117=0,\"\",SQRT(SUMIF(DMA!$DK$5:$DK$503,Graphs!$O117,DMA!DL$5:DL$503))/COUNTIF(DMA!$DK$5:$DK$503,Graphs!$O117)))","v":""},{"$f":"IF(Q117=\"\",\"\",IF(Q117=0,\"\",SQRT(SUMIF(DMA!$DK$5:$DK$503,Graphs!$O117,DMA!DM$5:DM$503))/COUNTIF(DMA!$DK$5:$DK$503,Graphs!$O117)))","v":""},{"$f":"IF(R117=\"\",\"\",IF(R117=0,\"\",SQRT(SUMIF(DMA!$DK$5:$DK$503,Graphs!$O117,DMA!DN$5:DN$503))/COUNTIF(DMA!$DK$5:$DK$503,Graphs!$O117)))","v":""},{"$f":"IF($P117=\"\",\"\",IF(P117=0,\"\",AVERAGEIF(DMA!$N$5:$N$503,Graphs!$O117,DMA!O$5:O$503)))","v":""},{"$f":"IF($Q117=\"\",\"\",IF(Q117=0,\"\",AVERAGEIF(DMA!$N$5:$N$503,Graphs!$O117,DMA!P$5:P$503)))","v":""},{"$f":"IF($R117=\"\",\"\",IF(R117=0,\"\",AVERAGEIF(DMA!$N$5:$N$503,Graphs!$O117,DMA!Q$5:Q$503)))","v":""}]
[null,"","","","","","","","","","","","","","","","","","","","",null,null,null,null,null,null,null,null,null,null,null,null,null,null,null,null,null,null,null,null,null,null,null,null,null,null,null,null,null,null,"","","",{"$f":"IF(P118=\"\",\"\",IF(P118=0,\"\",SQRT(SUMIF(DMA!$DK$5:$DK$503,Graphs!$O118,DMA!DL$5:DL$503))/COUNTIF(DMA!$DK$5:$DK$503,Graphs!$O118)))","v":""},{"$f":"IF(Q118=\"\",\"\",IF(Q118=0,\"\",SQRT(SUMIF(DMA!$DK$5:$DK$503,Graphs!$O118,DMA!DM$5:DM$503))/COUNTIF(DMA!$DK$5:$DK$503,Graphs!$O118)))","v":""},{"$f":"IF(R118=\"\",\"\",IF(R118=0,\"\",SQRT(SUMIF(DMA!$DK$5:$DK$503,Graphs!$O118,DMA!DN$5:DN$503))/COUNTIF(DMA!$DK$5:$DK$503,Graphs!$O118)))","v":""},{"$f":"IF($P118=\"\",\"\",IF(P118=0,\"\",AVERAGEIF(DMA!$N$5:$N$503,Graphs!$O118,DMA!O$5:O$503)))","v":""},{"$f":"IF($Q118=\"\",\"\",IF(Q118=0,\"\",AVERAGEIF(DMA!$N$5:$N$503,Graphs!$O118,DMA!P$5:P$503)))","v":""},{"$f":"IF($R118=\"\",\"\",IF(R118=0,\"\",AVERAGEIF(DMA!$N$5:$N$503,Graphs!$O118,DMA!Q$5:Q$503)))","v":""}]
[null,"","","","","","","","","","","","","","","","","","","","",null,null,null,null,null,null,null,null,null,null,null,null,null,null,null,null,null,null,null,null,null,null,null,null,null,null,null,null,null,null,"","","",{"$f":"IF(P119=\"\",\"\",IF(P119=0,\"\",SQRT(SUMIF(DMA!$DK$5:$DK$503,Graphs!$O119,DMA!DL$5:DL$503))/COUNTIF(DMA!$DK$5:$DK$503,Graphs!$O119)))","v":""},{"$f":"IF(Q119=\"\",\"\",IF(Q119=0,\"\",SQRT(SUMIF(DMA!$DK$5:$DK$503,Graphs!$O119,DMA!DM$5:DM$503))/COUNTIF(DMA!$DK$5:$DK$503,Graphs!$O119)))","v":""},{"$f":"IF(R119=\"\",\"\",IF(R119=0,\"\",SQRT(SUMIF(DMA!$DK$5:$DK$503,Graphs!$O119,DMA!DN$5:DN$503))/COUNTIF(DMA!$DK$5:$DK$503,Graphs!$O119)))","v":""},{"$f":"IF($P119=\"\",\"\",IF(P119=0,\"\",AVERAGEIF(DMA!$N$5:$N$503,Graphs!$O119,DMA!O$5:O$503)))","v":""},{"$f":"IF($Q119=\"\",\"\",IF(Q119=0,\"\",AVERAGEIF(DMA!$N$5:$N$503,Graphs!$O119,DMA!P$5:P$503)))","v":""},{"$f":"IF($R119=\"\",\"\",IF(R119=0,\"\",AVERAGEIF(DMA!$N$5:$N$503,Graphs!$O119,DMA!Q$5:Q$503)))","v":""}]
[null,"","","","","","","","","","","","","","","","","","","","",null,null,null,null,null,null,null,null,null,null,null,null,null,null,null,null,null,null,null,null,null,null,null,null,null,null,null,null,null,null,{"$f":"IF(BC120=\"\",\"\",IF(BC120=1,\"\",IF(BC120=0,\"\",CONFIDENCE(0.05,BC120,BM120))))","v":""},{"$f":"IF(BD120=\"\",\"\",IF(BD120=1,\"\",IF(BD120=0,\"\",CONFIDENCE(0.05,BD120,BN120))))","v":""},{"$f":"IF(BE120=\"\",\"\",IF(BE120=1,\"\",IF(BE120=0,\"\",CONFIDENCE(0.05,BE120,BO120))))","v":""},{"$f":"IF(P120=\"\",\"\",IF(P120=0,\"\",SQRT(SUMIF(DMA!$DK$5:$DK$503,Graphs!$O120,DMA!DL$5:DL$503))/COUNTIF(DMA!$DK$5:$DK$503,Graphs!$O120)))","v":""},{"$f":"IF(Q120=\"\",\"\",IF(Q120=0,\"\",SQRT(SUMIF(DMA!$DK$5:$DK$503,Graphs!$O120,DMA!DM$5:DM$503))/COUNTIF(DMA!$DK$5:$DK$503,Graphs!$O120)))","v":""},{"$f":"IF(R120=\"\",\"\",IF(R120=0,\"\",SQRT(SUMIF(DMA!$DK$5:$DK$503,Graphs!$O120,DMA!DN$5:DN$503))/COUNTIF(DMA!$DK$5:$DK$503,Graphs!$O120)))","v":""},{"$f":"IF($P120=\"\",\"\",IF(P120=0,\"\",AVERAGEIF(DMA!$N$5:$N$503,Graphs!$O120,DMA!O$5:O$503)))","v":""},{"$f":"IF($Q120=\"\",\"\",IF(Q120=0,\"\",AVERAGEIF(DMA!$N$5:$N$503,Graphs!$O120,DMA!P$5:P$503)))","v":""},{"$f":"IF($R120=\"\",\"\",IF(R120=0,\"\",AVERAGEIF(DMA!$N$5:$N$503,Graphs!$O120,DMA!Q$5:Q$503)))","v":""}]
[null,"","","","","","","","","","","","","","","","","","","","",null,null,null,null,null,null,null,null,null,null,null,null,null,null,null,null,null,null,null,null,null,null,null,null,null,null,null,null,null,null,"","","",{"$f":"IF(P121=\"\",\"\",IF(P121=0,\"\",SQRT(SUMIF(DMA!$DK$5:$DK$503,Graphs!$O121,DMA!DL$5:DL$503))/COUNTIF(DMA!$DK$5:$DK$503,Graphs!$O121)))","v":""},{"$f":"IF(Q121=\"\",\"\",IF(Q121=0,\"\",SQRT(SUMIF(DMA!$DK$5:$DK$503,Graphs!$O121,DMA!DM$5:DM$503))/COUNTIF(DMA!$DK$5:$DK$503,Graphs!$O121)))","v":""},{"$f":"IF(R121=\"\",\"\",IF(R121=0,\"\",SQRT(SUMIF(DMA!$DK$5:$DK$503,Graphs!$O121,DMA!DN$5:DN$503))/COUNTIF(DMA!$DK$5:$DK$503,Graphs!$O121)))","v":""},{"$f":"IF($P121=\"\",\"\",IF(P121=0,\"\",AVERAGEIF(DMA!$N$5:$N$503,Graphs!$O121,DMA!O$5:O$503)))","v":""},{"$f":"IF($Q121=\"\",\"\",IF(Q121=0,\"\",AVERAGEIF(DMA!$N$5:$N$503,Graphs!$O121,DMA!P$5:P$503)))","v":""},{"$f":"IF($R121=\"\",\"\",IF(R121=0,\"\",AVERAGEIF(DMA!$N$5:$N$503,Graphs!$O121,DMA!Q$5:Q$503)))","v":""}]
[null,"","","","","","","","","","","","","","","","","","","","",null,null,null,null,null,null,null,null,null,null,null,null,null,null,null,null,null,null,null,null,null,null,null,null,null,null,null,null,null,null,"","","",{"$f":"IF(P122=\"\",\"\",IF(P122=0,\"\",SQRT(SUMIF(DMA!$DK$5:$DK$503,Graphs!$O122,DMA!DL$5:DL$503))/COUNTIF(DMA!$DK$5:$DK$503,Graphs!$O122)))","v":""},{"$f":"IF(Q122=\"\",\"\",IF(Q122=0,\"\",SQRT(SUMIF(DMA!$DK$5:$DK$503,Graphs!$O122,DMA!DM$5:DM$503))/COUNTIF(DMA!$DK$5:$DK$503,Graphs!$O122)))","v":""},{"$f":"IF(R122=\"\",\"\",IF(R122=0,\"\",SQRT(SUMIF(DMA!$DK$5:$DK$503,Graphs!$O122,DMA!DN$5:DN$503))/COUNTIF(DMA!$DK$5:$DK$503,Graphs!$O122)))","v":""},{"$f":"IF($P122=\"\",\"\",IF(P122=0,\"\",AVERAGEIF(DMA!$N$5:$N$503,Graphs!$O122,DMA!O$5:O$503)))","v":""},{"$f":"IF($Q122=\"\",\"\",IF(Q122=0,\"\",AVERAGEIF(DMA!$N$5:$N$503,Graphs!$O122,DMA!P$5:P$503)))","v":""},{"$f":"IF($R122=\"\",\"\",IF(R122=0,\"\",AVERAGEIF(DMA!$N$5:$N$503,Graphs!$O122,DMA!Q$5:Q$503)))","v":""}]
[null,"","","","","","","","","","","","","","","","","","","","",null,null,null,null,null,null,null,null,null,null,null,null,null,null,null,null,null,null,null,null,null,null,null,null,null,null,null,null,null,null,"","","",{"$f":"IF(P123=\"\",\"\",IF(P123=0,\"\",SQRT(SUMIF(DMA!$DK$5:$DK$503,Graphs!$O123,DMA!DL$5:DL$503))/COUNTIF(DMA!$DK$5:$DK$503,Graphs!$O123)))","v":""},{"$f":"IF(Q123=\"\",\"\",IF(Q123=0,\"\",SQRT(SUMIF(DMA!$DK$5:$DK$503,Graphs!$O123,DMA!DM$5:DM$503))/COUNTIF(DMA!$DK$5:$DK$503,Graphs!$O123)))","v":""},{"$f":"IF(R123=\"\",\"\",IF(R123=0,\"\",SQRT(SUMIF(DMA!$DK$5:$DK$503,Graphs!$O123,DMA!DN$5:DN$503))/COUNTIF(DMA!$DK$5:$DK$503,Graphs!$O123)))","v":""},{"$f":"IF($P123=\"\",\"\",IF(P123=0,\"\",AVERAGEIF(DMA!$N$5:$N$503,Graphs!$O123,DMA!O$5:O$503)))","v":""},{"$f":"IF($Q123=\"\",\"\",IF(Q123=0,\"\",AVERAGEIF(DMA!$N$5:$N$503,Graphs!$O123,DMA!P$5:P$503)))","v":""},{"$f":"IF($R123=\"\",\"\",IF(R123=0,\"\",AVERAGEIF(DMA!$N$5:$N$503,Graphs!$O123,DMA!Q$5:Q$503)))","v":""}]
[null,"","","","","","","","","","","","","","","","","","","","",null,null,null,null,null,null,null,null,null,null,null,null,null,null,null,null,null,null,null,null,null,null,null,null,null,null,null,null,null,null,"","","",{"$f":"IF(P124=\"\",\"\",IF(P124=0,\"\",SQRT(SUMIF(DMA!$DK$5:$DK$503,Graphs!$O124,DMA!DL$5:DL$503))/COUNTIF(DMA!$DK$5:$DK$503,Graphs!$O124)))","v":""},{"$f":"IF(Q124=\"\",\"\",IF(Q124=0,\"\",SQRT(SUMIF(DMA!$DK$5:$DK$503,Graphs!$O124,DMA!DM$5:DM$503))/COUNTIF(DMA!$DK$5:$DK$503,Graphs!$O124)))","v":""},{"$f":"IF(R124=\"\",\"\",IF(R124=0,\"\",SQRT(SUMIF(DMA!$DK$5:$DK$503,Graphs!$O124,DMA!DN$5:DN$503))/COUNTIF(DMA!$DK$5:$DK$503,Graphs!$O124)))","v":""},{"$f":"IF($P124=\"\",\"\",IF(P124=0,\"\",AVERAGEIF(DMA!$N$5:$N$503,Graphs!$O124,DMA!O$5:O$503)))","v":""},{"$f":"IF($Q124=\"\",\"\",IF(Q124=0,\"\",AVERAGEIF(DMA!$N$5:$N$503,Graphs!$O124,DMA!P$5:P$503)))","v":""},{"$f":"IF($R124=\"\",\"\",IF(R124=0,\"\",AVERAGEIF(DMA!$N$5:$N$503,Graphs!$O124,DMA!Q$5:Q$503)))","v":""}]
[null,"","","","","","","","","","","","","","","","","","","","",null,null,null,null,null,null,null,null,null,null,null,null,null,null,null,null,null,null,null,null,null,null,null,null,null,null,null,null,null,null,"","","",{"$f":"IF(P125=\"\",\"\",IF(P125=0,\"\",SQRT(SUMIF(DMA!$DK$5:$DK$503,Graphs!$O125,DMA!DL$5:DL$503))/COUNTIF(DMA!$DK$5:$DK$503,Graphs!$O125)))","v":""},{"$f":"IF(Q125=\"\",\"\",IF(Q125=0,\"\",SQRT(SUMIF(DMA!$DK$5:$DK$503,Graphs!$O125,DMA!DM$5:DM$503))/COUNTIF(DMA!$DK$5:$DK$503,Graphs!$O125)))","v":""},{"$f":"IF(R125=\"\",\"\",IF(R125=0,\"\",SQRT(SUMIF(DMA!$DK$5:$DK$503,Graphs!$O125,DMA!DN$5:DN$503))/COUNTIF(DMA!$DK$5:$DK$503,Graphs!$O125)))","v":""},{"$f":"IF($P125=\"\",\"\",IF(P125=0,\"\",AVERAGEIF(DMA!$N$5:$N$503,Graphs!$O125,DMA!O$5:O$503)))","v":""},{"$f":"IF($Q125=\"\",\"\",IF(Q125=0,\"\",AVERAGEIF(DMA!$N$5:$N$503,Graphs!$O125,DMA!P$5:P$503)))","v":""},{"$f":"IF($R125=\"\",\"\",IF(R125=0,\"\",AVERAGEIF(DMA!$N$5:$N$503,Graphs!$O125,DMA!Q$5:Q$503)))","v":""}]
[null,"","","","","","","","","","","","","","","","","","","","",null,null,null,null,null,null,null,null,null,null,null,null,null,null,null,null,null,null,null,null,null,null,null,null,null,null,null,null,null,null,"","","",{"$f":"IF(P126=\"\",\"\",IF(P126=0,\"\",SQRT(SUMIF(DMA!$DK$5:$DK$503,Graphs!$O126,DMA!DL$5:DL$503))/COUNTIF(DMA!$DK$5:$DK$503,Graphs!$O126)))","v":""},{"$f":"IF(Q126=\"\",\"\",IF(Q126=0,\"\",SQRT(SUMIF(DMA!$DK$5:$DK$503,Graphs!$O126,DMA!DM$5:DM$503))/COUNTIF(DMA!$DK$5:$DK$503,Graphs!$O126)))","v":""},{"$f":"IF(R126=\"\",\"\",IF(R126=0,\"\",SQRT(SUMIF(DMA!$DK$5:$DK$503,Graphs!$O126,DMA!DN$5:DN$503))/COUNTIF(DMA!$DK$5:$DK$503,Graphs!$O126)))","v":""},{"$f":"IF($P126=\"\",\"\",IF(P126=0,\"\",AVERAGEIF(DMA!$N$5:$N$503,Graphs!$O126,DMA!O$5:O$503)))","v":""},{"$f":"IF($Q126=\"\",\"\",IF(Q126=0,\"\",AVERAGEIF(DMA!$N$5:$N$503,Graphs!$O126,DMA!P$5:P$503)))","v":""},{"$f":"IF($R126=\"\",\"\",IF(R126=0,\"\",AVERAGEIF(DMA!$N$5:$N$503,Graphs!$O126,DMA!Q$5:Q$503)))","v":""}]
[null,"","","","","","","","","","","","","","","","","","","","",null,null,null,null,null,null,null,null,null,null,null,null,null,null,null,null,null,null,null,null,null,null,null,null,null,null,null,null,null,null,"","","",{"$f":"IF(P127=\"\",\"\",IF(P127=0,\"\",SQRT(SUMIF(DMA!$DK$5:$DK$503,Graphs!$O127,DMA!DL$5:DL$503))/COUNTIF(DMA!$DK$5:$DK$503,Graphs!$O127)))","v":""},{"$f":"IF(Q127=\"\",\"\",IF(Q127=0,\"\",SQRT(SUMIF(DMA!$DK$5:$DK$503,Graphs!$O127,DMA!DM$5:DM$503))/COUNTIF(DMA!$DK$5:$DK$503,Graphs!$O127)))","v":""},{"$f":"IF(R127=\"\",\"\",IF(R127=0,\"\",SQRT(SUMIF(DMA!$DK$5:$DK$503,Graphs!$O127,DMA!DN$5:DN$503))/COUNTIF(DMA!$DK$5:$DK$503,Graphs!$O127)))","v":""},{"$f":"IF($P127=\"\",\"\",IF(P127=0,\"\",AVERAGEIF(DMA!$N$5:$N$503,Graphs!$O127,DMA!O$5:O$503)))","v":""},{"$f":"IF($Q127=\"\",\"\",IF(Q127=0,\"\",AVERAGEIF(DMA!$N$5:$N$503,Graphs!$O127,DMA!P$5:P$503)))","v":""},{"$f":"IF($R127=\"\",\"\",IF(R127=0,\"\",AVERAGEIF(DMA!$N$5:$N$503,Graphs!$O127,DMA!Q$5:Q$503)))","v":""}]
[null,"","","","","","","","","","","","","","","","","","","","",null,null,null,null,null,null,null,null,null,null,null,null,null,null,null,null,null,null,null,null,null,null,null,null,null,null,null,null,null,null,"","","",{"$f":"IF(P128=\"\",\"\",IF(P128=0,\"\",SQRT(SUMIF(DMA!$DK$5:$DK$503,Graphs!$O128,DMA!DL$5:DL$503))/COUNTIF(DMA!$DK$5:$DK$503,Graphs!$O128)))","v":""},{"$f":"IF(Q128=\"\",\"\",IF(Q128=0,\"\",SQRT(SUMIF(DMA!$DK$5:$DK$503,Graphs!$O128,DMA!DM$5:DM$503))/COUNTIF(DMA!$DK$5:$DK$503,Graphs!$O128)))","v":""},{"$f":"IF(R128=\"\",\"\",IF(R128=0,\"\",SQRT(SUMIF(DMA!$DK$5:$DK$503,Graphs!$O128,DMA!DN$5:DN$503))/COUNTIF(DMA!$DK$5:$DK$503,Graphs!$O128)))","v":""},{"$f":"IF($P128=\"\",\"\",IF(P128=0,\"\",AVERAGEIF(DMA!$N$5:$N$503,Graphs!$O128,DMA!O$5:O$503)))","v":""},{"$f":"IF($Q128=\"\",\"\",IF(Q128=0,\"\",AVERAGEIF(DMA!$N$5:$N$503,Graphs!$O128,DMA!P$5:P$503)))","v":""},{"$f":"IF($R128=\"\",\"\",IF(R128=0,\"\",AVERAGEIF(DMA!$N$5:$N$503,Graphs!$O128,DMA!Q$5:Q$503)))","v":""}]
[null,"","","","","","","","","","","","","","","","","","","","",null,null,null,null,null,null,null,null,null,null,null,null,null,null,null,null,null,null,null,null,null,null,null,null,null,null,null,null,null,null,"","","",{"$f":"IF(P129=\"\",\"\",IF(P129=0,\"\",SQRT(SUMIF(DMA!$DK$5:$DK$503,Graphs!$O129,DMA!DL$5:DL$503))/COUNTIF(DMA!$DK$5:$DK$503,Graphs!$O129)))","v":""},{"$f":"IF(Q129=\"\",\"\",IF(Q129=0,\"\",SQRT(SUMIF(DMA!$DK$5:$DK$503,Graphs!$O129,DMA!DM$5:DM$503))/COUNTIF(DMA!$DK$5:$DK$503,Graphs!$O129)))","v":""},{"$f":"IF(R129=\"\",\"\",IF(R129=0,\"\",SQRT(SUMIF(DMA!$DK$5:$DK$503,Graphs!$O129,DMA!DN$5:DN$503))/COUNTIF(DMA!$DK$5:$DK$503,Graphs!$O129)))","v":""},{"$f":"IF($P129=\"\",\"\",IF(P129=0,\"\",AVERAGEIF(DMA!$N$5:$N$503,Graphs!$O129,DMA!O$5:O$503)))","v":""},{"$f":"IF($Q129=\"\",\"\",IF(Q129=0,\"\",AVERAGEIF(DMA!$N$5:$N$503,Graphs!$O129,DMA!P$5:P$503)))","v":""},{"$f":"IF($R129=\"\",\"\",IF(R129=0,\"\",AVERAGEIF(DMA!$N$5:$N$503,Graphs!$O129,DMA!Q$5:Q$503)))","v":""}]
[null,"","","","","","","","","","","","","","","","","","","","",null,null,null,null,null,null,null,null,null,null,null,null,null,null,null,null,null,null,null,null,null,null,null,null,null,null,null,null,null,null,"","","",{"$f":"IF(P130=\"\",\"\",IF(P130=0,\"\",SQRT(SUMIF(DMA!$DK$5:$DK$503,Graphs!$O130,DMA!DL$5:DL$503))/COUNTIF(DMA!$DK$5:$DK$503,Graphs!$O130)))","v":""},{"$f":"IF(Q130=\"\",\"\",IF(Q130=0,\"\",SQRT(SUMIF(DMA!$DK$5:$DK$503,Graphs!$O130,DMA!DM$5:DM$503))/COUNTIF(DMA!$DK$5:$DK$503,Graphs!$O130)))","v":""},{"$f":"IF(R130=\"\",\"\",IF(R130=0,\"\",SQRT(SUMIF(DMA!$DK$5:$DK$503,Graphs!$O130,DMA!DN$5:DN$503))/COUNTIF(DMA!$DK$5:$DK$503,Graphs!$O130)))","v":""},{"$f":"IF($P130=\"\",\"\",IF(P130=0,\"\",AVERAGEIF(DMA!$N$5:$N$503,Graphs!$O130,DMA!O$5:O$503)))","v":""},{"$f":"IF($Q130=\"\",\"\",IF(Q130=0,\"\",AVERAGEIF(DMA!$N$5:$N$503,Graphs!$O130,DMA!P$5:P$503)))","v":""},{"$f":"IF($R130=\"\",\"\",IF(R130=0,\"\",AVERAGEIF(DMA!$N$5:$N$503,Graphs!$O130,DMA!Q$5:Q$503)))","v":""}]
[null,"","","","","","","","","","","","","","","","","","","","",null,null,null,null,null,null,null,null,null,null,null,null,null,null,null,null,null,null,null,null,null,null,null,null,null,null,null,null,null,null,"","","",{"$f":"IF(P131=\"\",\"\",IF(P131=0,\"\",SQRT(SUMIF(DMA!$DK$5:$DK$503,Graphs!$O131,DMA!DL$5:DL$503))/COUNTIF(DMA!$DK$5:$DK$503,Graphs!$O131)))","v":""},{"$f":"IF(Q131=\"\",\"\",IF(Q131=0,\"\",SQRT(SUMIF(DMA!$DK$5:$DK$503,Graphs!$O131,DMA!DM$5:DM$503))/COUNTIF(DMA!$DK$5:$DK$503,Graphs!$O131)))","v":""},{"$f":"IF(R131=\"\",\"\",IF(R131=0,\"\",SQRT(SUMIF(DMA!$DK$5:$DK$503,Graphs!$O131,DMA!DN$5:DN$503))/COUNTIF(DMA!$DK$5:$DK$503,Graphs!$O131)))","v":""},{"$f":"IF($P131=\"\",\"\",IF(P131=0,\"\",AVERAGEIF(DMA!$N$5:$N$503,Graphs!$O131,DMA!O$5:O$503)))","v":""},{"$f":"IF($Q131=\"\",\"\",IF(Q131=0,\"\",AVERAGEIF(DMA!$N$5:$N$503,Graphs!$O131,DMA!P$5:P$503)))","v":""},{"$f":"IF($R131=\"\",\"\",IF(R131=0,\"\",AVERAGEIF(DMA!$N$5:$N$503,Graphs!$O131,DMA!Q$5:Q$503)))","v":""}]
[null,"","","","","","","","","","","","","","","","","","","","",null,null,null,null,null,null,null,null,null,null,null,null,null,null,null,null,null,null,null,null,null,null,null,null,null,null,null,null,null,null,"","","",{"$f":"IF(P132=\"\",\"\",IF(P132=0,\"\",SQRT(SUMIF(DMA!$DK$5:$DK$503,Graphs!$O132,DMA!DL$5:DL$503))/COUNTIF(DMA!$DK$5:$DK$503,Graphs!$O132)))","v":""},{"$f":"IF(Q132=\"\",\"\",IF(Q132=0,\"\",SQRT(SUMIF(DMA!$DK$5:$DK$503,Graphs!$O132,DMA!DM$5:DM$503))/COUNTIF(DMA!$DK$5:$DK$503,Graphs!$O132)))","v":""},{"$f":"IF(R132=\"\",\"\",IF(R132=0,\"\",SQRT(SUMIF(DMA!$DK$5:$DK$503,Graphs!$O132,DMA!DN$5:DN$503))/COUNTIF(DMA!$DK$5:$DK$503,Graphs!$O132)))","v":""},{"$f":"IF($P132=\"\",\"\",IF(P132=0,\"\",AVERAGEIF(DMA!$N$5:$N$503,Graphs!$O132,DMA!O$5:O$503)))","v":""},{"$f":"IF($Q132=\"\",\"\",IF(Q132=0,\"\",AVERAGEIF(DMA!$N$5:$N$503,Graphs!$O132,DMA!P$5:P$503)))","v":""},{"$f":"IF($R132=\"\",\"\",IF(R132=0,\"\",AVERAGEIF(DMA!$N$5:$N$503,Graphs!$O132,DMA!Q$5:Q$503)))","v":""}]
[null,"","","","","","","","","","","","","","","","","","","","",null,null,null,null,null,null,null,null,null,null,null,null,null,null,null,null,null,null,null,null,null,null,null,null,null,null,null,null,null,null,"","","",{"$f":"IF(P133=\"\",\"\",IF(P133=0,\"\",SQRT(SUMIF(DMA!$DK$5:$DK$503,Graphs!$O133,DMA!DL$5:DL$503))/COUNTIF(DMA!$DK$5:$DK$503,Graphs!$O133)))","v":""},{"$f":"IF(Q133=\"\",\"\",IF(Q133=0,\"\",SQRT(SUMIF(DMA!$DK$5:$DK$503,Graphs!$O133,DMA!DM$5:DM$503))/COUNTIF(DMA!$DK$5:$DK$503,Graphs!$O133)))","v":""},{"$f":"IF(R133=\"\",\"\",IF(R133=0,\"\",SQRT(SUMIF(DMA!$DK$5:$DK$503,Graphs!$O133,DMA!DN$5:DN$503))/COUNTIF(DMA!$DK$5:$DK$503,Graphs!$O133)))","v":""},{"$f":"IF($P133=\"\",\"\",IF(P133=0,\"\",AVERAGEIF(DMA!$N$5:$N$503,Graphs!$O133,DMA!O$5:O$503)))","v":""},{"$f":"IF($Q133=\"\",\"\",IF(Q133=0,\"\",AVERAGEIF(DMA!$N$5:$N$503,Graphs!$O133,DMA!P$5:P$503)))","v":""},{"$f":"IF($R133=\"\",\"\",IF(R133=0,\"\",AVERAGEIF(DMA!$N$5:$N$503,Graphs!$O133,DMA!Q$5:Q$503)))","v":""}]
[null,"","","","","","","","","","","","","","","","","","","","",null,null,null,null,null,null,null,null,null,null,null,null,null,null,null,null,null,null,null,null,null,null,null,null,null,null,null,null,null,null,"","","",{"$f":"IF(P134=\"\",\"\",IF(P134=0,\"\",SQRT(SUMIF(DMA!$DK$5:$DK$503,Graphs!$O134,DMA!DL$5:DL$503))/COUNTIF(DMA!$DK$5:$DK$503,Graphs!$O134)))","v":""},{"$f":"IF(Q134=\"\",\"\",IF(Q134=0,\"\",SQRT(SUMIF(DMA!$DK$5:$DK$503,Graphs!$O134,DMA!DM$5:DM$503))/COUNTIF(DMA!$DK$5:$DK$503,Graphs!$O134)))","v":""},{"$f":"IF(R134=\"\",\"\",IF(R134=0,\"\",SQRT(SUMIF(DMA!$DK$5:$DK$503,Graphs!$O134,DMA!DN$5:DN$503))/COUNTIF(DMA!$DK$5:$DK$503,Graphs!$O134)))","v":""},{"$f":"IF($P134=\"\",\"\",IF(P134=0,\"\",AVERAGEIF(DMA!$N$5:$N$503,Graphs!$O134,DMA!O$5:O$503)))","v":""},{"$f":"IF($Q134=\"\",\"\",IF(Q134=0,\"\",AVERAGEIF(DMA!$N$5:$N$503,Graphs!$O134,DMA!P$5:P$503)))","v":""},{"$f":"IF($R134=\"\",\"\",IF(R134=0,\"\",AVERAGEIF(DMA!$N$5:$N$503,Graphs!$O134,DMA!Q$5:Q$503)))","v":""}]
[null,"","","","","","","","","","","","","","","","","","","","",null,null,null,null,null,null,null,null,null,null,null,null,null,null,null,null,null,null,null,null,null,null,null,null,null,null,null,null,null,null,"","","",{"$f":"IF(P135=\"\",\"\",IF(P135=0,\"\",SQRT(SUMIF(DMA!$DK$5:$DK$503,Graphs!$O135,DMA!DL$5:DL$503))/COUNTIF(DMA!$DK$5:$DK$503,Graphs!$O135)))","v":""},{"$f":"IF(Q135=\"\",\"\",IF(Q135=0,\"\",SQRT(SUMIF(DMA!$DK$5:$DK$503,Graphs!$O135,DMA!DM$5:DM$503))/COUNTIF(DMA!$DK$5:$DK$503,Graphs!$O135)))","v":""},{"$f":"IF(R135=\"\",\"\",IF(R135=0,\"\",SQRT(SUMIF(DMA!$DK$5:$DK$503,Graphs!$O135,DMA!DN$5:DN$503))/COUNTIF(DMA!$DK$5:$DK$503,Graphs!$O135)))","v":""},{"$f":"IF($P135=\"\",\"\",IF(P135=0,\"\",AVERAGEIF(DMA!$N$5:$N$503,Graphs!$O135,DMA!O$5:O$503)))","v":""},{"$f":"IF($Q135=\"\",\"\",IF(Q135=0,\"\",AVERAGEIF(DMA!$N$5:$N$503,Graphs!$O135,DMA!P$5:P$503)))","v":""},{"$f":"IF($R135=\"\",\"\",IF(R135=0,\"\",AVERAGEIF(DMA!$N$5:$N$503,Graphs!$O135,DMA!Q$5:Q$503)))","v":""}]
[null,"","","","","","","","","","","","","","","","","","","","",null,null,null,null,null,null,null,null,null,null,null,null,null,null,null,null,null,null,null,null,null,null,null,null,null,null,null,null,null,null,"","","",{"$f":"IF(P136=\"\",\"\",IF(P136=0,\"\",SQRT(SUMIF(DMA!$DK$5:$DK$503,Graphs!$O136,DMA!DL$5:DL$503))/COUNTIF(DMA!$DK$5:$DK$503,Graphs!$O136)))","v":""},{"$f":"IF(Q136=\"\",\"\",IF(Q136=0,\"\",SQRT(SUMIF(DMA!$DK$5:$DK$503,Graphs!$O136,DMA!DM$5:DM$503))/COUNTIF(DMA!$DK$5:$DK$503,Graphs!$O136)))","v":""},{"$f":"IF(R136=\"\",\"\",IF(R136=0,\"\",SQRT(SUMIF(DMA!$DK$5:$DK$503,Graphs!$O136,DMA!DN$5:DN$503))/COUNTIF(DMA!$DK$5:$DK$503,Graphs!$O136)))","v":""},{"$f":"IF($P136=\"\",\"\",IF(P136=0,\"\",AVERAGEIF(DMA!$N$5:$N$503,Graphs!$O136,DMA!O$5:O$503)))","v":""},{"$f":"IF($Q136=\"\",\"\",IF(Q136=0,\"\",AVERAGEIF(DMA!$N$5:$N$503,Graphs!$O136,DMA!P$5:P$503)))","v":""},{"$f":"IF($R136=\"\",\"\",IF(R136=0,\"\",AVERAGEIF(DMA!$N$5:$N$503,Graphs!$O136,DMA!Q$5:Q$503)))","v":""}]
[null,"","","","","","","","","","","","","","","","","","","","",null,null,null,null,null,null,null,null,null,null,null,null,null,null,null,null,null,null,null,null,null,null,null,null,null,null,null,null,null,null,"","","",{"$f":"IF(P137=\"\",\"\",IF(P137=0,\"\",SQRT(SUMIF(DMA!$DK$5:$DK$503,Graphs!$O137,DMA!DL$5:DL$503))/COUNTIF(DMA!$DK$5:$DK$503,Graphs!$O137)))","v":""},{"$f":"IF(Q137=\"\",\"\",IF(Q137=0,\"\",SQRT(SUMIF(DMA!$DK$5:$DK$503,Graphs!$O137,DMA!DM$5:DM$503))/COUNTIF(DMA!$DK$5:$DK$503,Graphs!$O137)))","v":""},{"$f":"IF(R137=\"\",\"\",IF(R137=0,\"\",SQRT(SUMIF(DMA!$DK$5:$DK$503,Graphs!$O137,DMA!DN$5:DN$503))/COUNTIF(DMA!$DK$5:$DK$503,Graphs!$O137)))","v":""},{"$f":"IF($P137=\"\",\"\",IF(P137=0,\"\",AVERAGEIF(DMA!$N$5:$N$503,Graphs!$O137,DMA!O$5:O$503)))","v":""},{"$f":"IF($Q137=\"\",\"\",IF(Q137=0,\"\",AVERAGEIF(DMA!$N$5:$N$503,Graphs!$O137,DMA!P$5:P$503)))","v":""},{"$f":"IF($R137=\"\",\"\",IF(R137=0,\"\",AVERAGEIF(DMA!$N$5:$N$503,Graphs!$O137,DMA!Q$5:Q$503)))","v":""}]
[null,"","","","","","","","","","","","","","","","","","","","",null,null,null,null,null,null,null,null,null,null,null,null,null,null,null,null,null,null,null,null,null,null,null,null,null,null,null,null,null,null,"","","",{"$f":"IF(P138=\"\",\"\",IF(P138=0,\"\",SQRT(SUMIF(DMA!$DK$5:$DK$503,Graphs!$O138,DMA!DL$5:DL$503))/COUNTIF(DMA!$DK$5:$DK$503,Graphs!$O138)))","v":""},{"$f":"IF(Q138=\"\",\"\",IF(Q138=0,\"\",SQRT(SUMIF(DMA!$DK$5:$DK$503,Graphs!$O138,DMA!DM$5:DM$503))/COUNTIF(DMA!$DK$5:$DK$503,Graphs!$O138)))","v":""},{"$f":"IF(R138=\"\",\"\",IF(R138=0,\"\",SQRT(SUMIF(DMA!$DK$5:$DK$503,Graphs!$O138,DMA!DN$5:DN$503))/COUNTIF(DMA!$DK$5:$DK$503,Graphs!$O138)))","v":""},{"$f":"IF($P138=\"\",\"\",IF(P138=0,\"\",AVERAGEIF(DMA!$N$5:$N$503,Graphs!$O138,DMA!O$5:O$503)))","v":""},{"$f":"IF($Q138=\"\",\"\",IF(Q138=0,\"\",AVERAGEIF(DMA!$N$5:$N$503,Graphs!$O138,DMA!P$5:P$503)))","v":""},{"$f":"IF($R138=\"\",\"\",IF(R138=0,\"\",AVERAGEIF(DMA!$N$5:$N$503,Graphs!$O138,DMA!Q$5:Q$503)))","v":""}]
[null,"","","","","","","","","","","","","","","","","","","","",null,null,null,null,null,null,null,null,null,null,null,null,null,null,null,null,null,null,null,null,null,null,null,null,null,null,null,null,null,null,"","","",{"$f":"IF(P139=\"\",\"\",IF(P139=0,\"\",SQRT(SUMIF(DMA!$DK$5:$DK$503,Graphs!$O139,DMA!DL$5:DL$503))/COUNTIF(DMA!$DK$5:$DK$503,Graphs!$O139)))","v":""},{"$f":"IF(Q139=\"\",\"\",IF(Q139=0,\"\",SQRT(SUMIF(DMA!$DK$5:$DK$503,Graphs!$O139,DMA!DM$5:DM$503))/COUNTIF(DMA!$DK$5:$DK$503,Graphs!$O139)))","v":""},{"$f":"IF(R139=\"\",\"\",IF(R139=0,\"\",SQRT(SUMIF(DMA!$DK$5:$DK$503,Graphs!$O139,DMA!DN$5:DN$503))/COUNTIF(DMA!$DK$5:$DK$503,Graphs!$O139)))","v":""},{"$f":"IF($P139=\"\",\"\",IF(P139=0,\"\",AVERAGEIF(DMA!$N$5:$N$503,Graphs!$O139,DMA!O$5:O$503)))","v":""},{"$f":"IF($Q139=\"\",\"\",IF(Q139=0,\"\",AVERAGEIF(DMA!$N$5:$N$503,Graphs!$O139,DMA!P$5:P$503)))","v":""},{"$f":"IF($R139=\"\",\"\",IF(R139=0,\"\",AVERAGEIF(DMA!$N$5:$N$503,Graphs!$O139,DMA!Q$5:Q$503)))","v":""}]
[null,"","","","","","","","","","","","","","","","","","","","",null,null,null,null,null,null,null,null,null,null,null,null,null,null,null,null,null,null,null,null,null,null,null,null,null,null,null,null,null,null,"","","",{"$f":"IF(P140=\"\",\"\",IF(P140=0,\"\",SQRT(SUMIF(DMA!$DK$5:$DK$503,Graphs!$O140,DMA!DL$5:DL$503))/COUNTIF(DMA!$DK$5:$DK$503,Graphs!$O140)))","v":""},{"$f":"IF(Q140=\"\",\"\",IF(Q140=0,\"\",SQRT(SUMIF(DMA!$DK$5:$DK$503,Graphs!$O140,DMA!DM$5:DM$503))/COUNTIF(DMA!$DK$5:$DK$503,Graphs!$O140)))","v":""},{"$f":"IF(R140=\"\",\"\",IF(R140=0,\"\",SQRT(SUMIF(DMA!$DK$5:$DK$503,Graphs!$O140,DMA!DN$5:DN$503))/COUNTIF(DMA!$DK$5:$DK$503,Graphs!$O140)))","v":""},{"$f":"IF($P140=\"\",\"\",IF(P140=0,\"\",AVERAGEIF(DMA!$N$5:$N$503,Graphs!$O140,DMA!O$5:O$503)))","v":""},{"$f":"IF($Q140=\"\",\"\",IF(Q140=0,\"\",AVERAGEIF(DMA!$N$5:$N$503,Graphs!$O140,DMA!P$5:P$503)))","v":""},{"$f":"IF($R140=\"\",\"\",IF(R140=0,\"\",AVERAGEIF(DMA!$N$5:$N$503,Graphs!$O140,DMA!Q$5:Q$503)))","v":""}]
[null,"","","","","","","","","","","","","","","","","","","","",null,null,null,null,null,null,null,null,null,null,null,null,null,null,null,null,null,null,null,null,null,null,null,null,null,null,null,null,null,null,"","","",{"$f":"IF(P141=\"\",\"\",IF(P141=0,\"\",SQRT(SUMIF(DMA!$DK$5:$DK$503,Graphs!$O141,DMA!DL$5:DL$503))/COUNTIF(DMA!$DK$5:$DK$503,Graphs!$O141)))","v":""},{"$f":"IF(Q141=\"\",\"\",IF(Q141=0,\"\",SQRT(SUMIF(DMA!$DK$5:$DK$503,Graphs!$O141,DMA!DM$5:DM$503))/COUNTIF(DMA!$DK$5:$DK$503,Graphs!$O141)))","v":""},{"$f":"IF(R141=\"\",\"\",IF(R141=0,\"\",SQRT(SUMIF(DMA!$DK$5:$DK$503,Graphs!$O141,DMA!DN$5:DN$503))/COUNTIF(DMA!$DK$5:$DK$503,Graphs!$O141)))","v":""},{"$f":"IF($P141=\"\",\"\",IF(P141=0,\"\",AVERAGEIF(DMA!$N$5:$N$503,Graphs!$O141,DMA!O$5:O$503)))","v":""},{"$f":"IF($Q141=\"\",\"\",IF(Q141=0,\"\",AVERAGEIF(DMA!$N$5:$N$503,Graphs!$O141,DMA!P$5:P$503)))","v":""},{"$f":"IF($R141=\"\",\"\",IF(R141=0,\"\",AVERAGEIF(DMA!$N$5:$N$503,Graphs!$O141,DMA!Q$5:Q$503)))","v":""}]
[null,"","","","","","","","","","","","","","","","","","","","",null,null,null,null,null,null,null,null,null,null,null,null,null,null,null,null,null,null,null,null,null,null,null,null,null,null,null,null,null,null,"","","",{"$f":"IF(P142=\"\",\"\",IF(P142=0,\"\",SQRT(SUMIF(DMA!$DK$5:$DK$503,Graphs!$O142,DMA!DL$5:DL$503))/COUNTIF(DMA!$DK$5:$DK$503,Graphs!$O142)))","v":""},{"$f":"IF(Q142=\"\",\"\",IF(Q142=0,\"\",SQRT(SUMIF(DMA!$DK$5:$DK$503,Graphs!$O142,DMA!DM$5:DM$503))/COUNTIF(DMA!$DK$5:$DK$503,Graphs!$O142)))","v":""},{"$f":"IF(R142=\"\",\"\",IF(R142=0,\"\",SQRT(SUMIF(DMA!$DK$5:$DK$503,Graphs!$O142,DMA!DN$5:DN$503))/COUNTIF(DMA!$DK$5:$DK$503,Graphs!$O142)))","v":""},{"$f":"IF($P142=\"\",\"\",IF(P142=0,\"\",AVERAGEIF(DMA!$N$5:$N$503,Graphs!$O142,DMA!O$5:O$503)))","v":""},{"$f":"IF($Q142=\"\",\"\",IF(Q142=0,\"\",AVERAGEIF(DMA!$N$5:$N$503,Graphs!$O142,DMA!P$5:P$503)))","v":""},{"$f":"IF($R142=\"\",\"\",IF(R142=0,\"\",AVERAGEIF(DMA!$N$5:$N$503,Graphs!$O142,DMA!Q$5:Q$503)))","v":""}]
[null,"","","","","","","","","","","","","","","","","","","","",null,null,null,null,null,null,null,null,null,null,null,null,null,null,null,null,null,null,null,null,null,null,null,null,null,null,null,null,null,null,"","","",{"$f":"IF(P143=\"\",\"\",IF(P143=0,\"\",SQRT(SUMIF(DMA!$DK$5:$DK$503,Graphs!$O143,DMA!DL$5:DL$503))/COUNTIF(DMA!$DK$5:$DK$503,Graphs!$O143)))","v":""},{"$f":"IF(Q143=\"\",\"\",IF(Q143=0,\"\",SQRT(SUMIF(DMA!$DK$5:$DK$503,Graphs!$O143,DMA!DM$5:DM$503))/COUNTIF(DMA!$DK$5:$DK$503,Graphs!$O143)))","v":""},{"$f":"IF(R143=\"\",\"\",IF(R143=0,\"\",SQRT(SUMIF(DMA!$DK$5:$DK$503,Graphs!$O143,DMA!DN$5:DN$503))/COUNTIF(DMA!$DK$5:$DK$503,Graphs!$O143)))","v":""},{"$f":"IF($P143=\"\",\"\",IF(P143=0,\"\",AVERAGEIF(DMA!$N$5:$N$503,Graphs!$O143,DMA!O$5:O$503)))","v":""},{"$f":"IF($Q143=\"\",\"\",IF(Q143=0,\"\",AVERAGEIF(DMA!$N$5:$N$503,Graphs!$O143,DMA!P$5:P$503)))","v":""},{"$f":"IF($R143=\"\",\"\",IF(R143=0,\"\",AVERAGEIF(DMA!$N$5:$N$503,Graphs!$O143,DMA!Q$5:Q$503)))","v":""}]
[null,"","","","","","","","","","","","","","","","","","","","",null,null,null,null,null,null,null,null,null,null,null,null,null,null,null,null,null,null,null,null,null,null,null,null,null,null,null,null,null,null,"","","",{"$f":"IF(P144=\"\",\"\",IF(P144=0,\"\",SQRT(SUMIF(DMA!$DK$5:$DK$503,Graphs!$O144,DMA!DL$5:DL$503))/COUNTIF(DMA!$DK$5:$DK$503,Graphs!$O144)))","v":""},{"$f":"IF(Q144=\"\",\"\",IF(Q144=0,\"\",SQRT(SUMIF(DMA!$DK$5:$DK$503,Graphs!$O144,DMA!DM$5:DM$503))/COUNTIF(DMA!$DK$5:$DK$503,Graphs!$O144)))","v":""},{"$f":"IF(R144=\"\",\"\",IF(R144=0,\"\",SQRT(SUMIF(DMA!$DK$5:$DK$503,Graphs!$O144,DMA!DN$5:DN$503))/COUNTIF(DMA!$DK$5:$DK$503,Graphs!$O144)))","v":""},{"$f":"IF($P144=\"\",\"\",IF(P144=0,\"\",AVERAGEIF(DMA!$N$5:$N$503,Graphs!$O144,DMA!O$5:O$503)))","v":""},{"$f":"IF($Q144=\"\",\"\",IF(Q144=0,\"\",AVERAGEIF(DMA!$N$5:$N$503,Graphs!$O144,DMA!P$5:P$503)))","v":""},{"$f":"IF($R144=\"\",\"\",IF(R144=0,\"\",AVERAGEIF(DMA!$N$5:$N$503,Graphs!$O144,DMA!Q$5:Q$503)))","v":""}]
[null,"","","","","","","","","","","","","","","","","","","","",null,null,null,null,null,null,null,null,null,null,null,null,null,null,null,null,null,null,null,null,null,null,null,null,null,null,null,null,null,null,"","","",{"$f":"IF(P145=\"\",\"\",IF(P145=0,\"\",SQRT(SUMIF(DMA!$DK$5:$DK$503,Graphs!$O145,DMA!DL$5:DL$503))/COUNTIF(DMA!$DK$5:$DK$503,Graphs!$O145)))","v":""},{"$f":"IF(Q145=\"\",\"\",IF(Q145=0,\"\",SQRT(SUMIF(DMA!$DK$5:$DK$503,Graphs!$O145,DMA!DM$5:DM$503))/COUNTIF(DMA!$DK$5:$DK$503,Graphs!$O145)))","v":""},{"$f":"IF(R145=\"\",\"\",IF(R145=0,\"\",SQRT(SUMIF(DMA!$DK$5:$DK$503,Graphs!$O145,DMA!DN$5:DN$503))/COUNTIF(DMA!$DK$5:$DK$503,Graphs!$O145)))","v":""},{"$f":"IF($P145=\"\",\"\",IF(P145=0,\"\",AVERAGEIF(DMA!$N$5:$N$503,Graphs!$O145,DMA!O$5:O$503)))","v":""},{"$f":"IF($Q145=\"\",\"\",IF(Q145=0,\"\",AVERAGEIF(DMA!$N$5:$N$503,Graphs!$O145,DMA!P$5:P$503)))","v":""},{"$f":"IF($R145=\"\",\"\",IF(R145=0,\"\",AVERAGEIF(DMA!$N$5:$N$503,Graphs!$O145,DMA!Q$5:Q$503)))","v":""}]
[null,"","","","","","","","","","","","","","","","","","","","",null,null,null,null,null,null,null,null,null,null,null,null,null,null,null,null,null,null,null,null,null,null,null,null,null,null,null,null,null,null,"","","",{"$f":"IF(P146=\"\",\"\",IF(P146=0,\"\",SQRT(SUMIF(DMA!$DK$5:$DK$503,Graphs!$O146,DMA!DL$5:DL$503))/COUNTIF(DMA!$DK$5:$DK$503,Graphs!$O146)))","v":""},{"$f":"IF(Q146=\"\",\"\",IF(Q146=0,\"\",SQRT(SUMIF(DMA!$DK$5:$DK$503,Graphs!$O146,DMA!DM$5:DM$503))/COUNTIF(DMA!$DK$5:$DK$503,Graphs!$O146)))","v":""},{"$f":"IF(R146=\"\",\"\",IF(R146=0,\"\",SQRT(SUMIF(DMA!$DK$5:$DK$503,Graphs!$O146,DMA!DN$5:DN$503))/COUNTIF(DMA!$DK$5:$DK$503,Graphs!$O146)))","v":""},{"$f":"IF($P146=\"\",\"\",IF(P146=0,\"\",AVERAGEIF(DMA!$N$5:$N$503,Graphs!$O146,DMA!O$5:O$503)))","v":""},{"$f":"IF($Q146=\"\",\"\",IF(Q146=0,\"\",AVERAGEIF(DMA!$N$5:$N$503,Graphs!$O146,DMA!P$5:P$503)))","v":""},{"$f":"IF($R146=\"\",\"\",IF(R146=0,\"\",AVERAGEIF(DMA!$N$5:$N$503,Graphs!$O146,DMA!Q$5:Q$503)))","v":""}]
[null,"","","","","","","","","","","","","","","","","","","","",null,null,null,null,null,null,null,null,null,null,null,null,null,null,null,null,null,null,null,null,null,null,null,null,null,null,null,null,null,null,"","","",{"$f":"IF(P147=\"\",\"\",IF(P147=0,\"\",SQRT(SUMIF(DMA!$DK$5:$DK$503,Graphs!$O147,DMA!DL$5:DL$503))/COUNTIF(DMA!$DK$5:$DK$503,Graphs!$O147)))","v":""},{"$f":"IF(Q147=\"\",\"\",IF(Q147=0,\"\",SQRT(SUMIF(DMA!$DK$5:$DK$503,Graphs!$O147,DMA!DM$5:DM$503))/COUNTIF(DMA!$DK$5:$DK$503,Graphs!$O147)))","v":""},{"$f":"IF(R147=\"\",\"\",IF(R147=0,\"\",SQRT(SUMIF(DMA!$DK$5:$DK$503,Graphs!$O147,DMA!DN$5:DN$503))/COUNTIF(DMA!$DK$5:$DK$503,Graphs!$O147)))","v":""},{"$f":"IF($P147=\"\",\"\",IF(P147=0,\"\",AVERAGEIF(DMA!$N$5:$N$503,Graphs!$O147,DMA!O$5:O$503)))","v":""},{"$f":"IF($Q147=\"\",\"\",IF(Q147=0,\"\",AVERAGEIF(DMA!$N$5:$N$503,Graphs!$O147,DMA!P$5:P$503)))","v":""},{"$f":"IF($R147=\"\",\"\",IF(R147=0,\"\",AVERAGEIF(DMA!$N$5:$N$503,Graphs!$O147,DMA!Q$5:Q$503)))","v":""}]
[null,"","","","","","","","","","","","","","","","","","","","",null,null,null,null,null,null,null,null,null,null,null,null,null,null,null,null,null,null,null,null,null,null,null,null,null,null,null,null,null,null,"","","",{"$f":"IF(P148=\"\",\"\",IF(P148=0,\"\",SQRT(SUMIF(DMA!$DK$5:$DK$503,Graphs!$O148,DMA!DL$5:DL$503))/COUNTIF(DMA!$DK$5:$DK$503,Graphs!$O148)))","v":""},{"$f":"IF(Q148=\"\",\"\",IF(Q148=0,\"\",SQRT(SUMIF(DMA!$DK$5:$DK$503,Graphs!$O148,DMA!DM$5:DM$503))/COUNTIF(DMA!$DK$5:$DK$503,Graphs!$O148)))","v":""},{"$f":"IF(R148=\"\",\"\",IF(R148=0,\"\",SQRT(SUMIF(DMA!$DK$5:$DK$503,Graphs!$O148,DMA!DN$5:DN$503))/COUNTIF(DMA!$DK$5:$DK$503,Graphs!$O148)))","v":""},{"$f":"IF($P148=\"\",\"\",IF(P148=0,\"\",AVERAGEIF(DMA!$N$5:$N$503,Graphs!$O148,DMA!O$5:O$503)))","v":""},{"$f":"IF($Q148=\"\",\"\",IF(Q148=0,\"\",AVERAGEIF(DMA!$N$5:$N$503,Graphs!$O148,DMA!P$5:P$503)))","v":""},{"$f":"IF($R148=\"\",\"\",IF(R148=0,\"\",AVERAGEIF(DMA!$N$5:$N$503,Graphs!$O148,DMA!Q$5:Q$503)))","v":""}]
[null,"","","","","","","","","","","","","","","","","","","","",null,null,null,null,null,null,null,null,null,null,null,null,null,null,null,null,null,null,null,null,null,null,null,null,null,null,null,null,null,null,"","","",{"$f":"IF(P149=\"\",\"\",IF(P149=0,\"\",SQRT(SUMIF(DMA!$DK$5:$DK$503,Graphs!$O149,DMA!DL$5:DL$503))/COUNTIF(DMA!$DK$5:$DK$503,Graphs!$O149)))","v":""},{"$f":"IF(Q149=\"\",\"\",IF(Q149=0,\"\",SQRT(SUMIF(DMA!$DK$5:$DK$503,Graphs!$O149,DMA!DM$5:DM$503))/COUNTIF(DMA!$DK$5:$DK$503,Graphs!$O149)))","v":""},{"$f":"IF(R149=\"\",\"\",IF(R149=0,\"\",SQRT(SUMIF(DMA!$DK$5:$DK$503,Graphs!$O149,DMA!DN$5:DN$503))/COUNTIF(DMA!$DK$5:$DK$503,Graphs!$O149)))","v":""},{"$f":"IF($P149=\"\",\"\",IF(P149=0,\"\",AVERAGEIF(DMA!$N$5:$N$503,Graphs!$O149,DMA!O$5:O$503)))","v":""},{"$f":"IF($Q149=\"\",\"\",IF(Q149=0,\"\",AVERAGEIF(DMA!$N$5:$N$503,Graphs!$O149,DMA!P$5:P$503)))","v":""},{"$f":"IF($R149=\"\",\"\",IF(R149=0,\"\",AVERAGEIF(DMA!$N$5:$N$503,Graphs!$O149,DMA!Q$5:Q$503)))","v":""}]
[null,"","","","","","","","","","","","","","","","","","","","",null,null,null,null,null,null,null,null,null,null,null,null,null,null,null,null,null,null,null,null,null,null,null,null,null,null,null,null,null,null,"","","",{"$f":"IF(P150=\"\",\"\",IF(P150=0,\"\",SQRT(SUMIF(DMA!$DK$5:$DK$503,Graphs!$O150,DMA!DL$5:DL$503))/COUNTIF(DMA!$DK$5:$DK$503,Graphs!$O150)))","v":""},{"$f":"IF(Q150=\"\",\"\",IF(Q150=0,\"\",SQRT(SUMIF(DMA!$DK$5:$DK$503,Graphs!$O150,DMA!DM$5:DM$503))/COUNTIF(DMA!$DK$5:$DK$503,Graphs!$O150)))","v":""},{"$f":"IF(R150=\"\",\"\",IF(R150=0,\"\",SQRT(SUMIF(DMA!$DK$5:$DK$503,Graphs!$O150,DMA!DN$5:DN$503))/COUNTIF(DMA!$DK$5:$DK$503,Graphs!$O150)))","v":""},{"$f":"IF($P150=\"\",\"\",IF(P150=0,\"\",AVERAGEIF(DMA!$N$5:$N$503,Graphs!$O150,DMA!O$5:O$503)))","v":""},{"$f":"IF($Q150=\"\",\"\",IF(Q150=0,\"\",AVERAGEIF(DMA!$N$5:$N$503,Graphs!$O150,DMA!P$5:P$503)))","v":""},{"$f":"IF($R150=\"\",\"\",IF(R150=0,\"\",AVERAGEIF(DMA!$N$5:$N$503,Graphs!$O150,DMA!Q$5:Q$503)))","v":""}]
[null,"","","","","","","","","","","","","","","","","","","","",null,null,null,null,null,null,null,null,null,null,null,null,null,null,null,null,null,null,null,null,null,null,null,null,null,null,null,null,null,null,"","","",{"$f":"IF(P151=\"\",\"\",IF(P151=0,\"\",SQRT(SUMIF(DMA!$DK$5:$DK$503,Graphs!$O151,DMA!DL$5:DL$503))/COUNTIF(DMA!$DK$5:$DK$503,Graphs!$O151)))","v":""},{"$f":"IF(Q151=\"\",\"\",IF(Q151=0,\"\",SQRT(SUMIF(DMA!$DK$5:$DK$503,Graphs!$O151,DMA!DM$5:DM$503))/COUNTIF(DMA!$DK$5:$DK$503,Graphs!$O151)))","v":""},{"$f":"IF(R151=\"\",\"\",IF(R151=0,\"\",SQRT(SUMIF(DMA!$DK$5:$DK$503,Graphs!$O151,DMA!DN$5:DN$503))/COUNTIF(DMA!$DK$5:$DK$503,Graphs!$O151)))","v":""},{"$f":"IF($P151=\"\",\"\",IF(P151=0,\"\",AVERAGEIF(DMA!$N$5:$N$503,Graphs!$O151,DMA!O$5:O$503)))","v":""},{"$f":"IF($Q151=\"\",\"\",IF(Q151=0,\"\",AVERAGEIF(DMA!$N$5:$N$503,Graphs!$O151,DMA!P$5:P$503)))","v":""},{"$f":"IF($R151=\"\",\"\",IF(R151=0,\"\",AVERAGEIF(DMA!$N$5:$N$503,Graphs!$O151,DMA!Q$5:Q$503)))","v":""}]
[null,"","","","","","","","","","","","","","","","","","","","",null,null,null,null,null,null,null,null,null,null,null,null,null,null,null,null,null,null,null,null,null,null,null,null,null,null,null,null,null,null,"","","",{"$f":"IF(P152=\"\",\"\",IF(P152=0,\"\",SQRT(SUMIF(DMA!$DK$5:$DK$503,Graphs!$O152,DMA!DL$5:DL$503))/COUNTIF(DMA!$DK$5:$DK$503,Graphs!$O152)))","v":""},{"$f":"IF(Q152=\"\",\"\",IF(Q152=0,\"\",SQRT(SUMIF(DMA!$DK$5:$DK$503,Graphs!$O152,DMA!DM$5:DM$503))/COUNTIF(DMA!$DK$5:$DK$503,Graphs!$O152)))","v":""},{"$f":"IF(R152=\"\",\"\",IF(R152=0,\"\",SQRT(SUMIF(DMA!$DK$5:$DK$503,Graphs!$O152,DMA!DN$5:DN$503))/COUNTIF(DMA!$DK$5:$DK$503,Graphs!$O152)))","v":""},{"$f":"IF($P152=\"\",\"\",IF(P152=0,\"\",AVERAGEIF(DMA!$N$5:$N$503,Graphs!$O152,DMA!O$5:O$503)))","v":""},{"$f":"IF($Q152=\"\",\"\",IF(Q152=0,\"\",AVERAGEIF(DMA!$N$5:$N$503,Graphs!$O152,DMA!P$5:P$503)))","v":""},{"$f":"IF($R152=\"\",\"\",IF(R152=0,\"\",AVERAGEIF(DMA!$N$5:$N$503,Graphs!$O152,DMA!Q$5:Q$503)))","v":""}]
[null,"","","","","","","","","","","","","","","","","","","","",null,null,null,null,null,null,null,null,null,null,null,null,null,null,null,null,null,null,null,null,null,null,null,null,null,null,null,null,null,null,"","","",{"$f":"IF(P153=\"\",\"\",IF(P153=0,\"\",SQRT(SUMIF(DMA!$DK$5:$DK$503,Graphs!$O153,DMA!DL$5:DL$503))/COUNTIF(DMA!$DK$5:$DK$503,Graphs!$O153)))","v":""},{"$f":"IF(Q153=\"\",\"\",IF(Q153=0,\"\",SQRT(SUMIF(DMA!$DK$5:$DK$503,Graphs!$O153,DMA!DM$5:DM$503))/COUNTIF(DMA!$DK$5:$DK$503,Graphs!$O153)))","v":""},{"$f":"IF(R153=\"\",\"\",IF(R153=0,\"\",SQRT(SUMIF(DMA!$DK$5:$DK$503,Graphs!$O153,DMA!DN$5:DN$503))/COUNTIF(DMA!$DK$5:$DK$503,Graphs!$O153)))","v":""},{"$f":"IF($P153=\"\",\"\",IF(P153=0,\"\",AVERAGEIF(DMA!$N$5:$N$503,Graphs!$O153,DMA!O$5:O$503)))","v":""},{"$f":"IF($Q153=\"\",\"\",IF(Q153=0,\"\",AVERAGEIF(DMA!$N$5:$N$503,Graphs!$O153,DMA!P$5:P$503)))","v":""},{"$f":"IF($R153=\"\",\"\",IF(R153=0,\"\",AVERAGEIF(DMA!$N$5:$N$503,Graphs!$O153,DMA!Q$5:Q$503)))","v":""}]
[null,"","","","","","","","","","","","","","","","","","","","",null,null,null,null,null,null,null,null,null,null,null,null,null,null,null,null,null,null,null,null,null,null,null,null,null,null,null,null,null,null,"","","",{"$f":"IF(P154=\"\",\"\",IF(P154=0,\"\",SQRT(SUMIF(DMA!$DK$5:$DK$503,Graphs!$O154,DMA!DL$5:DL$503))/COUNTIF(DMA!$DK$5:$DK$503,Graphs!$O154)))","v":""},{"$f":"IF(Q154=\"\",\"\",IF(Q154=0,\"\",SQRT(SUMIF(DMA!$DK$5:$DK$503,Graphs!$O154,DMA!DM$5:DM$503))/COUNTIF(DMA!$DK$5:$DK$503,Graphs!$O154)))","v":""},{"$f":"IF(R154=\"\",\"\",IF(R154=0,\"\",SQRT(SUMIF(DMA!$DK$5:$DK$503,Graphs!$O154,DMA!DN$5:DN$503))/COUNTIF(DMA!$DK$5:$DK$503,Graphs!$O154)))","v":""},{"$f":"IF($P154=\"\",\"\",IF(P154=0,\"\",AVERAGEIF(DMA!$N$5:$N$503,Graphs!$O154,DMA!O$5:O$503)))","v":""},{"$f":"IF($Q154=\"\",\"\",IF(Q154=0,\"\",AVERAGEIF(DMA!$N$5:$N$503,Graphs!$O154,DMA!P$5:P$503)))","v":""},{"$f":"IF($R154=\"\",\"\",IF(R154=0,\"\",AVERAGEIF(DMA!$N$5:$N$503,Graphs!$O154,DMA!Q$5:Q$503)))","v":""}]
[null,"","","","","","","","","","","","","","","","","","","","",null,null,null,null,null,null,null,null,null,null,null,null,null,null,null,null,null,null,null,null,null,null,null,null,null,null,null,null,null,null,"","","",{"$f":"IF(P155=\"\",\"\",IF(P155=0,\"\",SQRT(SUMIF(DMA!$DK$5:$DK$503,Graphs!$O155,DMA!DL$5:DL$503))/COUNTIF(DMA!$DK$5:$DK$503,Graphs!$O155)))","v":""},{"$f":"IF(Q155=\"\",\"\",IF(Q155=0,\"\",SQRT(SUMIF(DMA!$DK$5:$DK$503,Graphs!$O155,DMA!DM$5:DM$503))/COUNTIF(DMA!$DK$5:$DK$503,Graphs!$O155)))","v":""},{"$f":"IF(R155=\"\",\"\",IF(R155=0,\"\",SQRT(SUMIF(DMA!$DK$5:$DK$503,Graphs!$O155,DMA!DN$5:DN$503))/COUNTIF(DMA!$DK$5:$DK$503,Graphs!$O155)))","v":""},{"$f":"IF($P155=\"\",\"\",IF(P155=0,\"\",AVERAGEIF(DMA!$N$5:$N$503,Graphs!$O155,DMA!O$5:O$503)))","v":""},{"$f":"IF($Q155=\"\",\"\",IF(Q155=0,\"\",AVERAGEIF(DMA!$N$5:$N$503,Graphs!$O155,DMA!P$5:P$503)))","v":""},{"$f":"IF($R155=\"\",\"\",IF(R155=0,\"\",AVERAGEIF(DMA!$N$5:$N$503,Graphs!$O155,DMA!Q$5:Q$503)))","v":""}]
[null,"","","","","","","","","","","","","","","","","","","","",null,null,null,null,null,null,null,null,null,null,null,null,null,null,null,null,null,null,null,null,null,null,null,null,null,null,null,null,null,null,"","","",{"$f":"IF(P156=\"\",\"\",IF(P156=0,\"\",SQRT(SUMIF(DMA!$DK$5:$DK$503,Graphs!$O156,DMA!DL$5:DL$503))/COUNTIF(DMA!$DK$5:$DK$503,Graphs!$O156)))","v":""},{"$f":"IF(Q156=\"\",\"\",IF(Q156=0,\"\",SQRT(SUMIF(DMA!$DK$5:$DK$503,Graphs!$O156,DMA!DM$5:DM$503))/COUNTIF(DMA!$DK$5:$DK$503,Graphs!$O156)))","v":""},{"$f":"IF(R156=\"\",\"\",IF(R156=0,\"\",SQRT(SUMIF(DMA!$DK$5:$DK$503,Graphs!$O156,DMA!DN$5:DN$503))/COUNTIF(DMA!$DK$5:$DK$503,Graphs!$O156)))","v":""},{"$f":"IF($P156=\"\",\"\",IF(P156=0,\"\",AVERAGEIF(DMA!$N$5:$N$503,Graphs!$O156,DMA!O$5:O$503)))","v":""},{"$f":"IF($Q156=\"\",\"\",IF(Q156=0,\"\",AVERAGEIF(DMA!$N$5:$N$503,Graphs!$O156,DMA!P$5:P$503)))","v":""},{"$f":"IF($R156=\"\",\"\",IF(R156=0,\"\",AVERAGEIF(DMA!$N$5:$N$503,Graphs!$O156,DMA!Q$5:Q$503)))","v":""}]
[null,"","","","","","","","","","","","","","","","","","","","",null,null,null,null,null,null,null,null,null,null,null,null,null,null,null,null,null,null,null,null,null,null,null,null,null,null,null,null,null,null,"","","",{"$f":"IF(P157=\"\",\"\",IF(P157=0,\"\",SQRT(SUMIF(DMA!$DK$5:$DK$503,Graphs!$O157,DMA!DL$5:DL$503))/COUNTIF(DMA!$DK$5:$DK$503,Graphs!$O157)))","v":""},{"$f":"IF(Q157=\"\",\"\",IF(Q157=0,\"\",SQRT(SUMIF(DMA!$DK$5:$DK$503,Graphs!$O157,DMA!DM$5:DM$503))/COUNTIF(DMA!$DK$5:$DK$503,Graphs!$O157)))","v":""},{"$f":"IF(R157=\"\",\"\",IF(R157=0,\"\",SQRT(SUMIF(DMA!$DK$5:$DK$503,Graphs!$O157,DMA!DN$5:DN$503))/COUNTIF(DMA!$DK$5:$DK$503,Graphs!$O157)))","v":""},{"$f":"IF($P157=\"\",\"\",IF(P157=0,\"\",AVERAGEIF(DMA!$N$5:$N$503,Graphs!$O157,DMA!O$5:O$503)))","v":""},{"$f":"IF($Q157=\"\",\"\",IF(Q157=0,\"\",AVERAGEIF(DMA!$N$5:$N$503,Graphs!$O157,DMA!P$5:P$503)))","v":""},{"$f":"IF($R157=\"\",\"\",IF(R157=0,\"\",AVERAGEIF(DMA!$N$5:$N$503,Graphs!$O157,DMA!Q$5:Q$503)))","v":""}]
[null,"","","","","","","","","","","","","","","","","","","","",null,null,null,null,null,null,null,null,null,null,null,null,null,null,null,null,null,null,null,null,null,null,null,null,null,null,null,null,null,null,"","","",{"$f":"IF(P158=\"\",\"\",IF(P158=0,\"\",SQRT(SUMIF(DMA!$DK$5:$DK$503,Graphs!$O158,DMA!DL$5:DL$503))/COUNTIF(DMA!$DK$5:$DK$503,Graphs!$O158)))","v":""},{"$f":"IF(Q158=\"\",\"\",IF(Q158=0,\"\",SQRT(SUMIF(DMA!$DK$5:$DK$503,Graphs!$O158,DMA!DM$5:DM$503))/COUNTIF(DMA!$DK$5:$DK$503,Graphs!$O158)))","v":""},{"$f":"IF(R158=\"\",\"\",IF(R158=0,\"\",SQRT(SUMIF(DMA!$DK$5:$DK$503,Graphs!$O158,DMA!DN$5:DN$503))/COUNTIF(DMA!$DK$5:$DK$503,Graphs!$O158)))","v":""},{"$f":"IF($P158=\"\",\"\",IF(P158=0,\"\",AVERAGEIF(DMA!$N$5:$N$503,Graphs!$O158,DMA!O$5:O$503)))","v":""},{"$f":"IF($Q158=\"\",\"\",IF(Q158=0,\"\",AVERAGEIF(DMA!$N$5:$N$503,Graphs!$O158,DMA!P$5:P$503)))","v":""},{"$f":"IF($R158=\"\",\"\",IF(R158=0,\"\",AVERAGEIF(DMA!$N$5:$N$503,Graphs!$O158,DMA!Q$5:Q$503)))","v":""}]
[null,"","","","","","","","","","","","","","","","","","","","",null,null,null,null,null,null,null,null,null,null,null,null,null,null,null,null,null,null,null,null,null,null,null,null,null,null,null,null,null,null,"","","",{"$f":"IF(P159=\"\",\"\",IF(P159=0,\"\",SQRT(SUMIF(DMA!$DK$5:$DK$503,Graphs!$O159,DMA!DL$5:DL$503))/COUNTIF(DMA!$DK$5:$DK$503,Graphs!$O159)))","v":""},{"$f":"IF(Q159=\"\",\"\",IF(Q159=0,\"\",SQRT(SUMIF(DMA!$DK$5:$DK$503,Graphs!$O159,DMA!DM$5:DM$503))/COUNTIF(DMA!$DK$5:$DK$503,Graphs!$O159)))","v":""},{"$f":"IF(R159=\"\",\"\",IF(R159=0,\"\",SQRT(SUMIF(DMA!$DK$5:$DK$503,Graphs!$O159,DMA!DN$5:DN$503))/COUNTIF(DMA!$DK$5:$DK$503,Graphs!$O159)))","v":""},{"$f":"IF($P159=\"\",\"\",IF(P159=0,\"\",AVERAGEIF(DMA!$N$5:$N$503,Graphs!$O159,DMA!O$5:O$503)))","v":""},{"$f":"IF($Q159=\"\",\"\",IF(Q159=0,\"\",AVERAGEIF(DMA!$N$5:$N$503,Graphs!$O159,DMA!P$5:P$503)))","v":""},{"$f":"IF($R159=\"\",\"\",IF(R159=0,\"\",AVERAGEIF(DMA!$N$5:$N$503,Graphs!$O159,DMA!Q$5:Q$503)))","v":""}]
[null,"","","","","","","","","","","","","","","","","","","","",null,null,null,null,null,null,null,null,null,null,null,null,null,null,null,null,null,null,null,null,null,null,null,null,null,null,null,null,null,null,"","","",{"$f":"IF(P160=\"\",\"\",IF(P160=0,\"\",SQRT(SUMIF(DMA!$DK$5:$DK$503,Graphs!$O160,DMA!DL$5:DL$503))/COUNTIF(DMA!$DK$5:$DK$503,Graphs!$O160)))","v":""},{"$f":"IF(Q160=\"\",\"\",IF(Q160=0,\"\",SQRT(SUMIF(DMA!$DK$5:$DK$503,Graphs!$O160,DMA!DM$5:DM$503))/COUNTIF(DMA!$DK$5:$DK$503,Graphs!$O160)))","v":""},{"$f":"IF(R160=\"\",\"\",IF(R160=0,\"\",SQRT(SUMIF(DMA!$DK$5:$DK$503,Graphs!$O160,DMA!DN$5:DN$503))/COUNTIF(DMA!$DK$5:$DK$503,Graphs!$O160)))","v":""},{"$f":"IF($P160=\"\",\"\",IF(P160=0,\"\",AVERAGEIF(DMA!$N$5:$N$503,Graphs!$O160,DMA!O$5:O$503)))","v":""},{"$f":"IF($Q160=\"\",\"\",IF(Q160=0,\"\",AVERAGEIF(DMA!$N$5:$N$503,Graphs!$O160,DMA!P$5:P$503)))","v":""},{"$f":"IF($R160=\"\",\"\",IF(R160=0,\"\",AVERAGEIF(DMA!$N$5:$N$503,Graphs!$O160,DMA!Q$5:Q$503)))","v":""}]
[null,"","","","","","","","","","","","","","","","","","","","",null,null,null,null,null,null,null,null,null,null,null,null,null,null,null,null,null,null,null,null,null,null,null,null,null,null,null,null,null,null,"","","",{"$f":"IF(P161=\"\",\"\",IF(P161=0,\"\",SQRT(SUMIF(DMA!$DK$5:$DK$503,Graphs!$O161,DMA!DL$5:DL$503))/COUNTIF(DMA!$DK$5:$DK$503,Graphs!$O161)))","v":""},{"$f":"IF(Q161=\"\",\"\",IF(Q161=0,\"\",SQRT(SUMIF(DMA!$DK$5:$DK$503,Graphs!$O161,DMA!DM$5:DM$503))/COUNTIF(DMA!$DK$5:$DK$503,Graphs!$O161)))","v":""},{"$f":"IF(R161=\"\",\"\",IF(R161=0,\"\",SQRT(SUMIF(DMA!$DK$5:$DK$503,Graphs!$O161,DMA!DN$5:DN$503))/COUNTIF(DMA!$DK$5:$DK$503,Graphs!$O161)))","v":""},{"$f":"IF($P161=\"\",\"\",IF(P161=0,\"\",AVERAGEIF(DMA!$N$5:$N$503,Graphs!$O161,DMA!O$5:O$503)))","v":""},{"$f":"IF($Q161=\"\",\"\",IF(Q161=0,\"\",AVERAGEIF(DMA!$N$5:$N$503,Graphs!$O161,DMA!P$5:P$503)))","v":""},{"$f":"IF($R161=\"\",\"\",IF(R161=0,\"\",AVERAGEIF(DMA!$N$5:$N$503,Graphs!$O161,DMA!Q$5:Q$503)))","v":""}]
[null,"","","","","","","","","","","","","","","","","","","","",null,null,null,null,null,null,null,null,null,null,null,null,null,null,null,null,null,null,null,null,null,null,null,null,null,null,null,null,null,null,"","","",{"$f":"IF(P162=\"\",\"\",IF(P162=0,\"\",SQRT(SUMIF(DMA!$DK$5:$DK$503,Graphs!$O162,DMA!DL$5:DL$503))/COUNTIF(DMA!$DK$5:$DK$503,Graphs!$O162)))","v":""},{"$f":"IF(Q162=\"\",\"\",IF(Q162=0,\"\",SQRT(SUMIF(DMA!$DK$5:$DK$503,Graphs!$O162,DMA!DM$5:DM$503))/COUNTIF(DMA!$DK$5:$DK$503,Graphs!$O162)))","v":""},{"$f":"IF(R162=\"\",\"\",IF(R162=0,\"\",SQRT(SUMIF(DMA!$DK$5:$DK$503,Graphs!$O162,DMA!DN$5:DN$503))/COUNTIF(DMA!$DK$5:$DK$503,Graphs!$O162)))","v":""},{"$f":"IF($P162=\"\",\"\",IF(P162=0,\"\",AVERAGEIF(DMA!$N$5:$N$503,Graphs!$O162,DMA!O$5:O$503)))","v":""},{"$f":"IF($Q162=\"\",\"\",IF(Q162=0,\"\",AVERAGEIF(DMA!$N$5:$N$503,Graphs!$O162,DMA!P$5:P$503)))","v":""},{"$f":"IF($R162=\"\",\"\",IF(R162=0,\"\",AVERAGEIF(DMA!$N$5:$N$503,Graphs!$O162,DMA!Q$5:Q$503)))","v":""}]
[null,"","","","","","","","","","","","","","","","","","","","",null,null,null,null,null,null,null,null,null,null,null,null,null,null,null,null,null,null,null,null,null,null,null,null,null,null,null,null,null,null,"","","",{"$f":"IF(P163=\"\",\"\",IF(P163=0,\"\",SQRT(SUMIF(DMA!$DK$5:$DK$503,Graphs!$O163,DMA!DL$5:DL$503))/COUNTIF(DMA!$DK$5:$DK$503,Graphs!$O163)))","v":""},{"$f":"IF(Q163=\"\",\"\",IF(Q163=0,\"\",SQRT(SUMIF(DMA!$DK$5:$DK$503,Graphs!$O163,DMA!DM$5:DM$503))/COUNTIF(DMA!$DK$5:$DK$503,Graphs!$O163)))","v":""},{"$f":"IF(R163=\"\",\"\",IF(R163=0,\"\",SQRT(SUMIF(DMA!$DK$5:$DK$503,Graphs!$O163,DMA!DN$5:DN$503))/COUNTIF(DMA!$DK$5:$DK$503,Graphs!$O163)))","v":""},{"$f":"IF($P163=\"\",\"\",IF(P163=0,\"\",AVERAGEIF(DMA!$N$5:$N$503,Graphs!$O163,DMA!O$5:O$503)))","v":""},{"$f":"IF($Q163=\"\",\"\",IF(Q163=0,\"\",AVERAGEIF(DMA!$N$5:$N$503,Graphs!$O163,DMA!P$5:P$503)))","v":""},{"$f":"IF($R163=\"\",\"\",IF(R163=0,\"\",AVERAGEIF(DMA!$N$5:$N$503,Graphs!$O163,DMA!Q$5:Q$503)))","v":""}]
[null,"","","","","","","","","","","","","","","","","","","","",null,null,null,null,null,null,null,null,null,null,null,null,null,null,null,null,null,null,null,null,null,null,null,null,null,null,null,null,null,null,"","","",{"$f":"IF(P164=\"\",\"\",IF(P164=0,\"\",SQRT(SUMIF(DMA!$DK$5:$DK$503,Graphs!$O164,DMA!DL$5:DL$503))/COUNTIF(DMA!$DK$5:$DK$503,Graphs!$O164)))","v":""},{"$f":"IF(Q164=\"\",\"\",IF(Q164=0,\"\",SQRT(SUMIF(DMA!$DK$5:$DK$503,Graphs!$O164,DMA!DM$5:DM$503))/COUNTIF(DMA!$DK$5:$DK$503,Graphs!$O164)))","v":""},{"$f":"IF(R164=\"\",\"\",IF(R164=0,\"\",SQRT(SUMIF(DMA!$DK$5:$DK$503,Graphs!$O164,DMA!DN$5:DN$503))/COUNTIF(DMA!$DK$5:$DK$503,Graphs!$O164)))","v":""},{"$f":"IF($P164=\"\",\"\",IF(P164=0,\"\",AVERAGEIF(DMA!$N$5:$N$503,Graphs!$O164,DMA!O$5:O$503)))","v":""},{"$f":"IF($Q164=\"\",\"\",IF(Q164=0,\"\",AVERAGEIF(DMA!$N$5:$N$503,Graphs!$O164,DMA!P$5:P$503)))","v":""},{"$f":"IF($R164=\"\",\"\",IF(R164=0,\"\",AVERAGEIF(DMA!$N$5:$N$503,Graphs!$O164,DMA!Q$5:Q$503)))","v":""}]
[null,"","","","","","","","","","","","","","","","","","","","",null,null,null,null,null,null,null,null,null,null,null,null,null,null,null,null,null,null,null,null,null,null,null,null,null,null,null,null,null,null,"","","",{"$f":"IF(P165=\"\",\"\",IF(P165=0,\"\",SQRT(SUMIF(DMA!$DK$5:$DK$503,Graphs!$O165,DMA!DL$5:DL$503))/COUNTIF(DMA!$DK$5:$DK$503,Graphs!$O165)))","v":""},{"$f":"IF(Q165=\"\",\"\",IF(Q165=0,\"\",SQRT(SUMIF(DMA!$DK$5:$DK$503,Graphs!$O165,DMA!DM$5:DM$503))/COUNTIF(DMA!$DK$5:$DK$503,Graphs!$O165)))","v":""},{"$f":"IF(R165=\"\",\"\",IF(R165=0,\"\",SQRT(SUMIF(DMA!$DK$5:$DK$503,Graphs!$O165,DMA!DN$5:DN$503))/COUNTIF(DMA!$DK$5:$DK$503,Graphs!$O165)))","v":""},{"$f":"IF($P165=\"\",\"\",IF(P165=0,\"\",AVERAGEIF(DMA!$N$5:$N$503,Graphs!$O165,DMA!O$5:O$503)))","v":""},{"$f":"IF($Q165=\"\",\"\",IF(Q165=0,\"\",AVERAGEIF(DMA!$N$5:$N$503,Graphs!$O165,DMA!P$5:P$503)))","v":""},{"$f":"IF($R165=\"\",\"\",IF(R165=0,\"\",AVERAGEIF(DMA!$N$5:$N$503,Graphs!$O165,DMA!Q$5:Q$503)))","v":""}]
[null,"","","","","","","","","","","","","","","","","","","","",null,null,null,null,null,null,null,null,null,null,null,null,null,null,null,null,null,null,null,null,null,null,null,null,null,null,null,null,null,null,"","","",{"$f":"IF(P166=\"\",\"\",IF(P166=0,\"\",SQRT(SUMIF(DMA!$DK$5:$DK$503,Graphs!$O166,DMA!DL$5:DL$503))/COUNTIF(DMA!$DK$5:$DK$503,Graphs!$O166)))","v":""},{"$f":"IF(Q166=\"\",\"\",IF(Q166=0,\"\",SQRT(SUMIF(DMA!$DK$5:$DK$503,Graphs!$O166,DMA!DM$5:DM$503))/COUNTIF(DMA!$DK$5:$DK$503,Graphs!$O166)))","v":""},{"$f":"IF(R166=\"\",\"\",IF(R166=0,\"\",SQRT(SUMIF(DMA!$DK$5:$DK$503,Graphs!$O166,DMA!DN$5:DN$503))/COUNTIF(DMA!$DK$5:$DK$503,Graphs!$O166)))","v":""},{"$f":"IF($P166=\"\",\"\",IF(P166=0,\"\",AVERAGEIF(DMA!$N$5:$N$503,Graphs!$O166,DMA!O$5:O$503)))","v":""},{"$f":"IF($Q166=\"\",\"\",IF(Q166=0,\"\",AVERAGEIF(DMA!$N$5:$N$503,Graphs!$O166,DMA!P$5:P$503)))","v":""},{"$f":"IF($R166=\"\",\"\",IF(R166=0,\"\",AVERAGEIF(DMA!$N$5:$N$503,Graphs!$O166,DMA!Q$5:Q$503)))","v":""}]
[null,"","","","","","","","","","","","","","","","","","","","",null,null,null,null,null,null,null,null,null,null,null,null,null,null,null,null,null,null,null,null,null,null,null,null,null,null,null,null,null,null,"","","",{"$f":"IF(P167=\"\",\"\",IF(P167=0,\"\",SQRT(SUMIF(DMA!$DK$5:$DK$503,Graphs!$O167,DMA!DL$5:DL$503))/COUNTIF(DMA!$DK$5:$DK$503,Graphs!$O167)))","v":""},{"$f":"IF(Q167=\"\",\"\",IF(Q167=0,\"\",SQRT(SUMIF(DMA!$DK$5:$DK$503,Graphs!$O167,DMA!DM$5:DM$503))/COUNTIF(DMA!$DK$5:$DK$503,Graphs!$O167)))","v":""},{"$f":"IF(R167=\"\",\"\",IF(R167=0,\"\",SQRT(SUMIF(DMA!$DK$5:$DK$503,Graphs!$O167,DMA!DN$5:DN$503))/COUNTIF(DMA!$DK$5:$DK$503,Graphs!$O167)))","v":""},{"$f":"IF($P167=\"\",\"\",IF(P167=0,\"\",AVERAGEIF(DMA!$N$5:$N$503,Graphs!$O167,DMA!O$5:O$503)))","v":""},{"$f":"IF($Q167=\"\",\"\",IF(Q167=0,\"\",AVERAGEIF(DMA!$N$5:$N$503,Graphs!$O167,DMA!P$5:P$503)))","v":""},{"$f":"IF($R167=\"\",\"\",IF(R167=0,\"\",AVERAGEIF(DMA!$N$5:$N$503,Graphs!$O167,DMA!Q$5:Q$503)))","v":""}]
[null,"","","","","","","","","","","","","","","","","","","","",null,null,null,null,null,null,null,null,null,null,null,null,null,null,null,null,null,null,null,null,null,null,null,null,null,null,null,null,null,null,"","","",{"$f":"IF(P168=\"\",\"\",IF(P168=0,\"\",SQRT(SUMIF(DMA!$DK$5:$DK$503,Graphs!$O168,DMA!DL$5:DL$503))/COUNTIF(DMA!$DK$5:$DK$503,Graphs!$O168)))","v":""},{"$f":"IF(Q168=\"\",\"\",IF(Q168=0,\"\",SQRT(SUMIF(DMA!$DK$5:$DK$503,Graphs!$O168,DMA!DM$5:DM$503))/COUNTIF(DMA!$DK$5:$DK$503,Graphs!$O168)))","v":""},{"$f":"IF(R168=\"\",\"\",IF(R168=0,\"\",SQRT(SUMIF(DMA!$DK$5:$DK$503,Graphs!$O168,DMA!DN$5:DN$503))/COUNTIF(DMA!$DK$5:$DK$503,Graphs!$O168)))","v":""},{"$f":"IF($P168=\"\",\"\",IF(P168=0,\"\",AVERAGEIF(DMA!$N$5:$N$503,Graphs!$O168,DMA!O$5:O$503)))","v":""},{"$f":"IF($Q168=\"\",\"\",IF(Q168=0,\"\",AVERAGEIF(DMA!$N$5:$N$503,Graphs!$O168,DMA!P$5:P$503)))","v":""},{"$f":"IF($R168=\"\",\"\",IF(R168=0,\"\",AVERAGEIF(DMA!$N$5:$N$503,Graphs!$O168,DMA!Q$5:Q$503)))","v":""}]
[null,"","","","","","","","","","","","","","","","","","","","",null,null,null,null,null,null,null,null,null,null,null,null,null,null,null,null,null,null,null,null,null,null,null,null,null,null,null,null,null,null,"","","",{"$f":"IF(P169=\"\",\"\",IF(P169=0,\"\",SQRT(SUMIF(DMA!$DK$5:$DK$503,Graphs!$O169,DMA!DL$5:DL$503))/COUNTIF(DMA!$DK$5:$DK$503,Graphs!$O169)))","v":""},{"$f":"IF(Q169=\"\",\"\",IF(Q169=0,\"\",SQRT(SUMIF(DMA!$DK$5:$DK$503,Graphs!$O169,DMA!DM$5:DM$503))/COUNTIF(DMA!$DK$5:$DK$503,Graphs!$O169)))","v":""},{"$f":"IF(R169=\"\",\"\",IF(R169=0,\"\",SQRT(SUMIF(DMA!$DK$5:$DK$503,Graphs!$O169,DMA!DN$5:DN$503))/COUNTIF(DMA!$DK$5:$DK$503,Graphs!$O169)))","v":""},{"$f":"IF($P169=\"\",\"\",IF(P169=0,\"\",AVERAGEIF(DMA!$N$5:$N$503,Graphs!$O169,DMA!O$5:O$503)))","v":""},{"$f":"IF($Q169=\"\",\"\",IF(Q169=0,\"\",AVERAGEIF(DMA!$N$5:$N$503,Graphs!$O169,DMA!P$5:P$503)))","v":""},{"$f":"IF($R169=\"\",\"\",IF(R169=0,\"\",AVERAGEIF(DMA!$N$5:$N$503,Graphs!$O169,DMA!Q$5:Q$503)))","v":""}]
[null,"","","","","","","","","","","","","","","","","","","","",null,null,null,null,null,null,null,null,null,null,null,null,null,null,null,null,null,null,null,null,null,null,null,null,null,null,null,null,null,null,"","","",{"$f":"IF(P170=\"\",\"\",IF(P170=0,\"\",SQRT(SUMIF(DMA!$DK$5:$DK$503,Graphs!$O170,DMA!DL$5:DL$503))/COUNTIF(DMA!$DK$5:$DK$503,Graphs!$O170)))","v":""},{"$f":"IF(Q170=\"\",\"\",IF(Q170=0,\"\",SQRT(SUMIF(DMA!$DK$5:$DK$503,Graphs!$O170,DMA!DM$5:DM$503))/COUNTIF(DMA!$DK$5:$DK$503,Graphs!$O170)))","v":""},{"$f":"IF(R170=\"\",\"\",IF(R170=0,\"\",SQRT(SUMIF(DMA!$DK$5:$DK$503,Graphs!$O170,DMA!DN$5:DN$503))/COUNTIF(DMA!$DK$5:$DK$503,Graphs!$O170)))","v":""},{"$f":"IF($P170=\"\",\"\",IF(P170=0,\"\",AVERAGEIF(DMA!$N$5:$N$503,Graphs!$O170,DMA!O$5:O$503)))","v":""},{"$f":"IF($Q170=\"\",\"\",IF(Q170=0,\"\",AVERAGEIF(DMA!$N$5:$N$503,Graphs!$O170,DMA!P$5:P$503)))","v":""},{"$f":"IF($R170=\"\",\"\",IF(R170=0,\"\",AVERAGEIF(DMA!$N$5:$N$503,Graphs!$O170,DMA!Q$5:Q$503)))","v":""}]
[null,"","","","","","","","","","","","","","","","","","","","",null,null,null,null,null,null,null,null,null,null,null,null,null,null,null,null,null,null,null,null,null,null,null,null,null,null,null,null,null,null,"","","",{"$f":"IF(P171=\"\",\"\",IF(P171=0,\"\",SQRT(SUMIF(DMA!$DK$5:$DK$503,Graphs!$O171,DMA!DL$5:DL$503))/COUNTIF(DMA!$DK$5:$DK$503,Graphs!$O171)))","v":""},{"$f":"IF(Q171=\"\",\"\",IF(Q171=0,\"\",SQRT(SUMIF(DMA!$DK$5:$DK$503,Graphs!$O171,DMA!DM$5:DM$503))/COUNTIF(DMA!$DK$5:$DK$503,Graphs!$O171)))","v":""},{"$f":"IF(R171=\"\",\"\",IF(R171=0,\"\",SQRT(SUMIF(DMA!$DK$5:$DK$503,Graphs!$O171,DMA!DN$5:DN$503))/COUNTIF(DMA!$DK$5:$DK$503,Graphs!$O171)))","v":""},{"$f":"IF($P171=\"\",\"\",IF(P171=0,\"\",AVERAGEIF(DMA!$N$5:$N$503,Graphs!$O171,DMA!O$5:O$503)))","v":""},{"$f":"IF($Q171=\"\",\"\",IF(Q171=0,\"\",AVERAGEIF(DMA!$N$5:$N$503,Graphs!$O171,DMA!P$5:P$503)))","v":""},{"$f":"IF($R171=\"\",\"\",IF(R171=0,\"\",AVERAGEIF(DMA!$N$5:$N$503,Graphs!$O171,DMA!Q$5:Q$503)))","v":""}]
[null,"","","","","","","","","","","","","","","","","","","","",null,null,null,null,null,null,null,null,null,null,null,null,null,null,null,null,null,null,null,null,null,null,null,null,null,null,null,null,null,null,"","","",{"$f":"IF(P172=\"\",\"\",IF(P172=0,\"\",SQRT(SUMIF(DMA!$DK$5:$DK$503,Graphs!$O172,DMA!DL$5:DL$503))/COUNTIF(DMA!$DK$5:$DK$503,Graphs!$O172)))","v":""},{"$f":"IF(Q172=\"\",\"\",IF(Q172=0,\"\",SQRT(SUMIF(DMA!$DK$5:$DK$503,Graphs!$O172,DMA!DM$5:DM$503))/COUNTIF(DMA!$DK$5:$DK$503,Graphs!$O172)))","v":""},{"$f":"IF(R172=\"\",\"\",IF(R172=0,\"\",SQRT(SUMIF(DMA!$DK$5:$DK$503,Graphs!$O172,DMA!DN$5:DN$503))/COUNTIF(DMA!$DK$5:$DK$503,Graphs!$O172)))","v":""},{"$f":"IF($P172=\"\",\"\",IF(P172=0,\"\",AVERAGEIF(DMA!$N$5:$N$503,Graphs!$O172,DMA!O$5:O$503)))","v":""},{"$f":"IF($Q172=\"\",\"\",IF(Q172=0,\"\",AVERAGEIF(DMA!$N$5:$N$503,Graphs!$O172,DMA!P$5:P$503)))","v":""},{"$f":"IF($R172=\"\",\"\",IF(R172=0,\"\",AVERAGEIF(DMA!$N$5:$N$503,Graphs!$O172,DMA!Q$5:Q$503)))","v":""}]
[null,"","","","","","","","","","","","","","","","","","","","",null,null,null,null,null,null,null,null,null,null,null,null,null,null,null,null,null,null,null,null,null,null,null,null,null,null,null,null,null,null,"","","",{"$f":"IF(P173=\"\",\"\",IF(P173=0,\"\",SQRT(SUMIF(DMA!$DK$5:$DK$503,Graphs!$O173,DMA!DL$5:DL$503))/COUNTIF(DMA!$DK$5:$DK$503,Graphs!$O173)))","v":""},{"$f":"IF(Q173=\"\",\"\",IF(Q173=0,\"\",SQRT(SUMIF(DMA!$DK$5:$DK$503,Graphs!$O173,DMA!DM$5:DM$503))/COUNTIF(DMA!$DK$5:$DK$503,Graphs!$O173)))","v":""},{"$f":"IF(R173=\"\",\"\",IF(R173=0,\"\",SQRT(SUMIF(DMA!$DK$5:$DK$503,Graphs!$O173,DMA!DN$5:DN$503))/COUNTIF(DMA!$DK$5:$DK$503,Graphs!$O173)))","v":""},{"$f":"IF($P173=\"\",\"\",IF(P173=0,\"\",AVERAGEIF(DMA!$N$5:$N$503,Graphs!$O173,DMA!O$5:O$503)))","v":""},{"$f":"IF($Q173=\"\",\"\",IF(Q173=0,\"\",AVERAGEIF(DMA!$N$5:$N$503,Graphs!$O173,DMA!P$5:P$503)))","v":""},{"$f":"IF($R173=\"\",\"\",IF(R173=0,\"\",AVERAGEIF(DMA!$N$5:$N$503,Graphs!$O173,DMA!Q$5:Q$503)))","v":""}]
[null,"","","","","","","","","","","","","","","","","","","","",null,null,null,null,null,null,null,null,null,null,null,null,null,null,null,null,null,null,null,null,null,null,null,null,null,null,null,null,null,null,"","","",{"$f":"IF(P174=\"\",\"\",IF(P174=0,\"\",SQRT(SUMIF(DMA!$DK$5:$DK$503,Graphs!$O174,DMA!DL$5:DL$503))/COUNTIF(DMA!$DK$5:$DK$503,Graphs!$O174)))","v":""},{"$f":"IF(Q174=\"\",\"\",IF(Q174=0,\"\",SQRT(SUMIF(DMA!$DK$5:$DK$503,Graphs!$O174,DMA!DM$5:DM$503))/COUNTIF(DMA!$DK$5:$DK$503,Graphs!$O174)))","v":""},{"$f":"IF(R174=\"\",\"\",IF(R174=0,\"\",SQRT(SUMIF(DMA!$DK$5:$DK$503,Graphs!$O174,DMA!DN$5:DN$503))/COUNTIF(DMA!$DK$5:$DK$503,Graphs!$O174)))","v":""},{"$f":"IF($P174=\"\",\"\",IF(P174=0,\"\",AVERAGEIF(DMA!$N$5:$N$503,Graphs!$O174,DMA!O$5:O$503)))","v":""},{"$f":"IF($Q174=\"\",\"\",IF(Q174=0,\"\",AVERAGEIF(DMA!$N$5:$N$503,Graphs!$O174,DMA!P$5:P$503)))","v":""},{"$f":"IF($R174=\"\",\"\",IF(R174=0,\"\",AVERAGEIF(DMA!$N$5:$N$503,Graphs!$O174,DMA!Q$5:Q$503)))","v":""}]
[null,"","","","","","","","","","","","","","","","","","","","",null,null,null,null,null,null,null,null,null,null,null,null,null,null,null,null,null,null,null,null,null,null,null,null,null,null,null,null,null,null,"","","",{"$f":"IF(P175=\"\",\"\",IF(P175=0,\"\",SQRT(SUMIF(DMA!$DK$5:$DK$503,Graphs!$O175,DMA!DL$5:DL$503))/COUNTIF(DMA!$DK$5:$DK$503,Graphs!$O175)))","v":""},{"$f":"IF(Q175=\"\",\"\",IF(Q175=0,\"\",SQRT(SUMIF(DMA!$DK$5:$DK$503,Graphs!$O175,DMA!DM$5:DM$503))/COUNTIF(DMA!$DK$5:$DK$503,Graphs!$O175)))","v":""},{"$f":"IF(R175=\"\",\"\",IF(R175=0,\"\",SQRT(SUMIF(DMA!$DK$5:$DK$503,Graphs!$O175,DMA!DN$5:DN$503))/COUNTIF(DMA!$DK$5:$DK$503,Graphs!$O175)))","v":""},{"$f":"IF($P175=\"\",\"\",IF(P175=0,\"\",AVERAGEIF(DMA!$N$5:$N$503,Graphs!$O175,DMA!O$5:O$503)))","v":""},{"$f":"IF($Q175=\"\",\"\",IF(Q175=0,\"\",AVERAGEIF(DMA!$N$5:$N$503,Graphs!$O175,DMA!P$5:P$503)))","v":""},{"$f":"IF($R175=\"\",\"\",IF(R175=0,\"\",AVERAGEIF(DMA!$N$5:$N$503,Graphs!$O175,DMA!Q$5:Q$503)))","v":""}]
[null,"","","","","","","","","","","","","","","","","","","","",null,null,null,null,null,null,null,null,null,null,null,null,null,null,null,null,null,null,null,null,null,null,null,null,null,null,null,null,null,null,"","","",{"$f":"IF(P176=\"\",\"\",IF(P176=0,\"\",SQRT(SUMIF(DMA!$DK$5:$DK$503,Graphs!$O176,DMA!DL$5:DL$503))/COUNTIF(DMA!$DK$5:$DK$503,Graphs!$O176)))","v":""},{"$f":"IF(Q176=\"\",\"\",IF(Q176=0,\"\",SQRT(SUMIF(DMA!$DK$5:$DK$503,Graphs!$O176,DMA!DM$5:DM$503))/COUNTIF(DMA!$DK$5:$DK$503,Graphs!$O176)))","v":""},{"$f":"IF(R176=\"\",\"\",IF(R176=0,\"\",SQRT(SUMIF(DMA!$DK$5:$DK$503,Graphs!$O176,DMA!DN$5:DN$503))/COUNTIF(DMA!$DK$5:$DK$503,Graphs!$O176)))","v":""},{"$f":"IF($P176=\"\",\"\",IF(P176=0,\"\",AVERAGEIF(DMA!$N$5:$N$503,Graphs!$O176,DMA!O$5:O$503)))","v":""},{"$f":"IF($Q176=\"\",\"\",IF(Q176=0,\"\",AVERAGEIF(DMA!$N$5:$N$503,Graphs!$O176,DMA!P$5:P$503)))","v":""},{"$f":"IF($R176=\"\",\"\",IF(R176=0,\"\",AVERAGEIF(DMA!$N$5:$N$503,Graphs!$O176,DMA!Q$5:Q$503)))","v":""}]
[null,"","","","","","","","","","","","","","","","","","","","",null,null,null,null,null,null,null,null,null,null,null,null,null,null,null,null,null,null,null,null,null,null,null,null,null,null,null,null,null,null,"","","",{"$f":"IF(P177=\"\",\"\",IF(P177=0,\"\",SQRT(SUMIF(DMA!$DK$5:$DK$503,Graphs!$O177,DMA!DL$5:DL$503))/COUNTIF(DMA!$DK$5:$DK$503,Graphs!$O177)))","v":""},{"$f":"IF(Q177=\"\",\"\",IF(Q177=0,\"\",SQRT(SUMIF(DMA!$DK$5:$DK$503,Graphs!$O177,DMA!DM$5:DM$503))/COUNTIF(DMA!$DK$5:$DK$503,Graphs!$O177)))","v":""},{"$f":"IF(R177=\"\",\"\",IF(R177=0,\"\",SQRT(SUMIF(DMA!$DK$5:$DK$503,Graphs!$O177,DMA!DN$5:DN$503))/COUNTIF(DMA!$DK$5:$DK$503,Graphs!$O177)))","v":""},{"$f":"IF($P177=\"\",\"\",IF(P177=0,\"\",AVERAGEIF(DMA!$N$5:$N$503,Graphs!$O177,DMA!O$5:O$503)))","v":""},{"$f":"IF($Q177=\"\",\"\",IF(Q177=0,\"\",AVERAGEIF(DMA!$N$5:$N$503,Graphs!$O177,DMA!P$5:P$503)))","v":""},{"$f":"IF($R177=\"\",\"\",IF(R177=0,\"\",AVERAGEIF(DMA!$N$5:$N$503,Graphs!$O177,DMA!Q$5:Q$503)))","v":""}]
[null,"","","","","","","","","","","","","","","","","","","","",null,null,null,null,null,null,null,null,null,null,null,null,null,null,null,null,null,null,null,null,null,null,null,null,null,null,null,null,null,null,"","","",{"$f":"IF(P178=\"\",\"\",IF(P178=0,\"\",SQRT(SUMIF(DMA!$DK$5:$DK$503,Graphs!$O178,DMA!DL$5:DL$503))/COUNTIF(DMA!$DK$5:$DK$503,Graphs!$O178)))","v":""},{"$f":"IF(Q178=\"\",\"\",IF(Q178=0,\"\",SQRT(SUMIF(DMA!$DK$5:$DK$503,Graphs!$O178,DMA!DM$5:DM$503))/COUNTIF(DMA!$DK$5:$DK$503,Graphs!$O178)))","v":""},{"$f":"IF(R178=\"\",\"\",IF(R178=0,\"\",SQRT(SUMIF(DMA!$DK$5:$DK$503,Graphs!$O178,DMA!DN$5:DN$503))/COUNTIF(DMA!$DK$5:$DK$503,Graphs!$O178)))","v":""},{"$f":"IF($P178=\"\",\"\",IF(P178=0,\"\",AVERAGEIF(DMA!$N$5:$N$503,Graphs!$O178,DMA!O$5:O$503)))","v":""},{"$f":"IF($Q178=\"\",\"\",IF(Q178=0,\"\",AVERAGEIF(DMA!$N$5:$N$503,Graphs!$O178,DMA!P$5:P$503)))","v":""},{"$f":"IF($R178=\"\",\"\",IF(R178=0,\"\",AVERAGEIF(DMA!$N$5:$N$503,Graphs!$O178,DMA!Q$5:Q$503)))","v":""}]
[null,"","","","","","","","","","","","","","","","","","","","",null,null,null,null,null,null,null,null,null,null,null,null,null,null,null,null,null,null,null,null,null,null,null,null,null,null,null,null,null,null,"","","",{"$f":"IF(P179=\"\",\"\",IF(P179=0,\"\",SQRT(SUMIF(DMA!$DK$5:$DK$503,Graphs!$O179,DMA!DL$5:DL$503))/COUNTIF(DMA!$DK$5:$DK$503,Graphs!$O179)))","v":""},{"$f":"IF(Q179=\"\",\"\",IF(Q179=0,\"\",SQRT(SUMIF(DMA!$DK$5:$DK$503,Graphs!$O179,DMA!DM$5:DM$503))/COUNTIF(DMA!$DK$5:$DK$503,Graphs!$O179)))","v":""},{"$f":"IF(R179=\"\",\"\",IF(R179=0,\"\",SQRT(SUMIF(DMA!$DK$5:$DK$503,Graphs!$O179,DMA!DN$5:DN$503))/COUNTIF(DMA!$DK$5:$DK$503,Graphs!$O179)))","v":""},{"$f":"IF($P179=\"\",\"\",IF(P179=0,\"\",AVERAGEIF(DMA!$N$5:$N$503,Graphs!$O179,DMA!O$5:O$503)))","v":""},{"$f":"IF($Q179=\"\",\"\",IF(Q179=0,\"\",AVERAGEIF(DMA!$N$5:$N$503,Graphs!$O179,DMA!P$5:P$503)))","v":""},{"$f":"IF($R179=\"\",\"\",IF(R179=0,\"\",AVERAGEIF(DMA!$N$5:$N$503,Graphs!$O179,DMA!Q$5:Q$503)))","v":""}]
[null,"","","","","","","","","","","","","","","","","","","","",null,null,null,null,null,null,null,null,null,null,null,null,null,null,null,null,null,null,null,null,null,null,null,null,null,null,null,null,null,null,"","","",{"$f":"IF(P180=\"\",\"\",IF(P180=0,\"\",SQRT(SUMIF(DMA!$DK$5:$DK$503,Graphs!$O180,DMA!DL$5:DL$503))/COUNTIF(DMA!$DK$5:$DK$503,Graphs!$O180)))","v":""},{"$f":"IF(Q180=\"\",\"\",IF(Q180=0,\"\",SQRT(SUMIF(DMA!$DK$5:$DK$503,Graphs!$O180,DMA!DM$5:DM$503))/COUNTIF(DMA!$DK$5:$DK$503,Graphs!$O180)))","v":""},{"$f":"IF(R180=\"\",\"\",IF(R180=0,\"\",SQRT(SUMIF(DMA!$DK$5:$DK$503,Graphs!$O180,DMA!DN$5:DN$503))/COUNTIF(DMA!$DK$5:$DK$503,Graphs!$O180)))","v":""},{"$f":"IF($P180=\"\",\"\",IF(P180=0,\"\",AVERAGEIF(DMA!$N$5:$N$503,Graphs!$O180,DMA!O$5:O$503)))","v":""},{"$f":"IF($Q180=\"\",\"\",IF(Q180=0,\"\",AVERAGEIF(DMA!$N$5:$N$503,Graphs!$O180,DMA!P$5:P$503)))","v":""},{"$f":"IF($R180=\"\",\"\",IF(R180=0,\"\",AVERAGEIF(DMA!$N$5:$N$503,Graphs!$O180,DMA!Q$5:Q$503)))","v":""}]
[null,"","","","","","","","","","","","","","","","","","","","",null,null,null,null,null,null,null,null,null,null,null,null,null,null,null,null,null,null,null,null,null,null,null,null,null,null,null,null,null,null,"","","",{"$f":"IF(P181=\"\",\"\",IF(P181=0,\"\",SQRT(SUMIF(DMA!$DK$5:$DK$503,Graphs!$O181,DMA!DL$5:DL$503))/COUNTIF(DMA!$DK$5:$DK$503,Graphs!$O181)))","v":""},{"$f":"IF(Q181=\"\",\"\",IF(Q181=0,\"\",SQRT(SUMIF(DMA!$DK$5:$DK$503,Graphs!$O181,DMA!DM$5:DM$503))/COUNTIF(DMA!$DK$5:$DK$503,Graphs!$O181)))","v":""},{"$f":"IF(R181=\"\",\"\",IF(R181=0,\"\",SQRT(SUMIF(DMA!$DK$5:$DK$503,Graphs!$O181,DMA!DN$5:DN$503))/COUNTIF(DMA!$DK$5:$DK$503,Graphs!$O181)))","v":""},{"$f":"IF($P181=\"\",\"\",IF(P181=0,\"\",AVERAGEIF(DMA!$N$5:$N$503,Graphs!$O181,DMA!O$5:O$503)))","v":""},{"$f":"IF($Q181=\"\",\"\",IF(Q181=0,\"\",AVERAGEIF(DMA!$N$5:$N$503,Graphs!$O181,DMA!P$5:P$503)))","v":""},{"$f":"IF($R181=\"\",\"\",IF(R181=0,\"\",AVERAGEIF(DMA!$N$5:$N$503,Graphs!$O181,DMA!Q$5:Q$503)))","v":""}]
[null,"","","","","","","","","","","","","","","","","","","","",null,null,null,null,null,null,null,null,null,null,null,null,null,null,null,null,null,null,null,null,null,null,null,null,null,null,null,null,null,null,"","","",{"$f":"IF(P182=\"\",\"\",IF(P182=0,\"\",SQRT(SUMIF(DMA!$DK$5:$DK$503,Graphs!$O182,DMA!DL$5:DL$503))/COUNTIF(DMA!$DK$5:$DK$503,Graphs!$O182)))","v":""},{"$f":"IF(Q182=\"\",\"\",IF(Q182=0,\"\",SQRT(SUMIF(DMA!$DK$5:$DK$503,Graphs!$O182,DMA!DM$5:DM$503))/COUNTIF(DMA!$DK$5:$DK$503,Graphs!$O182)))","v":""},{"$f":"IF(R182=\"\",\"\",IF(R182=0,\"\",SQRT(SUMIF(DMA!$DK$5:$DK$503,Graphs!$O182,DMA!DN$5:DN$503))/COUNTIF(DMA!$DK$5:$DK$503,Graphs!$O182)))","v":""},{"$f":"IF($P182=\"\",\"\",IF(P182=0,\"\",AVERAGEIF(DMA!$N$5:$N$503,Graphs!$O182,DMA!O$5:O$503)))","v":""},{"$f":"IF($Q182=\"\",\"\",IF(Q182=0,\"\",AVERAGEIF(DMA!$N$5:$N$503,Graphs!$O182,DMA!P$5:P$503)))","v":""},{"$f":"IF($R182=\"\",\"\",IF(R182=0,\"\",AVERAGEIF(DMA!$N$5:$N$503,Graphs!$O182,DMA!Q$5:Q$503)))","v":""}]
[null,"","","","","","","","","","","","","","","","","","","","",null,null,null,null,null,null,null,null,null,null,null,null,null,null,null,null,null,null,null,null,null,null,null,null,null,null,null,null,null,null,"","","",{"$f":"IF(P183=\"\",\"\",IF(P183=0,\"\",SQRT(SUMIF(DMA!$DK$5:$DK$503,Graphs!$O183,DMA!DL$5:DL$503))/COUNTIF(DMA!$DK$5:$DK$503,Graphs!$O183)))","v":""},{"$f":"IF(Q183=\"\",\"\",IF(Q183=0,\"\",SQRT(SUMIF(DMA!$DK$5:$DK$503,Graphs!$O183,DMA!DM$5:DM$503))/COUNTIF(DMA!$DK$5:$DK$503,Graphs!$O183)))","v":""},{"$f":"IF(R183=\"\",\"\",IF(R183=0,\"\",SQRT(SUMIF(DMA!$DK$5:$DK$503,Graphs!$O183,DMA!DN$5:DN$503))/COUNTIF(DMA!$DK$5:$DK$503,Graphs!$O183)))","v":""},{"$f":"IF($P183=\"\",\"\",IF(P183=0,\"\",AVERAGEIF(DMA!$N$5:$N$503,Graphs!$O183,DMA!O$5:O$503)))","v":""},{"$f":"IF($Q183=\"\",\"\",IF(Q183=0,\"\",AVERAGEIF(DMA!$N$5:$N$503,Graphs!$O183,DMA!P$5:P$503)))","v":""},{"$f":"IF($R183=\"\",\"\",IF(R183=0,\"\",AVERAGEIF(DMA!$N$5:$N$503,Graphs!$O183,DMA!Q$5:Q$503)))","v":""}]
[null,"","","","","","","","","","","","","","","","","","","","",null,null,null,null,null,null,null,null,null,null,null,null,null,null,null,null,null,null,null,null,null,null,null,null,null,null,null,null,null,null,{"$f":"IF(BC184=\"\",\"\",IF(BC184=1,\"\",IF(BC184=0,\"\",CONFIDENCE(0.05,BC184,BM184))))","v":""},{"$f":"IF(BD184=\"\",\"\",IF(BD184=1,\"\",IF(BD184=0,\"\",CONFIDENCE(0.05,BD184,BN184))))","v":""},{"$f":"IF(BE184=\"\",\"\",IF(BE184=1,\"\",IF(BE184=0,\"\",CONFIDENCE(0.05,BE184,BO184))))","v":""},{"$f":"IF(P184=\"\",\"\",IF(P184=0,\"\",SQRT(SUMIF(DMA!$DK$5:$DK$503,Graphs!$O184,DMA!DL$5:DL$503))/COUNTIF(DMA!$DK$5:$DK$503,Graphs!$O184)))","v":""},{"$f":"IF(Q184=\"\",\"\",IF(Q184=0,\"\",SQRT(SUMIF(DMA!$DK$5:$DK$503,Graphs!$O184,DMA!DM$5:DM$503))/COUNTIF(DMA!$DK$5:$DK$503,Graphs!$O184)))","v":""},{"$f":"IF(R184=\"\",\"\",IF(R184=0,\"\",SQRT(SUMIF(DMA!$DK$5:$DK$503,Graphs!$O184,DMA!DN$5:DN$503))/COUNTIF(DMA!$DK$5:$DK$503,Graphs!$O184)))","v":""},{"$f":"IF($P184=\"\",\"\",IF(P184=0,\"\",AVERAGEIF(DMA!$N$5:$N$503,Graphs!$O184,DMA!O$5:O$503)))","v":""},{"$f":"IF($Q184=\"\",\"\",IF(Q184=0,\"\",AVERAGEIF(DMA!$N$5:$N$503,Graphs!$O184,DMA!P$5:P$503)))","v":""},{"$f":"IF($R184=\"\",\"\",IF(R184=0,\"\",AVERAGEIF(DMA!$N$5:$N$503,Graphs!$O184,DMA!Q$5:Q$503)))","v":""}]
[null,"","","","","","","","","","","","","","","","","","","","",null,null,null,null,null,null,null,null,null,null,null,null,null,null,null,null,null,null,null,null,null,null,null,null,null,null,null,null,null,null,"","","",{"$f":"IF(P185=\"\",\"\",IF(P185=0,\"\",SQRT(SUMIF(DMA!$DK$5:$DK$503,Graphs!$O185,DMA!DL$5:DL$503))/COUNTIF(DMA!$DK$5:$DK$503,Graphs!$O185)))","v":""},{"$f":"IF(Q185=\"\",\"\",IF(Q185=0,\"\",SQRT(SUMIF(DMA!$DK$5:$DK$503,Graphs!$O185,DMA!DM$5:DM$503))/COUNTIF(DMA!$DK$5:$DK$503,Graphs!$O185)))","v":""},{"$f":"IF(R185=\"\",\"\",IF(R185=0,\"\",SQRT(SUMIF(DMA!$DK$5:$DK$503,Graphs!$O185,DMA!DN$5:DN$503))/COUNTIF(DMA!$DK$5:$DK$503,Graphs!$O185)))","v":""},{"$f":"IF($P185=\"\",\"\",IF(P185=0,\"\",AVERAGEIF(DMA!$N$5:$N$503,Graphs!$O185,DMA!O$5:O$503)))","v":""},{"$f":"IF($Q185=\"\",\"\",IF(Q185=0,\"\",AVERAGEIF(DMA!$N$5:$N$503,Graphs!$O185,DMA!P$5:P$503)))","v":""},{"$f":"IF($R185=\"\",\"\",IF(R185=0,\"\",AVERAGEIF(DMA!$N$5:$N$503,Graphs!$O185,DMA!Q$5:Q$503)))","v":""}]
[null,"","","","","","","","","","","","","","","","","","","","",null,null,null,null,null,null,null,null,null,null,null,null,null,null,null,null,null,null,null,null,null,null,null,null,null,null,null,null,null,null,"","","",{"$f":"IF(P186=\"\",\"\",IF(P186=0,\"\",SQRT(SUMIF(DMA!$DK$5:$DK$503,Graphs!$O186,DMA!DL$5:DL$503))/COUNTIF(DMA!$DK$5:$DK$503,Graphs!$O186)))","v":""},{"$f":"IF(Q186=\"\",\"\",IF(Q186=0,\"\",SQRT(SUMIF(DMA!$DK$5:$DK$503,Graphs!$O186,DMA!DM$5:DM$503))/COUNTIF(DMA!$DK$5:$DK$503,Graphs!$O186)))","v":""},{"$f":"IF(R186=\"\",\"\",IF(R186=0,\"\",SQRT(SUMIF(DMA!$DK$5:$DK$503,Graphs!$O186,DMA!DN$5:DN$503))/COUNTIF(DMA!$DK$5:$DK$503,Graphs!$O186)))","v":""},{"$f":"IF($P186=\"\",\"\",IF(P186=0,\"\",AVERAGEIF(DMA!$N$5:$N$503,Graphs!$O186,DMA!O$5:O$503)))","v":""},{"$f":"IF($Q186=\"\",\"\",IF(Q186=0,\"\",AVERAGEIF(DMA!$N$5:$N$503,Graphs!$O186,DMA!P$5:P$503)))","v":""},{"$f":"IF($R186=\"\",\"\",IF(R186=0,\"\",AVERAGEIF(DMA!$N$5:$N$503,Graphs!$O186,DMA!Q$5:Q$503)))","v":""}]
[null,"","","","","","","","","","","","","","","","","","","","",null,null,null,null,null,null,null,null,null,null,null,null,null,null,null,null,null,null,null,null,null,null,null,null,null,null,null,null,null,null,"","","",{"$f":"IF(P187=\"\",\"\",IF(P187=0,\"\",SQRT(SUMIF(DMA!$DK$5:$DK$503,Graphs!$O187,DMA!DL$5:DL$503))/COUNTIF(DMA!$DK$5:$DK$503,Graphs!$O187)))","v":""},{"$f":"IF(Q187=\"\",\"\",IF(Q187=0,\"\",SQRT(SUMIF(DMA!$DK$5:$DK$503,Graphs!$O187,DMA!DM$5:DM$503))/COUNTIF(DMA!$DK$5:$DK$503,Graphs!$O187)))","v":""},{"$f":"IF(R187=\"\",\"\",IF(R187=0,\"\",SQRT(SUMIF(DMA!$DK$5:$DK$503,Graphs!$O187,DMA!DN$5:DN$503))/COUNTIF(DMA!$DK$5:$DK$503,Graphs!$O187)))","v":""},{"$f":"IF($P187=\"\",\"\",IF(P187=0,\"\",AVERAGEIF(DMA!$N$5:$N$503,Graphs!$O187,DMA!O$5:O$503)))","v":""},{"$f":"IF($Q187=\"\",\"\",IF(Q187=0,\"\",AVERAGEIF(DMA!$N$5:$N$503,Graphs!$O187,DMA!P$5:P$503)))","v":""},{"$f":"IF($R187=\"\",\"\",IF(R187=0,\"\",AVERAGEIF(DMA!$N$5:$N$503,Graphs!$O187,DMA!Q$5:Q$503)))","v":""}]
[null,"","","","","","","","","","","","","","","","","","","","",null,null,null,null,null,null,null,null,null,null,null,null,null,null,null,null,null,null,null,null,null,null,null,null,null,null,null,null,null,null,"","","",{"$f":"IF(P188=\"\",\"\",IF(P188=0,\"\",SQRT(SUMIF(DMA!$DK$5:$DK$503,Graphs!$O188,DMA!DL$5:DL$503))/COUNTIF(DMA!$DK$5:$DK$503,Graphs!$O188)))","v":""},{"$f":"IF(Q188=\"\",\"\",IF(Q188=0,\"\",SQRT(SUMIF(DMA!$DK$5:$DK$503,Graphs!$O188,DMA!DM$5:DM$503))/COUNTIF(DMA!$DK$5:$DK$503,Graphs!$O188)))","v":""},{"$f":"IF(R188=\"\",\"\",IF(R188=0,\"\",SQRT(SUMIF(DMA!$DK$5:$DK$503,Graphs!$O188,DMA!DN$5:DN$503))/COUNTIF(DMA!$DK$5:$DK$503,Graphs!$O188)))","v":""},{"$f":"IF($P188=\"\",\"\",IF(P188=0,\"\",AVERAGEIF(DMA!$N$5:$N$503,Graphs!$O188,DMA!O$5:O$503)))","v":""},{"$f":"IF($Q188=\"\",\"\",IF(Q188=0,\"\",AVERAGEIF(DMA!$N$5:$N$503,Graphs!$O188,DMA!P$5:P$503)))","v":""},{"$f":"IF($R188=\"\",\"\",IF(R188=0,\"\",AVERAGEIF(DMA!$N$5:$N$503,Graphs!$O188,DMA!Q$5:Q$503)))","v":""}]
[null,"","","","","","","","","","","","","","","","","","","","",null,null,null,null,null,null,null,null,null,null,null,null,null,null,null,null,null,null,null,null,null,null,null,null,null,null,null,null,null,null,"","","",{"$f":"IF(P189=\"\",\"\",IF(P189=0,\"\",SQRT(SUMIF(DMA!$DK$5:$DK$503,Graphs!$O189,DMA!DL$5:DL$503))/COUNTIF(DMA!$DK$5:$DK$503,Graphs!$O189)))","v":""},{"$f":"IF(Q189=\"\",\"\",IF(Q189=0,\"\",SQRT(SUMIF(DMA!$DK$5:$DK$503,Graphs!$O189,DMA!DM$5:DM$503))/COUNTIF(DMA!$DK$5:$DK$503,Graphs!$O189)))","v":""},{"$f":"IF(R189=\"\",\"\",IF(R189=0,\"\",SQRT(SUMIF(DMA!$DK$5:$DK$503,Graphs!$O189,DMA!DN$5:DN$503))/COUNTIF(DMA!$DK$5:$DK$503,Graphs!$O189)))","v":""},{"$f":"IF($P189=\"\",\"\",IF(P189=0,\"\",AVERAGEIF(DMA!$N$5:$N$503,Graphs!$O189,DMA!O$5:O$503)))","v":""},{"$f":"IF($Q189=\"\",\"\",IF(Q189=0,\"\",AVERAGEIF(DMA!$N$5:$N$503,Graphs!$O189,DMA!P$5:P$503)))","v":""},{"$f":"IF($R189=\"\",\"\",IF(R189=0,\"\",AVERAGEIF(DMA!$N$5:$N$503,Graphs!$O189,DMA!Q$5:Q$503)))","v":""}]
[null,"","","","","","","","","","","","","","","","","","","","",null,null,null,null,null,null,null,null,null,null,null,null,null,null,null,null,null,null,null,null,null,null,null,null,null,null,null,null,null,null,"","","",{"$f":"IF(P190=\"\",\"\",IF(P190=0,\"\",SQRT(SUMIF(DMA!$DK$5:$DK$503,Graphs!$O190,DMA!DL$5:DL$503))/COUNTIF(DMA!$DK$5:$DK$503,Graphs!$O190)))","v":""},{"$f":"IF(Q190=\"\",\"\",IF(Q190=0,\"\",SQRT(SUMIF(DMA!$DK$5:$DK$503,Graphs!$O190,DMA!DM$5:DM$503))/COUNTIF(DMA!$DK$5:$DK$503,Graphs!$O190)))","v":""},{"$f":"IF(R190=\"\",\"\",IF(R190=0,\"\",SQRT(SUMIF(DMA!$DK$5:$DK$503,Graphs!$O190,DMA!DN$5:DN$503))/COUNTIF(DMA!$DK$5:$DK$503,Graphs!$O190)))","v":""},{"$f":"IF($P190=\"\",\"\",IF(P190=0,\"\",AVERAGEIF(DMA!$N$5:$N$503,Graphs!$O190,DMA!O$5:O$503)))","v":""},{"$f":"IF($Q190=\"\",\"\",IF(Q190=0,\"\",AVERAGEIF(DMA!$N$5:$N$503,Graphs!$O190,DMA!P$5:P$503)))","v":""},{"$f":"IF($R190=\"\",\"\",IF(R190=0,\"\",AVERAGEIF(DMA!$N$5:$N$503,Graphs!$O190,DMA!Q$5:Q$503)))","v":""}]
[null,"","","","","","","","","","","","","","","","","","","","",null,null,null,null,null,null,null,null,null,null,null,null,null,null,null,null,null,null,null,null,null,null,null,null,null,null,null,null,null,null,"","","",{"$f":"IF(P191=\"\",\"\",IF(P191=0,\"\",SQRT(SUMIF(DMA!$DK$5:$DK$503,Graphs!$O191,DMA!DL$5:DL$503))/COUNTIF(DMA!$DK$5:$DK$503,Graphs!$O191)))","v":""},{"$f":"IF(Q191=\"\",\"\",IF(Q191=0,\"\",SQRT(SUMIF(DMA!$DK$5:$DK$503,Graphs!$O191,DMA!DM$5:DM$503))/COUNTIF(DMA!$DK$5:$DK$503,Graphs!$O191)))","v":""},{"$f":"IF(R191=\"\",\"\",IF(R191=0,\"\",SQRT(SUMIF(DMA!$DK$5:$DK$503,Graphs!$O191,DMA!DN$5:DN$503))/COUNTIF(DMA!$DK$5:$DK$503,Graphs!$O191)))","v":""},{"$f":"IF($P191=\"\",\"\",IF(P191=0,\"\",AVERAGEIF(DMA!$N$5:$N$503,Graphs!$O191,DMA!O$5:O$503)))","v":""},{"$f":"IF($Q191=\"\",\"\",IF(Q191=0,\"\",AVERAGEIF(DMA!$N$5:$N$503,Graphs!$O191,DMA!P$5:P$503)))","v":""},{"$f":"IF($R191=\"\",\"\",IF(R191=0,\"\",AVERAGEIF(DMA!$N$5:$N$503,Graphs!$O191,DMA!Q$5:Q$503)))","v":""}]
[null,"","","","","","","","","","","","","","","","","","","","",null,null,null,null,null,null,null,null,null,null,null,null,null,null,null,null,null,null,null,null,null,null,null,null,null,null,null,null,null,null,"","","",{"$f":"IF(P192=\"\",\"\",IF(P192=0,\"\",SQRT(SUMIF(DMA!$DK$5:$DK$503,Graphs!$O192,DMA!DL$5:DL$503))/COUNTIF(DMA!$DK$5:$DK$503,Graphs!$O192)))","v":""},{"$f":"IF(Q192=\"\",\"\",IF(Q192=0,\"\",SQRT(SUMIF(DMA!$DK$5:$DK$503,Graphs!$O192,DMA!DM$5:DM$503))/COUNTIF(DMA!$DK$5:$DK$503,Graphs!$O192)))","v":""},{"$f":"IF(R192=\"\",\"\",IF(R192=0,\"\",SQRT(SUMIF(DMA!$DK$5:$DK$503,Graphs!$O192,DMA!DN$5:DN$503))/COUNTIF(DMA!$DK$5:$DK$503,Graphs!$O192)))","v":""},{"$f":"IF($P192=\"\",\"\",IF(P192=0,\"\",AVERAGEIF(DMA!$N$5:$N$503,Graphs!$O192,DMA!O$5:O$503)))","v":""},{"$f":"IF($Q192=\"\",\"\",IF(Q192=0,\"\",AVERAGEIF(DMA!$N$5:$N$503,Graphs!$O192,DMA!P$5:P$503)))","v":""},{"$f":"IF($R192=\"\",\"\",IF(R192=0,\"\",AVERAGEIF(DMA!$N$5:$N$503,Graphs!$O192,DMA!Q$5:Q$503)))","v":""}]
[null,"","","","","","","","","","","","","","","","","","","","",null,null,null,null,null,null,null,null,null,null,null,null,null,null,null,null,null,null,null,null,null,null,null,null,null,null,null,null,null,null,"","","",{"$f":"IF(P193=\"\",\"\",IF(P193=0,\"\",SQRT(SUMIF(DMA!$DK$5:$DK$503,Graphs!$O193,DMA!DL$5:DL$503))/COUNTIF(DMA!$DK$5:$DK$503,Graphs!$O193)))","v":""},{"$f":"IF(Q193=\"\",\"\",IF(Q193=0,\"\",SQRT(SUMIF(DMA!$DK$5:$DK$503,Graphs!$O193,DMA!DM$5:DM$503))/COUNTIF(DMA!$DK$5:$DK$503,Graphs!$O193)))","v":""},{"$f":"IF(R193=\"\",\"\",IF(R193=0,\"\",SQRT(SUMIF(DMA!$DK$5:$DK$503,Graphs!$O193,DMA!DN$5:DN$503))/COUNTIF(DMA!$DK$5:$DK$503,Graphs!$O193)))","v":""},{"$f":"IF($P193=\"\",\"\",IF(P193=0,\"\",AVERAGEIF(DMA!$N$5:$N$503,Graphs!$O193,DMA!O$5:O$503)))","v":""},{"$f":"IF($Q193=\"\",\"\",IF(Q193=0,\"\",AVERAGEIF(DMA!$N$5:$N$503,Graphs!$O193,DMA!P$5:P$503)))","v":""},{"$f":"IF($R193=\"\",\"\",IF(R193=0,\"\",AVERAGEIF(DMA!$N$5:$N$503,Graphs!$O193,DMA!Q$5:Q$503)))","v":""}]
[null,"","","","","","","","","","","","","","","","","","","","",null,null,null,null,null,null,null,null,null,null,null,null,null,null,null,null,null,null,null,null,null,null,null,null,null,null,null,null,null,null,"","","",{"$f":"IF(P194=\"\",\"\",IF(P194=0,\"\",SQRT(SUMIF(DMA!$DK$5:$DK$503,Graphs!$O194,DMA!DL$5:DL$503))/COUNTIF(DMA!$DK$5:$DK$503,Graphs!$O194)))","v":""},{"$f":"IF(Q194=\"\",\"\",IF(Q194=0,\"\",SQRT(SUMIF(DMA!$DK$5:$DK$503,Graphs!$O194,DMA!DM$5:DM$503))/COUNTIF(DMA!$DK$5:$DK$503,Graphs!$O194)))","v":""},{"$f":"IF(R194=\"\",\"\",IF(R194=0,\"\",SQRT(SUMIF(DMA!$DK$5:$DK$503,Graphs!$O194,DMA!DN$5:DN$503))/COUNTIF(DMA!$DK$5:$DK$503,Graphs!$O194)))","v":""},{"$f":"IF($P194=\"\",\"\",IF(P194=0,\"\",AVERAGEIF(DMA!$N$5:$N$503,Graphs!$O194,DMA!O$5:O$503)))","v":""},{"$f":"IF($Q194=\"\",\"\",IF(Q194=0,\"\",AVERAGEIF(DMA!$N$5:$N$503,Graphs!$O194,DMA!P$5:P$503)))","v":""},{"$f":"IF($R194=\"\",\"\",IF(R194=0,\"\",AVERAGEIF(DMA!$N$5:$N$503,Graphs!$O194,DMA!Q$5:Q$503)))","v":""}]
[null,"","","","","","","","","","","","","","","","","","","","",null,null,null,null,null,null,null,null,null,null,null,null,null,null,null,null,null,null,null,null,null,null,null,null,null,null,null,null,null,null,"","","",{"$f":"IF(P195=\"\",\"\",IF(P195=0,\"\",SQRT(SUMIF(DMA!$DK$5:$DK$503,Graphs!$O195,DMA!DL$5:DL$503))/COUNTIF(DMA!$DK$5:$DK$503,Graphs!$O195)))","v":""},{"$f":"IF(Q195=\"\",\"\",IF(Q195=0,\"\",SQRT(SUMIF(DMA!$DK$5:$DK$503,Graphs!$O195,DMA!DM$5:DM$503))/COUNTIF(DMA!$DK$5:$DK$503,Graphs!$O195)))","v":""},{"$f":"IF(R195=\"\",\"\",IF(R195=0,\"\",SQRT(SUMIF(DMA!$DK$5:$DK$503,Graphs!$O195,DMA!DN$5:DN$503))/COUNTIF(DMA!$DK$5:$DK$503,Graphs!$O195)))","v":""},{"$f":"IF($P195=\"\",\"\",IF(P195=0,\"\",AVERAGEIF(DMA!$N$5:$N$503,Graphs!$O195,DMA!O$5:O$503)))","v":""},{"$f":"IF($Q195=\"\",\"\",IF(Q195=0,\"\",AVERAGEIF(DMA!$N$5:$N$503,Graphs!$O195,DMA!P$5:P$503)))","v":""},{"$f":"IF($R195=\"\",\"\",IF(R195=0,\"\",AVERAGEIF(DMA!$N$5:$N$503,Graphs!$O195,DMA!Q$5:Q$503)))","v":""}]
[null,"","","","","","","","","","","","","","","","","","","","",null,null,null,null,null,null,null,null,null,null,null,null,null,null,null,null,null,null,null,null,null,null,null,null,null,null,null,null,null,null,"","","",{"$f":"IF(P196=\"\",\"\",IF(P196=0,\"\",SQRT(SUMIF(DMA!$DK$5:$DK$503,Graphs!$O196,DMA!DL$5:DL$503))/COUNTIF(DMA!$DK$5:$DK$503,Graphs!$O196)))","v":""},{"$f":"IF(Q196=\"\",\"\",IF(Q196=0,\"\",SQRT(SUMIF(DMA!$DK$5:$DK$503,Graphs!$O196,DMA!DM$5:DM$503))/COUNTIF(DMA!$DK$5:$DK$503,Graphs!$O196)))","v":""},{"$f":"IF(R196=\"\",\"\",IF(R196=0,\"\",SQRT(SUMIF(DMA!$DK$5:$DK$503,Graphs!$O196,DMA!DN$5:DN$503))/COUNTIF(DMA!$DK$5:$DK$503,Graphs!$O196)))","v":""},{"$f":"IF($P196=\"\",\"\",IF(P196=0,\"\",AVERAGEIF(DMA!$N$5:$N$503,Graphs!$O196,DMA!O$5:O$503)))","v":""},{"$f":"IF($Q196=\"\",\"\",IF(Q196=0,\"\",AVERAGEIF(DMA!$N$5:$N$503,Graphs!$O196,DMA!P$5:P$503)))","v":""},{"$f":"IF($R196=\"\",\"\",IF(R196=0,\"\",AVERAGEIF(DMA!$N$5:$N$503,Graphs!$O196,DMA!Q$5:Q$503)))","v":""}]
[null,"","","","","","","","","","","","","","","","","","","","",null,null,null,null,null,null,null,null,null,null,null,null,null,null,null,null,null,null,null,null,null,null,null,null,null,null,null,null,null,null,"","","",{"$f":"IF(P197=\"\",\"\",IF(P197=0,\"\",SQRT(SUMIF(DMA!$DK$5:$DK$503,Graphs!$O197,DMA!DL$5:DL$503))/COUNTIF(DMA!$DK$5:$DK$503,Graphs!$O197)))","v":""},{"$f":"IF(Q197=\"\",\"\",IF(Q197=0,\"\",SQRT(SUMIF(DMA!$DK$5:$DK$503,Graphs!$O197,DMA!DM$5:DM$503))/COUNTIF(DMA!$DK$5:$DK$503,Graphs!$O197)))","v":""},{"$f":"IF(R197=\"\",\"\",IF(R197=0,\"\",SQRT(SUMIF(DMA!$DK$5:$DK$503,Graphs!$O197,DMA!DN$5:DN$503))/COUNTIF(DMA!$DK$5:$DK$503,Graphs!$O197)))","v":""},{"$f":"IF($P197=\"\",\"\",IF(P197=0,\"\",AVERAGEIF(DMA!$N$5:$N$503,Graphs!$O197,DMA!O$5:O$503)))","v":""},{"$f":"IF($Q197=\"\",\"\",IF(Q197=0,\"\",AVERAGEIF(DMA!$N$5:$N$503,Graphs!$O197,DMA!P$5:P$503)))","v":""},{"$f":"IF($R197=\"\",\"\",IF(R197=0,\"\",AVERAGEIF(DMA!$N$5:$N$503,Graphs!$O197,DMA!Q$5:Q$503)))","v":""}]
[null,"","","","","","","","","","","","","","","","","","","","",null,null,null,null,null,null,null,null,null,null,null,null,null,null,null,null,null,null,null,null,null,null,null,null,null,null,null,null,null,null,"","","",{"$f":"IF(P198=\"\",\"\",IF(P198=0,\"\",SQRT(SUMIF(DMA!$DK$5:$DK$503,Graphs!$O198,DMA!DL$5:DL$503))/COUNTIF(DMA!$DK$5:$DK$503,Graphs!$O198)))","v":""},{"$f":"IF(Q198=\"\",\"\",IF(Q198=0,\"\",SQRT(SUMIF(DMA!$DK$5:$DK$503,Graphs!$O198,DMA!DM$5:DM$503))/COUNTIF(DMA!$DK$5:$DK$503,Graphs!$O198)))","v":""},{"$f":"IF(R198=\"\",\"\",IF(R198=0,\"\",SQRT(SUMIF(DMA!$DK$5:$DK$503,Graphs!$O198,DMA!DN$5:DN$503))/COUNTIF(DMA!$DK$5:$DK$503,Graphs!$O198)))","v":""},{"$f":"IF($P198=\"\",\"\",IF(P198=0,\"\",AVERAGEIF(DMA!$N$5:$N$503,Graphs!$O198,DMA!O$5:O$503)))","v":""},{"$f":"IF($Q198=\"\",\"\",IF(Q198=0,\"\",AVERAGEIF(DMA!$N$5:$N$503,Graphs!$O198,DMA!P$5:P$503)))","v":""},{"$f":"IF($R198=\"\",\"\",IF(R198=0,\"\",AVERAGEIF(DMA!$N$5:$N$503,Graphs!$O198,DMA!Q$5:Q$503)))","v":""}]
[null,"","","","","","","","","","","","","","","","","","","","",null,null,null,null,null,null,null,null,null,null,null,null,null,null,null,null,null,null,null,null,null,null,null,null,null,null,null,null,null,null,"","","",{"$f":"IF(P199=\"\",\"\",IF(P199=0,\"\",SQRT(SUMIF(DMA!$DK$5:$DK$503,Graphs!$O199,DMA!DL$5:DL$503))/COUNTIF(DMA!$DK$5:$DK$503,Graphs!$O199)))","v":""},{"$f":"IF(Q199=\"\",\"\",IF(Q199=0,\"\",SQRT(SUMIF(DMA!$DK$5:$DK$503,Graphs!$O199,DMA!DM$5:DM$503))/COUNTIF(DMA!$DK$5:$DK$503,Graphs!$O199)))","v":""},{"$f":"IF(R199=\"\",\"\",IF(R199=0,\"\",SQRT(SUMIF(DMA!$DK$5:$DK$503,Graphs!$O199,DMA!DN$5:DN$503))/COUNTIF(DMA!$DK$5:$DK$503,Graphs!$O199)))","v":""},{"$f":"IF($P199=\"\",\"\",IF(P199=0,\"\",AVERAGEIF(DMA!$N$5:$N$503,Graphs!$O199,DMA!O$5:O$503)))","v":""},{"$f":"IF($Q199=\"\",\"\",IF(Q199=0,\"\",AVERAGEIF(DMA!$N$5:$N$503,Graphs!$O199,DMA!P$5:P$503)))","v":""},{"$f":"IF($R199=\"\",\"\",IF(R199=0,\"\",AVERAGEIF(DMA!$N$5:$N$503,Graphs!$O199,DMA!Q$5:Q$503)))","v":""}]
[null,null,null,null,null,null,null,null,null,null,null,null,null,{"$f":"SUM(N13:N199)","v":0}]
[]
[]
[null,null,null,null,null,null,null,null,null,null,null,null,null,null,"WOODY AGE Class - All Woody Species"]
[null,null,null,null,null,null,null,null,null,null,null,null,null,null,"Statistic","Seedlings","Young","Mature","Rhizom-atous*"]
[null,null,null,null,null,null,null,null,null,null,null,null,null,null,"Mean ",{"$f":"AVERAGE(DMA!O5:O503)","v":{"$error":"#DIV/0!"}},{"$f":"AVERAGE(DMA!P5:P503)","v":{"$error":"#DIV/0!"}},{"$f":"AVERAGE(DMA!Q5:Q503)","v":{"$error":"#DIV/0!"}},{"$f":"AVERAGE(DMA!R5:R503)","v":{"$error":"#DIV/0!"}}]
[null,null,null,null,null,null,null,null,null,null,null,null,null,null,"Standard Deviation",{"$f":"STDEV(DMA!O5:O503)","v":{"$error":"#DIV/0!"}},{"$f":"STDEV(DMA!P5:P503)","v":{"$error":"#DIV/0!"}},{"$f":"STDEV(DMA!Q5:Q503)","v":{"$error":"#DIV/0!"}},{"$f":"STDEV(DMA!R5:R503)","v":{"$error":"#DIV/0!"}}]
[null,null,null,null,null,null,null,null,null,null,null,null,null,null,"Count",{"$f":"COUNT(DMA!O5:O503)","v":0},{"$f":"COUNT(DMA!P5:P503)","v":0},{"$f":"COUNT(DMA!Q5:Q503)","v":0},{"$f":"COUNT(DMA!R5:R503)","v":0}]
[null,null,null,null,null,null,null,null,null,null,null,null,null,null,"Confidence",{"$f":"IF(P207=0,\"\",CONFIDENCE(0.05,P206,P207))","v":""},{"$f":"IF(Q207=0,\"\",CONFIDENCE(0.05,Q206,Q207))","v":""},{"$f":"IF(R207=0,\"\",CONFIDENCE(0.05,R206,R207))","v":""},{"$f":"IF(S207=0,\"\",CONFIDENCE(0.05,S206,S207))","v":""}]

{"sheet":"Codes","index":8,"n_rows":60,"n_cols":22,"rows_kept":60,"cut":false,"hidden":false,"merged":[[45,0,45,6]]}
["CODES: ",null,null,null,null,null,null,null,null,null,null,"WOODY RIPARIAN SPECIES AGE CLASSES"]
["ECOLOGICAL STATUS CODES",null,null,null,null,null,null,null,null,null,null,null,null,null,null,null,null,null,null,null,"About this version"]
["Slope Class (Gradient)",null,null,null,null,null,null,null,null,null,null,"Woody riparian species age classes for single-stemmed species (e.g., cottonwood, aspen, maple)",null,null,null,null,null,null,null,null,{"$f":"Comments!I1","v":"UPDATED:"},{"$f":"IF(Comments!J1=\"\",\"\",Comments!J1)","v":"2025-01-01"}]
["Is recorded as % slope.   ",null,null,null,null,null,null,null,null,null,null,"Age Class","Stem Height and Diameter",null,null,null,null,null,null,null,null,{"$f":"IF(Comments!J2=\"\",\"\",Comments!J2)","v":""}]
["Flat meadow streams = < .5%",null,null,null,null,null,null,null,null,null,null,"Seedling","Stem is <1m tall or <2.5 cm in diameter at 50 percent of height from ground level",null,null,null,null,null,null,null,null,{"$f":"IF(Comments!J10=\"\",\"\",Comments!J10)","v":"The \"Spatial\" tab can be used to test whether or not there is spatial autocorrelation"}]
["Well- drained meadows = .5 - 2%",null,null,null,null,null,null,null,null,null,null,"Young","Stem is ≥1m tall or 2.5 to 7.6 cm in diameter at 50 percent of height from ground level",null,null,null,null,null,null,null,null,{"$f":"IF(Comments!J11=\"\",\"\",Comments!J11)","v":"after collecting a number of samples for indicators that more commonly associate"}]
["\"B\" type channels: 2-4%",null,null,null,null,null,null,null,null,null,null,"Mature","Stem is ≥1 m tall and >7.6 cm in diameter at 50 percent of height from ground level",null,null,null,null,null,null,null,null,{"$f":"IF(Comments!J12=\"\",\"\",Comments!J12)","v":"with spatial autocorrelation.   If there is a strong positive correlation (>.3), consider"}]
["\"A\" channels:  >4%",null,null,null,null,null,null,null,null,null,null,null,null,null,null,null,null,null,null,null,null,{"$f":"IF(Comments!J13=\"\",\"\",Comments!J13)","v":"increasing sample point spacing.  However, as more samples are collected the test"}]
[null,null,null,null,null,null,null,null,null,null,null,null,null,null,null,null,null,null,null,null,null,{"$f":"IF(Comments!J14=\"\",\"\",Comments!J14)","v":"may be negative for spatial autocorrelation.  Previously it was suggested to test after"}]
[null,null,null,null,null,null,null,null,null,null,null,"Woody riparian species age classes for multi-stemmed (clumpy) species (most willows, alder, birch). ",null,null,null,null,null,null,null,null,null,{"$f":"IF(Comments!J15=\"\",\"\",Comments!J15)","v":"collecting just 10 samples, but more will likely be needed to achieve a reliable test."}]
["Substrate Class (Dominant)",null,null,null,null,null,null,null,null,null,null,"Age Class","Stem Height and Diameter",null,null,null,null,null,null,null,null,{"$f":"IF(Comments!J16=\"\",\"\",Comments!J16)","v":"One convention is to collect all samples on the left side (approx 40), then make the"}]
["Code","Type of substrate",null,null,"Definition",null,null,null,null,null,null,"Seedling","1 stem <0.5 cm in diameter at the base and <0.5 m tall",null,null,null,null,null,null,null,null,{"$f":"IF(Comments!J17=\"\",\"\",Comments!J17)","v":"test.  If expanding the sample spacing is desired, consider expanding the length of"}]
["bd","Boulder/bedrock",null,null,"> 10 inches",null,null,null,null,null,null,"Young","2-10 stems less than 1 m tall or 1 stem ≥0.5 cm in diameter at the base and less than 1 m tall",null,null,null,null,null,null,null,"Back",{"$f":"IF(Comments!J18=\"\",\"\",Comments!J18)","v":"the DMA at that point.  "}]
["cons","Consolidated silt/clay/sand",null,null,", Strongly compacted, cohesive,",null,null,null,null,null,null,"Mature*",">10 stems over 1 m tall or >10 stems that are >1 cm in diameter at the base and less than 1 m tall",null,null,null,null,null,null,null,null,{"$f":"IF(Comments!J19=\"\",\"\",Comments!J19)","v":""}]
[null," cemented particles",null,null,null,null,null,null,null,null,null,"* Note that mature plants can be height suppressed due to repeated heavy browsing, thus the mature class includes",null,null,null,null,null,null,null,null,null,{"$f":"IF(Comments!J20=\"\",\"\",Comments!J20)","v":""}]
["cb","Cobble",null,null,"2.5 - 10 inches",null,null,null,null,null,null," larger diameter stems that are shorter than 1 m tall (Singer et al. 1994, Chadde and Kay 1991).",null,null,null,null,null,null,null,null,null,{"$f":"IF(Comments!J21=\"\",\"\",Comments!J21)","v":""}]
["gr","Gravel",null,null,".08 - 2.5 inches",null,null,null,null,null,null,null,null,null,null,null,null,null,null,null,null,{"$f":"IF(Comments!J22=\"\",\"\",Comments!J22)","v":""}]
["nonc","Non-consolidated silt/clay/sand",null,null,"Uncompacted silt, clay, or sand",null,null,null,null,null,null,"Woody riparian species age classes for low growing (or “dwarf” shrubs) that are generally mature at ",null,null,null,null,null,null,null,null,null,{"$f":"IF(Comments!J23=\"\",\"\",Comments!J23)","v":""}]
[null,null,null,null,null,null,null,null,null,null,null,"approximately 30-50 cm tall (e.g., Short-fruit willow, Wolf willow, Hoary willow, Undergreen willow, etc.)",null,null,null,null,null,null,null,null,null,{"$f":"IF(Comments!J24=\"\",\"\",Comments!J24)","v":""}]
["Capability Groups (Winward 2000, page 34)",null,null,null,null,null,null,null,null,null,null,"Age Class","Stem Height and Diameter",null,null,null,null,null,null,null,null,{"$f":"IF(Comments!J25=\"\",\"\",Comments!J25)","v":""}]
[null,null,null,null,null,null,null,null,null,null,null,"Seedling","1 stem <0.5 cm in diameter at the base and <30 cm tall",null,null,null,null,null,null,null,null,{"$f":"IF(Comments!J26=\"\",\"\",Comments!J26)","v":""}]
["Gradient","Substrate","Group","% late seral",null,null,null,null,null,null,null,"Young","2-10 stems less than 30 cm tall or 1 stem ≥0.5 cm in diameter at the base and less than 30 cm tall",null,null,null,null,null,null,null,null,{"$f":"IF(Comments!J27=\"\",\"\",Comments!J27)","v":""}]
["<.5","gr","I","98+%",null,null,null,null,null,null,null,"Mature",">10 stems over 30 cm tall",null,null,null,null,null,null,null,null,{"$f":"IF(Comments!#REF!=\"\",\"\",Comments!#REF!)","v":{"$error":"#REF!"}}]
[null,"cb","I","98+%",null,null,null,null,null,null,null,null,null,null,null,null,null,null,null,null,null,{"$f":"IF(Comments!#REF!=\"\",\"\",Comments!#REF!)","v":{"$error":"#REF!"}}]
[null,"cons","I","98+%",null,null,null,null,null,null,null,null,null,null,null,null,null,null,null,null,null,{"$f":"IF(Comments!#REF!=\"\",\"\",Comments!#REF!)","v":{"$error":"#REF!"}}]
[null,"nonc","II","90+ %",null,null,null,null,null,null,null,null,null,null,null,null,null,null,null,null,null,{"$f":"IF(Comments!#REF!=\"\",\"\",Comments!#REF!)","v":{"$error":"#REF!"}}]
[".5 - 2.0","gr","III","90+%",null,null,null,null,null,null,null,null,null,null,null,null,null,null,null,null,null,{"$f":"IF(Comments!#REF!=\"\",\"\",Comments!#REF!)","v":{"$error":"#REF!"}}]
[null,"cb","III","90+%",null,null,null,null,null,null,null,null,null,null,null,null,null,null,null,null,null,{"$f":"IF(Comments!#REF!=\"\",\"\",Comments!#REF!)","v":{"$error":"#REF!"}}]
[null,"cons","III","90+%",null,null,null,null,null,null,null,null,null,null,null,null,null,null,null,null,null,{"$f":"IF(Comments!#REF!=\"\",\"\",Comments!#REF!)","v":{"$error":"#REF!"}}]
[null,"nonc","IV","85+%",null,null,null,null,null,null,null,null,null,null,null,null,null,null,null,null,null,{"$f":"IF(Comments!J28=\"\",\"\",Comments!J28)","v":""}]
["2.0 - 4.0","gr","V","85+%",null,null,null,null,null,null,null,null,null,null,null,null,null,null,null,null,null,{"$f":"IF(Comments!J29=\"\",\"\",Comments!J29)","v":""}]
[null,"cb","V","85+%"]
[null,"cons","V","85+%"]
[null,"nonc","VI","80+%"]
["4.0 - 10","nonc","VII","80+%"]
[null,"gr","VIII","85+%"]
[null,"cons","VIII","85+%"]
[null,"cb","IX","95+%"]
[null,"bd","IX","95+%"]
[">10","bd","X","98+%"]
[]
[]
[]
[]
["SHRUB OR TREE HEIGHT CODES"]
["1 = 0 - .5 m,    2 = .5 - 1 m,    3 = 1 - 2 m,    4 = 2 - 4 m,                      5 = 4 - 8 m,    6 > 8 m"]
[]
["STREAMBANK STABILITY CODES"]
["TYPE of BANK"]
["E =  Erosional    - All banks not associated with bars   "]
["D = Depositional - Any bank containing a sand or gravel bar"]
["BANK COVER"]
["C= Covered    - Mostly covered by vegetation, rock, logs"]
["U= Uncovered  -  Mostly not covered by vegetation, rocks, logs"]
["FEATURES OF INSTABILITY"]
["F = Fracture   -  Crack visibly obvious on the bank"]
["S = Slump    -  Block of bank breaking or sliding down bank into stream"]
["SL = Slough   -  \"Sluff\" material moving down bank or into stream"]
["E = Eroding   -  Usually steep and bare faced actively eroding"]
[" A = Absent  -  No features of instability are present"]

{"sheet":"Calcs","index":9,"n_rows":30,"n_cols":10,"rows_kept":30,"cut":false,"hidden":false,"merged":[]}
["Metric calculations are documented in the Data Analysis Module"]
["This section summarizes a few metrics unique to the Data Entry Module"]
[]
["SAMPLE SIZE ESTIMATOR",null,null,null,null,null,null,null,null,"SPATIAL ANALYSIS"]
["Calculations for the sample size esimator in row 4 of the DMA sheet are",null,null,null,null,null,null,null,null,"The assessment of spatial autocorrelation uses the correlogram method"]
["summarized on the Header Sheet rows 75 to 107",null,null,null,null,null,null,null,null,"as documented in the Data Management Guide, Appendix A"]
[]
["Because the sample size estimator uses the standard normal coefficient, and"]
["streambank alteration and woody riparian species use indicators do not "]
["usually fit a normal probability distribution, re-sampling was done using"]
["bootstrapping to adjust the estimator (Data Management Guide, Appendix E)"]
["The resultant regression equations are:"]
[]
["Streambank alteration:"]
[]
["n = 1.0041 x Y - .0008"]
[]
["Where n = adjusted sample size"]
["           and y = predicted sample size using the standard normal coefficient"]
["R square for the regression equation is  0.99"]
["(regression derived from bootstrapping 95% confidence intervals for 53 DMAs)"]
[]
["Woody riparian species use"]
[]
["n = .9797 x Y - .0637"]
[]
["Where n = adjusted sample size"]
["           and y = predicted sample size using the standard normal coefficient"]
["R square for the regression equation is   0.99"]
["(regression derived from bootstrapping 95% confidence intervals for 35 DMAs)"]

{"sheet":"PLANTS","index":10,"n_rows":645,"n_cols":20,"rows_kept":645,"cut":false,"hidden":false,"merged":[]}
["MASTER PLANT LIST - by Plant Functional Groups",null,null,null,null,"ALL Plants Alphabetical",null,null,null,null,null,null,"DMA","     KEY SPECIES",null,null,"Key Species list from previous sample"]
["Functional Group","SCIENTIFIC NAME","SPECIES CODE","COMMON NAME",null,"Species Codes","Scientific Name","Common Name",null,null,"      PLANTS BY COMMON NAME - Synonym",null,"PLANT LIST","STUBBLE HEIGHT","WOODY USE",null,"STUBBLE HEIGHT","FREQUENCY","WOODY USE","FREQUENCY"]
["Graminoids","ACHNATHERUM NELSONII","ACNE9","Columbia needlegrass (STCO3)",null,"ABGR","ABIES GRANDIS ","Grand fir",null,null,"Alaskan burnet","SASI10",null,null,null,null,{"$f":"Graphs!E13","v":0},{"$f":"Graphs!F13","v":0},{"$f":"Graphs!K13","v":0},{"$f":"Graphs!L13","v":0}]
[null,"ACHNATHERUM Spp.","ACHNA","Needlegrass (STIPA)",null,"ABLA","ABIES LASIOCARPA ","Subalpine fir",null,null,"Alderleaf buckthorn","RHAL",null,null,null,null,{"$f":"Graphs!E14","v":0},{"$f":"Graphs!F14","v":0},{"$f":"Graphs!K14","v":0},{"$f":"Graphs!L14","v":0}]
[null,"AGROPYRON REPENS","AGRE2","Quackgrass (ELRE2)",null,"ACCI","ACER CIRCINATUM","Vine maple",null,null,"Alkali cordgrass","SPGR",null,null,null,null,{"$f":"Graphs!E15","v":0},{"$f":"Graphs!F15","v":0},{"$f":"Graphs!K15","v":0},{"$f":"Graphs!L15","v":0}]
[null,"AGROPYRON SMITHII","AGSM","Western Wheatgrass (PASM)",null,"ACCO2","ACACIA CONSTRICTA","Whitethorn acacia",null,null,"Alkali muhly","MUAS",null,null,null,null,{"$f":"Graphs!E16","v":0},{"$f":"Graphs!F16","v":0},{"$f":"Graphs!K16","v":0},{"$f":"Graphs!L16","v":0}]
[null,"AGROSTIS GIGANTEA","AGGI2","Redtop",null,"ACCO4","ACONITUM COLUMBIANUM ","Columbian monkshood",null,null,"Alkali plantain","PLER",null,null,null," ",{"$f":"Graphs!E17","v":0},{"$f":"Graphs!F17","v":0},{"$f":"Graphs!K17","v":0},{"$f":"Graphs!L17","v":0}]
[null,"AGROSTIS SCABRA","AGSC5","Rough Bentgrass",null,"ACER","ACER SPP.","Maple spp.",null,null,"Alkali sacaton","SPAI",null,null,null,null,{"$f":"Graphs!E18","v":0},{"$f":"Graphs!F18","v":0},{"$f":"Graphs!K18","v":0},{"$f":"Graphs!L18","v":0}]
[null,"AGROSTIS STOLONIFERA","AGST2","Creeping bentgrass",null,"ACGL","ACER GLABRUM","Rocky Mountain Maple",null,null,"Alpine leafybract aster (ASFO)","SYFO2",null,null,null,null,{"$f":"Graphs!E19","v":0},{"$f":"Graphs!F19","v":0},{"$f":"Graphs!K19","v":0},{"$f":"Graphs!L19","v":0}]
[null,"ALOPECURUS AEQUALIS","ALAE","Short-awned foxtail",null,"ACGR","ACACIA GREGGII","Catclaw acacia",null,null,"American bistort","POBI6",null,null,null,null,{"$f":"Graphs!E20","v":0},{"$f":"Graphs!F20","v":0},{"$f":"Graphs!K20","v":0},{"$f":"Graphs!L20","v":0}]
[null,"ALOPECURUS ARUNDINACEUS","ALAR","Creeping meadow foxgrass",null,"ACGR3","ACER GRANDIDENTATUM","Big tooth maple",null,null,"American black currant","RIAM2",null,null,null,null,{"$f":"Graphs!E21","v":0},{"$f":"Graphs!F21","v":0},{"$f":"Graphs!K21","v":0},{"$f":"Graphs!L21","v":0}]
[null,"ALOPECURUS GENICULATUS","ALGE2","Water Foxtail",null,"ACHNA","ACHNATHERUM Spp.","Needlegrass (STIPA)",null,null,"American Elm","ULAM",null,null,null,null,{"$f":"Graphs!E22","v":0},{"$f":"Graphs!F22","v":0},{"$f":"Graphs!K22","v":0},{"$f":"Graphs!L22","v":0}]
[null,"ALOPECURUS PRETENSIS","ALPR3","Meadow Foxtail",null,"ACMA3","ACER MACROPHYLLUM ","Big leaf maple",null,null,"American licorice","GLLE3",null,null,null,null,{"$f":"Graphs!E23","v":0},{"$f":"Graphs!F23","v":0},{"$f":"Graphs!K23","v":0},{"$f":"Graphs!L23","v":0}]
[null,"ALOPECURUS SPP.","ALOPE","Foxtail",null,"ACMI2","ACHILLEA MILLEFOLIUM ","Common yarrow",null,null,"American mannagrass","GLGR",null,null,null,null,{"$f":"Graphs!E24","v":0},{"$f":"Graphs!F24","v":0},{"$f":"Graphs!K24","v":0},{"$f":"Graphs!L24","v":0}]
[null,"ANDROPOGON GERARDII","ANGE","Big bluestem",null,"ACNE2","ACER NEGUNDO","Boxelder",null,null,"American plum","PRAM",{"$f":"IF(Graphs!A24=\"\",\"\",Graphs!A24)","v":""},null,null,null,{"$f":"Graphs!E25","v":0},{"$f":"Graphs!F25","v":0},{"$f":"Graphs!K25","v":0},{"$f":"Graphs!L25","v":0}]
[null,"ARUNDO DONAX","ARDO4","Giant reed",null,"ACNE9","ACHNATHERUM NELSONII","Columbia needlegrass (STCO3)",null,null,"American red raspberry","RUID",{"$f":"IF(Graphs!A25=\"\",\"\",Graphs!A25)","v":""},null,null,null,{"$f":"Graphs!E26","v":0},{"$f":"Graphs!F26","v":0},{"$f":"Graphs!K26","v":0},{"$f":"Graphs!L26","v":0}]
[null,"BECKMANNIA SYZIGACHNE","BESY","American sloughgrass",null,"ACRU2","ACTAEA RUBRA ","Baneberry",null,null,"American sloughgrass","BESY",{"$f":"IF(Graphs!A26=\"\",\"\",Graphs!A26)","v":""},null,null,null,{"$f":"Graphs!E27","v":0},{"$f":"Graphs!F27","v":0},{"$f":"Graphs!K27","v":0},{"$f":"Graphs!L27","v":0}]
[null,"BROMUS INERMIS","BRIN2","Smooth brome",null,"AGFO","AGASTACHE FOENICULUM ","Blue giant hyssop",null,null,"American speedwell","VEAM2",{"$f":"IF(Graphs!A27=\"\",\"\",Graphs!A27)","v":""},null,null,null,{"$f":"Graphs!E28","v":0},{"$f":"Graphs!F28","v":0},{"$f":"Graphs!K28","v":0},{"$f":"Graphs!L28","v":0}]
[null,"BROMUS MARGINATUS","BRMA4","Mountain brome",null,"AGGI2","AGROSTIS GIGANTEA","Redtop",null,null,"American vetch","VIAM","ACHNA",null,null,null,{"$f":"Graphs!E29","v":0},{"$f":"Graphs!F29","v":0},{"$f":"Graphs!K29","v":0},{"$f":"Graphs!L29","v":0}]
[null,"BROMUS TECTORUM","BRTE","Cheatgrass",null,"AGGR2","AGRIMONIA GRYPOSEPALA ","Tall hairy agrimony",null,null,"American water horehound","LYAM",{"$f":"IF(Graphs!A29=\"\",\"\",Graphs!A29)","v":""},null,null,null,{"$f":"Graphs!E30","v":0},{"$f":"Graphs!F30","v":0},{"$f":"Graphs!K30","v":0},{"$f":"Graphs!L30","v":0}]
[null,"CALAMAGROSTIS CANADENSIS","CACA4","Blue-joint reedgrass",null,"AGRE2","AGROPYRON REPENS","Quackgrass (ELRE2)",null,null,"Annual rabbitsfoot grass","POMO5",{"$f":"IF(Graphs!A30=\"\",\"\",Graphs!A30)","v":""},null,null,null,{"$f":"Graphs!E31","v":0},{"$f":"Graphs!F31","v":0},{"$f":"Graphs!K31","v":0},{"$f":"Graphs!L31","v":0}]
[null,"CALMAGROSTIS STRICTA","CAST36","Slimstem reedgrass",null,"AGSC5","AGROSTIS SCABRA","Rough Bentgrass",null,null,"Arctic willow","SAAR27",{"$f":"IF(Graphs!A31=\"\",\"\",Graphs!A31)","v":""},null,null,null,{"$f":"Graphs!E32","v":0},{"$f":"Graphs!F32","v":0},{"$f":"Graphs!K32","v":0},{"$f":"Graphs!L32","v":0}]
[null,"CAREX ALOPECOIDEA","CAAL8","Foxtail sedge",null,"AGSM","AGROPYRON SMITHII","Western Wheatgrass (PASM)",null,null,"Arizona alder","ALOB2",{"$f":"IF(Graphs!A32=\"\",\"\",Graphs!A32)","v":""},null,null,null,{"$f":"Graphs!E33","v":0},{"$f":"Graphs!F33","v":0},{"$f":"Graphs!K33","v":0},{"$f":"Graphs!L33","v":0}]
[null,"CAREX AMPLIFOLIA","CAAM10","Bigleaf sedge",null,"AGST","AGRIMONIA STRIATA ","Roadside agrimony",null,null,"Arizona Sycamore","PLWR2",{"$f":"IF(Graphs!A33=\"\",\"\",Graphs!A33)","v":""},null,null,null,{"$f":"Graphs!E34","v":0},{"$f":"Graphs!F34","v":0},{"$f":"Graphs!K34","v":0},{"$f":"Graphs!L34","v":0}]
[null,"CAREX AQUATILIS","CAAQ","Water sedge",null,"AGST2","AGROSTIS STOLONIFERA","Creeping bentgrass",null,null,"Arizona walnut","JUMA",{"$f":"IF(Graphs!A34=\"\",\"\",Graphs!A34)","v":""},null,null,null,{"$f":"Graphs!E35","v":0},{"$f":"Graphs!F35","v":0},{"$f":"Graphs!K35","v":0},{"$f":"Graphs!L35","v":0}]
[null,"CAREX ATHERODES","CAAT2","Wheat sedge",null,"AGUR","AGASTACHE URTICIFOLIA  ","Needleleaf giant hyssop",null,null,"Arizona willow","SAAR14",{"$f":"IF(Graphs!A35=\"\",\"\",Graphs!A35)","v":""},null,null,null,{"$f":"Graphs!E36","v":0},{"$f":"Graphs!F36","v":0},{"$f":"Graphs!K36","v":0},{"$f":"Graphs!L36","v":0}]
[null,"CAREX ATHROSTACHYA","CAAT3","Slenderbeak sedge",null,"ALAE","ALOPECURUS AEQUALIS","Short-awned foxtail",null,null,"Aromatic aster","SYOB",{"$f":"IF(Graphs!A36=\"\",\"\",Graphs!A36)","v":""},null,null,null,{"$f":"Graphs!E37","v":0},{"$f":"Graphs!F37","v":0},{"$f":"Graphs!K37","v":0},{"$f":"Graphs!L37","v":0}]
[null,"CAREX AUREA","CAAU3","Golden sedge",null,"ALAR","ALOPECURUS ARUNDINACEUS","Creeping meadow foxgrass",null,null,"Arrowleaf ragwort","SETR",{"$f":"IF(Graphs!A37=\"\",\"\",Graphs!A37)","v":""},null,null,null,{"$f":"Graphs!E38","v":0},{"$f":"Graphs!F38","v":0},{"$f":"Graphs!K38","v":0},{"$f":"Graphs!L38","v":0}]
[null,"CAREX CANESCENS","CACA11","Gray sedge",null,"ALGE2","ALOPECURUS GENICULATUS","Water Foxtail",null,null,"Arrowweed","PLSE",{"$f":"IF(Graphs!A38=\"\",\"\",Graphs!A38)","v":""},null,null,null,{"$f":"Graphs!E39","v":0},{"$f":"Graphs!F39","v":0},{"$f":"Graphs!K39","v":0},{"$f":"Graphs!L39","v":0}]
[null,"CAREX CAPILLARIS","CACA12","Hairlike sedge",null,"ALIN2","ALNUS INCANA","Mountain Alder",null,null,"Arroyo willow","SALA6",{"$f":"IF(Graphs!A39=\"\",\"\",Graphs!A39)","v":""},null,null,null,{"$f":"Graphs!E40","v":0},{"$f":"Graphs!F40","v":0},{"$f":"Graphs!K40","v":0},{"$f":"Graphs!L40","v":0}]
[null,"CAREX DEWEYANA","CADE9","Dewey sedge",null,"ALOB2","ALNUS OBLONGIFOLIA ","Arizona alder",null,null,"Artic rush (JUBA)","JUAR2",{"$f":"IF(Graphs!A40=\"\",\"\",Graphs!A40)","v":""},null,null,null,{"$f":"Graphs!E41","v":0},{"$f":"Graphs!F41","v":0},{"$f":"Graphs!K41","v":0},{"$f":"Graphs!L41","v":0}]
[null,"CAREX DISPERMA","CADI6","Softleaf sedge",null,"ALOC2","ALLENROLFEA OCCICENTALIS","Iodine Bush",null,null,"Arumleaf arrowhead","SACU",{"$f":"IF(Graphs!A41=\"\",\"\",Graphs!A41)","v":""},null,null,null,{"$f":"Graphs!E42","v":0},{"$f":"Graphs!F42","v":0},{"$f":"Graphs!K42","v":0},{"$f":"Graphs!L42","v":0}]
[null,"CAREX DOUGLASII","CADO2","Douglas' sedge",null,"ALOPE","ALOPECURUS SPP.","Foxtail",null,null,"Aster","ASTER",{"$f":"IF(Graphs!A42=\"\",\"\",Graphs!A42)","v":""},null,null,null,{"$f":"Graphs!E43","v":0},{"$f":"Graphs!F43","v":0},{"$f":"Graphs!K43","v":0},{"$f":"Graphs!L43","v":0}]
[null,"CAREX GRAVIDA","CAGR4","Heavy Sedge",null,"ALPR3","ALOPECURUS PRETENSIS","Meadow Foxtail",null,null,"Aster Spp.","EURYB",{"$f":"IF(Graphs!A43=\"\",\"\",Graphs!A43)","v":""},null,null,null,{"$f":"Graphs!E44","v":0},{"$f":"Graphs!F44","v":0},{"$f":"Graphs!K44","v":0},{"$f":"Graphs!L44","v":0}]
[null,"CAREX HAYDENII","CAHA7","Hayden's sedge",null,"ALRH2","ALNUS RHOBIFOLIA ","White alder",null,null,"Aster Spp. (ASTER)","SYMPH4",{"$f":"IF(Graphs!A44=\"\",\"\",Graphs!A44)","v":""},null,null,null,{"$f":"Graphs!E45","v":0},{"$f":"Graphs!F45","v":0},{"$f":"Graphs!K45","v":0},{"$f":"Graphs!L45","v":0}]
[null,"CAREX HETERONEURA","CAHE8","Different-nerved sedge",null,"ALRU2","ALNUS RUBRA ","Red alder",null,null,"Autumn willow","SASE2",{"$f":"IF(Graphs!A45=\"\",\"\",Graphs!A45)","v":""},null,null,null,{"$f":"Graphs!E46","v":0},{"$f":"Graphs!F46","v":0},{"$f":"Graphs!K46","v":0},{"$f":"Graphs!L46","v":0}]
[null,"CAREX HYSTERICINA","CAHY4","Bottlebrush sedge",null,"ALSI3","ALNUS SINUATA","Sitka alder (ALVI5)",null,null,"Avens species","GEUM","BASA4",null,null,null,{"$f":"Graphs!E47","v":0},{"$f":"Graphs!F47","v":0},{"$f":"Graphs!K47","v":0},{"$f":"Graphs!L47","v":0}]
[null,"CAREX INTERIOR","CAIN11","Inland sedge",null,"ALVI5","ALNUS VIRIDIS","Green alder (ALSI3)",null,null,"Awlfruit sedge","CAST5",{"$f":"IF(Graphs!A47=\"\",\"\",Graphs!A47)","v":""},null,null,null,{"$f":"Graphs!E48","v":0},{"$f":"Graphs!F48","v":0},{"$f":"Graphs!K48","v":0},{"$f":"Graphs!L48","v":0}]
[null,"CAREX LASIOCARPA","CALA11","Wooly-fruit sedge",null,"AMAL2","AMELANCHIER ALNIFOLIA","Serviceberry",null,null,"Bald spikerush","ELER",{"$f":"IF(Graphs!A48=\"\",\"\",Graphs!A48)","v":""},null,null,null,{"$f":"Graphs!E49","v":0},{"$f":"Graphs!F49","v":0},{"$f":"Graphs!K49","v":0},{"$f":"Graphs!L49","v":0}]
[null,"CAREX LANUGINOSA","CALA30","Wooly sedge (CAPE42)",null,"AMAR2","AMBROSIA ARTEMISIIFOLIA ","Common ragweed",null,null,"Baltic rush (JUAR2)","JUBA",{"$f":"IF(Graphs!A49=\"\",\"\",Graphs!A49)","v":""},null,null,null,{"$f":"Graphs!E50","v":0},{"$f":"Graphs!F50","v":0},{"$f":"Graphs!K50","v":0},{"$f":"Graphs!L50","v":0}]
[null,"CAREX LENTICULARIS","CALE8","Tufted sedge",null,"AMFR","AMORPHA FRUTICOSA","False Indigo",null,null,"Baneberry","ACRU2",{"$f":"IF(Graphs!A50=\"\",\"\",Graphs!A50)","v":""},null,null,null,{"$f":"Graphs!E51","v":0},{"$f":"Graphs!F51","v":0},{"$f":"Graphs!K51","v":0},{"$f":"Graphs!L51","v":0}]
[null,"CAREX LEPTALEA","CALE10","Bristlystalked sedge",null,"AMNA","AMORPHA NANA","Dwarf wild indigo",null,null,"Barclay's willow","SABA3",{"$f":"IF(Graphs!A51=\"\",\"\",Graphs!A51)","v":""},null,null,null,{"$f":"Graphs!E52","v":0},{"$f":"Graphs!F52","v":0},{"$f":"Graphs!K52","v":0},{"$f":"Graphs!L52","v":0}]
[null,"CAREX LIMOSA","CALI7","Mud sedge",null,"AMPS","AMBROSIA PSILSTACHYA ","Cuman ragweed",null,null,"Barren-ground willow","SABR",{"$f":"IF(Graphs!A52=\"\",\"\",Graphs!A52)","v":""},null,null,null,{"$f":"Graphs!E53","v":0},{"$f":"Graphs!F53","v":0},{"$f":"Graphs!K53","v":0},{"$f":"Graphs!L53","v":0}]
[null,"CAREX MICROPTERA","CAMI7","Small-winged sedge",null,"AMTR","AMBROSIA TRIFIDA ","Great ragweed",null,null,"Basin big sagebrush","ARTR2",{"$f":"IF(Graphs!A53=\"\",\"\",Graphs!A53)","v":""},null,null,null,{"$f":"Graphs!E54","v":0},{"$f":"Graphs!F54","v":0},{"$f":"Graphs!K54","v":0},{"$f":"Graphs!L54","v":0}]
[null,"CAREX NEBRASCENSIS","CANE2","Nebraska sedge",null,"ANCA10","ANEMOPSIS CALIFORNICA ","Yerba mansa",null,null,"Basin Wildrye (ELCI2)","LECI4",{"$f":"IF(Graphs!A54=\"\",\"\",Graphs!A54)","v":""},null,null,null,{"$f":"Graphs!E55","v":0},{"$f":"Graphs!F55","v":0},{"$f":"Graphs!K55","v":0},{"$f":"Graphs!L55","v":0}]
[null,"CAREX PELLITA","CAPE42","Wooly sedge (CALA11)",null,"ANGE","ANDROPOGON GERARDII","Big bluestem",null,null,"Basin Wildrye (LECI4)","ELCI2",{"$f":"IF(Graphs!A55=\"\",\"\",Graphs!A55)","v":""},null,null,null,{"$f":"Graphs!E56","v":0},{"$f":"Graphs!F56","v":0},{"$f":"Graphs!K56","v":0},{"$f":"Graphs!L56","v":0}]
[null,"CAREX PRAEGRACILIS","CAPR5","Cluster field sedge",null,"ANKI","ANGELICA KINGII ","King's angelica",null,null,"Beaked hazelnut","COCO6",{"$f":"IF(Graphs!A56=\"\",\"\",Graphs!A56)","v":""},null,null,null,{"$f":"Graphs!E57","v":0},{"$f":"Graphs!F57","v":0},{"$f":"Graphs!K57","v":0},{"$f":"Graphs!L57","v":0}]
[null,"CAREX PRAIREA","CAPR6","Prairie sedge",null,"ANRO2","ANTENNARIA ROSEA ","Rosy pussytoes",null,null,"Beaked sedge","CARO6",{"$f":"IF(Graphs!A57=\"\",\"\",Graphs!A57)","v":""},null,null,null,{"$f":"Graphs!E58","v":0},{"$f":"Graphs!F58","v":0},{"$f":"Graphs!K58","v":0},{"$f":"Graphs!L58","v":0}]
[null,"CAREX ROSTRATA","CARO6","Beaked sedge",null,"APCA","APOCYNUM CANNABINUM ","Indianhemp",null,null,"Beaked spikerush","ELRO2",{"$f":"IF(Graphs!A58=\"\",\"\",Graphs!A58)","v":""},null,null,null,{"$f":"Graphs!E59","v":0},{"$f":"Graphs!F59","v":0},{"$f":"Graphs!K59","v":0},{"$f":"Graphs!L59","v":0}]
[null,"CAREX SARTWELLII","CASA8","Sartwell's sedge",null,"AQFO","AQUILEGIA FORMOSA ","Western columbine",null,null,"Bearberry","ARUV",{"$f":"IF(Graphs!A59=\"\",\"\",Graphs!A59)","v":""},null,null,null,{"$f":"Graphs!E60","v":0},{"$f":"Graphs!F60","v":0},{"$f":"Graphs!K60","v":0},{"$f":"Graphs!L60","v":0}]
[null,"CAREX SAXATILIS","CASA10","Rocky Mountain sedge",null,"ARAN7","ARGENTINA ANSERINA ","Silverweed cinquefoil (POAN5)",null,null,"Beardless Rabbitsfoot grass","POVI9",{"$f":"IF(Graphs!A60=\"\",\"\",Graphs!A60)","v":""},null,null,null,{"$f":"Graphs!E61","v":0},{"$f":"Graphs!F61","v":0},{"$f":"Graphs!K61","v":0},{"$f":"Graphs!L61","v":0}]
[null,"CAREX SAXIMONTANA","CASA9","Rocky Mountain sedge",null,"ARCA13","ARTEMISIA CANA","Silver sagebrush",null,null,"Beardless wildrye (ELTR3)","LETR5",{"$f":"IF(Graphs!A61=\"\",\"\",Graphs!A61)","v":""},null,null,null,{"$f":"Graphs!E62","v":0},{"$f":"Graphs!F62","v":0},{"$f":"Graphs!K62","v":0},{"$f":"Graphs!L62","v":0}]
[null,"CAREX SCOPULORUM","CASC12","Mountain sedge",null,"ARCH3","ARNICA CHAMISSONIS ","Chamisso arnica",null,null,"Beardless wildrye (LETR5)","ELTR3",{"$f":"IF(Graphs!A62=\"\",\"\",Graphs!A62)","v":""},null,null,null,{"$f":"Graphs!E63","v":0},{"$f":"Graphs!F63","v":0},{"$f":"Graphs!K63","v":0},{"$f":"Graphs!L63","v":0}]
[null,"CAREX SHELDONII","CASH","Sheldon's sedge",null,"ARCO9","ARNICA CORDIFOLIA ","Heartleaf arnica",null,null,"Bebb willow","SABE2",{"$f":"IF(Graphs!A63=\"\",\"\",Graphs!A63)","v":""},null,null,null,{"$f":"Graphs!E64","v":0},{"$f":"Graphs!F64","v":0},{"$f":"Graphs!K64","v":0},{"$f":"Graphs!L64","v":0}]
[null,"CAREX SIMULATA","CASI2","Short-beaked sedge",null,"ARCTI","ARCTIUM SPP ","Burdock species",null,null,"Bedstraw","GALIU",{"$f":"IF(Graphs!A64=\"\",\"\",Graphs!A64)","v":""},null,null,null,{"$f":"Graphs!E65","v":""},{"$f":"Graphs!F65","v":""},{"$f":"Graphs!K65","v":""},{"$f":"Graphs!L65","v":""}]
[null,"CAREX SPP","CAREX","Sedge",null,"ARDO4","ARUNDO DONAX","Giant reed",null,null,"Big bluestem","ANGE",{"$f":"IF(Graphs!A65=\"\",\"\",Graphs!A65)","v":""},null,null,null,{"$f":"Graphs!E66","v":""},{"$f":"Graphs!F66","v":""},{"$f":"Graphs!K66","v":""},{"$f":"Graphs!L66","v":""}]
[null,"CAREX SPP RHIZOMATOUS","CAREXRH","Rhizomatous sedge",null,"ARLU","ARTEMISIA LUDOVICIANA ","White sagebrush",null,null,"Big leaf maple","ACMA3",{"$f":"IF(Graphs!A66=\"\",\"\",Graphs!A66)","v":""},null,null,null,{"$f":"Graphs!E67","v":""},{"$f":"Graphs!F67","v":""},{"$f":"Graphs!K67","v":""},{"$f":"Graphs!L67","v":""}]
[null,"CAREX SPP TUFTED","CAREXTU","Tufted (clumped) sedge",null,"ARMI2","ARCTIUM MINUS ","Common burdock",null,null,"Big sacaton","SPWR2",{"$f":"IF(Graphs!A67=\"\",\"\",Graphs!A67)","v":""},null,null,null,{"$f":"Graphs!E68","v":""},{"$f":"Graphs!F68","v":""},{"$f":"Graphs!K68","v":""},{"$f":"Graphs!L68","v":""}]
[null,"CAREX STIPATA","CAST5","Awlfruit sedge",null,"ARTR2","ARTEMISIA TRIDENTATA","Basin big sagebrush",null,null,"Big saltbrush","ATLE",{"$f":"IF(Graphs!A68=\"\",\"\",Graphs!A68)","v":""},null,null,null,{"$f":"Graphs!E69","v":""},{"$f":"Graphs!F69","v":""},{"$f":"Graphs!K69","v":""},{"$f":"Graphs!L69","v":""}]
[null,"CAREX TENERA","CATE3","Quill sedge",null,"ARUV","ARCTOSTAPHYLOS UVA-URSI","Bearberry",null,null,"Big tooth maple","ACGR3",{"$f":"IF(Graphs!A69=\"\",\"\",Graphs!A69)","v":""},null,null,null,{"$f":"Graphs!E70","v":""},{"$f":"Graphs!F70","v":""},{"$f":"Graphs!K70","v":""},{"$f":"Graphs!L70","v":""}]
[null,"CAREX UTRICULATA","CAUT","Northwest territory sedge (Beaked sedge)",null,"ASCH2","ASTER CHILENSIS ","Western Aster (SYCH4)",null,null,"Bigleaf sedge","CAAM10",{"$f":"IF(Graphs!A70=\"\",\"\",Graphs!A70)","v":""},null,null,null,{"$f":"Graphs!E71","v":""},{"$f":"Graphs!F71","v":""},{"$f":"Graphs!K71","v":""},{"$f":"Graphs!L71","v":""}]
[null,"CAREX VESICARIA","CAVE6","Blister sedge",null,"ASFO","ASTER FOLIACEUS","Leafy aster (SYFO2)",null,null,"Bitter cherry","PREM",{"$f":"IF(Graphs!A71=\"\",\"\",Graphs!A71)","v":""},null,null,null,{"$f":"Graphs!E72","v":""},{"$f":"Graphs!F72","v":""},{"$f":"Graphs!K72","v":""},{"$f":"Graphs!L72","v":""}]
[null,"CAREX VULPINOIDEA","CAVU2","Fox sedge",null,"ASHE","ASTER HESPERIUS ","Marsh aster (SYLA6)",null,null,"Black cottonwood (POBA2)","POTR15",{"$f":"IF(Graphs!A72=\"\",\"\",Graphs!A72)","v":""},null,null,null,{"$f":"Graphs!E73","v":""},{"$f":"Graphs!F73","v":""},{"$f":"Graphs!K73","v":""},{"$f":"Graphs!L73","v":""}]
[null,"CATABROSA AQUATICA","CAAQ3","Water whorlgrass",null,"ASIN3","ASTER INTEGRIFOLIUS ","Thickstem Aster (EUIN9)",null,null,"Black cottonwood (POTR15)","POBA2",{"$f":"IF(Graphs!A73=\"\",\"\",Graphs!A73)","v":""},null,null,null,{"$f":"Graphs!E74","v":""},{"$f":"Graphs!F74","v":""},{"$f":"Graphs!K74","v":""},{"$f":"Graphs!L74","v":""}]
[null,"CYPERUS ACUMINATUS","CYAC2","Tapered leaf flatsedge",null,"ASOC","ASTER OCCIDENTALIS ","Western mountain aster (SYST)",null,null,"Black Elderberry","SANI4",{"$f":"IF(Graphs!A74=\"\",\"\",Graphs!A74)","v":""},null,null,null,{"$f":"Graphs!E75","v":""},{"$f":"Graphs!F75","v":""},{"$f":"Graphs!K75","v":""},{"$f":"Graphs!L75","v":""}]
[null,"DACTYLIS GLOMERATA","DAGL","Orchardgrass",null,"ASTE5","ASTRAGALUS TENELLUS ","Pulse milkvetch",null,null,"Black hawthorn","CRDO2",{"$f":"IF(Graphs!A75=\"\",\"\",Graphs!A75)","v":""},null,null,null,{"$f":"Graphs!E76","v":""},{"$f":"Graphs!F76","v":""},{"$f":"Graphs!K76","v":""},{"$f":"Graphs!L76","v":""}]
[null,"DANTHONIA CALIFORNICA","DACA3","California oatgrass",null,"ASTER","ASTER SPP. ","Aster",null,null,"Black medick","MELU",{"$f":"IF(Graphs!A76=\"\",\"\",Graphs!A76)","v":""},null,null,null,{"$f":"Graphs!E77","v":""},{"$f":"Graphs!F77","v":""},{"$f":"Graphs!K77","v":""},{"$f":"Graphs!L77","v":""}]
[null,"DANTHONIA INTERMEDIA","DAIN","Timber oatgrass",null,"ATCA2","ATRIPLEX CONESCENS","Fourwing saltbrush",null,null,"Black Twinberry","LOIN5",{"$f":"IF(Graphs!A77=\"\",\"\",Graphs!A77)","v":""},null,null,null,{"$f":"Graphs!E78","v":""},{"$f":"Graphs!F78","v":""},{"$f":"Graphs!K78","v":""},{"$f":"Graphs!L78","v":""}]
[null,"DESCHAMPSIA CESPITOSA","DECE","Tufted hairgrass",null,"ATLE","ATRIPLEX LENTIFORMIS","Big saltbrush",null,null,"Blackberry species","RUBUS",{"$f":"IF(Graphs!A78=\"\",\"\",Graphs!A78)","v":""},null,null,null,{"$f":"Graphs!E79","v":""},{"$f":"Graphs!F79","v":""},{"$f":"Graphs!K79","v":""},{"$f":"Graphs!L79","v":""}]
[null,"DISTICHLIS SPICATA","DISP","Inland saltgrass",null,"BAEM","BACCHARIS EMORYI","Emory's baccharis",null,null,"Blackeyed susan","RUHI2",{"$f":"IF(Graphs!A79=\"\",\"\",Graphs!A79)","v":""},null,null,null,{"$f":"Graphs!E80","v":""},{"$f":"Graphs!F80","v":""},{"$f":"Graphs!K80","v":""},{"$f":"Graphs!L80","v":""}]
[null,"ECHINOCHLOA MURICATA","ECMU2","Rough barnyardgrass",null,"BASA4","BACCHARIS SALICIFOLIA","Willow Baccharis",null,null,"Blackgirdle bulrush","SCAT4",{"$f":"IF(Graphs!A80=\"\",\"\",Graphs!A80)","v":""},null,null,null,{"$f":"Graphs!E81","v":""},{"$f":"Graphs!F81","v":""},{"$f":"Graphs!K81","v":""},{"$f":"Graphs!L81","v":""}]
[null,"ELEOCHARIS ACICULARIS","ELAC","Needle spikerush",null,"BASC5","BASIA SCOPARIA ","Burning bush (KOSC)",null,null,"Blister sedge","CAVE6",{"$f":"IF(Graphs!A81=\"\",\"\",Graphs!A81)","v":""},null,null,null,{"$f":"Graphs!E82","v":""},{"$f":"Graphs!F82","v":""},{"$f":"Graphs!K82","v":""},{"$f":"Graphs!L82","v":""}]
[null,"ELEOCHARIS ERYTHROPODA","ELER","Bald spikerush",null,"BEER","BERULA ERECTA ","Cut-leaf water parsnip",null,null,"Blue giant hyssop","AGFO",{"$f":"IF(Graphs!A82=\"\",\"\",Graphs!A82)","v":""},null,null,null,{"$f":"Graphs!E83","v":""},{"$f":"Graphs!F83","v":""},{"$f":"Graphs!K83","v":""},{"$f":"Graphs!L83","v":""}]
[null,"ELEOCHARIS PALUSTRIS","ELPA3","Common spikerush",null,"BEGL","BETULA GLANDULOSA","Resin birch",null,null,"Blue spruce","PIPU",{"$f":"IF(Graphs!A83=\"\",\"\",Graphs!A83)","v":""},null,null,null,{"$f":"Graphs!E84","v":""},{"$f":"Graphs!F84","v":""},{"$f":"Graphs!K84","v":""},{"$f":"Graphs!L84","v":""}]
[null,"ELEOCHARIS PARVULA","ELPA5","Dwarf spikerush",null,"BEOC2","BETULA OCCIDENTALIS","Water birch",null,null,"Blueberry","VACA",{"$f":"IF(Graphs!A84=\"\",\"\",Graphs!A84)","v":""},null,null,null,{"$f":"Graphs!E85","v":""},{"$f":"Graphs!F85","v":""},{"$f":"Graphs!K85","v":""},{"$f":"Graphs!L85","v":""}]
[null,"ELEOCHARIS PAUCIFLORA","ELPA6","Fewflowered spikerush (ELQU2)",null,"BEPA","BETULA PAPYRIFERA ","Paper birch",null,null,"Bluegrass species","POA",{"$f":"IF(Graphs!A85=\"\",\"\",Graphs!A85)","v":""},null,null,null,{"$f":"Graphs!E86","v":""},{"$f":"Graphs!F86","v":""},{"$f":"Graphs!K86","v":""},{"$f":"Graphs!L86","v":""}]
[null,"ELEOCHARIS QUINQUEFLORA","ELQU2","Fewflowered spikerush (ELPA6)",null,"BEPU4","BETULA PUMULA","Bog Birch",null,null,"Blue-joint reedgrass","CACA4",{"$f":"IF(Graphs!A86=\"\",\"\",Graphs!A86)","v":""},null,null,null,{"$f":"Graphs!E87","v":""},{"$f":"Graphs!F87","v":""},{"$f":"Graphs!K87","v":""},{"$f":"Graphs!L87","v":""}]
[null,"ELEOCHARIS ROSTELLATA","ELRO2","Beaked spikerush",null,"BESY","BECKMANNIA SYZIGACHNE","American sloughgrass",null,null,"Bog Birch","BEPU4",{"$f":"IF(Graphs!A87=\"\",\"\",Graphs!A87)","v":""},null,null,null,{"$f":"Graphs!E88","v":""},{"$f":"Graphs!F88","v":""},{"$f":"Graphs!K88","v":""},{"$f":"Graphs!L88","v":""}]
[null,"ELEOCHARIS SPECIES","ELEOC","Spikerush",null,"BRIN2","BROMUS INERMIS","Smooth brome",null,null,"Bog blueberry","VAUL",{"$f":"IF(Graphs!A88=\"\",\"\",Graphs!A88)","v":""},null,null,null,{"$f":"Graphs!E89","v":""},{"$f":"Graphs!F89","v":""},{"$f":"Graphs!K89","v":""},{"$f":"Graphs!L89","v":""}]
[null,"ELYHORDEUM MACOUNII","ELMA8","Macoun’s barley",null,"BRMA4","BROMUS MARGINATUS","Mountain brome",null,null,"Bog Laurel","KAMI",{"$f":"IF(Graphs!A89=\"\",\"\",Graphs!A89)","v":""},null,null,null,{"$f":"Graphs!E90","v":""},{"$f":"Graphs!F90","v":""},{"$f":"Graphs!K90","v":""},{"$f":"Graphs!L90","v":""}]
[null,"ELYMUS CANADENSIS","ELCA4","Canada wildrye",null,"BRTE","BROMUS TECTORUM","Cheatgrass",null,null,"Bonpland willow","SABO",{"$f":"IF(Graphs!A90=\"\",\"\",Graphs!A90)","v":""},null,null,null,{"$f":"Graphs!E91","v":""},{"$f":"Graphs!F91","v":""},{"$f":"Graphs!K91","v":""},{"$f":"Graphs!L91","v":""}]
[null,"ELYMUS CINEREUS","ELCI2","Basin Wildrye (LECI4)",null,"CAAL8","CAREX ALOPECOIDEA","Foxtail sedge",null,null,"Booth's willow","SABO2",{"$f":"IF(Graphs!A91=\"\",\"\",Graphs!A91)","v":""},null,null,null,{"$f":"Graphs!E92","v":""},{"$f":"Graphs!F92","v":""},{"$f":"Graphs!K92","v":""},{"$f":"Graphs!L92","v":""}]
[null,"ELYMUS REPENS","ELRE4","Quackgrass (AGRE2)",null,"CAAM10","CAREX AMPLIFOLIA","Bigleaf sedge",null,null,"Bottlebrush sedge","CAHY4",{"$f":"IF(Graphs!A92=\"\",\"\",Graphs!A92)","v":""},null,null,null,{"$f":"Graphs!E93","v":""},{"$f":"Graphs!F93","v":""},{"$f":"Graphs!K93","v":""},{"$f":"Graphs!L93","v":""}]
[null,"ELYMUS TRACHYCAULUS","ELTR7","Slender wheatgrass",null,"CAAQ","CAREX AQUATILIS","Water sedge",null,null,"Boxelder","ACNE2",{"$f":"IF(Graphs!A93=\"\",\"\",Graphs!A93)","v":""},null,null,null,{"$f":"Graphs!E94","v":""},{"$f":"Graphs!F94","v":""},{"$f":"Graphs!K94","v":""},{"$f":"Graphs!L94","v":""}]
[null,"ELYMUS TRITICOIDES","ELTR3","Beardless wildrye (LETR5)",null,"CAAQ3","CATABROSA AQUATICA","Water whorlgrass",null,null,"Bristlystalked sedge","CALE10",{"$f":"IF(Graphs!A94=\"\",\"\",Graphs!A94)","v":""},null,null,null,{"$f":"Graphs!E95","v":""},{"$f":"Graphs!F95","v":""},{"$f":"Graphs!K95","v":""},{"$f":"Graphs!L95","v":""}]
[null,"FESTUCA RUBRA","FERU2","Red Fescue",null,"CAAT2","CAREX ATHERODES","Wheat sedge",null,null,"Broadleaf Cattail","TYLA",{"$f":"IF(Graphs!A95=\"\",\"\",Graphs!A95)","v":""},null,null,null,{"$f":"Graphs!E96","v":""},{"$f":"Graphs!F96","v":""},{"$f":"Graphs!K96","v":""},{"$f":"Graphs!L96","v":""}]
[null,"GLYCERIA BOREALIS","GLBO","Small floating mannagrass",null,"CAAT3","CAREX ATHROSTACHYA","Slenderbeak sedge",null,null,"Brook saxifrage","SAOD2",{"$f":"IF(Graphs!A96=\"\",\"\",Graphs!A96)","v":""},null,null,null,{"$f":"Graphs!E97","v":""},{"$f":"Graphs!F97","v":""},{"$f":"Graphs!K97","v":""},{"$f":"Graphs!L97","v":""}]
[null,"GLYCERIA GRANDIS","GLGR","American mannagrass",null,"CAAU3","CAREX AUREA","Golden sedge",null,null,"Buckbean","METR3",{"$f":"IF(Graphs!A97=\"\",\"\",Graphs!A97)","v":""},null,null,null,{"$f":"Graphs!E98","v":""},{"$f":"Graphs!F98","v":""},{"$f":"Graphs!K98","v":""},{"$f":"Graphs!L98","v":""}]
[null,"GLYCERIA SPECIES","GLYCE","Mannagrass",null,"CACA11","CAREX CANESCENS","Gray sedge",null,null,"Buffalo currant (RIAU)","RIOD",{"$f":"IF(Graphs!A98=\"\",\"\",Graphs!A98)","v":""},null,null,null,{"$f":"Graphs!E99","v":""},{"$f":"Graphs!F99","v":""},{"$f":"Graphs!K99","v":""},{"$f":"Graphs!L99","v":""}]
[null,"GLYCERIA STRIATA","GLST","Fowl mannagrass",null,"CACA12","CAREX CAPILLARIS","Hairlike sedge",null,null,"Bulrush species","SCHOE6",{"$f":"IF(Graphs!A99=\"\",\"\",Graphs!A99)","v":""},null,null,null,{"$f":"Graphs!E100","v":""},{"$f":"Graphs!F100","v":""},{"$f":"Graphs!K100","v":""},{"$f":"Graphs!L100","v":""}]
[null,"HORDEUM BRACHYANTHERUM","HOBR2","Meadow barley",null,"CACA4","CALAMAGROSTIS CANADENSIS","Blue-joint reedgrass",null,null,"Bunchberry dogwood","COCA13",{"$f":"IF(Graphs!A100=\"\",\"\",Graphs!A100)","v":""},null,null,null,{"$f":"Graphs!E101","v":""},{"$f":"Graphs!F101","v":""},{"$f":"Graphs!K101","v":""},{"$f":"Graphs!L101","v":""}]
[null,"HORDEUM JUBATUM","HOJU","Foxtail barley",null,"CACU2","CAMASSIA CUSICKII ","Cusick's camas",null,null,"Bur oak","QUMA2",{"$f":"IF(Graphs!A101=\"\",\"\",Graphs!A101)","v":""},null,null,null,{"$f":"Graphs!E102","v":""},{"$f":"Graphs!F102","v":""},{"$f":"Graphs!K102","v":""},{"$f":"Graphs!L102","v":""}]
[null,"JUNCUS ARCTICUS","JUAR2","Artic rush (JUBA)",null,"CADE9","CAREX DEWEYANA","Dewey sedge",null,null,"Burdock species","ARCTI",{"$f":"IF(Graphs!A102=\"\",\"\",Graphs!A102)","v":""},null,null,null,{"$f":"Graphs!E103","v":""},{"$f":"Graphs!F103","v":""},{"$f":"Graphs!K103","v":""},{"$f":"Graphs!L103","v":""}]
[null,"JUNCUS BALTICUS","JUBA","Baltic rush (JUAR2)",null,"CADI6","CAREX DISPERMA","Softleaf sedge",null,null,"Burning bush (KOSC)","BASC5",{"$f":"IF(Graphs!A103=\"\",\"\",Graphs!A103)","v":""},null,null,null,{"$f":"Graphs!E104","v":""},{"$f":"Graphs!F104","v":""},{"$f":"Graphs!K104","v":""},{"$f":"Graphs!L104","v":""}]
[null,"JUNCUS BUFONIUS","JUBU","Toad Rush",null,"CADO2","CAREX DOUGLASII","Douglas' sedge",null,null,"Buttercup","RANUN",{"$f":"IF(Graphs!A104=\"\",\"\",Graphs!A104)","v":""},null,null,null,{"$f":"Graphs!E105","v":""},{"$f":"Graphs!F105","v":""},{"$f":"Graphs!K105","v":""},{"$f":"Graphs!L105","v":""}]
[null,"JUNCUS DUDLEYI","JUDU2","Dudley rush",null,"CAGR4","CAREX GRAVIDA","Heavy Sedge",null,null,"California false hellebore","VECA2",{"$f":"IF(Graphs!A105=\"\",\"\",Graphs!A105)","v":""},null,null,null,{"$f":"Graphs!E106","v":""},{"$f":"Graphs!F106","v":""},{"$f":"Graphs!K106","v":""},{"$f":"Graphs!L106","v":""}]
[null,"JUNCUS EFFUSUS","JUEF","Common rush",null,"CAHA7","CAREX HAYDENII","Hayden's sedge",null,null,"California loosestrife","LYCA4",{"$f":"IF(Graphs!A106=\"\",\"\",Graphs!A106)","v":""},null,null,null,{"$f":"Graphs!E107","v":""},{"$f":"Graphs!F107","v":""},{"$f":"Graphs!K107","v":""},{"$f":"Graphs!L107","v":""}]
[null,"JUNCUS ENSIFOLIUS","JUEN","Swordleaf rush",null,"CAHE8","CAREX HETERONEURA","Different-nerved sedge",null,null,"California oatgrass","DACA3",{"$f":"IF(Graphs!A107=\"\",\"\",Graphs!A107)","v":""},null,null,null,{"$f":"Graphs!E108","v":""},{"$f":"Graphs!F108","v":""},{"$f":"Graphs!K108","v":""},{"$f":"Graphs!L108","v":""}]
[null,"JUNCUS INTERIOR","JUIN2","Inland rush",null,"CAHY4","CAREX HYSTERICINA","Bottlebrush sedge",null,null,"Canada bluegrass","POCO",{"$f":"IF(Graphs!A108=\"\",\"\",Graphs!A108)","v":""},null,null,null,{"$f":"Graphs!E109","v":""},{"$f":"Graphs!F109","v":""},{"$f":"Graphs!K109","v":""},{"$f":"Graphs!L109","v":""}]
[null,"JUNCUS LONGISTYLIS","JULO","Longstyle rush",null,"CAIN11","CAREX INTERIOR","Inland sedge",null,null,"Canada goldenrod","SOCA6",{"$f":"IF(Graphs!A109=\"\",\"\",Graphs!A109)","v":""},null,null,null,{"$f":"Graphs!E110","v":""},{"$f":"Graphs!F110","v":""},{"$f":"Graphs!K110","v":""},{"$f":"Graphs!L110","v":""}]
[null,"JUNCUS MEXICANUS","JUME4","Mexican rush",null,"CALA11","CAREX LASIOCARPA","Wooly-fruit sedge",null,null,"Canada thistle","CIAR4",{"$f":"IF(Graphs!A110=\"\",\"\",Graphs!A110)","v":""},null,null,null,{"$f":"Graphs!E111","v":""},{"$f":"Graphs!F111","v":""},{"$f":"Graphs!K111","v":""},{"$f":"Graphs!L111","v":""}]
[null,"JUNCUS NEVADENSIS","JUNE","Sierra rush",null,"CALA30","CAREX LANUGINOSA","Wooly sedge (CAPE42)",null,null,"Canada violet","VICA4",{"$f":"IF(Graphs!A111=\"\",\"\",Graphs!A111)","v":""},null,null,null,{"$f":"Graphs!E112","v":""},{"$f":"Graphs!F112","v":""},{"$f":"Graphs!K112","v":""},{"$f":"Graphs!L112","v":""}]
[null,"JUNCUS NODOSUS","JUNO2","Knotted rush",null,"CALE10","CAREX LEPTALEA","Bristlystalked sedge",null,null,"Canada wildrye","ELCA4",{"$f":"IF(Graphs!A112=\"\",\"\",Graphs!A112)","v":""},null,null,null,{"$f":"Graphs!E113","v":""},{"$f":"Graphs!F113","v":""},{"$f":"Graphs!K113","v":""},{"$f":"Graphs!L113","v":""}]
[null,"JUNCUS ORTHOPHYLLUS","JUOR","Straightleaf rush",null,"CALE4","CALTHA LEPTOSEPALA ","White marsh marigold",null,null,"Canadian burnet","SACA14",{"$f":"IF(Graphs!A113=\"\",\"\",Graphs!A113)","v":""},null,null,null,{"$f":"Graphs!E114","v":""},{"$f":"Graphs!F114","v":""},{"$f":"Graphs!K114","v":""},{"$f":"Graphs!L114","v":""}]
[null,"JUNCUS SPECIES","JUNCU","Rush species",null,"CALE8","CAREX LENTICULARIS","Tufted sedge",null,null,"Cardinal flower","LOCA2",{"$f":"IF(Graphs!A114=\"\",\"\",Graphs!A114)","v":""},null,null,null,{"$f":"Graphs!E115","v":""},{"$f":"Graphs!F115","v":""},{"$f":"Graphs!K115","v":""},{"$f":"Graphs!L115","v":""}]
[null,"JUNCUS TENUIS","JUTE","Poverty rush",null,"CALI7","CAREX LIMOSA","Mud sedge",null,null,"Catclaw acacia","ACGR",{"$f":"IF(Graphs!A115=\"\",\"\",Graphs!A115)","v":""},null,null,null,{"$f":"Graphs!E116","v":""},{"$f":"Graphs!F116","v":""},{"$f":"Graphs!K116","v":""},{"$f":"Graphs!L116","v":""}]
[null,"JUNCUS TORREYI","JUTO","Torrey rush",null,"CAMI7","CAREX MICROPTERA","Small-winged sedge",null,null,"Cattail species","TYPHA",{"$f":"IF(Graphs!A116=\"\",\"\",Graphs!A116)","v":""},null,null,null,{"$f":"Graphs!E117","v":""},{"$f":"Graphs!F117","v":""},{"$f":"Graphs!K117","v":""},{"$f":"Graphs!L117","v":""}]
[null,"LEERSIA ORYZOIDES","LEOR","Rice cutgrass",null,"CANE2","CAREX NEBRASCENSIS","Nebraska sedge",null,null,"Ceanothus species","CEANO",{"$f":"IF(Graphs!A117=\"\",\"\",Graphs!A117)","v":""},null,null,null,{"$f":"Graphs!E118","v":""},{"$f":"Graphs!F118","v":""},{"$f":"Graphs!K118","v":""},{"$f":"Graphs!L118","v":""}]
[null,"LEYMUS CINEREUS","LECI4","Basin Wildrye (ELCI2)",null,"CANU4","CARDUUS NUTANS ","Nodding plumeless thistle (Musk thistle)",null,null,"Chairmaker's bulrush (SCAM2)","SCAM6",{"$f":"IF(Graphs!A118=\"\",\"\",Graphs!A118)","v":""},null,null,null,{"$f":"Graphs!E119","v":""},{"$f":"Graphs!F119","v":""},{"$f":"Graphs!K119","v":""},{"$f":"Graphs!L119","v":""}]
[null,"LEYMUS INNOVATUS","LEIN6","Fuzzyspike wildrye (Downy ryegrass)",null,"CAPE42","CAREX PELLITA","Wooly sedge (CALA11)",null,null,"Chairmaker's bulrush (SCAM6)","SCAM2",{"$f":"IF(Graphs!A119=\"\",\"\",Graphs!A119)","v":""},null,null,null,{"$f":"Graphs!E120","v":""},{"$f":"Graphs!F120","v":""},{"$f":"Graphs!K120","v":""},{"$f":"Graphs!L120","v":""}]
[null,"LEYMUS TRITICOIDES","LETR5","Beardless wildrye (ELTR3)",null,"CAPR5","CAREX PRAEGRACILIS","Cluster field sedge",null,null,"Chamisso arnica","ARCH3",{"$f":"IF(Graphs!A120=\"\",\"\",Graphs!A120)","v":""},null,null,null,{"$f":"Graphs!E121","v":""},{"$f":"Graphs!F121","v":""},{"$f":"Graphs!K121","v":""},{"$f":"Graphs!L121","v":""}]
[null,"MESIC GRASS","MG","Mesic grass",null,"CAPR6","CAREX PRAIREA","Prairie sedge",null,null,"Cheatgrass","BRTE",{"$f":"IF(Graphs!A121=\"\",\"\",Graphs!A121)","v":""},null,null,null,{"$f":"Graphs!E122","v":""},{"$f":"Graphs!F122","v":""},{"$f":"Graphs!K122","v":""},{"$f":"Graphs!L122","v":""}]
[null,"MUHLENBERGIA ANDINA","MUAN","Foxtail muhly",null,"CAQU2","CAMASSIA QUAMISH ","Common camas",null,null,"Chokecherry","PRVI",{"$f":"IF(Graphs!A122=\"\",\"\",Graphs!A122)","v":""},null,null,null,{"$f":"Graphs!E123","v":""},{"$f":"Graphs!F123","v":""},{"$f":"Graphs!K123","v":""},{"$f":"Graphs!L123","v":""}]
[null,"MUHLENBERGIA ASPERIFOLIA","MUAS","Alkali muhly",null,"CAREX","CAREX SPP","Sedge",null,null,"Climbing nightshade","SODU",{"$f":"IF(Graphs!A123=\"\",\"\",Graphs!A123)","v":""},null,null,null,{"$f":"Graphs!E124","v":""},{"$f":"Graphs!F124","v":""},{"$f":"Graphs!K124","v":""},{"$f":"Graphs!L124","v":""}]
[null,"MUHLENBERGIA CUSPIDATE","MUCU3","Plains muhly",null,"CAREXRH","CAREX SPP RHIZOMATOUS","Rhizomatous sedge",null,null,"Cloaked bulrush","SCPA8",{"$f":"IF(Graphs!A124=\"\",\"\",Graphs!A124)","v":""},null,null,null,{"$f":"Graphs!E125","v":""},{"$f":"Graphs!F125","v":""},{"$f":"Graphs!K125","v":""},{"$f":"Graphs!L125","v":""}]
[null,"MUHLENBERGIA FILIFOLIS","MUFI2","Slender muhly",null,"CAREXTU","CAREX SPP TUFTED","Tufted (clumped) sedge",null,null,"Clover Spp.","TRIFO",{"$f":"IF(Graphs!A125=\"\",\"\",Graphs!A125)","v":""},null,null,null,{"$f":"Graphs!E126","v":""},{"$f":"Graphs!F126","v":""},{"$f":"Graphs!K126","v":""},{"$f":"Graphs!L126","v":""}]
[null,"MUHLENBERGIA RACEMOSA","MURA","Marsh muhly",null,"CARO6","CAREX ROSTRATA","Beaked sedge",null,null,"Clumped willow","SALIXCL",{"$f":"IF(Graphs!A126=\"\",\"\",Graphs!A126)","v":""},null,null,null,{"$f":"Graphs!E127","v":""},{"$f":"Graphs!F127","v":""},{"$f":"Graphs!K127","v":""},{"$f":"Graphs!L127","v":""}]
[null,"MUHLENBERGIA RICHARDSONIS","MURI","Mat muhly",null,"CASA10","CAREX SAXATILIS","Rocky Mountain sedge",null,null,"Cluster field sedge","CAPR5",{"$f":"IF(Graphs!A127=\"\",\"\",Graphs!A127)","v":""},null,null,null,{"$f":"Graphs!E128","v":""},{"$f":"Graphs!F128","v":""},{"$f":"Graphs!K128","v":""},{"$f":"Graphs!L128","v":""}]
[null,"MUHLENBERGIA RIGENS","MURI2","Deergrass",null,"CASA8","CAREX SARTWELLII","Sartwell's sedge",null,null,"Cluster Rose","ROPI2",{"$f":"IF(Graphs!A128=\"\",\"\",Graphs!A128)","v":""},null,null,null,{"$f":"Graphs!E129","v":""},{"$f":"Graphs!F129","v":""},{"$f":"Graphs!K129","v":""},{"$f":"Graphs!L129","v":""}]
[null,"PANICUM CAPILLARE","PACA6","Witchgrass",null,"CASA9","CAREX SAXIMONTANA","Rocky Mountain sedge",null,null,"Columbia needlegrass (ACNE9)","STCO3",{"$f":"IF(Graphs!A129=\"\",\"\",Graphs!A129)","v":""},null,null,null,{"$f":"Graphs!E130","v":""},{"$f":"Graphs!F130","v":""},{"$f":"Graphs!K130","v":""},{"$f":"Graphs!L130","v":""}]
[null,"PANICUM OBTUSUM","PAOB","Vine mesquite",null,"CASC12","CAREX SCOPULORUM","Mountain sedge",null,null,"Columbia needlegrass (STCO3)","ACNE9",{"$f":"IF(Graphs!A130=\"\",\"\",Graphs!A130)","v":""},null,null,null,{"$f":"Graphs!E131","v":""},{"$f":"Graphs!F131","v":""},{"$f":"Graphs!K131","v":""},{"$f":"Graphs!L131","v":""}]
[null,"PANICUM VIRGATUM","PAVI2","Switchgrass",null,"CASH","CAREX SHELDONII","Sheldon's sedge",null,null,"Common buckthorn","RHCA3",{"$f":"IF(Graphs!A131=\"\",\"\",Graphs!A131)","v":""},null,null,null,{"$f":"Graphs!E132","v":""},{"$f":"Graphs!F132","v":""},{"$f":"Graphs!K132","v":""},{"$f":"Graphs!L132","v":""}]
[null,"PASCOPYRUM SMITHII","PASM","Western Wheatgrass (AGSM)",null,"CASI2","CAREX SIMULATA","Short-beaked sedge",null,null,"Common burdock","ARMI2",{"$f":"IF(Graphs!A132=\"\",\"\",Graphs!A132)","v":""},null,null,null,{"$f":"Graphs!E133","v":""},{"$f":"Graphs!F133","v":""},{"$f":"Graphs!K133","v":""},{"$f":"Graphs!L133","v":""}]
[null,"PASPALUM DILATATUM","PADI3","Dallisgrass",null,"CAST36","CALMAGROSTIS STRICTA","Slimstem reedgrass",null,null,"Common buttonbush","CEOC2",{"$f":"IF(Graphs!A133=\"\",\"\",Graphs!A133)","v":""},null,null,null,{"$f":"Graphs!E134","v":""},{"$f":"Graphs!F134","v":""},{"$f":"Graphs!K134","v":""},{"$f":"Graphs!L134","v":""}]
[null,"PASPALUM DISTICHUM","PADI6","Knotgrass",null,"CAST5","CAREX STIPATA","Awlfruit sedge",null,null,"Common camas","CAQU2",{"$f":"IF(Graphs!A134=\"\",\"\",Graphs!A134)","v":""},null,null,null,{"$f":"Graphs!E135","v":""},{"$f":"Graphs!F135","v":""},{"$f":"Graphs!K135","v":""},{"$f":"Graphs!L135","v":""}]
[null,"PHALARIS ARUNDINACEAE","PHAR3","Reed canarygrass",null,"CATE3","CAREX TENERA","Quill sedge",null,null,"Common Dandelion","TAOF",{"$f":"IF(Graphs!A135=\"\",\"\",Graphs!A135)","v":""},null,null,null,{"$f":"Graphs!E136","v":""},{"$f":"Graphs!F136","v":""},{"$f":"Graphs!K136","v":""},{"$f":"Graphs!L136","v":""}]
[null,"PHLEUM PRETENSE","PHPR3","Timothy",null,"CAUT","CAREX UTRICULATA","Northwest territory sedge (Beaked sedge)",null,null,"Common juniper","JUCO6",{"$f":"IF(Graphs!A136=\"\",\"\",Graphs!A136)","v":""},null,null,null,{"$f":"Graphs!E137","v":""},{"$f":"Graphs!F137","v":""},{"$f":"Graphs!K137","v":""},{"$f":"Graphs!L137","v":""}]
[null,"PHRAGMITES AUSTRALIS","PHAU7","Common reedgrass (PHCO15)",null,"CAVE6","CAREX VESICARIA","Blister sedge",null,null,"Common plantain","PLMA2",{"$f":"IF(Graphs!A137=\"\",\"\",Graphs!A137)","v":""},null,null,null,{"$f":"Graphs!E138","v":""},{"$f":"Graphs!F138","v":""},{"$f":"Graphs!K138","v":""},{"$f":"Graphs!L138","v":""}]
[null,"PHRAGMITES COMUNIS","PHCO15","Common reedgrass (PHAU7)",null,"CAVU2","CAREX VULPINOIDEA","Fox sedge",null,null,"Common ragweed","AMAR2",{"$f":"IF(Graphs!A138=\"\",\"\",Graphs!A138)","v":""},null,null,null,{"$f":"Graphs!E139","v":""},{"$f":"Graphs!F139","v":""},{"$f":"Graphs!K139","v":""},{"$f":"Graphs!L139","v":""}]
[null,"PLURAPHIS MUTICA","PLMU3","Tobossa grass",null,"CEANO","CEANOTHUS SPP","Ceanothus species",null,null,"Common reedgrass (PHAU7)","PHCO15",{"$f":"IF(Graphs!A139=\"\",\"\",Graphs!A139)","v":""},null,null,null,{"$f":"Graphs!E140","v":""},{"$f":"Graphs!F140","v":""},{"$f":"Graphs!K140","v":""},{"$f":"Graphs!L140","v":""}]
[null,"POA ARIDA","POAR3","Plains bluegrass",null,"CEAR4","CERASTIUM ARVENSE ","Prairie chickweed",null,null,"Common reedgrass (PHCO15)","PHAU7",{"$f":"IF(Graphs!A140=\"\",\"\",Graphs!A140)","v":""},null,null,null,{"$f":"Graphs!E141","v":""},{"$f":"Graphs!F141","v":""},{"$f":"Graphs!K141","v":""},{"$f":"Graphs!L141","v":""}]
[null,"POA COMPRESSA","POCO","Canada bluegrass",null,"CELA","CELTIS LAEVIGATA","Sugarberry",null,null,"Common rivergrass","SCFE",{"$f":"IF(Graphs!A141=\"\",\"\",Graphs!A141)","v":""},null,null,null,{"$f":"Graphs!E142","v":""},{"$f":"Graphs!F142","v":""},{"$f":"Graphs!K142","v":""},{"$f":"Graphs!L142","v":""}]
[null,"POA CUSICKII","POCU3","Cusick bluegrass",null,"CEOC2","CEPHALANTHUS OCCIDENTALIS","Common buttonbush",null,null,"Common rush","JUEF",{"$f":"IF(Graphs!A142=\"\",\"\",Graphs!A142)","v":""},null,null,null,{"$f":"Graphs!E143","v":""},{"$f":"Graphs!F143","v":""},{"$f":"Graphs!K143","v":""},{"$f":"Graphs!L143","v":""}]
[null,"POA NEVADENSIS","PONE3","Nevada bluegrass (POSE)",null,"CEST8","CENTAUREA STOEBE ","Spotted knapweed",null,null,"Common snowberry","SYAL",{"$f":"IF(Graphs!A143=\"\",\"\",Graphs!A143)","v":""},null,null,null,{"$f":"Graphs!E144","v":""},{"$f":"Graphs!F144","v":""},{"$f":"Graphs!K144","v":""},{"$f":"Graphs!L144","v":""}]
[null,"POA PALUSTRIS","POPA2","Fowl bluegrass",null,"CHAN9","CHAMERION ANGUSTIFOLIUM ","Fireweed (EPAN2)",null,null,"Common spikerush","ELPA3",{"$f":"IF(Graphs!A144=\"\",\"\",Graphs!A144)","v":""},null,null,null,{"$f":"Graphs!E145","v":""},{"$f":"Graphs!F145","v":""},{"$f":"Graphs!K145","v":""},{"$f":"Graphs!L145","v":""}]
[null,"POA PRATENSIS","POPR","Kentucky bluegrass",null,"CHLI2","CHILOPSIS LINEARIS","Desert willow",null,null,"Common tansy","TAVU",{"$f":"IF(Graphs!A145=\"\",\"\",Graphs!A145)","v":""},null,null,null,{"$f":"Graphs!E146","v":""},{"$f":"Graphs!F146","v":""},{"$f":"Graphs!K146","v":""},{"$f":"Graphs!L146","v":""}]
[null,"POA SECUNDA","POSE","Sandberg bluegrass (PONE3)",null,"CHNA2","CHRYSOTHAMNUS NAUSEOSUS","Rubber rabbitbrush (ERNA10)",null,null,"Common Threesquare bulrush (SCPU10)","SCPU3",{"$f":"IF(Graphs!A146=\"\",\"\",Graphs!A146)","v":""},null,null,null,{"$f":"Graphs!E147","v":""},{"$f":"Graphs!F147","v":""},{"$f":"Graphs!K147","v":""},{"$f":"Graphs!L147","v":""}]
[null,"POA SPP","POA","Bluegrass species",null,"CHSP11","CHLORACANTHA SPINOSA","Spiny chloracantha",null,null,"Common Threesquare bulrush (SCPU3)","SCPU10",{"$f":"IF(Graphs!A147=\"\",\"\",Graphs!A147)","v":""},null,null,null,{"$f":"Graphs!E148","v":""},{"$f":"Graphs!F148","v":""},{"$f":"Graphs!K148","v":""},{"$f":"Graphs!L148","v":""}]
[null,"POLYPOGON MONSPELIENSIS","POMO5","Annual rabbitsfoot grass",null,"CHVI8","CHRYSOTHAMNUS VISCIDIFLORUS","Yellow rabbitbrush",null,null,"Common water hemlock","CIMA2",{"$f":"IF(Graphs!A148=\"\",\"\",Graphs!A148)","v":""},null,null,null,{"$f":"Graphs!E149","v":""},{"$f":"Graphs!F149","v":""},{"$f":"Graphs!K149","v":""},{"$f":"Graphs!L149","v":""}]
[null,"POLYPOGON VIRIDIS","POVI9","Beardless Rabbitsfoot grass",null,"CIAR4","CIRSIUM ARVENSE ","Canada thistle",null,null,"Common yarrow","ACMI2",{"$f":"IF(Graphs!A149=\"\",\"\",Graphs!A149)","v":""},null,null,null,{"$f":"Graphs!E150","v":""},{"$f":"Graphs!F150","v":""},{"$f":"Graphs!K150","v":""},{"$f":"Graphs!L150","v":""}]
[null,"PUCCINELLIA LEMMONII","PULE","Lemmon's alkaligrass",null,"CICA11","CIRSIUM CANESCENS ","Prairie thistle",null,null,"Condon's bulrush","SCCO",{"$f":"IF(Graphs!A150=\"\",\"\",Graphs!A150)","v":""},null,null,null,{"$f":"Graphs!E151","v":""},{"$f":"Graphs!F151","v":""},{"$f":"Graphs!K151","v":""},{"$f":"Graphs!L151","v":""}]
[null,"PUCCINELLIA NUTTALLIANA","PUNU2","Nuttall's alkaligrass",null,"CIDO","CICUTA DOUGLASII ","Western water hemlock",null,null,"Coneflower/Blackhead","RUOC2",{"$f":"IF(Graphs!A151=\"\",\"\",Graphs!A151)","v":""},null,null,null,{"$f":"Graphs!E152","v":""},{"$f":"Graphs!F152","v":""},{"$f":"Graphs!K152","v":""},{"$f":"Graphs!L152","v":""}]
[null,"SCHOENOPLECTUS ACUTUS","SCAC3","Hardstem bulrush (SCAC)",null,"CIMA2","CICUTA MACULATA ","Common water hemlock",null,null,"Cosmopolitan bulrush (SCMA)","SCMA8",{"$f":"IF(Graphs!A152=\"\",\"\",Graphs!A152)","v":""},null,null,null,{"$f":"Graphs!E153","v":""},{"$f":"Graphs!F153","v":""},{"$f":"Graphs!K153","v":""},{"$f":"Graphs!L153","v":""}]
[null,"SCHOENOPLECTUS AMERICANUS","SCAM6","Chairmaker's bulrush (SCAM2)",null,"CISC2","CIRSIUM SCARIOSUM ","Elk Thistle",null,null,"Cosmopolitan bulrush (SCMA8)","SCMA",{"$f":"IF(Graphs!A153=\"\",\"\",Graphs!A153)","v":""},null,null,null,{"$f":"Graphs!E154","v":""},{"$f":"Graphs!F154","v":""},{"$f":"Graphs!K154","v":""},{"$f":"Graphs!L154","v":""}]
[null,"SCHOENOPLECTUS MARITIMUS","SCMA8","Cosmopolitan bulrush (SCMA)",null,"CLLI2","CLEMATIS LIGUSTIFOLIA","White Clematis",null,null,"Cottonwood","POPUL",{"$f":"IF(Graphs!A154=\"\",\"\",Graphs!A154)","v":""},null,null,null,{"$f":"Graphs!E155","v":""},{"$f":"Graphs!F155","v":""},{"$f":"Graphs!K155","v":""},{"$f":"Graphs!L155","v":""}]
[null,"SCHOENOPLECTUS PUNGENS","SCPU10","Common Threesquare bulrush (SCPU3)",null,"COCA13","CORNUS CANADENSIS ","Bunchberry dogwood",null,null,"Cow parsnip (HELA4)","HEMA80",{"$f":"IF(Graphs!A155=\"\",\"\",Graphs!A155)","v":""},null,null,null,{"$f":"Graphs!E156","v":""},{"$f":"Graphs!F156","v":""},{"$f":"Graphs!K156","v":""},{"$f":"Graphs!L156","v":""}]
[null,"SCHOENOPLECTUS Spp.","SCHOE6","Bulrush species",null,"COCO6","CORYLUS CORNUTA","Beaked hazelnut",null,null,"Cow parsnip (HEMA80)","HELA4",{"$f":"IF(Graphs!A156=\"\",\"\",Graphs!A156)","v":""},null,null,null,{"$f":"Graphs!E157","v":""},{"$f":"Graphs!F157","v":""},{"$f":"Graphs!K157","v":""},{"$f":"Graphs!L157","v":""}]
[null,"SCHOENOPLECTUS TABERNAEMONTANI","SCTA2","Softstem bulrush (SCVA)",null,"COMA2","CONIUM MACULATUM ","Poison hemlock",null,null,"Cows clover","TRWO",{"$f":"IF(Graphs!A157=\"\",\"\",Graphs!A157)","v":""},null,null,null,{"$f":"Graphs!E158","v":""},{"$f":"Graphs!F158","v":""},{"$f":"Graphs!K158","v":""},{"$f":"Graphs!L158","v":""}]
[null,"SCIRPUS ACUTUS","SCAC","Hardstem bulrush (SCAC3)",null,"COPA28","COMARUM PALUSTRE ","Purple marshlocks (POPA14)",null,null,"Creeping bentgrass","AGST2",{"$f":"IF(Graphs!A158=\"\",\"\",Graphs!A158)","v":""},null,null,null,{"$f":"Graphs!E159","v":""},{"$f":"Graphs!F159","v":""},{"$f":"Graphs!K159","v":""},{"$f":"Graphs!L159","v":""}]
[null,"SCIRPUS AMERICANUS","SCAM2","Chairmaker's bulrush (SCAM6)",null,"COSE16","CORNUS SERICEA","Red osier dogwood (COST4)",null,null,"Creeping meadow foxgrass","ALAR",{"$f":"IF(Graphs!A159=\"\",\"\",Graphs!A159)","v":""},null,null,null,{"$f":"Graphs!E160","v":""},{"$f":"Graphs!F160","v":""},{"$f":"Graphs!K160","v":""},{"$f":"Graphs!L160","v":""}]
[null,"SCIRPUS ATROCINCTUS","SCAT4","Blackgirdle bulrush",null,"COST4","CORNUS STOLONIFERA","Red osier dogwood (COSE16)",null,null,"Cuman ragweed","AMPS",{"$f":"IF(Graphs!A160=\"\",\"\",Graphs!A160)","v":""},null,null,null,{"$f":"Graphs!E161","v":""},{"$f":"Graphs!F161","v":""},{"$f":"Graphs!K161","v":""},{"$f":"Graphs!L161","v":""}]
[null,"SCIRPUS CONGDONII","SCCO","Condon's bulrush",null,"CRCH","CRATAEGUS CHRYSOCARPA","Northern hawthorn",null,null,"Curly dock","RUCR",{"$f":"IF(Graphs!A161=\"\",\"\",Graphs!A161)","v":""},null,null,null,{"$f":"Graphs!E162","v":""},{"$f":"Graphs!F162","v":""},{"$f":"Graphs!K162","v":""},{"$f":"Graphs!L162","v":""}]
[null,"SCIRPUS CYPERINUS","SCCY","Woolgrass",null,"CRDO2","CRATAEGUS DOUGLASII","Black hawthorn",null,null,"Curlytop knotweed","POLA4",{"$f":"IF(Graphs!A162=\"\",\"\",Graphs!A162)","v":""},null,null,null,{"$f":"Graphs!E163","v":""},{"$f":"Graphs!F163","v":""},{"$f":"Graphs!K163","v":""},{"$f":"Graphs!L163","v":""}]
[null,"SCIRPUS MARITIMUS","SCMA","Cosmopolitan bulrush (SCMA8)",null,"CRSU5","CRATAEGUS SUCCULANTA","Round leafed hawthorn",null,null,"Currant","RIBES",{"$f":"IF(Graphs!A163=\"\",\"\",Graphs!A163)","v":""},null,null,null,{"$f":"Graphs!E164","v":""},{"$f":"Graphs!F164","v":""},{"$f":"Graphs!K164","v":""},{"$f":"Graphs!L164","v":""}]
[null,"SCIRPUS MICROCARPUS","SCMI2","Panicled bulrush",null,"CYAC","CYMOPTERUS ACAULIS ","Plains spring parsley",null,null,"Cusick bluegrass","POCU3",{"$f":"IF(Graphs!A164=\"\",\"\",Graphs!A164)","v":""},null,null,null,{"$f":"Graphs!E165","v":""},{"$f":"Graphs!F165","v":""},{"$f":"Graphs!K165","v":""},{"$f":"Graphs!L165","v":""}]
[null,"SCIRPUS NEVADENSIS","SCNE","Nevada bulrush",null,"CYAC2","CYPERUS ACUMINATUS","Tapered leaf flatsedge",null,null,"Cusick's camas","CACU2",{"$f":"IF(Graphs!A165=\"\",\"\",Graphs!A165)","v":""},null,null,null,{"$f":"Graphs!E166","v":""},{"$f":"Graphs!F166","v":""},{"$f":"Graphs!K166","v":""},{"$f":"Graphs!L166","v":""}]
[null,"SCIRPUS PALLIDUS","SCPA8","Cloaked bulrush",null,"CYDA4","CYLINDROPUNTIA DAVISII","Thistle cholla",null,null,"Cutleaf coneflower","RULA3",{"$f":"IF(Graphs!A166=\"\",\"\",Graphs!A166)","v":""},null,null,null,{"$f":"Graphs!E167","v":""},{"$f":"Graphs!F167","v":""},{"$f":"Graphs!K167","v":""},{"$f":"Graphs!L167","v":""}]
[null,"SCIRPUS PUNGENS","SCPU3","Common Threesquare bulrush (SCPU10)",null,"CYOF","CYNOGLOSSUM OFFICINALE ","Houndstongue",null,null,"Cut-leaf water parsnip","BEER",{"$f":"IF(Graphs!A167=\"\",\"\",Graphs!A167)","v":""},null,null,null,{"$f":"Graphs!E168","v":""},{"$f":"Graphs!F168","v":""},{"$f":"Graphs!K168","v":""},{"$f":"Graphs!L168","v":""}]
[null,"SCIRPUS SPP","SCIRP","Bulrush species",null,"CYPA19","CYPRIPEDIUM PARVIFLORUM ","Yellow ladyslipper",null,null,"Dallisgrass","PADI3",{"$f":"IF(Graphs!A168=\"\",\"\",Graphs!A168)","v":""},null,null,null,{"$f":"Graphs!E169","v":""},{"$f":"Graphs!F169","v":""},{"$f":"Graphs!K169","v":""},{"$f":"Graphs!L169","v":""}]
[null,"SCIRPUS VALIDUS","SCVA","Softstem bulrush (SCTA2)",null,"DACA3","DANTHONIA CALIFORNICA","California oatgrass",null,null,"Deergrass","MURI2",{"$f":"IF(Graphs!A169=\"\",\"\",Graphs!A169)","v":""},null,null,null,{"$f":"Graphs!E170","v":""},{"$f":"Graphs!F170","v":""},{"$f":"Graphs!K170","v":""},{"$f":"Graphs!L170","v":""}]
[null,"SCOLOCHLOA FESTUCACEA","SCFE","Common rivergrass",null,"DAFR6","DASIPHORA FRUTICOSA","Shrubby cinquefoil (POFR4)",null,null,"Desert peach","PRAN2",{"$f":"IF(Graphs!A170=\"\",\"\",Graphs!A170)","v":""},null,null,null,{"$f":"Graphs!E171","v":""},{"$f":"Graphs!F171","v":""},{"$f":"Graphs!K171","v":""},{"$f":"Graphs!L171","v":""}]
[null,"SORGHASTRUM NUTANS","SONU2","Indian grass",null,"DAGL","DACTYLIS GLOMERATA","Orchardgrass",null,null,"Desert willow","CHLI2",{"$f":"IF(Graphs!A171=\"\",\"\",Graphs!A171)","v":""},null,null,null,{"$f":"Graphs!E172","v":""},{"$f":"Graphs!F172","v":""},{"$f":"Graphs!K172","v":""},{"$f":"Graphs!L172","v":""}]
[null,"SPARTINA GRACILIS","SPGR","Alkali cordgrass",null,"DAIN","DANTHONIA INTERMEDIA","Timber oatgrass",null,null,"Dewey sedge","CADE9",{"$f":"IF(Graphs!A172=\"\",\"\",Graphs!A172)","v":""},null,null,null,{"$f":"Graphs!E173","v":""},{"$f":"Graphs!F173","v":""},{"$f":"Graphs!K173","v":""},{"$f":"Graphs!L173","v":""}]
[null,"SPARTINA PECTINATA","SPPE","Prairie cordgrass",null,"DECE","DESCHAMPSIA CESPITOSA","Tufted hairgrass",null,null,"Dewystem willow","SAIR",{"$f":"IF(Graphs!A173=\"\",\"\",Graphs!A173)","v":""},null,null,null,{"$f":"Graphs!E174","v":""},{"$f":"Graphs!F174","v":""},{"$f":"Graphs!K174","v":""},{"$f":"Graphs!L174","v":""}]
[null,"SPOROBOLUS AIROIDES","SPAI","Alkali sacaton",null,"DEGL3","DELPHINIUM GLAUCUM ","Mountain larkspur",null,null,"Diamondleaf willow","SAPL2",{"$f":"IF(Graphs!A174=\"\",\"\",Graphs!A174)","v":""},null,null,null,{"$f":"Graphs!E175","v":""},{"$f":"Graphs!F175","v":""},{"$f":"Graphs!K175","v":""},{"$f":"Graphs!L175","v":""}]
[null,"SPOROBOLUS WRIGHTII","SPWR2","Big sacaton",null,"DISP","DISTICHLIS SPICATA","Inland saltgrass",null,null,"Different-nerved sedge","CAHE8",{"$f":"IF(Graphs!A175=\"\",\"\",Graphs!A175)","v":""},null,null,null,{"$f":"Graphs!E176","v":""},{"$f":"Graphs!F176","v":""},{"$f":"Graphs!K176","v":""},{"$f":"Graphs!L176","v":""}]
[null,"STIPA COLUMBIANA","STCO3","Columbia needlegrass (ACNE9)",null,"ECMU2","ECHINOCHLOA MURICATA","Rough barnyardgrass",null,null,"dotted smartweed","POPU5",{"$f":"IF(Graphs!A176=\"\",\"\",Graphs!A176)","v":""},null,null,null,{"$f":"Graphs!E177","v":""},{"$f":"Graphs!F177","v":""},{"$f":"Graphs!K177","v":""},{"$f":"Graphs!L177","v":""}]
[null,"STIPA SPP","STIPA","Needlegrass species",null,"ECPR","ECLIPTA PROSTRATA ","False daisy",null,null,"Douglas fir","PSME",{"$f":"IF(Graphs!A177=\"\",\"\",Graphs!A177)","v":""},null,null,null,{"$f":"Graphs!E178","v":""},{"$f":"Graphs!F178","v":""},{"$f":"Graphs!K178","v":""},{"$f":"Graphs!L178","v":""}]
[null,"UPLAND GRASS","UG","Upland grass",null,"ELAC","ELEOCHARIS ACICULARIS","Needle spikerush",null,null,"Douglas' knotweed","PODO4",{"$f":"IF(Graphs!A178=\"\",\"\",Graphs!A178)","v":""},null,null,null,{"$f":"Graphs!E179","v":""},{"$f":"Graphs!F179","v":""},{"$f":"Graphs!K179","v":""},{"$f":"Graphs!L179","v":""}]
[null,null,null,null,null,"ELAN","ELAEAGNUS ANGUSTIFOLIA","Russian olive",null,null,"Douglas' sedge","CADO2",{"$f":"IF(Graphs!A179=\"\",\"\",Graphs!A179)","v":""},null,null,null,{"$f":"Graphs!E180","v":""},{"$f":"Graphs!F180","v":""},{"$f":"Graphs!K180","v":""},{"$f":"Graphs!L180","v":""}]
["FORBS","ACHILLEA MILLEFOLIUM ","ACMI2","Common yarrow",null,"ELCA4","ELYMUS CANADENSIS","Canada wildrye",null,null,"Douglas Spirea","SPDO",{"$f":"IF(Graphs!A180=\"\",\"\",Graphs!A180)","v":""},null,null,null,{"$f":"Graphs!E181","v":""},{"$f":"Graphs!F181","v":""},{"$f":"Graphs!K181","v":""},{"$f":"Graphs!L181","v":""}]
[null,"ACONITUM COLUMBIANUM ","ACCO4","Columbian monkshood",null,"ELCI2","ELYMUS CINEREUS","Basin Wildrye (LECI4)",null,null,"Drummond's willow","SADR",{"$f":"IF(Graphs!A181=\"\",\"\",Graphs!A181)","v":""},null,null,null,{"$f":"Graphs!E182","v":""},{"$f":"Graphs!F182","v":""},{"$f":"Graphs!K182","v":""},{"$f":"Graphs!L182","v":""}]
[null,"ACTAEA RUBRA ","ACRU2","Baneberry",null,"ELCO","ELAEAGNUS COMMUTATA","Silverberry",null,null,"Dudley rush","JUDU2",{"$f":"IF(Graphs!A182=\"\",\"\",Graphs!A182)","v":""},null,null,null,{"$f":"Graphs!E183","v":""},{"$f":"Graphs!F183","v":""},{"$f":"Graphs!K183","v":""},{"$f":"Graphs!L183","v":""}]
[null,"AGASTACHE FOENICULUM ","AGFO","Blue giant hyssop",null,"ELEOC","ELEOCHARIS SPECIES","Spikerush",null,null,"Dune willow","SAHO",{"$f":"IF(Graphs!A183=\"\",\"\",Graphs!A183)","v":""},null,null,null,{"$f":"Graphs!E184","v":""},{"$f":"Graphs!F184","v":""},{"$f":"Graphs!K184","v":""},{"$f":"Graphs!L184","v":""}]
[null,"AGASTACHE URTICIFOLIA  ","AGUR","Needleleaf giant hyssop",null,"ELER","ELEOCHARIS ERYTHROPODA","Bald spikerush",null,null,"Dwarf bilberry","VACE",{"$f":"IF(Graphs!A184=\"\",\"\",Graphs!A184)","v":""},null,null,null,{"$f":"Graphs!E185","v":""},{"$f":"Graphs!F185","v":""},{"$f":"Graphs!K185","v":""},{"$f":"Graphs!L185","v":""}]
[null,"AGRIMONIA GRYPOSEPALA ","AGGR2","Tall hairy agrimony",null,"ELMA8","ELYHORDEUM MACOUNII","Macoun’s barley",null,null,"Dwarf spikerush","ELPA5",{"$f":"IF(Graphs!A185=\"\",\"\",Graphs!A185)","v":""},null,null,null,{"$f":"Graphs!E186","v":""},{"$f":"Graphs!F186","v":""},{"$f":"Graphs!K186","v":""},{"$f":"Graphs!L186","v":""}]
[null,"AGRIMONIA STRIATA ","AGST","Roadside agrimony",null,"ELPA3","ELEOCHARIS PALUSTRIS","Common spikerush",null,null,"Dwarf wild indigo","AMNA",{"$f":"IF(Graphs!A186=\"\",\"\",Graphs!A186)","v":""},null,null,null,{"$f":"Graphs!E187","v":""},{"$f":"Graphs!F187","v":""},{"$f":"Graphs!K187","v":""},{"$f":"Graphs!L187","v":""}]
[null,"AMBROSIA ARTEMISIIFOLIA ","AMAR2","Common ragweed",null,"ELPA5","ELEOCHARIS PARVULA","Dwarf spikerush",null,null,"Eastern cottonwood","PODE3",{"$f":"IF(Graphs!A187=\"\",\"\",Graphs!A187)","v":""},null,null,null,{"$f":"Graphs!E188","v":""},{"$f":"Graphs!F188","v":""},{"$f":"Graphs!K188","v":""},{"$f":"Graphs!L188","v":""}]
[null,"AMBROSIA PSILSTACHYA ","AMPS","Cuman ragweed",null,"ELPA6","ELEOCHARIS PAUCIFLORA","Fewflowered spikerush (ELQU2)",null,null,"Elephanthead lousewort","PEGR2",{"$f":"IF(Graphs!A188=\"\",\"\",Graphs!A188)","v":""},null,null,null,{"$f":"Graphs!E189","v":""},{"$f":"Graphs!F189","v":""},{"$f":"Graphs!K189","v":""},{"$f":"Graphs!L189","v":""}]
[null,"AMBROSIA TRIFIDA ","AMTR","Great ragweed",null,"ELQU2","ELEOCHARIS QUINQUEFLORA","Fewflowered spikerush (ELPA6)",null,null,"Elk Thistle","CISC2",{"$f":"IF(Graphs!A189=\"\",\"\",Graphs!A189)","v":""},null,null,null,{"$f":"Graphs!E190","v":""},{"$f":"Graphs!F190","v":""},{"$f":"Graphs!K190","v":""},{"$f":"Graphs!L190","v":""}]
[null,"ANEMOPSIS CALIFORNICA ","ANCA10","Yerba mansa",null,"ELRE4","ELYMUS REPENS","Quackgrass (AGRE2)",null,null,"Emory's baccharis","BAEM",{"$f":"IF(Graphs!A190=\"\",\"\",Graphs!A190)","v":""},null,null,null,{"$f":"Graphs!E191","v":""},{"$f":"Graphs!F191","v":""},{"$f":"Graphs!K191","v":""},{"$f":"Graphs!L191","v":""}]
[null,"ANGELICA KINGII ","ANKI","King's angelica",null,"ELRO2","ELEOCHARIS ROSTELLATA","Beaked spikerush",null,null,"Engelmann spruce","PIEN",{"$f":"IF(Graphs!A191=\"\",\"\",Graphs!A191)","v":""},null,null,null,{"$f":"Graphs!E192","v":""},{"$f":"Graphs!F192","v":""},{"$f":"Graphs!K192","v":""},{"$f":"Graphs!L192","v":""}]
[null,"ANTENNARIA ROSEA ","ANRO2","Rosy pussytoes",null,"ELTR3","ELYMUS TRITICOIDES","Beardless wildrye (LETR5)",null,null,"European bur-reed","SPEM2",{"$f":"IF(Graphs!A192=\"\",\"\",Graphs!A192)","v":""},null,null,null,{"$f":"Graphs!E193","v":""},{"$f":"Graphs!F193","v":""},{"$f":"Graphs!K193","v":""},{"$f":"Graphs!L193","v":""}]
[null,"APOCYNUM CANNABINUM ","APCA","Indianhemp",null,"ELTR7","ELYMUS TRACHYCAULUS","Slender wheatgrass",null,null,"European privet","LIVU",{"$f":"IF(Graphs!A193=\"\",\"\",Graphs!A193)","v":""},null,null,null,{"$f":"Graphs!E194","v":""},{"$f":"Graphs!F194","v":""},{"$f":"Graphs!K194","v":""},{"$f":"Graphs!L194","v":""}]
[null,"AQUILEGIA FORMOSA ","AQFO","Western columbine",null,"EPAN2","EPILOBIUM ANGUSTIFOLIUM ","Fireweed (CHAN9)",null,null,"False daisy","ECPR",{"$f":"IF(Graphs!A194=\"\",\"\",Graphs!A194)","v":""},null,null,null,{"$f":"Graphs!E195","v":""},{"$f":"Graphs!F195","v":""},{"$f":"Graphs!K195","v":""},{"$f":"Graphs!L195","v":""}]
[null,"ARCTIUM MINUS ","ARMI2","Common burdock",null,"EPCI","EPILOBIUM CILIATUM ","Fringed willowherb",null,null,"False Indigo","AMFR",{"$f":"IF(Graphs!A195=\"\",\"\",Graphs!A195)","v":""},null,null,null,{"$f":"Graphs!E196","v":""},{"$f":"Graphs!F196","v":""},{"$f":"Graphs!K196","v":""},{"$f":"Graphs!L196","v":""}]
[null,"ARCTIUM SPP ","ARCTI","Burdock species",null,"EQAR","EQUISETUM ARVENSE ","Field horsetail",null,null,"False mountain willow","SAPS",{"$f":"IF(Graphs!A196=\"\",\"\",Graphs!A196)","v":""},null,null,null,{"$f":"Graphs!E197","v":""},{"$f":"Graphs!F197","v":""},{"$f":"Graphs!K197","v":""},{"$f":"Graphs!L197","v":""}]
[null,"ARGENTINA ANSERINA ","ARAN7","Silverweed cinquefoil (POAN5)",null,"EQFL","EQUISETUM FLUVIATILE ","Water horsetail",null,null,"False solomon's seal (SMST)","MAST4",{"$f":"IF(Graphs!A197=\"\",\"\",Graphs!A197)","v":""},null,null,null,{"$f":"Graphs!E198","v":""},{"$f":"Graphs!F198","v":""},{"$f":"Graphs!K198","v":""},{"$f":"Graphs!L198","v":""}]
[null,"ARNICA CHAMISSONIS ","ARCH3","Chamisso arnica",null,"EQHY","EQUISETUM HYEMALE ","Scouringrush horsetail",null,null,"Farr willow","SAFA",{"$f":"IF(Graphs!A198=\"\",\"\",Graphs!A198)","v":""},null,null,null,{"$f":"Graphs!E199","v":""},{"$f":"Graphs!F199","v":""},{"$f":"Graphs!K199","v":""},{"$f":"Graphs!L199","v":""}]
[null,"ARNICA CORDIFOLIA ","ARCO9","Heartleaf arnica",null,"EQLA","EQUISETUM LAEVIGATUM ","smooth horsetail",null,null,"Fendler meadow-rue","THFE",{"$f":"IF(Graphs!A198=\"\",\"\",Graphs!A198)","v":""}]
[null,"ARTEMISIA LUDOVICIANA ","ARLU","White sagebrush",null,"EQSY","EQUISETUM SYLVATICUM ","Woodland horsetail",null,null,"Fewflowered spikerush (ELPA6)","ELQU2",{"$f":"IF(Graphs!A200=\"\",\"\",Graphs!A200)","v":""}]
[null,"ASTER CHILENSIS ","ASCH2","Western Aster (SYCH4)",null,"EQUIS","EQUISETUM SPP.","Horsetail",null,null,"Fewflowered spikerush (ELQU2)","ELPA6",{"$f":"IF(Graphs!A201=\"\",\"\",Graphs!A201)","v":""}]
[null,"ASTER FOLIACEUS","ASFO","Leafy aster (SYFO2)",null,"EQVA","EQUISETUM VARIEGATUM ","Variegated horsetail",null,null,"Field horsetail","EQAR",{"$f":"IF(Graphs!A202=\"\",\"\",Graphs!A202)","v":""}]
[null,"ASTER HESPERIUS ","ASHE","Marsh aster (SYLA6)",null,"ERCO6","ERIGERON COULTERI  ","Large mountain fleabane",null,null,"Figwort species","SCROP",{"$f":"IF(Graphs!A203=\"\",\"\",Graphs!A203)","v":""}]
[null,"ASTER INTEGRIFOLIUS ","ASIN3","Thickstem Aster (EUIN9)",null,"ERIGE2","ERIGERON SPP ","Fleabane species",null,null,"Fireweed (CHAN9)","EPAN2",{"$f":"IF(Graphs!A204=\"\",\"\",Graphs!A204)","v":""}]
[null,"ASTER OCCIDENTALIS ","ASOC","Western mountain aster (SYST)",null,"ERNA10","ERICAMERIA NAUSEOSA","Rubber rabbitbrush (CHNA2)",null,null,"Fireweed (EPAN2)","CHAN9",{"$f":"IF(Graphs!A205=\"\",\"\",Graphs!A205)","v":""}]
[null,"ASTER INTEGRIFOLIUS ","ASIN3","Thickstem Aster (EUIN9)",null,"ERST3","ERIGERON STRIGOSUS ","Prairie (daisy) fleabane",null,null,"Five-stamen saltcedar","TACH2",{"$f":"IF(Graphs!A206=\"\",\"\",Graphs!A206)","v":""}]
[null,"ASTER OCCIDENTALIS ","ASOC","Western mountain aster (SYST)",null,"EUES","EUPHORBIA ESULA ","Leafy spurge",null,null,"Fleabane species","ERIGE2",{"$f":"IF(Graphs!A207=\"\",\"\",Graphs!A207)","v":""}]
[null,"ASTER SPP. ","ASTER","Aster",null,"EUIN9","EURYBIA INTEGRIFOLIA ","Thickstem Aster (ASIN3)",null,null,"Fourwing saltbrush","ATCA2",{"$f":"IF(Graphs!A208=\"\",\"\",Graphs!A208)","v":""}]
[null,"ASTRAGALUS TENELLUS ","ASTE5","Pulse milkvetch",null,"EUMA12","EUPATORIADELPHUS MACULATUS ","Spotted joe pye weed (EUMA9)",null,null,"Fowl bluegrass","POPA2",{"$f":"IF(Graphs!A209=\"\",\"\",Graphs!A209)","v":""}]
[null,"BASIA SCOPARIA ","BASC5","Burning bush (KOSC)",null,"EUMA9","EUTROCHIUM MACULATUM ","Spotted joe pye weed (EUMA12)",null,null,"Fowl mannagrass","GLST",{"$f":"IF(Graphs!A210=\"\",\"\",Graphs!A210)","v":""}]
[null,"BERULA ERECTA ","BEER","Cut-leaf water parsnip",null,"EUME17","EURYBIA MERITA ","Subalpine aster",null,null,"Fox sedge","CAVU2"]
[null,"CALTHA LEPTOSEPALA ","CALE4","White marsh marigold",null,"EURYB","EURYBIA Spp. ","Aster Spp.",null,null,"Foxtail","ALOPE"]
[null,"CAMASSIA CUSICKII ","CACU2","Cusick's camas",null,"FERU2","FESTUCA RUBRA","Red Fescue",null,null,"Foxtail barley","HOJU"]
[null,"CAMASSIA QUAMISH ","CAQU2","Common camas",null,"FRLA","FRAXINUS LATIFOLIA ","Oregon ash",null,null,"Foxtail muhly","MUAN"]
[null,"CARDUUS NUTANS ","CANU4","Nodding plumeless thistle (Musk thistle)",null,"FRPE","FRAXINUS PENNSYLVANICA ","Green Ash",null,null,"Foxtail sedge","CAAL8"]
[null,"CENTAUREA STOEBE ","CEST8","Spotted knapweed",null,"FRVE2","FRAXINUS VELUTINA ","Velvet ash",null,null,"Fragrant sumac","RHAR4"]
[null,"CERASTIUM ARVENSE ","CEAR4","Prairie chickweed",null,"FRVI","FRAGARIA VIRGINIANA ","Virginia strawberry",null,null,"Fremont Cottonwood","POFR2"]
[null,"CHAMERION ANGUSTIFOLIUM ","CHAN9","Fireweed (EPAN2)",null,"GABO2","GALIUM BOREALE ","Northern bedstraw",null,null,"Fringed loosestrife","LYCI"]
[null,"CICUTA DOUGLASII ","CIDO","Western water hemlock",null,"GALIU","GALIUM SPP ","Bedstraw",null,null,"Fringed willowherb","EPCI"]
[null,"CICUTA MACULATA ","CIMA2","Common water hemlock",null,"GATR2","GALIUM TRIFIDUM ","Threepetal bedstraw",null,null,"Frogbit buttercup","RAHY"]
[null,"CIRSIUM ARVENSE ","CIAR4","Canada thistle",null,"GEMA4","GEUM MACROPHYLLUM ","Largeleaf avens",null,null,"Fuzzyspike wildrye (Downy ryegrass)","LEIN6"]
[null,"CIRSIUM CANESCENS ","CICA11","Prairie thistle",null,"GERI","GERANIUM RICHARDSONII ","Richardson's geranium",null,null,"Geyer's willow","SAGE2"]
[null,"CIRSIUM SCARIOSUM ","CISC2","Elk Thistle",null,"GETR","GEUM TRIFLORUM ","Old man's whiskers",null,null,"Giant bur-reed","SPEU"]
[null,"COMARUM PALUSTRE ","COPA28","Purple marshlocks (POPA14)",null,"GEUM","GEUM SPP ","Avens species",null,null,"Giant goldenrod","SOGI"]
[null,"CONIUM MACULATUM ","COMA2","Poison hemlock",null,"GEVI2","GERANIUM  VISCOSISSIUM ","Sticky geranium",null,null,"Giant reed","ARDO4"]
[null,"CORNUS CANADENSIS ","COCA13","Bunchberry dogwood",null,"GLBO","GLYCERIA BOREALIS","Small floating mannagrass",null,null,"Golden Currant, Buffalo Currant (RIOD)","RIAU"]
[null,"CYMOPTERUS ACAULIS ","CYAC","Plains spring parsley",null,"GLGR","GLYCERIA GRANDIS","American mannagrass",null,null,"Golden sedge","CAAU3"]
[null,"CYNOGLOSSUM OFFICINALE ","CYOF","Houndstongue",null,"GLLE3","GLYCYRRHIZA LEPIDOTA ","American licorice",null,null,"Gooding's willow","SAGO"]
[null,"CYPRIPEDIUM PARVIFLORUM ","CYPA19","Yellow ladyslipper",null,"GLMA","GLAUX MARITIMA ","Sea milkwort",null,null,"Gray sedge","CACA11"]
[null,"DELPHINIUM GLAUCUM ","DEGL3","Mountain larkspur",null,"GLST","GLYCERIA STRIATA","Fowl mannagrass",null,null,"Greasewood","SAVE4"]
[null,"ECLIPTA PROSTRATA ","ECPR","False daisy",null,"GLYCE","GLYCERIA SPECIES","Mannagrass",null,null,"Great ragweed","AMTR"]
[null,"EPILOBIUM ANGUSTIFOLIUM ","EPAN2","Fireweed (CHAN9)",null,"HAFL2","HACKELIA FLORIBUNDA ","Many flowered stickseed",null,null,"Green alder (ALSI3)","ALVI5"]
[null,"EPILOBIUM CILIATUM ","EPCI","Fringed willowherb",null,"HECU3","HELIOTROPIUM CURASSAVICUM ","Salt heliotrope",null,null,"Green Ash","FRPE"]
[null,"EQUISETUM ARVENSE ","EQAR","Field horsetail",null,"HEHO5","HELENIUM HOOPESII ","Orange sneezeweed (HYHO)",null,null,"Grouse whortleberry","VASC"]
[null,"EQUISETUM FLUVIATILE ","EQFL","Water horsetail",null,"HELA4","HERACLEUM LANATUM ","Cow parsnip (HEMA80)",null,null,"Hairlike sedge","CACA12"]
[null,"EQUISETUM HYEMALE ","EQHY","Scouringrush horsetail",null,"HEMA2","HELIANTHUS MAXIMILIANI ","Maximilian sunflower (HELA4)",null,null,"Hairy hedgenettle","STPI6"]
[null,"EQUISETUM LAEVIGATUM ","EQLA","smooth horsetail",null,"HEMA80","HERACLEUM MAXIMUM ","Cow parsnip (HELA4)",null,null,"Hardstem bulrush (SCAC)","SCAC3"]
[null,"EQUISETUM SPP.","EQUIS","Horsetail",null,"HERI","HEUCHERA RICHARDSONII ","Richardson's alumroot",null,null,"Hardstem bulrush (SCAC3)","SCAC"]
[null,"EQUISETUM SYLVATICUM ","EQSY","Woodland horsetail",null,"HOBR2","HORDEUM BRACHYANTHERUM","Meadow barley",null,null,"Hayden's sedge","CAHA7"]
[null,"EQUISETUM VARIEGATUM ","EQVA","Variegated horsetail",null,"HOJU","HORDEUM JUBATUM","Foxtail barley",null,null,"Heartleaf arnica","ARCO9"]
[null,"ERIGERON COULTERI  ","ERCO6","Large mountain fleabane",null,"HYHO","HYMENOXYS HOOPESII ","Owl's-claw (HEHO5)",null,null,"Heavy Sedge","CAGR4"]
[null,"ERIGERON SPP ","ERIGE2","Fleabane species",null,"IMCA","IMPATIENS CAPENSIS ","Jewelweed",null,null,"High mountain cinquefoil","POFL3"]
[null,"ERIGERON STRIGOSUS ","ERST3","Prairie (daisy) fleabane",null,"IRMI","IRIS MISSOURIENSIS ","Rocky Mountain iris",null,null,"Honey mesquite","PRGL2"]
[null,"EUPATORIADELPHUS MACULATUS ","EUMA12","Spotted joe pye weed (EUMA9)",null,"JUAR2","JUNCUS ARCTICUS","Artic rush (JUBA)",null,null,"Honeysuckle","LONIC"]
[null,"EUPHORBIA ESULA ","EUES","Leafy spurge",null,"JUBA","JUNCUS BALTICUS","Baltic rush (JUAR2)",null,null,"Hooker's evening primrose","OEEL"]
[null,"EURYBIA INTEGRIFOLIA ","EUIN9","Thickstem Aster (ASIN3)",null,"JUBU","JUNCUS BUFONIUS","Toad Rush",null,null,"Hophornbeam","OSVI"]
[null,"EURYBIA MERITA ","EUME17","Subalpine aster",null,"JUCO6","JUNIPERUS COMMUNIS","Common juniper",null,null,"Horsetail","EQUIS"]
[null,"EURYBIA Spp. ","EURYB","Aster Spp.",null,"JUDU2","JUNCUS DUDLEYI","Dudley rush",null,null,"Houndstongue","CYOF"]
[null,"EUTROCHIUM MACULATUM ","EUMA9","Spotted joe pye weed (EUMA12)",null,"JUEF","JUNCUS EFFUSUS","Common rush",null,null,"Idaho gooseberry (RIIR)","RIOX"]
[null,"FRAGARIA VIRGINIANA ","FRVI","Virginia strawberry",null,"JUEN","JUNCUS ENSIFOLIUS","Swordleaf rush",null,null,"Idaho gooseberry (RIOX)","RIIR"]
[null,"GALIUM BOREALE ","GABO2","Northern bedstraw",null,"JUIN2","JUNCUS INTERIOR","Inland rush",null,null,"Indian grass","SONU2"]
[null,"GALIUM SPP ","GALIU","Bedstraw",null,"JULO","JUNCUS LONGISTYLIS","Longstyle rush",null,null,"Indian plum","OECE"]
[null,"GALIUM TRIFIDUM ","GATR2","Threepetal bedstraw",null,"JUMA","JUGLANS MAJOR ","Arizona walnut",null,null,"Indianhemp","APCA"]
[null,"GERANIUM  VISCOSISSIUM ","GEVI2","Sticky geranium",null,"JUME4","JUNCUS MEXICANUS","Mexican rush",null,null,"Inland rush","JUIN2"]
[null,"GERANIUM RICHARDSONII ","GERI","Richardson's geranium",null,"JUNCU","JUNCUS SPECIES","Rush species",null,null,"Inland saltgrass","DISP"]
[null,"GEUM MACROPHYLLUM ","GEMA4","Largeleaf avens",null,"JUNE","JUNCUS NEVADENSIS","Sierra rush",null,null,"Inland sedge","CAIN11"]
[null,"GEUM SPP ","GEUM","Avens species",null,"JUNO2","JUNCUS NODOSUS","Knotted rush",null,null,"Iodine Bush","ALOC2"]
[null,"GEUM TRIFLORUM ","GETR","Old man's whiskers",null,"JUOC","JUNIPERUS OCCIDENTALIS ","Western juniper",null,null,"Jepson willow","SAJE"]
[null,"GLAUX MARITIMA ","GLMA","Sea milkwort",null,"JUOR","JUNCUS ORTHOPHYLLUS","Straightleaf rush",null,null,"Jewelweed","IMCA"]
[null,"GLYCYRRHIZA LEPIDOTA ","GLLE3","American licorice",null,"JUOS","JUNIPERUS OSTEOSPERMA","Utah juniper",null,null,"Kellogg's knotweed","POPO4"]
[null,"HACKELIA FLORIBUNDA ","HAFL2","Many flowered stickseed",null,"JUSC2","JUNIPERUS SCOPULORUM ","Rocky Mountain juniper",null,null,"Kentucky bluegrass","POPR"]
[null,"HELENIUM HOOPESII ","HEHO5","Orange sneezeweed (HYHO)",null,"JUTE","JUNCUS TENUIS","Poverty rush",null,null,"King's angelica","ANKI"]
[null,"HELIANTHUS MAXIMILIANI ","HEMA2","Maximilian sunflower (HELA4)",null,"JUTO","JUNCUS TORREYI","Torrey rush",null,null,"Kirk's violet","VIAD"]
[null,"HELIOTROPIUM CURASSAVICUM ","HECU3","Salt heliotrope",null,"KAMI","KALMIA MICROPHYLLA","Bog Laurel",null,null,"Knotgrass","PADI6"]
[null,"HERACLEUM LANATUM ","HELA4","Cow parsnip (HEMA80)",null,"KOSC","KOCHIA SCOPARIA ","Kockia or Burning bush (BASC5)",null,null,"Knotted rush","JUNO2"]
[null,"HERACLEUM MAXIMUM ","HEMA80","Cow parsnip (HELA4)",null,"LAOC","LARIX OCCIDENTALIS ","Western larch",null,null,"Kockia or Burning bush (BASC5)","KOSC"]
[null,"HEUCHERA RICHARDSONII ","HERI","Richardson's alumroot",null,"LASE","LACTUCA SERRIOLA ","Prickly Lettuce",null,null,"Lambstongue groundsel","SEIN2"]
[null,"HYMENOXYS HOOPESII ","HYHO","Owl's-claw (HEHO5)",null,"LECI4","LEYMUS CINEREUS","Basin Wildrye (ELCI2)",null,null,"Large mountain fleabane","ERCO6"]
[null,"IMPATIENS CAPENSIS ","IMCA","Jewelweed",null,"LEGL","LEDUM GLANDULOSUM","Trapper's Tea",null,null,"Largeleaf avens","GEMA4"]
[null,"IRIS MISSOURIENSIS ","IRMI","Rocky Mountain iris",null,"LEIN6","LEYMUS INNOVATUS","Fuzzyspike wildrye (Downy ryegrass)",null,null,"Leafy aster (SYFO2)","ASFO"]
[null,"KOCHIA SCOPARIA ","KOSC","Kockia or Burning bush (BASC5)",null,"LEOR","LEERSIA ORYZOIDES","Rice cutgrass",null,null,"Leafy spurge","EUES"]
[null,"LACTUCA SERRIOLA ","LASE","Prickly Lettuce",null,"LETR5","LEYMUS TRITICOIDES","Beardless wildrye (ELTR3)",null,null,"Lemmon's alkaligrass","PULE"]
[null,"LINNAEA BOREALIS ","LIBO3","Twinflower",null,"LIBO3","LINNAEA BOREALIS ","Twinflower",null,null,"Lemon's willow","SALE"]
[null,"LOBELIA CARDINALIS ","LOCA2","Cardinal flower",null,"LIVU","LIGUSTRUM VALGARE","European privet",null,null,"Lewis' mock orange","PHLE4"]
[null,"LYCOPUS AMERICANUS ","LYAM","American water horehound",null,"LOCA2","LOBELIA CARDINALIS ","Cardinal flower",null,null,"Lewis' monkey flower","MILE2"]
[null,"LYSIMACHIA CILIATA ","LYCI","Fringed loosestrife",null,"LOIN5","LONICERA INVOLUCRATA","Black Twinberry",null,null,"Lindley's aster","SYCI"]
[null,"LYTHRUM CALIFORNICUM ","LYCA4","California loosestrife",null,"LONIC","LONICERA SPP.","Honeysuckle",null,null,"Little sand violet","VISO"]
[null,"LYTHRUM SALICARIA ","LYSA2","Purple loosestrife",null,"LOUT2","LONICERA UTAHENSIS","Utah Honeysuckle",null,null,"Littleleaf buttercup","RAAB"]
[null,"MAIANTHEMUM STELLATUM ","MAST4","False solomon's seal (SMST)",null,"LYAM","LYCOPUS AMERICANUS ","American water horehound",null,null,"Lodgepole pine","PICO"]
[null,"MEDICAGO LUPULINA ","MELU","Black medick",null,"LYCA4","LYTHRUM CALIFORNICUM ","California loosestrife",null,null,"Longstalk clover","TRLO"]
[null,"MELILOTUS ALBUS ","MEAL2","Sweetclover (MEOF)",null,"LYCI","LYSIMACHIA CILIATA ","Fringed loosestrife",null,null,"Longstalk starwort","STLO2"]
[null,"MELILOTUS OFFICINALIS ","MEOF","Sweetclover (Yellow and white) (MEAL2)",null,"LYSA2","LYTHRUM SALICARIA ","Purple loosestrife",null,null,"Longstyle rush","JULO"]
[null,"MENTHA ARVENSIS ","MEAR4","Wild mint",null,"MAFU","MALUS FUSCA","Oregon crab apple",null,null,"MacKenzie's willow","SAPR3"]
[null,"MENYANTHES TRIFOLIATA ","METR3","Buckbean",null,"MARE11","MAHONIA REPENS","Oregon grape",null,null,"Macoun’s barley","ELMA8"]
[null,"MERTENSIA CILIATA ","MECI3","Streamside bluebells",null,"MAST4","MAIANTHEMUM STELLATUM ","False solomon's seal (SMST)",null,null,"Macoun's buttercup","RAMA2"]
[null,"MESIC FORB EARLY ","MFE","Mesic forb early seral",null,"MEAL2","MELILOTUS ALBUS ","Sweetclover (MEOF)",null,null,"Mallow ninebark","PHMA5"]
[null,"MESIC FORB LATE ","MFL","Mesic forb late seral",null,"MEAR4","MENTHA ARVENSIS ","Wild mint",null,null,"Mannagrass","GLYCE"]
[null,"MESIC FORB MID-SERAL","MFM","Mesic for mid-seral",null,"MECI3","MERTENSIA CILIATA ","Streamside bluebells",null,null,"Many flowered stickseed","HAFL2"]
[null,"MIMULUS CARDINALIS ","MICA3","Scarlet monkeyflower",null,"MELU","MEDICAGO LUPULINA ","Black medick",null,null,"Maple spp.","ACER"]
[null,"MIMULUS GUTTATUS ","MIGU","Seep monkeyflower",null,"MEOF","MELILOTUS OFFICINALIS ","Sweetclover (Yellow and white) (MEAL2)",null,null,"Marsh arrowgrass","TRPA28"]
[null,"MIMULUS LEWISII ","MILE2","Lewis' monkeyflower",null,"METR3","MENYANTHES TRIFOLIATA ","Buckbean",null,null,"Marsh aster (SYLA6)","ASHE"]
[null,"MIMULUS MOSCHATUS ","MIMO2","Muskflower",null,"MFE","MESIC FORB EARLY ","Mesic forb early seral",null,null,"Marsh muhly","MURA"]
[null,"MIMULUS PRIMULOIDES ","MIPR","Primrose monkeyflower",null,"MFL","MESIC FORB LATE ","Mesic forb late seral",null,null,"Marsh skullcap","SCGA"]
[null,"MONARDA FISTULOSA ","MOFI","Wild bergamot",null,"MFM","MESIC FORB MID-SERAL","Mesic for mid-seral",null,null,"Maryland sanicle","SAMA2"]
[null,"MONTIA CHAMISSOI ","MOCH","Miner's lettuce",null,"MG","MESIC GRASS","Mesic grass",null,null,"Mat muhly","MURI"]
[null,"NASTURTIUM OFFICINALE ","NAOF","Watercress (RONA2)",null,"MICA3","MIMULUS CARDINALIS ","Scarlet monkeyflower",null,null,"Maximilian sunflower (HELA4)","HEMA2"]
[null,"OENOTHERA ELATA ","OEEL","Hooker's evening primrose",null,"MIGU","MIMULUS GUTTATUS ","Seep monkeyflower",null,null,"Meadow barley","HOBR2"]
[null,"OENOTHERA FLAVA ","OEFL","Yellow evening primrose",null,"MILE2","MIMULUS LEWISII ","Lewis' monkeyflower",null,null,"Meadow Foxtail","ALPR3"]
[null,"OLIGONEURON RIGIDUM ","OLRI","Rigid goldenrod",null,"MIMO2","MIMULUS MOSCHATUS ","Muskflower",null,null,"Meadow willow","SAPE5"]
[null,"ONOPORDUM ACANTHIUM ","ONAC","Scotch thistle",null,"MIPR","MIMULUS PRIMULOIDES ","Primrose monkeyflower",null,null,"Mesic forb mid-seral","MFM"]
[null,"OXALIS SPP ","OXALI","Woodsorrel species",null,"MOCH","MONTIA CHAMISSOI ","Miner's lettuce",null,null,"Mesic forb early seral","MFE"]
[null,"PEDICULARIS GROENLANDICA ","PEGR2","Elephanthead lousewort",null,"MOFI","MONARDA FISTULOSA ","Wild bergamot",null,null,"Mesic forb late seral","MFL"]
[null,"PENSTEMON RYDBERGII ","PERY","Rydberg's meadow penstemon",null,"MS","MESIC SHRUB","Mesic shrub",null,null,"Mesic grass","MG"]
[null,"PLANTAGO ERIOPODA ","PLER","Alkali plantain",null,"MUAN","MUHLENBERGIA ANDINA","Foxtail muhly",null,null,"Mesic shrub","MS"]
[null,"PLANTAGO MAJOR ","PLMA2","Common plantain",null,"MUAS","MUHLENBERGIA ASPERIFOLIA","Alkali muhly",null,null,"Mexican rush","JUME4"]
[null,"PLATANTHERA AQUILONIS ","PLAQ2","Northern green orchid",null,"MUCU3","MUHLENBERGIA CUSPIDATE","Plains muhly",null,null,"Miner's lettuce","MOCH"]
[null,"POGONIA OPHIOGLOSSOIDES ","POOP","Snakemouth Orchid",null,"MUFI2","MUHLENBERGIA FILIFOLIS","Slender muhly",null,null,"Missouri willow","SAER"]
[null,"POLEMONIUM OCCIDENTALE ","POOC2","Western polemonium",null,"MURA","MUHLENBERGIA RACEMOSA","Marsh muhly",null,null,"Mountain Alder","ALIN2"]
[null,"POLYGONUM AMPHIBIUM ","POAM8","Western smartweek",null,"MURI","MUHLENBERGIA RICHARDSONIS","Mat muhly",null,null,"Mountain ash","SOSC2"]
[null,"POLYGONUM AVICULARE ","POAV","prostate knotweed",null,"MURI2","MUHLENBERGIA RIGENS","Deergrass",null,null,"Mountain brome","BRMA4"]
[null,"POLYGONUM BISTORTOIDES ","POBI6","American bistort",null,"NAOF","NASTURTIUM OFFICINALE ","Watercress (RONA2)",null,null,"Mountain carpet clover","TRMO2"]
[null,"POLYGONUM DOUGLASII ","PODO4","Douglas' knotweed",null,"OECE","OEMLERIA CERASIFORMIS","Indian plum",null,null,"Mountain goldenbanner","THMO6"]
[null,"POLYGONUM LAPATHIFOLIUM ","POLA4","Curlytop knotweed",null,"OEEL","OENOTHERA ELATA ","Hooker's evening primrose",null,null,"Mountain larkspur","DEGL3"]
[null,"POLYGONUM PENSYLVANICUM ","POPE2","Pennsylvania smartweed",null,"OEFL","OENOTHERA FLAVA ","Yellow evening primrose",null,null,"Mountain ninebark","PHMO4"]
[null,"POLYGONUM PERSICARIA ","POPE3","Spotted ladysthumb",null,"OLRI","OLIGONEURON RIGIDUM ","Rigid goldenrod",null,null,"Mountain sedge","CASC12"]
[null,"POLYGONUM POLYGALOIDES ","POPO4","Kellogg's knotweed",null,"ONAC","ONOPORDUM ACANTHIUM ","Scotch thistle",null,null,"Mountain snowberry","SYOR2"]
[null,"POLYGONUM PUNCTATUM ","POPU5","dotted smartweed",null,"OSVI","OSTRYA VIRGINIANA","Hophornbeam",null,null,"Mountain willow","SAEA"]
[null,"POTENTILLA ANSERINA ","POAN5","Silverweed cinquefoil (ARAN7)",null,"OXALI","OXALIS SPP ","Woodsorrel species",null,null,"Mud sedge","CALI7"]
[null,"POTENTILLA FLABELLIFOLIA ","POFL3","High mountain cinquefoil",null,"PACA6","PANICUM CAPILLARE","Witchgrass",null,null,"Muskflower","MIMO2"]
[null,"POTENTILLA GRACILIS ","POGR9","Slender cinquefoil",null,"PADI3","PASPALUM DILATATUM","Dallisgrass",null,null,"Nannyberry","VILE"]
[null,"POTENTILLA PENSYLVANICA ","POPE8","Pennsylvania cinquefoil",null,"PADI6","PASPALUM DISTICHUM","Knotgrass",null,null,"Narrowleaf cattail","TYAN"]
[null,"PTERIDIUM AQUILINUM ","PTAQ","Western brackenfern",null,"PAOB","PANICUM OBTUSUM","Vine mesquite",null,null,"Narrow-leaf cottonwood","POAN3"]
[null,"RANUNCULUS ABORTIVUS ","RAAB","Littleleaf buttercup",null,"PASM","PASCOPYRUM SMITHII","Western Wheatgrass (AGSM)",null,null,"Narrowleaf willow","SAEX"]
[null,"RANUNCULUS ALISMIFOLIUS ","RAAL","Plantain buttercup",null,"PAVI2","PANICUM VIRGATUM","Switchgrass",null,null,"Nebraska sedge","CANE2"]
[null,"RANUNCULUS AQUATILIS ","RAAQ","White water crowfoot",null,"PEGR2","PEDICULARIS GROENLANDICA ","Elephanthead lousewort",null,null,"Needle spikerush","ELAC"]
[null,"RANUNCULUS HYDROCHAROIDES ","RAHY","Frogbit buttercup",null,"PERY","PENSTEMON RYDBERGII ","Rydberg's meadow penstemon",null,null,"Needlegrass (STIPA)","ACHNA"]
[null,"RANUNCULUS MACOUNII ","RAMA2","Macoun's buttercup",null,"PHAR3","PHALARIS ARUNDINACEAE","Reed canarygrass",null,null,"Needlegrass species","STIPA"]
[null,"RANUNCULUS SPP. ","RANUN","Buttercup",null,"PHAU7","PHRAGMITES AUSTRALIS","Common reedgrass (PHCO15)",null,null,"Needleleaf giant hyssop","AGUR"]
[null,"RORIPPA NASTURTIUM-AQUATICUM","RONA2","Watercress (NAOF)",null,"PHCA11","PHYSOCARPUS CAPITATUS","Pacific ninebark",null,null,"Nevada bluegrass (POSE)","PONE3"]
[null,"RUDBECKIA HIRTA ","RUHI2","Blackeyed susan",null,"PHCO15","PHRAGMITES COMUNIS","Common reedgrass (PHAU7)",null,null,"Nevada bulrush","SCNE"]
[null,"RUDBECKIA LACINIATA ","RULA3","Cutleaf coneflower",null,"PHLE4","PHILADELPHUS LEWISII","Lewis' mock orange",null,null,"Nodding plumeless thistle (Musk thistle)","CANU4"]
[null,"RUDBECKIA OCCIDENTALIS ","RUOC2","Coneflower/Blackhead",null,"PHMA5","PHYSOCARPUS MALVACEUS","Mallow ninebark",null,null,"Nootka rose","RONU"]
[null,"RUMEX CRISPUS ","RUCR","Curly dock",null,"PHMO4","PHYSOCARPUS MONOGYNUS","Mountain ninebark",null,null,"Northern bedstraw","GABO2"]
[null,"SAGITTARIA CUNEATA ","SACU","Arumleaf arrowhead",null,"PHPR3","PHLEUM PRETENSE","Timothy",null,null,"Northern black currant","RIHU"]
[null,"SANGUISORBA CANADENSIS ","SACA14","Canadian burnet",null,"PICEA","PICEA SPP. ","Spruce",null,null,"Northern green orchid","PLAQ2"]
[null,"SANGUISORBA SITCHENSIS ","SASI10","Alaskan burnet",null,"PICO","PINUS CONTORTA ","Lodgepole pine",null,null,"Northern hawthorn","CRCH"]
[null,"SANICULA MARILANDICA ","SAMA2","Maryland sanicle",null,"PIEN","PICEA ENGELMANNII ","Engelmann spruce",null,null,"Northwest sandbar willow","SASE3"]
[null,"SAXIFRAGA ODONTOLOMA ","SAOD2","Brook saxifrage",null,"PIGL","PICEA GLAUCA ","White spruce",null,null,"Northwest territory sedge (Beaked sedge)","CAUT"]
[null,"SCROPHULARIA SPP ","SCROP","Figwort species",null,"PIMO3","PINUS MONTICOLA ","Western white pine",null,null,"Nuttall's alkaligrass","PUNU2"]
[null,"SCUTELLARIA GALERICULATA ","SCGA","Marsh skullcap",null,"PIPO","PINUS PONDEROSA ","Ponderosa pine",null,null,"Old man's whiskers","GETR"]
[null,"SENECIO HYDROPHILUS ","SEHY2","Water ragwort",null,"PIPU","PICEA PUNGENS ","Blue spruce",null,null,"Orange sneezeweed (HYHO)","HEHO5"]
[null,"SENECIO INTEGERRIMUS ","SEIN2","Lambstongue groundsel",null,"PLAQ2","PLATANTHERA AQUILONIS ","Northern green orchid",null,null,"Orchardgrass","DAGL"]
[null,"SENECIO SERRA ","SESE2","Tall ragwort",null,"PLER","PLANTAGO ERIOPODA ","Alkali plantain",null,null,"Oregon ash","FRLA"]
[null,"SENECIO TRIANGULARIS ","SETR","Arrowleaf ragwort",null,"PLMA2","PLANTAGO MAJOR ","Common plantain",null,null,"Oregon checkerbloom","SIOR"]
[null,"SIDALCEA OREGANA ","SIOR","Oregon checkerbloom",null,"PLMU3","PLURAPHIS MUTICA","Tobossa grass",null,null,"Oregon crab apple","MAFU"]
[null,"SOLANUM DULCAMARA ","SODU","Climbing nightshade",null,"PLSE","PLACHEA SERICEA","Arrowweed",null,null,"Oregon grape","MARE11"]
[null,"SOLIDAGO CANADENSIS ","SOCA6","Canada goldenrod",null,"PLWR2","PLATANUS WRIGHTII ","Arizona Sycamore",null,null,"Owl's-claw (HEHO5)","HYHO"]
[null,"SOLIDAGO GIGANTEA ","SOGI","Giant goldenrod",null,"POA","POA SPP","Bluegrass species",null,null,"Pacific aster (ASCH2)","SYCH4"]
[null,"SONCHUS ASPER ","SOAS","Spiny sowthistle",null,"POAM8","POLYGONUM AMPHIBIUM ","Western smartweek",null,null,"Pacific ninebark","PHCA11"]
[null,"SPARGANIUM EMERSUM ","SPEM2","European bur-reed",null,"POAN3","POPULUS ANGUSTIFOLIA ","Narrow-leaf cottonwood",null,null,"Panicled bulrush","SCMI2"]
[null,"SPARGANIUM EURYCARPUM ","SPEU","Giant bur-reed",null,"POAN5","POTENTILLA ANSERINA ","Silverweed cinquefoil (ARAN7)",null,null,"Paper birch","BEPA"]
[null,"STACHYS PILOSA ","STPI6","Hairy hedgenettle",null,"POAR3","POA ARIDA","Plains bluegrass",null,null,"Peachleaf willow","SAAM2"]
[null,"STELLARIA LONGIPES ","STLO2","Longstalk starwort",null,"POAV","POLYGONUM AVICULARE ","prostate knotweed",null,null,"Pennsylvania cinquefoil","POPE8"]
[null,"SYMPHYOTRICHUM ASCENDENS ","SYAS3","Western Aster",null,"POBA2","POPULUS BALSAMIFERA ","Black cottonwood (POTR15)",null,null,"Pennsylvania smartweed","POPE2"]
[null,"SYMPHYOTRICHUM CHILENSE ","SYCH4","Pacific aster (ASCH2)",null,"POBI6","POLYGONUM BISTORTOIDES ","American bistort",null,null,"Pioneer violet","VIGL"]
[null,"SYMPHYOTRICHUM CILIOLATUM ","SYCI","Lindley's aster",null,"POCO","POA COMPRESSA","Canada bluegrass",null,null,"Plains bluegrass","POAR3"]
[null,"SYMPHYOTRICHUM ERICOIDES ","SYER","White heath aster",null,"POCU3","POA CUSICKII","Cusick bluegrass",null,null,"Plains muhly","MUCU3"]
[null,"SYMPHYOTRICHUM FOLIACEUM ","SYFO2","Alpine leafybract aster (ASFO)",null,"PODE3","POPULUS DELTOIDES ","Eastern cottonwood",null,null,"Plains spring parsley","CYAC"]
[null,"SYMPHYOTRICHUM LANCEOLATUM ","SYLA6","White panicle aster (ASHE)",null,"PODO4","POLYGONUM DOUGLASII ","Douglas' knotweed",null,null,"Plantain buttercup","RAAL"]
[null,"SYMPHYOTRICHUM OBLONGIFOLIUM ","SYOB","Aromatic aster",null,"POFL3","POTENTILLA FLABELLIFOLIA ","High mountain cinquefoil",null,null,"Plum species","PRUNU"]
[null,"SYMPHYOTRICHUM SPATHULATUM ","SYSP","Western mountain aster (ASOC)",null,"POFR2","POPULUS FREMONTII ","Fremont Cottonwood",null,null,"Poison hemlock","COMA2"]
[null,"SYMPHYOTRICHUM Spp. ","SYMPH4","Aster Spp. (ASTER)",null,"POFR4","POTENTILLA FRUTICOSA","Shrubby cinquefoil (DAFR6)",null,null,"Ponderosa pine","PIPO"]
[null,"TANACETUM VULGARE ","TAVU","Common tansy",null,"POGR9","POTENTILLA GRACILIS ","Slender cinquefoil",null,null,"Poverty rush","JUTE"]
[null,"TARAXACUM OFFICINALE ","TAOF","Common Dandelion",null,"POLA4","POLYGONUM LAPATHIFOLIUM ","Curlytop knotweed",null,null,"Prairie (daisy) fleabane","ERST3"]
[null,"THALICTRUM DASYCARPUM ","THDA","Purple meadow-rue",null,"POMO5","POLYPOGON MONSPELIENSIS","Annual rabbitsfoot grass",null,null,"Prairie chickweed","CEAR4"]
[null,"THALICTRUM FENDLERI ","THFE","Fendler meadow-rue",null,"PONE3","POA NEVADENSIS","Nevada bluegrass (POSE)",null,null,"Prairie cordgrass","SPPE"]
[null,"THALICTRUM VENULOSUM ","THVE","Veiny meadow-rue",null,"POOC2","POLEMONIUM OCCIDENTALE ","Western polemonium",null,null,"Prairie rose","ROAR3"]
[null,"THERMOPSIS MONTANA  ","THMO6","Mountain goldenbanner",null,"POOP","POGONIA OPHIOGLOSSOIDES ","Snakemouth Orchid",null,null,"Prairie sedge","CAPR6"]
[null,"TRIFOLIUM LONGIPES ","TRLO","Longstalk clover",null,"POPA2","POA PALUSTRIS","Fowl bluegrass",null,null,"Prairie thistle","CICA11"]
[null,"TRIFOLIUM MONANTHUM ","TRMO2","Mountain carpet clover",null,"POPE2","POLYGONUM PENSYLVANICUM ","Pennsylvania smartweed",null,null,"Prickly Lettuce","LASE"]
[null,"TRIFOLIUM PRATENSE ","TRPR2","Red clover",null,"POPE3","POLYGONUM PERSICARIA ","Spotted ladysthumb",null,null,"Prickly rose","ROAC"]
[null,"TRIFOLIUM REPENS ","TRRE3","White clover",null,"POPE8","POTENTILLA PENSYLVANICA ","Pennsylvania cinquefoil",null,null,"Primrose monkeyflower","MIPR"]
[null,"TRIFOLIUM SPP. ","TRIFO","Clover Spp.",null,"POPO4","POLYGONUM POLYGALOIDES ","Kellogg's knotweed",null,null,"prostate knotweed","POAV"]
[null,"TRIFOLIUM WORMSKJOLDII ","TRWO","Cows clover",null,"POPR","POA PRATENSIS","Kentucky bluegrass",null,null,"Pulse milkvetch","ASTE5"]
[null,"TRIGLOCHIN MARITIMA ","TRMA20","Seaside arrowgrass",null,"POPU5","POLYGONUM PUNCTATUM ","dotted smartweed",null,null,"Purple loosestrife","LYSA2"]
[null,"TRIGLOCHIN PALUSTRE","TRPA28","Marsh arrowgrass",null,"POPUL","POPULUS SPP. ","Cottonwood",null,null,"Purple marshlocks (POPA14)","COPA28"]
[null,"TYPHA ANGUSTIFOLIA ","TYAN","Narrowleaf cattail",null,"POSE","POA SECUNDA","Sandberg bluegrass (PONE3)",null,null,"Purple meadow-rue","THDA"]
[null,"TYPHA DOMINGENSIS ","TYDO","Southern cattail",null,"POTR15","POPULUS TRICOCARPA ","Black cottonwood (POBA2)",null,null,"Pussy willow","SADI"]
[null,"TYPHA LATIFOLIA ","TYLA","Broadleaf Cattail",null,"POTR5","POPULUS TREMULOIDES ","Quaking aspen",null,null,"Quackgrass (AGRE2)","ELRE4"]
[null,"TYPHA SPP ","TYPHA","Cattail species",null,"POVI9","POLYPOGON VIRIDIS","Beardless Rabbitsfoot grass",null,null,"Quackgrass (ELRE2)","AGRE2"]
[null,"UPLAND FORB ","UF","Upland forb",null,"PRAM","PRUNUS AMERICANA","American plum",null,null,"Quaking aspen","POTR5"]
[null,"URTICA DIOICA ","URDI","Stinging nettle",null,"PRAN2","PRUNUS ANDERSONII","Desert peach",null,null,"Quill sedge","CATE3"]
[null,"VERATRUM CALIFORNICUM ","VECA2","California false hellebore",null,"PREM","PRUNUS EMARGINATA","Bitter cherry",null,null,"Red alder","ALRU2"]
[null,"VERBENA HASTATA ","VEHA2","Swamp verbena",null,"PRGL2","PROSOPIS GLANDULOSA","Honey mesquite",null,null,"Red clover","TRPR2"]
[null,"VERONICA AMERICANA ","VEAM2","American speedwell",null,"PRPU","PROSOPIS PUBESCENS","Screwbean mesquite",null,null,"Red Elderberry","SARA2"]
[null,"VERONICA ANAGALLIS-AQUATICA","VEAN2","Water speedwell",null,"PRUNU","PRUNUS SPP","Plum species",null,null,"Red Fescue","FERU2"]
[null,"VERONICA SPP. ","VERON","Speedwell",null,"PRVE","PROSOPIS VELUTINA","Velvet mesquite",null,null,"Red osier dogwood (COSE16)","COST4"]
[null,"VICIA AMERICANA ","VIAM","American vetch",null,"PRVI","PRUNUS VIRGINIA","Chokecherry",null,null,"Red osier dogwood (COST4)","COSE16"]
[null,"VIOLA ADUNCA ","VIAD","Kirk's violet",null,"PSME","PSEUDOTSUGA MENZIESII ","Douglas fir",null,null,"Red Willow","SALA3"]
[null,"VIOLA CANADENSIS ","VICA4","Canada violet",null,"PTAQ","PTERIDIUM AQUILINUM ","Western brackenfern",null,null,"Redtop","AGGI2"]
[null,"VIOLA GLABELLA ","VIGL","Pioneer violet",null,"PULE","PUCCINELLIA LEMMONII","Lemmon's alkaligrass",null,null,"Reed canarygrass","PHAR3"]
[null,"VIOLA MACLOSKEYI ","VIMA2","Small white violet",null,"PUNU2","PUCCINELLIA NUTTALLIANA","Nuttall's alkaligrass",null,null,"Resin birch","BEGL"]
[null,"VIOLA SORORIA ","VISO","Little sand violet",null,"QUMA2","QUERCUS MACROCARPA","Bur oak",null,null,"Rhizomatous sedge","CAREXRH"]
[null,"VIOLA SPP ","VIOLA","Violet species",null,"RAAB","RANUNCULUS ABORTIVUS ","Littleleaf buttercup",null,null,"Rhizomatous willow","SALIXRH"]
[null,"ZANTHIUM STRUMARIUM ","XAST","Rough cocklebur",null,"RAAL","RANUNCULUS ALISMIFOLIUS ","Plantain buttercup",null,null,"Rice cutgrass","LEOR"]
[null,null,null,null,null,"RAAQ","RANUNCULUS AQUATILIS ","White water crowfoot",null,null,"Richardson's alumroot","HERI"]
[null,null,null,null,null,"RAHY","RANUNCULUS HYDROCHAROIDES ","Frogbit buttercup",null,null,"Richardson's geranium","GERI"]
["SHRUBS","ACER CIRCINATUM","ACCI","Vine maple",null,"RAMA2","RANUNCULUS MACOUNII ","Macoun's buttercup",null,null,"Rigid goldenrod","OLRI"]
[null,"ACACIA CONSTRICTA","ACCO2","Whitethorn acacia",null,"RANUN","RANUNCULUS SPP. ","Buttercup",null,null,"Roadside agrimony","AGST"]
[null,"ACACIA GREGGII","ACGR","Catclaw acacia",null,"RHAL","RHAMNUS ALNIFOLIA","Alderleaf buckthorn",null,null,"Rocky Mountain iris","IRMI"]
[null,"ACER GLABRUM","ACGL","Rocky Mountain Maple",null,"RHAR4","RHUS AROMATICA","Fragrant sumac",null,null,"Rocky Mountain juniper","JUSC2"]
[null,"ACER GRANDIDENTATUM","ACGR3","Big tooth maple",null,"RHCA3","RHAMNUS CATHARTICA","Common buckthorn",null,null,"Rocky Mountain Maple","ACGL"]
[null,"ACER SPP.","ACER","Maple spp.",null,"RHTR","RHUS TRILOBATA","Skunkbush sumac",null,null,"Rocky Mountain sedge","CASA10"]
[null,"ALLENROLFEA OCCICENTALIS","ALOC2","Iodine Bush",null,"RIAM2","RIBES AMERICANUM","American black currant",null,null,"Rose species","ROSA5"]
[null,"ALNUS INCANA","ALIN2","Mountain Alder",null,"RIAU","RIBES AUREUM","Golden Currant, Buffalo Currant (RIOD)",null,null,"Rosy pussytoes","ANRO2"]
[null,"ALNUS SINUATA","ALSI3","Sitka alder (ALVI5)",null,"RIBES","RIBES SPP","Currant",null,null,"Rough barnyardgrass","ECMU2"]
[null,"ALNUS VIRIDIS","ALVI5","Green alder (ALSI3)",null,"RICE","RIBES CEREUM","Wax currant",null,null,"Rough Bentgrass","AGSC5"]
[null,"AMELANCHIER ALNIFOLIA","AMAL2","Serviceberry",null,"RIHU","RIBES HUDSONIANUM","Northern black currant",null,null,"Rough cocklebur","XAST"]
[null,"AMORPHA FRUTICOSA","AMFR","False Indigo",null,"RIIN2","RIBES INERME","Whitestem gooseberry",null,null,"Round leafed hawthorn","CRSU5"]
[null,"AMORPHA NANA","AMNA","Dwarf wild indigo",null,"RIIR","RIBES IRRIGUUM","Idaho gooseberry (RIOX)",null,null,"Rubber rabbitbrush (CHNA2)","ERNA10"]
[null,"ARCTOSTAPHYLOS UVA-URSI","ARUV","Bearberry",null,"RIOD","RIBES ODORATUM","Buffalo currant (RIAU)",null,null,"Rubber rabbitbrush (ERNA10)","CHNA2"]
[null,"ARTEMISIA CANA","ARCA13","Silver sagebrush",null,"RIOX","RIBES OXYACANTHOIDES","Idaho gooseberry (RIIR)",null,null,"Rush species","JUNCU"]
[null,"ARTEMISIA TRIDENTATA","ARTR2","Basin big sagebrush",null,"RIVI3","RIBES VISCOSISSIMUM","Sticky Currant",null,null,"Russian olive","ELAN"]
[null,"ATRIPLEX CONESCENS","ATCA2","Fourwing saltbrush",null,"RK",null,"Embedded rock",null,null,"Rydberg's meadow penstemon","PERY"]
[null,"ATRIPLEX LENTIFORMIS","ATLE","Big saltbrush",null,"ROAC","ROSA ACICULARIS","Prickly rose",null,null,"Sageleaf willow","SACA4"]
[null,"BACCHARIS EMORYI","BAEM","Emory's baccharis",null,"ROAR3","ROSA ARKANSANA","Prairie rose",null,null,"Salmonberry","RUSP"]
[null,"BACCHARIS SALICIFOLIA","BASA4","Willow Baccharis",null,"RONA2","RORIPPA NASTURTIUM-AQUATICUM","Watercress (NAOF)",null,null,"Salt heliotrope","HECU3"]
[null,"BETULA GLANDULOSA","BEGL","Resin birch",null,"RONU","ROSA NUTKANA","Nootka rose",null,null,"Saltcedar","TARA"]
[null,"BETULA OCCIDENTALIS","BEOC2","Water birch",null,"ROPI2","ROSA PISOCARPA","Cluster Rose",null,null,"Sandbar willow","SAIN3"]
[null,"BETULA PUMULA","BEPU4","Bog Birch",null,"ROSA5","ROSA SPP","Rose species",null,null,"Sandberg bluegrass (PONE3)","POSE"]
[null,"CEANOTHUS SPP","CEANO","Ceanothus species",null,"ROWO","ROSA WOODSII","Woods' rose",null,null,"Sartwell's sedge","CASA8"]
[null,"CELTIS LAEVIGATA","CELA","Sugarberry",null,"RUBUS","RUBUS SPP","Blackberry species",null,null,"Scarlet monkey flower","MICA3"]
[null,"CEPHALANTHUS OCCIDENTALIS","CEOC2","Common buttonbush",null,"RUCR","RUMEX CRISPUS ","Curly dock",null,null,"Scotch thistle","ONAC"]
[null,"CHILOPSIS LINEARIS","CHLI2","Desert willow",null,"RUHI2","RUDBECKIA HIRTA ","Blackeyed susan",null,null,"Scouler willow","SASC"]
[null,"CHLORACANTHA SPINOSA","CHSP11","Spiny chloracantha",null,"RUID","RUBUS IDAEUS","American red raspberry",null,null,"Scouringrush horsetail","EQHY"]
[null,"CHRYSOTHAMNUS NAUSEOSUS","CHNA2","Rubber rabbitbrush (ERNA10)",null,"RULA3","RUDBECKIA LACINIATA ","Cutleaf coneflower",null,null,"Screwbean mesquite","PRPU"]
[null,"CHRYSOTHAMNUS VISCIDIFLORUS","CHVI8","Yellow rabbitbrush",null,"RUOC2","RUDBECKIA OCCIDENTALIS ","Coneflower/Blackhead",null,null,"Sea milkwort","GLMA"]
[null,"CLEMATIS LIGUSTIFOLIA","CLLI2","White Clematis",null,"RUPA","RUBUS PARVIFLORUS","Thimbleberry",null,null,"Seaside arrowgrass","TRMA20"]
[null,"CORNUS CANADENSIS ","COCA13","Bunchberry dogwood",null,"RUSP","RUBUS SPECTABILIS","Salmonberry",null,null,"Sedge","CAREX"]
[null,"CORNUS SERICEA","COSE16","Red osier dogwood (COST4)",null,"SAAL2","SALIX ALBA ","White willow",null,null,"Seep monkey flower","MIGU"]
[null,"CORNUS STOLONIFERA","COST4","Red osier dogwood (COSE16)",null,"SAAM2","SALIX AMYGDALOIDES","Peachleaf willow",null,null,"Serviceberry","AMAL2"]
[null,"CORYLUS CORNUTA","COCO6","Beaked hazelnut",null,"SAAR14","SALIX ARIZONICA","Arizona willow",null,null,"Sheldon's sedge","CASH"]
[null,"CRATAEGUS CHRYSOCARPA","CRCH","Northern hawthorn",null,"SAAR27","SALIX ARCTICA","Arctic willow",null,null,"Shining willow (SALA5)","SALU"]
[null,"CRATAEGUS DOUGLASII","CRDO2","Black hawthorn",null,"SABA3","SALIX BARCLAYI","Barclay's willow",null,null,"Short-awned foxtail","ALAE"]
[null,"CRATAEGUS SUCCULANTA","CRSU5","Round leafed hawthorn",null,"SABE2","SALIX BEBBIANA","Bebb willow",null,null,"Short-beaked sedge","CASI2"]
[null,"CYLINDROPUNTIA DAVISII","CYDA4","Thistle cholla",null,"SABO","SALIX BONPLANDIANA ","Bonpland willow",null,null,"Shrubby cinquefoil (DAFR6)","POFR4"]
[null,"DASIPHORA FRUTICOSA","DAFR6","Shrubby cinquefoil (POFR4)",null,"SABO2","SALIX BOOTHII","Booth's willow",null,null,"Shrubby cinquefoil (POFR4)","DAFR6"]
[null,"ELAEAGNUS ANGUSTIFOLIA","ELAN","Russian olive",null,"SABR","SALIX BRACHYCARPA","Barren-ground willow",null,null,"Sierra rush","JUNE"]
[null,"ELAEAGNUS COMMUTATA","ELCO","Silverberry",null,"SACA14","SANGUISORBA CANADENSIS ","Canadian burnet",null,null,"Sierra willow","SAOR"]
[null,"ERICAMERIA NAUSEOSA","ERNA10","Rubber rabbitbrush (CHNA2)",null,"SACA4","SALIX CANDIDA","Sageleaf willow",null,null,"Silver buffaloberry","SHAR"]
[null,"JUNIPERUS COMMUNIS","JUCO6","Common juniper",null,"SACO2","SALIX COMMUTATA","Undergreen willow",null,null,"Silver sagebrush","ARCA13"]
[null,"JUNIPERUS OSTEOSPERMA","JUOS","Utah juniper",null,"SACU","SAGITTARIA CUNEATA ","Arumleaf arrowhead",null,null,"Silverberry","ELCO"]
[null,"KALMIA MICROPHYLLA","KAMI","Bog Laurel",null,"SADI","SALIX DISCOLOR","Pussy willow",null,null,"Silverweed cinquefoil (ARAN7)","POAN5"]
[null,"LEDUM GLANDULOSUM","LEGL","Trapper's Tea",null,"SADR","SALIX DRUMMONDIANA","Drummond's willow",null,null,"Silverweed cinquefoil (POAN5)","ARAN7"]
[null,"LIGUSTRUM VALGARE","LIVU","European privet",null,"SAEA","SALIX EASTWOODII","Mountain willow",null,null,"Sitka alder (ALVI5)","ALSI3"]
[null,"LONICERA INVOLUCRATA","LOIN5","Black Twinberry",null,"SAER","SALIX ERIOCEPHALA","Missouri willow",null,null,"Sitka willow","SASI2"]
[null,"LONICERA SPP.","LONIC","Honeysuckle",null,"SAEX","SALIX EXIGUA","Narrowleaf willow",null,null,"Skunkbush sumac","RHTR"]
[null,"LONICERA UTAHENSIS","LOUT2","Utah Honeysuckle",null,"SAFA","SALIX FARRIAE","Farr willow",null,null,"Slender cinquefoil","POGR9"]
[null,"MAHONIA REPENS","MARE11","Oregon grape",null,"SAGE2","SALIX GEYERIANA","Geyer's willow",null,null,"Slender muhly","MUFI2"]
[null,"MALUS FUSCA","MAFU","Oregon crab apple",null,"SAGO","SALIX GOODDINGII","Gooding's willow",null,null,"Slender wheatgrass","ELTR7"]
[null,"MESIC SHRUB","MS","Mesic shrub",null,"SAHO","SALIX HOOKERIANA","Dune willow",null,null,"Slenderbeak sedge","CAAT3"]
[null,"OEMLERIA CERASIFORMIS","OECE","Indian plum",null,"SAIN3","SALIX INTERIOR","Sandbar willow",null,null,"Slimstem reedgrass","CAST36"]
[null,"OSTRYA VIRGINIANA","OSVI","Hophornbeam",null,"SAIR","SALIX IRRORATA","Dewystem willow",null,null,"Small floating mannagrass","GLBO"]
[null,"PHILADELPHUS LEWISII","PHLE4","Lewis' mock orange",null,"SAJE","SALIX JEPSONII","Jepson willow",null,null,"Small white violet","VIMA2"]
[null,"PHYSOCARPUS CAPITATUS","PHCA11","Pacific ninebark",null,"SALA3","SALIX LAEVIGATA","Red Willow",null,null,"Smallflower tamarisk","TAPA4"]
[null,"PHYSOCARPUS MALVACEUS","PHMA5","Mallow ninebark",null,"SALA5","SALIX LASIANDRA","Whiplash willow (SALU)",null,null,"Small-winged sedge","CAMI7"]
[null,"PHYSOCARPUS MONOGYNUS","PHMO4","Mountain ninebark",null,"SALA6","SALIX LASIOLEPIS","Arroyo willow",null,null,"Smooth brome","BRIN2"]
[null,"PLACHEA SERICEA","PLSE","Arrowweed",null,"SALE","SALIX LEMMONII","Lemon's willow",null,null,"smooth horsetail","EQLA"]
[null,"POTENTILLA FRUTICOSA","POFR4","Shrubby cinquefoil (DAFR6)",null,"SALIX","SALIX SPP.","Willow",null,null,"Snakemouth Orchid","POOP"]
[null,"PROSOPIS GLANDULOSA","PRGL2","Honey mesquite",null,"SALIXCL","SALIX SPP CLUMPED","Clumped willow",null,null,"Snowberry","SYMPH"]
[null,"PROSOPIS PUBESCENS","PRPU","Screwbean mesquite",null,"SALIXRH","SALIX SPP RHIZOMATOUS","Rhizomatous willow",null,null,"Softleaf sedge","CADI6"]
[null,"PROSOPIS VELUTINA","PRVE","Velvet mesquite",null,"SALU","SALIX LUCIDA","Shining willow (SALA5)",null,null,"Softstem bulrush (SCTA2)","SCVA"]
[null,"PRUNUS AMERICANA","PRAM","American plum",null,"SALU2","SALIX LUTEA","Yellow willow",null,null,"Softstem bulrush (SCVA)","SCTA2"]
[null,"PRUNUS ANDERSONII","PRAN2","Desert peach",null,"SAMA2","SANICULA MARILANDICA ","Maryland sanicle",null,null,"Southern cattail","TYDO"]
[null,"PRUNUS EMARGINATA","PREM","Bitter cherry",null,"SAMO2","SALIX MONTICOLA","Mountain willow",null,null,"Speedwell","VERON"]
[null,"PRUNUS SPP","PRUNU","Plum species",null,"SANI4","SAMBUCUS NIGRA","Black Elderberry",null,null,"Spikerush","ELEOC"]
[null,"PRUNUS VIRGINIA","PRVI","Chokecherry",null,"SAOD2","SAXIFRAGA ODONTOLOMA ","Brook saxifrage",null,null,"Spiny chloracantha","CHSP11"]
[null,"QUERCUS MACROCARPA","QUMA2","Bur oak",null,"SAOR","SALIX ORESTERA","Sierra willow",null,null,"Spiny sowthistle","SOAS"]
[null,"RHAMNUS ALNIFOLIA","RHAL","Alderleaf buckthorn",null,"SAPE5","SALIX PETIOLARIS","meadow willow",null,null,"Spotted joe pye weed (EUMA12)","EUMA9"]
[null,"RHAMNUS CATHARTICA","RHCA3","Common buckthorn",null,"SAPL2","SALIX PLANIFOLIA","Diamondleaf willow",null,null,"Spotted joe pye weed (EUMA9)","EUMA12"]
[null,"RHUS AROMATICA","RHAR4","Fragrant sumac",null,"SAPR3","SALIX PROLIXA","MacKenzie's willow",null,null,"Spotted knapweed","CEST8"]
[null,"RHUS TRILOBATA","RHTR","Skunkbush sumac",null,"SAPS","SALIX PSEUDO-MONTICOLA","False mountain willow",null,null,"Spotted ladysthumb","POPE3"]
[null,"RIBES AMERICANUM","RIAM2","American black currant",null,"SARA2","SAMBUCUS RACEMOSA","Red Elderberry",null,null,"Spruce","PICEA"]
[null,"RIBES AUREUM","RIAU","Golden Currant, Buffalo Currant (RIOD)",null,"SASA4","SAPINDUS SAPONARIA","Wingleaf soapberry",null,null,"Sticky Currant","RIVI3"]
[null,"RIBES CEREUM","RICE","Wax currant",null,"SASC","SALIX SCOULERIANA","Scouler willow",null,null,"Sticky geranium","GEVI2"]
[null,"RIBES HUDSONIANUM","RIHU","Northern black currant",null,"SASE2","SALIX SERISSIMA","Autumn willow",null,null,"Stinging nettle","URDI"]
[null,"RIBES INERME","RIIN2","Whitestem gooseberry",null,"SASE3","SALIX SESSILIFOLIA","Northwest sandbar willow",null,null,"Straightleaf rush","JUOR"]
[null,"RIBES IRRIGUUM","RIIR","Idaho gooseberry (RIOX)",null,"SASI10","SANGUISORBA SITCHENSIS ","Alaskan burnet",null,null,"Streamside bluebells","MECI3"]
[null,"RIBES ODORATUM","RIOD","Buffalo currant (RIAU)",null,"SASI2","SALIX SITCHENSIS","Sitka willow",null,null,"Subalpine aster","EUME17"]
[null,"RIBES OXYACANTHOIDES","RIOX","Idaho gooseberry (RIIR)",null,"SATA","SALIX TAXIFOLIA ","Yewleaf willow",null,null,"Sugarberry","CELA"]
[null,"RIBES SPP","RIBES","Currant",null,"SATW","SALIX TWEEDYI","Tweedy's willow",null,null,"Swamp verbena","VEHA2"]
[null,"RIBES VISCOSISSIMUM","RIVI3","Sticky Currant",null,"SAVE4","SARCOBATUS VERMICULATUS","Greasewood",null,null,"Sweetclover (MEOF)","MEAL2"]
[null,"ROSA ACICULARIS","ROAC","Prickly rose",null,"SAWO","SALIX WOLFII","Wolf's willow",null,null,"Sweetclover (Yellow and white) (MEAL2)","MEOF"]
[null,"ROSA ARKANSANA","ROAR3","Prairie rose",null,"SCAC","SCIRPUS ACUTUS","Hardstem bulrush (SCAC3)",null,null,"Switchgrass","PAVI2"]
[null,"ROSA NUTKANA","RONU","Nootka rose",null,"SCAC3","SCHOENOPLECTUS ACUTUS","Hardstem bulrush (SCAC)",null,null,"Swordleaf rush","JUEN"]
[null,"ROSA PISOCARPA","ROPI2","Cluster Rose",null,"SCAM2","SCIRPUS AMERICANUS","Chairmaker's bulrush (SCAM6)",null,null,"Tall hairy agrimony","AGGR2"]
[null,"ROSA SPP","ROSA5","Rose species",null,"SCAM6","SCHOENOPLECTUS AMERICANUS","Chairmaker's bulrush (SCAM2)",null,null,"Tall ragwort","SESE2"]
[null,"ROSA WOODSII","ROWO","Woods' rose",null,"SCAT4","SCIRPUS ATROCINCTUS","Blackgirdle bulrush",null,null,"Tapered leaf flatsedge","CYAC2"]
[null,"RUBUS IDAEUS","RUID","American red raspberry",null,"SCCO","SCIRPUS CONGDONII","Condon's bulrush",null,null,"Thickstem Aster (ASIN3)","EUIN9"]
[null,"RUBUS PARVIFLORUS","RUPA","Thimbleberry",null,"SCCY","SCIRPUS CYPERINUS","Woolgrass",null,null,"Thickstem Aster (EUIN9)","ASIN3"]
[null,"RUBUS SPECTABILIS","RUSP","Salmonberry",null,"SCFE","SCOLOCHLOA FESTUCACEA","Common rivergrass",null,null,"Thimbleberry","RUPA"]
[null,"RUBUS SPP","RUBUS","Blackberry species",null,"SCGA","SCUTELLARIA GALERICULATA ","Marsh skullcap",null,null,"Thinleaf huckleberry","VAME"]
[null,"SALIX AMYGDALOIDES","SAAM2","Peachleaf willow",null,"SCHOE6","SCHOENOPLECTUS Spp.","Bulrush species",null,null,"Thistle cholla","CYDA4"]
[null,"SALIX ARCTICA","SAAR27","Arctic willow",null,"SCIRP","SCIRPUS SPP","Bulrush species",null,null,"Threepetal bedstraw","GATR2"]
[null,"SALIX ARIZONICA","SAAR14","Arizona willow",null,"SCMA","SCIRPUS MARITIMUS","Cosmopolitan bulrush (SCMA8)",null,null,"Timber oatgrass","DAIN"]
[null,"SALIX BARCLAYI","SABA3","Barclay's willow",null,"SCMA8","SCHOENOPLECTUS MARITIMUS","Cosmopolitan bulrush (SCMA)",null,null,"Timothy","PHPR3"]
[null,"SALIX BEBBIANA","SABE2","Bebb willow",null,"SCMI2","SCIRPUS MICROCARPUS","Panicled bulrush",null,null,"Toad Rush","JUBU"]
[null,"SALIX BOOTHII","SABO2","Booth's willow",null,"SCNE","SCIRPUS NEVADENSIS","Nevada bulrush",null,null,"Tobossa grass","PLMU3"]
[null,"SALIX BRACHYCARPA","SABR","Barren-ground willow",null,"SCPA8","SCIRPUS PALLIDUS","Cloaked bulrush",null,null,"Torrey rush","JUTO"]
[null,"SALIX CANDIDA","SACA4","Sageleaf willow",null,"SCPU10","SCHOENOPLECTUS PUNGENS","Common Threesquare bulrush (SCPU3)",null,null,"Trapper's Tea","LEGL"]
[null,"SALIX COMMUTATA","SACO2","Undergreen willow",null,"SCPU3","SCIRPUS PUNGENS","Common Threesquare bulrush (SCPU10)",null,null,"Tufted (clumped) sedge","CAREXTU"]
[null,"SALIX DISCOLOR","SADI","Pussy willow",null,"SCROP","SCROPHULARIA SPP ","Figwort species",null,null,"Tufted hairgrass","DECE"]
[null,"SALIX DRUMMONDIANA","SADR","Drummond's willow",null,"SCTA2","SCHOENOPLECTUS TABERNAEMONTANI","Softstem bulrush (SCVA)",null,null,"Tufted sedge","CALE8"]
[null,"SALIX EASTWOODII","SAEA","Mountain willow",null,"SCVA","SCIRPUS VALIDUS","Softstem bulrush (SCTA2)",null,null,"Tweedy's willow","SATW"]
[null,"SALIX ERIOCEPHALA","SAER","Missouri willow",null,"SEHY2","SENECIO HYDROPHILUS ","Water ragwort",null,null,"Twinflower","LIBO3"]
[null,"SALIX EXIGUA","SAEX","Narrowleaf willow",null,"SEIN2","SENECIO INTEGERRIMUS ","Lambstongue groundsel",null,null,"Undergreen willow","SACO2"]
[null,"SALIX FARRIAE","SAFA","Farr willow",null,"SESE2","SENECIO SERRA ","Tall ragwort",null,null,"Upland forb","UF"]
[null,"SALIX GEYERIANA","SAGE2","Geyer's willow",null,"SETR","SENECIO TRIANGULARIS ","Arrowleaf ragwort",null,null,"Upland grass","UG"]
[null,"SALIX GOODDINGII","SAGO","Gooding's willow",null,"SHAR","SHEPHERDIA ARGENTEA","Silver buffaloberry",null,null,"Upland shrub","US"]
[null,"SALIX HOOKERIANA","SAHO","Dune willow",null,"SIOR","SIDALCEA OREGANA ","Oregon checkerbloom",null,null,"Utah Honeysuckle","LOUT2"]
[null,"SALIX INTERIOR","SAIN3","Sandbar willow",null,"SOAS","SONCHUS ASPER ","Spiny sowthistle",null,null,"Utah juniper","JUOS"]
[null,"SALIX IRRORATA","SAIR","Dewystem willow",null,"SOCA6","SOLIDAGO CANADENSIS ","Canada goldenrod",null,null,"Variegated horsetail","EQVA"]
[null,"SALIX JEPSONII","SAJE","Jepson willow",null,"SODU","SOLANUM DULCAMARA ","Climbing nightshade",null,null,"Veiny meadow-rue","THVE"]
[null,"SALIX LAEVIGATA","SALA3","Red Willow",null,"SOGI","SOLIDAGO GIGANTEA ","Giant goldenrod",null,null,"Velvet ash","FRVE2"]
[null,"SALIX LASIANDRA","SALA5","Whiplash willow (SALU)",null,"SONU2","SORGHASTRUM NUTANS","Indian grass",null,null,"Velvet mesquite","PRVE"]
[null,"SALIX LASIOLEPIS","SALA6","Arroyo willow",null,"SOSC2","SORBUS SCOPULINA","Mountain ash",null,null,"Vine mesquite","PAOB"]
[null,"SALIX LEMMONII","SALE","Lemon's willow",null,"SPAI","SPOROBOLUS AIROIDES","Alkali sacaton",null,null,"Violet species","VIOLA"]
[null,"SALIX LUCIDA","SALU","Shining willow (SALA5)",null,"SPBE2","SPIRAEA BETULIFOLIA","White spirea",null,null,"Virginia strawberry","FRVI"]
[null,"SALIX LUTEA","SALU2","Yellow willow",null,"SPDO","SPIRAEA DOUGLASII","Douglas Spirea",null,null,"Water birch","BEOC2"]
[null,"SALIX MONTICOLA","SAMO2","Mountain willow",null,"SPEM2","SPARGANIUM EMERSUM ","European bur-reed",null,null,"Water Foxtail","ALGE2"]
[null,"SALIX ORESTERA","SAOR","Sierra willow",null,"SPEU","SPARGANIUM EURYCARPUM ","Giant bur-reed",null,null,"Water horsetail","EQFL"]
[null,"SALIX PETIOLARIS","SAPE5","meadow willow",null,"SPGR","SPARTINA GRACILIS","Alkali cordgrass",null,null,"Water ragwort","SEHY2"]
[null,"SALIX PLANIFOLIA","SAPL2","Diamondleaf willow",null,"SPPE","SPARTINA PECTINATA","Prairie cordgrass",null,null,"Water sedge","CAAQ"]
[null,"SALIX PROLIXA","SAPR3","MacKenzie's willow",null,"SPWR2","SPOROBOLUS WRIGHTII","Big sacaton",null,null,"Water speedwell","VEAN2"]
[null,"SALIX PSEUDO-MONTICOLA","SAPS","False mountain willow",null,"STCO3","STIPA COLUMBIANA","Columbia needlegrass (ACNE9)",null,null,"Water whorlgrass","CAAQ3"]
[null,"SALIX SCOULERIANA","SASC","Scouler willow",null,"STIPA","STIPA SPP","Needlegrass species",null,null,"Watercress (NAOF)","RONA2"]
[null,"SALIX SERISSIMA","SASE2","Autumn willow",null,"STLO2","STELLARIA LONGIPES ","Longstalk starwort",null,null,"Watercress (RONA2)","NAOF"]
[null,"SALIX SESSILIFOLIA","SASE3","Northwest sandbar willow",null,"STPI6","STACHYS PILOSA ","Hairy hedgenettle",null,null,"Wax currant","RICE"]
[null,"SALIX SITCHENSIS","SASI2","Sitka willow",null,"SYAL","SYMPHORICARPOS ALBUS","Common snowberry",null,null,"Western Aster","SYAS3"]
[null,"SALIX SPP CLUMPED","SALIXCL","Clumped willow",null,"SYAS3","SYMPHYOTRICHUM ASCENDENS ","Western Aster",null,null,"Western Aster (SYCH4)","ASCH2"]
[null,"SALIX SPP RHIZOMATOUS","SALIXRH","Rhizomatous willow",null,"SYCH4","SYMPHYOTRICHUM CHILENSE ","Pacific aster (ASCH2)",null,null,"Western brackenfern","PTAQ"]
[null,"SALIX SPP.","SALIX","Willow",null,"SYCI","SYMPHYOTRICHUM CILIOLATUM ","Lindley's aster",null,null,"Western columbine","AQFO"]
[null,"SALIX TWEEDYI","SATW","Tweedy's willow",null,"SYER","SYMPHYOTRICHUM ERICOIDES ","White heath aster",null,null,"Western hemlock","TSHE"]
[null,"SALIX WOLFII","SAWO","Wolf's willow",null,"SYFO2","SYMPHYOTRICHUM FOLIACEUM ","Alpine leafybract aster (ASFO)",null,null,"Western juniper","JUOC"]
[null,"SAMBUCUS NIGRA","SANI4","Black Elderberry",null,"SYLA6","SYMPHYOTRICHUM LANCEOLATUM ","White panicle aster (ASHE)",null,null,"Western larch","LAOC"]
[null,"SAMBUCUS RACEMOSA","SARA2","Red Elderberry",null,"SYMPH","SYMPHORICARPUS SPP.","Snowberry",null,null,"Western mountain aster (ASOC)","SYSP"]
[null,"SAPINDUS SAPONARIA","SASA4","Wingleaf soapberry",null,"SYMPH4","SYMPHYOTRICHUM Spp. ","Aster Spp. (ASTER)",null,null,"Western mountain aster (SYST)","ASOC"]
[null,"SARCOBATUS VERMICULATUS","SAVE4","Greasewood",null,"SYOB","SYMPHYOTRICHUM OBLONGIFOLIUM ","Aromatic aster",null,null,"Western poison ivy","TORY"]
[null,"SHEPHERDIA ARGENTEA","SHAR","Silver buffaloberry",null,"SYOC","SYMPHORICARPOS OCCIDENTALIS","Western snowberry",null,null,"Western polemonium","POOC2"]
[null,"SORBUS SCOPULINA","SOSC2","Mountain ash",null,"SYOR2","SYMPHORICARPOS OREOPHILUS","Mountain snowberry",null,null,"Western red cedar","THPL"]
[null,"SPIRAEA BETULIFOLIA","SPBE2","White spirea",null,"SYSP","SYMPHYOTRICHUM SPATHULATUM ","Western mountain aster (ASOC)",null,null,"Western smartweek","POAM8"]
[null,"SPIRAEA DOUGLASII","SPDO","Douglas Spirea",null,"TACH2","TAMARIX CHINENSIS","Five-stamen saltcedar",null,null,"Western snowberry","SYOC"]
[null,"SYMPHORICARPOS ALBUS","SYAL","Common snowberry",null,"TAOF","TARAXACUM OFFICINALE ","Common Dandelion",null,null,"Western water hemlock","CIDO"]
[null,"SYMPHORICARPOS OCCIDENTALIS","SYOC","Western snowberry",null,"TAPA4","TAMARIX PARVIFLORA","Smallflower tamarisk",null,null,"Western Wheatgrass (AGSM)","PASM"]
[null,"SYMPHORICARPOS OREOPHILUS","SYOR2","Mountain snowberry",null,"TARA","TAMARIX RAMOSISSIMA","Saltcedar",null,null,"Western Wheatgrass (PASM)","AGSM"]
[null,"SYMPHORICARPUS SPP.","SYMPH","Snowberry",null,"TAVU","TANACETUM VULGARE ","Common tansy",null,null,"Western white pine","PIMO3"]
[null,"TAMARIX CHINENSIS","TACH2","Five-stamen saltcedar",null,"THDA","THALICTRUM DASYCARPUM ","Purple meadow-rue",null,null,"Wheat sedge","CAAT2"]
[null,"TAMARIX PARVIFLORA","TAPA4","Smallflower tamarisk",null,"THFE","THALICTRUM FENDLERI ","Fendler meadow-rue",null,null,"Whiplash willow (SALU)","SALA5"]
[null,"TAMARIX RAMOSISSIMA","TARA","Saltcedar",null,"THMO6","THERMOPSIS MONTANA  ","Mountain goldenbanner",null,null,"White alder","ALRH2"]
[null,"TOXICODENDRON RYDBERGII","TORY","Western poison ivy",null,"THPL","THUJA PLICATA ","Western red cedar",null,null,"White Clematis","CLLI2"]
[null,"UPLAND SHRUB","US","Upland shrub",null,"THVE","THALICTRUM VENULOSUM ","Veiny meadow-rue",null,null,"White clover","TRRE3"]
[null,"VACCINIUM CESPITOSUM","VACE","Dwarf bilberry",null,"TORY","TOXICODENDRON RYDBERGII","Western poison ivy",null,null,"White heath aster","SYER"]
[null,"VACCINIUM MEMBRANACEUM","VAME","Thinleaf huckleberry",null,"TRIFO","TRIFOLIUM SPP. ","Clover Spp.",null,null,"White marsh marigold","CALE4"]
[null,"VACCINIUM SCOPARIUM","VASC","Grouse whortleberry",null,"TRLO","TRIFOLIUM LONGIPES ","Longstalk clover",null,null,"White panicle aster (ASHE)","SYLA6"]
[null,"VACCINIUM SPP.","VACA","Blueberry",null,"TRMA20","TRIGLOCHIN MARITIMA ","Seaside arrowgrass",null,null,"White sagebrush","ARLU"]
[null,"VACCINIUM ULIGINOSUM","VAUL","Bog blueberry",null,"TRMO2","TRIFOLIUM MONANTHUM ","Mountain carpet clover",null,null,"White spirea","SPBE2"]
[null,"VIBURNUM LENTAGO","VILE","Nannyberry",null,"TRPA28","TRIGLOCHIN PALUSTRE","Marsh arrowgrass",null,null,"White spruce","PIGL"]
[null,null,null,null,null,"TRPR2","TRIFOLIUM PRATENSE ","Red clover",null,null,"White water crowfoot","RAAQ"]
[null,null,null,null,null,"TRRE3","TRIFOLIUM REPENS ","White clover",null,null,"White willow","SAAL2"]
["TREES","ABIES GRANDIS ","ABGR","Grand fir",null,"TRWO","TRIFOLIUM WORMSKJOLDII ","Cows clover",null,null,"Whitestem gooseberry","RIIN2"]
[null,"ABIES LASIOCARPA ","ABLA","Subalpine fir",null,"TSHE","TSUGA HETEROPHYLLA ","Western hemlock",null,null,"Wild bergamot","MOFI"]
[null,"ACER CIRCINATUM ","ACCI","Vine maple",null,"TYAN","TYPHA ANGUSTIFOLIA ","Narrowleaf cattail",null,null,"Wild mint","MEAR4"]
[null,"ACER GLABRUM ","ACGL","Rocky Mountain Maple",null,"TYDO","TYPHA DOMINGENSIS ","Southern cattail",null,null,"Willow","SALIX"]
[null,"ACER GRANDIDENTATUM ","ACGR3","Big tooth maple",null,"TYLA","TYPHA LATIFOLIA ","Broadleaf Cattail",null,null,"Willow Baccharis","BASA4"]
[null,"ACER MACROPHYLLUM ","ACMA3","Big leaf maple",null,"TYPHA","TYPHA SPP ","Cattail species",null,null,"Wingleaf soapberry","SASA4"]
[null,"ACER NEGUNDO","ACNE2","Boxelder",null,"UF","UPLAND FORB ","Upland forb",null,null,"Witchgrass","PACA6"]
[null,"ACER SPP. ","ACER","Maple spp.",null,"UG","UPLAND GRASS","Upland grass",null,null,"Wolf's willow","SAWO"]
[null,"ALNUS INCANA ","ALIN2","Mountain Alder",null,"ULAM","ULMUS AMERICANA ","American Elm",null,null,"Woodland horsetail","EQSY"]
[null,"ALNUS OBLONGIFOLIA ","ALOB2","Arizona alder",null,"URDI","URTICA DIOICA ","Stinging nettle",null,null,"Woods' rose","ROWO"]
[null,"ALNUS RHOBIFOLIA ","ALRH2","White alder",null,"US","UPLAND SHRUB","Upland shrub",null,null,"Woodsorrel species","OXALI"]
[null,"ALNUS RUBRA ","ALRU2","Red alder",null,"VACA","VACCINIUM SPP.","Blueberry",null,null,"Woolgrass","SCCY"]
[null,"ALNUS SINUATA ","ALSI3","Sitka alder (ALVI5)",null,"VACE","VACCINIUM CESPITOSUM","Dwarf bilberry",null,null,"Wooly sedge (CALA11)","CAPE42"]
[null,"ALNUS VIRIDIS ","ALVI5","Green alder (ALSI3)",null,"VAME","VACCINIUM MEMBRANACEUM","Thinleaf huckleberry",null,null,"Wooly sedge (CAPE42)","CALA30"]
[null,"BETULA GLANDULOSA ","BEGL","Resin birch",null,"VASC","VACCINIUM SCOPARIUM","Grouse whortleberry",null,null,"Wooly-fruit sedge","CALA11"]
[null,"BETULA OCCIDENTALIS ","BEOC2","Water birch",null,"VAUL","VACCINIUM ULIGINOSUM","Bog blueberry",null,null,"Yellow evening primrose","OEFL"]
[null,"BETULA PAPYRIFERA ","BEPA","Paper birch",null,"VEAM2","VERONICA AMERICANA ","American speedwell",null,null,"Yellow ladyslipper","CYPA19"]
[null,"CELTIS LAEVIGATA ","CELA","Sugarberry",null,"VEAN2","VERONICA ANAGALLIS-AQUATICA","Water speedwell",null,null,"Yellow rabbitbrush","CHVI8"]
[null,"CORYLUS CORNUTA ","COCO6","Beaked hazelnut",null,"VECA2","VERATRUM CALIFORNICUM ","California false hellebore",null,null,"Yellow willow","SALU2"]
[null,"CRATAEGUS CHRYSOCARPA ","CRCH","Northern hawthorn",null,"VEHA2","VERBENA HASTATA ","Swamp verbena",null,null,"Yerba mansa","ANCA10"]
[null,"CRATAEGUS DOUGLASII ","CRDO2","Black hawthorn",null,"VERON","VERONICA SPP. ","Speedwell",null,null,"Yewleaf willow","SATA"]
[null,"CRATAEGUS SUCCULANTA ","CRSU5","Round leafed hawthorn",null,"VIAD","VIOLA ADUNCA ","Kirk's violet"]
[null,"ELAEAGNUS ANGUSTIFOLIA ","ELAN","Russian olive",null,"VIAM","VICIA AMERICANA ","American vetch"]
[null,"FRAXINUS LATIFOLIA ","FRLA","Oregon ash",null,"VICA4","VIOLA CANADENSIS ","Canada violet"]
[null,"FRAXINUS PENNSYLVANICA ","FRPE","Green Ash",null,"VIGL","VIOLA GLABELLA ","Pioneer violet"]
[null,"FRAXINUS VELUTINA ","FRVE2","Velvet ash",null,"VILE","VIBURNUM LENTAGO","Nannyberry"]
[null,"JUGLANS MAJOR ","JUMA","Arizona walnut",null,"VIMA2","VIOLA MACLOSKEYI ","Small white violet"]
[null,"JUNIPERUS OCCIDENTALIS ","JUOC","Western juniper",null,"VIOLA","VIOLA SPP ","Violet species"]
[null,"JUNIPERUS OSTEOSPERMA ","JUOS","Utah juniper",null,"VISO","VIOLA SORORIA ","Little sand violet"]
[null,"JUNIPERUS SCOPULORUM ","JUSC2","Rocky Mountain juniper",null,"WD",null,"Anchored wood"]
[null,"LARIX OCCIDENTALIS ","LAOC","Western larch",null,"XAST","ZANTHIUM STRUMARIUM ","Rough cocklebur"]
[null,"MALUS FUSCA ","MAFU","Oregon crab apple"]
[null,"OEMLERIA CERASIFORMIS ","OECE","Indian plum"]
[null,"OSTRYA VIRGINIANA ","OSVI","Hophornbeam"]
[null,"PICEA ENGELMANNII ","PIEN","Engelmann spruce"]
[null,"PICEA GLAUCA ","PIGL","White spruce"]
[null,"PICEA PUNGENS ","PIPU","Blue spruce"]
[null,"PICEA SPP. ","PICEA","Spruce"]
[null,"PINUS CONTORTA ","PICO","Lodgepole pine"]
[null,"PINUS MONTICOLA ","PIMO3","Western white pine"]
[null,"PINUS PONDEROSA ","PIPO","Ponderosa pine"]
[null,"PLATANUS WRIGHTII ","PLWR2","Arizona Sycamore"]
[null,"POPULUS ANGUSTIFOLIA ","POAN3","Narrow-leaf cottonwood"]
[null,"POPULUS BALSAMIFERA ","POBA2","Black cottonwood (POTR15)"]
[null,"POPULUS DELTOIDES ","PODE3","Eastern cottonwood"]
[null,"POPULUS FREMONTII ","POFR2","Fremont Cottonwood"]
[null,"POPULUS SPP. ","POPUL","Cottonwood"]
[null,"POPULUS TREMULOIDES ","POTR5","Quaking aspen"]
[null,"POPULUS TRICOCARPA ","POTR15","Black cottonwood (POBA2)"]
[null,"PROSOPIS GLANDULOSA ","PRGL2","Honey mesquite"]
[null,"PROSOPIS PUBESCENS ","PRPU","Screwbean mesquite"]
[null,"PROSOPIS VELUTINA ","PRVE","Velet mesquite"]
[null,"PRUNUS AMERICANA ","PRAM","American plum"]
[null,"PRUNUS EMARGINATA ","PREM","Bitter cherry"]
[null,"PRUNUS SPP ","PRUNU","Plum species"]
[null,"PRUNUS VIRGINIA ","PRVI","Chokecherry"]
[null,"PSEUDOTSUGA MENZIESII ","PSME","Douglas fir"]
[null,"QUERCUS MACROCARPA ","QUMA2","Bur oak"]
[null,"RHAMNUS ALNIFOLIA ","RHAL","Alderleaf buckthorn"]
[null,"RHAMNUS CATHARTICA ","RHCA3","Common buckthorn"]
[null,"SALIX ALBA ","SAAL2","White willow"]
[null,"SALIX AMYGDALOIDES ","SAAM2","Peachleaf willow"]
[null,"SALIX BARCLAYI ","SABA3","Barclay's willow"]
[null,"SALIX BEBBIANA ","SABE2","Bebb willow"]
[null,"SALIX BONPLANDIANA ","SABO","Bonpland willow"]
[null,"SALIX DISCOLOR ","SADI","Pussy willow"]
[null,"SALIX GEYERIANA ","SAGE2","Geyer's willow"]
[null,"SALIX GOODDINGII ","SAGO","Gooding's willow"]
[null,"SALIX HOOKERIANA ","SAHO","Dune willow"]
[null,"SALIX LASIANDRA ","SALA5","Whiplash willow (SALU)"]
[null,"SALIX LASIOLEPIS ","SALA6","Arroyo willow"]
[null,"SALIX LUCIDA ","SALU","Shining willow (SALA5)"]
[null,"SALIX LUTEA ","SALU2","Yellow willow"]
[null,"SALIX MONTICOLA ","SAMO2","Mountain willow"]
[null,"SALIX PETIOLARIS ","SAPE5","meadow willow"]
[null,"SALIX PLANIFOLIA ","SAPL2","Diamondleaf willow"]
[null,"SALIX PROLIXA  ","SAPR3","MacKenzie's willow"]
[null,"SALIX SCOULERIANA ","SASC","Scouler willow"]
[null,"SALIX SERISSIMA ","SASE2","Autumn willow"]
[null,"SALIX SESSILIFOLIA ","SASE3","Northwest sandbar willow"]
[null,"SALIX SITCHENSIS ","SASI2","Sitka willow"]
[null,"SALIX SPP CLUMPED ","SALIXCL","Clumped willow"]
[null,"SALIX SPP RHIZOMATOUS ","SALIXRH","Rhizomatous willow"]
[null,"SALIX SPP. ","SALIX","Willow"]
[null,"SALIX TAXIFOLIA ","SATA","Yewleaf willow"]
[null,"SAPINDUS SAPONARIA ","SASA4","Wingleaf soapberry"]
[null,"SORBUS SCOPULINA ","SOSC2","Mountain ash"]
[null,"TAMARIX CHINENSIS ","TACH2","Five-stamen saltcedar"]
[null,"TAMARIX PARVIFLORA ","TAPA4","Smallflower tamarisk"]
[null,"TAMARIX RAMOSISSIMA ","TARA","Saltcedar"]
[null,"THUJA PLICATA ","THPL","Western red cedar"]
[null,"TSUGA HETEROPHYLLA ","TSHE","Western hemlock"]
[null,"ULMUS AMERICANA ","ULAM","American Elm"]
["OTHER","Embedded Rock (>15 cm)  and or Bedrock","RK"]
[null,"Anchored wood at least 15cm in diameter","WD"]

{"sheet":"KeySP","index":11,"n_rows":202,"n_cols":7,"rows_kept":202,"cut":false,"hidden":false,"merged":[]}
["POSSIBLE STUBBLE HEIGHT KEY SPECIES LIST",null,null,"KEY SPECIES FOR WOODY RIPARIAN USE",null,null,"KEY SPECIES FOR WOODY RIPARIAN SPECIES AGE CLASS"]
["  "]
["AGGI2",null,null,"ACNE2",null,null,"ACCI"]
["AGRE2",null,null,"ALIN2",null,null,"ACCO2"]
["AGROS2",null,null,"ALOB2",null,null,"ACGL"]
["AGSC5",null,null,"ALOC2",null,null,"ACMA3"]
["AGSM",null,null,"AMFR",null,null,"ACNE2"]
["AGST2",null,null,"BAEM",null,null,"ALIN2"]
["ALAE",null,null,"BASA",null,null,"ALOB2"]
["ALAR",null,null,"BASA4",null,null,"ALOC2"]
["ALGE2",null,null,"BEOC2",null,null,"ALRH2"]
["ALOPE",null,null,"CEOC2",null,null,"ALRU2"]
["ALPR3",null,null,"COSE16",null,null,"ALSI3"]
["ARDO4",null,null,"COST4",null,null,"ALVI5"]
["BESY",null,null,"FRPE",null,null,"AMFR"]
["CAAQ",null,null,"PHCA11",null,null,"ATLE"]
["CAAQ3",null,null,"PLSE",null,null,"BAEM"]
["CAAT2",null,null,"PLWR2",null,null,"BASA"]
["CAAT3",null,null,"POAN3",null,null,"BASA4"]
["CAAU3",null,null,"POFR2",null,null,"BEGL"]
["CABO2",null,null,"SAAL2",null,null,"BEOC2"]
["CABR10",null,null,"SAAM2",null,null,"BEPA"]
["CACA11",null,null,"SAAR14",null,null,"BEPU4"]
["CACA12",null,null,"SABE2",null,null,"BEPU4"]
["CACA4",null,null,"SABO",null,null,"CEANO"]
["CACU4",null,null,"SABO2",null,null,"CELA"]
["CADE9",null,null,"SABR",null,null,"CEOC2"]
["CADI6",null,null,"SADR",null,null,"CHSP11"]
["CADO2",null,null,"SAER",null,null,"CLLI2"]
["CAGR4",null,null,"SAEX",null,null,"COSE16"]
["CAHA5",null,null,"SAGE2",null,null,"COST4"]
["CAHE8",null,null,"SAGO",null,null,"CRDO2"]
["CAHY4",null,null,"SAIR",null,null,"CRSU5"]
["CAIN11",null,null,"SALA3",null,null,"DAFR6"]
["CALA30",null,null,"SALA5",null,null,"ELAN"]
["CALE10",null,null,"SALA6",null,null,"ELCO"]
["CALE24",null,null,"SALIX",null,null,"FRLA"]
["CALE8",null,null,"SALIXCL",null,null,"FRPE"]
["CALI7",null,null,"SALU",null,null,"FRVE2"]
["CAMI7",null,null,"SALU2",null,null,"JUMA"]
["CANE2",null,null,"SAMO2",null,null,"KAMI"]
["CAPE42",null,null,"SAPL2",null,null,"LEGL"]
["CAPE7",null,null,"SATA",null,null,"LOIN5"]
["CAPR5",null,null,"SAWO",null,null,"LONIC"]
["CAREX",null,null,"TAPA4",null,null,"LOUT2"]
["CAREXRH",null,null,"TARA",null,null,"MAFU"]
["CAREXTU",null,null,"VAUL",null,null,"MS"]
["CASC12",null,null,"VAUL",null,null,"PHCA11"]
["CASI2",null,null,null,null,null,"PHLE4"]
["CASP35",null,null,null,null,null,"PHMA5"]
["CAST36",null,null,null,null,null,"PICEA"]
["CAST5",null,null,null,null,null,"PIPU"]
["CASU6",null,null,null,null,null,"PLSE"]
["CATE3",null,null,null,null,null,"PLWR2"]
["CATH",null,null,null,null,null,"POAN3"]
["CAUL",null,null,null,null,null,"POBA2"]
["CAUT",null,null,null,null,null,"PODE3"]
["CAVA3",null,null,null,null,null,"POFR2"]
["CAVE6",null,null,null,null,null,"POFR4"]
["CAVU2",null,null,null,null,null,"POPUL"]
["CYAC2",null,null,null,null,null,"POTR15"]
["DECE",null,null,null,null,null,"PRPU"]
["DISP",null,null,null,null,null,"PRVI"]
["ECMU2",null,null,null,null,null,"RHAL"]
["ELAC",null,null,null,null,null,"RHCA3"]
["ELCA4",null,null,null,null,null,"RIAM2"]
["ELCI2",null,null,null,null,null,"RIAU"]
["ELEOC",null,null,null,null,null,"RIBES"]
["ELMA8",null,null,null,null,null,"RIHU"]
["ELPA3",null,null,null,null,null,"RIIN2"]
["ELPA5",null,null,null,null,null,"RIIR"]
["ELPA6",null,null,null,null,null,"RIOD"]
["ELQU2",null,null,null,null,null,"RIOX"]
["ELRE4",null,null,null,null,null,"RIVI3"]
["ELRO2",null,null,null,null,null,"ROPI2"]
["ELTR3",null,null,null,null,null,"RUPA"]
["FERU2",null,null,null,null,null,"RUSP"]
["GLBO",null,null,null,null,null,"SAAL2"]
["GLGR",null,null,null,null,null,"SAAM2"]
["GLST",null,null,null,null,null,"SAAR14"]
["GLYCE",null,null,null,null,null,"SAAR27"]
["HOBR2",null,null,null,null,null,"SABA3"]
["HOJU",null,null,null,null,null,"SABE2"]
["JUAC",null,null,null,null,null,"SABO"]
["JUAC2",null,null,null,null,null,"SABO2"]
["JUAR2",null,null,null,null,null,"SABR"]
["JUAR4",null,null,null,null,null,"SACA4"]
["JUBA",null,null,null,null,null,"SACO2"]
["JUBU",null,null,null,null,null,"SADI"]
["JUCO2",null,null,null,null,null,"SADR"]
["JUDR",null,null,null,null,null,"SAER"]
["JUDU2",null,null,null,null,null,"SAEX"]
["JUEF",null,null,null,null,null,"SAFA"]
["JUEN",null,null,null,null,null,"SAGE2"]
["JUIN2",null,null,null,null,null,"SAGO"]
["JULO",null,null,null,null,null,"SAHO"]
["JUMA3",null,null,null,null,null,"SAIN3"]
["JUME3",null,null,null,null,null,"SAIR"]
["JUME4",null,null,null,null,null,"SAJE"]
["JUNCU",null,null,null,null,null,"SALA3"]
["JUNE",null,null,null,null,null,"SALA5"]
["JUNO2",null,null,null,null,null,"SALA6"]
["JUSA",null,null,null,null,null,"SALE"]
["JUTE",null,null,null,null,null,"SALIX"]
["JUTO",null,null,null,null,null,"SALIXCL"]
["JUTR",null,null,null,null,null,"SALIXRH"]
["JUXI",null,null,null,null,null,"SALU"]
["LECI4",null,null,null,null,null,"SALU2"]
["LEOR",null,null,null,null,null,"SAMO2"]
["LETR5",null,null,null,null,null,"SANI4"]
["MG",null,null,null,null,null,"SAOR"]
["MUAN",null,null,null,null,null,"SAPE5"]
["MUAS",null,null,null,null,null,"SAPL2"]
["MUCU3",null,null,null,null,null,"SAPR3"]
["MUFI2",null,null,null,null,null,"SAPS"]
["MURA",null,null,null,null,null,"SASC"]
["MURI",null,null,null,null,null,"SASE2"]
["MURI2",null,null,null,null,null,"SASE3"]
["PACA6",null,null,null,null,null,"SASI2"]
["PADI3",null,null,null,null,null,"SATA"]
["PADI6",null,null,null,null,null,"SATW"]
["PANIC",null,null,null,null,null,"SAVE4"]
["PASM",null,null,null,null,null,"SAWO"]
["PAVI2",null,null,null,null,null,"SPDO"]
["PHAR3",null,null,null,null,null,"SYMPH"]
["PHCO15",null,null,null,null,null,"SYOC"]
["PLMU3",null,null,null,null,null,"TACH2"]
["POA",null,null,null,null,null,"TAMAR2"]
["POAR3",null,null,null,null,null,"TAPA4"]
["POMO5",null,null,null,null,null,"TARA"]
["POPA2",null,null,null,null,null,"ULAM"]
["POPR",null,null,null,null,null,"VACE"]
["POVI9",null,null,null,null,null,"VAUL"]
["PUNU2",null,null,null,null,null,"VILE"]
["SCAC"]
["SCAC3"]
["SCAM2"]
["SCAM6"]
["SCHOE6"]
["SCIRP"]
["SCMA"]
["SCMA8"]
["SCMI2"]
["SCPA8"]
["SCPU10"]
["SCPU3"]
["SCTA2"]
["SCVA"]
["SPAI"]
["SPGR",null,null," "]
["SPPE",null,null," "]
["SPWR2",null,null," "]
[null,null,null," "]
[null,null,null," "]
[null,null,null," "]
[null,null,null," "]
[null,null,null," "]
[null,null,null," "]
[null,null,null," "]
[null,null,null," "]
[null,null,null," "]
[null,null,null," "]
[null,null,null," "]
[null,null,null," "]
[null,null,null," "]
[null,null,null," "]
[null,null,null," "]
[null,null,null," "]
[null,null,null," "]
[null,null,null," "]
[null,null,null," "]
[null,null,null," "]
[null,null,null," "]
[null,null,null," "]
[null,null,null," "]
[null,null,null," "]
[null,null,null," "]
[null,null,null," "]
[null,null,null," "]
[null,null,null," "]
[" ",null,null," "]
[" ",null,null," "]
[" ",null,null," "]
[" ",null,null," "]
[" ",null,null," "]
[" ",null,null," "]
[" ",null,null," "]
[" ",null,null," "]
[" ",null,null," "]
[" ",null,null," "]
[" ",null,null," "]
[" ",null,null," "]
[" ",null,null," "]
[" ",null,null," "]
[" ",null,null," "]
[" ",null,null," "]
[" ",null,null," "]
[" ",null,null," ",null,null," "]
[" ",null,null," ",null,null," "]
[" ",null,null," ",null,null," "]
[" ",null,null," ",null,null," "]
[" ",null,null," ",null,null," "]

{"sheet":"Spatial","index":12,"n_rows":155,"n_cols":29,"rows_kept":155,"cut":false,"hidden":false,"merged":[[0,24,0,25],[0,12,0,13],[0,18,0,19],[20,0,31,5]]}
[null,null,null,null,null,null,{"$f":"\"DMA: \"&Header!C10","v":"DMA: "},null,"Mean =",{"$f":"AVERAGE(H:H)","v":20},null,null,{"$f":"\"DMA: \"&Header!I10","v":"DMA: "},null,"Mean =",{"$f":"AVERAGE(N:N)","v":{"$error":"#DIV/0!"}},null,null,{"$f":"\"DMA: \"&Header!O10","v":"DMA: "},null,"Mean =",{"$f":"AVERAGE(T:T)","v":{"$error":"#DIV/0!"}},null,null,{"$f":"\"DMA: \"&Header!U10","v":"DMA: "},null,"Mean =",{"$f":"AVERAGE(Z:Z)","v":{"$error":"#DIV/0!"}}]
[null,null,"Run spatial analysis",null,null,null,"INDICATOR:",null,"Adjacent sample points","Every other sample point","Every third sample point",null,"INDICATOR:",null,"Adjacent plots","Every other plot","Every third plot",null,"INDICATOR:",null,"Adjacent plots","Every other plot","Every third plot",null,"INDICATOR:",null,"Adjacent plots","Every other plot","Every third plot"]
[null,null,null,null,null,null,"Bank alteration (%)","CORRELATION",{"$f":"CORREL($H7:$H101,I7:I101)","v":{"$error":"#DIV/0!"}},{"$f":"CORREL($H8:$H101,J8:J101)","v":{"$error":"#DIV/0!"}},{"$f":"CORREL($H9:$H101,K9:K101)","v":{"$error":"#DIV/0!"}},null,{"$f":"\"Stubble Height \"&\"(\"&Header!F17&\")\"","v":"Stubble Height (In)"},"CORRELATION",{"$f":"CORREL($N8:$N101,O8:O101)","v":{"$error":"#DIV/0!"}},{"$f":"CORREL($N8:$N101,P8:P101)","v":{"$error":"#DIV/0!"}},{"$f":"CORREL($N9:$N101,Q9:Q101)","v":{"$error":"#DIV/0!"}},null,"GGW (m)","CORRELATION",{"$f":"CORREL($T7:$T101,U7:U101)","v":{"$error":"#DIV/0!"}},{"$f":"CORREL($T8:$T101,V8:V101)","v":{"$error":"#DIV/0!"}},{"$f":"CORREL($T9:$T101,W9:W101)","v":{"$error":"#DIV/0!"}},null,"Woody use (%)","CORRELATION",{"$f":"CORREL($Z7:$Z101,AA7:AA101)","v":{"$error":"#DIV/0!"}},{"$f":"CORREL($Z8:$Z101,AB8:AB101)","v":{"$error":"#DIV/0!"}},{"$f":"CORREL($Z9:$Z101,AC9:AC101)","v":{"$error":"#DIV/0!"}}]
["CORRELATION COEFFICIENTS  ( r)",null,null,null,null,null,null,"N",{"$f":"COUNT(I7:I101)","v":1},{"$f":"COUNT(J8:J101)","v":1},{"$f":"COUNT(K9:K101)","v":1},null,null,"N",{"$f":"COUNT(O7:O101)","v":0},{"$f":"COUNT(P8:P101)","v":0},{"$f":"COUNT(Q9:Q101)","v":0},null,null,"N",{"$f":"COUNT(U7:U101)","v":0},{"$f":"COUNT(V8:V101)","v":0},{"$f":"COUNT(W9:W101)","v":0},null,null,"N",{"$f":"COUNT(AA7:AA101)","v":0},{"$f":"COUNT(AB8:AB101)","v":0},{"$f":"COUNT(AC9:AC101)","v":0}]
[null,null,null,null,null,null,"Plot","Data",{"$f":"$G3","v":"Bank alteration (%)"},{"$f":"$G3","v":"Bank alteration (%)"},{"$f":"$G3","v":"Bank alteration (%)"},null,"Plot","Data",{"$f":"$G3","v":"Bank alteration (%)"},{"$f":"$G3","v":"Bank alteration (%)"},{"$f":"$G3","v":"Bank alteration (%)"},null,"Plot","Data",{"$f":"$G3","v":"Bank alteration (%)"},{"$f":"$G3","v":"Bank alteration (%)"},{"$f":"$G3","v":"Bank alteration (%)"},null,"Plot","Data",{"$f":"$G3","v":"Bank alteration (%)"},{"$f":"$G3","v":"Bank alteration (%)"},{"$f":"$G3","v":"Bank alteration (%)"}]
["Indicator","Adjacent","Every other","Every third","Sample points (N)",null,1,20,null,null,null,null,1,"",null,null,null,null,1,"",null,null,null,null,1,""]
["Bk Alter",{"$f":"I3","v":{"$error":"#DIV/0!"}},{"$f":"J3","v":{"$error":"#DIV/0!"}},{"$f":"K3","v":{"$error":"#DIV/0!"}},{"$f":"I4","v":1},null,2,"",{"$f":"IF(H6=\"\",\"\",H6)","v":20},null,null,null,2,"",{"$f":"IF(N6=\"\",\"\",N6)","v":""},null,null,null,2,"",{"$f":"IF(T6=\"\",\"\",T6)","v":""},null,null,null,2,"",{"$f":"IF(Z6=\"\",\"\",Z6)","v":""}]
["St Ht",{"$f":"O3","v":{"$error":"#DIV/0!"}},{"$f":"P3","v":{"$error":"#DIV/0!"}},{"$f":"Q3","v":{"$error":"#DIV/0!"}},{"$f":"O4","v":0},null,3,"",{"$f":"IF(H7=\"\",\"\",H7)","v":""},{"$f":"IF(H6=\"\",\"\",H6)","v":20},null,null,3,"",{"$f":"IF(N7=\"\",\"\",N7)","v":""},{"$f":"IF(N6=\"\",\"\",N6)","v":""},null,null,3,"",{"$f":"IF(T7=\"\",\"\",T7)","v":""},{"$f":"IF(T6=\"\",\"\",T6)","v":""},null,null,3,"",{"$f":"IF(Z7=\"\",\"\",Z7)","v":""},{"$f":"IF(Z6=\"\",\"\",Z6)","v":""}]
["GGW",{"$f":"U3","v":{"$error":"#DIV/0!"}},{"$f":"V3","v":{"$error":"#DIV/0!"}},{"$f":"W3","v":{"$error":"#DIV/0!"}},{"$f":"U4","v":0},null,4,"","",{"$f":"IF(H7=\"\",\"\",H7)","v":""},{"$f":"IF(H6=\"\",\"\",H6)","v":20},null,4,"","",{"$f":"IF(N7=\"\",\"\",N7)","v":""},{"$f":"IF(N6=\"\",\"\",N6)","v":""},null,4,"","",{"$f":"IF(T7=\"\",\"\",T7)","v":""},{"$f":"IF(T6=\"\",\"\",T6)","v":""},null,4,"","",{"$f":"IF(Z7=\"\",\"\",Z7)","v":""},{"$f":"IF(Z6=\"\",\"\",Z6)","v":""}]
["Wdy use",{"$f":"AA3","v":{"$error":"#DIV/0!"}},{"$f":"AB3","v":{"$error":"#DIV/0!"}},{"$f":"AC3","v":{"$error":"#DIV/0!"}},{"$f":"AA4","v":0},null,5,"","","",{"$f":"IF(H7=\"\",\"\",H7)","v":""},null,5,"","","",{"$f":"IF(N7=\"\",\"\",N7)","v":""},null,5,"","","",{"$f":"IF(T7=\"\",\"\",T7)","v":""},null,5,"","","",{"$f":"IF(Z7=\"\",\"\",Z7)","v":""}]
["Signifiance test using the t score (adjacent plots ):",null,null,null,null,null,6,"","","","",null,6,"","","","",null,6,"","","","",null,6,"","","",""]
[null,"Bk Alter","St Ht","GGW","Wdy use",null,7,"","","","",null,7,"","","","",null,7,"","","","",null,7,"","","",""]
["t score",{"$f":"B7*SQRT(I4-2)/SQRT(1-B7^2)","v":{"$error":"#DIV/0!"}},{"$f":"B8*SQRT(J4-2)/SQRT(1-B8^2)","v":{"$error":"#DIV/0!"}},{"$f":"B9*SQRT(K4-2)/SQRT(1-B9^2)","v":{"$error":"#DIV/0!"}},{"$f":"ABS(B10*SQRT(I4-2)/SQRT(1-B10^2))","v":{"$error":"#DIV/0!"}},null,8,"","","","",null,8,"","","","",null,8,"","","","",null,8,"","","",""]
["p value",{"$f":"_xlfn.T.DIST.2T(ABS(B13),I4-2)","v":{"$error":"#DIV/0!"}},{"$f":"_xlfn.T.DIST.2T(ABS(C13),J4-2)","v":{"$error":"#DIV/0!"}},{"$f":"_xlfn.T.DIST.2T(ABS(D13),K4-2)","v":{"$error":"#DIV/0!"}},{"$f":"_xlfn.T.DIST.2T(ABS(E13),I4-2)","v":{"$error":"#DIV/0!"}},null,9,"","","","",null,9,"","","","",null,9,"","","","",null,9,"","","",""]
["signficant?",{"$f":"IF(B14<0.05,\"Y\",\"N\")","v":{"$error":"#DIV/0!"}},{"$f":"IF(C14<0.05,\"Y\",\"N\")","v":{"$error":"#DIV/0!"}},{"$f":"IF(D14<0.05,\"Y\",\"N\")","v":{"$error":"#DIV/0!"}},{"$f":"IF(E14<0.05,\"Y\",\"N\")","v":{"$error":"#DIV/0!"}},null,10,"","","","",null,10,"","","","",null,10,"","","","",null,10,"","","",""]
[null,null,null,null,null,null,11,"","","","",null,11,"","","","",null,11,"","","","",null,11,"","","",""]
["Reference:   ","https://www.ecologycenter.us/vegetation-ecology/correlograms-morans-i.html",null,null,null,null,12,"","","","",null,12,"","","","",null,12,"","","","",null,12,"","","",""]
[null,null,null,null,null,null,13,"","","","",null,13,"","","","",null,13,"","","","",null,13,"","","",""]
[null,null,null,null,null,null,14,"","","","",null,14,"","","","",null,14,"","","","",null,14,"","","",""]
["INSTRUCTIONS:",null,null,null,null,null,15,"","","","",null,15,"","","","",null,15,"","","","",null,15,"","","",""]
["If there is an indication of spatial autocorrelation (Significant?=Y) in one or more of the indicators, the user has two options:  1).  Continue sampling at the current sample spacing and address autocorrelation issues after completing the survey (i.e., use every other sample point  for the questioned indicator(s) or treat the entire DMA as one sample); or 2). Increase the sample  spacing to reduce the potential for spatial dependence for the indicator(s) in question.  This latter approach may be preferable if several indicators are showing spatial autocorrelation. ",null,null,null,null,null,16,"","","","",null,16,"","","","",null,16,"","","","",null,16,"","","",""]
[null,null,null,null,null,null,17,"","","","",null,17,"","","","",null,17,"","","","",null,17,"","","",""]
[null,null,null,null,null,null,18,"","","","",null,18,"","","","",null,18,"","","","",null,18,"","","",""]
[null,null,null,null,null,null,19,"","","","",null,19,"","","","",null,19,"","","","",null,19,"","","",""]
[null,null,null,null,null,null,20,"","","","",null,20,"","","","",null,20,"","","","",null,20,"","","",""]
[null,null,null,null,null,null,21,"","","","",null,21,"","","","",null,21,"","","","",null,21,"","","",""]
[null,null,null,null,null,null,22,"","","","",null,22,"","","","",null,22,"","","","",null,22,"","","",""]
[null,null,null,null,null,null,23,"","","","",null,23,"","","","",null,23,"","","","",null,23,"","","",""]
[null,null,null,null,null,null,24,"","","","",null,24,"","","","",null,24,"","","","",null,24,"","","",""]
[null,null,null,null,null,null,25,"","","","",null,25,"","","","",null,25,"","","","",null,25,"","","",""]
[null,null,null,null,null,null,26,"","","","",null,26,"","","","",null,26,"","","","",null,26,"","","",""]
[null,null,null,null,null,null,27,"","","","",null,27,"","","","",null,27,"","","","",null,27,"","","",""]
[null,null,null,null,null,null,28,"","","","",null,28,"","","","",null,28,"","","","",null,28,"","","",""]
[null,null,null,null,null,null,29,"","","","",null,29,"","","","",null,29,"","","","",null,29,"","","",""]
[null,null,null,null,null,null,30,"","","","",null,30,"","","","",null,30,"","","","",null,30,"","","",""]
[null,null,null,null,null,null,31,"","","","",null,31,"","","","",null,31,"","","","",null,31,"","","",""]
[null,null,null,null,null,null,32,"","","","",null,32,"","","","",null,32,"","","","",null,32,"","","",""]
[null,null,null,null,null,null,33,"","","","",null,33,"","","","",null,33,"","","","",null,33,"","","",""]
[null,null,null,null,null,null,34,"","","","",null,34,"","","","",null,34,"","","","",null,34,"","","",""]
[null,null,null,null,null,null,35,"","","","",null,35,"","","","",null,35,"","","","",null,35,"","","",""]
[null,null,null,null,null,null,36,"","","","",null,36,"","","","",null,36,"","","","",null,36,"","","",""]
[null,null,null,null,null,null,37,"","","","",null,37,"","","","",null,37,"","","","",null,37,"","","",""]
[null,null,null,null,null,null,38,"","","","",null,38,"","","","",null,38,"","","","",null,38,"","","",""]
[null,null,null,null,null,null,39,"","","","",null,39,"","","","",null,39,"","","","",null,39,"","","",""]
[null,null,null,null,null,null,40,"","","","",null,40,"","","","",null,40,"","","","",null,40,"","","",""]
[null,null,null,null,null,null,41,"","","","",null,41,"","","","",null,41,"","","","",null,41,"","","",""]
[null,null,null,null,null,null,42,"","","","",null,42,"","","","",null,42,"","","","",null,42,"","","",""]
[null,null,null,null,null,null,43,"","","","",null,43,"","","","",null,43,"","","","",null,43,"","","",""]
[null,null,null,null,null,null,44,"","","","",null,44,"","","","",null,44,"","","","",null,44,"","","",""]
[null,null,null,null,null,null,45,"","","","",null,45,"","","","",null,45,"","","","",null,45,"","","",""]
[null,null,null,null,null,null,46,"","","","",null,46,"","","","",null,46,"","","","",null,46,"","","",""]
[null,null,null,null,null,null,47,"","","","",null,47,"","","","",null,47,"","","","",null,47,"","","",""]
[null,null,null,null,null,null,48,"","","","",null,48,"","","","",null,48,"","","","",null,48,"","","",""]
[null,null,null,null,null,null,49,"","","","",null,49,"","","","",null,49,"","","","",null,49,"","","",""]
[null,null,null,null,null,null,50,"","","","",null,50,"","","","",null,50,"","","","",null,50,"","","",""]
[null,null,null,null,null,null,51,"","","","",null,51,"","","","",null,51,"","","","",null,51,"","","",""]
[null,null,null,null,null,null,52,"","","","",null,52,"","","","",null,52,"","","","",null,52,"","","",""]
[null,null,null,null,null,null,53,"","","","",null,53,"","","","",null,53,"","","","",null,53,"","","",""]
[null,null,null,null,null,null,54,"","","","",null,54,"","","","",null,54,"","","","",null,54,"","","",""]
[null,null,null,null,null,null,55,"","","","",null,55,"","","","",null,55,"","","","",null,55,"","","",""]
[null,null,null,null,null,null,56,"","","","",null,56,"","","","",null,56,"","","","",null,56,"","","",""]
[null,null,null,null,null,null,57,"","","","",null,57,"","","","",null,57,"","","","",null,57,"","","",""]
[null,null,null,null,null,null,58,"","","","",null,58,"","","","",null,58,"","","","",null,58,"","","",""]
[null,null,null,null,null,null,59,"","","","",null,59,"","","","",null,59,"","","","",null,59,"","","",""]
[null,null,null,null,null,null,60,"","","","",null,60,"","","","",null,60,"","","","",null,60,"","","",""]
[null,null,null,null,null,null,61,"","","","",null,61,"","","","",null,61,"","","","",null,61,"","","",""]
[null,null,null,null,null,null,62,"","","","",null,62,"","","","",null,62,"","","","",null,62,"","","",""]
[null,null,null,null,null,null,63,"","","","",null,63,"","","","",null,63,"","","","",null,63,"","","",""]
[null,null,null,null,null,null,64,"","","","",null,64,"","","","",null,64,"","","","",null,64,"","","",""]
[null,null,null,null,null,null,65,"","","","",null,65,"","","","",null,65,"","","","",null,65,"","","",""]
[null,null,null,null,null,null,66,"","","","",null,66,"","","","",null,66,"","","","",null,66,"","","",""]
[null,null,null,null,null,null,67,"",{"$f":"IF(H71=\"\",\"\",H71)","v":""},"","",null,67,"",{"$f":"IF(N71=\"\",\"\",N71)","v":""},"","",null,67,"",{"$f":"IF(T71=\"\",\"\",T71)","v":""},"","",null,67,"",{"$f":"IF(Z71=\"\",\"\",Z71)","v":""},"",""]
[null,null,null,null,null,null,68,"","",{"$f":"IF(H71=\"\",\"\",H71)","v":""},"",null,68,"","",{"$f":"IF(N71=\"\",\"\",N71)","v":""},"",null,68,"","",{"$f":"IF(T71=\"\",\"\",T71)","v":""},"",null,68,"","",{"$f":"IF(Z71=\"\",\"\",Z71)","v":""},""]
[null,null,null,null,null,null,69,"","","",{"$f":"IF(H71=\"\",\"\",H71)","v":""},null,69,"","","",{"$f":"IF(N71=\"\",\"\",N71)","v":""},null,69,"","","",{"$f":"IF(T71=\"\",\"\",T71)","v":""},null,69,"","","",{"$f":"IF(Z71=\"\",\"\",Z71)","v":""}]
[null,null,null,null,null,null,70,"","","","",null,70,"","","","",null,70,"","","","",null,70,"","","",""]
[null,null,null,null,null,null,71,"","","","",null,71,"","","","",null,71,"","","","",null,71,"","","",""]
[null,null,null,null,null,null,72,"","","","",null,72,"","","","",null,72,"","","","",null,72,"","","",""]
[null,null,null,null,null,null,73,"","","","",null,73,"","","","",null,73,"","","","",null,73,"","","",""]
[null,null,null,null,null,null,74,"","","","",null,74,"","","","",null,74,"","","","",null,74,"","","",""]
[null,null,null,null,null,null,75,"","","","",null,75,"","","","",null,75,"","","","",null,75,"","","",""]
[null,null,null,null,null,null,76,"","","","",null,76,"","","","",null,76,"","","","",null,76,"","","",""]
[null,null,null,null,null,null,77,"","","","",null,77,"","","","",null,77,"","","","",null,77,"","","",""]
[null,null,null,null,null,null,78,"","","","",null,78,"","","","",null,78,"","","","",null,78,"","","",""]
[null,null,null,null,null,null,79,"","","","",null,79,"","","","",null,79,"","","","",null,79,"","","",""]
[null,null,null,null,null,null,80,"","","","",null,80,"","","","",null,80,"","","","",null,80,"","","",""]
[null,null,null,null,null,null,81,"","","","",null,81,"","","","",null,81,"","","","",null,81,"","","",""]
[null,null,null,null,null,null,82,"","","","",null,82,"","","","",null,82,"","","","",null,82,"","","",""]
[null,null,null,null,null,null,83,"","","","",null,83,"","","","",null,83,"","","","",null,83,"","","",""]
[null,null,null,null,null,null,84,"","","","",null,84,"","","","",null,84,"","","","",null,84,"","","",""]
[null,null,null,null,null,null,85,"","","","",null,85,"","","","",null,85,"","","","",null,85,"","","",""]
[null,null,null,null,null,null,86,"","","","",null,86,"","","","",null,86,"","","","",null,86,"","","",""]
[null,null,null,null,null,null,87,"","","","",null,87,"","","","",null,87,"","","","",null,87,"","","",""]
[null,null,null,null,null,null,88,"","","","",null,88,"","","","",null,88,"","","","",null,88,"","","",""]
[null,null,null,null,null,null,89,"","","","",null,89,"","","","",null,89,"","","","",null,89,"","","",""]
[null,null,null,null,null,null,90,"","","","",null,90,"","","","",null,90,"","","","",null,90,"","","",""]
[null,null,null,null,null,null,91,"","","","",null,91,"","","","",null,91,"","","","",null,91,"","","",""]
[null,null,null,null,null,null,92,"","","","",null,92,"","","","",null,92,"","","","",null,92,"","","",""]
[null,null,null,null,null,null,93,"","","","",null,93,"","","","",null,93,"","","","",null,93,"","","",""]
[null,null,null,null,null,null,94,"","","","",null,94,"","","","",null,94,"","","","",null,94,"","","",""]
[null,null,null,null,null,null,95,"","","","",null,95,"","","","",null,95,"","","","",null,95,"","","",""]
[null,null,null,null,null,null,96,"","",{"$f":"IF(H99=\"\",\"\",H99)","v":""},"",null,96,"","",{"$f":"IF(N99=\"\",\"\",N99)","v":""},"",null,96,"","",{"$f":"IF(T99=\"\",\"\",T99)","v":""},"",null,96,"","",{"$f":"IF(Z99=\"\",\"\",Z99)","v":""},""]
[null,null,null,null,null,null,null,"",null,null,null,null,null,"",null,null,null,null,null,"",null,null,null,null,null,""]
[null,null,null,null,null,null,null,"",null,null,null,null,null,"",null,null,null,null,null,"",null,null,null,null,null,""]
[null,null,null,null,null,null,null,"",null,null,null,null,null,"",null,null,null,null,null,"",null,null,null,null,null,""]
[null,null,null,null,null,null,null,"",null,null,null,null,null,"",null,null,null,null,null,"",null,null,null,null,null,""]
[null,null,null,null,null,null,null,"",null,null,null,null,null,"",null,null,null,null,null,"",null,null,null,null,null,""]
[null,null,null,null,null,null,null,"",null,null,null,null,null,"",null,null,null,null,null,"",null,null,null,null,null,""]
[null,null,null,null,null,null,null,"",null,null,null,null,null,"",null,null,null,null,null,"",null,null,null,null,null,""]
[null,null,null,null,null,null,null,"",null,null,null,null,null,"",null,null,null,null,null,"",null,null,null,null,null,""]
[null,null,null,null,null,null,null,"",null,null,null,null,null,"",null,null,null,null,null,"",null,null,null,null,null,""]
[null,null,null,null,null,null,null,"",null,null,null,null,null,"",null,null,null,null,null,"",null,null,null,null,null,""]
[null,null,null,null,null,null,null,"",null,null,null,null,null,"",null,null,null,null,null,"",null,null,null,null,null,""]
[null,null,null,null,null,null,null,"",null,null,null,null,null,"",null,null,null,null,null,"",null,null,null,null,null,""]
[null,null,null,null,null,null,null,"",null,null,null,null,null,"",null,null,null,null,null,"",null,null,null,null,null,""]
[null,null,null,null,null,null,null,"",null,null,null,null,null,"",null,null,null,null,null,"",null,null,null,null,null,""]
[null,null,null,null,null,null,null,"",null,null,null,null,null,"",null,null,null,null,null,"",null,null,null,null,null,""]
[null,null,null,null,null,null,null,"",null,null,null,null,null,"",null,null,null,null,null,"",null,null,null,null,null,""]
[null,null,null,null,null,null,null,"",null,null,null,null,null,"",null,null,null,null,null,"",null,null,null,null,null,""]
[null,null,null,null,null,null,null,"",null,null,null,null,null,"",null,null,null,null,null,"",null,null,null,null,null,""]
[null,null,null,null,null,null,null,"",null,null,null,null,null,"",null,null,null,null,null,"",null,null,null,null,null,""]
[null,null,null,null,null,null,null,"",null,null,null,null,null,"",null,null,null,null,null,"",null,null,null,null,null,""]
[null,null,null,null,null,null,null,"",null,null,null,null,null,"",null,null,null,null,null,"",null,null,null,null,null,""]
[null,null,null,null,null,null,null,"",null,null,null,null,null,"",null,null,null,null,null,"",null,null,null,null,null,""]
[null,null,null,null,null,null,null,"",null,null,null,null,null,"",null,null,null,null,null,"",null,null,null,null,null,""]
[null,null,null,null,null,null,null,"",null,null,null,null,null,"",null,null,null,null,null,"",null,null,null,null,null,""]
[null,null,null,null,null,null,null,"",null,null,null,null,null,"",null,null,null,null,null,"",null,null,null,null,null,""]
[null,null,null,null,null,null,null,"",null,null,null,null,null,"",null,null,null,null,null,"",null,null,null,null,null,""]
[null,null,null,null,null,null,null,"",null,null,null,null,null,"",null,null,null,null,null,"",null,null,null,null,null,""]
[null,null,null,null,null,null,null,"",null,null,null,null,null,"",null,null,null,null,null,"",null,null,null,null,null,""]
[null,null,null,null,null,null,null,"",null,null,null,null,null,"",null,null,null,null,null,"",null,null,null,null,null,""]
[null,null,null,null,null,null,null,"",null,null,null,null,null,"",null,null,null,null,null,"",null,null,null,null,null,""]
[null,null,null,null,null,null,null,"",null,null,null,null,null,"",null,null,null,null,null,"",null,null,null,null,null,""]
[null,null,null,null,null,null,null,"",null,null,null,null,null,"",null,null,null,null,null,"",null,null,null,null,null,""]
[null,null,null,null,null,null,null,"",null,null,null,null,null,"",null,null,null,null,null,"",null,null,null,null,null,""]
[null,null,null,null,null,null,null,"",null,null,null,null,null,"",null,null,null,null,null,"",null,null,null,null,null,""]
[null,null,null,null,null,null,null,"",null,null,null,null,null,"",null,null,null,null,null,"",null,null,null,null,null,""]
[null,null,null,null,null,null,null,"",null,null,null,null,null,"",null,null,null,null,null,"",null,null,null,null,null,""]
[null,null,null,null,null,null,null,"",null,null,null,null,null,"",null,null,null,null,null,"",null,null,null,null,null,""]
[null,null,null,null,null,null,null,"",null,null,null,null,null,"",null,null,null,null,null,"",null,null,null,null,null,""]
[null,null,null,null,null,null,null,"",null,null,null,null,null,"",null,null,null,null,null,"",null,null,null,null,null,""]
[null,null,null,null,null,null,null,"",null,null,null,null,null,"",null,null,null,null,null,"",null,null,null,null,null,""]
[null,null,null,null,null,null,null,"",null,null,null,null,null,"",null,null,null,null,null,"",null,null,null,null,null,""]
[null,null,null,null,null,null,null,"",null,null,null,null,null,"",null,null,null,null,null,"",null,null,null,null,null,""]
[null,null,null,null,null,null,null,"",null,null,null,null,null,"",null,null,null,null,null,"",null,null,null,null,null,""]
[null,null,null,null,null,null,null,"",null,null,null,null,null,"",null,null,null,null,null,"",null,null,null,null,null,""]
[null,null,null,null,null,null,null,"",null,null,null,null,null,"",null,null,null,null,null,"",null,null,null,null,null,""]
[null,null,null,null,null,null,null,"",null,null,null,null,null,"",null,null,null,null,null,"",null,null,null,null,null,""]
[null,null,null,null,null,null,null,"",null,null,null,null,null,"",null,null,null,null,null,"",null,null,null,null,null,""]
[null,null,null,null,null,null,null,"",null,null,null,null,null,"",null,null,null,null,null,"",null,null,null,null,null,""]
[null,null,null,null,null,null,null,"",null,null,null,null,null,"",null,null,null,null,null,"",null,null,null,null,null,""]
[null,null,null,null,null,null,null,"",null,null,null,null,null,"",null,null,null,null,null,"",null,null,null,null,null,""]
[null,null,null,null,null,null,null,"",null,null,null,null,null,"",null,null,null,null,null,"",null,null,null,null,null,""]
[null,null,null,null,null,null,null,"",null,null,null,null,null,"",null,null,null,null,null,"",null,null,null,null,null,""]
[null,null,null,null,null,null,null,"",null,null,null,null,null,"",null,null,null,null,null,"",null,null,null,null,null,""]
[null,null,null,null,null,null,null,"",null,null,null,null,null,"",null,null,null,null,null,"",null,null,null,null,null,""]