{"text_format":"1","workbook":"xlsx","n_sheets":10,"sheets":["Instructions","Header","DMA","Comments","Graphs","Codes","Calcs","PLANTS","KeySP","Spatial"],"not_rendered":{"charts":3,"images":5,"macros":1,"external_links":0,"defined_names":19,"comments":0,"pivot_tables":0},"unopened":[],"bounds":{"document_bytes":16777216,"sheet_cells":100000,"rows_first":2000,"rows_last":500,"rows_between":2000,"halvings":0,"cell_chars":16384,"cell_head_chars":4096},"cells_cut":0,"cells_raw":0,"read":"whole","date_system":"1900"}

{"sheet":"Instructions","index":0,"n_rows":72,"n_cols":5,"rows_kept":72,"cut":false,"hidden":false,"merged":[[69,0,69,1],[71,0,71,1]]}
["Data Entry Module for Livestock use (shot-term indicators) 2025",null,null,null,"PLANT DATA MACROS"]
["About this version",null,null,null,"       CLICK TO RUN THE MACRO"]
["PURPOSE:  "]
[null,"This module is designed for data entry using a Tablet or other machine that",null,null,"IMPORT plant list from previous data"]
[null,"supports the full version of Microsoft EXCEL, including macros.  It will also function on tablets that don’t support macros, in which case you will have to fill out the plant lists by hand."]
[null,"The advantages of using this module for data entry are many.  Here you can"]
[null,"import plant lists from previous data which are then used to populate the drop-",null,null,"LINK to USDA Plants Database"]
[null,"downs in the DMA sheet, and data entry cells are expanded upon selection."]
[]
["MASTER COPY: Maintain a master copy "]
[" ","Make a master copy of this module for use at other DMAs.   ",null,null,"Run SPATIAL analysis "]
["IMPORT PLANT LIST:   use this macro to upload plant data from a previous sample."]
[null,"Upload from a Data Analysis Module. This is best done in the office on a pc or laptop prior to going to the field.  Once the data are uploaded and the PLANTS worksheet contains the species for the site, then copy this file to the field tablet.  Important note:  key species from the previous sample are displayed in columns R,S,T,and U.  You must fill out columns O and P, Key Species for this sample, by hand in order for these to appear in the drop-downs."]
[]
["MIGRATE THESE DATA TO THE \"DATA ANALYSIS MODULE\""]
[" ","For analysis, upload these entry data, using Macros in",null,null,"Go to \"PLANTS\" to build plant list and key species lists for the site"]
[null,"the Data Analysis Module, to obtain comprehensive results.",null,null,"OR"]
[null,null,null,null,"Click on the Macro above \"Import plant "]
["PLANT LISTS",null,null,null,"list from previous data\" to populate the plant and key species list for this DMA from previously collected data (the Data Analysis Module)"]
[null,"IMPORTANT:  The drop-downs for plants in the DMA spreadsheet are generated from the plant list and key species list you build in the PLANTS spreadsheet, columns n, o, and p.  The master plant list on the PLANTS tab, columns A, B, C, and D contains the MIM Plant List - the master list handed out at the MIM workshop, and contains the most common riparian plants for all three Regions, WMV, ARID, and GP.  The plant ratings (e.g. wetland rating) are not used in this module and so it is not unique to any of the Plant Regions."]
[]
[]
["WORKSHEETS IN THE DATA ENTRY MODULE"]
[null,"\"Header\" :  Contains descriptive information about the designated monitoring area (DMA). "]
[null," \"DMA\":  Raw data form for plants, bank stability/cover/alteration, GGW, and livestock use indicators."]
[]
[]
[null,"\"Comments\":  DMA and/or Plot-by-plot notes and other information"]
[null,"\"Graphs\":  Migrating plant data from a previous sample populates this table.  This table provides the source for the plant lists created in the Plants tab.."]
[null,"\"Codes\":  Displays metric summary codes such as for \"Ecological Status\"."]
[null,"\"Calcs\":  Summarizes arithmetic operations in the workbook."]
[null,"\"PLANTS\":  Master plant list used to analyze greenline vegetation, including codes."]
[null,"\"KeySP\":  Master list of Key Species for subble height and woody age class and browse."]
[]
[]
["ENTERING DATA INTO THE MODULE"]
[null,"1. This module is designed for direct data entry into worksheet tables."]
[null,"2. You must populate cells in the \"Header\" worksheet for complete display of all metrics in the Data_summary worksheet "]
[null,"3.  Species codes in the drop-downs of the plant species in the DMA sheet are derived from columns N, O, and P of the PLANTS worksheet"]
[]
[null,"IMPORTANT NOTE:  When entering data into one of the data forms (Header, DMA) DO NOT insert or delete"]
[" ","cells, rows, or columns to protect the integrity of the module structure.  You can \"Copy\" and \"Clear\" cells and blocks of cells  "]
[null,"to move data.   You can also edit the contents of individual cells."]
[]
[]
["MACROS"]
[]
[null,"Link to USDA Plants Database:  Select this to automatically open the USDA plants database on the WEB"]
[null,"Import Plant List:  This routine will upload previously collected plant codes from a Data Analysis Module for this or any nearby DMA where the plants are expected to be present at this location."]
[]
["PLANTS"]
[null,"The worksheet, \"PLANTS\"  is used to handle plant species codes used in the data entry routine.  The plant list for the DMA is built in column M and populates the drop-down lists on the DMA tab."]
[null,"You can add or change plant codes, change plant ratings, and re-sort the data."]
[null,"To sort the data:   "]
[null,"  1.  Place the cursor in the cell immediately below \"Species\" in the PLANTS worksheet    "]
[null,"  2.  Select - \"Data\" - then \"Sort\" in the drop-down menu"]
[]
["UNLOCKING LOCKED SHEETS"]
[null,"Right-click on the tab at the bottom of the workbook and select \"unprotect sheet\"."]
[null,"When unprotecting sheets, be careful not to replace or erase equations. "]
[" "]
["Methods"]
["Burton, T.A., S.J. Smith, and E.R. Cowley. 2011. Riparian area management: Multiple"]
["indicator monitoring (MIM) of stream channels and streamside vegetation. Technical"]
["Reference 1737-23. BLM/OC/ST-10/003+1737. U.S. Department of the Interior,"]
["Bureau of Land Management, National Operations Center, Denver, CO. 155 pp."]
[]
["Available on-line at:"]
[]
["http://www.rmsmim.com     "]
["or"]
["https://www.blm.gov/documents/national-office/blm-library/technical-reference/multiple-indicator-monitoring-mim-stream"]

{"sheet":"Header","index":1,"n_rows":143,"n_cols":23,"rows_kept":143,"cut":false,"hidden":false,"merged":[[39,0,39,4],[110,0,115,5]]}
["HEADER FORM ",null,null,"For sample size: * ",null,"Stubble Ht",null,"Woody Use","Alteration",null,null,null,null,null,null,"Substrate",null,"woody use",null,"GGW","St Ht","ALT"]
[null,"Allotment:",null,"Margin of error:",null,{"$f":"DMA!G513","v":0.83},null,{"$f":"DMA!J513/100","v":5.1999999999999998E-3},{"$f":"DMA!B513","v":6.6000000000000003E-2},null,null,null,null,null,"zae",{"$f":"IF($E3=0.8,1.28,IF($E3=0.85,1.49,IF(E3=0.9,1.64,IF(E3=0.95,1.96,IF(E3=0.99,2.58,1)))))","v":1.96},null,{"$f":"P2","v":1.96},null,{"$f":"P2","v":1.96},{"$f":"R2","v":1.96},{"$f":"P2","v":1.96}]
[null,"Forest/District:",null,"Confidence level:",0.95,"*See below for an explanation of this table.",null,null,null,null,null,null,null,null,"s",{"$f":"#REF!","v":{"$error":"#REF!"}},null,{"$f":"STDEV(DMA!J$5:J$503)","v":{"$error":"#DIV/0!"}},null,{"$f":"STDEV(DMA!#REF!)","v":{"$error":"#REF!"}},{"$f":"STDEV(DMA!G5:G503)","v":{"$error":"#DIV/0!"}},{"$f":"IF(ISERROR(DMA!B506),\"\",DMA!B506)","v":""}]
[null,"RD/FO:",null,null,null,null,null,null,null,null,null,null,null,null,"B",{"$f":"G2*AVERAGE(#REF!)","v":{"$error":"#REF!"}},null,{"$f":"DMA!J513/100","v":5.1999999999999998E-3},null,{"$f":"DMA!#REF!","v":{"$error":"#REF!"}},{"$f":"0.16*AVERAGE(DMA!G5:G504)","v":{"$error":"#DIV/0!"}},{"$f":"DMA!B513","v":6.6000000000000003E-2},"INT"]
[null,"Observer(s):",null,"Random number for starting pace set",null,null,null,null,null,null,null,null,null,null,null,null,null,null,null,null,null,null,"DS"]
[null,"Plot spacing (m)",3.75,{"$f":"RAND()*5","v":0.41525260794352592},"(Enter data in any open cell to re-calculate)",null,null,"[click ","HERE"]
[null,"Starting Distance (m)",2,{"$f":"C6*C7","v":7.5},"(sample point interval)",null,"        ","           to convert feet to meters]"]
["DESIGNATED MONITORING AREA:",null,null,null,"    Downstream Marker",null,"       Upstream  Marker",null,"  Reference Marker"]
["DMA ID","PASTURE NAME","STREAM","DATE","Latitude","Longitude","Latitude","Longitude","Latitude","Longitude"]
[]
["DMA NAME and/or Description:",null,null,"(mm/dd/yyyy)","UTM Northing","UTM Easting","UTM Northing","UTM Easting","UTM zone:","Datum"]
[]
[null,null,null,null,"*Are hydrophytic woody plants supposed to be present at this site (y/n)?"]
[null,null,null,null,"*Are there any hydrophytic woody plants present (y/n)?"]
[null,null,null,null,"*Are all age classes of hydrophytic woody plants present (y/n)?",null,null,"Last sample point number on the left bank:",null,null,null,{"$f":"ROUNDUP(MAX(DMA!A6:A504)/2,0)","v":0}]
[null,null,null,null,null,null,"Slope","Substrate"]
[" ",null,null,null,"Units used to record Stubble Height  (In - Inches, CM = Centimeters):","In","Class**","Class**","Predicted from \"Substr\""]
[" ",null,null,null,"6th Field HUC:",null,null,null,{"$f":"IF(#REF!=\"\",\"\",IF(#REF!<2.01,\"silt_clay_sand\",IF(#REF!>264,\"boulder\",IF(#REF!>63.5,\"cobble\",IF(#REF!>2,\"gravel\")))))","v":{"$error":"#REF!"}}]
["* - Required for calculating Ecological Status (see \"Codes\" worksheet (column A for instructions)"]
[null,"Slope class:  less than .5%,   .5 to 2%,   2 to 4%,  >4%, and >10%"]
[null,"Substrate class:  bd(boulder), cb(cobble), gr(gravel), cons(consolidated sand/silt/clay), nonc(nonconsolidated sand/silt/clay), br(bedrock)"]
[]
["DMA Selection Rationale"]
[]
["Y,   N, or NA","CRITERIA FOR REPRESENTATIVE DMA",null,null,null,null,null,null,"Photo log","File Name"]
[null,"1.  Was the riparian complex selected by an ID Team?",null,null,null,null,null,null,"Lower Up"]
[null,"2.  Is the DMA in a complex that represents and is accessible to the management activity?",null,null,null,null,null,null,"Lower Across"]
[null,"3.  Is the DMA randomly located in the riparian complex most sensitive to management?  ",null,null,null,null,null,null,"Upper Down"]
[null,"4.  Is the DMA sensitive to disturbance (not armored)?",null,null,null,null,null,null,"Upper Across"]
[null,"5.  Will the DMA site respond to management?"]
[null,"6.  If stream is over 4% gradient, does it have a well developed floodplain?"]
[null,"7.  Is the DMA located outside of a livestock concentration area?  "]
[null,"8.  Is the DMA free from the influence of compounding activities?"]
[null,null,null,null,null,null,null,null,null,null,null,null,null,null,null,null,null,null,null," "]
[null,"Is it a CRITICAL DMA?",null,null,null,null,null,null,null,null,null,null,null,null,null,null,null,0.6,2,"<.5","nonc","Y","I"]
[null,null,null,null,null,null,null,null,null,null,null,null,null,null,null,null,null,0.65,3,"<2","cons","N","CM"]
[null,"Is it a REFERENCE DMA?",null,null,null,null,null,null,null,null,null,null,null,null,null,null,null,0.7,4,"2-4","bd","NA"]
[null,null,null,null,null,null,null,null,null,null,null,null,null,null,null,null,null,0.75,5,">4","cb"]
["NARRATIVE",null,null,null,null,null,null,null,null,null,null,null,null,null,null,null,null,0.8,6,">10","gr"]
[null,null,null,null,null,null,null,null,null,null,null,null,null,null,null,null,null,null,null,null,"br"]
[]
[]
["SATELLITE PHOTO OR SKETCH OF DMA"]
[]
[]
[]
[]
[]
[]
[]
[]
[]
[]
[]
[]
[]
[]
[]
[]
[]
[]
[]
[]
[]
[]
[]
[]
[]
[]
[]
[]
[]
[]
[]
["*Sample Size - using \"Margin of error\" and \"Confidence\"",null,null,null,null,null,null,null,"** - Required for calculating Ecological Status"]
["The desired sample size for any variable that produces a mean or proportion, can be estimated while collecting field data"]
[" using the following equation:  n = (Zæ)2(s)2/(B)2"]
["Where:"]
[]
["n = The sample size estimate."]
["Zæ = The standard normal coefficient from the table below."]
["s =The standard deviation."]
["B = The desired precision level (margin of error) expressed as half of the maximum acceptable confidence interval width. "]
["and expressed as a percent or proportion of the mean."]
[]
["Standard Normal Coefficients:"]
["Confid-ence level","Alpha (æ) level","(Zæ)"]
[0.8,0.2,1.28]
[0.85,0.15,1.49]
[0.9,0.1,1.64]
[0.95,0.05,1.96]
[0.99,0.01,2.58]
[]
["The desired precision (B) level (or margin of error) defaults provided in this module (cells e2 to i2)"]
["are set so as to not exceed one-half the Confidence interval (or the margin of error) for individual"]
["metrics derived from field testing of the indicator,  as shown on table 9 in Chapter III of the Data Instructions Guide."]
["For example, the margin of error (ME) in table 9 for GGW is .45 meter around the mean,"]
["which is equal to one half the confidence interval of .90 ( ±.45 meter either side of the mean)."]
["However Table 9 also provides the relative margin of error (RME) of 7% of the GGW value.  Thus if GGW is 5 meters,"]
["7% of 5 meters is .35 meters and of 10 meters is .7 meter.  The RME is used to calculate the ME in cells e2 to i2."]
[]
["Using the above equation, sample sizes are estimated for the site using the default margin of error for"]
["the \"desired precision level\", the values in the above table as applied to the \"Confidence level\","]
["and the standard deviation from the data collected in this sample.  Thus as samples are collected, the"]
["Standard deviation is constantly changing and refining the predicted population size."]
[]
["Normally, one would not have a good justification for modifying the \"Margin of Error\", thus these cells are locked."]
["The user can vary the \"Confidence Level\" if fewer samples are desired or necessary given the variability on-site.",null,null,null,null,null,null,null,"** - Slope class and substrate class are also required to calculate Ecological Status per Winward (2000). ",null,null,null,null,null,null,null,null,null,null,"Enter feet here"]
["Thus, the user has the option of accepting a wider confidence interval (lower precision) when sample sizes become excessive.",null,null,null,null,null,null,null,null,"Codes descriptions for Slope and Substrate Classes are contained in the \"Codes\" worksheet - ",null,null,null,null,null,null,null,null,null,8.25,null,{"$f":"IF(T109=\"\",\"\",CONVERT(T109,\"ft\",\"m\"))","v":2.5146000000000002},"Meters"]
[null,null,null,null,null,null,null,null,null,null,null,null,null,null,null,null,null,null,null,null,null,"Return"]
["NOTE:   The advantage of using a lower confidence level is that it can lead to a wider margin of error (confidence interval) which may be desirable if fewer samples are available at the site.   However, it is important to note that using a lower confidence level also increases the risk of making a Type I error, which is rejecting a true null hypothesis.  In other words, a significant difference in a trend or condition might be indicated by the statistical test using the confidence interval and yet because the confidence level is lower,  we end up with a false positive - rather than accepting the significant difference it may not actually be true."]
[]
[]
[]
[]
[]
[]
[]
[]
[]
[]
[]
[]
[]
[]
[]
[]
[]
[]
[]
[]
[]
[]
[]
[]
[]
[]
[]
[]
[]
[]
[]
[null,null,null,null,null,null,"Use this link"]

{"sheet":"DMA","index":2,"n_rows":610,"n_cols":150,"rows_kept":610,"cut":false,"hidden":false,"merged":[[1,2,1,4]]}
[null," ","Streambanks ",null,null,"      Stubble Height",null,null,"   Woody Species Use",null,null,null,null,null,null,null,null,null,null,null,null,null,null,null,null,null,null,null,null,null,null,null,null,null,null,null,null,null,null,null,null,null,null,null,null,null,null,null,null,null,null,null,null,null,null,null,null,null,null,null,null,null,null,null,null,null,null,null,null,null,null,null,null,null,null,null,null,null,null,null,null,null,null,null,null,null,null,null,null,null,null,null,null,null,null,null,null,null,null,null,null,null,null,null,null,null,null,null,null,null,null,null,null,null,null,null,null,null,null,null,null,null,null,null,null,null,null,null,null,null,null,null,null,null,"Absolute streambank cover",null,null,"Return to DMA table",null,null,null,null,null,null,null,null,null,null," ","Streambanks "]
["Plot #","Streambank Alteration","Streambank Stability",null,null,"Species","Height","Grazed?"," Species","Use %","Distance    ",null,"Streambank Stability",null,null,null,"Composition",null,null,null,null,null,null,null,null,null,null,null,null,null,null,null,null,null,null,null,null,null,null,null,null,null,null,null,null,null,null,null,null,null,null,null,null,null,null,null,null,null,null,null,null,null,null,null,null,null,null,null,null,null,null,null,null,null,null,null,null,null,null,null,null,null,null,null,null,null,null,null,null,null,null,null,null,null,null,null,null,null,null,null,null,null,null,null,null,null,null,null,null,null,null,null,null,null,null,null,null,null,null,null,null,null,null,null,null,null,null,null,null,null,null,null,null,null,null,null,"PERCENT COVER",null,null,null,null,null,null,null,null,null,null,null,"Streambank Alteration"]
[null,"(0 to 5)","  E=      Erosional        D= Depositional","  C= Covered    U= Uncovered",null,"(Code)",{"$f":"IF(Header!F17=\"In\",\"Inches\",\"Centimeters\")","v":"Inches"},"y/n","(Code)","(Percent)","(Meters)",null,"(Calculated automatically, do not record data in this block)",null,null,null,null,null,null,null,null,null,"SH Sample #","GGW Sample #","WH Sample #","ALT Sample #",null,null,null,null,null,null,null,null,null,null,null,null,null,null,null,null,null,null,null,null,null,null,null,null,null,null,null,null,null,null,null,null,null,null,null,null,null,null,null,null,null,null,null,null,null,null,null,null,null,null,null,null,null,null,null,null,null,null,null,null,null,null,null,null,null,null,null,null,null,null,null,null,null,null,null,"Data Validation",null,null,null,null,null,null,null,null,null,null,null,"LISTS",null,null,null,null,null,null,null,null,null,null,null,null,null,null,null,null,null,null,null,null,"Sample #","Veg","Rock","Large wood","Calculated Bare/litter",null,null,null,null,null,null,null,null,null,"(0 to 5)"]
["Sample #",{"$f":"IF(ISERROR(B517),\"N Min= \"&80,\"N Min= \"&ROUNDUP(B517,0))","v":"N Min= 80"},{"$f":"\"Sample points    N = \"&MAX(A5:A502)","v":"Sample points    N = 1"},"Link to Cover   table",null,{"$f":"\"N= \"&COUNT(G5:G503)","v":"N= 0"},{"$f":"IF(ISERROR(G517),\"N Min= \"&80,\"N Min= \"&ROUNDUP(G517,0))","v":"N Min= 80"},null,{"$f":"\"N= \"&COUNT(J5:J503)","v":"N= 0"},{"$f":"IF(ISERROR(J517),\"N Min= \"&52,\"N Min= \"&ROUNDUP(J517,0))","v":"N Min= 52"},null,null,"Depositional","Erosional","Streambank Stability Class","Code","Plot","Plot Composition","PLOT","Sum Composition",null,null,{"$f":"IF(ISERROR((Header!U2*DMA!G506/Header!F2)^2),50,((Header!U2)^2*(Header!U3)^2/(Header!F2)^2))","v":50},40,{"$f":"IF(ISERROR((Header!R2*Header!R3/Header!H2)^2),52,((Header!R2)^2*(Header!R3)^2/(Header!H2)^2))","v":52},null,null,null,null,null,null,null,null,null,null,null,null,null,null,null,null,null,null,null,null,null,null,null,null,null,null,null,null,null,null,null,null,null,null,null,null,null,null,null,null,null,null,null,null,null,null,null,null,null,null,null,null,null,null,null,null,null,null,null,null,null,null,null,null,null,null,null,null,null,null,null,null,null,null,null,null,"type","cover","stab",null,null,null,null,null,null,null,null,"Plot","Composition","Woody Species height class","Streambank Alteration","Stubble height","GGW & BFW","Rhizom","Woody age class","Woody use","Height Class","Grazed?",null,null,null,null,null,null,null,null,null,null,null,1,null,null,null,{"$f":"IF(SUM(EF4:EH4)=0,\"\",100-SUM(EF4:EH4))","v":""},"Determine the absolute cover for each of the cover constituents: ",null,null,null,null,null,null,null,null,{"$f":"IF(ISERROR(ES517),\"N Desired= \"&80,\"N Desired= \"&ROUNDUP(ES517,0))","v":"N Desired= 80"}]
[1,null,null,null,null,null,null,null,null,null,{"$f":"IF(A5=\"\",\"\",Header!C$7)","v":2},null,{"$f":"IF(C5=\"\",\"\",IF(ISNUMBER(SEARCH(C5,\"d\")),IF(ISNUMBER(SEARCH(D5,\"c\")),\"CS\",IF(ISNUMBER(SEARCH(D5,\"u\")),\"UU\")),\"\"))","v":""},{"$f":"IF(C5=\"\",\"\",IF(ISNUMBER(SEARCH(C5,\"e\")),IF(ISNUMBER(SEARCH(D5,\"c\")),IF(ISNUMBER(SEARCH(E5,\"a\")),\"CS\",\"CU\"),IF(ISNUMBER(SEARCH(E5,\"a\")),\"US\",\"UU\")),\"\"))","v":""},{"$f":"IF(M5=\"\",N5,M5)","v":""},{"$f":"IF($O5=\"cs\",1,IF($O5=\"cu\",2,IF($O5=\"us\",3,IF($O5=\"uu\",4,\"\"))))","v":""},{"$f":"IF(A5=\"\",\"\",A5)","v":1},{"$f":"#REF!","v":{"$error":"#REF!"}},{"$f":"Q5","v":1},{"$f":"IF(Q5<>\"\",SUMIF(S:S,Q5,R:R),\"\")","v":{"$error":"#REF!"}},null,null,null,null,null,null,null,null,null,null,null,null,null,null,null,null,null,null,null,null,null,null,null,null,null,null,null,null,null,null,null,null,null,null,null,null,null,null,null,null,null,null,null,null,null,null,null,null,null,null,null,null,null,null,null,null,null,null,null,null,null,null,null,null,null,null,null,null,null,null,null,null,null,null,null,null,null,null,null,null,null,null,null,null,null,null,null,null,null,null,null,null,1,5,1,0,1,0.5,null,1,10,null,"Y",null,null,null,null,null,null,null,null,null,null,null,2,null,null,null,{"$f":"IF(SUM(EF5:EH5)=0,\"\",100-SUM(EF5:EH5))","v":""}," (i) Perennial foliar vegetation cover, (ii)  embedded rock including bedrock",null,null,null,null,null,null,null,null,{"$f":"IF(B5=\"\",\"\",B5+1)","v":""}]
[null,null,null,null,null,null,null,null,null,null,{"$f":"IF(A6=\"\",\"\",K$5+Header!C$6*(A6-1))","v":""},null,"","",{"$f":"IF(M6=\"\",N6,M6)","v":""},{"$f":"IF($O6=\"cs\",1,IF($O6=\"cu\",2,IF($O6=\"us\",3,IF($O6=\"uu\",4,\"\"))))","v":""},"",{"$f":"#REF!","v":{"$error":"#REF!"}},{"$f":"IF(A6>A5,A6,S5)","v":1},{"$f":"IF(Q6<>\"\",SUMIF(S:S,Q6,R:R),\"\")","v":""},null,null,null,null,null,null,null,null,null,null,null,null,null,null,null,null,null,null,null,null,null,null,null,null,null,null,null,null,null,null,null,null,null,null,null,null,null,null,null,null,null,null,null,null,null,null,null,null,null,null,null,null,null,null,null,null,null,null,null,null,null,null,null,null,null,null,null,null,null,null,null,null,null,null,null,null,null,null,null,null,null,null,null,null,null,null,null,null,null,null,null,null,2,10,2,1,2,0.6,1,2,30,null,"N",null,null,null,null,null,null,null,null,null,null,null,3,null,null,null,{"$f":"IF(SUM(EF6:EH6)=0,\"\",100-SUM(EF6:EH6))","v":""},"(>15cm or 6 in), and (iii) large wood (>10 cm or 4 in)",null,null,null,null,null,null,null,null,""]
[null,null,null,null,null,null,null,null,null,null,{"$f":"IF(A7=\"\",\"\",K$5+Header!C$6*(A7-1))","v":""},null,"","","","","",{"$f":"#REF!","v":{"$error":"#REF!"}},1,"",null,null,null,null,null,null,null,null,null,null,null,null,null,null,null,null,null,null,null,null,null,null,null,null,null,null,null,null,null,null,null,null,null,null,null,null,null,null,null,null,null,null,null,null,null,null,null,null,null,null,null,null,null,null,null,null,null,null,null,null,null,null,null,null,null,null,null,null,null,null,null,null,null,null,null,null,null,null,null,null,null,null,null,null,null,null,null,null,null,null,null,null,3,15,3,2,3,0.7,null,3,50,null,null,null,null,null,null,null,null,null,null,null,null,null,4,null,null,null,{"$f":"IF(SUM(EF7:EH7)=0,\"\",100-SUM(EF7:EH7))","v":""},"Record each cover constituent to the nearest 10 percent. ",null,null,null,null,null,null,null,null,""]
[null,null,null,null,null,null,null,null,null,null,{"$f":"IF(A8=\"\",\"\",K$5+Header!C$6*(A8-1))","v":""},null,"","","","","",{"$f":"#REF!","v":{"$error":"#REF!"}},1,"",null,null,null,null,null,null,null,null,null,null,null,null,null,null,null,null,null,null,null,null,null,null,null,null,null,null,null,null,null,null,null,null,null,null,null,null,null,null,null,null,null,null,null,null,null,null,null,null,null,null,null,null,null,null,null,null,null,null,null,null,null,null,null,null,null,null,null,null,null,null,null,null,null,null,null,null,null,null,null,null,null,"E","C","F",null,null,null,null,null,null,null,null,4,20,4,3,4,0.8,null,4,70,null,null,null,null,null,null,null,null,null,null,null,null,null,5,null,null,null,{"$f":"IF(SUM(EF8:EH8)=0,\"\",100-SUM(EF8:EH8))","v":""}," If two or more cover types overlap, do not add the overlap",null,null,null,null,null,null,null,null,""]
[null,null,null,null,null,null,null,null,null,null,{"$f":"IF(A9=\"\",\"\",K$5+Header!C$6*(A9-1))","v":""},null,"","","","","",{"$f":"#REF!","v":{"$error":"#REF!"}},1,"",null,null,null,null,null,null,null,null,null,null,null,null,null,null,null,null,null,null,null,null,null,null,null,null,null,null,null,null,null,null,null,null,null,null,null,null,null,null,null,null,null,null,null,null,null,null,null,null,null,null,null,null,null,null,null,null,null,null,null,null,null,null,null,null,null,null,null,null,null,null,null,null,null,null,null,null,null,null,null,null,null,"D","U","SP",null,null,null,null,null,null,null,null,5,25,5,4,5,0.9,null,5,90,null,null,null,null,null,null,null,null,null,null,null,null,null,6,null,null,null,""," amounts and only record the portion of overlapping cover",null,null,null,null,null,null,null,null,""]
[null,null,null,null,null,null,null,null,null,null,{"$f":"IF(A10=\"\",\"\",K$5+Header!C$6*(A10-1))","v":""},null,"","","","","",{"$f":"#REF!","v":{"$error":"#REF!"}},1,"",null,null,null,null,null,null,null,null,null,null,null,null,null,null,null,null,null,null,null,null,null,null,null,null,null,null,null,null,null,null,null,null,null,null,null,null,null,null,null,null,null,null,null,null,null,null,null,null,null,null,null,null,null,null,null,null,null,null,null,null,null,null,null,null,null,null,null,null,null,null,null,null,null,null,null,null,null,null,null,null,null,null,null,"SF",null,null,null,null,null,null,null,null,6,30,null,5,6,1,null,6,null,null,null,null,null,null,null,null,null,null,null,null,null,null,7,null,null,null,""," closest to or directly on the ground surface",null,null,null,null,null,null,null,null,""]
[null,null,null,null,null,null,null,null,null,null,{"$f":"IF(A11=\"\",\"\",K$5+Header!C$6*(A11-1))","v":""},null,"","","","","",{"$f":"#REF!","v":{"$error":"#REF!"}},1,"",null,null,null,null,null,null,null,null,null,null,null,null,null,null,null,null,null,null,null,null,null,null,null,null,null,null,null,null,null,null,null,null,null,null,null,null,null,null,null,null,null,null,null,null,null,null,null,null,null,null,null,null,null,null,null,null,null,null,null,null,null,null,null,null,null,null,null,null,null,null,null,null,null,null,null,null,null,null,null,null,null,null,null,"E",null,null,null,null,null,null,null,null,7,35,null,null,7,1.1000000000000001,null,7,null,null,null,null,null,null,null,null,null,null,null,null,null,null,8,null,null,null,""," (e.g., record rock on the ground and not the overlapping vegetation",null,null,null,null,null,null,null,null,""]
[null,null,null,null,null,null,null,null,null,null,{"$f":"IF(A12=\"\",\"\",K$5+Header!C$6*(A12-1))","v":""},null,"","","","","",{"$f":"#REF!","v":{"$error":"#REF!"}},1,"",null,null,null,null,null,null,null,null,null,null,null,null,null,null,null,null,null,null,null,null,null,null,null,null,null,null,null,null,null,null,null,null,null,null,null,null,null,null,null,null,null,null,null,null,null,null,null,null,null,null,null,null,null,null,null,null,null,null,null,null,null,null,null,null,null,null,null,null,null,null,null,null,null,null,null,null,null,null,null,null,null,null,null,"A",null,null,null,null,null,null,null,null,8,40,null,null,8,1.2,null,8,null,null,null,null,null,null,null,null,null,null,null,null,null,null,9,null,null,null,""," cover immediately above the rock). ",null,null,null,null,null,null,null,null,""]
[null,null,null,null,null,null,null,null,null,null,{"$f":"IF(A13=\"\",\"\",K$5+Header!C$6*(A13-1))","v":""},null,"","","","","",{"$f":"#REF!","v":{"$error":"#REF!"}},1,"",null,null,null,null,null,null,null,null,null,null,null,null,null,null,null,null,null,null,null,null,null,null,null,null,null,null,null,null,null,null,null,null,null,null,null,null,null,null,null,null,null,null,null,null,null,null,null,null,null,null,null,null,null,null,null,null,null,null,null,null,null,null,null,null,null,null,null,null,null,null,null,null,null,null,null,null,null,null,null,null,null,null,null,null,null,null,null,null,null,null,null,null,9,45,null,null,9,1.3,null,9,null,null,null,null,null,null,null,null,null,null,null,null,null,null,10,null,null,null,""," Cover includes all of the above up to .5 meter above the ground surface",null,null,null,null,null,null,null,null,""]
[null,null,null,null,null,null,null,null,null,null,{"$f":"IF(A14=\"\",\"\",K$5+Header!C$6*(A14-1))","v":""},null,"","","","","",{"$f":"#REF!","v":{"$error":"#REF!"}},1,"",null,null,null,null,null,null,null,null,null,null,null,null,null,null,null,null,null,null,null,null,null,null,null,null,null,null,null,null,null,null,null,null,null,null,null,null,null,null,null,null,null,null,null,null,null,null,null,null,null,null,null,null,null,null,null,null,null,null,null,null,null,null,null,null,null,null,null,null,null,null,null,null,null,null,null,null,null,null,null,null,null,null,null,null,null,null,null,null,null,null,null,null,10,50,null,null,10,1.4,null,10,null,null,null,null,null,null,null,null,null,null,null,null,null,null,11,null,null,null,"","Do NOT include bare ground, litter,or moss in these estimates.",null,null,null,null,null,null,null,null,""]
[null,null,null,null,null,null,null,null,null,null,{"$f":"IF(A15=\"\",\"\",K$5+Header!C$6*(A15-1))","v":""},null,"","","","","",{"$f":"#REF!","v":{"$error":"#REF!"}},1,"",null,null,null,null,null,null,null,null,null,null,null,null,null,null,null,null,null,null,null,null,null,null,null,null,null,null,null,null,null,null,null,null,null,null,null,null,null,null,null,null,null,null,null,null,null,null,null,null,null,null,null,null,null,null,null,null,null,null,null,null,null,null,null,null,null,null,null,null,null,null,null,null,null,null,null,null,null,null,null,null,null,"Woody Use Classes",null,null,null,null,null,null,null,null,null,null,11,55,null,null,11,1.5,null,11,null,null,null,null,null,null,null,null,null,null,null,null,null,null,12,null,null,null,"","        That cover quantity is calculated.",null,null,null,null,null,null,null,null,""]
[null,null,null,null,null,null,null,null,null,null,{"$f":"IF(A16=\"\",\"\",K$5+Header!C$6*(A16-1))","v":""},null,"","","","","",{"$f":"#REF!","v":{"$error":"#REF!"}},1,"",null,null,null,null,null,null,null,null,null,null,null,null,null,null,null,null,null,null,null,null,null,null,null,null,null,null,null,null,null,null,null,null,null,null,null,null,null,null,null,null,null,null,null,null,null,null,null,null,null,null,null,null,null,null,null,null,null,null,null,null,null,null,null,null,null,null,null,null,null,null,null,null,null,null,null,null,null,null,null,null,null,0,null,null,null,null,null,null,null,null,null,null,12,60,null,null,12,1.6,null,12,null,null,null,null,null,null,null,null,null,null,null,null,null,null,13,null,null,null,"",null,null,null,null,null,null,null,null,null,""]
[null,null,null,null,null,null,null,null,null,null,{"$f":"IF(A17=\"\",\"\",K$5+Header!C$6*(A17-1))","v":""},null,"","","","","",{"$f":"#REF!","v":{"$error":"#REF!"}},1,"",null,null,null,null,null,null,null,null,null,null,null,null,null,null,null,null,null,null,null,null,null,null,null,null,null,null,null,null,null,null,null,null,null,null,null,null,null,null,null,null,null,null,null,null,null,null,null,null,null,null,null,null,null,null,null,null,null,null,null,null,null,null,null,null,null,null,null,null,null,null,null,null,null,null,null,null,null,null,null,null,null,10,null,null,null,null,null,null,null,null,null,null,13,65,null,null,13,1.7,null,13,null,1,null,null,null,null,null,null,null,null,null,null,null,null,14,null,null,null,"",null,null,null,null,null,null,null,null,null,""]
[null,null,null,null,null,null,null,null,null,null,{"$f":"IF(A18=\"\",\"\",K$5+Header!C$6*(A18-1))","v":""},null,"","","","","",{"$f":"#REF!","v":{"$error":"#REF!"}},1,"",null,null,null,null,null,null,null,null,null,null,null,null,null,null,null,null,null,null,null,null,null,null,null,null,null,null,null,null,null,null,null,null,null,null,null,null,null,null,null,null,null,null,null,null,null,null,null,null,null,null,null,null,null,null,null,null,null,null,null,null,null,null,null,null,null,null,null,null,null,null,null,null,null,null,null,null,null,null,null,null,null,30,null,null,null,null,null,null,null,null,null,null,14,70,null,null,14,1.8,null,14,null,2,null,null,null,null,null,null,null,null,null,null,null,null,15,null,null,null,"",null,null,null,null,null,null,null,null,null,""]
[null,null,null,null,null,null,null,null,null,null,{"$f":"IF(A19=\"\",\"\",K$5+Header!C$6*(A19-1))","v":""},null,"","","","","",{"$f":"#REF!","v":{"$error":"#REF!"}},1,"",null,null,null,null,null,null,null,null,null,null,null,null,null,null,null,null,null,null,null,null,null,null,null,null,null,null,null,null,null,null,null,null,null,null,null,null,null,null,null,null,null,null,null,null,null,null,null,null,null,null,null,null,null,null,null,null,null,null,null,null,null,null,null,null,null,null,null,null,null,null,null,null,null,null,null,null,null,null,null,null,null,50,null,null,null,null,null,null,null,null,null,null,15,75,null,null,15,1.9,null,15,null,3,null,null,null,null,null,null,null,null,null,null,null,null,16,null,null,null,"",null,null,null,null,null,null,null,null,null,""]
[null,null,null,null,null,null,null,null,null,null,{"$f":"IF(A20=\"\",\"\",K$5+Header!C$6*(A20-1))","v":""},null,"","","","","",{"$f":"#REF!","v":{"$error":"#REF!"}},1,"",null,null,null,null,null,null,null,null,null,null,null,null,null,null,null,null,null,null,null,null,null,null,null,null,null,null,null,null,null,null,null,null,null,null,null,null,null,null,null,null,null,null,null,null,null,null,null,null,null,null,null,null,null,null,null,null,null,null,null,null,null,null,null,null,null,null,null,null,null,null,null,null,null,null,null,null,null,null,null,null,null,70,null,null,null,null,null,null,null,null,null,null,16,80,null,null,16,2,null,16,null,4,null,null,null,null,null,null,null,null,null,null,null,null,17,null,null,null,"",null,null,null,null,null,null,null,null,null,""]
[null,null,null,null,null,null,null,null,null,null,{"$f":"IF(A21=\"\",\"\",K$5+Header!C$6*(A21-1))","v":""},null,"","","","","",{"$f":"#REF!","v":{"$error":"#REF!"}},1,"",null,null,null,null,null,null,null,null,null,null,null,null,null,null,null,null,null,null,null,null,null,null,null,null,null,null,null,null,null,null,null,null,null,null,null,null,null,null,null,null,null,null,null,null,null,null,null,null,null,null,null,null,null,null,null,null,null,null,null,null,null,null,null,null,null,null,null,null,null,null,null,null,null,null,null,null,null,null,null,null,null,90,null,null,null,null,null,null,null,null,null,null,17,85,null,null,17,2.1,null,17,null,5,null,null,null,null,null,null,null,null,null,null,null,null,18,null,null,null,"",null,null,null,null,null,null,null,null,null,""]
[null,null,null,null,null,null,null,null,null,null,{"$f":"IF(A22=\"\",\"\",K$5+Header!C$6*(A22-1))","v":""},null,"","","","","",{"$f":"#REF!","v":{"$error":"#REF!"}},1,"",null,null,null,null,null,null,null,null,null,null,null,null,null,null,null,null,null,null,null,null,null,null,null,null,null,null,null,null,null,null,null,null,null,null,null,null,null,null,null,null,null,null,null,null,null,null,null,null,null,null,null,null,null,null,null,null,null,null,null,null,null,null,null,null,null,null,null,null,null,null,null,null,null,null,null,null,null,null,null,null,null,null,null,null,null,null,null,null,null,null,null,null,18,90,null,null,18,2.2000000000000002,null,18,null,6,null,null,null,null,null,null,null,null,null,null,null,null,19,null,null,null,"",null,null,null,null,null,null,null,null,null,""]
[null,null,null,null,null,null,null,null,null,null,{"$f":"IF(A23=\"\",\"\",K$5+Header!C$6*(A23-1))","v":""},null,"","","","","",{"$f":"#REF!","v":{"$error":"#REF!"}},1,"",null,null,null,null,null,null,null,null,null,null,null,null,null,null,null,null,null,null,null,null,null,null,null,null,null,null,null,null,null,null,null,null,null,null,null,null,null,null,null,null,null,null,null,null,null,null,null,null,null,null,null,null,null,null,null,null,null,null,null,null,null,null,null,null,null,null,null,null,null,null,null,null,null,null,null,null,null,null,null,null,null,null,null,null,null,null,null,null,null,null,null,null,19,95,null,null,19,2.2999999999999998,null,19,null,null,null,null,null,null,null,null,null,null,null,null,null,null,20,null,null,null,"",null,null,null,null,null,null,null,null,null,""]
[null,null,null,null,null,null,null,null,null,null,{"$f":"IF(A24=\"\",\"\",K$5+Header!C$6*(A24-1))","v":""},null,"","","","","",{"$f":"#REF!","v":{"$error":"#REF!"}},1,"",null,null,null,null,null,null,null,null,null,null,null,null,null,null,null,null,null,null,null,null,null,null,null,null,null,null,null,null,null,null,null,null,null,null,null,null,null,null,null,null,null,null,null,null,null,null,null,null,null,null,null,null,null,null,null,null,null,null,null,null,null,null,null,null,null,null,null,null,null,null,null,null,null,null,null,null,null,null,null,null,null,null,null,null,null,null,null,null,null,null,null,null,20,100,null,null,20,2.4,null,20,null,null,null,null,null,null,null,null,null,null,null,null,null,null,21,null,null,null,"",null,null,null,null,null,null,null,null,null,""]
[null,null,null,null,null,null,null,null,null,null,{"$f":"IF(A25=\"\",\"\",K$5+Header!C$6*(A25-1))","v":""},null,"","","","","",{"$f":"#REF!","v":{"$error":"#REF!"}},1,"",null,null,null,null,null,null,null,null,null,null,null,null,null,null,null,null,null,null,null,null,null,null,null,null,null,null,null,null,null,null,null,null,null,null,null,null,null,null,null,null,null,null,null,null,null,null,null,null,null,null,null,null,null,null,null,null,null,null,null,null,null,null,null,null,null,null,null,null,null,null,null,null,null,null,null,null,null,null,null,null,null,null,null,null,null,null,null,null,null,null,null,null,21,null,null,null,21,2.5,null,21,null,null,null,null,null,null,null,null,null,null,null,null,null,null,22,null,null,null,"",null,null,null,null,null,null,null,null,null,""]
[null,null,null,null,null,null,null,null,null,null,{"$f":"IF(A26=\"\",\"\",K$5+Header!C$6*(A26-1))","v":""},null,"","","","","",{"$f":"#REF!","v":{"$error":"#REF!"}},1,"",null,null,null,null,null,null,null,null,null,null,null,null,null,null,null,null,null,null,null,null,null,null,null,null,null,null,null,null,null,null,null,null,null,null,null,null,null,null,null,null,null,null,null,null,null,null,null,null,null,null,null,null,null,null,null,null,null,null,null,null,null,null,null,null,null,null,null,null,null,null,null,null,null,null,null,null,null,null,null,null,null,null,null,null,null,null,null,null,null,null,null,null,22,null,null,null,22,2.6,null,22,null,null,null,null,null,null,null,null,null,null,null,null,null,null,23,null,null,null,"",null,null,null,null,null,null,null,null,null,""]
[null,null,null,null,null,null,null,null,null,null,{"$f":"IF(A27=\"\",\"\",K$5+Header!C$6*(A27-1))","v":""},null,"","","","","",{"$f":"#REF!","v":{"$error":"#REF!"}},1,"",null,null,null,null,null,null,null,null,null,null,null,null,null,null,null,null,null,null,null,null,null,null,null,null,null,null,null,null,null,null,null,null,null,null,null,null,null,null,null,null,null,null,null,null,null,null,null,null,null,null,null,null,null,null,null,null,null,null,null,null,null,null,null,null,null,null,null,null,null,null,null,null,null,null,null,null,null,null,null,null,null,null,null,null,null,null,null,null,null,null,null,null,23,null,null,null,23,2.7,null,23,null,null,null,null,null,null,null,null,null,null,null,null,null,null,24,null,null,null,"",null,null,null,null,null,null,null,null,null,""]
[null,null,null,null,null,null,null,null,null,null,{"$f":"IF(A28=\"\",\"\",K$5+Header!C$6*(A28-1))","v":""},null,"","","","","",{"$f":"#REF!","v":{"$error":"#REF!"}},1,"",null,null,null,null,null,null,null,null,null,null,null,null,null,null,null,null,null,null,null,null,null,null,null,null,null,null,null,null,null,null,null,null,null,null,null,null,null,null,null,null,null,null,null,null,null,null,null,null,null,null,null,null,null,null,null,null,null,null,null,null,null,null,null,null,null,null,null,null,null,null,null,null,null,null,null,null,null,null,null,null,null,null,null,null,null,null,null,null,null,null,null,null,24,null,null,null,24,2.8,null,24,null,null,null,null,null,null,null,null,null,null,null,null,null,null,25,null,null,null,"",null,null,null,null,null,null,null,null,null,""]
[null,null,null,null,null,null,null,null,null,null,{"$f":"IF(A29=\"\",\"\",K$5+Header!C$6*(A29-1))","v":""},null,"","","","","",{"$f":"#REF!","v":{"$error":"#REF!"}},1,"",null,null,null,null,null,null,null,null,null,null,null,null,null,null,null,null,null,null,null,null,null,null,null,null,null,null,null,null,null,null,null,null,null,null,null,null,null,null,null,null,null,null,null,null,null,null,null,null,null,null,null,null,null,null,null,null,null,null,null,null,null,null,null,null,null,null,null,null,null,null,null,null,null,null,null,null,null,null,null,null,null,null,null,null,null,null,null,null,null,null,null,null,25,null,null,null,25,2.9,null,25,null,null,null,null,null,null,null,null,null,null,null,null,null,null,26,null,null,null,"",null,null,null,null,null,null,null,null,null,""]
[null,null,null,null,null,null,null,null,null,null,{"$f":"IF(A30=\"\",\"\",K$5+Header!C$6*(A30-1))","v":""},null,"","","","","",{"$f":"#REF!","v":{"$error":"#REF!"}},1,"",null,null,null,null,null,null,null,null,null,null,null,null,null,null,null,null,null,null,null,null,null,null,null,null,null,null,null,null,null,null,null,null,null,null,null,null,null,null,null,null,null,null,null,null,null,null,null,null,null,null,null,null,null,null,null,null,null,null,null,null,null,null,null,null,null,null,null,null,null,null,null,null,null,null,null,null,null,null,null,null,null,null,null,null,null,null,null,null,null,null,null,null,26,null,null,null,26,3,null,26,null,null,null,null,null,null,null,null,null,null,null,null,null,null,27,null,null,null,"",null,null,null,null,null,null,null,null,null,""]
[null,null,null,null,null,null,null,null,null,null,{"$f":"IF(A31=\"\",\"\",K$5+Header!C$6*(A31-1))","v":""},null,"","","","","",{"$f":"#REF!","v":{"$error":"#REF!"}},1,"",null,null,null,null,null,null,null,null,null,null,null,null,null,null,null,null,null,null,null,null,null,null,null,null,null,null,null,null,null,null,null,null,null,null,null,null,null,null,null,null,null,null,null,null,null,null,null,null,null,null,null,null,null,null,null,null,null,null,null,null,null,null,null,null,null,null,null,null,null,null,null,null,null,null,null,null,null,null,null,null,null,null,null,null,null,null,null,null,null,null,null,null,27,null,null,null,27,3.1,null,27,null,null,null,null,null,null,null,null,null,null,null,null,null,null,28,null,null,null,"",null,null,null,null,null,null,null,null,null,""]
[null,null,null,null,null,null,null,null,null,null,{"$f":"IF(A32=\"\",\"\",K$5+Header!C$6*(A32-1))","v":""},null,"","","","","",{"$f":"#REF!","v":{"$error":"#REF!"}},1,"",null,null,null,null,null,null,null,null,null,null,null,null,null,null,null,null,null,null,null,null,null,null,null,null,null,null,null,null,null,null,null,null,null,null,null,null,null,null,null,null,null,null,null,null,null,null,null,null,null,null,null,null,null,null,null,null,null,null,null,null,null,null,null,null,null,null,null,null,null,null,null,null,null,null,null,null,null,null,null,null,null,null,null,null,null,null,null,null,null,null,null,null,28,null,null,null,28,3.2,null,28,null,null,null,null,null,null,null,null,null,null,null,null,null,null,29,null,null,null,"",null,null,null,null,null,null,null,null,null,""]
[null,null,null,null,null,null,null,null,null,null,{"$f":"IF(A33=\"\",\"\",K$5+Header!C$6*(A33-1))","v":""},null,"","","","","",{"$f":"#REF!","v":{"$error":"#REF!"}},1,"",null,null,null,null,null,null,null,null,null,null,null,null,null,null,null,null,null,null,null,null,null,null,null,null,null,null,null,null,null,null,null,null,null,null,null,null,null,null,null,null,null,null,null,null,null,null,null,null,null,null,null,null,null,null,null,null,null,null,null,null,null,null,null,null,null,null,null,null,null,null,null,null,null,null,null,null,null,null,null,null,null,null,null,null,null,null,null,null,null,null,null,null,29,null,null,null,29,3.3,null,29,null,null,null,null,null,null,null,null,null,null,null,null,null,null,30,null,null,null,"",null,null,null,null,null,null,null,null,null,""]
[null,null,null,null,null,null,null,null,null,null,{"$f":"IF(A34=\"\",\"\",K$5+Header!C$6*(A34-1))","v":""},null,"","","","","",{"$f":"#REF!","v":{"$error":"#REF!"}},1,"",null,null,null,null,null,null,null,null,null,null,null,null,null,null,null,null,null,null,null,null,null,null,null,null,null,null,null,null,null,null,null,null,null,null,null,null,null,null,null,null,null,null,null,null,null,null,null,null,null,null,null,null,null,null,null,null,null,null,null,null,null,null,null,null,null,null,null,null,null,null,null,null,null,null,null,null,null,null,null,null,null,null,null,null,null,null,null,null,null,null,null,null,30,null,null,null,30,3.4,null,30,null,null,null,null,null,null,null,null,null,null,null,null,null,null,31,null,null,null,"",null,null,null,null,null,null,null,null,null,""]
[null,null,null,null,null,null,null,null,null,null,{"$f":"IF(A35=\"\",\"\",K$5+Header!C$6*(A35-1))","v":""},null,"","","","","",{"$f":"#REF!","v":{"$error":"#REF!"}},1,"",null,null,null,null,null,null,null,null,null,null,null,null,null,null,null,null,null,null,null,null,null,null,null,null,null,null,null,null,null,null,null,null,null,null,null,null,null,null,null,null,null,null,null,null,null,null,null,null,null,null,null,null,null,null,null,null,null,null,null,null,null,null,null,null,null,null,null,null,null,null,null,null,null,null,null,null,null,null,null,null,null,null,null,null,null,null,null,null,null,null,null,null,31,null,null,null,31,3.5,null,31,null,null,null,null,null,null,null,null,null,null,null,null,null,null,32,null,null,null,"",null,null,null,null,null,null,null,null,null,""]
[null,null,null,null,null,null,null,null,null,null,{"$f":"IF(A36=\"\",\"\",K$5+Header!C$6*(A36-1))","v":""},null,"","","","","",{"$f":"#REF!","v":{"$error":"#REF!"}},1,"",null,null,null,null,null,null,null,null,null,null,null,null,null,null,null,null,null,null,null,null,null,null,null,null,null,null,null,null,null,null,null,null,null,null,null,null,null,null,null,null,null,null,null,null,null,null,null,null,null,null,null,null,null,null,null,null,null,null,null,null,null,null,null,null,null,null,null,null,null,null,null,null,null,null,null,null,null,null,null,null,null,null,null,null,null,null,null,null,null,null,null,null,32,null,null,null,32,3.6,null,32,null,null,null,null,null,null,null,null,null,null,null,null,null,null,33,null,null,null,"",null,null,null,null,null,null,null,null,null,""]
[null,null,null,null,null,null,null,null,null,null,{"$f":"IF(A37=\"\",\"\",K$5+Header!C$6*(A37-1))","v":""},null,"","","","","",{"$f":"#REF!","v":{"$error":"#REF!"}},1,"",null,null,null,null,null,null,null,null,null,null,null,null,null,null,null,null,null,null,null,null,null,null,null,null,null,null,null,null,null,null,null,null,null,null,null,null,null,null,null,null,null,null,null,null,null,null,null,null,null,null,null,null,null,null,null,null,null,null,null,null,null,null,null,null,null,null,null,null,null,null,null,null,null,null,null,null,null,null,null,null,null,null,null,null,null,null,null,null,null,null,null,null,33,null,null,null,33,3.7,null,33,null,null,null,null,null,null,null,null,null,null,null,null,null,null,34,null,null,null,"",null,null,null,null,null,null,null,null,null,""]
[null,null,null,null,null,null,null,null,null,null,{"$f":"IF(A38=\"\",\"\",K$5+Header!C$6*(A38-1))","v":""},null,"","","","","",{"$f":"#REF!","v":{"$error":"#REF!"}},1,"",null,null,null,null,null,null,null,null,null,null,null,null,null,null,null,null,null,null,null,null,null,null,null,null,null,null,null,null,null,null,null,null,null,null,null,null,null,null,null,null,null,null,null,null,null,null,null,null,null,null,null,null,null,null,null,null,null,null,null,null,null,null,null,null,null,null,null,null,null,null,null,null,null,null,null,null,null,null,null,null,null,null,null,null,null,null,null,null,null,null,null,null,34,null,null,null,34,3.8,null,34,null,null,null,null,null,null,null,null,null,null,null,null,null,null,35,null,null,null,"",null,null,null,null,null,null,null,null,null,""]
[null,null,null,null,null,null,null,null,null,null,{"$f":"IF(A39=\"\",\"\",K$5+Header!C$6*(A39-1))","v":""},null,"","","","","",{"$f":"#REF!","v":{"$error":"#REF!"}},1,"",null,null,null,null,null,null,null,null,null,null,null,null,null,null,null,null,null,null,null,null,null,null,null,null,null,null,null,null,null,null,null,null,null,null,null,null,null,null,null,null,null,null,null,null,null,null,null,null,null,null,null,null,null,null,null,null,null,null,null,null,null,null,null,null,null,null,null,null,null,null,null,null,null,null,null,null,null,null,null,null,null,null,null,null,null,null,null,null,null,null,null,null,35,null,null,null,35,3.9,null,35,null,null,null,null,null,null,null,null,null,null,null,null,null,null,36,null,null,null,"",null,null,null,null,null,null,null,null,null,""]
[null,null,null,null,null,null,null,null,null,null,{"$f":"IF(A40=\"\",\"\",K$5+Header!C$6*(A40-1))","v":""},null,"","","","","",{"$f":"#REF!","v":{"$error":"#REF!"}},1,"",null,null,null,null,null,null,null,null,null,null,null,null,null,null,null,null,null,null,null,null,null,null,null,null,null,null,null,null,null,null,null,null,null,null,null,null,null,null,null,null,null,null,null,null,null,null,null,null,null,null,null,null,null,null,null,null,null,null,null,null,null,null,null,null,null,null,null,null,null,null,null,null,null,null,null,null,null,null,null,null,null,null,null,null,null,null,null,null,null,null,null,null,36,null,null,null,36,4,null,36,null,null,null,null,null,null,null,null,null,null,null,null,null,null,37,null,null,null,"",null,null,null,null,null,null,null,null,null,""]
[null,null,null,null,null,null,null,null,null,null,{"$f":"IF(A41=\"\",\"\",K$5+Header!C$6*(A41-1))","v":""},null,"","","","","",{"$f":"#REF!","v":{"$error":"#REF!"}},1,"",null,null,null,null,null,null,null,null,null,null,null,null,null,null,null,null,null,null,null,null,null,null,null,null,null,null,null,null,null,null,null,null,null,null,null,null,null,null,null,null,null,null,null,null,null,null,null,null,null,null,null,null,null,null,null,null,null,null,null,null,null,null,null,null,null,null,null,null,null,null,null,null,null,null,null,null,null,null,null,null,null,null,null,null,null,null,null,null,null,null,null,null,37,null,null,null,37,4.0999999999999996,null,37,null,null,null,null,null,null,null,null,null,null,null,null,null,null,38,null,null,null,"",null,null,null,null,null,null,null,null,null,""]
[null,null,null,null,null,null,null,null,null,null,{"$f":"IF(A42=\"\",\"\",K$5+Header!C$6*(A42-1))","v":""},null,"","","","","",{"$f":"#REF!","v":{"$error":"#REF!"}},1,"",null,null,null,null,null,null,null,null,null,null,null,null,null,null,null,null,null,null,null,null,null,null,null,null,null,null,null,null,null,null,null,null,null,null,null,null,null,null,null,null,null,null,null,null,null,null,null,null,null,null,null,null,null,null,null,null,null,null,null,null,null,null,null,null,null,null,null,null,null,null,null,null,null,null,null,null,null,null,null,null,null,null,null,null,null,null,null,null,null,null,null,null,38,null,null,null,38,4.2,null,38,null,null,null,null,null,null,null,null,null,null,null,null,null,null,39,null,null,null,"",null,null,null,null,null,null,null,null,null,""]
[null,null,null,null,null,null,null,null,null,null,{"$f":"IF(A43=\"\",\"\",K$5+Header!C$6*(A43-1))","v":""},null,"","","","","",{"$f":"#REF!","v":{"$error":"#REF!"}},1,"",null,null,null,null,null,null,null,null,null,null,null,null,null,null,null,null,null,null,null,null,null,null,null,null,null,null,null,null,null,null,null,null,null,null,null,null,null,null,null,null,null,null,null,null,null,null,null,null,null,null,null,null,null,null,null,null,null,null,null,null,null,null,null,null,null,null,null,null,null,null,null,null,null,null,null,null,null,null,null,null,null,null,null,null,null,null,null,null,null,null,null,null,39,null,null,null,39,4.3,null,39,null,null,null,null,null,null,null,null,null,null,null,null,null,null,40,null,null,null,"",null,null,null,null,null,null,null,null,null,""]
[null,null,null,null,null,null,null,null,null,null,{"$f":"IF(A44=\"\",\"\",K$5+Header!C$6*(A44-1))","v":""},null,"","","","","",{"$f":"#REF!","v":{"$error":"#REF!"}},1,"",null,null,null,null,null,null,null,null,null,null,null,null,null,null,null,null,null,null,null,null,null,null,null,null,null,null,null,null,null,null,null,null,null,null,null,null,null,null,null,null,null,null,null,null,null,null,null,null,null,null,null,null,null,null,null,null,null,null,null,null,null,null,null,null,null,null,null,null,null,null,null,null,null,null,null,null,null,null,null,null,null,null,null,null,null,null,null,null,null,null,null,null,40,null,null,null,40,4.4000000000000004,null,40,null,null,null,null,null,null,null,null,null,null,null,null,null,null,41,null,null,null,"",null,null,null,null,null,null,null,null,null,""]
[null,null,null,null,null,null,null,null,null,null,{"$f":"IF(A45=\"\",\"\",K$5+Header!C$6*(A45-1))","v":""},null,"","","","","",{"$f":"#REF!","v":{"$error":"#REF!"}},1,"",null,null,null,null,null,null,null,null,null,null,null,null,null,null,null,null,null,null,null,null,null,null,null,null,null,null,null,null,null,null,null,null,null,null,null,null,null,null,null,null,null,null,null,null,null,null,null,null,null,null,null,null,null,null,null,null,null,null,null,null,null,null,null,null,null,null,null,null,null,null,null,null,null,null,null,null,null,null,null,null,null,null,null,null,null,null,null,null,null,null,null,null,41,null,null,null,41,4.5,null,41,null,null,null,null,null,null,null,null,null,null,null,null,null,null,42,null,null,null,"",null,null,null,null,null,null,null,null,null,""]
[null,null,null,null,null,null,null,null,null,null,{"$f":"IF(A46=\"\",\"\",K$5+Header!C$6*(A46-1))","v":""},null,"","","","","",{"$f":"#REF!","v":{"$error":"#REF!"}},1,"",null,null,null,null,null,null,null,null,null,null,null,null,null,null,null,null,null,null,null,null,null,null,null,null,null,null,null,null,null,null,null,null,null,null,null,null,null,null,null,null,null,null,null,null,null,null,null,null,null,null,null,null,null,null,null,null,null,null,null,null,null,null,null,null,null,null,null,null,null,null,null,null,null,null,null,null,null,null,null,null,null,null,null,null,null,null,null,null,null,null,null,null,42,null,null,null,42,4.5999999999999996,null,42,null,null,null,null,null,null,null,null,null,null,null,null,null,null,43,null,null,null,"",null,null,null,null,null,null,null,null,null,""]
[null,null,null,null,null,null,null,null,null,null,{"$f":"IF(A47=\"\",\"\",K$5+Header!C$6*(A47-1))","v":""},null,"","","","","",{"$f":"#REF!","v":{"$error":"#REF!"}},1,"",null,null,null,null,null,null,null,null,null,null,null,null,null,null,null,null,null,null,null,null,null,null,null,null,null,null,null,null,null,null,null,null,null,null,null,null,null,null,null,null,null,null,null,null,null,null,null,null,null,null,null,null,null,null,null,null,null,null,null,null,null,null,null,null,null,null,null,null,null,null,null,null,null,null,null,null,null,null,null,null,null,null,null,null,null,null,null,null,null,null,null,null,43,null,null,null,43,4.7,null,43,null,null,null,null,null,null,null,null,null,null,null,null,null,null,44,null,null,null,"",null,null,null,null,null,null,null,null,null,""]
[null,null,null,null,null,null,null,null,null,null,{"$f":"IF(A48=\"\",\"\",K$5+Header!C$6*(A48-1))","v":""},null,"","","","","",{"$f":"#REF!","v":{"$error":"#REF!"}},1,"",null,null,null,null,null,null,null,null,null,null,null,null,null,null,null,null,null,null,null,null,null,null,null,null,null,null,null,null,null,null,null,null,null,null,null,null,null,null,null,null,null,null,null,null,null,null,null,null,null,null,null,null,null,null,null,null,null,null,null,null,null,null,null,null,null,null,null,null,null,null,null,null,null,null,null,null,null,null,null,null,null,null,null,null,null,null,null,null,null,null,null,null,44,null,null,null,44,4.8,null,44,null,null,null,null,null,null,null,null,null,null,null,null,null,null,45,null,null,null,"",null,null,null,null,null,null,null,null,null,""]
[null,null,null,null,null,null,null,null,null,null,{"$f":"IF(A49=\"\",\"\",K$5+Header!C$6*(A49-1))","v":""},null,"","","","","",{"$f":"#REF!","v":{"$error":"#REF!"}},1,"",null,null,null,null,null,null,null,null,null,null,null,null,null,null,null,null,null,null,null,null,null,null,null,null,null,null,null,null,null,null,null,null,null,null,null,null,null,null,null,null,null,null,null,null,null,null,null,null,null,null,null,null,null,null,null,null,null,null,null,null,null,null,null,null,null,null,null,null,null,null,null,null,null,null,null,null,null,null,null,null,null,null,null,null,null,null,null,null,null,null,null,null,45,null,null,null,45,4.9000000000000004,null,45,null,null,null,null,null,null,null,null,null,null,null,null,null,null,46,null,null,null,"",null,null,null,null,null,null,null,null,null,""]
[null,null,null,null,null,null,null,null,null,null,{"$f":"IF(A50=\"\",\"\",K$5+Header!C$6*(A50-1))","v":""},null,"","","","","",{"$f":"#REF!","v":{"$error":"#REF!"}},1,"",null,null,null,null,null,null,null,null,null,null,null,null,null,null,null,null,null,null,null,null,null,null,null,null,null,null,null,null,null,null,null,null,null,null,null,null,null,null,null,null,null,null,null,null,null,null,null,null,null,null,null,null,null,null,null,null,null,null,null,null,null,null,null,null,null,null,null,null,null,null,null,null,null,null,null,null,null,null,null,null,null,null,null,null,null,null,null,null,null,null,null,null,46,null,null,null,46,5,null,46,null,null,null,null,null,null,null,null,null,null,null,null,null,null,47,null,null,null,"",null,null,null,null,null,null,null,null,null,""]
[null,null,null,null,null,null,null,null,null,null,{"$f":"IF(A51=\"\",\"\",K$5+Header!C$6*(A51-1))","v":""},null,"","","","","",{"$f":"#REF!","v":{"$error":"#REF!"}},1,"",null,null,null,null,null,null,null,null,null,null,null,null,null,null,null,null,null,null,null,null,null,null,null,null,null,null,null,null,null,null,null,null,null,null,null,null,null,null,null,null,null,null,null,null,null,null,null,null,null,null,null,null,null,null,null,null,null,null,null,null,null,null,null,null,null,null,null,null,null,null,null,null,null,null,null,null,null,null,null,null,null,null,null,null,null,null,null,null,null,null,null,null,47,null,null,null,47,5.0999999999999996,null,47,null,null,null,null,null,null,null,null,null,null,null,null,null,null,48,null,null,null,"",null,null,null,null,null,null,null,null,null,""]
[null,null,null,null,null,null,null,null,null,null,{"$f":"IF(A52=\"\",\"\",K$5+Header!C$6*(A52-1))","v":""},null,"","","","","",{"$f":"#REF!","v":{"$error":"#REF!"}},1,"",null,null,null,null,null,null,null,null,null,null,null,null,null,null,null,null,null,null,null,null,null,null,null,null,null,null,null,null,null,null,null,null,null,null,null,null,null,null,null,null,null,null,null,null,null,null,null,null,null,null,null,null,null,null,null,null,null,null,null,null,null,null,null,null,null,null,null,null,null,null,null,null,null,null,null,null,null,null,null,null,null,null,null,null,null,null,null,null,null,null,null,null,48,null,null,null,48,5.2,null,48,null,null,null,null,null,null,null,null,null,null,null,null,null,null,49,null,null,null,"",null,null,null,null,null,null,null,null,null,""]
[null,null,null,null,null,null,null,null,null,null,{"$f":"IF(A53=\"\",\"\",K$5+Header!C$6*(A53-1))","v":""},null,"","","","","",{"$f":"#REF!","v":{"$error":"#REF!"}},1,"",null,null,null,null,null,null,null,null,null,null,null,null,null,null,null,null,null,null,null,null,null,null,null,null,null,null,null,null,null,null,null,null,null,null,null,null,null,null,null,null,null,null,null,null,null,null,null,null,null,null,null,null,null,null,null,null,null,null,null,null,null,null,null,null,null,null,null,null,null,null,null,null,null,null,null,null,null,null,null,null,null,null,null,null,null,null,null,null,null,null,null,null,49,null,null,null,49,5.3,null,49,null,null,null,null,null,null,null,null,null,null,null,null,null,null,50,null,null,null,"",null,null,null,null,null,null,null,null,null,""]
[null,null,null,null,null,null,null,null,null,null,{"$f":"IF(A54=\"\",\"\",K$5+Header!C$6*(A54-1))","v":""},null,"","","","","",{"$f":"#REF!","v":{"$error":"#REF!"}},1,"",null,null,null,null,null,null,null,null,null,null,null,null,null,null,null,null,null,null,null,null,null,null,null,null,null,null,null,null,null,null,null,null,null,null,null,null,null,null,null,null,null,null,null,null,null,null,null,null,null,null,null,null,null,null,null,null,null,null,null,null,null,null,null,null,null,null,null,null,null,null,null,null,null,null,null,null,null,null,null,null,null,null,null,null,null,null,null,null,null,null,null,null,50,null,null,null,50,5.4,null,50,null,null,null,null,null,null,null,null,null,null,null,null,null,null,51,null,null,null,"",null,null,null,null,null,null,null,null,null,""]
[null,null,null,null,null,null,null,null,null,null,{"$f":"IF(A55=\"\",\"\",K$5+Header!C$6*(A55-1))","v":""},null,"","","","","",{"$f":"#REF!","v":{"$error":"#REF!"}},1,"",null,null,null,null,null,null,null,null,null,null,null,null,null,null,null,null,null,null,null,null,null,null,null,null,null,null,null,null,null,null,null,null,null,null,null,null,null,null,null,null,null,null,null,null,null,null,null,null,null,null,null,null,null,null,null,null,null,null,null,null,null,null,null,null,null,null,null,null,null,null,null,null,null,null,null,null,null,null,null,null,null,null,null,null,null,null,null,null,null,null,null,null,51,null,null,null,51,5.5,null,null,null,null,null,null,null,null,null,null,null,null,null,null,null,null,52,null,null,null,"",null,null,null,null,null,null,null,null,null,""]
[null,null,null,null,null,null,null,null,null,null,{"$f":"IF(A56=\"\",\"\",K$5+Header!C$6*(A56-1))","v":""},null,"","","","","",{"$f":"#REF!","v":{"$error":"#REF!"}},1,"",null,null,null,null,null,null,null,null,null,null,null,null,null,null,null,null,null,null,null,null,null,null,null,null,null,null,null,null,null,null,null,null,null,null,null,null,null,null,null,null,null,null,null,null,null,null,null,null,null,null,null,null,null,null,null,null,null,null,null,null,null,null,null,null,null,null,null,null,null,null,null,null,null,null,null,null,null,null,null,null,null,null,null,null,null,null,null,null,null,null,null,null,52,null,null,null,52,5.6,null,null,null,null,null,null,null,null,null,null,null,null,null,null,null,null,53,null,null,null,"",null,null,null,null,null,null,null,null,null,""]
[null,null,null,null,null,null,null,null,null,null,{"$f":"IF(A57=\"\",\"\",K$5+Header!C$6*(A57-1))","v":""},null,"","","","","",{"$f":"#REF!","v":{"$error":"#REF!"}},1,"",null,null,null,null,null,null,null,null,null,null,null,null,null,null,null,null,null,null,null,null,null,null,null,null,null,null,null,null,null,null,null,null,null,null,null,null,null,null,null,null,null,null,null,null,null,null,null,null,null,null,null,null,null,null,null,null,null,null,null,null,null,null,null,null,null,null,null,null,null,null,null,null,null,null,null,null,null,null,null,null,null,null,null,null,null,null,null,null,null,null,null,null,53,null,null,null,53,5.7,null,null,null,null,null,null,null,null,null,null,null,null,null,null,null,null,54,null,null,null,"",null,null,null,null,null,null,null,null,null,""]
[null,null,null,null,null,null,null,null,null,null,{"$f":"IF(A58=\"\",\"\",K$5+Header!C$6*(A58-1))","v":""},null,"","","","","",{"$f":"#REF!","v":{"$error":"#REF!"}},1,"",null,null,null,null,null,null,null,null,null,null,null,null,null,null,null,null,null,null,null,null,null,null,null,null,null,null,null,null,null,null,null,null,null,null,null,null,null,null,null,null,null,null,null,null,null,null,null,null,null,null,null,null,null,null,null,null,null,null,null,null,null,null,null,null,null,null,null,null,null,null,null,null,null,null,null,null,null,null,null,null,null,null,null,null,null,null,null,null,null,null,null,null,54,null,null,null,54,5.8,null,null,null,null,null,null,null,null,null,null,null,null,null,null,null,null,55,null,null,null,"",null,null,null,null,null,null,null,null,null,""]
[null,null,null,null,null,null,null,null,null,null,{"$f":"IF(A59=\"\",\"\",K$5+Header!C$6*(A59-1))","v":""},null,"","","","","",{"$f":"#REF!","v":{"$error":"#REF!"}},1,"",null,null,null,null,null,null,null,null,null,null,null,null,null,null,null,null,null,null,null,null,null,null,null,null,null,null,null,null,null,null,null,null,null,null,null,null,null,null,null,null,null,null,null,null,null,null,null,null,null,null,null,null,null,null,null,null,null,null,null,null,null,null,null,null,null,null,null,null,null,null,null,null,null,null,null,null,null,null,null,null,null,null,null,null,null,null,null,null,null,null,null,null,55,null,null,null,55,5.9,null,null,null,null,null,null,null,null,null,null,null,null,null,null,null,null,56,null,null,null,"",null,null,null,null,null,null,null,null,null,""]
[null,null,null,null,null,null,null,null,null,null,{"$f":"IF(A60=\"\",\"\",K$5+Header!C$6*(A60-1))","v":""},null,"","","","","",{"$f":"#REF!","v":{"$error":"#REF!"}},1,"",null,null,null,null,null,null,null,null,null,null,null,null,null,null,null,null,null,null,null,null,null,null,null,null,null,null,null,null,null,null,null,null,null,null,null,null,null,null,null,null,null,null,null,null,null,null,null,null,null,null,null,null,null,null,null,null,null,null,null,null,null,null,null,null,null,null,null,null,null,null,null,null,null,null,null,null,null,null,null,null,null,null,null,null,null,null,null,null,null,null,null,null,56,null,null,null,56,6,null,null,null,null,null,null,null,null,null,null,null,null,null,null,null,null,57,null,null,null,"",null,null,null,null,null,null,null,null,null,""]
[null,null,null,null,null,null,null,null,null,null,{"$f":"IF(A61=\"\",\"\",K$5+Header!C$6*(A61-1))","v":""},null,"","","","","",{"$f":"#REF!","v":{"$error":"#REF!"}},1,"",null,null,null,null,null,null,null,null,null,null,null,null,null,null,null,null,null,null,null,null,null,null,null,null,null,null,null,null,null,null,null,null,null,null,null,null,null,null,null,null,null,null,null,null,null,null,null,null,null,null,null,null,null,null,null,null,null,null,null,null,null,null,null,null,null,null,null,null,null,null,null,null,null,null,null,null,null,null,null,null,null,null,null,null,null,null,null,null,null,null,null,null,57,null,null,null,57,6.1,null,null,null,null,null,null,null,null,null,null,null,null,null,null,null,null,58,null,null,null,"",null,null,null,null,null,null,null,null,null,""]
[null,null,null,null,null,null,null,null,null,null,{"$f":"IF(A62=\"\",\"\",K$5+Header!C$6*(A62-1))","v":""},null,"","","","","",{"$f":"#REF!","v":{"$error":"#REF!"}},1,"",null,null,null,null,null,null,null,null,null,null,null,null,null,null,null,null,null,null,null,null,null,null,null,null,null,null,null,null,null,null,null,null,null,null,null,null,null,null,null,null,null,null,null,null,null,null,null,null,null,null,null,null,null,null,null,null,null,null,null,null,null,null,null,null,null,null,null,null,null,null,null,null,null,null,null,null,null,null,null,null,null,null,null,null,null,null,null,null,null,null,null,null,58,null,null,null,58,6.2,null,null,null,null,null,null,null,null,null,null,null,null,null,null,null,null,59,null,null,null,"",null,null,null,null,null,null,null,null,null,""]
[null,null,null,null,null,null,null,null,null,null,{"$f":"IF(A63=\"\",\"\",K$5+Header!C$6*(A63-1))","v":""},null,"","","","","",{"$f":"#REF!","v":{"$error":"#REF!"}},1,"",null,null,null,null,null,null,null,null,null,null,null,null,null,null,null,null,null,null,null,null,null,null,null,null,null,null,null,null,null,null,null,null,null,null,null,null,null,null,null,null,null,null,null,null,null,null,null,null,null,null,null,null,null,null,null,null,null,null,null,null,null,null,null,null,null,null,null,null,null,null,null,null,null,null,null,null,null,null,null,null,null,null,null,null,null,null,null,null,null,null,null,null,59,null,null,null,59,6.3,null,null,null,null,null,null,null,null,null,null,null,null,null,null,null,null,60,null,null,null,"",null,null,null,null,null,null,null,null,null,""]
[null,null,null,null,null,null,null,null,null,null,{"$f":"IF(A64=\"\",\"\",K$5+Header!C$6*(A64-1))","v":""},null,"","","","","",{"$f":"#REF!","v":{"$error":"#REF!"}},1,"",null,null,null,null,null,null,null,null,null,null,null,null,null,null,null,null,null,null,null,null,null,null,null,null,null,null,null,null,null,null,null,null,null,null,null,null,null,null,null,null,null,null,null,null,null,null,null,null,null,null,null,null,null,null,null,null,null,null,null,null,null,null,null,null,null,null,null,null,null,null,null,null,null,null,null,null,null,null,null,null,null,null,null,null,null,null,null,null,null,null,null,null,60,null,null,null,60,6.4,null,null,null,null,null,null,null,null,null,null,null,null,null,null,null,null,61,null,null,null,"",null,null,null,null,null,null,null,null,null,""]
[null,null,null,null,null,null,null,null,null,null,{"$f":"IF(A65=\"\",\"\",K$5+Header!C$6*(A65-1))","v":""},null,"","","","","",{"$f":"#REF!","v":{"$error":"#REF!"}},1,"",null,null,null,null,null,null,null,null,null,null,null,null,null,null,null,null,null,null,null,null,null,null,null,null,null,null,null,null,null,null,null,null,null,null,null,null,null,null,null,null,null,null,null,null,null,null,null,null,null,null,null,null,null,null,null,null,null,null,null,null,null,null,null,null,null,null,null,null,null,null,null,null,null,null,null,null,null,null,null,null,null,null,null,null,null,null,null,null,null,null,null,null,61,null,null,null,61,6.5,null,null,null,null,null,null,null,null,null,null,null,null,null,null,null,null,62,null,null,null,"",null,null,null,null,null,null,null,null,null,""]
[null,null,null,null,null,null,null,null,null,null,{"$f":"IF(A66=\"\",\"\",K$5+Header!C$6*(A66-1))","v":""},null,"","","","","",{"$f":"#REF!","v":{"$error":"#REF!"}},1,"",null,null,null,null,null,null,null,null,null,null,null,null,null,null,null,null,null,null,null,null,null,null,null,null,null,null,null,null,null,null,null,null,null,null,null,null,null,null,null,null,null,null,null,null,null,null,null,null,null,null,null,null,null,null,null,null,null,null,null,null,null,null,null,null,null,null,null,null,null,null,null,null,null,null,null,null,null,null,null,null,null,null,null,null,null,null,null,null,null,null,null,null,62,null,null,null,62,6.6,null,null,null,null,null,null,null,null,null,null,null,null,null,null,null,null,63,null,null,null,"",null,null,null,null,null,null,null,null,null,""]
[null,null,null,null,null,null,null,null,null,null,{"$f":"IF(A67=\"\",\"\",K$5+Header!C$6*(A67-1))","v":""},null,"","","","","",{"$f":"#REF!","v":{"$error":"#REF!"}},1,"",null,null,null,null,null,null,null,null,null,null,null,null,null,null,null,null,null,null,null,null,null,null,null,null,null,null,null,null,null,null,null,null,null,null,null,null,null,null,null,null,null,null,null,null,null,null,null,null,null,null,null,null,null,null,null,null,null,null,null,null,null,null,null,null,null,null,null,null,null,null,null,null,null,null,null,null,null,null,null,null,null,null,null,null,null,null,null,null,null,null,null,null,63,null,null,null,63,6.7,null,null,null,null,null,null,null,null,null,null,null,null,null,null,null,null,64,null,null,null,"",null,null,null,null,null,null,null,null,null,""]
[null,null,null,null,null,null,null,null,null,null,{"$f":"IF(A68=\"\",\"\",K$5+Header!C$6*(A68-1))","v":""},null,"","","","","",{"$f":"#REF!","v":{"$error":"#REF!"}},1,"",null,null,null,null,null,null,null,null,null,null,null,null,null,null,null,null,null,null,null,null,null,null,null,null,null,null,null,null,null,null,null,null,null,null,null,null,null,null,null,null,null,null,null,null,null,null,null,null,null,null,null,null,null,null,null,null,null,null,null,null,null,null,null,null,null,null,null,null,null,null,null,null,null,null,null,null,null,null,null,null,null,null,null,null,null,null,null,null,null,null,null,null,64,null,null,null,64,6.8,null,null,null,null,null,null,null,null,null,null,null,null,null,null,null,null,65,null,null,null,"",null,null,null,null,null,null,null,null,null,""]
[null,null,null,null,null,null,null,null,null,null,{"$f":"IF(A69=\"\",\"\",K$5+Header!C$6*(A69-1))","v":""},null,{"$f":"IF(C69=\"\",\"\",IF(ISNUMBER(SEARCH(C69,\"d\")),IF(ISNUMBER(SEARCH(D69,\"c\")),\"CS\",IF(ISNUMBER(SEARCH(D69,\"u\")),\"UU\")),\"\"))","v":""},{"$f":"IF(C69=\"\",\"\",IF(ISNUMBER(SEARCH(C69,\"e\")),IF(ISNUMBER(SEARCH(D69,\"c\")),IF(ISNUMBER(SEARCH(E69,\"a\")),\"CS\",\"CU\"),IF(ISNUMBER(SEARCH(E69,\"a\")),\"US\",\"UU\")),\"\"))","v":""},"","",{"$f":"IF(A69=\"\",\"\",A69)","v":""},{"$f":"#REF!","v":{"$error":"#REF!"}},1,"",null,null,null,null,null,null,null,null,null,null,null,null,null,null,null,null,null,null,null,null,null,null,null,null,null,null,null,null,null,null,null,null,null,null,null,null,null,null,null,null,null,null,null,null,null,null,null,null,null,null,null,null,null,null,null,null,null,null,null,null,null,null,null,null,null,null,null,null,null,null,null,null,null,null,null,null,null,null,null,null,null,null,null,null,null,null,null,null,null,null,null,null,65,null,null,null,65,6.9,null,null,null,null,null,null,null,null,null,null,null,null,null,null,null,null,66,null,null,null,"",null,null,null,null,null,null,null,null,null,{"$f":"IF(B69=\"\",\"\",B69+1)","v":""}]
[null,null,null,null,null,null,null,null,null,null,{"$f":"IF(A70=\"\",\"\",K$5+Header!C$6*(A70-1))","v":""},null,"","",{"$f":"IF(M70=\"\",N70,M70)","v":""},{"$f":"IF($O70=\"cs\",1,IF($O70=\"cu\",2,IF($O70=\"us\",3,IF($O70=\"uu\",4,\"\"))))","v":""},"",{"$f":"#REF!","v":{"$error":"#REF!"}},{"$f":"IF(A70>A69,A70,S69)","v":1},{"$f":"IF(Q70<>\"\",SUMIF(S:S,Q70,R:R),\"\")","v":""},null,null,null,null,null,null,null,null,null,null,null,null,null,null,null,null,null,null,null,null,null,null,null,null,null,null,null,null,null,null,null,null,null,null,null,null,null,null,null,null,null,null,null,null,null,null,null,null,null,null,null,null,null,null,null,null,null,null,null,null,null,null,null,null,null,null,null,null,null,null,null,null,null,null,null,null,null,null,null,null,null,null,null,null,null,null,null,null,null,null,null,null,66,null,null,null,66,7,null,null,null,null,null,null,null,null,null,null,null,null,null,null,null,null,67,null,null,null,"",null,null,null,null,null,null,null,null,null,""]
[null,null,null,null,null,null,null,null,null,null,{"$f":"IF(A71=\"\",\"\",K$5+Header!C$6*(A71-1))","v":""},null,"","","","","",{"$f":"#REF!","v":{"$error":"#REF!"}},1,"",null,null,null,null,null,null,null,null,null,null,null,null,null,null,null,null,null,null,null,null,null,null,null,null,null,null,null,null,null,null,null,null,null,null,null,null,null,null,null,null,null,null,null,null,null,null,null,null,null,null,null,null,null,null,null,null,null,null,null,null,null,null,null,null,null,null,null,null,null,null,null,null,null,null,null,null,null,null,null,null,null,null,null,null,null,null,null,null,null,null,null,null,67,null,null,null,67,7.1,null,null,null,null,null,null,null,null,null,null,null,null,null,null,null,null,68,null,null,null,"",null,null,null,null,null,null,null,null,null,""]
[null,null,null,null,null,null,null,null,null,null,{"$f":"IF(A72=\"\",\"\",K$5+Header!C$6*(A72-1))","v":""},null,"","","","","",{"$f":"#REF!","v":{"$error":"#REF!"}},1,"",null,null,null,null,null,null,null,null,null,null,null,null,null,null,null,null,null,null,null,null,null,null,null,null,null,null,null,null,null,null,null,null,null,null,null,null,null,null,null,null,null,null,null,null,null,null,null,null,null,null,null,null,null,null,null,null,null,null,null,null,null,null,null,null,null,null,null,null,null,null,null,null,null,null,null,null,null,null,null,null,null,null,null,null,null,null,null,null,null,null,null,null,68,null,null,null,68,7.2,null,null,null,null,null,null,null,null,null,null,null,null,null,null,null,null,69,null,null,null,{"$f":"IF(SUM(EF72:EH72)=0,\"\",100-SUM(EF72:EH72))","v":""},null,null,null,null,null,null,null,null,null,""]
[null,null,null,null,null,null,null,null,null,null,{"$f":"IF(A73=\"\",\"\",K$5+Header!C$6*(A73-1))","v":""},null,"","","","","",{"$f":"#REF!","v":{"$error":"#REF!"}},1,"",null,null,null,null,null,null,null,null,null,null,null,null,null,null,null,null,null,null,null,null,null,null,null,null,null,null,null,null,null,null,null,null,null,null,null,null,null,null,null,null,null,null,null,null,null,null,null,null,null,null,null,null,null,null,null,null,null,null,null,null,null,null,null,null,null,null,null,null,null,null,null,null,null,null,null,null,null,null,null,null,null,null,null,null,null,null,null,null,null,null,null,null,69,null,null,null,69,7.3,null,null,null,null,null,null,null,null,null,null,null,null,null,null,null,null,70,null,null,null,"",null,null,null,null,null,null,null,null,null,""]
[null,null,null,null,null,null,null,null,null,null,{"$f":"IF(A74=\"\",\"\",K$5+Header!C$6*(A74-1))","v":""},null,"","","","","",{"$f":"#REF!","v":{"$error":"#REF!"}},1,"",null,null,null,null,null,null,null,null,null,null,null,null,null,null,null,null,null,null,null,null,null,null,null,null,null,null,null,null,null,null,null,null,null,null,null,null,null,null,null,null,null,null,null,null,null,null,null,null,null,null,null,null,null,null,null,null,null,null,null,null,null,null,null,null,null,null,null,null,null,null,null,null,null,null,null,null,null,null,null,null,null,null,null,null,null,null,null,null,null,null,null,null,70,null,null,null,70,7.4,null,null,null,null,null,null,null,null,null,null,null,null,null,null,null,null,71,null,null,null,"",null,null,null,null,null,null,null,null,null,""]
[null,null,null,null,null,null,null,null,null,null,{"$f":"IF(A75=\"\",\"\",K$5+Header!C$6*(A75-1))","v":""},null,"","","","","",{"$f":"#REF!","v":{"$error":"#REF!"}},1,"",null,null,null,null,null,null,null,null,null,null,null,null,null,null,null,null,null,null,null,null,null,null,null,null,null,null,null,null,null,null,null,null,null,null,null,null,null,null,null,null,null,null,null,null,null,null,null,null,null,null,null,null,null,null,null,null,null,null,null,null,null,null,null,null,null,null,null,null,null,null,null,null,null,null,null,null,null,null,null,null,null,null,null,null,null,null,null,null,null,null,null,null,71,null,null,null,71,7.5,null,null,null,null,null,null,null,null,null,null,null,null,null,null,null,null,72,null,null,null,"",null,null,null,null,null,null,null,null,null,""]
[null,null,null,null,null,null,null,null,null,null,{"$f":"IF(A76=\"\",\"\",K$5+Header!C$6*(A76-1))","v":""},null,"","","","","",{"$f":"#REF!","v":{"$error":"#REF!"}},1,"",null,null,null,null,null,null,null,null,null,null,null,null,null,null,null,null,null,null,null,null,null,null,null,null,null,null,null,null,null,null,null,null,null,null,null,null,null,null,null,null,null,null,null,null,null,null,null,null,null,null,null,null,null,null,null,null,null,null,null,null,null,null,null,null,null,null,null,null,null,null,null,null,null,null,null,null,null,null,null,null,null,null,null,null,null,null,null,null,null,null,null,null,72,null,null,null,72,7.6,null,null,null,null,null,null,null,null,null,null,null,null,null,null,null,null,73,null,null,null,"",null,null,null,null,null,null,null,null,null,""]
[null,null,null,null,null,null,null,null,null,null,{"$f":"IF(A77=\"\",\"\",K$5+Header!C$6*(A77-1))","v":""},null,"","","","","",{"$f":"#REF!","v":{"$error":"#REF!"}},1,"",null,null,null,null,null,null,null,null,null,null,null,null,null,null,null,null,null,null,null,null,null,null,null,null,null,null,null,null,null,null,null,null,null,null,null,null,null,null,null,null,null,null,null,null,null,null,null,null,null,null,null,null,null,null,null,null,null,null,null,null,null,null,null,null,null,null,null,null,null,null,null,null,null,null,null,null,null,null,null,null,null,null,null,null,null,null,null,null,null,null,null,null,73,null,null,null,null,7.7,null,null,null,null,null,null,null,null,null,null,null,null,null,null,null,null,74,null,null,null,"",null,null,null,null,null,null,null,null,null,""]
[null,null,null,null,null,null,null,null,null,null,{"$f":"IF(A78=\"\",\"\",K$5+Header!C$6*(A78-1))","v":""},null,"","","","","",{"$f":"#REF!","v":{"$error":"#REF!"}},1,"",null,null,null,null,null,null,null,null,null,null,null,null,null,null,null,null,null,null,null,null,null,null,null,null,null,null,null,null,null,null,null,null,null,null,null,null,null,null,null,null,null,null,null,null,null,null,null,null,null,null,null,null,null,null,null,null,null,null,null,null,null,null,null,null,null,null,null,null,null,null,null,null,null,null,null,null,null,null,null,null,null,null,null,null,null,null,null,null,null,null,null,null,74,null,null,null,null,7.8,null,null,null,null,null,null,null,null,null,null,null,null,null,null,null,null,75,null,null,null,"",null,null,null,null,null,null,null,null,null,""]
[null,null,null,null,null,null,null,null,null,null,{"$f":"IF(A79=\"\",\"\",K$5+Header!C$6*(A79-1))","v":""},null,"","","","","",{"$f":"#REF!","v":{"$error":"#REF!"}},1,"",null,null,null,null,null,null,null,null,null,null,null,null,null,null,null,null,null,null,null,null,null,null,null,null,null,null,null,null,null,null,null,null,null,null,null,null,null,null,null,null,null,null,null,null,null,null,null,null,null,null,null,null,null,null,null,null,null,null,null,null,null,null,null,null,null,null,null,null,null,null,null,null,null,null,null,null,null,null,null,null,null,null,null,null,null,null,null,null,null,null,null,null,75,null,null,null,null,7.9,null,null,null,null,null,null,null,null,null,null,null,null,null,null,null,null,76,null,null,null,"",null,null,null,null,null,null,null,null,null,""]
[null,null,null,null,null,null,null,null,null,null,{"$f":"IF(A80=\"\",\"\",K$5+Header!C$6*(A80-1))","v":""},null,"","","","","",{"$f":"#REF!","v":{"$error":"#REF!"}},1,"",null,null,null,null,null,null,null,null,null,null,null,null,null,null,null,null,null,null,null,null,null,null,null,null,null,null,null,null,null,null,null,null,null,null,null,null,null,null,null,null,null,null,null,null,null,null,null,null,null,null,null,null,null,null,null,null,null,null,null,null,null,null,null,null,null,null,null,null,null,null,null,null,null,null,null,null,null,null,null,null,null,null,null,null,null,null,null,null,null,null,null,null,76,null,null,null,null,8,null,null,null,null,null,null,null,null,null,null,null,null,null,null,null,null,77,null,null,null,"",null,null,null,null,null,null,null,null,null,""]
[null,null,null,null,null,null,null,null,null,null,{"$f":"IF(A81=\"\",\"\",K$5+Header!C$6*(A81-1))","v":""},null,"","","","","",{"$f":"#REF!","v":{"$error":"#REF!"}},1,"",null,null,null,null,null,null,null,null,null,null,null,null,null,null,null,null,null,null,null,null,null,null,null,null,null,null,null,null,null,null,null,null,null,null,null,null,null,null,null,null,null,null,null,null,null,null,null,null,null,null,null,null,null,null,null,null,null,null,null,null,null,null,null,null,null,null,null,null,null,null,null,null,null,null,null,null,null,null,null,null,null,null,null,null,null,null,null,null,null,null,null,null,77,null,null,null,null,8.1,null,null,null,null,null,null,null,null,null,null,null,null,null,null,null,null,78,null,null,null,"",null,null,null,null,null,null,null,null,null,""]
[null,null,null,null,null,null,null,null,null,null,{"$f":"IF(A82=\"\",\"\",K$5+Header!C$6*(A82-1))","v":""},null,"","","","","",{"$f":"#REF!","v":{"$error":"#REF!"}},1,"",null,null,null,null,null,null,null,null,null,null,null,null,null,null,null,null,null,null,null,null,null,null,null,null,null,null,null,null,null,null,null,null,null,null,null,null,null,null,null,null,null,null,null,null,null,null,null,null,null,null,null,null,null,null,null,null,null,null,null,null,null,null,null,null,null,null,null,null,null,null,null,null,null,null,null,null,null,null,null,null,null,null,null,null,null,null,null,null,null,null,null,null,78,null,null,null,null,8.1999999999999993,null,null,null,null,null,null,null,null,null,null,null,null,null,null,null,null,79,null,null,null,"",null,null,null,null,null,null,null,null,null,""]
[null,null,null,null,null,null,null,null,null,null,{"$f":"IF(A83=\"\",\"\",K$5+Header!C$6*(A83-1))","v":""},null,"","","","","",{"$f":"#REF!","v":{"$error":"#REF!"}},1,"",null,null,null,null,null,null,null,null,null,null,null,null,null,null,null,null,null,null,null,null,null,null,null,null,null,null,null,null,null,null,null,null,null,null,null,null,null,null,null,null,null,null,null,null,null,null,null,null,null,null,null,null,null,null,null,null,null,null,null,null,null,null,null,null,null,null,null,null,null,null,null,null,null,null,null,null,null,null,null,null,null,null,null,null,null,null,null,null,null,null,null,null,79,null,null,null,null,8.3000000000000007,null,null,null,null,null,null,null,null,null,null,null,null,null,null,null,null,80,null,null,null,"",null,null,null,null,null,null,null,null,null,""]
[null,null,null,null,null,null,null,null,null,null,{"$f":"IF(A84=\"\",\"\",K$5+Header!C$6*(A84-1))","v":""},null,"","","","","",{"$f":"#REF!","v":{"$error":"#REF!"}},1,"",null,null,null,null,null,null,null,null,null,null,null,null,null,null,null,null,null,null,null,null,null,null,null,null,null,null,null,null,null,null,null,null,null,null,null,null,null,null,null,null,null,null,null,null,null,null,null,null,null,null,null,null,null,null,null,null,null,null,null,null,null,null,null,null,null,null,null,null,null,null,null,null,null,null,null,null,null,null,null,null,null,null,null,null,null,null,null,null,null,null,null,null,80,null,null,null,null,8.4,null,null,null,null,null,null,null,null,null,null,null,null,null,null,null,null,81,null,null,null,"",null,null,null,null,null,null,null,null,null,""]
[null,null,null,null,null,null,null,null,null,null,{"$f":"IF(A85=\"\",\"\",K$5+Header!C$6*(A85-1))","v":""},null,"","","","","",{"$f":"#REF!","v":{"$error":"#REF!"}},1,"",null,null,null,null,null,null,null,null,null,null,null,null,null,null,null,null,null,null,null,null,null,null,null,null,null,null,null,null,null,null,null,null,null,null,null,null,null,null,null,null,null,null,null,null,null,null,null,null,null,null,null,null,null,null,null,null,null,null,null,null,null,null,null,null,null,null,null,null,null,null,null,null,null,null,null,null,null,null,null,null,null,null,null,null,null,null,null,null,null,null,null,null,81,null,null,null,null,8.5,null,null,null,null,null,null,null,null,null,null,null,null,null,null,null,null,82,null,null,null,"",null,null,null,null,null,null,null,null,null,""]
[null,null,null,null,null,null,null,null,null,null,{"$f":"IF(A86=\"\",\"\",K$5+Header!C$6*(A86-1))","v":""},null,"","","","","",{"$f":"#REF!","v":{"$error":"#REF!"}},1,"",null,null,null,null,null,null,null,null,null,null,null,null,null,null,null,null,null,null,null,null,null,null,null,null,null,null,null,null,null,null,null,null,null,null,null,null,null,null,null,null,null,null,null,null,null,null,null,null,null,null,null,null,null,null,null,null,null,null,null,null,null,null,null,null,null,null,null,null,null,null,null,null,null,null,null,null,null,null,null,null,null,null,null,null,null,null,null,null,null,null,null,null,82,null,null,null,null,8.6,null,null,null,null,null,null,null,null,null,null,null,null,null,null,null,null,83,null,null,null,"",null,null,null,null,null,null,null,null,null,""]
[null,null,null,null,null,null,null,null,null,null,{"$f":"IF(A87=\"\",\"\",K$5+Header!C$6*(A87-1))","v":""},null,"","","","","",{"$f":"#REF!","v":{"$error":"#REF!"}},1,"",null,null,null,null,null,null,null,null,null,null,null,null,null,null,null,null,null,null,null,null,null,null,null,null,null,null,null,null,null,null,null,null,null,null,null,null,null,null,null,null,null,null,null,null,null,null,null,null,null,null,null,null,null,null,null,null,null,null,null,null,null,null,null,null,null,null,null,null,null,null,null,null,null,null,null,null,null,null,null,null,null,null,null,null,null,null,null,null,null,null,null,null,83,null,null,null,null,8.6999999999999993,null,null,null,null,null,null,null,null,null,null,null,null,null,null,null,null,84,null,null,null,"",null,null,null,null,null,null,null,null,null,""]
[null,null,null,null,null,null,null,null,null,null,{"$f":"IF(A88=\"\",\"\",K$5+Header!C$6*(A88-1))","v":""},null,"","","","","",{"$f":"#REF!","v":{"$error":"#REF!"}},1,"",null,null,null,null,null,null,null,null,null,null,null,null,null,null,null,null,null,null,null,null,null,null,null,null,null,null,null,null,null,null,null,null,null,null,null,null,null,null,null,null,null,null,null,null,null,null,null,null,null,null,null,null,null,null,null,null,null,null,null,null,null,null,null,null,null,null,null,null,null,null,null,null,null,null,null,null,null,null,null,null,null,null,null,null,null,null,null,null,null,null,null,null,84,null,null,null,null,8.8000000000000007,null,null,null,null,null,null,null,null,null,null,null,null,null,null,null,null,85,null,null,null,"",null,null,null,null,null,null,null,null,null,""]
[null,null,null,null,null,null,null,null,null,null,{"$f":"IF(A89=\"\",\"\",K$5+Header!C$6*(A89-1))","v":""},null,"","","","","",{"$f":"#REF!","v":{"$error":"#REF!"}},1,"",null,null,null,null,null,null,null,null,null,null,null,null,null,null,null,null,null,null,null,null,null,null,null,null,null,null,null,null,null,null,null,null,null,null,null,null,null,null,null,null,null,null,null,null,null,null,null,null,null,null,null,null,null,null,null,null,null,null,null,null,null,null,null,null,null,null,null,null,null,null,null,null,null,null,null,null,null,null,null,null,null,null,null,null,null,null,null,null,null,null,null,null,85,null,null,null,null,8.9,null,null,null,null,null,null,null,null,null,null,null,null,null,null,null,null,86,null,null,null,"",null,null,null,null,null,null,null,null,null,""]
[null,null,null,null,null,null,null,null,null,null,{"$f":"IF(A90=\"\",\"\",K$5+Header!C$6*(A90-1))","v":""},null,"","","","","",{"$f":"#REF!","v":{"$error":"#REF!"}},1,"",null,null,null,null,null,null,null,null,null,null,null,null,null,null,null,null,null,null,null,null,null,null,null,null,null,null,null,null,null,null,null,null,null,null,null,null,null,null,null,null,null,null,null,null,null,null,null,null,null,null,null,null,null,null,null,null,null,null,null,null,null,null,null,null,null,null,null,null,null,null,null,null,null,null,null,null,null,null,null,null,null,null,null,null,null,null,null,null,null,null,null,null,86,null,null,null,null,9,null,null,null,null,null,null,null,null,null,null,null,null,null,null,null,null,87,null,null,null,"",null,null,null,null,null,null,null,null,null,""]
[null,null,null,null,null,null,null,null,null,null,{"$f":"IF(A91=\"\",\"\",K$5+Header!C$6*(A91-1))","v":""},null,"","","","","",{"$f":"#REF!","v":{"$error":"#REF!"}},1,"",null,null,null,null,null,null,null,null,null,null,null,null,null,null,null,null,null,null,null,null,null,null,null,null,null,null,null,null,null,null,null,null,null,null,null,null,null,null,null,null,null,null,null,null,null,null,null,null,null,null,null,null,null,null,null,null,null,null,null,null,null,null,null,null,null,null,null,null,null,null,null,null,null,null,null,null,null,null,null,null,null,null,null,null,null,null,null,null,null,null,null,null,87,null,null,null,null,9.1,null,null,null,null,null,null,null,null,null,null,null,null,null,null,null,null,88,null,null,null,"",null,null,null,null,null,null,null,null,null,""]
[null,null,null,null,null,null,null,null,null,null,{"$f":"IF(A92=\"\",\"\",K$5+Header!C$6*(A92-1))","v":""},null,"","","","","",{"$f":"#REF!","v":{"$error":"#REF!"}},1,"",null,null,null,null,null,null,null,null,null,null,null,null,null,null,null,null,null,null,null,null,null,null,null,null,null,null,null,null,null,null,null,null,null,null,null,null,null,null,null,null,null,null,null,null,null,null,null,null,null,null,null,null,null,null,null,null,null,null,null,null,null,null,null,null,null,null,null,null,null,null,null,null,null,null,null,null,null,null,null,null,null,null,null,null,null,null,null,null,null,null,null,null,88,null,null,null,null,9.1999999999999993,null,null,null,null,null,null,null,null,null,null,null,null,null,null,null,null,89,null,null,null,"",null,null,null,null,null,null,null,null,null,""]
[null,null,null,null,null,null,null,null,null,null,{"$f":"IF(A93=\"\",\"\",K$5+Header!C$6*(A93-1))","v":""},null,"","","","","",{"$f":"#REF!","v":{"$error":"#REF!"}},1,"",null,null,null,null,null,null,null,null,null,null,null,null,null,null,null,null,null,null,null,null,null,null,null,null,null,null,null,null,null,null,null,null,null,null,null,null,null,null,null,null,null,null,null,null,null,null,null,null,null,null,null,null,null,null,null,null,null,null,null,null,null,null,null,null,null,null,null,null,null,null,null,null,null,null,null,null,null,null,null,null,null,null,null,null,null,null,null,null,null,null,null,null,89,null,null,null,null,9.3000000000000007,null,null,null,null,null,null,null,null,null,null,null,null,null,null,null,null,90,null,null,null,"",null,null,null,null,null,null,null,null,null,""]
[null,null,null,null,null,null,null,null,null,null,{"$f":"IF(A94=\"\",\"\",K$5+Header!C$6*(A94-1))","v":""},null,"","","","","",{"$f":"#REF!","v":{"$error":"#REF!"}},1,"",null,null,null,null,null,null,null,null,null,null,null,null,null,null,null,null,null,null,null,null,null,null,null,null,null,null,null,null,null,null,null,null,null,null,null,null,null,null,null,null,null,null,null,null,null,null,null,null,null,null,null,null,null,null,null,null,null,null,null,null,null,null,null,null,null,null,null,null,null,null,null,null,null,null,null,null,null,null,null,null,null,null,null,null,null,null,null,null,null,null,null,null,90,null,null,null,null,9.4,null,null,null,null,null,null,null,null,null,null,null,null,null,null,null,null,91,null,null,null,"",null,null,null,null,null,null,null,null,null,""]
[null,null,null,null,null,null,null,null,null,null,{"$f":"IF(A95=\"\",\"\",K$5+Header!C$6*(A95-1))","v":""},null,"","","","","",{"$f":"#REF!","v":{"$error":"#REF!"}},1,"",null,null,null,null,null,null,null,null,null,null,null,null,null,null,null,null,null,null,null,null,null,null,null,null,null,null,null,null,null,null,null,null,null,null,null,null,null,null,null,null,null,null,null,null,null,null,null,null,null,null,null,null,null,null,null,null,null,null,null,null,null,null,null,null,null,null,null,null,null,null,null,null,null,null,null,null,null,null,null,null,null,null,null,null,null,null,null,null,null,null,null,null,91,null,null,null,null,9.5,null,null,null,null,null,null,null,null,null,null,null,null,null,null,null,null,92,null,null,null,"",null,null,null,null,null,null,null,null,null,""]
[null,null,null,null,null,null,null,null,null,null,{"$f":"IF(A96=\"\",\"\",K$5+Header!C$6*(A96-1))","v":""},null,"","","","","",{"$f":"#REF!","v":{"$error":"#REF!"}},1,"",null,null,null,null,null,null,null,null,null,null,null,null,null,null,null,null,null,null,null,null,null,null,null,null,null,null,null,null,null,null,null,null,null,null,null,null,null,null,null,null,null,null,null,null,null,null,null,null,null,null,null,null,null,null,null,null,null,null,null,null,null,null,null,null,null,null,null,null,null,null,null,null,null,null,null,null,null,null,null,null,null,null,null,null,null,null,null,null,null,null,null,null,92,null,null,null,null,9.6,null,null,null,null,null,null,null,null,null,null,null,null,null,null,null,null,93,null,null,null,"",null,null,null,null,null,null,null,null,null,""]
[null,null,null,null,null,null,null,null,null,null,{"$f":"IF(A97=\"\",\"\",K$5+Header!C$6*(A97-1))","v":""},null,"","","","","",{"$f":"#REF!","v":{"$error":"#REF!"}},1,"",null,null,null,null,null,null,null,null,null,null,null,null,null,null,null,null,null,null,null,null,null,null,null,null,null,null,null,null,null,null,null,null,null,null,null,null,null,null,null,null,null,null,null,null,null,null,null,null,null,null,null,null,null,null,null,null,null,null,null,null,null,null,null,null,null,null,null,null,null,null,null,null,null,null,null,null,null,null,null,null,null,null,null,null,null,null,null,null,null,null,null,null,93,null,null,null,null,9.6999999999999993,null,null,null,null,null,null,null,null,null,null,null,null,null,null,null,null,94,null,null,null,"",null,null,null,null,null,null,null,null,null,""]
[null,null,null,null,null,null,null,null,null,null,{"$f":"IF(A98=\"\",\"\",K$5+Header!C$6*(A98-1))","v":""},null,"","","","","",{"$f":"#REF!","v":{"$error":"#REF!"}},1,"",null,null,null,null,null,null,null,null,null,null,null,null,null,null,null,null,null,null,null,null,null,null,null,null,null,null,null,null,null,null,null,null,null,null,null,null,null,null,null,null,null,null,null,null,null,null,null,null,null,null,null,null,null,null,null,null,null,null,null,null,null,null,null,null,null,null,null,null,null,null,null,null,null,null,null,null,null,null,null,null,null,null,null,null,null,null,null,null,null,null,null,null,94,null,null,null,null,9.8000000000000007,null,null,null,null,null,null,null,null,null,null,null,null,null,null,null,null,95,null,null,null,"",null,null,null,null,null,null,null,null,null,""]
[null,null,null,null,null,null,null,null,null,null,{"$f":"IF(A99=\"\",\"\",K$5+Header!C$6*(A99-1))","v":""},null,"","","","","",{"$f":"#REF!","v":{"$error":"#REF!"}},1,"",null,null,null,null,null,null,null,null,null,null,null,null,null,null,null,null,null,null,null,null,null,null,null,null,null,null,null,null,null,null,null,null,null,null,null,null,null,null,null,null,null,null,null,null,null,null,null,null,null,null,null,null,null,null,null,null,null,null,null,null,null,null,null,null,null,null,null,null,null,null,null,null,null,null,null,null,null,null,null,null,null,null,null,null,null,null,null,null,null,null,null,null,95,null,null,null,null,9.9,null,null,null,null,null,null,null,null,null,null,null,null,null,null,null,null,96,null,null,null,"",null,null,null,null,null,null,null,null,null,""]
[null,null,null,null,null,null,null,null,null,null,{"$f":"IF(A100=\"\",\"\",K$5+Header!C$6*(A100-1))","v":""},null,"","","","","",{"$f":"#REF!","v":{"$error":"#REF!"}},1,"",null,null,null,null,null,null,null,null,null,null,null,null,null,null,null,null,null,null,null,null,null,null,null,null,null,null,null,null,null,null,null,null,null,null,null,null,null,null,null,null,null,null,null,null,null,null,null,null,null,null,null,null,null,null,null,null,null,null,null,null,null,null,null,null,null,null,null,null,null,null,null,null,null,null,null,null,null,null,null,null,null,null,null,null,null,null,null,null,null,null,null,null,96,null,null,null,null,10,null,null,null,null,null,null,null,null,null,null,null,null,null,null,null,null,97,null,null,null,"",null,null,null,null,null,null,null,null,null,""]
[null,null,null,null,null,null,null,null,null,null,{"$f":"IF(A101=\"\",\"\",K$5+Header!C$6*(A101-1))","v":""},null,"","","","","",{"$f":"#REF!","v":{"$error":"#REF!"}},1,"",null,null,null,null,null,null,null,null,null,null,null,null,null,null,null,null,null,null,null,null,null,null,null,null,null,null,null,null,null,null,null,null,null,null,null,null,null,null,null,null,null,null,null,null,null,null,null,null,null,null,null,null,null,null,null,null,null,null,null,null,null,null,null,null,null,null,null,null,null,null,null,null,null,null,null,null,null,null,null,null,null,null,null,null,null,null,null,null,null,null,null,null,97,null,null,null,null,10.1,null,null,null,null,null,null,null,null,null,null,null,null,null,null,null,null,98,null,null,null,"",null,null,null,null,null,null,null,null,null,""]
[null,null,null,null,null,null,null,null,null,null,{"$f":"IF(A102=\"\",\"\",K$5+Header!C$6*(A102-1))","v":""},null,"","","","","",{"$f":"#REF!","v":{"$error":"#REF!"}},1,"",null,null,null,null,null,null,null,null,null,null,null,null,null,null,null,null,null,null,null,null,null,null,null,null,null,null,null,null,null,null,null,null,null,null,null,null,null,null,null,null,null,null,null,null,null,null,null,null,null,null,null,null,null,null,null,null,null,null,null,null,null,null,null,null,null,null,null,null,null,null,null,null,null,null,null,null,null,null,null,null,null,null,null,null,null,null,null,null,null,null,null,null,98,null,null,null,null,10.199999999999999,null,null,null,null,null,null,null,null,null,null,null,null,null,null,null,null,99,null,null,null,"",null,null,null,null,null,null,null,null,null,""]
[null,null,null,null,null,null,null,null,null,null,{"$f":"IF(A103=\"\",\"\",K$5+Header!C$6*(A103-1))","v":""},null,"","","","","",{"$f":"#REF!","v":{"$error":"#REF!"}},1,"",null,null,null,null,null,null,null,null,null,null,null,null,null,null,null,null,null,null,null,null,null,null,null,null,null,null,null,null,null,null,null,null,null,null,null,null,null,null,null,null,null,null,null,null,null,null,null,null,null,null,null,null,null,null,null,null,null,null,null,null,null,null,null,null,null,null,null,null,null,null,null,null,null,null,null,null,null,null,null,null,null,null,null,null,null,null,null,null,null,null,null,null,99,null,null,null,null,10.3,null,null,null,null,null,null,null,null,null,null,null,null,null,null,null,null,100,null,null,null,"",null,null,null,null,null,null,null,null,null,""]
[null,null,null,null,null,null,null,null,null,null,{"$f":"IF(A104=\"\",\"\",K$5+Header!C$6*(A104-1))","v":""},null,"","","","","",{"$f":"#REF!","v":{"$error":"#REF!"}},1,"",null,null,null,null,null,null,null,null,null,null,null,null,null,null,null,null,null,null,null,null,null,null,null,null,null,null,null,null,null,null,null,null,null,null,null,null,null,null,null,null,null,null,null,null,null,null,null,null,null,null,null,null,null,null,null,null,null,null,null,null,null,null,null,null,null,null,null,null,null,null,null,null,null,null,null,null,null,null,null,null,null,null,null,null,null,null,null,null,null,null,null,null,100,null,null,null,null,10.4,null,null,null,null,null,null,null,null,null,null,null,null,null,null,null,null,101,null,null,null,"",null,null,null,null,null,null,null,null,null,""]
[null,null,null,null,null,null,null,null,null,null,{"$f":"IF(A105=\"\",\"\",K$5+Header!C$6*(A105-1))","v":""},null,"","","","","",{"$f":"#REF!","v":{"$error":"#REF!"}},1,"",null,null,null,null,null,null,null,null,null,null,null,null,null,null,null,null,null,null,null,null,null,null,null,null,null,null,null,null,null,null,null,null,null,null,null,null,null,null,null,null,null,null,null,null,null,null,null,null,null,null,null,null,null,null,null,null,null,null,null,null,null,null,null,null,null,null,null,null,null,null,null,null,null,null,null,null,null,null,null,null,null,null,null,null,null,null,null,null,null,null,null,null,101,null,null,null,null,10.5,null,null,null,null,null,null,null,null,null,null,null,null,null,null,null,null,102,null,null,null,"",null,null,null,null,null,null,null,null,null,""]
[null,null,null,null,null,null,null,null,null,null,{"$f":"IF(A106=\"\",\"\",K$5+Header!C$6*(A106-1))","v":""},null,"","","","","",{"$f":"#REF!","v":{"$error":"#REF!"}},1,"",null,null,null,null,null,null,null,null,null,null,null,null,null,null,null,null,null,null,null,null,null,null,null,null,null,null,null,null,null,null,null,null,null,null,null,null,null,null,null,null,null,null,null,null,null,null,null,null,null,null,null,null,null,null,null,null,null,null,null,null,null,null,null,null,null,null,null,null,null,null,null,null,null,null,null,null,null,null,null,null,null,null,null,null,null,null,null,null,null,null,null,null,102,null,null,null,null,10.6,null,null,null,null,null,null,null,null,null,null,null,null,null,null,null,null,103,null,null,null,"",null,null,null,null,null,null,null,null,null,""]
[null,null,null,null,null,null,null,null,null,null,{"$f":"IF(A107=\"\",\"\",K$5+Header!C$6*(A107-1))","v":""},null,"","","","","",{"$f":"#REF!","v":{"$error":"#REF!"}},1,"",null,null,null,null,null,null,null,null,null,null,null,null,null,null,null,null,null,null,null,null,null,null,null,null,null,null,null,null,null,null,null,null,null,null,null,null,null,null,null,null,null,null,null,null,null,null,null,null,null,null,null,null,null,null,null,null,null,null,null,null,null,null,null,null,null,null,null,null,null,null,null,null,null,null,null,null,null,null,null,null,null,null,null,null,null,null,null,null,null,null,null,null,103,null,null,null,null,10.7,null,null,null,null,null,null,null,null,null,null,null,null,null,null,null,null,104,null,null,null,"",null,null,null,null,null,null,null,null,null,""]
[null,null,null,null,null,null,null,null,null,null,{"$f":"IF(A108=\"\",\"\",K$5+Header!C$6*(A108-1))","v":""},null,"","","","","",{"$f":"#REF!","v":{"$error":"#REF!"}},1,"",null,null,null,null,null,null,null,null,null,null,null,null,null,null,null,null,null,null,null,null,null,null,null,null,null,null,null,null,null,null,null,null,null,null,null,null,null,null,null,null,null,null,null,null,null,null,null,null,null,null,null,null,null,null,null,null,null,null,null,null,null,null,null,null,null,null,null,null,null,null,null,null,null,null,null,null,null,null,null,null,null,null,null,null,null,null,null,null,null,null,null,null,104,null,null,null,null,10.8,null,null,null,null,null,null,null,null,null,null,null,null,null,null,null,null,105,null,null,null,"",null,null,null,null,null,null,null,null,null,""]
[null,null,null,null,null,null,null,null,null,null,{"$f":"IF(A109=\"\",\"\",K$5+Header!C$6*(A109-1))","v":""},null,"","","","","",{"$f":"#REF!","v":{"$error":"#REF!"}},1,"",null,null,null,null,null,null,null,null,null,null,null,null,null,null,null,null,null,null,null,null,null,null,null,null,null,null,null,null,null,null,null,null,null,null,null,null,null,null,null,null,null,null,null,null,null,null,null,null,null,null,null,null,null,null,null,null,null,null,null,null,null,null,null,null,null,null,null,null,null,null,null,null,null,null,null,null,null,null,null,null,null,null,null,null,null,null,null,null,null,null,null,null,105,null,null,null,null,10.9,null,null,null,null,null,null,null,null,null,null,null,null,null,null,null,null,106,null,null,null,"",null,null,null,null,null,null,null,null,null,""]
[null,null,null,null,null,null,null,null,null,null,{"$f":"IF(A110=\"\",\"\",K$5+Header!C$6*(A110-1))","v":""},null,"","","","","",{"$f":"#REF!","v":{"$error":"#REF!"}},1,"",null,null,null,null,null,null,null,null,null,null,null,null,null,null,null,null,null,null,null,null,null,null,null,null,null,null,null,null,null,null,null,null,null,null,null,null,null,null,null,null,null,null,null,null,null,null,null,null,null,null,null,null,null,null,null,null,null,null,null,null,null,null,null,null,null,null,null,null,null,null,null,null,null,null,null,null,null,null,null,null,null,null,null,null,null,null,null,null,null,null,null,null,106,null,null,null,null,11,null,null,null,null,null,null,null,null,null,null,null,null,null,null,null,null,107,null,null,null,"",null,null,null,null,null,null,null,null,null,""]
[null,null,null,null,null,null,null,null,null,null,{"$f":"IF(A111=\"\",\"\",K$5+Header!C$6*(A111-1))","v":""},null,"","","","","",{"$f":"#REF!","v":{"$error":"#REF!"}},1,"",null,null,null,null,null,null,null,null,null,null,null,null,null,null,null,null,null,null,null,null,null,null,null,null,null,null,null,null,null,null,null,null,null,null,null,null,null,null,null,null,null,null,null,null,null,null,null,null,null,null,null,null,null,null,null,null,null,null,null,null,null,null,null,null,null,null,null,null,null,null,null,null,null,null,null,null,null,null,null,null,null,null,null,null,null,null,null,null,null,null,null,null,107,null,null,null,null,11.1,null,null,null,null,null,null,null,null,null,null,null,null,null,null,null,null,108,null,null,null,"",null,null,null,null,null,null,null,null,null,""]
[null,null,null,null,null,null,null,null,null,null,{"$f":"IF(A112=\"\",\"\",K$5+Header!C$6*(A112-1))","v":""},null,"","","","","",{"$f":"#REF!","v":{"$error":"#REF!"}},1,"",null,null,null,null,null,null,null,null,null,null,null,null,null,null,null,null,null,null,null,null,null,null,null,null,null,null,null,null,null,null,null,null,null,null,null,null,null,null,null,null,null,null,null,null,null,null,null,null,null,null,null,null,null,null,null,null,null,null,null,null,null,null,null,null,null,null,null,null,null,null,null,null,null,null,null,null,null,null,null,null,null,null,null,null,null,null,null,null,null,null,null,null,108,null,null,null,null,11.2,null,null,null,null,null,null,null,null,null,null,null,null,null,null,null,null,109,null,null,null,"",null,null,null,null,null,null,null,null,null,""]
[null,null,null,null,null,null,null,null,null,null,{"$f":"IF(A113=\"\",\"\",K$5+Header!C$6*(A113-1))","v":""},null,"","","","","",{"$f":"#REF!","v":{"$error":"#REF!"}},1,"",null,null,null,null,null,null,null,null,null,null,null,null,null,null,null,null,null,null,null,null,null,null,null,null,null,null,null,null,null,null,null,null,null,null,null,null,null,null,null,null,null,null,null,null,null,null,null,null,null,null,null,null,null,null,null,null,null,null,null,null,null,null,null,null,null,null,null,null,null,null,null,null,null,null,null,null,null,null,null,null,null,null,null,null,null,null,null,null,null,null,null,null,109,null,null,null,null,11.3,null,null,null,null,null,null,null,null,null,null,null,null,null,null,null,null,110,null,null,null,"",null,null,null,null,null,null,null,null,null,""]
[null,null,null,null,null,null,null,null,null,null,{"$f":"IF(A114=\"\",\"\",K$5+Header!C$6*(A114-1))","v":""},null,"","","","","",{"$f":"#REF!","v":{"$error":"#REF!"}},1,"",null,null,null,null,null,null,null,null,null,null,null,null,null,null,null,null,null,null,null,null,null,null,null,null,null,null,null,null,null,null,null,null,null,null,null,null,null,null,null,null,null,null,null,null,null,null,null,null,null,null,null,null,null,null,null,null,null,null,null,null,null,null,null,null,null,null,null,null,null,null,null,null,null,null,null,null,null,null,null,null,null,null,null,null,null,null,null,null,null,null,null,null,110,null,null,null,null,11.4,null,null,null,null,null,null,null,null,null,null,null,null,null,null,null,null,111,null,null,null,"",null,null,null,null,null,null,null,null,null,""]
[null,null,null,null,null,null,null,null,null,null,{"$f":"IF(A115=\"\",\"\",K$5+Header!C$6*(A115-1))","v":""},null,"","","","","",{"$f":"#REF!","v":{"$error":"#REF!"}},1,"",null,null,null,null,null,null,null,null,null,null,null,null,null,null,null,null,null,null,null,null,null,null,null,null,null,null,null,null,null,null,null,null,null,null,null,null,null,null,null,null,null,null,null,null,null,null,null,null,null,null,null,null,null,null,null,null,null,null,null,null,null,null,null,null,null,null,null,null,null,null,null,null,null,null,null,null,null,null,null,null,null,null,null,null,null,null,null,null,null,null,null,null,111,null,null,null,null,11.5,null,null,null,null,null,null,null,null,null,null,null,null,null,null,null,null,112,null,null,null,"",null,null,null,null,null,null,null,null,null,""]
[null,null,null,null,null,null,null,null,null,null,{"$f":"IF(A116=\"\",\"\",K$5+Header!C$6*(A116-1))","v":""},null,"","","","","",{"$f":"#REF!","v":{"$error":"#REF!"}},1,"",null,null,null,null,null,null,null,null,null,null,null,null,null,null,null,null,null,null,null,null,null,null,null,null,null,null,null,null,null,null,null,null,null,null,null,null,null,null,null,null,null,null,null,null,null,null,null,null,null,null,null,null,null,null,null,null,null,null,null,null,null,null,null,null,null,null,null,null,null,null,null,null,null,null,null,null,null,null,null,null,null,null,null,null,null,null,null,null,null,null,null,null,112,null,null,null,null,11.6,null,null,null,null,null,null,null,null,null,null,null,null,null,null,null,null,113,null,null,null,"",null,null,null,null,null,null,null,null,null,""]
[null,null,null,null,null,null,null,null,null,null,{"$f":"IF(A117=\"\",\"\",K$5+Header!C$6*(A117-1))","v":""},null,"","","","","",{"$f":"#REF!","v":{"$error":"#REF!"}},1,"",null,null,null,null,null,null,null,null,null,null,null,null,null,null,null,null,null,null,null,null,null,null,null,null,null,null,null,null,null,null,null,null,null,null,null,null,null,null,null,null,null,null,null,null,null,null,null,null,null,null,null,null,null,null,null,null,null,null,null,null,null,null,null,null,null,null,null,null,null,null,null,null,null,null,null,null,null,null,null,null,null,null,null,null,null,null,null,null,null,null,null,null,113,null,null,null,null,11.7,null,null,null,null,null,null,null,null,null,null,null,null,null,null,null,null,114,null,null,null,"",null,null,null,null,null,null,null,null,null,""]
[null,null,null,null,null,null,null,null,null,null,{"$f":"IF(A118=\"\",\"\",K$5+Header!C$6*(A118-1))","v":""},null,"","","","","",{"$f":"#REF!","v":{"$error":"#REF!"}},1,"",null,null,null,null,null,null,null,null,null,null,null,null,null,null,null,null,null,null,null,null,null,null,null,null,null,null,null,null,null,null,null,null,null,null,null,null,null,null,null,null,null,null,null,null,null,null,null,null,null,null,null,null,null,null,null,null,null,null,null,null,null,null,null,null,null,null,null,null,null,null,null,null,null,null,null,null,null,null,null,null,null,null,null,null,null,null,null,null,null,null,null,null,114,null,null,null,null,11.8,null,null,null,null,null,null,null,null,null,null,null,null,null,null,null,null,115,null,null,null,"",null,null,null,null,null,null,null,null,null,""]
[null,null,null,null,null,null,null,null,null,null,{"$f":"IF(A119=\"\",\"\",K$5+Header!C$6*(A119-1))","v":""},null,"","","","","",{"$f":"#REF!","v":{"$error":"#REF!"}},1,"",null,null,null,null,null,null,null,null,null,null,null,null,null,null,null,null,null,null,null,null,null,null,null,null,null,null,null,null,null,null,null,null,null,null,null,null,null,null,null,null,null,null,null,null,null,null,null,null,null,null,null,null,null,null,null,null,null,null,null,null,null,null,null,null,null,null,null,null,null,null,null,null,null,null,null,null,null,null,null,null,null,null,null,null,null,null,null,null,null,null,null,null,115,null,null,null,null,11.9,null,null,null,null,null,null,null,null,null,null,null,null,null,null,null,null,116,null,null,null,"",null,null,null,null,null,null,null,null,null,""]
[null,null,null,null,null,null,null,null,null,null,{"$f":"IF(A120=\"\",\"\",K$5+Header!C$6*(A120-1))","v":""},null,"","","","","",{"$f":"#REF!","v":{"$error":"#REF!"}},1,"",null,null,null,null,null,null,null,null,null,null,null,null,null,null,null,null,null,null,null,null,null,null,null,null,null,null,null,null,null,null,null,null,null,null,null,null,null,null,null,null,null,null,null,null,null,null,null,null,null,null,null,null,null,null,null,null,null,null,null,null,null,null,null,null,null,null,null,null,null,null,null,null,null,null,null,null,null,null,null,null,null,null,null,null,null,null,null,null,null,null,null,null,116,null,null,null,null,12,null,null,null,null,null,null,null,null,null,null,null,null,null,null,null,null,117,null,null,null,"",null,null,null,null,null,null,null,null,null,""]
[null,null,null,null,null,null,null,null,null,null,{"$f":"IF(A121=\"\",\"\",K$5+Header!C$6*(A121-1))","v":""},null,"","","","","",{"$f":"#REF!","v":{"$error":"#REF!"}},1,"",null,null,null,null,null,null,null,null,null,null,null,null,null,null,null,null,null,null,null,null,null,null,null,null,null,null,null,null,null,null,null,null,null,null,null,null,null,null,null,null,null,null,null,null,null,null,null,null,null,null,null,null,null,null,null,null,null,null,null,null,null,null,null,null,null,null,null,null,null,null,null,null,null,null,null,null,null,null,null,null,null,null,null,null,null,null,null,null,null,null,null,null,117,null,null,null,null,12.1,null,null,null,null,null,null,null,null,null,null,null,null,null,null,null,null,118,null,null,null,"",null,null,null,null,null,null,null,null,null,""]
[null,null,null,null,null,null,null,null,null,null,{"$f":"IF(A122=\"\",\"\",K$5+Header!C$6*(A122-1))","v":""},null,"","","","","",{"$f":"#REF!","v":{"$error":"#REF!"}},1,"",null,null,null,null,null,null,null,null,null,null,null,null,null,null,null,null,null,null,null,null,null,null,null,null,null,null,null,null,null,null,null,null,null,null,null,null,null,null,null,null,null,null,null,null,null,null,null,null,null,null,null,null,null,null,null,null,null,null,null,null,null,null,null,null,null,null,null,null,null,null,null,null,null,null,null,null,null,null,null,null,null,null,null,null,null,null,null,null,null,null,null,null,118,null,null,null,null,12.2,null,null,null,null,null,null,null,null,null,null,null,null,null,null,null,null,119,null,null,null,"",null,null,null,null,null,null,null,null,null,""]
[null,null,null,null,null,null,null,null,null,null,{"$f":"IF(A123=\"\",\"\",K$5+Header!C$6*(A123-1))","v":""},null,"","","","","",{"$f":"#REF!","v":{"$error":"#REF!"}},1,"",null,null,null,null,null,null,null,null,null,null,null,null,null,null,null,null,null,null,null,null,null,null,null,null,null,null,null,null,null,null,null,null,null,null,null,null,null,null,null,null,null,null,null,null,null,null,null,null,null,null,null,null,null,null,null,null,null,null,null,null,null,null,null,null,null,null,null,null,null,null,null,null,null,null,null,null,null,null,null,null,null,null,null,null,null,null,null,null,null,null,null,null,119,null,null,null,null,12.3,null,null,null,null,null,null,null,null,null,null,null,null,null,null,null,null,120,null,null,null,"",null,null,null,null,null,null,null,null,null,""]
[null,null,null,null,null,null,null,null,null,null,{"$f":"IF(A124=\"\",\"\",K$5+Header!C$6*(A124-1))","v":""},null,"","","","","",{"$f":"#REF!","v":{"$error":"#REF!"}},1,"",null,null,null,null,null,null,null,null,null,null,null,null,null,null,null,null,null,null,null,null,null,null,null,null,null,null,null,null,null,null,null,null,null,null,null,null,null,null,null,null,null,null,null,null,null,null,null,null,null,null,null,null,null,null,null,null,null,null,null,null,null,null,null,null,null,null,null,null,null,null,null,null,null,null,null,null,null,null,null,null,null,null,null,null,null,null,null,null,null,null,null,null,120,null,null,null,null,12.4,null,null,null,null,null,null,null,null,null,null,null,null,null,null,null,null,121,null,null,null,"",null,null,null,null,null,null,null,null,null,""]
[null,null,null,null,null,null,null,null,null,null,{"$f":"IF(A125=\"\",\"\",K$5+Header!C$6*(A125-1))","v":""},null,"","","","","",{"$f":"#REF!","v":{"$error":"#REF!"}},1,"",null,null,null,null,null,null,null,null,null,null,null,null,null,null,null,null,null,null,null,null,null,null,null,null,null,null,null,null,null,null,null,null,null,null,null,null,null,null,null,null,null,null,null,null,null,null,null,null,null,null,null,null,null,null,null,null,null,null,null,null,null,null,null,null,null,null,null,null,null,null,null,null,null,null,null,null,null,null,null,null,null,null,null,null,null,null,null,null,null,null,null,null,121,null,null,null,null,12.5,null,null,null,null,null,null,null,null,null,null,null,null,null,null,null,null,122,null,null,null,"",null,null,null,null,null,null,null,null,null,""]
[null,null,null,null,null,null,null,null,null,null,{"$f":"IF(A126=\"\",\"\",K$5+Header!C$6*(A126-1))","v":""},null,"","","","","",{"$f":"#REF!","v":{"$error":"#REF!"}},1,"",null,null,null,null,null,null,null,null,null,null,null,null,null,null,null,null,null,null,null,null,null,null,null,null,null,null,null,null,null,null,null,null,null,null,null,null,null,null,null,null,null,null,null,null,null,null,null,null,null,null,null,null,null,null,null,null,null,null,null,null,null,null,null,null,null,null,null,null,null,null,null,null,null,null,null,null,null,null,null,null,null,null,null,null,null,null,null,null,null,null,null,null,122,null,null,null,null,12.6,null,null,null,null,null,null,null,null,null,null,null,null,null,null,null,null,123,null,null,null,"",null,null,null,null,null,null,null,null,null,""]
[null,null,null,null,null,null,null,null,null,null,{"$f":"IF(A127=\"\",\"\",K$5+Header!C$6*(A127-1))","v":""},null,"","","","","",{"$f":"#REF!","v":{"$error":"#REF!"}},1,"",null,null,null,null,null,null,null,null,null,null,null,null,null,null,null,null,null,null,null,null,null,null,null,null,null,null,null,null,null,null,null,null,null,null,null,null,null,null,null,null,null,null,null,null,null,null,null,null,null,null,null,null,null,null,null,null,null,null,null,null,null,null,null,null,null,null,null,null,null,null,null,null,null,null,null,null,null,null,null,null,null,null,null,null,null,null,null,null,null,null,null,null,123,null,null,null,null,12.7,null,null,null,null,null,null,null,null,null,null,null,null,null,null,null,null,124,null,null,null,"",null,null,null,null,null,null,null,null,null,""]
[null,null,null,null,null,null,null,null,null,null,{"$f":"IF(A128=\"\",\"\",K$5+Header!C$6*(A128-1))","v":""},null,"","","","","",{"$f":"#REF!","v":{"$error":"#REF!"}},1,"",null,null,null,null,null,null,null,null,null,null,null,null,null,null,null,null,null,null,null,null,null,null,null,null,null,null,null,null,null,null,null,null,null,null,null,null,null,null,null,null,null,null,null,null,null,null,null,null,null,null,null,null,null,null,null,null,null,null,null,null,null,null,null,null,null,null,null,null,null,null,null,null,null,null,null,null,null,null,null,null,null,null,null,null,null,null,null,null,null,null,null,null,124,null,null,null,null,12.8,null,null,null,null,null,null,null,null,null,null,null,null,null,null,null,null,125,null,null,null,"",null,null,null,null,null,null,null,null,null,""]
[null,null,null,null,null,null,null,null,null,null,{"$f":"IF(A129=\"\",\"\",K$5+Header!C$6*(A129-1))","v":""},null,"","","","","",{"$f":"#REF!","v":{"$error":"#REF!"}},1,"",null,null,null,null,null,null,null,null,null,null,null,null,null,null,null,null,null,null,null,null,null,null,null,null,null,null,null,null,null,null,null,null,null,null,null,null,null,null,null,null,null,null,null,null,null,null,null,null,null,null,null,null,null,null,null,null,null,null,null,null,null,null,null,null,null,null,null,null,null,null,null,null,null,null,null,null,null,null,null,null,null,null,null,null,null,null,null,null,null,null,null,null,125,null,null,null,null,12.9,null,null,null,null,null,null,null,null,null,null,null,null,null,null,null,null,126,null,null,null,"",null,null,null,null,null,null,null,null,null,""]
[null,null,null,null,null,null,null,null,null,null,{"$f":"IF(A130=\"\",\"\",K$5+Header!C$6*(A130-1))","v":""},null,"","","","","",{"$f":"#REF!","v":{"$error":"#REF!"}},1,"",null,null,null,null,null,null,null,null,null,null,null,null,null,null,null,null,null,null,null,null,null,null,null,null,null,null,null,null,null,null,null,null,null,null,null,null,null,null,null,null,null,null,null,null,null,null,null,null,null,null,null,null,null,null,null,null,null,null,null,null,null,null,null,null,null,null,null,null,null,null,null,null,null,null,null,null,null,null,null,null,null,null,null,null,null,null,null,null,null,null,null,null,126,null,null,null,null,13,null,null,null,null,null,null,null,null,null,null,null,null,null,null,null,null,127,null,null,null,"",null,null,null,null,null,null,null,null,null,""]
[null,null,null,null,null,null,null,null,null,null,{"$f":"IF(A131=\"\",\"\",K$5+Header!C$6*(A131-1))","v":""},null,"","","","","",{"$f":"#REF!","v":{"$error":"#REF!"}},1,"",null,null,null,null,null,null,null,null,null,null,null,null,null,null,null,null,null,null,null,null,null,null,null,null,null,null,null,null,null,null,null,null,null,null,null,null,null,null,null,null,null,null,null,null,null,null,null,null,null,null,null,null,null,null,null,null,null,null,null,null,null,null,null,null,null,null,null,null,null,null,null,null,null,null,null,null,null,null,null,null,null,null,null,null,null,null,null,null,null,null,null,null,127,null,null,null,null,13.1,null,null,null,null,null,null,null,null,null,null,null,null,null,null,null,null,128,null,null,null,"",null,null,null,null,null,null,null,null,null,""]
[null,null,null,null,null,null,null,null,null,null,{"$f":"IF(A132=\"\",\"\",K$5+Header!C$6*(A132-1))","v":""},null,"","","","","",{"$f":"#REF!","v":{"$error":"#REF!"}},1,"",null,null,null,null,null,null,null,null,null,null,null,null,null,null,null,null,null,null,null,null,null,null,null,null,null,null,null,null,null,null,null,null,null,null,null,null,null,null,null,null,null,null,null,null,null,null,null,null,null,null,null,null,null,null,null,null,null,null,null,null,null,null,null,null,null,null,null,null,null,null,null,null,null,null,null,null,null,null,null,null,null,null,null,null,null,null,null,null,null,null,null,null,128,null,null,null,null,13.2,null,null,null,null,null,null,null,null,null,null,null,null,null,null,null,null,129,null,null,null,"",null,null,null,null,null,null,null,null,null,""]
[null,null,null,null,null,null,null,null,null,null,{"$f":"IF(A133=\"\",\"\",K$5+Header!C$6*(A133-1))","v":""},null,{"$f":"IF(C133=\"\",\"\",IF(ISNUMBER(SEARCH(C133,\"d\")),IF(ISNUMBER(SEARCH(D133,\"c\")),\"CS\",IF(ISNUMBER(SEARCH(D133,\"u\")),\"UU\")),\"\"))","v":""},{"$f":"IF(C133=\"\",\"\",IF(ISNUMBER(SEARCH(C133,\"e\")),IF(ISNUMBER(SEARCH(D133,\"c\")),IF(ISNUMBER(SEARCH(E133,\"a\")),\"CS\",\"CU\"),IF(ISNUMBER(SEARCH(E133,\"a\")),\"US\",\"UU\")),\"\"))","v":""},"","",{"$f":"IF(A133=\"\",\"\",A133)","v":""},{"$f":"#REF!","v":{"$error":"#REF!"}},1,"",null,null,null,null,null,null,null,null,null,null,null,null,null,null,null,null,null,null,null,null,null,null,null,null,null,null,null,null,null,null,null,null,null,null,null,null,null,null,null,null,null,null,null,null,null,null,null,null,null,null,null,null,null,null,null,null,null,null,null,null,null,null,null,null,null,null,null,null,null,null,null,null,null,null,null,null,null,null,null,null,null,null,null,null,null,null,null,null,null,null,null,null,129,null,null,null,null,13.3,null,null,null,null,null,null,null,null,null,null,null,null,null,null,null,null,130,null,null,null,"",null,null,null,null,null,null,null,null,null,{"$f":"IF(B133=\"\",\"\",B133+1)","v":""}]
[null,null,null,null,null,null,null,null,null,null,{"$f":"IF(A134=\"\",\"\",K$5+Header!C$6*(A134-1))","v":""},null,"","",{"$f":"IF(M134=\"\",N134,M134)","v":""},{"$f":"IF($O134=\"cs\",1,IF($O134=\"cu\",2,IF($O134=\"us\",3,IF($O134=\"uu\",4,\"\"))))","v":""},"",{"$f":"#REF!","v":{"$error":"#REF!"}},{"$f":"IF(A134>A133,A134,S133)","v":1},{"$f":"IF(Q134<>\"\",SUMIF(S:S,Q134,R:R),\"\")","v":""},null,null,null,null,null,null,null,null,null,null,null,null,null,null,null,null,null,null,null,null,null,null,null,null,null,null,null,null,null,null,null,null,null,null,null,null,null,null,null,null,null,null,null,null,null,null,null,null,null,null,null,null,null,null,null,null,null,null,null,null,null,null,null,null,null,null,null,null,null,null,null,null,null,null,null,null,null,null,null,null,null,null,null,null,null,null,null,null,null,null,null,null,130,null,null,null,null,13.4,null,null,null,null,null,null,null,null,null,null,null,null,null,null,null,null,131,null,null,null,"",null,null,null,null,null,null,null,null,null,""]
[null,null,null,null,null,null,null,null,null,null,{"$f":"IF(A135=\"\",\"\",K$5+Header!C$6*(A135-1))","v":""},null,"","","","","",{"$f":"#REF!","v":{"$error":"#REF!"}},1,"",null,null,null,null,null,null,null,null,null,null,null,null,null,null,null,null,null,null,null,null,null,null,null,null,null,null,null,null,null,null,null,null,null,null,null,null,null,null,null,null,null,null,null,null,null,null,null,null,null,null,null,null,null,null,null,null,null,null,null,null,null,null,null,null,null,null,null,null,null,null,null,null,null,null,null,null,null,null,null,null,null,null,null,null,null,null,null,null,null,null,null,null,131,null,null,null,null,13.5,null,null,null,null,null,null,null,null,null,null,null,null,null,null,null,null,132,null,null,null,"",null,null,null,null,null,null,null,null,null,""]
[null,null,null,null,null,null,null,null,null,null,{"$f":"IF(A136=\"\",\"\",K$5+Header!C$6*(A136-1))","v":""},null,"","","","","",{"$f":"#REF!","v":{"$error":"#REF!"}},1,"",null,null,null,null,null,null,null,null,null,null,null,null,null,null,null,null,null,null,null,null,null,null,null,null,null,null,null,null,null,null,null,null,null,null,null,null,null,null,null,null,null,null,null,null,null,null,null,null,null,null,null,null,null,null,null,null,null,null,null,null,null,null,null,null,null,null,null,null,null,null,null,null,null,null,null,null,null,null,null,null,null,null,null,null,null,null,null,null,null,null,null,null,132,null,null,null,null,13.6,null,null,null,null,null,null,null,null,null,null,null,null,null,null,null,null,133,null,null,null,{"$f":"IF(SUM(EF136:EH136)=0,\"\",100-SUM(EF136:EH136))","v":""},null,null,null,null,null,null,null,null,null,""]
[null,null,null,null,null,null,null,null,null,null,{"$f":"IF(A137=\"\",\"\",K$5+Header!C$6*(A137-1))","v":""},null,"","","","","",{"$f":"#REF!","v":{"$error":"#REF!"}},1,"",null,null,null,null,null,null,null,null,null,null,null,null,null,null,null,null,null,null,null,null,null,null,null,null,null,null,null,null,null,null,null,null,null,null,null,null,null,null,null,null,null,null,null,null,null,null,null,null,null,null,null,null,null,null,null,null,null,null,null,null,null,null,null,null,null,null,null,null,null,null,null,null,null,null,null,null,null,null,null,null,null,null,null,null,null,null,null,null,null,null,null,null,133,null,null,null,null,13.7,null,null,null,null,null,null,null,null,null,null,null,null,null,null,null,null,134,null,null,null,"",null,null,null,null,null,null,null,null,null,""]
[null,null,null,null,null,null,null,null,null,null,{"$f":"IF(A138=\"\",\"\",K$5+Header!C$6*(A138-1))","v":""},null,"","","","","",{"$f":"#REF!","v":{"$error":"#REF!"}},1,"",null,null,null,null,null,null,null,null,null,null,null,null,null,null,null,null,null,null,null,null,null,null,null,null,null,null,null,null,null,null,null,null,null,null,null,null,null,null,null,null,null,null,null,null,null,null,null,null,null,null,null,null,null,null,null,null,null,null,null,null,null,null,null,null,null,null,null,null,null,null,null,null,null,null,null,null,null,null,null,null,null,null,null,null,null,null,null,null,null,null,null,null,134,null,null,null,null,13.8,null,null,null,null,null,null,null,null,null,null,null,null,null,null,null,null,135,null,null,null,"",null,null,null,null,null,null,null,null,null,""]
[null,null,null,null,null,null,null,null,null,null,{"$f":"IF(A139=\"\",\"\",K$5+Header!C$6*(A139-1))","v":""},null,"","","","","",{"$f":"#REF!","v":{"$error":"#REF!"}},1,"",null,null,null,null,null,null,null,null,null,null,null,null,null,null,null,null,null,null,null,null,null,null,null,null,null,null,null,null,null,null,null,null,null,null,null,null,null,null,null,null,null,null,null,null,null,null,null,null,null,null,null,null,null,null,null,null,null,null,null,null,null,null,null,null,null,null,null,null,null,null,null,null,null,null,null,null,null,null,null,null,null,null,null,null,null,null,null,null,null,null,null,null,135,null,null,null,null,13.9,null,null,null,null,null,null,null,null,null,null,null,null,null,null,null,null,136,null,null,null,"",null,null,null,null,null,null,null,null,null,""]
[null,null,null,null,null,null,null,null,null,null,{"$f":"IF(A140=\"\",\"\",K$5+Header!C$6*(A140-1))","v":""},null,"","","","","",{"$f":"#REF!","v":{"$error":"#REF!"}},1,"",null,null,null,null,null,null,null,null,null,null,null,null,null,null,null,null,null,null,null,null,null,null,null,null,null,null,null,null,null,null,null,null,null,null,null,null,null,null,null,null,null,null,null,null,null,null,null,null,null,null,null,null,null,null,null,null,null,null,null,null,null,null,null,null,null,null,null,null,null,null,null,null,null,null,null,null,null,null,null,null,null,null,null,null,null,null,null,null,null,null,null,null,136,null,null,null,null,14,null,null,null,null,null,null,null,null,null,null,null,null,null,null,null,null,137,null,null,null,"",null,null,null,null,null,null,null,null,null,""]
[null,null,null,null,null,null,null,null,null,null,{"$f":"IF(A141=\"\",\"\",K$5+Header!C$6*(A141-1))","v":""},null,"","","","","",{"$f":"#REF!","v":{"$error":"#REF!"}},1,"",null,null,null,null,null,null,null,null,null,null,null,null,null,null,null,null,null,null,null,null,null,null,null,null,null,null,null,null,null,null,null,null,null,null,null,null,null,null,null,null,null,null,null,null,null,null,null,null,null,null,null,null,null,null,null,null,null,null,null,null,null,null,null,null,null,null,null,null,null,null,null,null,null,null,null,null,null,null,null,null,null,null,null,null,null,null,null,null,null,null,null,null,137,null,null,null,null,14.1,null,null,null,null,null,null,null,null,null,null,null,null,null,null,null,null,138,null,null,null,"",null,null,null,null,null,null,null,null,null,""]
[null,null,null,null,null,null,null,null,null,null,{"$f":"IF(A142=\"\",\"\",K$5+Header!C$6*(A142-1))","v":""},null,"","","","","",{"$f":"#REF!","v":{"$error":"#REF!"}},1,"",null,null,null,null,null,null,null,null,null,null,null,null,null,null,null,null,null,null,null,null,null,null,null,null,null,null,null,null,null,null,null,null,null,null,null,null,null,null,null,null,null,null,null,null,null,null,null,null,null,null,null,null,null,null,null,null,null,null,null,null,null,null,null,null,null,null,null,null,null,null,null,null,null,null,null,null,null,null,null,null,null,null,null,null,null,null,null,null,null,null,null,null,138,null,null,null,null,14.2,null,null,null,null,null,null,null,null,null,null,null,null,null,null,null,null,139,null,null,null,"",null,null,null,null,null,null,null,null,null,""]
[null,null,null,null,null,null,null,null,null,null,{"$f":"IF(A143=\"\",\"\",K$5+Header!C$6*(A143-1))","v":""},null,"","","","","",{"$f":"#REF!","v":{"$error":"#REF!"}},1,"",null,null,null,null,null,null,null,null,null,null,null,null,null,null,null,null,null,null,null,null,null,null,null,null,null,null,null,null,null,null,null,null,null,null,null,null,null,null,null,null,null,null,null,null,null,null,null,null,null,null,null,null,null,null,null,null,null,null,null,null,null,null,null,null,null,null,null,null,null,null,null,null,null,null,null,null,null,null,null,null,null,null,null,null,null,null,null,null,null,null,null,null,139,null,null,null,null,14.3,null,null,null,null,null,null,null,null,null,null,null,null,null,null,null,null,140,null,null,null,"",null,null,null,null,null,null,null,null,null,""]
[null,null,null,null,null,null,null,null,null,null,{"$f":"IF(A144=\"\",\"\",K$5+Header!C$6*(A144-1))","v":""},null,"","","","","",{"$f":"#REF!","v":{"$error":"#REF!"}},1,"",null,null,null,null,null,null,null,null,null,null,null,null,null,null,null,null,null,null,null,null,null,null,null,null,null,null,null,null,null,null,null,null,null,null,null,null,null,null,null,null,null,null,null,null,null,null,null,null,null,null,null,null,null,null,null,null,null,null,null,null,null,null,null,null,null,null,null,null,null,null,null,null,null,null,null,null,null,null,null,null,null,null,null,null,null,null,null,null,null,null,null,null,140,null,null,null,null,14.4,null,null,null,null,null,null,null,null,null,null,null,null,null,null,null,null,141,null,null,null,"",null,null,null,null,null,null,null,null,null,""]
[null,null,null,null,null,null,null,null,null,null,{"$f":"IF(A145=\"\",\"\",K$5+Header!C$6*(A145-1))","v":""},null,"","","","","",{"$f":"#REF!","v":{"$error":"#REF!"}},1,"",null,null,null,null,null,null,null,null,null,null,null,null,null,null,null,null,null,null,null,null,null,null,null,null,null,null,null,null,null,null,null,null,null,null,null,null,null,null,null,null,null,null,null,null,null,null,null,null,null,null,null,null,null,null,null,null,null,null,null,null,null,null,null,null,null,null,null,null,null,null,null,null,null,null,null,null,null,null,null,null,null,null,null,null,null,null,null,null,null,null,null,null,141,null,null,null,null,14.5,null,null,null,null,null,null,null,null,null,null,null,null,null,null,null,null,142,null,null,null,"",null,null,null,null,null,null,null,null,null,""]
[null,null,null,null,null,null,null,null,null,null,{"$f":"IF(A146=\"\",\"\",K$5+Header!C$6*(A146-1))","v":""},null,"","","","","",{"$f":"#REF!","v":{"$error":"#REF!"}},1,"",null,null,null,null,null,null,null,null,null,null,null,null,null,null,null,null,null,null,null,null,null,null,null,null,null,null,null,null,null,null,null,null,null,null,null,null,null,null,null,null,null,null,null,null,null,null,null,null,null,null,null,null,null,null,null,null,null,null,null,null,null,null,null,null,null,null,null,null,null,null,null,null,null,null,null,null,null,null,null,null,null,null,null,null,null,null,null,null,null,null,null,null,142,null,null,null,null,14.6,null,null,null,null,null,null,null,null,null,null,null,null,null,null,null,null,143,null,null,null,"",null,null,null,null,null,null,null,null,null,""]
[null,null,null,null,null,null,null,null,null,null,{"$f":"IF(A147=\"\",\"\",K$5+Header!C$6*(A147-1))","v":""},null,"","","","","",{"$f":"#REF!","v":{"$error":"#REF!"}},1,"",null,null,null,null,null,null,null,null,null,null,null,null,null,null,null,null,null,null,null,null,null,null,null,null,null,null,null,null,null,null,null,null,null,null,null,null,null,null,null,null,null,null,null,null,null,null,null,null,null,null,null,null,null,null,null,null,null,null,null,null,null,null,null,null,null,null,null,null,null,null,null,null,null,null,null,null,null,null,null,null,null,null,null,null,null,null,null,null,null,null,null,null,143,null,null,null,null,14.7,null,null,null,null,null,null,null,null,null,null,null,null,null,null,null,null,144,null,null,null,"",null,null,null,null,null,null,null,null,null,""]
[null,null,null,null,null,null,null,null,null,null,{"$f":"IF(A148=\"\",\"\",K$5+Header!C$6*(A148-1))","v":""},null,"","","","","",{"$f":"#REF!","v":{"$error":"#REF!"}},1,"",null,null,null,null,null,null,null,null,null,null,null,null,null,null,null,null,null,null,null,null,null,null,null,null,null,null,null,null,null,null,null,null,null,null,null,null,null,null,null,null,null,null,null,null,null,null,null,null,null,null,null,null,null,null,null,null,null,null,null,null,null,null,null,null,null,null,null,null,null,null,null,null,null,null,null,null,null,null,null,null,null,null,null,null,null,null,null,null,null,null,null,null,144,null,null,null,null,14.8,null,null,null,null,null,null,null,null,null,null,null,null,null,null,null,null,145,null,null,null,"",null,null,null,null,null,null,null,null,null,""]
[null,null,null,null,null,null,null,null,null,null,{"$f":"IF(A149=\"\",\"\",K$5+Header!C$6*(A149-1))","v":""},null,"","","","","",{"$f":"#REF!","v":{"$error":"#REF!"}},1,"",null,null,null,null,null,null,null,null,null,null,null,null,null,null,null,null,null,null,null,null,null,null,null,null,null,null,null,null,null,null,null,null,null,null,null,null,null,null,null,null,null,null,null,null,null,null,null,null,null,null,null,null,null,null,null,null,null,null,null,null,null,null,null,null,null,null,null,null,null,null,null,null,null,null,null,null,null,null,null,null,null,null,null,null,null,null,null,null,null,null,null,null,145,null,null,null,null,14.9,null,null,null,null,null,null,null,null,null,null,null,null,null,null,null,null,146,null,null,null,"",null,null,null,null,null,null,null,null,null,""]
[null,null,null,null,null,null,null,null,null,null,{"$f":"IF(A150=\"\",\"\",K$5+Header!C$6*(A150-1))","v":""},null,"","","","","",{"$f":"#REF!","v":{"$error":"#REF!"}},1,"",null,null,null,null,null,null,null,null,null,null,null,null,null,null,null,null,null,null,null,null,null,null,null,null,null,null,null,null,null,null,null,null,null,null,null,null,null,null,null,null,null,null,null,null,null,null,null,null,null,null,null,null,null,null,null,null,null,null,null,null,null,null,null,null,null,null,null,null,null,null,null,null,null,null,null,null,null,null,null,null,null,null,null,null,null,null,null,null,null,null,null,null,146,null,null,null,null,15,null,null,null,null,null,null,null,null,null,null,null,null,null,null,null,null,147,null,null,null,"",null,null,null,null,null,null,null,null,null,""]
[null,null,null,null,null,null,null,null,null,null,{"$f":"IF(A151=\"\",\"\",K$5+Header!C$6*(A151-1))","v":""},null,"","","","","",{"$f":"#REF!","v":{"$error":"#REF!"}},1,"",null,null,null,null,null,null,null,null,null,null,null,null,null,null,null,null,null,null,null,null,null,null,null,null,null,null,null,null,null,null,null,null,null,null,null,null,null,null,null,null,null,null,null,null,null,null,null,null,null,null,null,null,null,null,null,null,null,null,null,null,null,null,null,null,null,null,null,null,null,null,null,null,null,null,null,null,null,null,null,null,null,null,null,null,null,null,null,null,null,null,null,null,147,null,null,null,null,15.1,null,null,null,null,null,null,null,null,null,null,null,null,null,null,null,null,148,null,null,null,"",null,null,null,null,null,null,null,null,null,""]
[null,null,null,null,null,null,null,null,null,null,{"$f":"IF(A152=\"\",\"\",K$5+Header!C$6*(A152-1))","v":""},null,"","","","","",{"$f":"#REF!","v":{"$error":"#REF!"}},1,"",null,null,null,null,null,null,null,null,null,null,null,null,null,null,null,null,null,null,null,null,null,null,null,null,null,null,null,null,null,null,null,null,null,null,null,null,null,null,null,null,null,null,null,null,null,null,null,null,null,null,null,null,null,null,null,null,null,null,null,null,null,null,null,null,null,null,null,null,null,null,null,null,null,null,null,null,null,null,null,null,null,null,null,null,null,null,null,null,null,null,null,null,148,null,null,null,null,15.2,null,null,null,null,null,null,null,null,null,null,null,null,null,null,null,null,149,null,null,null,"",null,null,null,null,null,null,null,null,null,""]
[null,null,null,null,null,null,null,null,null,null,{"$f":"IF(A153=\"\",\"\",K$5+Header!C$6*(A153-1))","v":""},null,"","","","","",{"$f":"#REF!","v":{"$error":"#REF!"}},1,"",null,null,null,null,null,null,null,null,null,null,null,null,null,null,null,null,null,null,null,null,null,null,null,null,null,null,null,null,null,null,null,null,null,null,null,null,null,null,null,null,null,null,null,null,null,null,null,null,null,null,null,null,null,null,null,null,null,null,null,null,null,null,null,null,null,null,null,null,null,null,null,null,null,null,null,null,null,null,null,null,null,null,null,null,null,null,null,null,null,null,null,null,149,null,null,null,null,15.3,null,null,null,null,null,null,null,null,null,null,null,null,null,null,null,null,150,null,null,null,"",null,null,null,null,null,null,null,null,null,""]
[null,null,null,null,null,null,null,null,null,null,{"$f":"IF(A154=\"\",\"\",K$5+Header!C$6*(A154-1))","v":""},null,"","","","","",{"$f":"#REF!","v":{"$error":"#REF!"}},1,"",null,null,null,null,null,null,null,null,null,null,null,null,null,null,null,null,null,null,null,null,null,null,null,null,null,null,null,null,null,null,null,null,null,null,null,null,null,null,null,null,null,null,null,null,null,null,null,null,null,null,null,null,null,null,null,null,null,null,null,null,null,null,null,null,null,null,null,null,null,null,null,null,null,null,null,null,null,null,null,null,null,null,null,null,null,null,null,null,null,null,null,null,150,null,null,null,null,15.4,null,null,null,null,null,null,null,null,null,null,null,null,null,null,null,null,151,null,null,null,"",null,null,null,null,null,null,null,null,null,""]
[null,null,null,null,null,null,null,null,null,null,{"$f":"IF(A155=\"\",\"\",K$5+Header!C$6*(A155-1))","v":""},null,"","","","","",{"$f":"#REF!","v":{"$error":"#REF!"}},1,"",null,null,null,null,null,null,null,null,null,null,null,null,null,null,null,null,null,null,null,null,null,null,null,null,null,null,null,null,null,null,null,null,null,null,null,null,null,null,null,null,null,null,null,null,null,null,null,null,null,null,null,null,null,null,null,null,null,null,null,null,null,null,null,null,null,null,null,null,null,null,null,null,null,null,null,null,null,null,null,null,null,null,null,null,null,null,null,null,null,null,null,null,151,null,null,null,null,15.5,null,null,null,null,null,null,null,null,null,null,null,null,null,null,null,null,152,null,null,null,"",null,null,null,null,null,null,null,null,null,""]
[null,null,null,null,null,null,null,null,null,null,{"$f":"IF(A156=\"\",\"\",K$5+Header!C$6*(A156-1))","v":""},null,"","","","","",{"$f":"#REF!","v":{"$error":"#REF!"}},1,"",null,null,null,null,null,null,null,null,null,null,null,null,null,null,null,null,null,null,null,null,null,null,null,null,null,null,null,null,null,null,null,null,null,null,null,null,null,null,null,null,null,null,null,null,null,null,null,null,null,null,null,null,null,null,null,null,null,null,null,null,null,null,null,null,null,null,null,null,null,null,null,null,null,null,null,null,null,null,null,null,null,null,null,null,null,null,null,null,null,null,null,null,152,null,null,null,null,15.6,null,null,null,null,null,null,null,null,null,null,null,null,null,null,null,null,153,null,null,null,"",null,null,null,null,null,null,null,null,null,""]
[null,null,null,null,null,null,null,null,null,null,{"$f":"IF(A157=\"\",\"\",K$5+Header!C$6*(A157-1))","v":""},null,"","","","","",{"$f":"#REF!","v":{"$error":"#REF!"}},1,"",null,null,null,null,null,null,null,null,null,null,null,null,null,null,null,null,null,null,null,null,null,null,null,null,null,null,null,null,null,null,null,null,null,null,null,null,null,null,null,null,null,null,null,null,null,null,null,null,null,null,null,null,null,null,null,null,null,null,null,null,null,null,null,null,null,null,null,null,null,null,null,null,null,null,null,null,null,null,null,null,null,null,null,null,null,null,null,null,null,null,null,null,153,null,null,null,null,15.7,null,null,null,null,null,null,null,null,null,null,null,null,null,null,null,null,154,null,null,null,"",null,null,null,null,null,null,null,null,null,""]
[null,null,null,null,null,null,null,null,null,null,{"$f":"IF(A158=\"\",\"\",K$5+Header!C$6*(A158-1))","v":""},null,"","","","","",{"$f":"#REF!","v":{"$error":"#REF!"}},1,"",null,null,null,null,null,null,null,null,null,null,null,null,null,null,null,null,null,null,null,null,null,null,null,null,null,null,null,null,null,null,null,null,null,null,null,null,null,null,null,null,null,null,null,null,null,null,null,null,null,null,null,null,null,null,null,null,null,null,null,null,null,null,null,null,null,null,null,null,null,null,null,null,null,null,null,null,null,null,null,null,null,null,null,null,null,null,null,null,null,null,null,null,154,null,null,null,null,15.8,null,null,null,null,null,null,null,null,null,null,null,null,null,null,null,null,155,null,null,null,"",null,null,null,null,null,null,null,null,null,""]
[null,null,null,null,null,null,null,null,null,null,{"$f":"IF(A159=\"\",\"\",K$5+Header!C$6*(A159-1))","v":""},null,"","","","","",{"$f":"#REF!","v":{"$error":"#REF!"}},1,"",null,null,null,null,null,null,null,null,null,null,null,null,null,null,null,null,null,null,null,null,null,null,null,null,null,null,null,null,null,null,null,null,null,null,null,null,null,null,null,null,null,null,null,null,null,null,null,null,null,null,null,null,null,null,null,null,null,null,null,null,null,null,null,null,null,null,null,null,null,null,null,null,null,null,null,null,null,null,null,null,null,null,null,null,null,null,null,null,null,null,null,null,155,null,null,null,null,15.9,null,null,null,null,null,null,null,null,null,null,null,null,null,null,null,null,156,null,null,null,"",null,null,null,null,null,null,null,null,null,""]
[null,null,null,null,null,null,null,null,null,null,{"$f":"IF(A160=\"\",\"\",K$5+Header!C$6*(A160-1))","v":""},null,"","","","","",{"$f":"#REF!","v":{"$error":"#REF!"}},1,"",null,null,null,null,null,null,null,null,null,null,null,null,null,null,null,null,null,null,null,null,null,null,null,null,null,null,null,null,null,null,null,null,null,null,null,null,null,null,null,null,null,null,null,null,null,null,null,null,null,null,null,null,null,null,null,null,null,null,null,null,null,null,null,null,null,null,null,null,null,null,null,null,null,null,null,null,null,null,null,null,null,null,null,null,null,null,null,null,null,null,null,null,156,null,null,null,null,16,null,null,null,null,null,null,null,null,null,null,null,null,null,null,null,null,157,null,null,null,"",null,null,null,null,null,null,null,null,null,""]
[null,null,null,null,null,null,null,null,null,null,{"$f":"IF(A161=\"\",\"\",K$5+Header!C$6*(A161-1))","v":""},null,"","","","","",{"$f":"#REF!","v":{"$error":"#REF!"}},1,"",null,null,null,null,null,null,null,null,null,null,null,null,null,null,null,null,null,null,null,null,null,null,null,null,null,null,null,null,null,null,null,null,null,null,null,null,null,null,null,null,null,null,null,null,null,null,null,null,null,null,null,null,null,null,null,null,null,null,null,null,null,null,null,null,null,null,null,null,null,null,null,null,null,null,null,null,null,null,null,null,null,null,null,null,null,null,null,null,null,null,null,null,157,null,null,null,null,16.100000000000001,null,null,null,null,null,null,null,null,null,null,null,null,null,null,null,null,158,null,null,null,"",null,null,null,null,null,null,null,null,null,""]
[null,null,null,null,null,null,null,null,null,null,{"$f":"IF(A162=\"\",\"\",K$5+Header!C$6*(A162-1))","v":""},null,"","","","","",{"$f":"#REF!","v":{"$error":"#REF!"}},1,"",null,null,null,null,null,null,null,null,null,null,null,null,null,null,null,null,null,null,null,null,null,null,null,null,null,null,null,null,null,null,null,null,null,null,null,null,null,null,null,null,null,null,null,null,null,null,null,null,null,null,null,null,null,null,null,null,null,null,null,null,null,null,null,null,null,null,null,null,null,null,null,null,null,null,null,null,null,null,null,null,null,null,null,null,null,null,null,null,null,null,null,null,158,null,null,null,null,16.2,null,null,null,null,null,null,null,null,null,null,null,null,null,null,null,null,159,null,null,null,"",null,null,null,null,null,null,null,null,null,""]
[null,null,null,null,null,null,null,null,null,null,{"$f":"IF(A163=\"\",\"\",K$5+Header!C$6*(A163-1))","v":""},null,"","","","","",{"$f":"#REF!","v":{"$error":"#REF!"}},1,"",null,null,null,null,null,null,null,null,null,null,null,null,null,null,null,null,null,null,null,null,null,null,null,null,null,null,null,null,null,null,null,null,null,null,null,null,null,null,null,null,null,null,null,null,null,null,null,null,null,null,null,null,null,null,null,null,null,null,null,null,null,null,null,null,null,null,null,null,null,null,null,null,null,null,null,null,null,null,null,null,null,null,null,null,null,null,null,null,null,null,null,null,159,null,null,null,null,16.3,null,null,null,null,null,null,null,null,null,null,null,null,null,null,null,null,160,null,null,null,"",null,null,null,null,null,null,null,null,null,""]
[null,null,null,null,null,null,null,null,null,null,{"$f":"IF(A164=\"\",\"\",K$5+Header!C$6*(A164-1))","v":""},null,"","","","","",{"$f":"#REF!","v":{"$error":"#REF!"}},1,"",null,null,null,null,null,null,null,null,null,null,null,null,null,null,null,null,null,null,null,null,null,null,null,null,null,null,null,null,null,null,null,null,null,null,null,null,null,null,null,null,null,null,null,null,null,null,null,null,null,null,null,null,null,null,null,null,null,null,null,null,null,null,null,null,null,null,null,null,null,null,null,null,null,null,null,null,null,null,null,null,null,null,null,null,null,null,null,null,null,null,null,null,160,null,null,null,null,16.399999999999999,null,null,null,null,null,null,null,null,null,null,null,null,null,null,null,null,161,null,null,null,"",null,null,null,null,null,null,null,null,null,""]
[null,null,null,null,null,null,null,null,null,null,{"$f":"IF(A165=\"\",\"\",K$5+Header!C$6*(A165-1))","v":""},null,"","","","","",{"$f":"#REF!","v":{"$error":"#REF!"}},1,"",null,null,null,null,null,null,null,null,null,null,null,null,null,null,null,null,null,null,null,null,null,null,null,null,null,null,null,null,null,null,null,null,null,null,null,null,null,null,null,null,null,null,null,null,null,null,null,null,null,null,null,null,null,null,null,null,null,null,null,null,null,null,null,null,null,null,null,null,null,null,null,null,null,null,null,null,null,null,null,null,null,null,null,null,null,null,null,null,null,null,null,null,161,null,null,null,null,16.5,null,null,null,null,null,null,null,null,null,null,null,null,null,null,null,null,162,null,null,null,"",null,null,null,null,null,null,null,null,null,""]
[null,null,null,null,null,null,null,null,null,null,{"$f":"IF(A166=\"\",\"\",K$5+Header!C$6*(A166-1))","v":""},null,"","","","","",{"$f":"#REF!","v":{"$error":"#REF!"}},1,"",null,null,null,null,null,null,null,null,null,null,null,null,null,null,null,null,null,null,null,null,null,null,null,null,null,null,null,null,null,null,null,null,null,null,null,null,null,null,null,null,null,null,null,null,null,null,null,null,null,null,null,null,null,null,null,null,null,null,null,null,null,null,null,null,null,null,null,null,null,null,null,null,null,null,null,null,null,null,null,null,null,null,null,null,null,null,null,null,null,null,null,null,162,null,null,null,null,16.600000000000001,null,null,null,null,null,null,null,null,null,null,null,null,null,null,null,null,163,null,null,null,"",null,null,null,null,null,null,null,null,null,""]
[null,null,null,null,null,null,null,null,null,null,{"$f":"IF(A167=\"\",\"\",K$5+Header!C$6*(A167-1))","v":""},null,"","","","","",{"$f":"#REF!","v":{"$error":"#REF!"}},1,"",null,null,null,null,null,null,null,null,null,null,null,null,null,null,null,null,null,null,null,null,null,null,null,null,null,null,null,null,null,null,null,null,null,null,null,null,null,null,null,null,null,null,null,null,null,null,null,null,null,null,null,null,null,null,null,null,null,null,null,null,null,null,null,null,null,null,null,null,null,null,null,null,null,null,null,null,null,null,null,null,null,null,null,null,null,null,null,null,null,null,null,null,163,null,null,null,null,16.7,null,null,null,null,null,null,null,null,null,null,null,null,null,null,null,null,164,null,null,null,"",null,null,null,null,null,null,null,null,null,""]
[null,null,null,null,null,null,null,null,null,null,{"$f":"IF(A168=\"\",\"\",K$5+Header!C$6*(A168-1))","v":""},null,"","","","","",{"$f":"#REF!","v":{"$error":"#REF!"}},1,"",null,null,null,null,null,null,null,null,null,null,null,null,null,null,null,null,null,null,null,null,null,null,null,null,null,null,null,null,null,null,null,null,null,null,null,null,null,null,null,null,null,null,null,null,null,null,null,null,null,null,null,null,null,null,null,null,null,null,null,null,null,null,null,null,null,null,null,null,null,null,null,null,null,null,null,null,null,null,null,null,null,null,null,null,null,null,null,null,null,null,null,null,164,null,null,null,null,16.8,null,null,null,null,null,null,null,null,null,null,null,null,null,null,null,null,165,null,null,null,"",null,null,null,null,null,null,null,null,null,""]
[null,null,null,null,null,null,null,null,null,null,{"$f":"IF(A169=\"\",\"\",K$5+Header!C$6*(A169-1))","v":""},null,"","","","","",{"$f":"#REF!","v":{"$error":"#REF!"}},1,"",null,null,null,null,null,null,null,null,null,null,null,null,null,null,null,null,null,null,null,null,null,null,null,null,null,null,null,null,null,null,null,null,null,null,null,null,null,null,null,null,null,null,null,null,null,null,null,null,null,null,null,null,null,null,null,null,null,null,null,null,null,null,null,null,null,null,null,null,null,null,null,null,null,null,null,null,null,null,null,null,null,null,null,null,null,null,null,null,null,null,null,null,165,null,null,null,null,16.899999999999999,null,null,null,null,null,null,null,null,null,null,null,null,null,null,null,null,166,null,null,null,"",null,null,null,null,null,null,null,null,null,""]
[null,null,null,null,null,null,null,null,null,null,{"$f":"IF(A170=\"\",\"\",K$5+Header!C$6*(A170-1))","v":""},null,"","","","","",{"$f":"#REF!","v":{"$error":"#REF!"}},1,"",null,null,null,null,null,null,null,null,null,null,null,null,null,null,null,null,null,null,null,null,null,null,null,null,null,null,null,null,null,null,null,null,null,null,null,null,null,null,null,null,null,null,null,null,null,null,null,null,null,null,null,null,null,null,null,null,null,null,null,null,null,null,null,null,null,null,null,null,null,null,null,null,null,null,null,null,null,null,null,null,null,null,null,null,null,null,null,null,null,null,null,null,166,null,null,null,null,17,null,null,null,null,null,null,null,null,null,null,null,null,null,null,null,null,167,null,null,null,"",null,null,null,null,null,null,null,null,null,""]
[null,null,null,null,null,null,null,null,null,null,{"$f":"IF(A171=\"\",\"\",K$5+Header!C$6*(A171-1))","v":""},null,"","","","","",{"$f":"#REF!","v":{"$error":"#REF!"}},1,"",null,null,null,null,null,null,null,null,null,null,null,null,null,null,null,null,null,null,null,null,null,null,null,null,null,null,null,null,null,null,null,null,null,null,null,null,null,null,null,null,null,null,null,null,null,null,null,null,null,null,null,null,null,null,null,null,null,null,null,null,null,null,null,null,null,null,null,null,null,null,null,null,null,null,null,null,null,null,null,null,null,null,null,null,null,null,null,null,null,null,null,null,167,null,null,null,null,17.100000000000001,null,null,null,null,null,null,null,null,null,null,null,null,null,null,null,null,168,null,null,null,"",null,null,null,null,null,null,null,null,null,""]
[null,null,null,null,null,null,null,null,null,null,{"$f":"IF(A172=\"\",\"\",K$5+Header!C$6*(A172-1))","v":""},null,"","","","","",{"$f":"#REF!","v":{"$error":"#REF!"}},1,"",null,null,null,null,null,null,null,null,null,null,null,null,null,null,null,null,null,null,null,null,null,null,null,null,null,null,null,null,null,null,null,null,null,null,null,null,null,null,null,null,null,null,null,null,null,null,null,null,null,null,null,null,null,null,null,null,null,null,null,null,null,null,null,null,null,null,null,null,null,null,null,null,null,null,null,null,null,null,null,null,null,null,null,null,null,null,null,null,null,null,null,null,168,null,null,null,null,17.2,null,null,null,null,null,null,null,null,null,null,null,null,null,null,null,null,169,null,null,null,"",null,null,null,null,null,null,null,null,null,""]
[null,null,null,null,null,null,null,null,null,null,{"$f":"IF(A173=\"\",\"\",K$5+Header!C$6*(A173-1))","v":""},null,"","","","","",{"$f":"#REF!","v":{"$error":"#REF!"}},1,"",null,null,null,null,null,null,null,null,null,null,null,null,null,null,null,null,null,null,null,null,null,null,null,null,null,null,null,null,null,null,null,null,null,null,null,null,null,null,null,null,null,null,null,null,null,null,null,null,null,null,null,null,null,null,null,null,null,null,null,null,null,null,null,null,null,null,null,null,null,null,null,null,null,null,null,null,null,null,null,null,null,null,null,null,null,null,null,null,null,null,null,null,169,null,null,null,null,17.3,null,null,null,null,null,null,null,null,null,null,null,null,null,null,null,null,170,null,null,null,"",null,null,null,null,null,null,null,null,null,""]
[null,null,null,null,null,null,null,null,null,null,{"$f":"IF(A174=\"\",\"\",K$5+Header!C$6*(A174-1))","v":""},null,"","","","","",{"$f":"#REF!","v":{"$error":"#REF!"}},1,"",null,null,null,null,null,null,null,null,null,null,null,null,null,null,null,null,null,null,null,null,null,null,null,null,null,null,null,null,null,null,null,null,null,null,null,null,null,null,null,null,null,null,null,null,null,null,null,null,null,null,null,null,null,null,null,null,null,null,null,null,null,null,null,null,null,null,null,null,null,null,null,null,null,null,null,null,null,null,null,null,null,null,null,null,null,null,null,null,null,null,null,null,170,null,null,null,null,17.399999999999999,null,null,null,null,null,null,null,null,null,null,null,null,null,null,null,null,171,null,null,null,"",null,null,null,null,null,null,null,null,null,""]
[null,null,null,null,null,null,null,null,null,null,{"$f":"IF(A175=\"\",\"\",K$5+Header!C$6*(A175-1))","v":""},null,"","","","","",{"$f":"#REF!","v":{"$error":"#REF!"}},1,"",null,null,null,null,null,null,null,null,null,null,null,null,null,null,null,null,null,null,null,null,null,null,null,null,null,null,null,null,null,null,null,null,null,null,null,null,null,null,null,null,null,null,null,null,null,null,null,null,null,null,null,null,null,null,null,null,null,null,null,null,null,null,null,null,null,null,null,null,null,null,null,null,null,null,null,null,null,null,null,null,null,null,null,null,null,null,null,null,null,null,null,null,171,null,null,null,null,17.5,null,null,null,null,null,null,null,null,null,null,null,null,null,null,null,null,172,null,null,null,"",null,null,null,null,null,null,null,null,null,""]
[null,null,null,null,null,null,null,null,null,null,{"$f":"IF(A176=\"\",\"\",K$5+Header!C$6*(A176-1))","v":""},null,"","","","","",{"$f":"#REF!","v":{"$error":"#REF!"}},1,"",null,null,null,null,null,null,null,null,null,null,null,null,null,null,null,null,null,null,null,null,null,null,null,null,null,null,null,null,null,null,null,null,null,null,null,null,null,null,null,null,null,null,null,null,null,null,null,null,null,null,null,null,null,null,null,null,null,null,null,null,null,null,null,null,null,null,null,null,null,null,null,null,null,null,null,null,null,null,null,null,null,null,null,null,null,null,null,null,null,null,null,null,172,null,null,null,null,17.600000000000001,null,null,null,null,null,null,null,null,null,null,null,null,null,null,null,null,173,null,null,null,"",null,null,null,null,null,null,null,null,null,""]
[null,null,null,null,null,null,null,null,null,null,{"$f":"IF(A177=\"\",\"\",K$5+Header!C$6*(A177-1))","v":""},null,"","","","","",{"$f":"#REF!","v":{"$error":"#REF!"}},1,"",null,null,null,null,null,null,null,null,null,null,null,null,null,null,null,null,null,null,null,null,null,null,null,null,null,null,null,null,null,null,null,null,null,null,null,null,null,null,null,null,null,null,null,null,null,null,null,null,null,null,null,null,null,null,null,null,null,null,null,null,null,null,null,null,null,null,null,null,null,null,null,null,null,null,null,null,null,null,null,null,null,null,null,null,null,null,null,null,null,null,null,null,173,null,null,null,null,17.7,null,null,null,null,null,null,null,null,null,null,null,null,null,null,null,null,174,null,null,null,"",null,null,null,null,null,null,null,null,null,""]
[null,null,null,null,null,null,null,null,null,null,{"$f":"IF(A178=\"\",\"\",K$5+Header!C$6*(A178-1))","v":""},null,"","","","","",{"$f":"#REF!","v":{"$error":"#REF!"}},1,"",null,null,null,null,null,null,null,null,null,null,null,null,null,null,null,null,null,null,null,null,null,null,null,null,null,null,null,null,null,null,null,null,null,null,null,null,null,null,null,null,null,null,null,null,null,null,null,null,null,null,null,null,null,null,null,null,null,null,null,null,null,null,null,null,null,null,null,null,null,null,null,null,null,null,null,null,null,null,null,null,null,null,null,null,null,null,null,null,null,null,null,null,174,null,null,null,null,17.8,null,null,null,null,null,null,null,null,null,null,null,null,null,null,null,null,175,null,null,null,"",null,null,null,null,null,null,null,null,null,""]
[null,null,null,null,null,null,null,null,null,null,{"$f":"IF(A179=\"\",\"\",K$5+Header!C$6*(A179-1))","v":""},null,"","","","","",{"$f":"#REF!","v":{"$error":"#REF!"}},1,"",null,null,null,null,null,null,null,null,null,null,null,null,null,null,null,null,null,null,null,null,null,null,null,null,null,null,null,null,null,null,null,null,null,null,null,null,null,null,null,null,null,null,null,null,null,null,null,null,null,null,null,null,null,null,null,null,null,null,null,null,null,null,null,null,null,null,null,null,null,null,null,null,null,null,null,null,null,null,null,null,null,null,null,null,null,null,null,null,null,null,null,null,175,null,null,null,null,17.899999999999999,null,null,null,null,null,null,null,null,null,null,null,null,null,null,null,null,176,null,null,null,"",null,null,null,null,null,null,null,null,null,""]
[null,null,null,null,null,null,null,null,null,null,{"$f":"IF(A180=\"\",\"\",K$5+Header!C$6*(A180-1))","v":""},null,"","","","","",{"$f":"#REF!","v":{"$error":"#REF!"}},1,"",null,null,null,null,null,null,null,null,null,null,null,null,null,null,null,null,null,null,null,null,null,null,null,null,null,null,null,null,null,null,null,null,null,null,null,null,null,null,null,null,null,null,null,null,null,null,null,null,null,null,null,null,null,null,null,null,null,null,null,null,null,null,null,null,null,null,null,null,null,null,null,null,null,null,null,null,null,null,null,null,null,null,null,null,null,null,null,null,null,null,null,null,176,null,null,null,null,18,null,null,null,null,null,null,null,null,null,null,null,null,null,null,null,null,177,null,null,null,"",null,null,null,null,null,null,null,null,null,""]
[null,null,null,null,null,null,null,null,null,null,{"$f":"IF(A181=\"\",\"\",K$5+Header!C$6*(A181-1))","v":""},null,"","","","","",{"$f":"#REF!","v":{"$error":"#REF!"}},1,"",null,null,null,null,null,null,null,null,null,null,null,null,null,null,null,null,null,null,null,null,null,null,null,null,null,null,null,null,null,null,null,null,null,null,null,null,null,null,null,null,null,null,null,null,null,null,null,null,null,null,null,null,null,null,null,null,null,null,null,null,null,null,null,null,null,null,null,null,null,null,null,null,null,null,null,null,null,null,null,null,null,null,null,null,null,null,null,null,null,null,null,null,177,null,null,null,null,18.100000000000001,null,null,null,null,null,null,null,null,null,null,null,null,null,null,null,null,178,null,null,null,"",null,null,null,null,null,null,null,null,null,""]
[null,null,null,null,null,null,null,null,null,null,{"$f":"IF(A182=\"\",\"\",K$5+Header!C$6*(A182-1))","v":""},null,"","","","","",{"$f":"#REF!","v":{"$error":"#REF!"}},1,"",null,null,null,null,null,null,null,null,null,null,null,null,null,null,null,null,null,null,null,null,null,null,null,null,null,null,null,null,null,null,null,null,null,null,null,null,null,null,null,null,null,null,null,null,null,null,null,null,null,null,null,null,null,null,null,null,null,null,null,null,null,null,null,null,null,null,null,null,null,null,null,null,null,null,null,null,null,null,null,null,null,null,null,null,null,null,null,null,null,null,null,null,178,null,null,null,null,18.2,null,null,null,null,null,null,null,null,null,null,null,null,null,null,null,null,179,null,null,null,"",null,null,null,null,null,null,null,null,null,""]
[null,null,null,null,null,null,null,null,null,null,{"$f":"IF(A183=\"\",\"\",K$5+Header!C$6*(A183-1))","v":""},null,"","","","","",{"$f":"#REF!","v":{"$error":"#REF!"}},1,"",null,null,null,null,null,null,null,null,null,null,null,null,null,null,null,null,null,null,null,null,null,null,null,null,null,null,null,null,null,null,null,null,null,null,null,null,null,null,null,null,null,null,null,null,null,null,null,null,null,null,null,null,null,null,null,null,null,null,null,null,null,null,null,null,null,null,null,null,null,null,null,null,null,null,null,null,null,null,null,null,null,null,null,null,null,null,null,null,null,null,null,null,179,null,null,null,null,18.3,null,null,null,null,null,null,null,null,null,null,null,null,null,null,null,null,180,null,null,null,"",null,null,null,null,null,null,null,null,null,""]
[null,null,null,null,null,null,null,null,null,null,{"$f":"IF(A184=\"\",\"\",K$5+Header!C$6*(A184-1))","v":""},null,"","","","","",{"$f":"#REF!","v":{"$error":"#REF!"}},1,"",null,null,null,null,null,null,null,null,null,null,null,null,null,null,null,null,null,null,null,null,null,null,null,null,null,null,null,null,null,null,null,null,null,null,null,null,null,null,null,null,null,null,null,null,null,null,null,null,null,null,null,null,null,null,null,null,null,null,null,null,null,null,null,null,null,null,null,null,null,null,null,null,null,null,null,null,null,null,null,null,null,null,null,null,null,null,null,null,null,null,null,null,180,null,null,null,null,18.399999999999999,null,null,null,null,null,null,null,null,null,null,null,null,null,null,null,null,181,null,null,null,"",null,null,null,null,null,null,null,null,null,""]
[null,null,null,null,null,null,null,null,null,null,{"$f":"IF(A185=\"\",\"\",K$5+Header!C$6*(A185-1))","v":""},null,"","","","","",{"$f":"#REF!","v":{"$error":"#REF!"}},1,"",null,null,null,null,null,null,null,null,null,null,null,null,null,null,null,null,null,null,null,null,null,null,null,null,null,null,null,null,null,null,null,null,null,null,null,null,null,null,null,null,null,null,null,null,null,null,null,null,null,null,null,null,null,null,null,null,null,null,null,null,null,null,null,null,null,null,null,null,null,null,null,null,null,null,null,null,null,null,null,null,null,null,null,null,null,null,null,null,null,null,null,null,181,null,null,null,null,18.5,null,null,null,null,null,null,null,null,null,null,null,null,null,null,null,null,182,null,null,null,"",null,null,null,null,null,null,null,null,null,""]
[null,null,null,null,null,null,null,null,null,null,{"$f":"IF(A186=\"\",\"\",K$5+Header!C$6*(A186-1))","v":""},null,"","","","","",{"$f":"#REF!","v":{"$error":"#REF!"}},1,"",null,null,null,null,null,null,null,null,null,null,null,null,null,null,null,null,null,null,null,null,null,null,null,null,null,null,null,null,null,null,null,null,null,null,null,null,null,null,null,null,null,null,null,null,null,null,null,null,null,null,null,null,null,null,null,null,null,null,null,null,null,null,null,null,null,null,null,null,null,null,null,null,null,null,null,null,null,null,null,null,null,null,null,null,null,null,null,null,null,null,null,null,182,null,null,null,null,18.600000000000001,null,null,null,null,null,null,null,null,null,null,null,null,null,null,null,null,183,null,null,null,"",null,null,null,null,null,null,null,null,null,""]
[null,null,null,null,null,null,null,null,null,null,{"$f":"IF(A187=\"\",\"\",K$5+Header!C$6*(A187-1))","v":""},null,"","","","","",{"$f":"#REF!","v":{"$error":"#REF!"}},1,"",null,null,null,null,null,null,null,null,null,null,null,null,null,null,null,null,null,null,null,null,null,null,null,null,null,null,null,null,null,null,null,null,null,null,null,null,null,null,null,null,null,null,null,null,null,null,null,null,null,null,null,null,null,null,null,null,null,null,null,null,null,null,null,null,null,null,null,null,null,null,null,null,null,null,null,null,null,null,null,null,null,null,null,null,null,null,null,null,null,null,null,null,183,null,null,null,null,18.7,null,null,null,null,null,null,null,null,null,null,null,null,null,null,null,null,184,null,null,null,"",null,null,null,null,null,null,null,null,null,""]
[null,null,null,null,null,null,null,null,null,null,{"$f":"IF(A188=\"\",\"\",K$5+Header!C$6*(A188-1))","v":""},null,"","","","","",{"$f":"#REF!","v":{"$error":"#REF!"}},1,"",null,null,null,null,null,null,null,null,null,null,null,null,null,null,null,null,null,null,null,null,null,null,null,null,null,null,null,null,null,null,null,null,null,null,null,null,null,null,null,null,null,null,null,null,null,null,null,null,null,null,null,null,null,null,null,null,null,null,null,null,null,null,null,null,null,null,null,null,null,null,null,null,null,null,null,null,null,null,null,null,null,null,null,null,null,null,null,null,null,null,null,null,184,null,null,null,null,18.8,null,null,null,null,null,null,null,null,null,null,null,null,null,null,null,null,185,null,null,null,"",null,null,null,null,null,null,null,null,null,""]
[null,null,null,null,null,null,null,null,null,null,{"$f":"IF(A189=\"\",\"\",K$5+Header!C$6*(A189-1))","v":""},null,"","","","","",{"$f":"#REF!","v":{"$error":"#REF!"}},1,"",null,null,null,null,null,null,null,null,null,null,null,null,null,null,null,null,null,null,null,null,null,null,null,null,null,null,null,null,null,null,null,null,null,null,null,null,null,null,null,null,null,null,null,null,null,null,null,null,null,null,null,null,null,null,null,null,null,null,null,null,null,null,null,null,null,null,null,null,null,null,null,null,null,null,null,null,null,null,null,null,null,null,null,null,null,null,null,null,null,null,null,null,185,null,null,null,null,18.899999999999999,null,null,null,null,null,null,null,null,null,null,null,null,null,null,null,null,186,null,null,null,"",null,null,null,null,null,null,null,null,null,""]
[null,null,null,null,null,null,null,null,null,null,{"$f":"IF(A190=\"\",\"\",K$5+Header!C$6*(A190-1))","v":""},null,"","","","","",{"$f":"#REF!","v":{"$error":"#REF!"}},1,"",null,null,null,null,null,null,null,null,null,null,null,null,null,null,null,null,null,null,null,null,null,null,null,null,null,null,null,null,null,null,null,null,null,null,null,null,null,null,null,null,null,null,null,null,null,null,null,null,null,null,null,null,null,null,null,null,null,null,null,null,null,null,null,null,null,null,null,null,null,null,null,null,null,null,null,null,null,null,null,null,null,null,null,null,null,null,null,null,null,null,null,null,186,null,null,null,null,19,null,null,null,null,null,null,null,null,null,null,null,null,null,null,null,null,187,null,null,null,"",null,null,null,null,null,null,null,null,null,""]
[null,null,null,null,null,null,null,null,null,null,{"$f":"IF(A191=\"\",\"\",K$5+Header!C$6*(A191-1))","v":""},null,"","","","","",{"$f":"#REF!","v":{"$error":"#REF!"}},1,"",null,null,null,null,null,null,null,null,null,null,null,null,null,null,null,null,null,null,null,null,null,null,null,null,null,null,null,null,null,null,null,null,null,null,null,null,null,null,null,null,null,null,null,null,null,null,null,null,null,null,null,null,null,null,null,null,null,null,null,null,null,null,null,null,null,null,null,null,null,null,null,null,null,null,null,null,null,null,null,null,null,null,null,null,null,null,null,null,null,null,null,null,187,null,null,null,null,19.100000000000001,null,null,null,null,null,null,null,null,null,null,null,null,null,null,null,null,188,null,null,null,"",null,null,null,null,null,null,null,null,null,""]
[null,null,null,null,null,null,null,null,null,null,{"$f":"IF(A192=\"\",\"\",K$5+Header!C$6*(A192-1))","v":""},null,"","","","","",{"$f":"#REF!","v":{"$error":"#REF!"}},1,"",null,null,null,null,null,null,null,null,null,null,null,null,null,null,null,null,null,null,null,null,null,null,null,null,null,null,null,null,null,null,null,null,null,null,null,null,null,null,null,null,null,null,null,null,null,null,null,null,null,null,null,null,null,null,null,null,null,null,null,null,null,null,null,null,null,null,null,null,null,null,null,null,null,null,null,null,null,null,null,null,null,null,null,null,null,null,null,null,null,null,null,null,188,null,null,null,null,19.2,null,null,null,null,null,null,null,null,null,null,null,null,null,null,null,null,189,null,null,null,"",null,null,null,null,null,null,null,null,null,""]
[null,null,null,null,null,null,null,null,null,null,{"$f":"IF(A193=\"\",\"\",K$5+Header!C$6*(A193-1))","v":""},null,"","","","","",{"$f":"#REF!","v":{"$error":"#REF!"}},1,"",null,null,null,null,null,null,null,null,null,null,null,null,null,null,null,null,null,null,null,null,null,null,null,null,null,null,null,null,null,null,null,null,null,null,null,null,null,null,null,null,null,null,null,null,null,null,null,null,null,null,null,null,null,null,null,null,null,null,null,null,null,null,null,null,null,null,null,null,null,null,null,null,null,null,null,null,null,null,null,null,null,null,null,null,null,null,null,null,null,null,null,null,189,null,null,null,null,19.3,null,null,null,null,null,null,null,null,null,null,null,null,null,null,null,null,190,null,null,null,"",null,null,null,null,null,null,null,null,null,""]
[null,null,null,null,null,null,null,null,null,null,{"$f":"IF(A194=\"\",\"\",K$5+Header!C$6*(A194-1))","v":""},null,"","","","","",{"$f":"#REF!","v":{"$error":"#REF!"}},1,"",null,null,null,null,null,null,null,null,null,null,null,null,null,null,null,null,null,null,null,null,null,null,null,null,null,null,null,null,null,null,null,null,null,null,null,null,null,null,null,null,null,null,null,null,null,null,null,null,null,null,null,null,null,null,null,null,null,null,null,null,null,null,null,null,null,null,null,null,null,null,null,null,null,null,null,null,null,null,null,null,null,null,null,null,null,null,null,null,null,null,null,null,190,null,null,null,null,19.399999999999999,null,null,null,null,null,null,null,null,null,null,null,null,null,null,null,null,191,null,null,null,"",null,null,null,null,null,null,null,null,null,""]
[null,null,null,null,null,null,null,null,null,null,{"$f":"IF(A195=\"\",\"\",K$5+Header!C$6*(A195-1))","v":""},null,"","","","","",{"$f":"#REF!","v":{"$error":"#REF!"}},1,"",null,null,null,null,null,null,null,null,null,null,null,null,null,null,null,null,null,null,null,null,null,null,null,null,null,null,null,null,null,null,null,null,null,null,null,null,null,null,null,null,null,null,null,null,null,null,null,null,null,null,null,null,null,null,null,null,null,null,null,null,null,null,null,null,null,null,null,null,null,null,null,null,null,null,null,null,null,null,null,null,null,null,null,null,null,null,null,null,null,null,null,null,191,null,null,null,null,19.5,null,null,null,null,null,null,null,null,null,null,null,null,null,null,null,null,192,null,null,null,"",null,null,null,null,null,null,null,null,null,""]
[null,null,null,null,null,null,null,null,null,null,{"$f":"IF(A196=\"\",\"\",K$5+Header!C$6*(A196-1))","v":""},null,"","","","","",{"$f":"#REF!","v":{"$error":"#REF!"}},1,"",null,null,null,null,null,null,null,null,null,null,null,null,null,null,null,null,null,null,null,null,null,null,null,null,null,null,null,null,null,null,null,null,null,null,null,null,null,null,null,null,null,null,null,null,null,null,null,null,null,null,null,null,null,null,null,null,null,null,null,null,null,null,null,null,null,null,null,null,null,null,null,null,null,null,null,null,null,null,null,null,null,null,null,null,null,null,null,null,null,null,null,null,192,null,null,null,null,19.600000000000001,null,null,null,null,null,null,null,null,null,null,null,null,null,null,null,null,193,null,null,null,"",null,null,null,null,null,null,null,null,null,""]
[null,null,null,null,null,null,null,null,null,null,{"$f":"IF(A197=\"\",\"\",K$5+Header!C$6*(A197-1))","v":""},null,{"$f":"IF(C197=\"\",\"\",IF(ISNUMBER(SEARCH(C197,\"d\")),IF(ISNUMBER(SEARCH(D197,\"c\")),\"CS\",IF(ISNUMBER(SEARCH(D197,\"u\")),\"UU\")),\"\"))","v":""},{"$f":"IF(C197=\"\",\"\",IF(ISNUMBER(SEARCH(C197,\"e\")),IF(ISNUMBER(SEARCH(D197,\"c\")),IF(ISNUMBER(SEARCH(E197,\"a\")),\"CS\",\"CU\"),IF(ISNUMBER(SEARCH(E197,\"a\")),\"US\",\"UU\")),\"\"))","v":""},"","",{"$f":"IF(A197=\"\",\"\",A197)","v":""},{"$f":"#REF!","v":{"$error":"#REF!"}},1,"",null,null,null,null,null,null,null,null,null,null,null,null,null,null,null,null,null,null,null,null,null,null,null,null,null,null,null,null,null,null,null,null,null,null,null,null,null,null,null,null,null,null,null,null,null,null,null,null,null,null,null,null,null,null,null,null,null,null,null,null,null,null,null,null,null,null,null,null,null,null,null,null,null,null,null,null,null,null,null,null,null,null,null,null,null,null,null,null,null,null,null,null,193,null,null,null,null,19.7,null,null,null,null,null,null,null,null,null,null,null,null,null,null,null,null,194,null,null,null,"",null,null,null,null,null,null,null,null,null,{"$f":"IF(B197=\"\",\"\",B197+1)","v":""}]
[null,null,null,null,null,null,null,null,null,null,{"$f":"IF(A198=\"\",\"\",K$5+Header!C$6*(A198-1))","v":""},null,"","",{"$f":"IF(M198=\"\",N198,M198)","v":""},{"$f":"IF($O198=\"cs\",1,IF($O198=\"cu\",2,IF($O198=\"us\",3,IF($O198=\"uu\",4,\"\"))))","v":""},"",{"$f":"#REF!","v":{"$error":"#REF!"}},{"$f":"IF(A198>A197,A198,S197)","v":1},{"$f":"IF(Q198<>\"\",SUMIF(S:S,Q198,R:R),\"\")","v":""},null,null,null,null,null,null,null,null,null,null,null,null,null,null,null,null,null,null,null,null,null,null,null,null,null,null,null,null,null,null,null,null,null,null,null,null,null,null,null,null,null,null,null,null,null,null,null,null,null,null,null,null,null,null,null,null,null,null,null,null,null,null,null,null,null,null,null,null,null,null,null,null,null,null,null,null,null,null,null,null,null,null,null,null,null,null,null,null,null,null,null,null,194,null,null,null,null,19.8,null,null,null,null,null,null,null,null,null,null,null,null,null,null,null,null,195,null,null,null,"",null,null,null,null,null,null,null,null,null,""]
[null,null,null,null,null,null,null,null,null,null,{"$f":"IF(A199=\"\",\"\",K$5+Header!C$6*(A199-1))","v":""},null,"","","","","",{"$f":"#REF!","v":{"$error":"#REF!"}},1,"",null,null,null,null,null,null,null,null,null,null,null,null,null,null,null,null,null,null,null,null,null,null,null,null,null,null,null,null,null,null,null,null,null,null,null,null,null,null,null,null,null,null,null,null,null,null,null,null,null,null,null,null,null,null,null,null,null,null,null,null,null,null,null,null,null,null,null,null,null,null,null,null,null,null,null,null,null,null,null,null,null,null,null,null,null,null,null,null,null,null,null,null,195,null,null,null,null,19.899999999999999,null,null,null,null,null,null,null,null,null,null,null,null,null,null,null,null,196,null,null,null,"",null,null,null,null,null,null,null,null,null,""]
[null,null,null,null,null,null,null,null,null,null,{"$f":"IF(A200=\"\",\"\",K$5+Header!C$6*(A200-1))","v":""},null,"","","","","",{"$f":"#REF!","v":{"$error":"#REF!"}},1,"",null,null,null,null,null,null,null,null,null,null,null,null,null,null,null,null,null,null,null,null,null,null,null,null,null,null,null,null,null,null,null,null,null,null,null,null,null,null,null,null,null,null,null,null,null,null,null,null,null,null,null,null,null,null,null,null,null,null,null,null,null,null,null,null,null,null,null,null,null,null,null,null,null,null,null,null,null,null,null,null,null,null,null,null,null,null,null,null,null,null,null,null,196,null,null,null,null,20,null,null,null,null,null,null,null,null,null,null,null,null,null,null,null,null,197,null,null,null,{"$f":"IF(SUM(EF200:EH200)=0,\"\",100-SUM(EF200:EH200))","v":""},null,null,null,null,null,null,null,null,null,""]
[null,null,null,null,null,null,null,null,null,null,{"$f":"IF(A201=\"\",\"\",K$5+Header!C$6*(A201-1))","v":""},null,"","","","","",{"$f":"#REF!","v":{"$error":"#REF!"}},1,"",null,null,null,null,null,null,null,null,null,null,null,null,null,null,null,null,null,null,null,null,null,null,null,null,null,null,null,null,null,null,null,null,null,null,null,null,null,null,null,null,null,null,null,null,null,null,null,null,null,null,null,null,null,null,null,null,null,null,null,null,null,null,null,null,null,null,null,null,null,null,null,null,null,null,null,null,null,null,null,null,null,null,null,null,null,null,null,null,null,null,null,null,197,null,null,null,null,20.100000000000001,null,null,null,null,null,null,null,null,null,null,null,null,null,null,null,null,198,null,null,null,"",null,null,null,null,null,null,null,null,null,""]
[null,null,null,null,null,null,null,null,null,null,{"$f":"IF(A202=\"\",\"\",K$5+Header!C$6*(A202-1))","v":""},null,"","","","","",{"$f":"#REF!","v":{"$error":"#REF!"}},1,"",null,null,null,null,null,null,null,null,null,null,null,null,null,null,null,null,null,null,null,null,null,null,null,null,null,null,null,null,null,null,null,null,null,null,null,null,null,null,null,null,null,null,null,null,null,null,null,null,null,null,null,null,null,null,null,null,null,null,null,null,null,null,null,null,null,null,null,null,null,null,null,null,null,null,null,null,null,null,null,null,null,null,null,null,null,null,null,null,null,null,null,null,198,null,null,null,null,20.2,null,null,null,null,null,null,null,null,null,null,null,null,null,null,null,null,199,null,null,null,"",null,null,null,null,null,null,null,null,null,""]
[null,null,null,null,null,null,null,null,null,null,{"$f":"IF(A203=\"\",\"\",K$5+Header!C$6*(A203-1))","v":""},null,"","","","","",{"$f":"#REF!","v":{"$error":"#REF!"}},1,"",null,null,null,null,null,null,null,null,null,null,null,null,null,null,null,null,null,null,null,null,null,null,null,null,null,null,null,null,null,null,null,null,null,null,null,null,null,null,null,null,null,null,null,null,null,null,null,null,null,null,null,null,null,null,null,null,null,null,null,null,null,null,null,null,null,null,null,null,null,null,null,null,null,null,null,null,null,null,null,null,null,null,null,null,null,null,null,null,null,null,null,null,199,null,null,null,null,20.3,null,null,null,null,null,null,null,null,null,null,null,null,null,null,null,null,200,null,null,null,"",null,null,null,null,null,null,null,null,null,""]
[null,null,null,null,null,null,null,null,null,null,{"$f":"IF(A204=\"\",\"\",K$5+Header!C$6*(A204-1))","v":""},null,"","","","","",{"$f":"#REF!","v":{"$error":"#REF!"}},1,"",null,null,null,null,null,null,null,null,null,null,null,null,null,null,null,null,null,null,null,null,null,null,null,null,null,null,null,null,null,null,null,null,null,null,null,null,null,null,null,null,null,null,null,null,null,null,null,null,null,null,null,null,null,null,null,null,null,null,null,null,null,null,null,null,null,null,null,null,null,null,null,null,null,null,null,null,null,null,null,null,null,null,null,null,null,null,null,null,null,null,null,null,200,null,null,null,null,20.399999999999999,null,null,null,null,null,null,null,null,null,null,null,null,null,null,null,null,"Total =",{"$f":"SUM(EF4:EF203)","v":0},{"$f":"SUM(EG4:EG203)","v":0},0,0,null,null,null,null,null,null,null,null,null,""]
[null,null,null,null,null,null,null,null,null,null,{"$f":"IF(A205=\"\",\"\",K$5+Header!C$6*(A205-1))","v":""},null,"","","","","",{"$f":"#REF!","v":{"$error":"#REF!"}},1,"",null,null,null,null,null,null,null,null,null,null,null,null,null,null,null,null,null,null,null,null,null,null,null,null,null,null,null,null,null,null,null,null,null,null,null,null,null,null,null,null,null,null,null,null,null,null,null,null,null,null,null,null,null,null,null,null,null,null,null,null,null,null,null,null,null,null,null,null,null,null,null,null,null,null,null,null,null,null,null,null,null,null,null,null,null,null,null,null,null,null,null,null,null,null,null,null,null,20.5,null,null,null,null,null,null,null,null,null,null,null,null,null,null,null,null,"Average=",{"$f":"EF204/SUM($EF204:$EI204)","v":{"$error":"#DIV/0!"}},{"$f":"EG204/SUM($EF204:$EI204)","v":{"$error":"#DIV/0!"}},{"$error":"#DIV/0!"},{"$error":"#DIV/0!"},null,null,null,null,null,null,null,null,null,""]
[null,null,null,null,null,null,null,null,null,null,{"$f":"IF(A206=\"\",\"\",K$5+Header!C$6*(A206-1))","v":""},null,"","","","","",{"$f":"#REF!","v":{"$error":"#REF!"}},1,"",null,null,null,null,null,null,null,null,null,null,null,null,null,null,null,null,null,null,null,null,null,null,null,null,null,null,null,null,null,null,null,null,null,null,null,null,null,null,null,null,null,null,null,null,null,null,null,null,null,null,null,null,null,null,null,null,null,null,null,null,null,null,null,null,null,null,null,null,null,null,null,null,null,null,null,null,null,null,null,null,null,null,null,null,null,null,null,null,null,null,null,null,null,null,null,null,null,20.6,null,null,null,null,null,null,null,null,null,null,null,null,null,null,null,null,"N",{"$f":"COUNT(EF4:EF203)","v":0},{"$f":"COUNT(EG4:EG203)","v":0},0,0,null,null,null,null,null,null,null,null,null,""]
[null,null,null,null,null,null,null,null,null,null,{"$f":"IF(A207=\"\",\"\",K$5+Header!C$6*(A207-1))","v":""},null,"","","","","",{"$f":"#REF!","v":{"$error":"#REF!"}},1,"",null,null,null,null,null,null,null,null,null,null,null,null,null,null,null,null,null,null,null,null,null,null,null,null,null,null,null,null,null,null,null,null,null,null,null,null,null,null,null,null,null,null,null,null,null,null,null,null,null,null,null,null,null,null,null,null,null,null,null,null,null,null,null,null,null,null,null,null,null,null,null,null,null,null,null,null,null,null,null,null,null,null,null,null,null,null,null,null,null,null,null,null,null,null,null,null,null,20.7,null,null,null,null,null,null,null,null,null,null,null,null,null,null,null,null,null,null,null,null,null,null,null,null,null,null,null,null,null,null,""]
[null,null,null,null,null,null,null,null,null,null,{"$f":"IF(A208=\"\",\"\",K$5+Header!C$6*(A208-1))","v":""},null,"","","","","",{"$f":"#REF!","v":{"$error":"#REF!"}},1,"",null,null,null,null,null,null,null,null,null,null,null,null,null,null,null,null,null,null,null,null,null,null,null,null,null,null,null,null,null,null,null,null,null,null,null,null,null,null,null,null,null,null,null,null,null,null,null,null,null,null,null,null,null,null,null,null,null,null,null,null,null,null,null,null,null,null,null,null,null,null,null,null,null,null,null,null,null,null,null,null,null,null,null,null,null,null,null,null,null,null,null,null,null,null,null,null,null,20.8,null,null,null,null,null,null,null,null,null,null,null,null,null,null,null,null,null,null,null,null,null,null,null,null,null,null,null,null,null,null,""]
[null,null,null,null,null,null,null,null,null,null,{"$f":"IF(A209=\"\",\"\",K$5+Header!C$6*(A209-1))","v":""},null,"","","","","",{"$f":"#REF!","v":{"$error":"#REF!"}},1,"",null,null,null,null,null,null,null,null,null,null,null,null,null,null,null,null,null,null,null,null,null,null,null,null,null,null,null,null,null,null,null,null,null,null,null,null,null,null,null,null,null,null,null,null,null,null,null,null,null,null,null,null,null,null,null,null,null,null,null,null,null,null,null,null,null,null,null,null,null,null,null,null,null,null,null,null,null,null,null,null,null,null,null,null,null,null,null,null,null,null,null,null,null,null,null,null,null,20.9,null,null,null,null,null,null,null,null,null,null,null,null,null,null,null,null,null,null,null,null,null,null,null,null,null,null,null,null,null,null,""]
[null,null,null,null,null,null,null,null,null,null,{"$f":"IF(A210=\"\",\"\",K$5+Header!C$6*(A210-1))","v":""},null,"","","","","",{"$f":"#REF!","v":{"$error":"#REF!"}},1,"",null,null,null,null,null,null,null,null,null,null,null,null,null,null,null,null,null,null,null,null,null,null,null,null,null,null,null,null,null,null,null,null,null,null,null,null,null,null,null,null,null,null,null,null,null,null,null,null,null,null,null,null,null,null,null,null,null,null,null,null,null,null,null,null,null,null,null,null,null,null,null,null,null,null,null,null,null,null,null,null,null,null,null,null,null,null,null,null,null,null,null,null,null,null,null,null,null,21,null,null,null,null,null,null,null,null,null,null,null,null,null,null,null,null,null,null,null,null,null,null,null,null,null,null,null,null,null,null,""]
[null,null,null,null,null,null,null,null,null,null,{"$f":"IF(A211=\"\",\"\",K$5+Header!C$6*(A211-1))","v":""},null,"","","","","",{"$f":"#REF!","v":{"$error":"#REF!"}},1,"",null,null,null,null,null,null,null,null,null,null,null,null,null,null,null,null,null,null,null,null,null,null,null,null,null,null,null,null,null,null,null,null,null,null,null,null,null,null,null,null,null,null,null,null,null,null,null,null,null,null,null,null,null,null,null,null,null,null,null,null,null,null,null,null,null,null,null,null,null,null,null,null,null,null,null,null,null,null,null,null,null,null,null,null,null,null,null,null,null,null,null,null,null,null,null,null,null,21.1,null,null,null,null,null,null,null,null,null,null,null,null,null,null,null,null,null,null,null,null,null,null,null,null,null,null,null,null,null,null,""]
[null,null,null,null,null,null,null,null,null,null,{"$f":"IF(A212=\"\",\"\",K$5+Header!C$6*(A212-1))","v":""},null,"","","","","",{"$f":"#REF!","v":{"$error":"#REF!"}},1,"",null,null,null,null,null,null,null,null,null,null,null,null,null,null,null,null,null,null,null,null,null,null,null,null,null,null,null,null,null,null,null,null,null,null,null,null,null,null,null,null,null,null,null,null,null,null,null,null,null,null,null,null,null,null,null,null,null,null,null,null,null,null,null,null,null,null,null,null,null,null,null,null,null,null,null,null,null,null,null,null,null,null,null,null,null,null,null,null,null,null,null,null,null,null,null,null,null,21.2,null,null,null,null,null,null,null,null,null,null,null,null,null,null,null,null,null,null,null,null,null,null,null,null,null,null,null,null,null,null,""]
[null,null,null,null,null,null,null,null,null,null,{"$f":"IF(A213=\"\",\"\",K$5+Header!C$6*(A213-1))","v":""},null,"","","","","",{"$f":"#REF!","v":{"$error":"#REF!"}},1,"",null,null,null,null,null,null,null,null,null,null,null,null,null,null,null,null,null,null,null,null,null,null,null,null,null,null,null,null,null,null,null,null,null,null,null,null,null,null,null,null,null,null,null,null,null,null,null,null,null,null,null,null,null,null,null,null,null,null,null,null,null,null,null,null,null,null,null,null,null,null,null,null,null,null,null,null,null,null,null,null,null,null,null,null,null,null,null,null,null,null,null,null,null,null,null,null,null,21.3,null,null,null,null,null,null,null,null,null,null,null,null,null,null,null,null,null,null,null,null,null,null,null,null,null,null,null,null,null,null,""]
[null,null,null,null,null,null,null,null,null,null,{"$f":"IF(A214=\"\",\"\",K$5+Header!C$6*(A214-1))","v":""},null,"","","","","",{"$f":"#REF!","v":{"$error":"#REF!"}},1,"",null,null,null,null,null,null,null,null,null,null,null,null,null,null,null,null,null,null,null,null,null,null,null,null,null,null,null,null,null,null,null,null,null,null,null,null,null,null,null,null,null,null,null,null,null,null,null,null,null,null,null,null,null,null,null,null,null,null,null,null,null,null,null,null,null,null,null,null,null,null,null,null,null,null,null,null,null,null,null,null,null,null,null,null,null,null,null,null,null,null,null,null,null,null,null,null,null,21.4,null,null,null,null,null,null,null,null,null,null,null,null,null,null,null,null,null,null,null,null,null,null,null,null,null,null,null,null,null,null,""]
[null,null,null,null,null,null,null,null,null,null,{"$f":"IF(A215=\"\",\"\",K$5+Header!C$6*(A215-1))","v":""},null,"","","","","",{"$f":"#REF!","v":{"$error":"#REF!"}},1,"",null,null,null,null,null,null,null,null,null,null,null,null,null,null,null,null,null,null,null,null,null,null,null,null,null,null,null,null,null,null,null,null,null,null,null,null,null,null,null,null,null,null,null,null,null,null,null,null,null,null,null,null,null,null,null,null,null,null,null,null,null,null,null,null,null,null,null,null,null,null,null,null,null,null,null,null,null,null,null,null,null,null,null,null,null,null,null,null,null,null,null,null,null,null,null,null,null,21.5,null,null,null,null,null,null,null,null,null,null,null,null,null,null,null,null,null,null,null,null,null,null,null,null,null,null,null,null,null,null,""]
[null,null,null,null,null,null,null,null,null,null,{"$f":"IF(A216=\"\",\"\",K$5+Header!C$6*(A216-1))","v":""},null,"","","","","",{"$f":"#REF!","v":{"$error":"#REF!"}},1,"",null,null,null,null,null,null,null,null,null,null,null,null,null,null,null,null,null,null,null,null,null,null,null,null,null,null,null,null,null,null,null,null,null,null,null,null,null,null,null,null,null,null,null,null,null,null,null,null,null,null,null,null,null,null,null,null,null,null,null,null,null,null,null,null,null,null,null,null,null,null,null,null,null,null,null,null,null,null,null,null,null,null,null,null,null,null,null,null,null,null,null,null,null,null,null,null,null,21.6,null,null,null,null,null,null,null,null,null,null,null,null,null,null,null,null,null,null,null,null,null,null,null,null,null,null,null,null,null,null,""]
[null,null,null,null,null,null,null,null,null,null,{"$f":"IF(A217=\"\",\"\",K$5+Header!C$6*(A217-1))","v":""},null,"","","","","",{"$f":"#REF!","v":{"$error":"#REF!"}},1,"",null,null,null,null,null,null,null,null,null,null,null,null,null,null,null,null,null,null,null,null,null,null,null,null,null,null,null,null,null,null,null,null,null,null,null,null,null,null,null,null,null,null,null,null,null,null,null,null,null,null,null,null,null,null,null,null,null,null,null,null,null,null,null,null,null,null,null,null,null,null,null,null,null,null,null,null,null,null,null,null,null,null,null,null,null,null,null,null,null,null,null,null,null,null,null,null,null,21.7,null,null,null,null,null,null,null,null,null,null,null,null,null,null,null,null,null,null,null,null,null,null,null,null,null,null,null,null,null,null,""]
[null,null,null,null,null,null,null,null,null,null,{"$f":"IF(A218=\"\",\"\",K$5+Header!C$6*(A218-1))","v":""},null,"","","","","",{"$f":"#REF!","v":{"$error":"#REF!"}},1,"",null,null,null,null,null,null,null,null,null,null,null,null,null,null,null,null,null,null,null,null,null,null,null,null,null,null,null,null,null,null,null,null,null,null,null,null,null,null,null,null,null,null,null,null,null,null,null,null,null,null,null,null,null,null,null,null,null,null,null,null,null,null,null,null,null,null,null,null,null,null,null,null,null,null,null,null,null,null,null,null,null,null,null,null,null,null,null,null,null,null,null,null,null,null,null,null,null,21.8,null,null,null,null,null,null,null,null,null,null,null,null,null,null,null,null,null,null,null,null,null,null,null,null,null,null,null,null,null,null,""]
[null,null,null,null,null,null,null,null,null,null,{"$f":"IF(A219=\"\",\"\",K$5+Header!C$6*(A219-1))","v":""},null,"","","","","",{"$f":"#REF!","v":{"$error":"#REF!"}},1,"",null,null,null,null,null,null,null,null,null,null,null,null,null,null,null,null,null,null,null,null,null,null,null,null,null,null,null,null,null,null,null,null,null,null,null,null,null,null,null,null,null,null,null,null,null,null,null,null,null,null,null,null,null,null,null,null,null,null,null,null,null,null,null,null,null,null,null,null,null,null,null,null,null,null,null,null,null,null,null,null,null,null,null,null,null,null,null,null,null,null,null,null,null,null,null,null,null,21.9,null,null,null,null,null,null,null,null,null,null,null,null,null,null,null,null,null,null,null,null,null,null,null,null,null,null,null,null,null,null,""]
[null,null,null,null,null,null,null,null,null,null,{"$f":"IF(A220=\"\",\"\",K$5+Header!C$6*(A220-1))","v":""},null,"","","","","",{"$f":"#REF!","v":{"$error":"#REF!"}},1,"",null,null,null,null,null,null,null,null,null,null,null,null,null,null,null,null,null,null,null,null,null,null,null,null,null,null,null,null,null,null,null,null,null,null,null,null,null,null,null,null,null,null,null,null,null,null,null,null,null,null,null,null,null,null,null,null,null,null,null,null,null,null,null,null,null,null,null,null,null,null,null,null,null,null,null,null,null,null,null,null,null,null,null,null,null,null,null,null,null,null,null,null,null,null,null,null,null,22,null,null,null,null,null,null,null,null,null,null,null,null,null,null,null,null,null,null,null,null,null,null,null,null,null,null,null,null,null,null,""]
[null,null,null,null,null,null,null,null,null,null,{"$f":"IF(A221=\"\",\"\",K$5+Header!C$6*(A221-1))","v":""},null,"","","","","",{"$f":"#REF!","v":{"$error":"#REF!"}},1,"",null,null,null,null,null,null,null,null,null,null,null,null,null,null,null,null,null,null,null,null,null,null,null,null,null,null,null,null,null,null,null,null,null,null,null,null,null,null,null,null,null,null,null,null,null,null,null,null,null,null,null,null,null,null,null,null,null,null,null,null,null,null,null,null,null,null,null,null,null,null,null,null,null,null,null,null,null,null,null,null,null,null,null,null,null,null,null,null,null,null,null,null,null,null,null,null,null,22.1,null,null,null,null,null,null,null,null,null,null,null,null,null,null,null,null,null,null,null,null,null,null,null,null,null,null,null,null,null,null,""]
[null,null,null,null,null,null,null,null,null,null,{"$f":"IF(A222=\"\",\"\",K$5+Header!C$6*(A222-1))","v":""},null,"","","","","",{"$f":"#REF!","v":{"$error":"#REF!"}},1,"",null,null,null,null,null,null,null,null,null,null,null,null,null,null,null,null,null,null,null,null,null,null,null,null,null,null,null,null,null,null,null,null,null,null,null,null,null,null,null,null,null,null,null,null,null,null,null,null,null,null,null,null,null,null,null,null,null,null,null,null,null,null,null,null,null,null,null,null,null,null,null,null,null,null,null,null,null,null,null,null,null,null,null,null,null,null,null,null,null,null,null,null,null,null,null,null,null,22.2,null,null,null,null,null,null,null,null,null,null,null,null,null,null,null,null,null,null,null,null,null,null,null,null,null,null,null,null,null,null,""]
[null,null,null,null,null,null,null,null,null,null,{"$f":"IF(A223=\"\",\"\",K$5+Header!C$6*(A223-1))","v":""},null,"","","","","",{"$f":"#REF!","v":{"$error":"#REF!"}},1,"",null,null,null,null,null,null,null,null,null,null,null,null,null,null,null,null,null,null,null,null,null,null,null,null,null,null,null,null,null,null,null,null,null,null,null,null,null,null,null,null,null,null,null,null,null,null,null,null,null,null,null,null,null,null,null,null,null,null,null,null,null,null,null,null,null,null,null,null,null,null,null,null,null,null,null,null,null,null,null,null,null,null,null,null,null,null,null,null,null,null,null,null,null,null,null,null,null,22.3,null,null,null,null,null,null,null,null,null,null,null,null,null,null,null,null,null,null,null,null,null,null,null,null,null,null,null,null,null,null,""]
[null,null,null,null,null,null,null,null,null,null,{"$f":"IF(A224=\"\",\"\",K$5+Header!C$6*(A224-1))","v":""},null,"","","","","",{"$f":"#REF!","v":{"$error":"#REF!"}},1,"",null,null,null,null,null,null,null,null,null,null,null,null,null,null,null,null,null,null,null,null,null,null,null,null,null,null,null,null,null,null,null,null,null,null,null,null,null,null,null,null,null,null,null,null,null,null,null,null,null,null,null,null,null,null,null,null,null,null,null,null,null,null,null,null,null,null,null,null,null,null,null,null,null,null,null,null,null,null,null,null,null,null,null,null,null,null,null,null,null,null,null,null,null,null,null,null,null,22.4,null,null,null,null,null,null,null,null,null,null,null,null,null,null,null,null,null,null,null,null,null,null,null,null,null,null,null,null,null,null,""]
[null,null,null,null,null,null,null,null,null,null,{"$f":"IF(A225=\"\",\"\",K$5+Header!C$6*(A225-1))","v":""},null,"","","","","",{"$f":"#REF!","v":{"$error":"#REF!"}},1,"",null,null,null,null,null,null,null,null,null,null,null,null,null,null,null,null,null,null,null,null,null,null,null,null,null,null,null,null,null,null,null,null,null,null,null,null,null,null,null,null,null,null,null,null,null,null,null,null,null,null,null,null,null,null,null,null,null,null,null,null,null,null,null,null,null,null,null,null,null,null,null,null,null,null,null,null,null,null,null,null,null,null,null,null,null,null,null,null,null,null,null,null,null,null,null,null,null,22.5,null,null,null,null,null,null,null,null,null,null,null,null,null,null,null,null,null,null,null,null,null,null,null,null,null,null,null,null,null,null,""]
[null,null,null,null,null,null,null,null,null,null,{"$f":"IF(A226=\"\",\"\",K$5+Header!C$6*(A226-1))","v":""},null,"","","","","",{"$f":"#REF!","v":{"$error":"#REF!"}},1,"",null,null,null,null,null,null,null,null,null,null,null,null,null,null,null,null,null,null,null,null,null,null,null,null,null,null,null,null,null,null,null,null,null,null,null,null,null,null,null,null,null,null,null,null,null,null,null,null,null,null,null,null,null,null,null,null,null,null,null,null,null,null,null,null,null,null,null,null,null,null,null,null,null,null,null,null,null,null,null,null,null,null,null,null,null,null,null,null,null,null,null,null,null,null,null,null,null,22.6,null,null,null,null,null,null,null,null,null,null,null,null,null,null,null,null,null,null,null,null,null,null,null,null,null,null,null,null,null,null,""]
[null,null,null,null,null,null,null,null,null,null,{"$f":"IF(A227=\"\",\"\",K$5+Header!C$6*(A227-1))","v":""},null,"","","","","",{"$f":"#REF!","v":{"$error":"#REF!"}},1,"",null,null,null,null,null,null,null,null,null,null,null,null,null,null,null,null,null,null,null,null,null,null,null,null,null,null,null,null,null,null,null,null,null,null,null,null,null,null,null,null,null,null,null,null,null,null,null,null,null,null,null,null,null,null,null,null,null,null,null,null,null,null,null,null,null,null,null,null,null,null,null,null,null,null,null,null,null,null,null,null,null,null,null,null,null,null,null,null,null,null,null,null,null,null,null,null,null,22.7,null,null,null,null,null,null,null,null,null,null,null,null,null,null,null,null,null,null,null,null,null,null,null,null,null,null,null,null,null,null,""]
[null,null,null,null,null,null,null,null,null,null,{"$f":"IF(A228=\"\",\"\",K$5+Header!C$6*(A228-1))","v":""},null,"","","","","",{"$f":"#REF!","v":{"$error":"#REF!"}},1,"",null,null,null,null,null,null,null,null,null,null,null,null,null,null,null,null,null,null,null,null,null,null,null,null,null,null,null,null,null,null,null,null,null,null,null,null,null,null,null,null,null,null,null,null,null,null,null,null,null,null,null,null,null,null,null,null,null,null,null,null,null,null,null,null,null,null,null,null,null,null,null,null,null,null,null,null,null,null,null,null,null,null,null,null,null,null,null,null,null,null,null,null,null,null,null,null,null,22.8,null,null,null,null,null,null,null,null,null,null,null,null,null,null,null,null,null,null,null,null,null,null,null,null,null,null,null,null,null,null,""]
[null,null,null,null,null,null,null,null,null,null,{"$f":"IF(A229=\"\",\"\",K$5+Header!C$6*(A229-1))","v":""},null,"","","","","",{"$f":"#REF!","v":{"$error":"#REF!"}},1,"",null,null,null,null,null,null,null,null,null,null,null,null,null,null,null,null,null,null,null,null,null,null,null,null,null,null,null,null,null,null,null,null,null,null,null,null,null,null,null,null,null,null,null,null,null,null,null,null,null,null,null,null,null,null,null,null,null,null,null,null,null,null,null,null,null,null,null,null,null,null,null,null,null,null,null,null,null,null,null,null,null,null,null,null,null,null,null,null,null,null,null,null,null,null,null,null,null,22.9,null,null,null,null,null,null,null,null,null,null,null,null,null,null,null,null,null,null,null,null,null,null,null,null,null,null,null,null,null,null,""]
[null,null,null,null,null,null,null,null,null,null,{"$f":"IF(A230=\"\",\"\",K$5+Header!C$6*(A230-1))","v":""},null,"","","","","",{"$f":"#REF!","v":{"$error":"#REF!"}},1,"",null,null,null,null,null,null,null,null,null,null,null,null,null,null,null,null,null,null,null,null,null,null,null,null,null,null,null,null,null,null,null,null,null,null,null,null,null,null,null,null,null,null,null,null,null,null,null,null,null,null,null,null,null,null,null,null,null,null,null,null,null,null,null,null,null,null,null,null,null,null,null,null,null,null,null,null,null,null,null,null,null,null,null,null,null,null,null,null,null,null,null,null,null,null,null,null,null,23,null,null,null,null,null,null,null,null,null,null,null,null,null,null,null,null,null,null,null,null,null,null,null,null,null,null,null,null,null,null,""]
[null,null,null,null,null,null,null,null,null,null,{"$f":"IF(A231=\"\",\"\",K$5+Header!C$6*(A231-1))","v":""},null,"","","","","",{"$f":"#REF!","v":{"$error":"#REF!"}},1,"",null,null,null,null,null,null,null,null,null,null,null,null,null,null,null,null,null,null,null,null,null,null,null,null,null,null,null,null,null,null,null,null,null,null,null,null,null,null,null,null,null,null,null,null,null,null,null,null,null,null,null,null,null,null,null,null,null,null,null,null,null,null,null,null,null,null,null,null,null,null,null,null,null,null,null,null,null,null,null,null,null,null,null,null,null,null,null,null,null,null,null,null,null,null,null,null,null,23.1,null,null,null,null,null,null,null,null,null,null,null,null,null,null,null,null,null,null,null,null,null,null,null,null,null,null,null,null,null,null,""]
[null,null,null,null,null,null,null,null,null,null,{"$f":"IF(A232=\"\",\"\",K$5+Header!C$6*(A232-1))","v":""},null,"","","","","",{"$f":"#REF!","v":{"$error":"#REF!"}},1,"",null,null,null,null,null,null,null,null,null,null,null,null,null,null,null,null,null,null,null,null,null,null,null,null,null,null,null,null,null,null,null,null,null,null,null,null,null,null,null,null,null,null,null,null,null,null,null,null,null,null,null,null,null,null,null,null,null,null,null,null,null,null,null,null,null,null,null,null,null,null,null,null,null,null,null,null,null,null,null,null,null,null,null,null,null,null,null,null,null,null,null,null,null,null,null,null,null,23.2,null,null,null,null,null,null,null,null,null,null,null,null,null,null,null,null,null,null,null,null,null,null,null,null,null,null,null,null,null,null,""]
[null,null,null,null,null,null,null,null,null,null,{"$f":"IF(A233=\"\",\"\",K$5+Header!C$6*(A233-1))","v":""},null,"","","","","",{"$f":"#REF!","v":{"$error":"#REF!"}},1,"",null,null,null,null,null,null,null,null,null,null,null,null,null,null,null,null,null,null,null,null,null,null,null,null,null,null,null,null,null,null,null,null,null,null,null,null,null,null,null,null,null,null,null,null,null,null,null,null,null,null,null,null,null,null,null,null,null,null,null,null,null,null,null,null,null,null,null,null,null,null,null,null,null,null,null,null,null,null,null,null,null,null,null,null,null,null,null,null,null,null,null,null,null,null,null,null,null,23.3,null,null,null,null,null,null,null,null,null,null,null,null,null,null,null,null,null,null,null,null,null,null,null,null,null,null,null,null,null,null,""]
[null,null,null,null,null,null,null,null,null,null,{"$f":"IF(A234=\"\",\"\",K$5+Header!C$6*(A234-1))","v":""},null,"","","","","",{"$f":"#REF!","v":{"$error":"#REF!"}},1,"",null,null,null,null,null,null,null,null,null,null,null,null,null,null,null,null,null,null,null,null,null,null,null,null,null,null,null,null,null,null,null,null,null,null,null,null,null,null,null,null,null,null,null,null,null,null,null,null,null,null,null,null,null,null,null,null,null,null,null,null,null,null,null,null,null,null,null,null,null,null,null,null,null,null,null,null,null,null,null,null,null,null,null,null,null,null,null,null,null,null,null,null,null,null,null,null,null,23.4,null,null,null,null,null,null,null,null,null,null,null,null,null,null,null,null,null,null,null,null,null,null,null,null,null,null,null,null,null,null,""]
[null,null,null,null,null,null,null,null,null,null,{"$f":"IF(A235=\"\",\"\",K$5+Header!C$6*(A235-1))","v":""},null,"","","","","",{"$f":"#REF!","v":{"$error":"#REF!"}},1,"",null,null,null,null,null,null,null,null,null,null,null,null,null,null,null,null,null,null,null,null,null,null,null,null,null,null,null,null,null,null,null,null,null,null,null,null,null,null,null,null,null,null,null,null,null,null,null,null,null,null,null,null,null,null,null,null,null,null,null,null,null,null,null,null,null,null,null,null,null,null,null,null,null,null,null,null,null,null,null,null,null,null,null,null,null,null,null,null,null,null,null,null,null,null,null,null,null,23.5,null,null,null,null,null,null,null,null,null,null,null,null,null,null,null,null,null,null,null,null,null,null,null,null,null,null,null,null,null,null,""]
[null,null,null,null,null,null,null,null,null,null,{"$f":"IF(A236=\"\",\"\",K$5+Header!C$6*(A236-1))","v":""},null,"","","","","",{"$f":"#REF!","v":{"$error":"#REF!"}},1,"",null,null,null,null,null,null,null,null,null,null,null,null,null,null,null,null,null,null,null,null,null,null,null,null,null,null,null,null,null,null,null,null,null,null,null,null,null,null,null,null,null,null,null,null,null,null,null,null,null,null,null,null,null,null,null,null,null,null,null,null,null,null,null,null,null,null,null,null,null,null,null,null,null,null,null,null,null,null,null,null,null,null,null,null,null,null,null,null,null,null,null,null,null,null,null,null,null,23.6,null,null,null,null,null,null,null,null,null,null,null,null,null,null,null,null,null,null,null,null,null,null,null,null,null,null,null,null,null,null,""]
[null,null,null,null,null,null,null,null,null,null,{"$f":"IF(A237=\"\",\"\",K$5+Header!C$6*(A237-1))","v":""},null,"","","","","",{"$f":"#REF!","v":{"$error":"#REF!"}},1,"",null,null,null,null,null,null,null,null,null,null,null,null,null,null,null,null,null,null,null,null,null,null,null,null,null,null,null,null,null,null,null,null,null,null,null,null,null,null,null,null,null,null,null,null,null,null,null,null,null,null,null,null,null,null,null,null,null,null,null,null,null,null,null,null,null,null,null,null,null,null,null,null,null,null,null,null,null,null,null,null,null,null,null,null,null,null,null,null,null,null,null,null,null,null,null,null,null,23.7,null,null,null,null,null,null,null,null,null,null,null,null,null,null,null,null,null,null,null,null,null,null,null,null,null,null,null,null,null,null,""]
[null,null,null,null,null,null,null,null,null,null,{"$f":"IF(A238=\"\",\"\",K$5+Header!C$6*(A238-1))","v":""},null,"","","","","",{"$f":"#REF!","v":{"$error":"#REF!"}},1,"",null,null,null,null,null,null,null,null,null,null,null,null,null,null,null,null,null,null,null,null,null,null,null,null,null,null,null,null,null,null,null,null,null,null,null,null,null,null,null,null,null,null,null,null,null,null,null,null,null,null,null,null,null,null,null,null,null,null,null,null,null,null,null,null,null,null,null,null,null,null,null,null,null,null,null,null,null,null,null,null,null,null,null,null,null,null,null,null,null,null,null,null,null,null,null,null,null,23.8,null,null,null,null,null,null,null,null,null,null,null,null,null,null,null,null,null,null,null,null,null,null,null,null,null,null,null,null,null,null,""]
[null,null,null,null,null,null,null,null,null,null,{"$f":"IF(A239=\"\",\"\",K$5+Header!C$6*(A239-1))","v":""},null,"","","","","",{"$f":"#REF!","v":{"$error":"#REF!"}},1,"",null,null,null,null,null,null,null,null,null,null,null,null,null,null,null,null,null,null,null,null,null,null,null,null,null,null,null,null,null,null,null,null,null,null,null,null,null,null,null,null,null,null,null,null,null,null,null,null,null,null,null,null,null,null,null,null,null,null,null,null,null,null,null,null,null,null,null,null,null,null,null,null,null,null,null,null,null,null,null,null,null,null,null,null,null,null,null,null,null,null,null,null,null,null,null,null,null,23.9,null,null,null,null,null,null,null,null,null,null,null,null,null,null,null,null,null,null,null,null,null,null,null,null,null,null,null,null,null,null,""]
[null,null,null,null,null,null,null,null,null,null,{"$f":"IF(A240=\"\",\"\",K$5+Header!C$6*(A240-1))","v":""},null,"","","","","",{"$f":"#REF!","v":{"$error":"#REF!"}},1,"",null,null,null,null,null,null,null,null,null,null,null,null,null,null,null,null,null,null,null,null,null,null,null,null,null,null,null,null,null,null,null,null,null,null,null,null,null,null,null,null,null,null,null,null,null,null,null,null,null,null,null,null,null,null,null,null,null,null,null,null,null,null,null,null,null,null,null,null,null,null,null,null,null,null,null,null,null,null,null,null,null,null,null,null,null,null,null,null,null,null,null,null,null,null,null,null,null,24,null,null,null,null,null,null,null,null,null,null,null,null,null,null,null,null,null,null,null,null,null,null,null,null,null,null,null,null,null,null,""]
[null,null,null,null,null,null,null,null,null,null,{"$f":"IF(A241=\"\",\"\",K$5+Header!C$6*(A241-1))","v":""},null,"","","","","",{"$f":"#REF!","v":{"$error":"#REF!"}},1,"",null,null,null,null,null,null,null,null,null,null,null,null,null,null,null,null,null,null,null,null,null,null,null,null,null,null,null,null,null,null,null,null,null,null,null,null,null,null,null,null,null,null,null,null,null,null,null,null,null,null,null,null,null,null,null,null,null,null,null,null,null,null,null,null,null,null,null,null,null,null,null,null,null,null,null,null,null,null,null,null,null,null,null,null,null,null,null,null,null,null,null,null,null,null,null,null,null,24.1,null,null,null,null,null,null,null,null,null,null,null,null,null,null,null,null,null,null,null,null,null,null,null,null,null,null,null,null,null,null,""]
[null,null,null,null,null,null,null,null,null,null,{"$f":"IF(A242=\"\",\"\",K$5+Header!C$6*(A242-1))","v":""},null,"","","","","",{"$f":"#REF!","v":{"$error":"#REF!"}},1,"",null,null,null,null,null,null,null,null,null,null,null,null,null,null,null,null,null,null,null,null,null,null,null,null,null,null,null,null,null,null,null,null,null,null,null,null,null,null,null,null,null,null,null,null,null,null,null,null,null,null,null,null,null,null,null,null,null,null,null,null,null,null,null,null,null,null,null,null,null,null,null,null,null,null,null,null,null,null,null,null,null,null,null,null,null,null,null,null,null,null,null,null,null,null,null,null,null,24.2,null,null,null,null,null,null,null,null,null,null,null,null,null,null,null,null,null,null,null,null,null,null,null,null,null,null,null,null,null,null,""]
[null,null,null,null,null,null,null,null,null,null,{"$f":"IF(A243=\"\",\"\",K$5+Header!C$6*(A243-1))","v":""},null,"","","","","",{"$f":"#REF!","v":{"$error":"#REF!"}},1,"",null,null,null,null,null,null,null,null,null,null,null,null,null,null,null,null,null,null,null,null,null,null,null,null,null,null,null,null,null,null,null,null,null,null,null,null,null,null,null,null,null,null,null,null,null,null,null,null,null,null,null,null,null,null,null,null,null,null,null,null,null,null,null,null,null,null,null,null,null,null,null,null,null,null,null,null,null,null,null,null,null,null,null,null,null,null,null,null,null,null,null,null,null,null,null,null,null,24.3,null,null,null,null,null,null,null,null,null,null,null,null,null,null,null,null,null,null,null,null,null,null,null,null,null,null,null,null,null,null,""]
[null,null,null,null,null,null,null,null,null,null,{"$f":"IF(A244=\"\",\"\",K$5+Header!C$6*(A244-1))","v":""},null,"","","","","",{"$f":"#REF!","v":{"$error":"#REF!"}},1,"",null,null,null,null,null,null,null,null,null,null,null,null,null,null,null,null,null,null,null,null,null,null,null,null,null,null,null,null,null,null,null,null,null,null,null,null,null,null,null,null,null,null,null,null,null,null,null,null,null,null,null,null,null,null,null,null,null,null,null,null,null,null,null,null,null,null,null,null,null,null,null,null,null,null,null,null,null,null,null,null,null,null,null,null,null,null,null,null,null,null,null,null,null,null,null,null,null,24.4,null,null,null,null,null,null,null,null,null,null,null,null,null,null,null,null,null,null,null,null,null,null,null,null,null,null,null,null,null,null,""]
[null,null,null,null,null,null,null,null,null,null,{"$f":"IF(A245=\"\",\"\",K$5+Header!C$6*(A245-1))","v":""},null,"","","","","",{"$f":"#REF!","v":{"$error":"#REF!"}},1,"",null,null,null,null,null,null,null,null,null,null,null,null,null,null,null,null,null,null,null,null,null,null,null,null,null,null,null,null,null,null,null,null,null,null,null,null,null,null,null,null,null,null,null,null,null,null,null,null,null,null,null,null,null,null,null,null,null,null,null,null,null,null,null,null,null,null,null,null,null,null,null,null,null,null,null,null,null,null,null,null,null,null,null,null,null,null,null,null,null,null,null,null,null,null,null,null,null,24.5,null,null,null,null,null,null,null,null,null,null,null,null,null,null,null,null,null,null,null,null,null,null,null,null,null,null,null,null,null,null,""]
[null,null,null,null,null,null,null,null,null,null,{"$f":"IF(A246=\"\",\"\",K$5+Header!C$6*(A246-1))","v":""},null,"","","","","",{"$f":"#REF!","v":{"$error":"#REF!"}},1,"",null,null,null,null,null,null,null,null,null,null,null,null,null,null,null,null,null,null,null,null,null,null,null,null,null,null,null,null,null,null,null,null,null,null,null,null,null,null,null,null,null,null,null,null,null,null,null,null,null,null,null,null,null,null,null,null,null,null,null,null,null,null,null,null,null,null,null,null,null,null,null,null,null,null,null,null,null,null,null,null,null,null,null,null,null,null,null,null,null,null,null,null,null,null,null,null,null,null,null,null,null,null,null,null,null,null,null,null,null,null,null,null,null,null,null,null,null,null,null,null,null,null,null,null,null,null,null,null,""]
[null,null,null,null,null,null,null,null,null,null,{"$f":"IF(A247=\"\",\"\",K$5+Header!C$6*(A247-1))","v":""},null,"","","","","",{"$f":"#REF!","v":{"$error":"#REF!"}},1,"",null,null,null,null,null,null,null,null,null,null,null,null,null,null,null,null,null,null,null,null,null,null,null,null,null,null,null,null,null,null,null,null,null,null,null,null,null,null,null,null,null,null,null,null,null,null,null,null,null,null,null,null,null,null,null,null,null,null,null,null,null,null,null,null,null,null,null,null,null,null,null,null,null,null,null,null,null,null,null,null,null,null,null,null,null,null,null,null,null,null,null,null,null,null,null,null,null,null,null,null,null,null,null,null,null,null,null,null,null,null,null,null,null,null,null,null,null,null,null,null,null,null,null,null,null,null,null,null,""]
[null,null,null,null,null,null,null,null,null,null,{"$f":"IF(A248=\"\",\"\",K$5+Header!C$6*(A248-1))","v":""},null,"","","","","",{"$f":"#REF!","v":{"$error":"#REF!"}},1,"",null,null,null,null,null,null,null,null,null,null,null,null,null,null,null,null,null,null,null,null,null,null,null,null,null,null,null,null,null,null,null,null,null,null,null,null,null,null,null,null,null,null,null,null,null,null,null,null,null,null,null,null,null,null,null,null,null,null,null,null,null,null,null,null,null,null,null,null,null,null,null,null,null,null,null,null,null,null,null,null,null,null,null,null,null,null,null,null,null,null,null,null,null,null,null,null,null,null,null,null,null,null,null,null,null,null,null,null,null,null,null,null,null,null,null,null,null,null,null,null,null,null,null,null,null,null,null,null,""]
[null,null,null,null,null,null,null,null,null,null,{"$f":"IF(A249=\"\",\"\",K$5+Header!C$6*(A249-1))","v":""},null,"","","","","",{"$f":"#REF!","v":{"$error":"#REF!"}},1,"",null,null,null,null,null,null,null,null,null,null,null,null,null,null,null,null,null,null,null,null,null,null,null,null,null,null,null,null,null,null,null,null,null,null,null,null,null,null,null,null,null,null,null,null,null,null,null,null,null,null,null,null,null,null,null,null,null,null,null,null,null,null,null,null,null,null,null,null,null,null,null,null,null,null,null,null,null,null,null,null,null,null,null,null,null,null,null,null,null,null,null,null,null,null,null,null,null,null,null,null,null,null,null,null,null,null,null,null,null,null,null,null,null,null,null,null,null,null,null,null,null,null,null,null,null,null,null,null,""]
[null,null,null,null,null,null,null,null,null,null,{"$f":"IF(A250=\"\",\"\",K$5+Header!C$6*(A250-1))","v":""},null,"","","","","",{"$f":"#REF!","v":{"$error":"#REF!"}},1,"",null,null,null,null,null,null,null,null,null,null,null,null,null,null,null,null,null,null,null,null,null,null,null,null,null,null,null,null,null,null,null,null,null,null,null,null,null,null,null,null,null,null,null,null,null,null,null,null,null,null,null,null,null,null,null,null,null,null,null,null,null,null,null,null,null,null,null,null,null,null,null,null,null,null,null,null,null,null,null,null,null,null,null,null,null,null,null,null,null,null,null,null,null,null,null,null,null,null,null,null,null,null,null,null,null,null,null,null,null,null,null,null,null,null,null,null,null,null,null,null,null,null,null,null,null,null,null,null,""]
[null,null,null,null,null,null,null,null,null,null,{"$f":"IF(A251=\"\",\"\",K$5+Header!C$6*(A251-1))","v":""},null,"","","","","",{"$f":"#REF!","v":{"$error":"#REF!"}},1,"",null,null,null,null,null,null,null,null,null,null,null,null,null,null,null,null,null,null,null,null,null,null,null,null,null,null,null,null,null,null,null,null,null,null,null,null,null,null,null,null,null,null,null,null,null,null,null,null,null,null,null,null,null,null,null,null,null,null,null,null,null,null,null,null,null,null,null,null,null,null,null,null,null,null,null,null,null,null,null,null,null,null,null,null,null,null,null,null,null,null,null,null,null,null,null,null,null,null,null,null,null,null,null,null,null,null,null,null,null,null,null,null,null,null,null,null,null,null,null,null,null,null,null,null,null,null,null,null,""]
[null,null,null,null,null,null,null,null,null,null,{"$f":"IF(A252=\"\",\"\",K$5+Header!C$6*(A252-1))","v":""},null,"","","","","",{"$f":"#REF!","v":{"$error":"#REF!"}},1,"",null,null,null,null,null,null,null,null,null,null,null,null,null,null,null,null,null,null,null,null,null,null,null,null,null,null,null,null,null,null,null,null,null,null,null,null,null,null,null,null,null,null,null,null,null,null,null,null,null,null,null,null,null,null,null,null,null,null,null,null,null,null,null,null,null,null,null,null,null,null,null,null,null,null,null,null,null,null,null,null,null,null,null,null,null,null,null,null,null,null,null,null,null,null,null,null,null,null,null,null,null,null,null,null,null,null,null,null,null,null,null,null,null,null,null,null,null,null,null,null,null,null,null,null,null,null,null,null,""]
[null,null,null,null,null,null,null,null,null,null,{"$f":"IF(A253=\"\",\"\",K$5+Header!C$6*(A253-1))","v":""},null,"","","","","",{"$f":"#REF!","v":{"$error":"#REF!"}},1,"",null,null,null,null,null,null,null,null,null,null,null,null,null,null,null,null,null,null,null,null,null,null,null,null,null,null,null,null,null,null,null,null,null,null,null,null,null,null,null,null,null,null,null,null,null,null,null,null,null,null,null,null,null,null,null,null,null,null,null,null,null,null,null,null,null,null,null,null,null,null,null,null,null,null,null,null,null,null,null,null,null,null,null,null,null,null,null,null,null,null,null,null,null,null,null,null,null,null,null,null,null,null,null,null,null,null,null,null,null,null,null,null,null,null,null,null,null,null,null,null,null,null,null,null,null,null,null,null,""]
[null,null,null,null,null,null,null,null,null,null,{"$f":"IF(A254=\"\",\"\",K$5+Header!C$6*(A254-1))","v":""},null,"","","","","",{"$f":"#REF!","v":{"$error":"#REF!"}},1,"",null,null,null,null,null,null,null,null,null,null,null,null,null,null,null,null,null,null,null,null,null,null,null,null,null,null,null,null,null,null,null,null,null,null,null,null,null,null,null,null,null,null,null,null,null,null,null,null,null,null,null,null,null,null,null,null,null,null,null,null,null,null,null,null,null,null,null,null,null,null,null,null,null,null,null,null,null,null,null,null,null,null,null,null,null,null,null,null,null,null,null,null,null,null,null,null,null,null,null,null,null,null,null,null,null,null,null,null,null,null,null,null,null,null,null,null,null,null,null,null,null,null,null,null,null,null,null,null,""]
[null,null,null,null,null,null,null,null,null,null,{"$f":"IF(A255=\"\",\"\",K$5+Header!C$6*(A255-1))","v":""},null,"","","","","",{"$f":"#REF!","v":{"$error":"#REF!"}},1,"",null,null,null,null,null,null,null,null,null,null,null,null,null,null,null,null,null,null,null,null,null,null,null,null,null,null,null,null,null,null,null,null,null,null,null,null,null,null,null,null,null,null,null,null,null,null,null,null,null,null,null,null,null,null,null,null,null,null,null,null,null,null,null,null,null,null,null,null,null,null,null,null,null,null,null,null,null,null,null,null,null,null,null,null,null,null,null,null,null,null,null,null,null,null,null,null,null,null,null,null,null,null,null,null,null,null,null,null,null,null,null,null,null,null,null,null,null,null,null,null,null,null,null,null,null,null,null,null,""]
[null,null,null,null,null,null,null,null,null,null,{"$f":"IF(A256=\"\",\"\",K$5+Header!C$6*(A256-1))","v":""},null,"","","","","",{"$f":"#REF!","v":{"$error":"#REF!"}},1,"",null,null,null,null,null,null,null,null,null,null,null,null,null,null,null,null,null,null,null,null,null,null,null,null,null,null,null,null,null,null,null,null,null,null,null,null,null,null,null,null,null,null,null,null,null,null,null,null,null,null,null,null,null,null,null,null,null,null,null,null,null,null,null,null,null,null,null,null,null,null,null,null,null,null,null,null,null,null,null,null,null,null,null,null,null,null,null,null,null,null,null,null,null,null,null,null,null,null,null,null,null,null,null,null,null,null,null,null,null,null,null,null,null,null,null,null,null,null,null,null,null,null,null,null,null,null,null,null,""]
[null,null,null,null,null,null,null,null,null,null,{"$f":"IF(A257=\"\",\"\",K$5+Header!C$6*(A257-1))","v":""},null,"","","","","",{"$f":"#REF!","v":{"$error":"#REF!"}},1,"",null,null,null,null,null,null,null,null,null,null,null,null,null,null,null,null,null,null,null,null,null,null,null,null,null,null,null,null,null,null,null,null,null,null,null,null,null,null,null,null,null,null,null,null,null,null,null,null,null,null,null,null,null,null,null,null,null,null,null,null,null,null,null,null,null,null,null,null,null,null,null,null,null,null,null,null,null,null,null,null,null,null,null,null,null,null,null,null,null,null,null,null,null,null,null,null,null,null,null,null,null,null,null,null,null,null,null,null,null,null,null,null,null,null,null,null,null,null,null,null,null,null,null,null,null,null,null,null,""]
[null,null,null,null,null,null,null,null,null,null,{"$f":"IF(A258=\"\",\"\",K$5+Header!C$6*(A258-1))","v":""},null,"","","","","",{"$f":"#REF!","v":{"$error":"#REF!"}},1,"",null,null,null,null,null,null,null,null,null,null,null,null,null,null,null,null,null,null,null,null,null,null,null,null,null,null,null,null,null,null,null,null,null,null,null,null,null,null,null,null,null,null,null,null,null,null,null,null,null,null,null,null,null,null,null,null,null,null,null,null,null,null,null,null,null,null,null,null,null,null,null,null,null,null,null,null,null,null,null,null,null,null,null,null,null,null,null,null,null,null,null,null,null,null,null,null,null,null,null,null,null,null,null,null,null,null,null,null,null,null,null,null,null,null,null,null,null,null,null,null,null,null,null,null,null,null,null,null,""]
[null,null,null,null,null,null,null,null,null,null,{"$f":"IF(A259=\"\",\"\",K$5+Header!C$6*(A259-1))","v":""},null,"","","","","",{"$f":"#REF!","v":{"$error":"#REF!"}},1,"",null,null,null,null,null,null,null,null,null,null,null,null,null,null,null,null,null,null,null,null,null,null,null,null,null,null,null,null,null,null,null,null,null,null,null,null,null,null,null,null,null,null,null,null,null,null,null,null,null,null,null,null,null,null,null,null,null,null,null,null,null,null,null,null,null,null,null,null,null,null,null,null,null,null,null,null,null,null,null,null,null,null,null,null,null,null,null,null,null,null,null,null,null,null,null,null,null,null,null,null,null,null,null,null,null,null,null,null,null,null,null,null,null,null,null,null,null,null,null,null,null,null,null,null,null,null,null,null,""]
[null,null,null,null,null,null,null,null,null,null,{"$f":"IF(A260=\"\",\"\",K$5+Header!C$6*(A260-1))","v":""},null,"","","","","",{"$f":"#REF!","v":{"$error":"#REF!"}},1,"",null,null,null,null,null,null,null,null,null,null,null,null,null,null,null,null,null,null,null,null,null,null,null,null,null,null,null,null,null,null,null,null,null,null,null,null,null,null,null,null,null,null,null,null,null,null,null,null,null,null,null,null,null,null,null,null,null,null,null,null,null,null,null,null,null,null,null,null,null,null,null,null,null,null,null,null,null,null,null,null,null,null,null,null,null,null,null,null,null,null,null,null,null,null,null,null,null,null,null,null,null,null,null,null,null,null,null,null,null,null,null,null,null,null,null,null,null,null,null,null,null,null,null,null,null,null,null,null,""]
[null,null,null,null,null,null,null,null,null,null,{"$f":"IF(A261=\"\",\"\",K$5+Header!C$6*(A261-1))","v":""},null,{"$f":"IF(C261=\"\",\"\",IF(ISNUMBER(SEARCH(C261,\"d\")),IF(ISNUMBER(SEARCH(D261,\"c\")),\"CS\",IF(ISNUMBER(SEARCH(D261,\"u\")),\"UU\")),\"\"))","v":""},{"$f":"IF(C261=\"\",\"\",IF(ISNUMBER(SEARCH(C261,\"e\")),IF(ISNUMBER(SEARCH(D261,\"c\")),IF(ISNUMBER(SEARCH(E261,\"a\")),\"CS\",\"CU\"),IF(ISNUMBER(SEARCH(E261,\"a\")),\"US\",\"UU\")),\"\"))","v":""},"","",{"$f":"IF(A261=\"\",\"\",A261)","v":""},{"$f":"#REF!","v":{"$error":"#REF!"}},1,"",null,null,null,null,null,null,null,null,null,null,null,null,null,null,null,null,null,null,null,null,null,null,null,null,null,null,null,null,null,null,null,null,null,null,null,null,null,null,null,null,null,null,null,null,null,null,null,null,null,null,null,null,null,null,null,null,null,null,null,null,null,null,null,null,null,null,null,null,null,null,null,null,null,null,null,null,null,null,null,null,null,null,null,null,null,null,null,null,null,null,null,null,null,null,null,null,null,null,null,null,null,null,null,null,null,null,null,null,null,null,null,null,null,null,null,null,null,null,null,null,null,null,null,null,null,null,null,null,{"$f":"IF(B261=\"\",\"\",B261+1)","v":""}]
[null,null,null,null,null,null,null,null,null,null,{"$f":"IF(A262=\"\",\"\",K$5+Header!C$6*(A262-1))","v":""},null,"","",{"$f":"IF(M262=\"\",N262,M262)","v":""},{"$f":"IF($O262=\"cs\",1,IF($O262=\"cu\",2,IF($O262=\"us\",3,IF($O262=\"uu\",4,\"\"))))","v":""},"",{"$f":"#REF!","v":{"$error":"#REF!"}},{"$f":"IF(A262>A261,A262,S261)","v":1},{"$f":"IF(Q262<>\"\",SUMIF(S:S,Q262,R:R),\"\")","v":""},null,null,null,null,null,null,null,null,null,null,null,null,null,null,null,null,null,null,null,null,null,null,null,null,null,null,null,null,null,null,null,null,null,null,null,null,null,null,null,null,null,null,null,null,null,null,null,null,null,null,null,null,null,null,null,null,null,null,null,null,null,null,null,null,null,null,null,null,null,null,null,null,null,null,null,null,null,null,null,null,null,null,null,null,null,null,null,null,null,null,null,null,null,null,null,null,null,null,null,null,null,null,null,null,null,null,null,null,null,null,null,null,null,null,null,null,null,null,null,null,null,null,null,null,null,null,null,null,""]
[null,null,null,null,null,null,null,null,null,null,{"$f":"IF(A263=\"\",\"\",K$5+Header!C$6*(A263-1))","v":""},null,"","","","","",{"$f":"#REF!","v":{"$error":"#REF!"}},1,"",null,null,null,null,null,null,null,null,null,null,null,null,null,null,null,null,null,null,null,null,null,null,null,null,null,null,null,null,null,null,null,null,null,null,null,null,null,null,null,null,null,null,null,null,null,null,null,null,null,null,null,null,null,null,null,null,null,null,null,null,null,null,null,null,null,null,null,null,null,null,null,null,null,null,null,null,null,null,null,null,null,null,null,null,null,null,null,null,null,null,null,null,null,null,null,null,null,null,null,null,null,null,null,null,null,null,null,null,null,null,null,null,null,null,null,null,null,null,null,null,null,null,null,null,null,null,null,null,""]
[null,null,null,null,null,null,null,null,null,null,{"$f":"IF(A264=\"\",\"\",K$5+Header!C$6*(A264-1))","v":""},null,"","","","","",{"$f":"#REF!","v":{"$error":"#REF!"}},1,"",null,null,null,null,null,null,null,null,null,null,null,null,null,null,null,null,null,null,null,null,null,null,null,null,null,null,null,null,null,null,null,null,null,null,null,null,null,null,null,null,null,null,null,null,null,null,null,null,null,null,null,null,null,null,null,null,null,null,null,null,null,null,null,null,null,null,null,null,null,null,null,null,null,null,null,null,null,null,null,null,null,null,null,null,null,null,null,null,null,null,null,null,null,null,null,null,null,null,null,null,null,null,null,null,null,null,null,null,null,null,null,null,null,null,null,null,null,null,null,null,null,null,null,null,null,null,null,null,""]
[null,null,null,null,null,null,null,null,null,null,{"$f":"IF(A265=\"\",\"\",K$5+Header!C$6*(A265-1))","v":""},null,"","","","","",{"$f":"#REF!","v":{"$error":"#REF!"}},1,"",null,null,null,null,null,null,null,null,null,null,null,null,null,null,null,null,null,null,null,null,null,null,null,null,null,null,null,null,null,null,null,null,null,null,null,null,null,null,null,null,null,null,null,null,null,null,null,null,null,null,null,null,null,null,null,null,null,null,null,null,null,null,null,null,null,null,null,null,null,null,null,null,null,null,null,null,null,null,null,null,null,null,null,null,null,null,null,null,null,null,null,null,null,null,null,null,null,null,null,null,null,null,null,null,null,null,null,null,null,null,null,null,null,null,null,null,null,null,null,null,null,null,null,null,null,null,null,null,""]
[null,null,null,null,null,null,null,null,null,null,{"$f":"IF(A266=\"\",\"\",K$5+Header!C$6*(A266-1))","v":""},null,"","","","","",{"$f":"#REF!","v":{"$error":"#REF!"}},1,"",null,null,null,null,null,null,null,null,null,null,null,null,null,null,null,null,null,null,null,null,null,null,null,null,null,null,null,null,null,null,null,null,null,null,null,null,null,null,null,null,null,null,null,null,null,null,null,null,null,null,null,null,null,null,null,null,null,null,null,null,null,null,null,null,null,null,null,null,null,null,null,null,null,null,null,null,null,null,null,null,null,null,null,null,null,null,null,null,null,null,null,null,null,null,null,null,null,null,null,null,null,null,null,null,null,null,null,null,null,null,null,null,null,null,null,null,null,null,null,null,null,null,null,null,null,null,null,null,""]
[null,null,null,null,null,null,null,null,null,null,{"$f":"IF(A267=\"\",\"\",K$5+Header!C$6*(A267-1))","v":""},null,"","","","","",{"$f":"#REF!","v":{"$error":"#REF!"}},1,"",null,null,null,null,null,null,null,null,null,null,null,null,null,null,null,null,null,null,null,null,null,null,null,null,null,null,null,null,null,null,null,null,null,null,null,null,null,null,null,null,null,null,null,null,null,null,null,null,null,null,null,null,null,null,null,null,null,null,null,null,null,null,null,null,null,null,null,null,null,null,null,null,null,null,null,null,null,null,null,null,null,null,null,null,null,null,null,null,null,null,null,null,null,null,null,null,null,null,null,null,null,null,null,null,null,null,null,null,null,null,null,null,null,null,null,null,null,null,null,null,null,null,null,null,null,null,null,null,""]
[null,null,null,null,null,null,null,null,null,null,{"$f":"IF(A268=\"\",\"\",K$5+Header!C$6*(A268-1))","v":""},null,"","","","","",{"$f":"#REF!","v":{"$error":"#REF!"}},1,"",null,null,null,null,null,null,null,null,null,null,null,null,null,null,null,null,null,null,null,null,null,null,null,null,null,null,null,null,null,null,null,null,null,null,null,null,null,null,null,null,null,null,null,null,null,null,null,null,null,null,null,null,null,null,null,null,null,null,null,null,null,null,null,null,null,null,null,null,null,null,null,null,null,null,null,null,null,null,null,null,null,null,null,null,null,null,null,null,null,null,null,null,null,null,null,null,null,null,null,null,null,null,null,null,null,null,null,null,null,null,null,null,null,null,null,null,null,null,null,null,null,null,null,null,null,null,null,null,""]
[null,null,null,null,null,null,null,null,null,null,{"$f":"IF(A269=\"\",\"\",K$5+Header!C$6*(A269-1))","v":""},null,"","","","","",{"$f":"#REF!","v":{"$error":"#REF!"}},1,"",null,null,null,null,null,null,null,null,null,null,null,null,null,null,null,null,null,null,null,null,null,null,null,null,null,null,null,null,null,null,null,null,null,null,null,null,null,null,null,null,null,null,null,null,null,null,null,null,null,null,null,null,null,null,null,null,null,null,null,null,null,null,null,null,null,null,null,null,null,null,null,null,null,null,null,null,null,null,null,null,null,null,null,null,null,null,null,null,null,null,null,null,null,null,null,null,null,null,null,null,null,null,null,null,null,null,null,null,null,null,null,null,null,null,null,null,null,null,null,null,null,null,null,null,null,null,null,null,""]
[null,null,null,null,null,null,null,null,null,null,{"$f":"IF(A270=\"\",\"\",K$5+Header!C$6*(A270-1))","v":""},null,"","","","","",{"$f":"#REF!","v":{"$error":"#REF!"}},1,"",null,null,null,null,null,null,null,null,null,null,null,null,null,null,null,null,null,null,null,null,null,null,null,null,null,null,null,null,null,null,null,null,null,null,null,null,null,null,null,null,null,null,null,null,null,null,null,null,null,null,null,null,null,null,null,null,null,null,null,null,null,null,null,null,null,null,null,null,null,null,null,null,null,null,null,null,null,null,null,null,null,null,null,null,null,null,null,null,null,null,null,null,null,null,null,null,null,null,null,null,null,null,null,null,null,null,null,null,null,null,null,null,null,null,null,null,null,null,null,null,null,null,null,null,null,null,null,null,""]
[null,null,null,null,null,null,null,null,null,null,{"$f":"IF(A271=\"\",\"\",K$5+Header!C$6*(A271-1))","v":""},null,"","","","","",{"$f":"#REF!","v":{"$error":"#REF!"}},1,"",null,null,null,null,null,null,null,null,null,null,null,null,null,null,null,null,null,null,null,null,null,null,null,null,null,null,null,null,null,null,null,null,null,null,null,null,null,null,null,null,null,null,null,null,null,null,null,null,null,null,null,null,null,null,null,null,null,null,null,null,null,null,null,null,null,null,null,null,null,null,null,null,null,null,null,null,null,null,null,null,null,null,null,null,null,null,null,null,null,null,null,null,null,null,null,null,null,null,null,null,null,null,null,null,null,null,null,null,null,null,null,null,null,null,null,null,null,null,null,null,null,null,null,null,null,null,null,null,""]
[null,null,null,null,null,null,null,null,null,null,{"$f":"IF(A272=\"\",\"\",K$5+Header!C$6*(A272-1))","v":""},null,"","","","","",{"$f":"#REF!","v":{"$error":"#REF!"}},1,"",null,null,null,null,null,null,null,null,null,null,null,null,null,null,null,null,null,null,null,null,null,null,null,null,null,null,null,null,null,null,null,null,null,null,null,null,null,null,null,null,null,null,null,null,null,null,null,null,null,null,null,null,null,null,null,null,null,null,null,null,null,null,null,null,null,null,null,null,null,null,null,null,null,null,null,null,null,null,null,null,null,null,null,null,null,null,null,null,null,null,null,null,null,null,null,null,null,null,null,null,null,null,null,null,null,null,null,null,null,null,null,null,null,null,null,null,null,null,null,null,null,null,null,null,null,null,null,null,""]
[null,null,null,null,null,null,null,null,null,null,{"$f":"IF(A273=\"\",\"\",K$5+Header!C$6*(A273-1))","v":""},null,"","","","","",{"$f":"#REF!","v":{"$error":"#REF!"}},1,"",null,null,null,null,null,null,null,null,null,null,null,null,null,null,null,null,null,null,null,null,null,null,null,null,null,null,null,null,null,null,null,null,null,null,null,null,null,null,null,null,null,null,null,null,null,null,null,null,null,null,null,null,null,null,null,null,null,null,null,null,null,null,null,null,null,null,null,null,null,null,null,null,null,null,null,null,null,null,null,null,null,null,null,null,null,null,null,null,null,null,null,null,null,null,null,null,null,null,null,null,null,null,null,null,null,null,null,null,null,null,null,null,null,null,null,null,null,null,null,null,null,null,null,null,null,null,null,null,""]
[null,null,null,null,null,null,null,null,null,null,{"$f":"IF(A274=\"\",\"\",K$5+Header!C$6*(A274-1))","v":""},null,"","","","","",{"$f":"#REF!","v":{"$error":"#REF!"}},1,"",null,null,null,null,null,null,null,null,null,null,null,null,null,null,null,null,null,null,null,null,null,null,null,null,null,null,null,null,null,null,null,null,null,null,null,null,null,null,null,null,null,null,null,null,null,null,null,null,null,null,null,null,null,null,null,null,null,null,null,null,null,null,null,null,null,null,null,null,null,null,null,null,null,null,null,null,null,null,null,null,null,null,null,null,null,null,null,null,null,null,null,null,null,null,null,null,null,null,null,null,null,null,null,null,null,null,null,null,null,null,null,null,null,null,null,null,null,null,null,null,null,null,null,null,null,null,null,null,""]
[null,null,null,null,null,null,null,null,null,null,{"$f":"IF(A275=\"\",\"\",K$5+Header!C$6*(A275-1))","v":""},null,"","","","","",{"$f":"#REF!","v":{"$error":"#REF!"}},1,"",null,null,null,null,null,null,null,null,null,null,null,null,null,null,null,null,null,null,null,null,null,null,null,null,null,null,null,null,null,null,null,null,null,null,null,null,null,null,null,null,null,null,null,null,null,null,null,null,null,null,null,null,null,null,null,null,null,null,null,null,null,null,null,null,null,null,null,null,null,null,null,null,null,null,null,null,null,null,null,null,null,null,null,null,null,null,null,null,null,null,null,null,null,null,null,null,null,null,null,null,null,null,null,null,null,null,null,null,null,null,null,null,null,null,null,null,null,null,null,null,null,null,null,null,null,null,null,null,""]
[null,null,null,null,null,null,null,null,null,null,{"$f":"IF(A276=\"\",\"\",K$5+Header!C$6*(A276-1))","v":""},null,"","","","","",{"$f":"#REF!","v":{"$error":"#REF!"}},1,"",null,null,null,null,null,null,null,null,null,null,null,null,null,null,null,null,null,null,null,null,null,null,null,null,null,null,null,null,null,null,null,null,null,null,null,null,null,null,null,null,null,null,null,null,null,null,null,null,null,null,null,null,null,null,null,null,null,null,null,null,null,null,null,null,null,null,null,null,null,null,null,null,null,null,null,null,null,null,null,null,null,null,null,null,null,null,null,null,null,null,null,null,null,null,null,null,null,null,null,null,null,null,null,null,null,null,null,null,null,null,null,null,null,null,null,null,null,null,null,null,null,null,null,null,null,null,null,null,""]
[null,null,null,null,null,null,null,null,null,null,{"$f":"IF(A277=\"\",\"\",K$5+Header!C$6*(A277-1))","v":""},null,"","","","","",{"$f":"#REF!","v":{"$error":"#REF!"}},1,"",null,null,null,null,null,null,null,null,null,null,null,null,null,null,null,null,null,null,null,null,null,null,null,null,null,null,null,null,null,null,null,null,null,null,null,null,null,null,null,null,null,null,null,null,null,null,null,null,null,null,null,null,null,null,null,null,null,null,null,null,null,null,null,null,null,null,null,null,null,null,null,null,null,null,null,null,null,null,null,null,null,null,null,null,null,null,null,null,null,null,null,null,null,null,null,null,null,null,null,null,null,null,null,null,null,null,null,null,null,null,null,null,null,null,null,null,null,null,null,null,null,null,null,null,null,null,null,null,""]
[null,null,null,null,null,null,null,null,null,null,{"$f":"IF(A278=\"\",\"\",K$5+Header!C$6*(A278-1))","v":""},null,"","","","","",{"$f":"#REF!","v":{"$error":"#REF!"}},1,"",null,null,null,null,null,null,null,null,null,null,null,null,null,null,null,null,null,null,null,null,null,null,null,null,null,null,null,null,null,null,null,null,null,null,null,null,null,null,null,null,null,null,null,null,null,null,null,null,null,null,null,null,null,null,null,null,null,null,null,null,null,null,null,null,null,null,null,null,null,null,null,null,null,null,null,null,null,null,null,null,null,null,null,null,null,null,null,null,null,null,null,null,null,null,null,null,null,null,null,null,null,null,null,null,null,null,null,null,null,null,null,null,null,null,null,null,null,null,null,null,null,null,null,null,null,null,null,null,""]
[null,null,null,null,null,null,null,null,null,null,{"$f":"IF(A279=\"\",\"\",K$5+Header!C$6*(A279-1))","v":""},null,"","","","","",{"$f":"#REF!","v":{"$error":"#REF!"}},1,"",null,null,null,null,null,null,null,null,null,null,null,null,null,null,null,null,null,null,null,null,null,null,null,null,null,null,null,null,null,null,null,null,null,null,null,null,null,null,null,null,null,null,null,null,null,null,null,null,null,null,null,null,null,null,null,null,null,null,null,null,null,null,null,null,null,null,null,null,null,null,null,null,null,null,null,null,null,null,null,null,null,null,null,null,null,null,null,null,null,null,null,null,null,null,null,null,null,null,null,null,null,null,null,null,null,null,null,null,null,null,null,null,null,null,null,null,null,null,null,null,null,null,null,null,null,null,null,null,""]
[null,null,null,null,null,null,null,null,null,null,{"$f":"IF(A280=\"\",\"\",K$5+Header!C$6*(A280-1))","v":""},null,"","","","","",{"$f":"#REF!","v":{"$error":"#REF!"}},1,"",null,null,null,null,null,null,null,null,null,null,null,null,null,null,null,null,null,null,null,null,null,null,null,null,null,null,null,null,null,null,null,null,null,null,null,null,null,null,null,null,null,null,null,null,null,null,null,null,null,null,null,null,null,null,null,null,null,null,null,null,null,null,null,null,null,null,null,null,null,null,null,null,null,null,null,null,null,null,null,null,null,null,null,null,null,null,null,null,null,null,null,null,null,null,null,null,null,null,null,null,null,null,null,null,null,null,null,null,null,null,null,null,null,null,null,null,null,null,null,null,null,null,null,null,null,null,null,null,""]
[null,null,null,null,null,null,null,null,null,null,{"$f":"IF(A281=\"\",\"\",K$5+Header!C$6*(A281-1))","v":""},null,"","","","","",{"$f":"#REF!","v":{"$error":"#REF!"}},1,"",null,null,null,null,null,null,null,null,null,null,null,null,null,null,null,null,null,null,null,null,null,null,null,null,null,null,null,null,null,null,null,null,null,null,null,null,null,null,null,null,null,null,null,null,null,null,null,null,null,null,null,null,null,null,null,null,null,null,null,null,null,null,null,null,null,null,null,null,null,null,null,null,null,null,null,null,null,null,null,null,null,null,null,null,null,null,null,null,null,null,null,null,null,null,null,null,null,null,null,null,null,null,null,null,null,null,null,null,null,null,null,null,null,null,null,null,null,null,null,null,null,null,null,null,null,null,null,null,""]
[null,null,null,null,null,null,null,null,null,null,{"$f":"IF(A282=\"\",\"\",K$5+Header!C$6*(A282-1))","v":""},null,"","","","","",{"$f":"#REF!","v":{"$error":"#REF!"}},1,"",null,null,null,null,null,null,null,null,null,null,null,null,null,null,null,null,null,null,null,null,null,null,null,null,null,null,null,null,null,null,null,null,null,null,null,null,null,null,null,null,null,null,null,null,null,null,null,null,null,null,null,null,null,null,null,null,null,null,null,null,null,null,null,null,null,null,null,null,null,null,null,null,null,null,null,null,null,null,null,null,null,null,null,null,null,null,null,null,null,null,null,null,null,null,null,null,null,null,null,null,null,null,null,null,null,null,null,null,null,null,null,null,null,null,null,null,null,null,null,null,null,null,null,null,null,null,null,null,""]
[null,null,null,null,null,null,null,null,null,null,{"$f":"IF(A283=\"\",\"\",K$5+Header!C$6*(A283-1))","v":""},null,"","","","","",{"$f":"#REF!","v":{"$error":"#REF!"}},1,"",null,null,null,null,null,null,null,null,null,null,null,null,null,null,null,null,null,null,null,null,null,null,null,null,null,null,null,null,null,null,null,null,null,null,null,null,null,null,null,null,null,null,null,null,null,null,null,null,null,null,null,null,null,null,null,null,null,null,null,null,null,null,null,null,null,null,null,null,null,null,null,null,null,null,null,null,null,null,null,null,null,null,null,null,null,null,null,null,null,null,null,null,null,null,null,null,null,null,null,null,null,null,null,null,null,null,null,null,null,null,null,null,null,null,null,null,null,null,null,null,null,null,null,null,null,null,null,null,""]
[null,null,null,null,null,null,null,null,null,null,{"$f":"IF(A284=\"\",\"\",K$5+Header!C$6*(A284-1))","v":""},null,"","","","","",{"$f":"#REF!","v":{"$error":"#REF!"}},1,"",null,null,null,null,null,null,null,null,null,null,null,null,null,null,null,null,null,null,null,null,null,null,null,null,null,null,null,null,null,null,null,null,null,null,null,null,null,null,null,null,null,null,null,null,null,null,null,null,null,null,null,null,null,null,null,null,null,null,null,null,null,null,null,null,null,null,null,null,null,null,null,null,null,null,null,null,null,null,null,null,null,null,null,null,null,null,null,null,null,null,null,null,null,null,null,null,null,null,null,null,null,null,null,null,null,null,null,null,null,null,null,null,null,null,null,null,null,null,null,null,null,null,null,null,null,null,null,null,""]
[null,null,null,null,null,null,null,null,null,null,{"$f":"IF(A285=\"\",\"\",K$5+Header!C$6*(A285-1))","v":""},null,"","","","","",{"$f":"#REF!","v":{"$error":"#REF!"}},1,"",null,null,null,null,null,null,null,null,null,null,null,null,null,null,null,null,null,null,null,null,null,null,null,null,null,null,null,null,null,null,null,null,null,null,null,null,null,null,null,null,null,null,null,null,null,null,null,null,null,null,null,null,null,null,null,null,null,null,null,null,null,null,null,null,null,null,null,null,null,null,null,null,null,null,null,null,null,null,null,null,null,null,null,null,null,null,null,null,null,null,null,null,null,null,null,null,null,null,null,null,null,null,null,null,null,null,null,null,null,null,null,null,null,null,null,null,null,null,null,null,null,null,null,null,null,null,null,null,""]
[null,null,null,null,null,null,null,null,null,null,{"$f":"IF(A286=\"\",\"\",K$5+Header!C$6*(A286-1))","v":""},null,"","","","","",{"$f":"#REF!","v":{"$error":"#REF!"}},1,"",null,null,null,null,null,null,null,null,null,null,null,null,null,null,null,null,null,null,null,null,null,null,null,null,null,null,null,null,null,null,null,null,null,null,null,null,null,null,null,null,null,null,null,null,null,null,null,null,null,null,null,null,null,null,null,null,null,null,null,null,null,null,null,null,null,null,null,null,null,null,null,null,null,null,null,null,null,null,null,null,null,null,null,null,null,null,null,null,null,null,null,null,null,null,null,null,null,null,null,null,null,null,null,null,null,null,null,null,null,null,null,null,null,null,null,null,null,null,null,null,null,null,null,null,null,null,null,null,""]
[null,null,null,null,null,null,null,null,null,null,{"$f":"IF(A287=\"\",\"\",K$5+Header!C$6*(A287-1))","v":""},null,"","","","","",{"$f":"#REF!","v":{"$error":"#REF!"}},1,"",null,null,null,null,null,null,null,null,null,null,null,null,null,null,null,null,null,null,null,null,null,null,null,null,null,null,null,null,null,null,null,null,null,null,null,null,null,null,null,null,null,null,null,null,null,null,null,null,null,null,null,null,null,null,null,null,null,null,null,null,null,null,null,null,null,null,null,null,null,null,null,null,null,null,null,null,null,null,null,null,null,null,null,null,null,null,null,null,null,null,null,null,null,null,null,null,null,null,null,null,null,null,null,null,null,null,null,null,null,null,null,null,null,null,null,null,null,null,null,null,null,null,null,null,null,null,null,null,""]
[null,null,null,null,null,null,null,null,null,null,{"$f":"IF(A288=\"\",\"\",K$5+Header!C$6*(A288-1))","v":""},null,"","","","","",{"$f":"#REF!","v":{"$error":"#REF!"}},1,"",null,null,null,null,null,null,null,null,null,null,null,null,null,null,null,null,null,null,null,null,null,null,null,null,null,null,null,null,null,null,null,null,null,null,null,null,null,null,null,null,null,null,null,null,null,null,null,null,null,null,null,null,null,null,null,null,null,null,null,null,null,null,null,null,null,null,null,null,null,null,null,null,null,null,null,null,null,null,null,null,null,null,null,null,null,null,null,null,null,null,null,null,null,null,null,null,null,null,null,null,null,null,null,null,null,null,null,null,null,null,null,null,null,null,null,null,null,null,null,null,null,null,null,null,null,null,null,null,""]
[null,null,null,null,null,null,null,null,null,null,{"$f":"IF(A289=\"\",\"\",K$5+Header!C$6*(A289-1))","v":""},null,"","","","","",{"$f":"#REF!","v":{"$error":"#REF!"}},1,"",null,null,null,null,null,null,null,null,null,null,null,null,null,null,null,null,null,null,null,null,null,null,null,null,null,null,null,null,null,null,null,null,null,null,null,null,null,null,null,null,null,null,null,null,null,null,null,null,null,null,null,null,null,null,null,null,null,null,null,null,null,null,null,null,null,null,null,null,null,null,null,null,null,null,null,null,null,null,null,null,null,null,null,null,null,null,null,null,null,null,null,null,null,null,null,null,null,null,null,null,null,null,null,null,null,null,null,null,null,null,null,null,null,null,null,null,null,null,null,null,null,null,null,null,null,null,null,null,""]
[null,null,null,null,null,null,null,null,null,null,{"$f":"IF(A290=\"\",\"\",K$5+Header!C$6*(A290-1))","v":""},null,"","","","","",{"$f":"#REF!","v":{"$error":"#REF!"}},1,"",null,null,null,null,null,null,null,null,null,null,null,null,null,null,null,null,null,null,null,null,null,null,null,null,null,null,null,null,null,null,null,null,null,null,null,null,null,null,null,null,null,null,null,null,null,null,null,null,null,null,null,null,null,null,null,null,null,null,null,null,null,null,null,null,null,null,null,null,null,null,null,null,null,null,null,null,null,null,null,null,null,null,null,null,null,null,null,null,null,null,null,null,null,null,null,null,null,null,null,null,null,null,null,null,null,null,null,null,null,null,null,null,null,null,null,null,null,null,null,null,null,null,null,null,null,null,null,null,""]
[null,null,null,null,null,null,null,null,null,null,{"$f":"IF(A291=\"\",\"\",K$5+Header!C$6*(A291-1))","v":""},null,"","","","","",{"$f":"#REF!","v":{"$error":"#REF!"}},1,"",null,null,null,null,null,null,null,null,null,null,null,null,null,null,null,null,null,null,null,null,null,null,null,null,null,null,null,null,null,null,null,null,null,null,null,null,null,null,null,null,null,null,null,null,null,null,null,null,null,null,null,null,null,null,null,null,null,null,null,null,null,null,null,null,null,null,null,null,null,null,null,null,null,null,null,null,null,null,null,null,null,null,null,null,null,null,null,null,null,null,null,null,null,null,null,null,null,null,null,null,null,null,null,null,null,null,null,null,null,null,null,null,null,null,null,null,null,null,null,null,null,null,null,null,null,null,null,null,""]
[null,null,null,null,null,null,null,null,null,null,{"$f":"IF(A292=\"\",\"\",K$5+Header!C$6*(A292-1))","v":""},null,"","","","","",{"$f":"#REF!","v":{"$error":"#REF!"}},1,"",null,null,null,null,null,null,null,null,null,null,null,null,null,null,null,null,null,null,null,null,null,null,null,null,null,null,null,null,null,null,null,null,null,null,null,null,null,null,null,null,null,null,null,null,null,null,null,null,null,null,null,null,null,null,null,null,null,null,null,null,null,null,null,null,null,null,null,null,null,null,null,null,null,null,null,null,null,null,null,null,null,null,null,null,null,null,null,null,null,null,null,null,null,null,null,null,null,null,null,null,null,null,null,null,null,null,null,null,null,null,null,null,null,null,null,null,null,null,null,null,null,null,null,null,null,null,null,null,""]
[null,null,null,null,null,null,null,null,null,null,{"$f":"IF(A293=\"\",\"\",K$5+Header!C$6*(A293-1))","v":""},null,"","","","","",{"$f":"#REF!","v":{"$error":"#REF!"}},1,"",null,null,null,null,null,null,null,null,null,null,null,null,null,null,null,null,null,null,null,null,null,null,null,null,null,null,null,null,null,null,null,null,null,null,null,null,null,null,null,null,null,null,null,null,null,null,null,null,null,null,null,null,null,null,null,null,null,null,null,null,null,null,null,null,null,null,null,null,null,null,null,null,null,null,null,null,null,null,null,null,null,null,null,null,null,null,null,null,null,null,null,null,null,null,null,null,null,null,null,null,null,null,null,null,null,null,null,null,null,null,null,null,null,null,null,null,null,null,null,null,null,null,null,null,null,null,null,null,""]
[null,null,null,null,null,null,null,null,null,null,{"$f":"IF(A294=\"\",\"\",K$5+Header!C$6*(A294-1))","v":""},null,"","","","","",{"$f":"#REF!","v":{"$error":"#REF!"}},1,"",null,null,null,null,null,null,null,null,null,null,null,null,null,null,null,null,null,null,null,null,null,null,null,null,null,null,null,null,null,null,null,null,null,null,null,null,null,null,null,null,null,null,null,null,null,null,null,null,null,null,null,null,null,null,null,null,null,null,null,null,null,null,null,null,null,null,null,null,null,null,null,null,null,null,null,null,null,null,null,null,null,null,null,null,null,null,null,null,null,null,null,null,null,null,null,null,null,null,null,null,null,null,null,null,null,null,null,null,null,null,null,null,null,null,null,null,null,null,null,null,null,null,null,null,null,null,null,null,""]
[null,null,null,null,null,null,null,null,null,null,{"$f":"IF(A295=\"\",\"\",K$5+Header!C$6*(A295-1))","v":""},null,"","","","","",{"$f":"#REF!","v":{"$error":"#REF!"}},1,"",null,null,null,null,null,null,null,null,null,null,null,null,null,null,null,null,null,null,null,null,null,null,null,null,null,null,null,null,null,null,null,null,null,null,null,null,null,null,null,null,null,null,null,null,null,null,null,null,null,null,null,null,null,null,null,null,null,null,null,null,null,null,null,null,null,null,null,null,null,null,null,null,null,null,null,null,null,null,null,null,null,null,null,null,null,null,null,null,null,null,null,null,null,null,null,null,null,null,null,null,null,null,null,null,null,null,null,null,null,null,null,null,null,null,null,null,null,null,null,null,null,null,null,null,null,null,null,null,""]
[null,null,null,null,null,null,null,null,null,null,{"$f":"IF(A296=\"\",\"\",K$5+Header!C$6*(A296-1))","v":""},null,"","","","","",{"$f":"#REF!","v":{"$error":"#REF!"}},1,"",null,null,null,null,null,null,null,null,null,null,null,null,null,null,null,null,null,null,null,null,null,null,null,null,null,null,null,null,null,null,null,null,null,null,null,null,null,null,null,null,null,null,null,null,null,null,null,null,null,null,null,null,null,null,null,null,null,null,null,null,null,null,null,null,null,null,null,null,null,null,null,null,null,null,null,null,null,null,null,null,null,null,null,null,null,null,null,null,null,null,null,null,null,null,null,null,null,null,null,null,null,null,null,null,null,null,null,null,null,null,null,null,null,null,null,null,null,null,null,null,null,null,null,null,null,null,null,null,""]
[null,null,null,null,null,null,null,null,null,null,{"$f":"IF(A297=\"\",\"\",K$5+Header!C$6*(A297-1))","v":""},null,"","","","","",{"$f":"#REF!","v":{"$error":"#REF!"}},1,"",null,null,null,null,null,null,null,null,null,null,null,null,null,null,null,null,null,null,null,null,null,null,null,null,null,null,null,null,null,null,null,null,null,null,null,null,null,null,null,null,null,null,null,null,null,null,null,null,null,null,null,null,null,null,null,null,null,null,null,null,null,null,null,null,null,null,null,null,null,null,null,null,null,null,null,null,null,null,null,null,null,null,null,null,null,null,null,null,null,null,null,null,null,null,null,null,null,null,null,null,null,null,null,null,null,null,null,null,null,null,null,null,null,null,null,null,null,null,null,null,null,null,null,null,null,null,null,null,""]
[null,null,null,null,null,null,null,null,null,null,{"$f":"IF(A298=\"\",\"\",K$5+Header!C$6*(A298-1))","v":""},null,"","","","","",{"$f":"#REF!","v":{"$error":"#REF!"}},1,"",null,null,null,null,null,null,null,null,null,null,null,null,null,null,null,null,null,null,null,null,null,null,null,null,null,null,null,null,null,null,null,null,null,null,null,null,null,null,null,null,null,null,null,null,null,null,null,null,null,null,null,null,null,null,null,null,null,null,null,null,null,null,null,null,null,null,null,null,null,null,null,null,null,null,null,null,null,null,null,null,null,null,null,null,null,null,null,null,null,null,null,null,null,null,null,null,null,null,null,null,null,null,null,null,null,null,null,null,null,null,null,null,null,null,null,null,null,null,null,null,null,null,null,null,null,null,null,null,""]
[null,null,null,null,null,null,null,null,null,null,{"$f":"IF(A299=\"\",\"\",K$5+Header!C$6*(A299-1))","v":""},null,"","","","","",{"$f":"#REF!","v":{"$error":"#REF!"}},1,"",null,null,null,null,null,null,null,null,null,null,null,null,null,null,null,null,null,null,null,null,null,null,null,null,null,null,null,null,null,null,null,null,null,null,null,null,null,null,null,null,null,null,null,null,null,null,null,null,null,null,null,null,null,null,null,null,null,null,null,null,null,null,null,null,null,null,null,null,null,null,null,null,null,null,null,null,null,null,null,null,null,null,null,null,null,null,null,null,null,null,null,null,null,null,null,null,null,null,null,null,null,null,null,null,null,null,null,null,null,null,null,null,null,null,null,null,null,null,null,null,null,null,null,null,null,null,null,null,""]
[null,null,null,null,null,null,null,null,null,null,{"$f":"IF(A300=\"\",\"\",K$5+Header!C$6*(A300-1))","v":""},null,"","","","","",{"$f":"#REF!","v":{"$error":"#REF!"}},1,"",null,null,null,null,null,null,null,null,null,null,null,null,null,null,null,null,null,null,null,null,null,null,null,null,null,null,null,null,null,null,null,null,null,null,null,null,null,null,null,null,null,null,null,null,null,null,null,null,null,null,null,null,null,null,null,null,null,null,null,null,null,null,null,null,null,null,null,null,null,null,null,null,null,null,null,null,null,null,null,null,null,null,null,null,null,null,null,null,null,null,null,null,null,null,null,null,null,null,null,null,null,null,null,null,null,null,null,null,null,null,null,null,null,null,null,null,null,null,null,null,null,null,null,null,null,null,null,null,""]
[null,null,null,null,null,null,null,null,null,null,{"$f":"IF(A301=\"\",\"\",K$5+Header!C$6*(A301-1))","v":""},null,"","","","","",{"$f":"#REF!","v":{"$error":"#REF!"}},1,"",null,null,null,null,null,null,null,null,null,null,null,null,null,null,null,null,null,null,null,null,null,null,null,null,null,null,null,null,null,null,null,null,null,null,null,null,null,null,null,null,null,null,null,null,null,null,null,null,null,null,null,null,null,null,null,null,null,null,null,null,null,null,null,null,null,null,null,null,null,null,null,null,null,null,null,null,null,null,null,null,null,null,null,null,null,null,null,null,null,null,null,null,null,null,null,null,null,null,null,null,null,null,null,null,null,null,null,null,null,null,null,null,null,null,null,null,null,null,null,null,null,null,null,null,null,null,null,null,""]
[null,null,null,null,null,null,null,null,null,null,{"$f":"IF(A302=\"\",\"\",K$5+Header!C$6*(A302-1))","v":""},null,"","","","","",{"$f":"#REF!","v":{"$error":"#REF!"}},1,"",null,null,null,null,null,null,null,null,null,null,null,null,null,null,null,null,null,null,null,null,null,null,null,null,null,null,null,null,null,null,null,null,null,null,null,null,null,null,null,null,null,null,null,null,null,null,null,null,null,null,null,null,null,null,null,null,null,null,null,null,null,null,null,null,null,null,null,null,null,null,null,null,null,null,null,null,null,null,null,null,null,null,null,null,null,null,null,null,null,null,null,null,null,null,null,null,null,null,null,null,null,null,null,null,null,null,null,null,null,null,null,null,null,null,null,null,null,null,null,null,null,null,null,null,null,null,null,null,""]
[null,null,null,null,null,null,null,null,null,null,{"$f":"IF(A303=\"\",\"\",K$5+Header!C$6*(A303-1))","v":""},null,"","","","","",{"$f":"#REF!","v":{"$error":"#REF!"}},1,"",null,null,null,null,null,null,null,null,null,null,null,null,null,null,null,null,null,null,null,null,null,null,null,null,null,null,null,null,null,null,null,null,null,null,null,null,null,null,null,null,null,null,null,null,null,null,null,null,null,null,null,null,null,null,null,null,null,null,null,null,null,null,null,null,null,null,null,null,null,null,null,null,null,null,null,null,null,null,null,null,null,null,null,null,null,null,null,null,null,null,null,null,null,null,null,null,null,null,null,null,null,null,null,null,null,null,null,null,null,null,null,null,null,null,null,null,null,null,null,null,null,null,null,null,null,null,null,null,""]
[null,null,null,null,null,null,null,null,null,null,{"$f":"IF(A304=\"\",\"\",K$5+Header!C$6*(A304-1))","v":""},null,"","","","","",{"$f":"#REF!","v":{"$error":"#REF!"}},1,"",null,null,null,null,null,null,null,null,null,null,null,null,null,null,null,null,null,null,null,null,null,null,null,null,null,null,null,null,null,null,null,null,null,null,null,null,null,null,null,null,null,null,null,null,null,null,null,null,null,null,null,null,null,null,null,null,null,null,null,null,null,null,null,null,null,null,null,null,null,null,null,null,null,null,null,null,null,null,null,null,null,null,null,null,null,null,null,null,null,null,null,null,null,null,null,null,null,null,null,null,null,null,null,null,null,null,null,null,null,null,null,null,null,null,null,null,null,null,null,null,null,null,null,null,null,null,null,null,""]
[null,null,null,null,null,null,null,null,null,null,{"$f":"IF(A305=\"\",\"\",K$5+Header!C$6*(A305-1))","v":""},null,"","","","","",{"$f":"#REF!","v":{"$error":"#REF!"}},1,"",null,null,null,null,null,null,null,null,null,null,null,null,null,null,null,null,null,null,null,null,null,null,null,null,null,null,null,null,null,null,null,null,null,null,null,null,null,null,null,null,null,null,null,null,null,null,null,null,null,null,null,null,null,null,null,null,null,null,null,null,null,null,null,null,null,null,null,null,null,null,null,null,null,null,null,null,null,null,null,null,null,null,null,null,null,null,null,null,null,null,null,null,null,null,null,null,null,null,null,null,null,null,null,null,null,null,null,null,null,null,null,null,null,null,null,null,null,null,null,null,null,null,null,null,null,null,null,null,""]
[null,null,null,null,null,null,null,null,null,null,{"$f":"IF(A306=\"\",\"\",K$5+Header!C$6*(A306-1))","v":""},null,"","","","","",{"$f":"#REF!","v":{"$error":"#REF!"}},1,"",null,null,null,null,null,null,null,null,null,null,null,null,null,null,null,null,null,null,null,null,null,null,null,null,null,null,null,null,null,null,null,null,null,null,null,null,null,null,null,null,null,null,null,null,null,null,null,null,null,null,null,null,null,null,null,null,null,null,null,null,null,null,null,null,null,null,null,null,null,null,null,null,null,null,null,null,null,null,null,null,null,null,null,null,null,null,null,null,null,null,null,null,null,null,null,null,null,null,null,null,null,null,null,null,null,null,null,null,null,null,null,null,null,null,null,null,null,null,null,null,null,null,null,null,null,null,null,null,""]
[null,null,null,null,null,null,null,null,null,null,{"$f":"IF(A307=\"\",\"\",K$5+Header!C$6*(A307-1))","v":""},null,"","","","","",{"$f":"#REF!","v":{"$error":"#REF!"}},1,"",null,null,null,null,null,null,null,null,null,null,null,null,null,null,null,null,null,null,null,null,null,null,null,null,null,null,null,null,null,null,null,null,null,null,null,null,null,null,null,null,null,null,null,null,null,null,null,null,null,null,null,null,null,null,null,null,null,null,null,null,null,null,null,null,null,null,null,null,null,null,null,null,null,null,null,null,null,null,null,null,null,null,null,null,null,null,null,null,null,null,null,null,null,null,null,null,null,null,null,null,null,null,null,null,null,null,null,null,null,null,null,null,null,null,null,null,null,null,null,null,null,null,null,null,null,null,null,null,""]
[null,null,null,null,null,null,null,null,null,null,{"$f":"IF(A308=\"\",\"\",K$5+Header!C$6*(A308-1))","v":""},null,"","","","","",{"$f":"#REF!","v":{"$error":"#REF!"}},1,"",null,null,null,null,null,null,null,null,null,null,null,null,null,null,null,null,null,null,null,null,null,null,null,null,null,null,null,null,null,null,null,null,null,null,null,null,null,null,null,null,null,null,null,null,null,null,null,null,null,null,null,null,null,null,null,null,null,null,null,null,null,null,null,null,null,null,null,null,null,null,null,null,null,null,null,null,null,null,null,null,null,null,null,null,null,null,null,null,null,null,null,null,null,null,null,null,null,null,null,null,null,null,null,null,null,null,null,null,null,null,null,null,null,null,null,null,null,null,null,null,null,null,null,null,null,null,null,null,""]
[null,null,null,null,null,null,null,null,null,null,{"$f":"IF(A309=\"\",\"\",K$5+Header!C$6*(A309-1))","v":""},null,"","","","","",{"$f":"#REF!","v":{"$error":"#REF!"}},1,"",null,null,null,null,null,null,null,null,null,null,null,null,null,null,null,null,null,null,null,null,null,null,null,null,null,null,null,null,null,null,null,null,null,null,null,null,null,null,null,null,null,null,null,null,null,null,null,null,null,null,null,null,null,null,null,null,null,null,null,null,null,null,null,null,null,null,null,null,null,null,null,null,null,null,null,null,null,null,null,null,null,null,null,null,null,null,null,null,null,null,null,null,null,null,null,null,null,null,null,null,null,null,null,null,null,null,null,null,null,null,null,null,null,null,null,null,null,null,null,null,null,null,null,null,null,null,null,null,""]
[null,null,null,null,null,null,null,null,null,null,{"$f":"IF(A310=\"\",\"\",K$5+Header!C$6*(A310-1))","v":""},null,"","","","","",{"$f":"#REF!","v":{"$error":"#REF!"}},1,"",null,null,null,null,null,null,null,null,null,null,null,null,null,null,null,null,null,null,null,null,null,null,null,null,null,null,null,null,null,null,null,null,null,null,null,null,null,null,null,null,null,null,null,null,null,null,null,null,null,null,null,null,null,null,null,null,null,null,null,null,null,null,null,null,null,null,null,null,null,null,null,null,null,null,null,null,null,null,null,null,null,null,null,null,null,null,null,null,null,null,null,null,null,null,null,null,null,null,null,null,null,null,null,null,null,null,null,null,null,null,null,null,null,null,null,null,null,null,null,null,null,null,null,null,null,null,null,null,""]
[null,null,null,null,null,null,null,null,null,null,{"$f":"IF(A311=\"\",\"\",K$5+Header!C$6*(A311-1))","v":""},null,"","","","","",{"$f":"#REF!","v":{"$error":"#REF!"}},1,"",null,null,null,null,null,null,null,null,null,null,null,null,null,null,null,null,null,null,null,null,null,null,null,null,null,null,null,null,null,null,null,null,null,null,null,null,null,null,null,null,null,null,null,null,null,null,null,null,null,null,null,null,null,null,null,null,null,null,null,null,null,null,null,null,null,null,null,null,null,null,null,null,null,null,null,null,null,null,null,null,null,null,null,null,null,null,null,null,null,null,null,null,null,null,null,null,null,null,null,null,null,null,null,null,null,null,null,null,null,null,null,null,null,null,null,null,null,null,null,null,null,null,null,null,null,null,null,null,""]
[null,null,null,null,null,null,null,null,null,null,{"$f":"IF(A312=\"\",\"\",K$5+Header!C$6*(A312-1))","v":""},null,"","","","","",{"$f":"#REF!","v":{"$error":"#REF!"}},1,"",null,null,null,null,null,null,null,null,null,null,null,null,null,null,null,null,null,null,null,null,null,null,null,null,null,null,null,null,null,null,null,null,null,null,null,null,null,null,null,null,null,null,null,null,null,null,null,null,null,null,null,null,null,null,null,null,null,null,null,null,null,null,null,null,null,null,null,null,null,null,null,null,null,null,null,null,null,null,null,null,null,null,null,null,null,null,null,null,null,null,null,null,null,null,null,null,null,null,null,null,null,null,null,null,null,null,null,null,null,null,null,null,null,null,null,null,null,null,null,null,null,null,null,null,null,null,null,null,""]
[null,null,null,null,null,null,null,null,null,null,{"$f":"IF(A313=\"\",\"\",K$5+Header!C$6*(A313-1))","v":""},null,"","","","","",{"$f":"#REF!","v":{"$error":"#REF!"}},1,"",null,null,null,null,null,null,null,null,null,null,null,null,null,null,null,null,null,null,null,null,null,null,null,null,null,null,null,null,null,null,null,null,null,null,null,null,null,null,null,null,null,null,null,null,null,null,null,null,null,null,null,null,null,null,null,null,null,null,null,null,null,null,null,null,null,null,null,null,null,null,null,null,null,null,null,null,null,null,null,null,null,null,null,null,null,null,null,null,null,null,null,null,null,null,null,null,null,null,null,null,null,null,null,null,null,null,null,null,null,null,null,null,null,null,null,null,null,null,null,null,null,null,null,null,null,null,null,null,""]
[null,null,null,null,null,null,null,null,null,null,{"$f":"IF(A314=\"\",\"\",K$5+Header!C$6*(A314-1))","v":""},null,"","","","","",{"$f":"#REF!","v":{"$error":"#REF!"}},1,"",null,null,null,null,null,null,null,null,null,null,null,null,null,null,null,null,null,null,null,null,null,null,null,null,null,null,null,null,null,null,null,null,null,null,null,null,null,null,null,null,null,null,null,null,null,null,null,null,null,null,null,null,null,null,null,null,null,null,null,null,null,null,null,null,null,null,null,null,null,null,null,null,null,null,null,null,null,null,null,null,null,null,null,null,null,null,null,null,null,null,null,null,null,null,null,null,null,null,null,null,null,null,null,null,null,null,null,null,null,null,null,null,null,null,null,null,null,null,null,null,null,null,null,null,null,null,null,null,""]
[null,null,null,null,null,null,null,null,null,null,{"$f":"IF(A315=\"\",\"\",K$5+Header!C$6*(A315-1))","v":""},null,"","","","","",{"$f":"#REF!","v":{"$error":"#REF!"}},1,"",null,null,null,null,null,null,null,null,null,null,null,null,null,null,null,null,null,null,null,null,null,null,null,null,null,null,null,null,null,null,null,null,null,null,null,null,null,null,null,null,null,null,null,null,null,null,null,null,null,null,null,null,null,null,null,null,null,null,null,null,null,null,null,null,null,null,null,null,null,null,null,null,null,null,null,null,null,null,null,null,null,null,null,null,null,null,null,null,null,null,null,null,null,null,null,null,null,null,null,null,null,null,null,null,null,null,null,null,null,null,null,null,null,null,null,null,null,null,null,null,null,null,null,null,null,null,null,null,""]
[null,null,null,null,null,null,null,null,null,null,{"$f":"IF(A316=\"\",\"\",K$5+Header!C$6*(A316-1))","v":""},null,"","","","","",{"$f":"#REF!","v":{"$error":"#REF!"}},1,"",null,null,null,null,null,null,null,null,null,null,null,null,null,null,null,null,null,null,null,null,null,null,null,null,null,null,null,null,null,null,null,null,null,null,null,null,null,null,null,null,null,null,null,null,null,null,null,null,null,null,null,null,null,null,null,null,null,null,null,null,null,null,null,null,null,null,null,null,null,null,null,null,null,null,null,null,null,null,null,null,null,null,null,null,null,null,null,null,null,null,null,null,null,null,null,null,null,null,null,null,null,null,null,null,null,null,null,null,null,null,null,null,null,null,null,null,null,null,null,null,null,null,null,null,null,null,null,null,""]
[null,null,null,null,null,null,null,null,null,null,{"$f":"IF(A317=\"\",\"\",K$5+Header!C$6*(A317-1))","v":""},null,"","","","","",{"$f":"#REF!","v":{"$error":"#REF!"}},1,"",null,null,null,null,null,null,null,null,null,null,null,null,null,null,null,null,null,null,null,null,null,null,null,null,null,null,null,null,null,null,null,null,null,null,null,null,null,null,null,null,null,null,null,null,null,null,null,null,null,null,null,null,null,null,null,null,null,null,null,null,null,null,null,null,null,null,null,null,null,null,null,null,null,null,null,null,null,null,null,null,null,null,null,null,null,null,null,null,null,null,null,null,null,null,null,null,null,null,null,null,null,null,null,null,null,null,null,null,null,null,null,null,null,null,null,null,null,null,null,null,null,null,null,null,null,null,null,null,""]
[null,null,null,null,null,null,null,null,null,null,{"$f":"IF(A318=\"\",\"\",K$5+Header!C$6*(A318-1))","v":""},null,"","","","","",{"$f":"#REF!","v":{"$error":"#REF!"}},1,"",null,null,null,null,null,null,null,null,null,null,null,null,null,null,null,null,null,null,null,null,null,null,null,null,null,null,null,null,null,null,null,null,null,null,null,null,null,null,null,null,null,null,null,null,null,null,null,null,null,null,null,null,null,null,null,null,null,null,null,null,null,null,null,null,null,null,null,null,null,null,null,null,null,null,null,null,null,null,null,null,null,null,null,null,null,null,null,null,null,null,null,null,null,null,null,null,null,null,null,null,null,null,null,null,null,null,null,null,null,null,null,null,null,null,null,null,null,null,null,null,null,null,null,null,null,null,null,null,""]
[null,null,null,null,null,null,null,null,null,null,{"$f":"IF(A319=\"\",\"\",K$5+Header!C$6*(A319-1))","v":""},null,"","","","","",{"$f":"#REF!","v":{"$error":"#REF!"}},1,"",null,null,null,null,null,null,null,null,null,null,null,null,null,null,null,null,null,null,null,null,null,null,null,null,null,null,null,null,null,null,null,null,null,null,null,null,null,null,null,null,null,null,null,null,null,null,null,null,null,null,null,null,null,null,null,null,null,null,null,null,null,null,null,null,null,null,null,null,null,null,null,null,null,null,null,null,null,null,null,null,null,null,null,null,null,null,null,null,null,null,null,null,null,null,null,null,null,null,null,null,null,null,null,null,null,null,null,null,null,null,null,null,null,null,null,null,null,null,null,null,null,null,null,null,null,null,null,null,""]
[null,null,null,null,null,null,null,null,null,null,{"$f":"IF(A320=\"\",\"\",K$5+Header!C$6*(A320-1))","v":""},null,"","","","","",{"$f":"#REF!","v":{"$error":"#REF!"}},1,"",null,null,null,null,null,null,null,null,null,null,null,null,null,null,null,null,null,null,null,null,null,null,null,null,null,null,null,null,null,null,null,null,null,null,null,null,null,null,null,null,null,null,null,null,null,null,null,null,null,null,null,null,null,null,null,null,null,null,null,null,null,null,null,null,null,null,null,null,null,null,null,null,null,null,null,null,null,null,null,null,null,null,null,null,null,null,null,null,null,null,null,null,null,null,null,null,null,null,null,null,null,null,null,null,null,null,null,null,null,null,null,null,null,null,null,null,null,null,null,null,null,null,null,null,null,null,null,null,""]
[null,null,null,null,null,null,null,null,null,null,{"$f":"IF(A321=\"\",\"\",K$5+Header!C$6*(A321-1))","v":""},null,"","","","","",{"$f":"#REF!","v":{"$error":"#REF!"}},1,"",null,null,null,null,null,null,null,null,null,null,null,null,null,null,null,null,null,null,null,null,null,null,null,null,null,null,null,null,null,null,null,null,null,null,null,null,null,null,null,null,null,null,null,null,null,null,null,null,null,null,null,null,null,null,null,null,null,null,null,null,null,null,null,null,null,null,null,null,null,null,null,null,null,null,null,null,null,null,null,null,null,null,null,null,null,null,null,null,null,null,null,null,null,null,null,null,null,null,null,null,null,null,null,null,null,null,null,null,null,null,null,null,null,null,null,null,null,null,null,null,null,null,null,null,null,null,null,null,""]
[null,null,null,null,null,null,null,null,null,null,{"$f":"IF(A322=\"\",\"\",K$5+Header!C$6*(A322-1))","v":""},null,"","","","","",{"$f":"#REF!","v":{"$error":"#REF!"}},1,"",null,null,null,null,null,null,null,null,null,null,null,null,null,null,null,null,null,null,null,null,null,null,null,null,null,null,null,null,null,null,null,null,null,null,null,null,null,null,null,null,null,null,null,null,null,null,null,null,null,null,null,null,null,null,null,null,null,null,null,null,null,null,null,null,null,null,null,null,null,null,null,null,null,null,null,null,null,null,null,null,null,null,null,null,null,null,null,null,null,null,null,null,null,null,null,null,null,null,null,null,null,null,null,null,null,null,null,null,null,null,null,null,null,null,null,null,null,null,null,null,null,null,null,null,null,null,null,null,""]
[null,null,null,null,null,null,null,null,null,null,{"$f":"IF(A323=\"\",\"\",K$5+Header!C$6*(A323-1))","v":""},null,"","","","","",{"$f":"#REF!","v":{"$error":"#REF!"}},1,"",null,null,null,null,null,null,null,null,null,null,null,null,null,null,null,null,null,null,null,null,null,null,null,null,null,null,null,null,null,null,null,null,null,null,null,null,null,null,null,null,null,null,null,null,null,null,null,null,null,null,null,null,null,null,null,null,null,null,null,null,null,null,null,null,null,null,null,null,null,null,null,null,null,null,null,null,null,null,null,null,null,null,null,null,null,null,null,null,null,null,null,null,null,null,null,null,null,null,null,null,null,null,null,null,null,null,null,null,null,null,null,null,null,null,null,null,null,null,null,null,null,null,null,null,null,null,null,null,""]
[null,null,null,null,null,null,null,null,null,null,{"$f":"IF(A324=\"\",\"\",K$5+Header!C$6*(A324-1))","v":""},null,"","","","","",{"$f":"#REF!","v":{"$error":"#REF!"}},1,"",null,null,null,null,null,null,null,null,null,null,null,null,null,null,null,null,null,null,null,null,null,null,null,null,null,null,null,null,null,null,null,null,null,null,null,null,null,null,null,null,null,null,null,null,null,null,null,null,null,null,null,null,null,null,null,null,null,null,null,null,null,null,null,null,null,null,null,null,null,null,null,null,null,null,null,null,null,null,null,null,null,null,null,null,null,null,null,null,null,null,null,null,null,null,null,null,null,null,null,null,null,null,null,null,null,null,null,null,null,null,null,null,null,null,null,null,null,null,null,null,null,null,null,null,null,null,null,null,""]
[null,null,null,null,null,null,null,null,null,null,{"$f":"IF(A325=\"\",\"\",K$5+Header!C$6*(A325-1))","v":""},null,{"$f":"IF(C325=\"\",\"\",IF(ISNUMBER(SEARCH(C325,\"d\")),IF(ISNUMBER(SEARCH(D325,\"c\")),\"CS\",IF(ISNUMBER(SEARCH(D325,\"u\")),\"UU\")),\"\"))","v":""},{"$f":"IF(C325=\"\",\"\",IF(ISNUMBER(SEARCH(C325,\"e\")),IF(ISNUMBER(SEARCH(D325,\"c\")),IF(ISNUMBER(SEARCH(E325,\"a\")),\"CS\",\"CU\"),IF(ISNUMBER(SEARCH(E325,\"a\")),\"US\",\"UU\")),\"\"))","v":""},"","",{"$f":"IF(A325=\"\",\"\",A325)","v":""},{"$f":"#REF!","v":{"$error":"#REF!"}},1,"",null,null,null,null,null,null,null,null,null,null,null,null,null,null,null,null,null,null,null,null,null,null,null,null,null,null,null,null,null,null,null,null,null,null,null,null,null,null,null,null,null,null,null,null,null,null,null,null,null,null,null,null,null,null,null,null,null,null,null,null,null,null,null,null,null,null,null,null,null,null,null,null,null,null,null,null,null,null,null,null,null,null,null,null,null,null,null,null,null,null,null,null,null,null,null,null,null,null,null,null,null,null,null,null,null,null,null,null,null,null,null,null,null,null,null,null,null,null,null,null,null,null,null,null,null,null,null,null,{"$f":"IF(B325=\"\",\"\",B325+1)","v":""}]
[null,null,null,null,null,null,null,null,null,null,{"$f":"IF(A326=\"\",\"\",K$5+Header!C$6*(A326-1))","v":""},null,"","",{"$f":"IF(M326=\"\",N326,M326)","v":""},{"$f":"IF($O326=\"cs\",1,IF($O326=\"cu\",2,IF($O326=\"us\",3,IF($O326=\"uu\",4,\"\"))))","v":""},"",{"$f":"#REF!","v":{"$error":"#REF!"}},{"$f":"IF(A326>A325,A326,S325)","v":1},{"$f":"IF(Q326<>\"\",SUMIF(S:S,Q326,R:R),\"\")","v":""},null,null,null,null,null,null,null,null,null,null,null,null,null,null,null,null,null,null,null,null,null,null,null,null,null,null,null,null,null,null,null,null,null,null,null,null,null,null,null,null,null,null,null,null,null,null,null,null,null,null,null,null,null,null,null,null,null,null,null,null,null,null,null,null,null,null,null,null,null,null,null,null,null,null,null,null,null,null,null,null,null,null,null,null,null,null,null,null,null,null,null,null,null,null,null,null,null,null,null,null,null,null,null,null,null,null,null,null,null,null,null,null,null,null,null,null,null,null,null,null,null,null,null,null,null,null,null,null,""]
[null,null,null,null,null,null,null,null,null,null,{"$f":"IF(A327=\"\",\"\",K$5+Header!C$6*(A327-1))","v":""},null,"","","","","",{"$f":"#REF!","v":{"$error":"#REF!"}},1,"",null,null,null,null,null,null,null,null,null,null,null,null,null,null,null,null,null,null,null,null,null,null,null,null,null,null,null,null,null,null,null,null,null,null,null,null,null,null,null,null,null,null,null,null,null,null,null,null,null,null,null,null,null,null,null,null,null,null,null,null,null,null,null,null,null,null,null,null,null,null,null,null,null,null,null,null,null,null,null,null,null,null,null,null,null,null,null,null,null,null,null,null,null,null,null,null,null,null,null,null,null,null,null,null,null,null,null,null,null,null,null,null,null,null,null,null,null,null,null,null,null,null,null,null,null,null,null,null,""]
[null,null,null,null,null,null,null,null,null,null,{"$f":"IF(A328=\"\",\"\",K$5+Header!C$6*(A328-1))","v":""},null,"","","","","",{"$f":"#REF!","v":{"$error":"#REF!"}},1,"",null,null,null,null,null,null,null,null,null,null,null,null,null,null,null,null,null,null,null,null,null,null,null,null,null,null,null,null,null,null,null,null,null,null,null,null,null,null,null,null,null,null,null,null,null,null,null,null,null,null,null,null,null,null,null,null,null,null,null,null,null,null,null,null,null,null,null,null,null,null,null,null,null,null,null,null,null,null,null,null,null,null,null,null,null,null,null,null,null,null,null,null,null,null,null,null,null,null,null,null,null,null,null,null,null,null,null,null,null,null,null,null,null,null,null,null,null,null,null,null,null,null,null,null,null,null,null,null,""]
[null,null,null,null,null,null,null,null,null,null,{"$f":"IF(A329=\"\",\"\",K$5+Header!C$6*(A329-1))","v":""},null,"","","","","",{"$f":"#REF!","v":{"$error":"#REF!"}},1,"",null,null,null,null,null,null,null,null,null,null,null,null,null,null,null,null,null,null,null,null,null,null,null,null,null,null,null,null,null,null,null,null,null,null,null,null,null,null,null,null,null,null,null,null,null,null,null,null,null,null,null,null,null,null,null,null,null,null,null,null,null,null,null,null,null,null,null,null,null,null,null,null,null,null,null,null,null,null,null,null,null,null,null,null,null,null,null,null,null,null,null,null,null,null,null,null,null,null,null,null,null,null,null,null,null,null,null,null,null,null,null,null,null,null,null,null,null,null,null,null,null,null,null,null,null,null,null,null,""]
[null,null,null,null,null,null,null,null,null,null,{"$f":"IF(A330=\"\",\"\",K$5+Header!C$6*(A330-1))","v":""},null,"","","","","",{"$f":"#REF!","v":{"$error":"#REF!"}},1,"",null,null,null,null,null,null,null,null,null,null,null,null,null,null,null,null,null,null,null,null,null,null,null,null,null,null,null,null,null,null,null,null,null,null,null,null,null,null,null,null,null,null,null,null,null,null,null,null,null,null,null,null,null,null,null,null,null,null,null,null,null,null,null,null,null,null,null,null,null,null,null,null,null,null,null,null,null,null,null,null,null,null,null,null,null,null,null,null,null,null,null,null,null,null,null,null,null,null,null,null,null,null,null,null,null,null,null,null,null,null,null,null,null,null,null,null,null,null,null,null,null,null,null,null,null,null,null,null,""]
[null,null,null,null,null,null,null,null,null,null,{"$f":"IF(A331=\"\",\"\",K$5+Header!C$6*(A331-1))","v":""},null,"","","","","",{"$f":"#REF!","v":{"$error":"#REF!"}},1,"",null,null,null,null,null,null,null,null,null,null,null,null,null,null,null,null,null,null,null,null,null,null,null,null,null,null,null,null,null,null,null,null,null,null,null,null,null,null,null,null,null,null,null,null,null,null,null,null,null,null,null,null,null,null,null,null,null,null,null,null,null,null,null,null,null,null,null,null,null,null,null,null,null,null,null,null,null,null,null,null,null,null,null,null,null,null,null,null,null,null,null,null,null,null,null,null,null,null,null,null,null,null,null,null,null,null,null,null,null,null,null,null,null,null,null,null,null,null,null,null,null,null,null,null,null,null,null,null,""]
[null,null,null,null,null,null,null,null,null,null,{"$f":"IF(A332=\"\",\"\",K$5+Header!C$6*(A332-1))","v":""},null,"","","","","",{"$f":"#REF!","v":{"$error":"#REF!"}},1,"",null,null,null,null,null,null,null,null,null,null,null,null,null,null,null,null,null,null,null,null,null,null,null,null,null,null,null,null,null,null,null,null,null,null,null,null,null,null,null,null,null,null,null,null,null,null,null,null,null,null,null,null,null,null,null,null,null,null,null,null,null,null,null,null,null,null,null,null,null,null,null,null,null,null,null,null,null,null,null,null,null,null,null,null,null,null,null,null,null,null,null,null,null,null,null,null,null,null,null,null,null,null,null,null,null,null,null,null,null,null,null,null,null,null,null,null,null,null,null,null,null,null,null,null,null,null,null,null,""]
[null,null,null,null,null,null,null,null,null,null,{"$f":"IF(A333=\"\",\"\",K$5+Header!C$6*(A333-1))","v":""},null,"","","","","",{"$f":"#REF!","v":{"$error":"#REF!"}},1,"",null,null,null,null,null,null,null,null,null,null,null,null,null,null,null,null,null,null,null,null,null,null,null,null,null,null,null,null,null,null,null,null,null,null,null,null,null,null,null,null,null,null,null,null,null,null,null,null,null,null,null,null,null,null,null,null,null,null,null,null,null,null,null,null,null,null,null,null,null,null,null,null,null,null,null,null,null,null,null,null,null,null,null,null,null,null,null,null,null,null,null,null,null,null,null,null,null,null,null,null,null,null,null,null,null,null,null,null,null,null,null,null,null,null,null,null,null,null,null,null,null,null,null,null,null,null,null,null,""]
[null,null,null,null,null,null,null,null,null,null,{"$f":"IF(A334=\"\",\"\",K$5+Header!C$6*(A334-1))","v":""},null,"","","","","",{"$f":"#REF!","v":{"$error":"#REF!"}},1,"",null,null,null,null,null,null,null,null,null,null,null,null,null,null,null,null,null,null,null,null,null,null,null,null,null,null,null,null,null,null,null,null,null,null,null,null,null,null,null,null,null,null,null,null,null,null,null,null,null,null,null,null,null,null,null,null,null,null,null,null,null,null,null,null,null,null,null,null,null,null,null,null,null,null,null,null,null,null,null,null,null,null,null,null,null,null,null,null,null,null,null,null,null,null,null,null,null,null,null,null,null,null,null,null,null,null,null,null,null,null,null,null,null,null,null,null,null,null,null,null,null,null,null,null,null,null,null,null,""]
[null,null,null,null,null,null,null,null,null,null,{"$f":"IF(A335=\"\",\"\",K$5+Header!C$6*(A335-1))","v":""},null,"","","","","",{"$f":"#REF!","v":{"$error":"#REF!"}},1,"",null,null,null,null,null,null,null,null,null,null,null,null,null,null,null,null,null,null,null,null,null,null,null,null,null,null,null,null,null,null,null,null,null,null,null,null,null,null,null,null,null,null,null,null,null,null,null,null,null,null,null,null,null,null,null,null,null,null,null,null,null,null,null,null,null,null,null,null,null,null,null,null,null,null,null,null,null,null,null,null,null,null,null,null,null,null,null,null,null,null,null,null,null,null,null,null,null,null,null,null,null,null,null,null,null,null,null,null,null,null,null,null,null,null,null,null,null,null,null,null,null,null,null,null,null,null,null,null,""]
[null,null,null,null,null,null,null,null,null,null,{"$f":"IF(A336=\"\",\"\",K$5+Header!C$6*(A336-1))","v":""},null,"","","","","",{"$f":"#REF!","v":{"$error":"#REF!"}},1,"",null,null,null,null,null,null,null,null,null,null,null,null,null,null,null,null,null,null,null,null,null,null,null,null,null,null,null,null,null,null,null,null,null,null,null,null,null,null,null,null,null,null,null,null,null,null,null,null,null,null,null,null,null,null,null,null,null,null,null,null,null,null,null,null,null,null,null,null,null,null,null,null,null,null,null,null,null,null,null,null,null,null,null,null,null,null,null,null,null,null,null,null,null,null,null,null,null,null,null,null,null,null,null,null,null,null,null,null,null,null,null,null,null,null,null,null,null,null,null,null,null,null,null,null,null,null,null,null,""]
[null,null,null,null,null,null,null,null,null,null,{"$f":"IF(A337=\"\",\"\",K$5+Header!C$6*(A337-1))","v":""},null,"","","","","",{"$f":"#REF!","v":{"$error":"#REF!"}},1,"",null,null,null,null,null,null,null,null,null,null,null,null,null,null,null,null,null,null,null,null,null,null,null,null,null,null,null,null,null,null,null,null,null,null,null,null,null,null,null,null,null,null,null,null,null,null,null,null,null,null,null,null,null,null,null,null,null,null,null,null,null,null,null,null,null,null,null,null,null,null,null,null,null,null,null,null,null,null,null,null,null,null,null,null,null,null,null,null,null,null,null,null,null,null,null,null,null,null,null,null,null,null,null,null,null,null,null,null,null,null,null,null,null,null,null,null,null,null,null,null,null,null,null,null,null,null,null,null,""]
[null,null,null,null,null,null,null,null,null,null,{"$f":"IF(A338=\"\",\"\",K$5+Header!C$6*(A338-1))","v":""},null,"","","","","",{"$f":"#REF!","v":{"$error":"#REF!"}},1,"",null,null,null,null,null,null,null,null,null,null,null,null,null,null,null,null,null,null,null,null,null,null,null,null,null,null,null,null,null,null,null,null,null,null,null,null,null,null,null,null,null,null,null,null,null,null,null,null,null,null,null,null,null,null,null,null,null,null,null,null,null,null,null,null,null,null,null,null,null,null,null,null,null,null,null,null,null,null,null,null,null,null,null,null,null,null,null,null,null,null,null,null,null,null,null,null,null,null,null,null,null,null,null,null,null,null,null,null,null,null,null,null,null,null,null,null,null,null,null,null,null,null,null,null,null,null,null,null,""]
[null,null,null,null,null,null,null,null,null,null,{"$f":"IF(A339=\"\",\"\",K$5+Header!C$6*(A339-1))","v":""},null,"","","","","",{"$f":"#REF!","v":{"$error":"#REF!"}},1,"",null,null,null,null,null,null,null,null,null,null,null,null,null,null,null,null,null,null,null,null,null,null,null,null,null,null,null,null,null,null,null,null,null,null,null,null,null,null,null,null,null,null,null,null,null,null,null,null,null,null,null,null,null,null,null,null,null,null,null,null,null,null,null,null,null,null,null,null,null,null,null,null,null,null,null,null,null,null,null,null,null,null,null,null,null,null,null,null,null,null,null,null,null,null,null,null,null,null,null,null,null,null,null,null,null,null,null,null,null,null,null,null,null,null,null,null,null,null,null,null,null,null,null,null,null,null,null,null,""]
[null,null,null,null,null,null,null,null,null,null,{"$f":"IF(A340=\"\",\"\",K$5+Header!C$6*(A340-1))","v":""},null,"","","","","",{"$f":"#REF!","v":{"$error":"#REF!"}},1,"",null,null,null,null,null,null,null,null,null,null,null,null,null,null,null,null,null,null,null,null,null,null,null,null,null,null,null,null,null,null,null,null,null,null,null,null,null,null,null,null,null,null,null,null,null,null,null,null,null,null,null,null,null,null,null,null,null,null,null,null,null,null,null,null,null,null,null,null,null,null,null,null,null,null,null,null,null,null,null,null,null,null,null,null,null,null,null,null,null,null,null,null,null,null,null,null,null,null,null,null,null,null,null,null,null,null,null,null,null,null,null,null,null,null,null,null,null,null,null,null,null,null,null,null,null,null,null,null,""]
[null,null,null,null,null,null,null,null,null,null,{"$f":"IF(A341=\"\",\"\",K$5+Header!C$6*(A341-1))","v":""},null,"","","","","",{"$f":"#REF!","v":{"$error":"#REF!"}},1,"",null,null,null,null,null,null,null,null,null,null,null,null,null,null,null,null,null,null,null,null,null,null,null,null,null,null,null,null,null,null,null,null,null,null,null,null,null,null,null,null,null,null,null,null,null,null,null,null,null,null,null,null,null,null,null,null,null,null,null,null,null,null,null,null,null,null,null,null,null,null,null,null,null,null,null,null,null,null,null,null,null,null,null,null,null,null,null,null,null,null,null,null,null,null,null,null,null,null,null,null,null,null,null,null,null,null,null,null,null,null,null,null,null,null,null,null,null,null,null,null,null,null,null,null,null,null,null,null,""]
[null,null,null,null,null,null,null,null,null,null,{"$f":"IF(A342=\"\",\"\",K$5+Header!C$6*(A342-1))","v":""},null,"","","","","",{"$f":"#REF!","v":{"$error":"#REF!"}},1,"",null,null,null,null,null,null,null,null,null,null,null,null,null,null,null,null,null,null,null,null,null,null,null,null,null,null,null,null,null,null,null,null,null,null,null,null,null,null,null,null,null,null,null,null,null,null,null,null,null,null,null,null,null,null,null,null,null,null,null,null,null,null,null,null,null,null,null,null,null,null,null,null,null,null,null,null,null,null,null,null,null,null,null,null,null,null,null,null,null,null,null,null,null,null,null,null,null,null,null,null,null,null,null,null,null,null,null,null,null,null,null,null,null,null,null,null,null,null,null,null,null,null,null,null,null,null,null,null,""]
[null,null,null,null,null,null,null,null,null,null,{"$f":"IF(A343=\"\",\"\",K$5+Header!C$6*(A343-1))","v":""},null,"","","","","",{"$f":"#REF!","v":{"$error":"#REF!"}},1,"",null,null,null,null,null,null,null,null,null,null,null,null,null,null,null,null,null,null,null,null,null,null,null,null,null,null,null,null,null,null,null,null,null,null,null,null,null,null,null,null,null,null,null,null,null,null,null,null,null,null,null,null,null,null,null,null,null,null,null,null,null,null,null,null,null,null,null,null,null,null,null,null,null,null,null,null,null,null,null,null,null,null,null,null,null,null,null,null,null,null,null,null,null,null,null,null,null,null,null,null,null,null,null,null,null,null,null,null,null,null,null,null,null,null,null,null,null,null,null,null,null,null,null,null,null,null,null,null,""]
[null,null,null,null,null,null,null,null,null,null,{"$f":"IF(A344=\"\",\"\",K$5+Header!C$6*(A344-1))","v":""},null,"","","","","",{"$f":"#REF!","v":{"$error":"#REF!"}},1,"",null,null,null,null,null,null,null,null,null,null,null,null,null,null,null,null,null,null,null,null,null,null,null,null,null,null,null,null,null,null,null,null,null,null,null,null,null,null,null,null,null,null,null,null,null,null,null,null,null,null,null,null,null,null,null,null,null,null,null,null,null,null,null,null,null,null,null,null,null,null,null,null,null,null,null,null,null,null,null,null,null,null,null,null,null,null,null,null,null,null,null,null,null,null,null,null,null,null,null,null,null,null,null,null,null,null,null,null,null,null,null,null,null,null,null,null,null,null,null,null,null,null,null,null,null,null,null,null,""]
[null,null,null,null,null,null,null,null,null,null,{"$f":"IF(A345=\"\",\"\",K$5+Header!C$6*(A345-1))","v":""},null,"","","","","",{"$f":"#REF!","v":{"$error":"#REF!"}},1,"",null,null,null,null,null,null,null,null,null,null,null,null,null,null,null,null,null,null,null,null,null,null,null,null,null,null,null,null,null,null,null,null,null,null,null,null,null,null,null,null,null,null,null,null,null,null,null,null,null,null,null,null,null,null,null,null,null,null,null,null,null,null,null,null,null,null,null,null,null,null,null,null,null,null,null,null,null,null,null,null,null,null,null,null,null,null,null,null,null,null,null,null,null,null,null,null,null,null,null,null,null,null,null,null,null,null,null,null,null,null,null,null,null,null,null,null,null,null,null,null,null,null,null,null,null,null,null,null,""]
[null,null,null,null,null,null,null,null,null,null,{"$f":"IF(A346=\"\",\"\",K$5+Header!C$6*(A346-1))","v":""},null,"","","","","",{"$f":"#REF!","v":{"$error":"#REF!"}},1,"",null,null,null,null,null,null,null,null,null,null,null,null,null,null,null,null,null,null,null,null,null,null,null,null,null,null,null,null,null,null,null,null,null,null,null,null,null,null,null,null,null,null,null,null,null,null,null,null,null,null,null,null,null,null,null,null,null,null,null,null,null,null,null,null,null,null,null,null,null,null,null,null,null,null,null,null,null,null,null,null,null,null,null,null,null,null,null,null,null,null,null,null,null,null,null,null,null,null,null,null,null,null,null,null,null,null,null,null,null,null,null,null,null,null,null,null,null,null,null,null,null,null,null,null,null,null,null,null,""]
[null,null,null,null,null,null,null,null,null,null,{"$f":"IF(A347=\"\",\"\",K$5+Header!C$6*(A347-1))","v":""},null,"","","","","",{"$f":"#REF!","v":{"$error":"#REF!"}},1,"",null,null,null,null,null,null,null,null,null,null,null,null,null,null,null,null,null,null,null,null,null,null,null,null,null,null,null,null,null,null,null,null,null,null,null,null,null,null,null,null,null,null,null,null,null,null,null,null,null,null,null,null,null,null,null,null,null,null,null,null,null,null,null,null,null,null,null,null,null,null,null,null,null,null,null,null,null,null,null,null,null,null,null,null,null,null,null,null,null,null,null,null,null,null,null,null,null,null,null,null,null,null,null,null,null,null,null,null,null,null,null,null,null,null,null,null,null,null,null,null,null,null,null,null,null,null,null,null,""]
[null,null,null,null,null,null,null,null,null,null,{"$f":"IF(A348=\"\",\"\",K$5+Header!C$6*(A348-1))","v":""},null,"","","","","",{"$f":"#REF!","v":{"$error":"#REF!"}},1,"",null,null,null,null,null,null,null,null,null,null,null,null,null,null,null,null,null,null,null,null,null,null,null,null,null,null,null,null,null,null,null,null,null,null,null,null,null,null,null,null,null,null,null,null,null,null,null,null,null,null,null,null,null,null,null,null,null,null,null,null,null,null,null,null,null,null,null,null,null,null,null,null,null,null,null,null,null,null,null,null,null,null,null,null,null,null,null,null,null,null,null,null,null,null,null,null,null,null,null,null,null,null,null,null,null,null,null,null,null,null,null,null,null,null,null,null,null,null,null,null,null,null,null,null,null,null,null,null,""]
[null,null,null,null,null,null,null,null,null,null,{"$f":"IF(A349=\"\",\"\",K$5+Header!C$6*(A349-1))","v":""},null,"","","","","",{"$f":"#REF!","v":{"$error":"#REF!"}},1,"",null,null,null,null,null,null,null,null,null,null,null,null,null,null,null,null,null,null,null,null,null,null,null,null,null,null,null,null,null,null,null,null,null,null,null,null,null,null,null,null,null,null,null,null,null,null,null,null,null,null,null,null,null,null,null,null,null,null,null,null,null,null,null,null,null,null,null,null,null,null,null,null,null,null,null,null,null,null,null,null,null,null,null,null,null,null,null,null,null,null,null,null,null,null,null,null,null,null,null,null,null,null,null,null,null,null,null,null,null,null,null,null,null,null,null,null,null,null,null,null,null,null,null,null,null,null,null,null,""]
[null,null,null,null,null,null,null,null,null,null,{"$f":"IF(A350=\"\",\"\",K$5+Header!C$6*(A350-1))","v":""},null,"","","","","",{"$f":"#REF!","v":{"$error":"#REF!"}},1,"",null,null,null,null,null,null,null,null,null,null,null,null,null,null,null,null,null,null,null,null,null,null,null,null,null,null,null,null,null,null,null,null,null,null,null,null,null,null,null,null,null,null,null,null,null,null,null,null,null,null,null,null,null,null,null,null,null,null,null,null,null,null,null,null,null,null,null,null,null,null,null,null,null,null,null,null,null,null,null,null,null,null,null,null,null,null,null,null,null,null,null,null,null,null,null,null,null,null,null,null,null,null,null,null,null,null,null,null,null,null,null,null,null,null,null,null,null,null,null,null,null,null,null,null,null,null,null,null,""]
[null,null,null,null,null,null,null,null,null,null,{"$f":"IF(A351=\"\",\"\",K$5+Header!C$6*(A351-1))","v":""},null,"","","","","",{"$f":"#REF!","v":{"$error":"#REF!"}},1,"",null,null,null,null,null,null,null,null,null,null,null,null,null,null,null,null,null,null,null,null,null,null,null,null,null,null,null,null,null,null,null,null,null,null,null,null,null,null,null,null,null,null,null,null,null,null,null,null,null,null,null,null,null,null,null,null,null,null,null,null,null,null,null,null,null,null,null,null,null,null,null,null,null,null,null,null,null,null,null,null,null,null,null,null,null,null,null,null,null,null,null,null,null,null,null,null,null,null,null,null,null,null,null,null,null,null,null,null,null,null,null,null,null,null,null,null,null,null,null,null,null,null,null,null,null,null,null,null,""]
[null,null,null,null,null,null,null,null,null,null,{"$f":"IF(A352=\"\",\"\",K$5+Header!C$6*(A352-1))","v":""},null,"","","","","",{"$f":"#REF!","v":{"$error":"#REF!"}},1,"",null,null,null,null,null,null,null,null,null,null,null,null,null,null,null,null,null,null,null,null,null,null,null,null,null,null,null,null,null,null,null,null,null,null,null,null,null,null,null,null,null,null,null,null,null,null,null,null,null,null,null,null,null,null,null,null,null,null,null,null,null,null,null,null,null,null,null,null,null,null,null,null,null,null,null,null,null,null,null,null,null,null,null,null,null,null,null,null,null,null,null,null,null,null,null,null,null,null,null,null,null,null,null,null,null,null,null,null,null,null,null,null,null,null,null,null,null,null,null,null,null,null,null,null,null,null,null,null,""]
[null,null,null,null,null,null,null,null,null,null,{"$f":"IF(A353=\"\",\"\",K$5+Header!C$6*(A353-1))","v":""},null,"","","","","",{"$f":"#REF!","v":{"$error":"#REF!"}},1,"",null,null,null,null,null,null,null,null,null,null,null,null,null,null,null,null,null,null,null,null,null,null,null,null,null,null,null,null,null,null,null,null,null,null,null,null,null,null,null,null,null,null,null,null,null,null,null,null,null,null,null,null,null,null,null,null,null,null,null,null,null,null,null,null,null,null,null,null,null,null,null,null,null,null,null,null,null,null,null,null,null,null,null,null,null,null,null,null,null,null,null,null,null,null,null,null,null,null,null,null,null,null,null,null,null,null,null,null,null,null,null,null,null,null,null,null,null,null,null,null,null,null,null,null,null,null,null,null,""]
[null,null,null,null,null,null,null,null,null,null,{"$f":"IF(A354=\"\",\"\",K$5+Header!C$6*(A354-1))","v":""},null,"","","","","",{"$f":"#REF!","v":{"$error":"#REF!"}},1,"",null,null,null,null,null,null,null,null,null,null,null,null,null,null,null,null,null,null,null,null,null,null,null,null,null,null,null,null,null,null,null,null,null,null,null,null,null,null,null,null,null,null,null,null,null,null,null,null,null,null,null,null,null,null,null,null,null,null,null,null,null,null,null,null,null,null,null,null,null,null,null,null,null,null,null,null,null,null,null,null,null,null,null,null,null,null,null,null,null,null,null,null,null,null,null,null,null,null,null,null,null,null,null,null,null,null,null,null,null,null,null,null,null,null,null,null,null,null,null,null,null,null,null,null,null,null,null,null,""]
[null,null,null,null,null,null,null,null,null,null,{"$f":"IF(A355=\"\",\"\",K$5+Header!C$6*(A355-1))","v":""},null,"","","","","",{"$f":"#REF!","v":{"$error":"#REF!"}},1,"",null,null,null,null,null,null,null,null,null,null,null,null,null,null,null,null,null,null,null,null,null,null,null,null,null,null,null,null,null,null,null,null,null,null,null,null,null,null,null,null,null,null,null,null,null,null,null,null,null,null,null,null,null,null,null,null,null,null,null,null,null,null,null,null,null,null,null,null,null,null,null,null,null,null,null,null,null,null,null,null,null,null,null,null,null,null,null,null,null,null,null,null,null,null,null,null,null,null,null,null,null,null,null,null,null,null,null,null,null,null,null,null,null,null,null,null,null,null,null,null,null,null,null,null,null,null,null,null,""]
[null,null,null,null,null,null,null,null,null,null,{"$f":"IF(A356=\"\",\"\",K$5+Header!C$6*(A356-1))","v":""},null,"","","","","",{"$f":"#REF!","v":{"$error":"#REF!"}},1,"",null,null,null,null,null,null,null,null,null,null,null,null,null,null,null,null,null,null,null,null,null,null,null,null,null,null,null,null,null,null,null,null,null,null,null,null,null,null,null,null,null,null,null,null,null,null,null,null,null,null,null,null,null,null,null,null,null,null,null,null,null,null,null,null,null,null,null,null,null,null,null,null,null,null,null,null,null,null,null,null,null,null,null,null,null,null,null,null,null,null,null,null,null,null,null,null,null,null,null,null,null,null,null,null,null,null,null,null,null,null,null,null,null,null,null,null,null,null,null,null,null,null,null,null,null,null,null,null,""]
[null,null,null,null,null,null,null,null,null,null,{"$f":"IF(A357=\"\",\"\",K$5+Header!C$6*(A357-1))","v":""},null,"","","","","",{"$f":"#REF!","v":{"$error":"#REF!"}},1,"",null,null,null,null,null,null,null,null,null,null,null,null,null,null,null,null,null,null,null,null,null,null,null,null,null,null,null,null,null,null,null,null,null,null,null,null,null,null,null,null,null,null,null,null,null,null,null,null,null,null,null,null,null,null,null,null,null,null,null,null,null,null,null,null,null,null,null,null,null,null,null,null,null,null,null,null,null,null,null,null,null,null,null,null,null,null,null,null,null,null,null,null,null,null,null,null,null,null,null,null,null,null,null,null,null,null,null,null,null,null,null,null,null,null,null,null,null,null,null,null,null,null,null,null,null,null,null,null,""]
[null,null,null,null,null,null,null,null,null,null,{"$f":"IF(A358=\"\",\"\",K$5+Header!C$6*(A358-1))","v":""},null,"","","","","",{"$f":"#REF!","v":{"$error":"#REF!"}},1,"",null,null,null,null,null,null,null,null,null,null,null,null,null,null,null,null,null,null,null,null,null,null,null,null,null,null,null,null,null,null,null,null,null,null,null,null,null,null,null,null,null,null,null,null,null,null,null,null,null,null,null,null,null,null,null,null,null,null,null,null,null,null,null,null,null,null,null,null,null,null,null,null,null,null,null,null,null,null,null,null,null,null,null,null,null,null,null,null,null,null,null,null,null,null,null,null,null,null,null,null,null,null,null,null,null,null,null,null,null,null,null,null,null,null,null,null,null,null,null,null,null,null,null,null,null,null,null,null,""]
[null,null,null,null,null,null,null,null,null,null,{"$f":"IF(A359=\"\",\"\",K$5+Header!C$6*(A359-1))","v":""},null,"","","","","",{"$f":"#REF!","v":{"$error":"#REF!"}},1,"",null,null,null,null,null,null,null,null,null,null,null,null,null,null,null,null,null,null,null,null,null,null,null,null,null,null,null,null,null,null,null,null,null,null,null,null,null,null,null,null,null,null,null,null,null,null,null,null,null,null,null,null,null,null,null,null,null,null,null,null,null,null,null,null,null,null,null,null,null,null,null,null,null,null,null,null,null,null,null,null,null,null,null,null,null,null,null,null,null,null,null,null,null,null,null,null,null,null,null,null,null,null,null,null,null,null,null,null,null,null,null,null,null,null,null,null,null,null,null,null,null,null,null,null,null,null,null,null,""]
[null,null,null,null,null,null,null,null,null,null,{"$f":"IF(A360=\"\",\"\",K$5+Header!C$6*(A360-1))","v":""},null,"","","","","",{"$f":"#REF!","v":{"$error":"#REF!"}},1,"",null,null,null,null,null,null,null,null,null,null,null,null,null,null,null,null,null,null,null,null,null,null,null,null,null,null,null,null,null,null,null,null,null,null,null,null,null,null,null,null,null,null,null,null,null,null,null,null,null,null,null,null,null,null,null,null,null,null,null,null,null,null,null,null,null,null,null,null,null,null,null,null,null,null,null,null,null,null,null,null,null,null,null,null,null,null,null,null,null,null,null,null,null,null,null,null,null,null,null,null,null,null,null,null,null,null,null,null,null,null,null,null,null,null,null,null,null,null,null,null,null,null,null,null,null,null,null,null,""]
[null,null,null,null,null,null,null,null,null,null,{"$f":"IF(A361=\"\",\"\",K$5+Header!C$6*(A361-1))","v":""},null,"","","","","",{"$f":"#REF!","v":{"$error":"#REF!"}},1,"",null,null,null,null,null,null,null,null,null,null,null,null,null,null,null,null,null,null,null,null,null,null,null,null,null,null,null,null,null,null,null,null,null,null,null,null,null,null,null,null,null,null,null,null,null,null,null,null,null,null,null,null,null,null,null,null,null,null,null,null,null,null,null,null,null,null,null,null,null,null,null,null,null,null,null,null,null,null,null,null,null,null,null,null,null,null,null,null,null,null,null,null,null,null,null,null,null,null,null,null,null,null,null,null,null,null,null,null,null,null,null,null,null,null,null,null,null,null,null,null,null,null,null,null,null,null,null,null,""]
[null,null,null,null,null,null,null,null,null,null,{"$f":"IF(A362=\"\",\"\",K$5+Header!C$6*(A362-1))","v":""},null,"","","","","",{"$f":"#REF!","v":{"$error":"#REF!"}},1,"",null,null,null,null,null,null,null,null,null,null,null,null,null,null,null,null,null,null,null,null,null,null,null,null,null,null,null,null,null,null,null,null,null,null,null,null,null,null,null,null,null,null,null,null,null,null,null,null,null,null,null,null,null,null,null,null,null,null,null,null,null,null,null,null,null,null,null,null,null,null,null,null,null,null,null,null,null,null,null,null,null,null,null,null,null,null,null,null,null,null,null,null,null,null,null,null,null,null,null,null,null,null,null,null,null,null,null,null,null,null,null,null,null,null,null,null,null,null,null,null,null,null,null,null,null,null,null,null,""]
[null,null,null,null,null,null,null,null,null,null,{"$f":"IF(A363=\"\",\"\",K$5+Header!C$6*(A363-1))","v":""},null,"","","","","",{"$f":"#REF!","v":{"$error":"#REF!"}},1,"",null,null,null,null,null,null,null,null,null,null,null,null,null,null,null,null,null,null,null,null,null,null,null,null,null,null,null,null,null,null,null,null,null,null,null,null,null,null,null,null,null,null,null,null,null,null,null,null,null,null,null,null,null,null,null,null,null,null,null,null,null,null,null,null,null,null,null,null,null,null,null,null,null,null,null,null,null,null,null,null,null,null,null,null,null,null,null,null,null,null,null,null,null,null,null,null,null,null,null,null,null,null,null,null,null,null,null,null,null,null,null,null,null,null,null,null,null,null,null,null,null,null,null,null,null,null,null,null,""]
[null,null,null,null,null,null,null,null,null,null,{"$f":"IF(A364=\"\",\"\",K$5+Header!C$6*(A364-1))","v":""},null,"","",{"$f":"IF(M364=\"\",N364,M364)","v":""},"","",{"$f":"#REF!","v":{"$error":"#REF!"}},1,"",null,null,null,null,null,null,null,null,null,null,null,null,null,null,null,null,null,null,null,null,null,null,null,null,null,null,null,null,null,null,null,null,null,null,null,null,null,null,null,null,null,null,null,null,null,null,null,null,null,null,null,null,null,null,null,null,null,null,null,null,null,null,null,null,null,null,null,null,null,null,null,null,null,null,null,null,null,null,null,null,null,null,null,null,null,null,null,null,null,null,null,null,null,null,null,null,null,null,null,null,null,null,null,null,null,null,null,null,null,null,null,null,null,null,null,null,null,null,null,null,null,null,null,null,null,null,null,null,""]
[null,null,null,null,null,null,null,null,null,null,{"$f":"IF(A365=\"\",\"\",K$5+Header!C$6*(A365-1))","v":""},null,"","","","","",{"$f":"#REF!","v":{"$error":"#REF!"}},1,"",null,null,null,null,null,null,null,null,null,null,null,null,null,null,null,null,null,null,null,null,null,null,null,null,null,null,null,null,null,null,null,null,null,null,null,null,null,null,null,null,null,null,null,null,null,null,null,null,null,null,null,null,null,null,null,null,null,null,null,null,null,null,null,null,null,null,null,null,null,null,null,null,null,null,null,null,null,null,null,null,null,null,null,null,null,null,null,null,null,null,null,null,null,null,null,null,null,null,null,null,null,null,null,null,null,null,null,null,null,null,null,null,null,null,null,null,null,null,null,null,null,null,null,null,null,null,null,null,""]
[null,null,null,null,null,null,null,null,null,null,{"$f":"IF(A366=\"\",\"\",K$5+Header!C$6*(A366-1))","v":""},null,"","","","","",{"$f":"#REF!","v":{"$error":"#REF!"}},1,"",null,null,null,null,null,null,null,null,null,null,null,null,null,null,null,null,null,null,null,null,null,null,null,null,null,null,null,null,null,null,null,null,null,null,null,null,null,null,null,null,null,null,null,null,null,null,null,null,null,null,null,null,null,null,null,null,null,null,null,null,null,null,null,null,null,null,null,null,null,null,null,null,null,null,null,null,null,null,null,null,null,null,null,null,null,null,null,null,null,null,null,null,null,null,null,null,null,null,null,null,null,null,null,null,null,null,null,null,null,null,null,null,null,null,null,null,null,null,null,null,null,null,null,null,null,null,null,null,""]
[null,null,null,null,null,null,null,null,null,null,{"$f":"IF(A367=\"\",\"\",K$5+Header!C$6*(A367-1))","v":""},null,"","","","","",{"$f":"#REF!","v":{"$error":"#REF!"}},1,"",null,null,null,null,null,null,null,null,null,null,null,null,null,null,null,null,null,null,null,null,null,null,null,null,null,null,null,null,null,null,null,null,null,null,null,null,null,null,null,null,null,null,null,null,null,null,null,null,null,null,null,null,null,null,null,null,null,null,null,null,null,null,null,null,null,null,null,null,null,null,null,null,null,null,null,null,null,null,null,null,null,null,null,null,null,null,null,null,null,null,null,null,null,null,null,null,null,null,null,null,null,null,null,null,null,null,null,null,null,null,null,null,null,null,null,null,null,null,null,null,null,null,null,null,null,null,null,null,""]
[null,null,null,null,null,null,null,null,null,null,{"$f":"IF(A368=\"\",\"\",K$5+Header!C$6*(A368-1))","v":""},null,"","","","","",{"$f":"#REF!","v":{"$error":"#REF!"}},1,"",null,null,null,null,null,null,null,null,null,null,null,null,null,null,null,null,null,null,null,null,null,null,null,null,null,null,null,null,null,null,null,null,null,null,null,null,null,null,null,null,null,null,null,null,null,null,null,null,null,null,null,null,null,null,null,null,null,null,null,null,null,null,null,null,null,null,null,null,null,null,null,null,null,null,null,null,null,null,null,null,null,null,null,null,null,null,null,null,null,null,null,null,null,null,null,null,null,null,null,null,null,null,null,null,null,null,null,null,null,null,null,null,null,null,null,null,null,null,null,null,null,null,null,null,null,null,null,null,""]
[null,null,null,null,null,null,null,null,null,null,{"$f":"IF(A369=\"\",\"\",K$5+Header!C$6*(A369-1))","v":""},null,"","","","","",{"$f":"#REF!","v":{"$error":"#REF!"}},1,"",null,null,null,null,null,null,null,null,null,null,null,null,null,null,null,null,null,null,null,null,null,null,null,null,null,null,null,null,null,null,null,null,null,null,null,null,null,null,null,null,null,null,null,null,null,null,null,null,null,null,null,null,null,null,null,null,null,null,null,null,null,null,null,null,null,null,null,null,null,null,null,null,null,null,null,null,null,null,null,null,null,null,null,null,null,null,null,null,null,null,null,null,null,null,null,null,null,null,null,null,null,null,null,null,null,null,null,null,null,null,null,null,null,null,null,null,null,null,null,null,null,null,null,null,null,null,null,null,""]
[null,null,null,null,null,null,null,null,null,null,{"$f":"IF(A370=\"\",\"\",K$5+Header!C$6*(A370-1))","v":""},null,"","","","","",{"$f":"#REF!","v":{"$error":"#REF!"}},1,"",null,null,null,null,null,null,null,null,null,null,null,null,null,null,null,null,null,null,null,null,null,null,null,null,null,null,null,null,null,null,null,null,null,null,null,null,null,null,null,null,null,null,null,null,null,null,null,null,null,null,null,null,null,null,null,null,null,null,null,null,null,null,null,null,null,null,null,null,null,null,null,null,null,null,null,null,null,null,null,null,null,null,null,null,null,null,null,null,null,null,null,null,null,null,null,null,null,null,null,null,null,null,null,null,null,null,null,null,null,null,null,null,null,null,null,null,null,null,null,null,null,null,null,null,null,null,null,null,""]
[null,null,null,null,null,null,null,null,null,null,{"$f":"IF(A371=\"\",\"\",K$5+Header!C$6*(A371-1))","v":""},null,"","","","","",{"$f":"#REF!","v":{"$error":"#REF!"}},1,"",null,null,null,null,null,null,null,null,null,null,null,null,null,null,null,null,null,null,null,null,null,null,null,null,null,null,null,null,null,null,null,null,null,null,null,null,null,null,null,null,null,null,null,null,null,null,null,null,null,null,null,null,null,null,null,null,null,null,null,null,null,null,null,null,null,null,null,null,null,null,null,null,null,null,null,null,null,null,null,null,null,null,null,null,null,null,null,null,null,null,null,null,null,null,null,null,null,null,null,null,null,null,null,null,null,null,null,null,null,null,null,null,null,null,null,null,null,null,null,null,null,null,null,null,null,null,null,null,""]
[null,null,null,null,null,null,null,null,null,null,{"$f":"IF(A372=\"\",\"\",K$5+Header!C$6*(A372-1))","v":""},null,"","","","","",{"$f":"#REF!","v":{"$error":"#REF!"}},1,"",null,null,null,null,null,null,null,null,null,null,null,null,null,null,null,null,null,null,null,null,null,null,null,null,null,null,null,null,null,null,null,null,null,null,null,null,null,null,null,null,null,null,null,null,null,null,null,null,null,null,null,null,null,null,null,null,null,null,null,null,null,null,null,null,null,null,null,null,null,null,null,null,null,null,null,null,null,null,null,null,null,null,null,null,null,null,null,null,null,null,null,null,null,null,null,null,null,null,null,null,null,null,null,null,null,null,null,null,null,null,null,null,null,null,null,null,null,null,null,null,null,null,null,null,null,null,null,null,""]
[null,null,null,null,null,null,null,null,null,null,{"$f":"IF(A373=\"\",\"\",K$5+Header!C$6*(A373-1))","v":""},null,"","","","","",{"$f":"#REF!","v":{"$error":"#REF!"}},1,"",null,null,null,null,null,null,null,null,null,null,null,null,null,null,null,null,null,null,null,null,null,null,null,null,null,null,null,null,null,null,null,null,null,null,null,null,null,null,null,null,null,null,null,null,null,null,null,null,null,null,null,null,null,null,null,null,null,null,null,null,null,null,null,null,null,null,null,null,null,null,null,null,null,null,null,null,null,null,null,null,null,null,null,null,null,null,null,null,null,null,null,null,null,null,null,null,null,null,null,null,null,null,null,null,null,null,null,null,null,null,null,null,null,null,null,null,null,null,null,null,null,null,null,null,null,null,null,null,""]
[null,null,null,null,null,null,null,null,null,null,{"$f":"IF(A374=\"\",\"\",K$5+Header!C$6*(A374-1))","v":""},null,"","","","","",{"$f":"#REF!","v":{"$error":"#REF!"}},1,"",null,null,null,null,null,null,null,null,null,null,null,null,null,null,null,null,null,null,null,null,null,null,null,null,null,null,null,null,null,null,null,null,null,null,null,null,null,null,null,null,null,null,null,null,null,null,null,null,null,null,null,null,null,null,null,null,null,null,null,null,null,null,null,null,null,null,null,null,null,null,null,null,null,null,null,null,null,null,null,null,null,null,null,null,null,null,null,null,null,null,null,null,null,null,null,null,null,null,null,null,null,null,null,null,null,null,null,null,null,null,null,null,null,null,null,null,null,null,null,null,null,null,null,null,null,null,null,null,""]
[null,null,null,null,null,null,null,null,null,null,{"$f":"IF(A375=\"\",\"\",K$5+Header!C$6*(A375-1))","v":""},null,"","","","","",{"$f":"#REF!","v":{"$error":"#REF!"}},1,"",null,null,null,null,null,null,null,null,null,null,null,null,null,null,null,null,null,null,null,null,null,null,null,null,null,null,null,null,null,null,null,null,null,null,null,null,null,null,null,null,null,null,null,null,null,null,null,null,null,null,null,null,null,null,null,null,null,null,null,null,null,null,null,null,null,null,null,null,null,null,null,null,null,null,null,null,null,null,null,null,null,null,null,null,null,null,null,null,null,null,null,null,null,null,null,null,null,null,null,null,null,null,null,null,null,null,null,null,null,null,null,null,null,null,null,null,null,null,null,null,null,null,null,null,null,null,null,null,""]
[null,null,null,null,null,null,null,null,null,null,{"$f":"IF(A376=\"\",\"\",K$5+Header!C$6*(A376-1))","v":""},null,"","","","","",{"$f":"#REF!","v":{"$error":"#REF!"}},1,"",null,null,null,null,null,null,null,null,null,null,null,null,null,null,null,null,null,null,null,null,null,null,null,null,null,null,null,null,null,null,null,null,null,null,null,null,null,null,null,null,null,null,null,null,null,null,null,null,null,null,null,null,null,null,null,null,null,null,null,null,null,null,null,null,null,null,null,null,null,null,null,null,null,null,null,null,null,null,null,null,null,null,null,null,null,null,null,null,null,null,null,null,null,null,null,null,null,null,null,null,null,null,null,null,null,null,null,null,null,null,null,null,null,null,null,null,null,null,null,null,null,null,null,null,null,null,null,null,""]
[null,null,null,null,null,null,null,null,null,null,{"$f":"IF(A377=\"\",\"\",K$5+Header!C$6*(A377-1))","v":""},null,"","","","","",{"$f":"#REF!","v":{"$error":"#REF!"}},1,"",null,null,null,null,null,null,null,null,null,null,null,null,null,null,null,null,null,null,null,null,null,null,null,null,null,null,null,null,null,null,null,null,null,null,null,null,null,null,null,null,null,null,null,null,null,null,null,null,null,null,null,null,null,null,null,null,null,null,null,null,null,null,null,null,null,null,null,null,null,null,null,null,null,null,null,null,null,null,null,null,null,null,null,null,null,null,null,null,null,null,null,null,null,null,null,null,null,null,null,null,null,null,null,null,null,null,null,null,null,null,null,null,null,null,null,null,null,null,null,null,null,null,null,null,null,null,null,null,""]
[null,null,null,null,null,null,null,null,null,null,{"$f":"IF(A378=\"\",\"\",K$5+Header!C$6*(A378-1))","v":""},null,"","","","","",{"$f":"#REF!","v":{"$error":"#REF!"}},1,"",null,null,null,null,null,null,null,null,null,null,null,null,null,null,null,null,null,null,null,null,null,null,null,null,null,null,null,null,null,null,null,null,null,null,null,null,null,null,null,null,null,null,null,null,null,null,null,null,null,null,null,null,null,null,null,null,null,null,null,null,null,null,null,null,null,null,null,null,null,null,null,null,null,null,null,null,null,null,null,null,null,null,null,null,null,null,null,null,null,null,null,null,null,null,null,null,null,null,null,null,null,null,null,null,null,null,null,null,null,null,null,null,null,null,null,null,null,null,null,null,null,null,null,null,null,null,null,null,""]
[null,null,null,null,null,null,null,null,null,null,{"$f":"IF(A379=\"\",\"\",K$5+Header!C$6*(A379-1))","v":""},null,"","","","","",{"$f":"#REF!","v":{"$error":"#REF!"}},1,"",null,null,null,null,null,null,null,null,null,null,null,null,null,null,null,null,null,null,null,null,null,null,null,null,null,null,null,null,null,null,null,null,null,null,null,null,null,null,null,null,null,null,null,null,null,null,null,null,null,null,null,null,null,null,null,null,null,null,null,null,null,null,null,null,null,null,null,null,null,null,null,null,null,null,null,null,null,null,null,null,null,null,null,null,null,null,null,null,null,null,null,null,null,null,null,null,null,null,null,null,null,null,null,null,null,null,null,null,null,null,null,null,null,null,null,null,null,null,null,null,null,null,null,null,null,null,null,null,""]
[null,null,null,null,null,null,null,null,null,null,{"$f":"IF(A380=\"\",\"\",K$5+Header!C$6*(A380-1))","v":""},null,"","","","","",{"$f":"#REF!","v":{"$error":"#REF!"}},1,"",null,null,null,null,null,null,null,null,null,null,null,null,null,null,null,null,null,null,null,null,null,null,null,null,null,null,null,null,null,null,null,null,null,null,null,null,null,null,null,null,null,null,null,null,null,null,null,null,null,null,null,null,null,null,null,null,null,null,null,null,null,null,null,null,null,null,null,null,null,null,null,null,null,null,null,null,null,null,null,null,null,null,null,null,null,null,null,null,null,null,null,null,null,null,null,null,null,null,null,null,null,null,null,null,null,null,null,null,null,null,null,null,null,null,null,null,null,null,null,null,null,null,null,null,null,null,null,null,""]
[null,null,null,null,null,null,null,null,null,null,{"$f":"IF(A381=\"\",\"\",K$5+Header!C$6*(A381-1))","v":""},null,"","","","","",{"$f":"#REF!","v":{"$error":"#REF!"}},1,"",null,null,null,null,null,null,null,null,null,null,null,null,null,null,null,null,null,null,null,null,null,null,null,null,null,null,null,null,null,null,null,null,null,null,null,null,null,null,null,null,null,null,null,null,null,null,null,null,null,null,null,null,null,null,null,null,null,null,null,null,null,null,null,null,null,null,null,null,null,null,null,null,null,null,null,null,null,null,null,null,null,null,null,null,null,null,null,null,null,null,null,null,null,null,null,null,null,null,null,null,null,null,null,null,null,null,null,null,null,null,null,null,null,null,null,null,null,null,null,null,null,null,null,null,null,null,null,null,""]
[null,null,null,null,null,null,null,null,null,null,{"$f":"IF(A382=\"\",\"\",K$5+Header!C$6*(A382-1))","v":""},null,"","","","","",{"$f":"#REF!","v":{"$error":"#REF!"}},1,"",null,null,null,null,null,null,null,null,null,null,null,null,null,null,null,null,null,null,null,null,null,null,null,null,null,null,null,null,null,null,null,null,null,null,null,null,null,null,null,null,null,null,null,null,null,null,null,null,null,null,null,null,null,null,null,null,null,null,null,null,null,null,null,null,null,null,null,null,null,null,null,null,null,null,null,null,null,null,null,null,null,null,null,null,null,null,null,null,null,null,null,null,null,null,null,null,null,null,null,null,null,null,null,null,null,null,null,null,null,null,null,null,null,null,null,null,null,null,null,null,null,null,null,null,null,null,null,null,""]
[null,null,null,null,null,null,null,null,null,null,{"$f":"IF(A383=\"\",\"\",K$5+Header!C$6*(A383-1))","v":""},null,"","","","","",{"$f":"#REF!","v":{"$error":"#REF!"}},1,"",null,null,null,null,null,null,null,null,null,null,null,null,null,null,null,null,null,null,null,null,null,null,null,null,null,null,null,null,null,null,null,null,null,null,null,null,null,null,null,null,null,null,null,null,null,null,null,null,null,null,null,null,null,null,null,null,null,null,null,null,null,null,null,null,null,null,null,null,null,null,null,null,null,null,null,null,null,null,null,null,null,null,null,null,null,null,null,null,null,null,null,null,null,null,null,null,null,null,null,null,null,null,null,null,null,null,null,null,null,null,null,null,null,null,null,null,null,null,null,null,null,null,null,null,null,null,null,null,""]
[null,null,null,null,null,null,null,null,null,null,{"$f":"IF(A384=\"\",\"\",K$5+Header!C$6*(A384-1))","v":""},null,"","","","","",{"$f":"#REF!","v":{"$error":"#REF!"}},1,"",null,null,null,null,null,null,null,null,null,null,null,null,null,null,null,null,null,null,null,null,null,null,null,null,null,null,null,null,null,null,null,null,null,null,null,null,null,null,null,null,null,null,null,null,null,null,null,null,null,null,null,null,null,null,null,null,null,null,null,null,null,null,null,null,null,null,null,null,null,null,null,null,null,null,null,null,null,null,null,null,null,null,null,null,null,null,null,null,null,null,null,null,null,null,null,null,null,null,null,null,null,null,null,null,null,null,null,null,null,null,null,null,null,null,null,null,null,null,null,null,null,null,null,null,null,null,null,null,""]
[null,null,null,null,null,null,null,null,null,null,{"$f":"IF(A385=\"\",\"\",K$5+Header!C$6*(A385-1))","v":""},null,"","","","","",{"$f":"#REF!","v":{"$error":"#REF!"}},1,"",null,null,null,null,null,null,null,null,null,null,null,null,null,null,null,null,null,null,null,null,null,null,null,null,null,null,null,null,null,null,null,null,null,null,null,null,null,null,null,null,null,null,null,null,null,null,null,null,null,null,null,null,null,null,null,null,null,null,null,null,null,null,null,null,null,null,null,null,null,null,null,null,null,null,null,null,null,null,null,null,null,null,null,null,null,null,null,null,null,null,null,null,null,null,null,null,null,null,null,null,null,null,null,null,null,null,null,null,null,null,null,null,null,null,null,null,null,null,null,null,null,null,null,null,null,null,null,null,""]
[null,null,null,null,null,null,null,null,null,null,{"$f":"IF(A386=\"\",\"\",K$5+Header!C$6*(A386-1))","v":""},null,"","","","","",{"$f":"#REF!","v":{"$error":"#REF!"}},1,"",null,null,null,null,null,null,null,null,null,null,null,null,null,null,null,null,null,null,null,null,null,null,null,null,null,null,null,null,null,null,null,null,null,null,null,null,null,null,null,null,null,null,null,null,null,null,null,null,null,null,null,null,null,null,null,null,null,null,null,null,null,null,null,null,null,null,null,null,null,null,null,null,null,null,null,null,null,null,null,null,null,null,null,null,null,null,null,null,null,null,null,null,null,null,null,null,null,null,null,null,null,null,null,null,null,null,null,null,null,null,null,null,null,null,null,null,null,null,null,null,null,null,null,null,null,null,null,null,""]
[null,null,null,null,null,null,null,null,null,null,{"$f":"IF(A387=\"\",\"\",K$5+Header!C$6*(A387-1))","v":""},null,"","","","","",{"$f":"#REF!","v":{"$error":"#REF!"}},1,"",null,null,null,null,null,null,null,null,null,null,null,null,null,null,null,null,null,null,null,null,null,null,null,null,null,null,null,null,null,null,null,null,null,null,null,null,null,null,null,null,null,null,null,null,null,null,null,null,null,null,null,null,null,null,null,null,null,null,null,null,null,null,null,null,null,null,null,null,null,null,null,null,null,null,null,null,null,null,null,null,null,null,null,null,null,null,null,null,null,null,null,null,null,null,null,null,null,null,null,null,null,null,null,null,null,null,null,null,null,null,null,null,null,null,null,null,null,null,null,null,null,null,null,null,null,null,null,null,""]
[null,null,null,null,null,null,null,null,null,null,{"$f":"IF(A388=\"\",\"\",K$5+Header!C$6*(A388-1))","v":""},null,"","","","","",{"$f":"#REF!","v":{"$error":"#REF!"}},1,"",null,null,null,null,null,null,null,null,null,null,null,null,null,null,null,null,null,null,null,null,null,null,null,null,null,null,null,null,null,null,null,null,null,null,null,null,null,null,null,null,null,null,null,null,null,null,null,null,null,null,null,null,null,null,null,null,null,null,null,null,null,null,null,null,null,null,null,null,null,null,null,null,null,null,null,null,null,null,null,null,null,null,null,null,null,null,null,null,null,null,null,null,null,null,null,null,null,null,null,null,null,null,null,null,null,null,null,null,null,null,null,null,null,null,null,null,null,null,null,null,null,null,null,null,null,null,null,null,""]
[null,null,null,null,null,null,null,null,null,null,{"$f":"IF(A389=\"\",\"\",K$5+Header!C$6*(A389-1))","v":""},null,{"$f":"IF(C389=\"\",\"\",IF(ISNUMBER(SEARCH(C389,\"d\")),IF(ISNUMBER(SEARCH(D389,\"c\")),\"CS\",IF(ISNUMBER(SEARCH(D389,\"u\")),\"UU\")),\"\"))","v":""},{"$f":"IF(C389=\"\",\"\",IF(ISNUMBER(SEARCH(C389,\"e\")),IF(ISNUMBER(SEARCH(D389,\"c\")),IF(ISNUMBER(SEARCH(E389,\"a\")),\"CS\",\"CU\"),IF(ISNUMBER(SEARCH(E389,\"a\")),\"US\",\"UU\")),\"\"))","v":""},"","",{"$f":"IF(A389=\"\",\"\",A389)","v":""},{"$f":"#REF!","v":{"$error":"#REF!"}},1,"",null,null,null,null,null,null,null,null,null,null,null,null,null,null,null,null,null,null,null,null,null,null,null,null,null,null,null,null,null,null,null,null,null,null,null,null,null,null,null,null,null,null,null,null,null,null,null,null,null,null,null,null,null,null,null,null,null,null,null,null,null,null,null,null,null,null,null,null,null,null,null,null,null,null,null,null,null,null,null,null,null,null,null,null,null,null,null,null,null,null,null,null,null,null,null,null,null,null,null,null,null,null,null,null,null,null,null,null,null,null,null,null,null,null,null,null,null,null,null,null,null,null,null,null,null,null,null,null,{"$f":"IF(B389=\"\",\"\",B389+1)","v":""}]
[null,null,null,null,null,null,null,null,null,null,{"$f":"IF(A390=\"\",\"\",K$5+Header!C$6*(A390-1))","v":""},null,"","","",{"$f":"IF($O390=\"cs\",1,IF($O390=\"cu\",2,IF($O390=\"us\",3,IF($O390=\"uu\",4,\"\"))))","v":""},"",{"$f":"#REF!","v":{"$error":"#REF!"}},{"$f":"IF(A390>A389,A390,S389)","v":1},{"$f":"IF(Q390<>\"\",SUMIF(S:S,Q390,R:R),\"\")","v":""},null,null,null,null,null,null,null,null,null,null,null,null,null,null,null,null,null,null,null,null,null,null,null,null,null,null,null,null,null,null,null,null,null,null,null,null,null,null,null,null,null,null,null,null,null,null,null,null,null,null,null,null,null,null,null,null,null,null,null,null,null,null,null,null,null,null,null,null,null,null,null,null,null,null,null,null,null,null,null,null,null,null,null,null,null,null,null,null,null,null,null,null,null,null,null,null,null,null,null,null,null,null,null,null,null,null,null,null,null,null,null,null,null,null,null,null,null,null,null,null,null,null,null,null,null,null,null,null,""]
[null,null,null,null,null,null,null,null,null,null,{"$f":"IF(A391=\"\",\"\",K$5+Header!C$6*(A391-1))","v":""},null,"","","","","",{"$f":"#REF!","v":{"$error":"#REF!"}},1,"",null,null,null,null,null,null,null,null,null,null,null,null,null,null,null,null,null,null,null,null,null,null,null,null,null,null,null,null,null,null,null,null,null,null,null,null,null,null,null,null,null,null,null,null,null,null,null,null,null,null,null,null,null,null,null,null,null,null,null,null,null,null,null,null,null,null,null,null,null,null,null,null,null,null,null,null,null,null,null,null,null,null,null,null,null,null,null,null,null,null,null,null,null,null,null,null,null,null,null,null,null,null,null,null,null,null,null,null,null,null,null,null,null,null,null,null,null,null,null,null,null,null,null,null,null,null,null,null,""]
[null,null,null,null,null,null,null,null,null,null,{"$f":"IF(A392=\"\",\"\",K$5+Header!C$6*(A392-1))","v":""},null,"","","","","",{"$f":"#REF!","v":{"$error":"#REF!"}},1,"",null,null,null,null,null,null,null,null,null,null,null,null,null,null,null,null,null,null,null,null,null,null,null,null,null,null,null,null,null,null,null,null,null,null,null,null,null,null,null,null,null,null,null,null,null,null,null,null,null,null,null,null,null,null,null,null,null,null,null,null,null,null,null,null,null,null,null,null,null,null,null,null,null,null,null,null,null,null,null,null,null,null,null,null,null,null,null,null,null,null,null,null,null,null,null,null,null,null,null,null,null,null,null,null,null,null,null,null,null,null,null,null,null,null,null,null,null,null,null,null,null,null,null,null,null,null,null,null,""]
[null,null,null,null,null,null,null,null,null,null,{"$f":"IF(A393=\"\",\"\",K$5+Header!C$6*(A393-1))","v":""},null,"","","","","",{"$f":"#REF!","v":{"$error":"#REF!"}},1,"",null,null,null,null,null,null,null,null,null,null,null,null,null,null,null,null,null,null,null,null,null,null,null,null,null,null,null,null,null,null,null,null,null,null,null,null,null,null,null,null,null,null,null,null,null,null,null,null,null,null,null,null,null,null,null,null,null,null,null,null,null,null,null,null,null,null,null,null,null,null,null,null,null,null,null,null,null,null,null,null,null,null,null,null,null,null,null,null,null,null,null,null,null,null,null,null,null,null,null,null,null,null,null,null,null,null,null,null,null,null,null,null,null,null,null,null,null,null,null,null,null,null,null,null,null,null,null,null,""]
[null,null,null,null,null,null,null,null,null,null,{"$f":"IF(A394=\"\",\"\",K$5+Header!C$6*(A394-1))","v":""},null,"","","","","",{"$f":"#REF!","v":{"$error":"#REF!"}},1,"",null,null,null,null,null,null,null,null,null,null,null,null,null,null,null,null,null,null,null,null,null,null,null,null,null,null,null,null,null,null,null,null,null,null,null,null,null,null,null,null,null,null,null,null,null,null,null,null,null,null,null,null,null,null,null,null,null,null,null,null,null,null,null,null,null,null,null,null,null,null,null,null,null,null,null,null,null,null,null,null,null,null,null,null,null,null,null,null,null,null,null,null,null,null,null,null,null,null,null,null,null,null,null,null,null,null,null,null,null,null,null,null,null,null,null,null,null,null,null,null,null,null,null,null,null,null,null,null,""]
[null,null,null,null,null,null,null,null,null,null,{"$f":"IF(A395=\"\",\"\",K$5+Header!C$6*(A395-1))","v":""},null,"","","","","",{"$f":"#REF!","v":{"$error":"#REF!"}},1,"",null,null,null,null,null,null,null,null,null,null,null,null,null,null,null,null,null,null,null,null,null,null,null,null,null,null,null,null,null,null,null,null,null,null,null,null,null,null,null,null,null,null,null,null,null,null,null,null,null,null,null,null,null,null,null,null,null,null,null,null,null,null,null,null,null,null,null,null,null,null,null,null,null,null,null,null,null,null,null,null,null,null,null,null,null,null,null,null,null,null,null,null,null,null,null,null,null,null,null,null,null,null,null,null,null,null,null,null,null,null,null,null,null,null,null,null,null,null,null,null,null,null,null,null,null,null,null,null,""]
[null,null,null,null,null,null,null,null,null,null,{"$f":"IF(A396=\"\",\"\",K$5+Header!C$6*(A396-1))","v":""},null,"","","","","",{"$f":"#REF!","v":{"$error":"#REF!"}},1,"",null,null,null,null,null,null,null,null,null,null,null,null,null,null,null,null,null,null,null,null,null,null,null,null,null,null,null,null,null,null,null,null,null,null,null,null,null,null,null,null,null,null,null,null,null,null,null,null,null,null,null,null,null,null,null,null,null,null,null,null,null,null,null,null,null,null,null,null,null,null,null,null,null,null,null,null,null,null,null,null,null,null,null,null,null,null,null,null,null,null,null,null,null,null,null,null,null,null,null,null,null,null,null,null,null,null,null,null,null,null,null,null,null,null,null,null,null,null,null,null,null,null,null,null,null,null,null,null,""]
[null,null,null,null,null,null,null,null,null,null,{"$f":"IF(A397=\"\",\"\",K$5+Header!C$6*(A397-1))","v":""},null,"","","","","",{"$f":"#REF!","v":{"$error":"#REF!"}},1,"",null,null,null,null,null,null,null,null,null,null,null,null,null,null,null,null,null,null,null,null,null,null,null,null,null,null,null,null,null,null,null,null,null,null,null,null,null,null,null,null,null,null,null,null,null,null,null,null,null,null,null,null,null,null,null,null,null,null,null,null,null,null,null,null,null,null,null,null,null,null,null,null,null,null,null,null,null,null,null,null,null,null,null,null,null,null,null,null,null,null,null,null,null,null,null,null,null,null,null,null,null,null,null,null,null,null,null,null,null,null,null,null,null,null,null,null,null,null,null,null,null,null,null,null,null,null,null,null,""]
[null,null,null,null,null,null,null,null,null,null,{"$f":"IF(A398=\"\",\"\",K$5+Header!C$6*(A398-1))","v":""},null,"","","","","",{"$f":"#REF!","v":{"$error":"#REF!"}},1,"",null,null,null,null,null,null,null,null,null,null,null,null,null,null,null,null,null,null,null,null,null,null,null,null,null,null,null,null,null,null,null,null,null,null,null,null,null,null,null,null,null,null,null,null,null,null,null,null,null,null,null,null,null,null,null,null,null,null,null,null,null,null,null,null,null,null,null,null,null,null,null,null,null,null,null,null,null,null,null,null,null,null,null,null,null,null,null,null,null,null,null,null,null,null,null,null,null,null,null,null,null,null,null,null,null,null,null,null,null,null,null,null,null,null,null,null,null,null,null,null,null,null,null,null,null,null,null,null,""]
[null,null,null,null,null,null,null,null,null,null,{"$f":"IF(A399=\"\",\"\",K$5+Header!C$6*(A399-1))","v":""},null,"","","","","",{"$f":"#REF!","v":{"$error":"#REF!"}},1,"",null,null,null,null,null,null,null,null,null,null,null,null,null,null,null,null,null,null,null,null,null,null,null,null,null,null,null,null,null,null,null,null,null,null,null,null,null,null,null,null,null,null,null,null,null,null,null,null,null,null,null,null,null,null,null,null,null,null,null,null,null,null,null,null,null,null,null,null,null,null,null,null,null,null,null,null,null,null,null,null,null,null,null,null,null,null,null,null,null,null,null,null,null,null,null,null,null,null,null,null,null,null,null,null,null,null,null,null,null,null,null,null,null,null,null,null,null,null,null,null,null,null,null,null,null,null,null,null,""]
[null,null,null,null,null,null,null,null,null,null,{"$f":"IF(A400=\"\",\"\",K$5+Header!C$6*(A400-1))","v":""},null,"","","","","",{"$f":"#REF!","v":{"$error":"#REF!"}},1,"",null,null,null,null,null,null,null,null,null,null,null,null,null,null,null,null,null,null,null,null,null,null,null,null,null,null,null,null,null,null,null,null,null,null,null,null,null,null,null,null,null,null,null,null,null,null,null,null,null,null,null,null,null,null,null,null,null,null,null,null,null,null,null,null,null,null,null,null,null,null,null,null,null,null,null,null,null,null,null,null,null,null,null,null,null,null,null,null,null,null,null,null,null,null,null,null,null,null,null,null,null,null,null,null,null,null,null,null,null,null,null,null,null,null,null,null,null,null,null,null,null,null,null,null,null,null,null,null,""]
[null,null,null,null,null,null,null,null,null,null,{"$f":"IF(A401=\"\",\"\",K$5+Header!C$6*(A401-1))","v":""},null,"","","","","",{"$f":"#REF!","v":{"$error":"#REF!"}},1,"",null,null,null,null,null,null,null,null,null,null,null,null,null,null,null,null,null,null,null,null,null,null,null,null,null,null,null,null,null,null,null,null,null,null,null,null,null,null,null,null,null,null,null,null,null,null,null,null,null,null,null,null,null,null,null,null,null,null,null,null,null,null,null,null,null,null,null,null,null,null,null,null,null,null,null,null,null,null,null,null,null,null,null,null,null,null,null,null,null,null,null,null,null,null,null,null,null,null,null,null,null,null,null,null,null,null,null,null,null,null,null,null,null,null,null,null,null,null,null,null,null,null,null,null,null,null,null,null,""]
[null,null,null,null,null,null,null,null,null,null,{"$f":"IF(A402=\"\",\"\",K$5+Header!C$6*(A402-1))","v":""},null,"","","","","",{"$f":"#REF!","v":{"$error":"#REF!"}},1,"",null,null,null,null,null,null,null,null,null,null,null,null,null,null,null,null,null,null,null,null,null,null,null,null,null,null,null,null,null,null,null,null,null,null,null,null,null,null,null,null,null,null,null,null,null,null,null,null,null,null,null,null,null,null,null,null,null,null,null,null,null,null,null,null,null,null,null,null,null,null,null,null,null,null,null,null,null,null,null,null,null,null,null,null,null,null,null,null,null,null,null,null,null,null,null,null,null,null,null,null,null,null,null,null,null,null,null,null,null,null,null,null,null,null,null,null,null,null,null,null,null,null,null,null,null,null,null,null,""]
[null,null,null,null,null,null,null,null,null,null,{"$f":"IF(A403=\"\",\"\",K$5+Header!C$6*(A403-1))","v":""},null,"","","","","",{"$f":"#REF!","v":{"$error":"#REF!"}},1,"",null,null,null,null,null,null,null,null,null,null,null,null,null,null,null,null,null,null,null,null,null,null,null,null,null,null,null,null,null,null,null,null,null,null,null,null,null,null,null,null,null,null,null,null,null,null,null,null,null,null,null,null,null,null,null,null,null,null,null,null,null,null,null,null,null,null,null,null,null,null,null,null,null,null,null,null,null,null,null,null,null,null,null,null,null,null,null,null,null,null,null,null,null,null,null,null,null,null,null,null,null,null,null,null,null,null,null,null,null,null,null,null,null,null,null,null,null,null,null,null,null,null,null,null,null,null,null,null,""]
[null,null,null,null,null,null,null,null,null,null,{"$f":"IF(A404=\"\",\"\",K$5+Header!C$6*(A404-1))","v":""},null,"","","","","",{"$f":"#REF!","v":{"$error":"#REF!"}},1,"",null,null,null,null,null,null,null,null,null,null,null,null,null,null,null,null,null,null,null,null,null,null,null,null,null,null,null,null,null,null,null,null,null,null,null,null,null,null,null,null,null,null,null,null,null,null,null,null,null,null,null,null,null,null,null,null,null,null,null,null,null,null,null,null,null,null,null,null,null,null,null,null,null,null,null,null,null,null,null,null,null,null,null,null,null,null,null,null,null,null,null,null,null,null,null,null,null,null,null,null,null,null,null,null,null,null,null,null,null,null,null,null,null,null,null,null,null,null,null,null,null,null,null,null,null,null,null,null,""]
[null,null,null,null,null,null,null,null,null,null,{"$f":"IF(A405=\"\",\"\",K$5+Header!C$6*(A405-1))","v":""},null,"","","","","",{"$f":"#REF!","v":{"$error":"#REF!"}},1,"",null,null,null,null,null,null,null,null,null,null,null,null,null,null,null,null,null,null,null,null,null,null,null,null,null,null,null,null,null,null,null,null,null,null,null,null,null,null,null,null,null,null,null,null,null,null,null,null,null,null,null,null,null,null,null,null,null,null,null,null,null,null,null,null,null,null,null,null,null,null,null,null,null,null,null,null,null,null,null,null,null,null,null,null,null,null,null,null,null,null,null,null,null,null,null,null,null,null,null,null,null,null,null,null,null,null,null,null,null,null,null,null,null,null,null,null,null,null,null,null,null,null,null,null,null,null,null,null,""]
[null,null,null,null,null,null,null,null,null,null,{"$f":"IF(A406=\"\",\"\",K$5+Header!C$6*(A406-1))","v":""},null,"","","","","",{"$f":"#REF!","v":{"$error":"#REF!"}},1,"",null,null,null,null,null,null,null,null,null,null,null,null,null,null,null,null,null,null,null,null,null,null,null,null,null,null,null,null,null,null,null,null,null,null,null,null,null,null,null,null,null,null,null,null,null,null,null,null,null,null,null,null,null,null,null,null,null,null,null,null,null,null,null,null,null,null,null,null,null,null,null,null,null,null,null,null,null,null,null,null,null,null,null,null,null,null,null,null,null,null,null,null,null,null,null,null,null,null,null,null,null,null,null,null,null,null,null,null,null,null,null,null,null,null,null,null,null,null,null,null,null,null,null,null,null,null,null,null,""]
[null,null,null,null,null,null,null,null,null,null,{"$f":"IF(A407=\"\",\"\",K$5+Header!C$6*(A407-1))","v":""},null,"","","","","",{"$f":"#REF!","v":{"$error":"#REF!"}},1,"",null,null,null,null,null,null,null,null,null,null,null,null,null,null,null,null,null,null,null,null,null,null,null,null,null,null,null,null,null,null,null,null,null,null,null,null,null,null,null,null,null,null,null,null,null,null,null,null,null,null,null,null,null,null,null,null,null,null,null,null,null,null,null,null,null,null,null,null,null,null,null,null,null,null,null,null,null,null,null,null,null,null,null,null,null,null,null,null,null,null,null,null,null,null,null,null,null,null,null,null,null,null,null,null,null,null,null,null,null,null,null,null,null,null,null,null,null,null,null,null,null,null,null,null,null,null,null,null,""]
[null,null,null,null,null,null,null,null,null,null,{"$f":"IF(A408=\"\",\"\",K$5+Header!C$6*(A408-1))","v":""},null,"","","","","",{"$f":"#REF!","v":{"$error":"#REF!"}},1,"",null,null,null,null,null,null,null,null,null,null,null,null,null,null,null,null,null,null,null,null,null,null,null,null,null,null,null,null,null,null,null,null,null,null,null,null,null,null,null,null,null,null,null,null,null,null,null,null,null,null,null,null,null,null,null,null,null,null,null,null,null,null,null,null,null,null,null,null,null,null,null,null,null,null,null,null,null,null,null,null,null,null,null,null,null,null,null,null,null,null,null,null,null,null,null,null,null,null,null,null,null,null,null,null,null,null,null,null,null,null,null,null,null,null,null,null,null,null,null,null,null,null,null,null,null,null,null,null,""]
[null,null,null,null,null,null,null,null,null,null,{"$f":"IF(A409=\"\",\"\",K$5+Header!C$6*(A409-1))","v":""},null,"","","","","",{"$f":"#REF!","v":{"$error":"#REF!"}},1,"",null,null,null,null,null,null,null,null,null,null,null,null,null,null,null,null,null,null,null,null,null,null,null,null,null,null,null,null,null,null,null,null,null,null,null,null,null,null,null,null,null,null,null,null,null,null,null,null,null,null,null,null,null,null,null,null,null,null,null,null,null,null,null,null,null,null,null,null,null,null,null,null,null,null,null,null,null,null,null,null,null,null,null,null,null,null,null,null,null,null,null,null,null,null,null,null,null,null,null,null,null,null,null,null,null,null,null,null,null,null,null,null,null,null,null,null,null,null,null,null,null,null,null,null,null,null,null,null,""]
[null,null,null,null,null,null,null,null,null,null,{"$f":"IF(A410=\"\",\"\",K$5+Header!C$6*(A410-1))","v":""},null,"","","","","",{"$f":"#REF!","v":{"$error":"#REF!"}},1,"",null,null,null,null,null,null,null,null,null,null,null,null,null,null,null,null,null,null,null,null,null,null,null,null,null,null,null,null,null,null,null,null,null,null,null,null,null,null,null,null,null,null,null,null,null,null,null,null,null,null,null,null,null,null,null,null,null,null,null,null,null,null,null,null,null,null,null,null,null,null,null,null,null,null,null,null,null,null,null,null,null,null,null,null,null,null,null,null,null,null,null,null,null,null,null,null,null,null,null,null,null,null,null,null,null,null,null,null,null,null,null,null,null,null,null,null,null,null,null,null,null,null,null,null,null,null,null,null,""]
[null,null,null,null,null,null,null,null,null,null,{"$f":"IF(A411=\"\",\"\",K$5+Header!C$6*(A411-1))","v":""},null,"","","","","",{"$f":"#REF!","v":{"$error":"#REF!"}},1,"",null,null,null,null,null,null,null,null,null,null,null,null,null,null,null,null,null,null,null,null,null,null,null,null,null,null,null,null,null,null,null,null,null,null,null,null,null,null,null,null,null,null,null,null,null,null,null,null,null,null,null,null,null,null,null,null,null,null,null,null,null,null,null,null,null,null,null,null,null,null,null,null,null,null,null,null,null,null,null,null,null,null,null,null,null,null,null,null,null,null,null,null,null,null,null,null,null,null,null,null,null,null,null,null,null,null,null,null,null,null,null,null,null,null,null,null,null,null,null,null,null,null,null,null,null,null,null,null,""]
[null,null,null,null,null,null,null,null,null,null,{"$f":"IF(A412=\"\",\"\",K$5+Header!C$6*(A412-1))","v":""},null,"","","","","",{"$f":"#REF!","v":{"$error":"#REF!"}},1,"",null,null,null,null,null,null,null,null,null,null,null,null,null,null,null,null,null,null,null,null,null,null,null,null,null,null,null,null,null,null,null,null,null,null,null,null,null,null,null,null,null,null,null,null,null,null,null,null,null,null,null,null,null,null,null,null,null,null,null,null,null,null,null,null,null,null,null,null,null,null,null,null,null,null,null,null,null,null,null,null,null,null,null,null,null,null,null,null,null,null,null,null,null,null,null,null,null,null,null,null,null,null,null,null,null,null,null,null,null,null,null,null,null,null,null,null,null,null,null,null,null,null,null,null,null,null,null,null,""]
[null,null,null,null,null,null,null,null,null,null,{"$f":"IF(A413=\"\",\"\",K$5+Header!C$6*(A413-1))","v":""},null,"","","","","",{"$f":"#REF!","v":{"$error":"#REF!"}},1,"",null,null,null,null,null,null,null,null,null,null,null,null,null,null,null,null,null,null,null,null,null,null,null,null,null,null,null,null,null,null,null,null,null,null,null,null,null,null,null,null,null,null,null,null,null,null,null,null,null,null,null,null,null,null,null,null,null,null,null,null,null,null,null,null,null,null,null,null,null,null,null,null,null,null,null,null,null,null,null,null,null,null,null,null,null,null,null,null,null,null,null,null,null,null,null,null,null,null,null,null,null,null,null,null,null,null,null,null,null,null,null,null,null,null,null,null,null,null,null,null,null,null,null,null,null,null,null,null,""]
[null,null,null,null,null,null,null,null,null,null,{"$f":"IF(A414=\"\",\"\",K$5+Header!C$6*(A414-1))","v":""},null,"","","","","",{"$f":"#REF!","v":{"$error":"#REF!"}},1,"",null,null,null,null,null,null,null,null,null,null,null,null,null,null,null,null,null,null,null,null,null,null,null,null,null,null,null,null,null,null,null,null,null,null,null,null,null,null,null,null,null,null,null,null,null,null,null,null,null,null,null,null,null,null,null,null,null,null,null,null,null,null,null,null,null,null,null,null,null,null,null,null,null,null,null,null,null,null,null,null,null,null,null,null,null,null,null,null,null,null,null,null,null,null,null,null,null,null,null,null,null,null,null,null,null,null,null,null,null,null,null,null,null,null,null,null,null,null,null,null,null,null,null,null,null,null,null,null,""]
[null,null,null,null,null,null,null,null,null,null,{"$f":"IF(A415=\"\",\"\",K$5+Header!C$6*(A415-1))","v":""},null,"","","","","",{"$f":"#REF!","v":{"$error":"#REF!"}},1,"",null,null,null,null,null,null,null,null,null,null,null,null,null,null,null,null,null,null,null,null,null,null,null,null,null,null,null,null,null,null,null,null,null,null,null,null,null,null,null,null,null,null,null,null,null,null,null,null,null,null,null,null,null,null,null,null,null,null,null,null,null,null,null,null,null,null,null,null,null,null,null,null,null,null,null,null,null,null,null,null,null,null,null,null,null,null,null,null,null,null,null,null,null,null,null,null,null,null,null,null,null,null,null,null,null,null,null,null,null,null,null,null,null,null,null,null,null,null,null,null,null,null,null,null,null,null,null,null,""]
[null,null,null,null,null,null,null,null,null,null,{"$f":"IF(A416=\"\",\"\",K$5+Header!C$6*(A416-1))","v":""},null,"","","","","",{"$f":"#REF!","v":{"$error":"#REF!"}},1,"",null,null,null,null,null,null,null,null,null,null,null,null,null,null,null,null,null,null,null,null,null,null,null,null,null,null,null,null,null,null,null,null,null,null,null,null,null,null,null,null,null,null,null,null,null,null,null,null,null,null,null,null,null,null,null,null,null,null,null,null,null,null,null,null,null,null,null,null,null,null,null,null,null,null,null,null,null,null,null,null,null,null,null,null,null,null,null,null,null,null,null,null,null,null,null,null,null,null,null,null,null,null,null,null,null,null,null,null,null,null,null,null,null,null,null,null,null,null,null,null,null,null,null,null,null,null,null,null,""]
[null,null,null,null,null,null,null,null,null,null,{"$f":"IF(A417=\"\",\"\",K$5+Header!C$6*(A417-1))","v":""},null,"","","","","",{"$f":"#REF!","v":{"$error":"#REF!"}},1,"",null,null,null,null,null,null,null,null,null,null,null,null,null,null,null,null,null,null,null,null,null,null,null,null,null,null,null,null,null,null,null,null,null,null,null,null,null,null,null,null,null,null,null,null,null,null,null,null,null,null,null,null,null,null,null,null,null,null,null,null,null,null,null,null,null,null,null,null,null,null,null,null,null,null,null,null,null,null,null,null,null,null,null,null,null,null,null,null,null,null,null,null,null,null,null,null,null,null,null,null,null,null,null,null,null,null,null,null,null,null,null,null,null,null,null,null,null,null,null,null,null,null,null,null,null,null,null,null,""]
[null,null,null,null,null,null,null,null,null,null,{"$f":"IF(A418=\"\",\"\",K$5+Header!C$6*(A418-1))","v":""},null,"","","","","",{"$f":"#REF!","v":{"$error":"#REF!"}},1,"",null,null,null,null,null,null,null,null,null,null,null,null,null,null,null,null,null,null,null,null,null,null,null,null,null,null,null,null,null,null,null,null,null,null,null,null,null,null,null,null,null,null,null,null,null,null,null,null,null,null,null,null,null,null,null,null,null,null,null,null,null,null,null,null,null,null,null,null,null,null,null,null,null,null,null,null,null,null,null,null,null,null,null,null,null,null,null,null,null,null,null,null,null,null,null,null,null,null,null,null,null,null,null,null,null,null,null,null,null,null,null,null,null,null,null,null,null,null,null,null,null,null,null,null,null,null,null,null,""]
[null,null,null,null,null,null,null,null,null,null,{"$f":"IF(A419=\"\",\"\",K$5+Header!C$6*(A419-1))","v":""},null,"","","","","",{"$f":"#REF!","v":{"$error":"#REF!"}},1,"",null,null,null,null,null,null,null,null,null,null,null,null,null,null,null,null,null,null,null,null,null,null,null,null,null,null,null,null,null,null,null,null,null,null,null,null,null,null,null,null,null,null,null,null,null,null,null,null,null,null,null,null,null,null,null,null,null,null,null,null,null,null,null,null,null,null,null,null,null,null,null,null,null,null,null,null,null,null,null,null,null,null,null,null,null,null,null,null,null,null,null,null,null,null,null,null,null,null,null,null,null,null,null,null,null,null,null,null,null,null,null,null,null,null,null,null,null,null,null,null,null,null,null,null,null,null,null,null,""]
[null,null,null,null,null,null,null,null,null,null,{"$f":"IF(A420=\"\",\"\",K$5+Header!C$6*(A420-1))","v":""},null,"","","","","",{"$f":"#REF!","v":{"$error":"#REF!"}},1,"",null,null,null,null,null,null,null,null,null,null,null,null,null,null,null,null,null,null,null,null,null,null,null,null,null,null,null,null,null,null,null,null,null,null,null,null,null,null,null,null,null,null,null,null,null,null,null,null,null,null,null,null,null,null,null,null,null,null,null,null,null,null,null,null,null,null,null,null,null,null,null,null,null,null,null,null,null,null,null,null,null,null,null,null,null,null,null,null,null,null,null,null,null,null,null,null,null,null,null,null,null,null,null,null,null,null,null,null,null,null,null,null,null,null,null,null,null,null,null,null,null,null,null,null,null,null,null,null,""]
[null,null,null,null,null,null,null,null,null,null,{"$f":"IF(A421=\"\",\"\",K$5+Header!C$6*(A421-1))","v":""},null,"","","","","",{"$f":"#REF!","v":{"$error":"#REF!"}},1,"",null,null,null,null,null,null,null,null,null,null,null,null,null,null,null,null,null,null,null,null,null,null,null,null,null,null,null,null,null,null,null,null,null,null,null,null,null,null,null,null,null,null,null,null,null,null,null,null,null,null,null,null,null,null,null,null,null,null,null,null,null,null,null,null,null,null,null,null,null,null,null,null,null,null,null,null,null,null,null,null,null,null,null,null,null,null,null,null,null,null,null,null,null,null,null,null,null,null,null,null,null,null,null,null,null,null,null,null,null,null,null,null,null,null,null,null,null,null,null,null,null,null,null,null,null,null,null,null,""]
[null,null,null,null,null,null,null,null,null,null,{"$f":"IF(A422=\"\",\"\",K$5+Header!C$6*(A422-1))","v":""},null,"","","","","",{"$f":"#REF!","v":{"$error":"#REF!"}},1,"",null,null,null,null,null,null,null,null,null,null,null,null,null,null,null,null,null,null,null,null,null,null,null,null,null,null,null,null,null,null,null,null,null,null,null,null,null,null,null,null,null,null,null,null,null,null,null,null,null,null,null,null,null,null,null,null,null,null,null,null,null,null,null,null,null,null,null,null,null,null,null,null,null,null,null,null,null,null,null,null,null,null,null,null,null,null,null,null,null,null,null,null,null,null,null,null,null,null,null,null,null,null,null,null,null,null,null,null,null,null,null,null,null,null,null,null,null,null,null,null,null,null,null,null,null,null,null,null,""]
[null,null,null,null,null,null,null,null,null,null,{"$f":"IF(A423=\"\",\"\",K$5+Header!C$6*(A423-1))","v":""},null,"","","","","",{"$f":"#REF!","v":{"$error":"#REF!"}},1,"",null,null,null,null,null,null,null,null,null,null,null,null,null,null,null,null,null,null,null,null,null,null,null,null,null,null,null,null,null,null,null,null,null,null,null,null,null,null,null,null,null,null,null,null,null,null,null,null,null,null,null,null,null,null,null,null,null,null,null,null,null,null,null,null,null,null,null,null,null,null,null,null,null,null,null,null,null,null,null,null,null,null,null,null,null,null,null,null,null,null,null,null,null,null,null,null,null,null,null,null,null,null,null,null,null,null,null,null,null,null,null,null,null,null,null,null,null,null,null,null,null,null,null,null,null,null,null,null,""]
[null,null,null,null,null,null,null,null,null,null,{"$f":"IF(A424=\"\",\"\",K$5+Header!C$6*(A424-1))","v":""},null,"","","","","",{"$f":"#REF!","v":{"$error":"#REF!"}},1,"",null,null,null,null,null,null,null,null,null,null,null,null,null,null,null,null,null,null,null,null,null,null,null,null,null,null,null,null,null,null,null,null,null,null,null,null,null,null,null,null,null,null,null,null,null,null,null,null,null,null,null,null,null,null,null,null,null,null,null,null,null,null,null,null,null,null,null,null,null,null,null,null,null,null,null,null,null,null,null,null,null,null,null,null,null,null,null,null,null,null,null,null,null,null,null,null,null,null,null,null,null,null,null,null,null,null,null,null,null,null,null,null,null,null,null,null,null,null,null,null,null,null,null,null,null,null,null,null,""]
[null,null,null,null,null,null,null,null,null,null,{"$f":"IF(A425=\"\",\"\",K$5+Header!C$6*(A425-1))","v":""},null,"","","","","",{"$f":"#REF!","v":{"$error":"#REF!"}},1,"",null,null,null,null,null,null,null,null,null,null,null,null,null,null,null,null,null,null,null,null,null,null,null,null,null,null,null,null,null,null,null,null,null,null,null,null,null,null,null,null,null,null,null,null,null,null,null,null,null,null,null,null,null,null,null,null,null,null,null,null,null,null,null,null,null,null,null,null,null,null,null,null,null,null,null,null,null,null,null,null,null,null,null,null,null,null,null,null,null,null,null,null,null,null,null,null,null,null,null,null,null,null,null,null,null,null,null,null,null,null,null,null,null,null,null,null,null,null,null,null,null,null,null,null,null,null,null,null,""]
[null,null,null,null,null,null,null,null,null,null,{"$f":"IF(A426=\"\",\"\",K$5+Header!C$6*(A426-1))","v":""},null,"","","","","",{"$f":"#REF!","v":{"$error":"#REF!"}},1,"",null,null,null,null,null,null,null,null,null,null,null,null,null,null,null,null,null,null,null,null,null,null,null,null,null,null,null,null,null,null,null,null,null,null,null,null,null,null,null,null,null,null,null,null,null,null,null,null,null,null,null,null,null,null,null,null,null,null,null,null,null,null,null,null,null,null,null,null,null,null,null,null,null,null,null,null,null,null,null,null,null,null,null,null,null,null,null,null,null,null,null,null,null,null,null,null,null,null,null,null,null,null,null,null,null,null,null,null,null,null,null,null,null,null,null,null,null,null,null,null,null,null,null,null,null,null,null,null,""]
[null,null,null,null,null,null,null,null,null,null,{"$f":"IF(A427=\"\",\"\",K$5+Header!C$6*(A427-1))","v":""},null,"","","","","",{"$f":"#REF!","v":{"$error":"#REF!"}},1,"",null,null,null,null,null,null,null,null,null,null,null,null,null,null,null,null,null,null,null,null,null,null,null,null,null,null,null,null,null,null,null,null,null,null,null,null,null,null,null,null,null,null,null,null,null,null,null,null,null,null,null,null,null,null,null,null,null,null,null,null,null,null,null,null,null,null,null,null,null,null,null,null,null,null,null,null,null,null,null,null,null,null,null,null,null,null,null,null,null,null,null,null,null,null,null,null,null,null,null,null,null,null,null,null,null,null,null,null,null,null,null,null,null,null,null,null,null,null,null,null,null,null,null,null,null,null,null,null,""]
[null,null,null,null,null,null,null,null,null,null,{"$f":"IF(A428=\"\",\"\",K$5+Header!C$6*(A428-1))","v":""},null,"","",{"$f":"IF(M428=\"\",N428,M428)","v":""},"","",{"$f":"#REF!","v":{"$error":"#REF!"}},1,"",null,null,null,null,null,null,null,null,null,null,null,null,null,null,null,null,null,null,null,null,null,null,null,null,null,null,null,null,null,null,null,null,null,null,null,null,null,null,null,null,null,null,null,null,null,null,null,null,null,null,null,null,null,null,null,null,null,null,null,null,null,null,null,null,null,null,null,null,null,null,null,null,null,null,null,null,null,null,null,null,null,null,null,null,null,null,null,null,null,null,null,null,null,null,null,null,null,null,null,null,null,null,null,null,null,null,null,null,null,null,null,null,null,null,null,null,null,null,null,null,null,null,null,null,null,null,null,null,""]
[null,null,null,null,null,null,null,null,null,null,{"$f":"IF(A429=\"\",\"\",K$5+Header!C$6*(A429-1))","v":""},null,"","","","","",{"$f":"#REF!","v":{"$error":"#REF!"}},1,"",null,null,null,null,null,null,null,null,null,null,null,null,null,null,null,null,null,null,null,null,null,null,null,null,null,null,null,null,null,null,null,null,null,null,null,null,null,null,null,null,null,null,null,null,null,null,null,null,null,null,null,null,null,null,null,null,null,null,null,null,null,null,null,null,null,null,null,null,null,null,null,null,null,null,null,null,null,null,null,null,null,null,null,null,null,null,null,null,null,null,null,null,null,null,null,null,null,null,null,null,null,null,null,null,null,null,null,null,null,null,null,null,null,null,null,null,null,null,null,null,null,null,null,null,null,null,null,null,""]
[null,null,null,null,null,null,null,null,null,null,{"$f":"IF(A430=\"\",\"\",K$5+Header!C$6*(A430-1))","v":""},null,"","","","","",{"$f":"#REF!","v":{"$error":"#REF!"}},1,"",null,null,null,null,null,null,null,null,null,null,null,null,null,null,null,null,null,null,null,null,null,null,null,null,null,null,null,null,null,null,null,null,null,null,null,null,null,null,null,null,null,null,null,null,null,null,null,null,null,null,null,null,null,null,null,null,null,null,null,null,null,null,null,null,null,null,null,null,null,null,null,null,null,null,null,null,null,null,null,null,null,null,null,null,null,null,null,null,null,null,null,null,null,null,null,null,null,null,null,null,null,null,null,null,null,null,null,null,null,null,null,null,null,null,null,null,null,null,null,null,null,null,null,null,null,null,null,null,""]
[null,null,null,null,null,null,null,null,null,null,{"$f":"IF(A431=\"\",\"\",K$5+Header!C$6*(A431-1))","v":""},null,"","","","","",{"$f":"#REF!","v":{"$error":"#REF!"}},1,"",null,null,null,null,null,null,null,null,null,null,null,null,null,null,null,null,null,null,null,null,null,null,null,null,null,null,null,null,null,null,null,null,null,null,null,null,null,null,null,null,null,null,null,null,null,null,null,null,null,null,null,null,null,null,null,null,null,null,null,null,null,null,null,null,null,null,null,null,null,null,null,null,null,null,null,null,null,null,null,null,null,null,null,null,null,null,null,null,null,null,null,null,null,null,null,null,null,null,null,null,null,null,null,null,null,null,null,null,null,null,null,null,null,null,null,null,null,null,null,null,null,null,null,null,null,null,null,null,""]
[null,null,null,null,null,null,null,null,null,null,{"$f":"IF(A432=\"\",\"\",K$5+Header!C$6*(A432-1))","v":""},null,"","","","","",{"$f":"#REF!","v":{"$error":"#REF!"}},1,"",null,null,null,null,null,null,null,null,null,null,null,null,null,null,null,null,null,null,null,null,null,null,null,null,null,null,null,null,null,null,null,null,null,null,null,null,null,null,null,null,null,null,null,null,null,null,null,null,null,null,null,null,null,null,null,null,null,null,null,null,null,null,null,null,null,null,null,null,null,null,null,null,null,null,null,null,null,null,null,null,null,null,null,null,null,null,null,null,null,null,null,null,null,null,null,null,null,null,null,null,null,null,null,null,null,null,null,null,null,null,null,null,null,null,null,null,null,null,null,null,null,null,null,null,null,null,null,null,""]
[null,null,null,null,null,null,null,null,null,null,{"$f":"IF(A433=\"\",\"\",K$5+Header!C$6*(A433-1))","v":""},null,"","","","","",{"$f":"#REF!","v":{"$error":"#REF!"}},1,"",null,null,null,null,null,null,null,null,null,null,null,null,null,null,null,null,null,null,null,null,null,null,null,null,null,null,null,null,null,null,null,null,null,null,null,null,null,null,null,null,null,null,null,null,null,null,null,null,null,null,null,null,null,null,null,null,null,null,null,null,null,null,null,null,null,null,null,null,null,null,null,null,null,null,null,null,null,null,null,null,null,null,null,null,null,null,null,null,null,null,null,null,null,null,null,null,null,null,null,null,null,null,null,null,null,null,null,null,null,null,null,null,null,null,null,null,null,null,null,null,null,null,null,null,null,null,null,null,""]
[null,null,null,null,null,null,null,null,null,null,{"$f":"IF(A434=\"\",\"\",K$5+Header!C$6*(A434-1))","v":""},null,"","","","","",{"$f":"#REF!","v":{"$error":"#REF!"}},1,"",null,null,null,null,null,null,null,null,null,null,null,null,null,null,null,null,null,null,null,null,null,null,null,null,null,null,null,null,null,null,null,null,null,null,null,null,null,null,null,null,null,null,null,null,null,null,null,null,null,null,null,null,null,null,null,null,null,null,null,null,null,null,null,null,null,null,null,null,null,null,null,null,null,null,null,null,null,null,null,null,null,null,null,null,null,null,null,null,null,null,null,null,null,null,null,null,null,null,null,null,null,null,null,null,null,null,null,null,null,null,null,null,null,null,null,null,null,null,null,null,null,null,null,null,null,null,null,null,""]
[null,null,null,null,null,null,null,null,null,null,{"$f":"IF(A435=\"\",\"\",K$5+Header!C$6*(A435-1))","v":""},null,"","","","","",{"$f":"#REF!","v":{"$error":"#REF!"}},1,"",null,null,null,null,null,null,null,null,null,null,null,null,null,null,null,null,null,null,null,null,null,null,null,null,null,null,null,null,null,null,null,null,null,null,null,null,null,null,null,null,null,null,null,null,null,null,null,null,null,null,null,null,null,null,null,null,null,null,null,null,null,null,null,null,null,null,null,null,null,null,null,null,null,null,null,null,null,null,null,null,null,null,null,null,null,null,null,null,null,null,null,null,null,null,null,null,null,null,null,null,null,null,null,null,null,null,null,null,null,null,null,null,null,null,null,null,null,null,null,null,null,null,null,null,null,null,null,null,""]
[null,null,null,null,null,null,null,null,null,null,{"$f":"IF(A436=\"\",\"\",K$5+Header!C$6*(A436-1))","v":""},null,"","","","","",{"$f":"#REF!","v":{"$error":"#REF!"}},1,"",null,null,null,null,null,null,null,null,null,null,null,null,null,null,null,null,null,null,null,null,null,null,null,null,null,null,null,null,null,null,null,null,null,null,null,null,null,null,null,null,null,null,null,null,null,null,null,null,null,null,null,null,null,null,null,null,null,null,null,null,null,null,null,null,null,null,null,null,null,null,null,null,null,null,null,null,null,null,null,null,null,null,null,null,null,null,null,null,null,null,null,null,null,null,null,null,null,null,null,null,null,null,null,null,null,null,null,null,null,null,null,null,null,null,null,null,null,null,null,null,null,null,null,null,null,null,null,null,""]
[null,null,null,null,null,null,null,null,null,null,{"$f":"IF(A437=\"\",\"\",K$5+Header!C$6*(A437-1))","v":""},null,"","","","","",{"$f":"#REF!","v":{"$error":"#REF!"}},1,"",null,null,null,null,null,null,null,null,null,null,null,null,null,null,null,null,null,null,null,null,null,null,null,null,null,null,null,null,null,null,null,null,null,null,null,null,null,null,null,null,null,null,null,null,null,null,null,null,null,null,null,null,null,null,null,null,null,null,null,null,null,null,null,null,null,null,null,null,null,null,null,null,null,null,null,null,null,null,null,null,null,null,null,null,null,null,null,null,null,null,null,null,null,null,null,null,null,null,null,null,null,null,null,null,null,null,null,null,null,null,null,null,null,null,null,null,null,null,null,null,null,null,null,null,null,null,null,null,""]
[null,null,null,null,null,null,null,null,null,null,{"$f":"IF(A438=\"\",\"\",K$5+Header!C$6*(A438-1))","v":""},null,"","","","","",{"$f":"#REF!","v":{"$error":"#REF!"}},1,"",null,null,null,null,null,null,null,null,null,null,null,null,null,null,null,null,null,null,null,null,null,null,null,null,null,null,null,null,null,null,null,null,null,null,null,null,null,null,null,null,null,null,null,null,null,null,null,null,null,null,null,null,null,null,null,null,null,null,null,null,null,null,null,null,null,null,null,null,null,null,null,null,null,null,null,null,null,null,null,null,null,null,null,null,null,null,null,null,null,null,null,null,null,null,null,null,null,null,null,null,null,null,null,null,null,null,null,null,null,null,null,null,null,null,null,null,null,null,null,null,null,null,null,null,null,null,null,null,""]
[null,null,null,null,null,null,null,null,null,null,{"$f":"IF(A439=\"\",\"\",K$5+Header!C$6*(A439-1))","v":""},null,"","","","","",{"$f":"#REF!","v":{"$error":"#REF!"}},1,"",null,null,null,null,null,null,null,null,null,null,null,null,null,null,null,null,null,null,null,null,null,null,null,null,null,null,null,null,null,null,null,null,null,null,null,null,null,null,null,null,null,null,null,null,null,null,null,null,null,null,null,null,null,null,null,null,null,null,null,null,null,null,null,null,null,null,null,null,null,null,null,null,null,null,null,null,null,null,null,null,null,null,null,null,null,null,null,null,null,null,null,null,null,null,null,null,null,null,null,null,null,null,null,null,null,null,null,null,null,null,null,null,null,null,null,null,null,null,null,null,null,null,null,null,null,null,null,null,""]
[null,null,null,null,null,null,null,null,null,null,{"$f":"IF(A440=\"\",\"\",K$5+Header!C$6*(A440-1))","v":""},null,"","","","","",{"$f":"#REF!","v":{"$error":"#REF!"}},1,"",null,null,null,null,null,null,null,null,null,null,null,null,null,null,null,null,null,null,null,null,null,null,null,null,null,null,null,null,null,null,null,null,null,null,null,null,null,null,null,null,null,null,null,null,null,null,null,null,null,null,null,null,null,null,null,null,null,null,null,null,null,null,null,null,null,null,null,null,null,null,null,null,null,null,null,null,null,null,null,null,null,null,null,null,null,null,null,null,null,null,null,null,null,null,null,null,null,null,null,null,null,null,null,null,null,null,null,null,null,null,null,null,null,null,null,null,null,null,null,null,null,null,null,null,null,null,null,null,""]
[null,null,null,null,null,null,null,null,null,null,{"$f":"IF(A441=\"\",\"\",K$5+Header!C$6*(A441-1))","v":""},null,"","","","","",{"$f":"#REF!","v":{"$error":"#REF!"}},1,"",null,null,null,null,null,null,null,null,null,null,null,null,null,null,null,null,null,null,null,null,null,null,null,null,null,null,null,null,null,null,null,null,null,null,null,null,null,null,null,null,null,null,null,null,null,null,null,null,null,null,null,null,null,null,null,null,null,null,null,null,null,null,null,null,null,null,null,null,null,null,null,null,null,null,null,null,null,null,null,null,null,null,null,null,null,null,null,null,null,null,null,null,null,null,null,null,null,null,null,null,null,null,null,null,null,null,null,null,null,null,null,null,null,null,null,null,null,null,null,null,null,null,null,null,null,null,null,null,""]
[null,null,null,null,null,null,null,null,null,null,{"$f":"IF(A442=\"\",\"\",K$5+Header!C$6*(A442-1))","v":""},null,"","","","","",{"$f":"#REF!","v":{"$error":"#REF!"}},1,"",null,null,null,null,null,null,null,null,null,null,null,null,null,null,null,null,null,null,null,null,null,null,null,null,null,null,null,null,null,null,null,null,null,null,null,null,null,null,null,null,null,null,null,null,null,null,null,null,null,null,null,null,null,null,null,null,null,null,null,null,null,null,null,null,null,null,null,null,null,null,null,null,null,null,null,null,null,null,null,null,null,null,null,null,null,null,null,null,null,null,null,null,null,null,null,null,null,null,null,null,null,null,null,null,null,null,null,null,null,null,null,null,null,null,null,null,null,null,null,null,null,null,null,null,null,null,null,null,""]
[null,null,null,null,null,null,null,null,null,null,{"$f":"IF(A443=\"\",\"\",K$5+Header!C$6*(A443-1))","v":""},null,"","","","","",{"$f":"#REF!","v":{"$error":"#REF!"}},1,"",null,null,null,null,null,null,null,null,null,null,null,null,null,null,null,null,null,null,null,null,null,null,null,null,null,null,null,null,null,null,null,null,null,null,null,null,null,null,null,null,null,null,null,null,null,null,null,null,null,null,null,null,null,null,null,null,null,null,null,null,null,null,null,null,null,null,null,null,null,null,null,null,null,null,null,null,null,null,null,null,null,null,null,null,null,null,null,null,null,null,null,null,null,null,null,null,null,null,null,null,null,null,null,null,null,null,null,null,null,null,null,null,null,null,null,null,null,null,null,null,null,null,null,null,null,null,null,null,""]
[null,null,null,null,null,null,null,null,null,null,{"$f":"IF(A444=\"\",\"\",K$5+Header!C$6*(A444-1))","v":""},null,"","","","","",{"$f":"#REF!","v":{"$error":"#REF!"}},1,"",null,null,null,null,null,null,null,null,null,null,null,null,null,null,null,null,null,null,null,null,null,null,null,null,null,null,null,null,null,null,null,null,null,null,null,null,null,null,null,null,null,null,null,null,null,null,null,null,null,null,null,null,null,null,null,null,null,null,null,null,null,null,null,null,null,null,null,null,null,null,null,null,null,null,null,null,null,null,null,null,null,null,null,null,null,null,null,null,null,null,null,null,null,null,null,null,null,null,null,null,null,null,null,null,null,null,null,null,null,null,null,null,null,null,null,null,null,null,null,null,null,null,null,null,null,null,null,null,""]
[null,null,null,null,null,null,null,null,null,null,{"$f":"IF(A445=\"\",\"\",K$5+Header!C$6*(A445-1))","v":""},null,"","","","","",{"$f":"#REF!","v":{"$error":"#REF!"}},1,"",null,null,null,null,null,null,null,null,null,null,null,null,null,null,null,null,null,null,null,null,null,null,null,null,null,null,null,null,null,null,null,null,null,null,null,null,null,null,null,null,null,null,null,null,null,null,null,null,null,null,null,null,null,null,null,null,null,null,null,null,null,null,null,null,null,null,null,null,null,null,null,null,null,null,null,null,null,null,null,null,null,null,null,null,null,null,null,null,null,null,null,null,null,null,null,null,null,null,null,null,null,null,null,null,null,null,null,null,null,null,null,null,null,null,null,null,null,null,null,null,null,null,null,null,null,null,null,null,""]
[null,null,null,null,null,null,null,null,null,null,{"$f":"IF(A446=\"\",\"\",K$5+Header!C$6*(A446-1))","v":""},null,"","","","","",{"$f":"#REF!","v":{"$error":"#REF!"}},1,"",null,null,null,null,null,null,null,null,null,null,null,null,null,null,null,null,null,null,null,null,null,null,null,null,null,null,null,null,null,null,null,null,null,null,null,null,null,null,null,null,null,null,null,null,null,null,null,null,null,null,null,null,null,null,null,null,null,null,null,null,null,null,null,null,null,null,null,null,null,null,null,null,null,null,null,null,null,null,null,null,null,null,null,null,null,null,null,null,null,null,null,null,null,null,null,null,null,null,null,null,null,null,null,null,null,null,null,null,null,null,null,null,null,null,null,null,null,null,null,null,null,null,null,null,null,null,null,null,""]
[null,null,null,null,null,null,null,null,null,null,{"$f":"IF(A447=\"\",\"\",K$5+Header!C$6*(A447-1))","v":""},null,"","","","","",{"$f":"#REF!","v":{"$error":"#REF!"}},1,"",null,null,null,null,null,null,null,null,null,null,null,null,null,null,null,null,null,null,null,null,null,null,null,null,null,null,null,null,null,null,null,null,null,null,null,null,null,null,null,null,null,null,null,null,null,null,null,null,null,null,null,null,null,null,null,null,null,null,null,null,null,null,null,null,null,null,null,null,null,null,null,null,null,null,null,null,null,null,null,null,null,null,null,null,null,null,null,null,null,null,null,null,null,null,null,null,null,null,null,null,null,null,null,null,null,null,null,null,null,null,null,null,null,null,null,null,null,null,null,null,null,null,null,null,null,null,null,null,""]
[null,null,null,null,null,null,null,null,null,null,{"$f":"IF(A448=\"\",\"\",K$5+Header!C$6*(A448-1))","v":""},null,"","","","","",{"$f":"#REF!","v":{"$error":"#REF!"}},1,"",null,null,null,null,null,null,null,null,null,null,null,null,null,null,null,null,null,null,null,null,null,null,null,null,null,null,null,null,null,null,null,null,null,null,null,null,null,null,null,null,null,null,null,null,null,null,null,null,null,null,null,null,null,null,null,null,null,null,null,null,null,null,null,null,null,null,null,null,null,null,null,null,null,null,null,null,null,null,null,null,null,null,null,null,null,null,null,null,null,null,null,null,null,null,null,null,null,null,null,null,null,null,null,null,null,null,null,null,null,null,null,null,null,null,null,null,null,null,null,null,null,null,null,null,null,null,null,null,""]
[null,null,null,null,null,null,null,null,null,null,{"$f":"IF(A449=\"\",\"\",K$5+Header!C$6*(A449-1))","v":""},null,"","","","","",{"$f":"#REF!","v":{"$error":"#REF!"}},1,"",null,null,null,null,null,null,null,null,null,null,null,null,null,null,null,null,null,null,null,null,null,null,null,null,null,null,null,null,null,null,null,null,null,null,null,null,null,null,null,null,null,null,null,null,null,null,null,null,null,null,null,null,null,null,null,null,null,null,null,null,null,null,null,null,null,null,null,null,null,null,null,null,null,null,null,null,null,null,null,null,null,null,null,null,null,null,null,null,null,null,null,null,null,null,null,null,null,null,null,null,null,null,null,null,null,null,null,null,null,null,null,null,null,null,null,null,null,null,null,null,null,null,null,null,null,null,null,null,""]
[null,null,null,null,null,null,null,null,null,null,{"$f":"IF(A450=\"\",\"\",K$5+Header!C$6*(A450-1))","v":""},null,"","","","","",{"$f":"#REF!","v":{"$error":"#REF!"}},1,"",null,null,null,null,null,null,null,null,null,null,null,null,null,null,null,null,null,null,null,null,null,null,null,null,null,null,null,null,null,null,null,null,null,null,null,null,null,null,null,null,null,null,null,null,null,null,null,null,null,null,null,null,null,null,null,null,null,null,null,null,null,null,null,null,null,null,null,null,null,null,null,null,null,null,null,null,null,null,null,null,null,null,null,null,null,null,null,null,null,null,null,null,null,null,null,null,null,null,null,null,null,null,null,null,null,null,null,null,null,null,null,null,null,null,null,null,null,null,null,null,null,null,null,null,null,null,null,null,""]
[null,null,null,null,null,null,null,null,null,null,{"$f":"IF(A451=\"\",\"\",K$5+Header!C$6*(A451-1))","v":""},null,"","","","","",{"$f":"#REF!","v":{"$error":"#REF!"}},1,"",null,null,null,null,null,null,null,null,null,null,null,null,null,null,null,null,null,null,null,null,null,null,null,null,null,null,null,null,null,null,null,null,null,null,null,null,null,null,null,null,null,null,null,null,null,null,null,null,null,null,null,null,null,null,null,null,null,null,null,null,null,null,null,null,null,null,null,null,null,null,null,null,null,null,null,null,null,null,null,null,null,null,null,null,null,null,null,null,null,null,null,null,null,null,null,null,null,null,null,null,null,null,null,null,null,null,null,null,null,null,null,null,null,null,null,null,null,null,null,null,null,null,null,null,null,null,null,null,""]
[null,null,null,null,null,null,null,null,null,null,{"$f":"IF(A452=\"\",\"\",K$5+Header!C$6*(A452-1))","v":""},null,"","","","","",{"$f":"#REF!","v":{"$error":"#REF!"}},1,"",null,null,null,null,null,null,null,null,null,null,null,null,null,null,null,null,null,null,null,null,null,null,null,null,null,null,null,null,null,null,null,null,null,null,null,null,null,null,null,null,null,null,null,null,null,null,null,null,null,null,null,null,null,null,null,null,null,null,null,null,null,null,null,null,null,null,null,null,null,null,null,null,null,null,null,null,null,null,null,null,null,null,null,null,null,null,null,null,null,null,null,null,null,null,null,null,null,null,null,null,null,null,null,null,null,null,null,null,null,null,null,null,null,null,null,null,null,null,null,null,null,null,null,null,null,null,null,null,""]
[null,null,null,null,null,null,null,null,null,null,{"$f":"IF(A453=\"\",\"\",K$5+Header!C$6*(A453-1))","v":""},null,{"$f":"IF(C453=\"\",\"\",IF(ISNUMBER(SEARCH(C453,\"d\")),IF(ISNUMBER(SEARCH(D453,\"c\")),\"CS\",IF(ISNUMBER(SEARCH(D453,\"u\")),\"UU\")),\"\"))","v":""},{"$f":"IF(C453=\"\",\"\",IF(ISNUMBER(SEARCH(C453,\"e\")),IF(ISNUMBER(SEARCH(D453,\"c\")),IF(ISNUMBER(SEARCH(E453,\"a\")),\"CS\",\"CU\"),IF(ISNUMBER(SEARCH(E453,\"a\")),\"US\",\"UU\")),\"\"))","v":""},"","",{"$f":"IF(A453=\"\",\"\",A453)","v":""},{"$f":"#REF!","v":{"$error":"#REF!"}},1,"",null,null,null,null,null,null,null,null,null,null,null,null,null,null,null,null,null,null,null,null,null,null,null,null,null,null,null,null,null,null,null,null,null,null,null,null,null,null,null,null,null,null,null,null,null,null,null,null,null,null,null,null,null,null,null,null,null,null,null,null,null,null,null,null,null,null,null,null,null,null,null,null,null,null,null,null,null,null,null,null,null,null,null,null,null,null,null,null,null,null,null,null,null,null,null,null,null,null,null,null,null,null,null,null,null,null,null,null,null,null,null,null,null,null,null,null,null,null,null,null,null,null,null,null,null,null,null,null,{"$f":"IF(B453=\"\",\"\",B453+1)","v":""}]
[null,null,null,null,null,null,null,null,null,null,{"$f":"IF(A454=\"\",\"\",K$5+Header!C$6*(A454-1))","v":""},null,"","","",{"$f":"IF($O454=\"cs\",1,IF($O454=\"cu\",2,IF($O454=\"us\",3,IF($O454=\"uu\",4,\"\"))))","v":""},"",{"$f":"#REF!","v":{"$error":"#REF!"}},{"$f":"IF(A454>A453,A454,S453)","v":1},{"$f":"IF(Q454<>\"\",SUMIF(S:S,Q454,R:R),\"\")","v":""},null,null,null,null,null,null,null,null,null,null,null,null,null,null,null,null,null,null,null,null,null,null,null,null,null,null,null,null,null,null,null,null,null,null,null,null,null,null,null,null,null,null,null,null,null,null,null,null,null,null,null,null,null,null,null,null,null,null,null,null,null,null,null,null,null,null,null,null,null,null,null,null,null,null,null,null,null,null,null,null,null,null,null,null,null,null,null,null,null,null,null,null,null,null,null,null,null,null,null,null,null,null,null,null,null,null,null,null,null,null,null,null,null,null,null,null,null,null,null,null,null,null,null,null,null,null,null,null,""]
[null,null,null,null,null,null,null,null,null,null,{"$f":"IF(A455=\"\",\"\",K$5+Header!C$6*(A455-1))","v":""},null,"","","","","",{"$f":"#REF!","v":{"$error":"#REF!"}},1,"",null,null,null,null,null,null,null,null,null,null,null,null,null,null,null,null,null,null,null,null,null,null,null,null,null,null,null,null,null,null,null,null,null,null,null,null,null,null,null,null,null,null,null,null,null,null,null,null,null,null,null,null,null,null,null,null,null,null,null,null,null,null,null,null,null,null,null,null,null,null,null,null,null,null,null,null,null,null,null,null,null,null,null,null,null,null,null,null,null,null,null,null,null,null,null,null,null,null,null,null,null,null,null,null,null,null,null,null,null,null,null,null,null,null,null,null,null,null,null,null,null,null,null,null,null,null,null,null,""]
[null,null,null,null,null,null,null,null,null,null,{"$f":"IF(A456=\"\",\"\",K$5+Header!C$6*(A456-1))","v":""},null,"","","","","",{"$f":"#REF!","v":{"$error":"#REF!"}},1,"",null,null,null,null,null,null,null,null,null,null,null,null,null,null,null,null,null,null,null,null,null,null,null,null,null,null,null,null,null,null,null,null,null,null,null,null,null,null,null,null,null,null,null,null,null,null,null,null,null,null,null,null,null,null,null,null,null,null,null,null,null,null,null,null,null,null,null,null,null,null,null,null,null,null,null,null,null,null,null,null,null,null,null,null,null,null,null,null,null,null,null,null,null,null,null,null,null,null,null,null,null,null,null,null,null,null,null,null,null,null,null,null,null,null,null,null,null,null,null,null,null,null,null,null,null,null,null,null,""]
[null,null,null,null,null,null,null,null,null,null,{"$f":"IF(A457=\"\",\"\",K$5+Header!C$6*(A457-1))","v":""},null,"","","","","",{"$f":"#REF!","v":{"$error":"#REF!"}},1,"",null,null,null,null,null,null,null,null,null,null,null,null,null,null,null,null,null,null,null,null,null,null,null,null,null,null,null,null,null,null,null,null,null,null,null,null,null,null,null,null,null,null,null,null,null,null,null,null,null,null,null,null,null,null,null,null,null,null,null,null,null,null,null,null,null,null,null,null,null,null,null,null,null,null,null,null,null,null,null,null,null,null,null,null,null,null,null,null,null,null,null,null,null,null,null,null,null,null,null,null,null,null,null,null,null,null,null,null,null,null,null,null,null,null,null,null,null,null,null,null,null,null,null,null,null,null,null,null,""]
[null,null,null,null,null,null,null,null,null,null,{"$f":"IF(A458=\"\",\"\",K$5+Header!C$6*(A458-1))","v":""},null,"","","","","",{"$f":"#REF!","v":{"$error":"#REF!"}},1,"",null,null,null,null,null,null,null,null,null,null,null,null,null,null,null,null,null,null,null,null,null,null,null,null,null,null,null,null,null,null,null,null,null,null,null,null,null,null,null,null,null,null,null,null,null,null,null,null,null,null,null,null,null,null,null,null,null,null,null,null,null,null,null,null,null,null,null,null,null,null,null,null,null,null,null,null,null,null,null,null,null,null,null,null,null,null,null,null,null,null,null,null,null,null,null,null,null,null,null,null,null,null,null,null,null,null,null,null,null,null,null,null,null,null,null,null,null,null,null,null,null,null,null,null,null,null,null,null,""]
[null,null,null,null,null,null,null,null,null,null,{"$f":"IF(A459=\"\",\"\",K$5+Header!C$6*(A459-1))","v":""},null,"","","","","",{"$f":"#REF!","v":{"$error":"#REF!"}},1,"",null,null,null,null,null,null,null,null,null,null,null,null,null,null,null,null,null,null,null,null,null,null,null,null,null,null,null,null,null,null,null,null,null,null,null,null,null,null,null,null,null,null,null,null,null,null,null,null,null,null,null,null,null,null,null,null,null,null,null,null,null,null,null,null,null,null,null,null,null,null,null,null,null,null,null,null,null,null,null,null,null,null,null,null,null,null,null,null,null,null,null,null,null,null,null,null,null,null,null,null,null,null,null,null,null,null,null,null,null,null,null,null,null,null,null,null,null,null,null,null,null,null,null,null,null,null,null,null,""]
[null,null,null,null,null,null,null,null,null,null,{"$f":"IF(A460=\"\",\"\",K$5+Header!C$6*(A460-1))","v":""},null,"","","","","",{"$f":"#REF!","v":{"$error":"#REF!"}},1,"",null,null,null,null,null,null,null,null,null,null,null,null,null,null,null,null,null,null,null,null,null,null,null,null,null,null,null,null,null,null,null,null,null,null,null,null,null,null,null,null,null,null,null,null,null,null,null,null,null,null,null,null,null,null,null,null,null,null,null,null,null,null,null,null,null,null,null,null,null,null,null,null,null,null,null,null,null,null,null,null,null,null,null,null,null,null,null,null,null,null,null,null,null,null,null,null,null,null,null,null,null,null,null,null,null,null,null,null,null,null,null,null,null,null,null,null,null,null,null,null,null,null,null,null,null,null,null,null,""]
[null,null,null,null,null,null,null,null,null,null,{"$f":"IF(A461=\"\",\"\",K$5+Header!C$6*(A461-1))","v":""},null,"","","","","",{"$f":"#REF!","v":{"$error":"#REF!"}},1,"",null,null,null,null,null,null,null,null,null,null,null,null,null,null,null,null,null,null,null,null,null,null,null,null,null,null,null,null,null,null,null,null,null,null,null,null,null,null,null,null,null,null,null,null,null,null,null,null,null,null,null,null,null,null,null,null,null,null,null,null,null,null,null,null,null,null,null,null,null,null,null,null,null,null,null,null,null,null,null,null,null,null,null,null,null,null,null,null,null,null,null,null,null,null,null,null,null,null,null,null,null,null,null,null,null,null,null,null,null,null,null,null,null,null,null,null,null,null,null,null,null,null,null,null,null,null,null,null,""]
[null,null,null,null,null,null,null,null,null,null,{"$f":"IF(A462=\"\",\"\",K$5+Header!C$6*(A462-1))","v":""},null,"","","","","",{"$f":"#REF!","v":{"$error":"#REF!"}},1,"",null,null,null,null,null,null,null,null,null,null,null,null,null,null,null,null,null,null,null,null,null,null,null,null,null,null,null,null,null,null,null,null,null,null,null,null,null,null,null,null,null,null,null,null,null,null,null,null,null,null,null,null,null,null,null,null,null,null,null,null,null,null,null,null,null,null,null,null,null,null,null,null,null,null,null,null,null,null,null,null,null,null,null,null,null,null,null,null,null,null,null,null,null,null,null,null,null,null,null,null,null,null,null,null,null,null,null,null,null,null,null,null,null,null,null,null,null,null,null,null,null,null,null,null,null,null,null,null,""]
[null,null,null,null,null,null,null,null,null,null,{"$f":"IF(A463=\"\",\"\",K$5+Header!C$6*(A463-1))","v":""},null,"","","","","",{"$f":"#REF!","v":{"$error":"#REF!"}},1,"",null,null,null,null,null,null,null,null,null,null,null,null,null,null,null,null,null,null,null,null,null,null,null,null,null,null,null,null,null,null,null,null,null,null,null,null,null,null,null,null,null,null,null,null,null,null,null,null,null,null,null,null,null,null,null,null,null,null,null,null,null,null,null,null,null,null,null,null,null,null,null,null,null,null,null,null,null,null,null,null,null,null,null,null,null,null,null,null,null,null,null,null,null,null,null,null,null,null,null,null,null,null,null,null,null,null,null,null,null,null,null,null,null,null,null,null,null,null,null,null,null,null,null,null,null,null,null,null,""]
[null,null,null,null,null,null,null,null,null,null,{"$f":"IF(A464=\"\",\"\",K$5+Header!C$6*(A464-1))","v":""},null,"","","","","",{"$f":"#REF!","v":{"$error":"#REF!"}},1,"",null,null,null,null,null,null,null,null,null,null,null,null,null,null,null,null,null,null,null,null,null,null,null,null,null,null,null,null,null,null,null,null,null,null,null,null,null,null,null,null,null,null,null,null,null,null,null,null,null,null,null,null,null,null,null,null,null,null,null,null,null,null,null,null,null,null,null,null,null,null,null,null,null,null,null,null,null,null,null,null,null,null,null,null,null,null,null,null,null,null,null,null,null,null,null,null,null,null,null,null,null,null,null,null,null,null,null,null,null,null,null,null,null,null,null,null,null,null,null,null,null,null,null,null,null,null,null,null,""]
[null,null,null,null,null,null,null,null,null,null,{"$f":"IF(A465=\"\",\"\",K$5+Header!C$6*(A465-1))","v":""},null,"","","","","",{"$f":"#REF!","v":{"$error":"#REF!"}},1,"",null,null,null,null,null,null,null,null,null,null,null,null,null,null,null,null,null,null,null,null,null,null,null,null,null,null,null,null,null,null,null,null,null,null,null,null,null,null,null,null,null,null,null,null,null,null,null,null,null,null,null,null,null,null,null,null,null,null,null,null,null,null,null,null,null,null,null,null,null,null,null,null,null,null,null,null,null,null,null,null,null,null,null,null,null,null,null,null,null,null,null,null,null,null,null,null,null,null,null,null,null,null,null,null,null,null,null,null,null,null,null,null,null,null,null,null,null,null,null,null,null,null,null,null,null,null,null,null,""]
[null,null,null,null,null,null,null,null,null,null,{"$f":"IF(A466=\"\",\"\",K$5+Header!C$6*(A466-1))","v":""},null,"","","","","",{"$f":"#REF!","v":{"$error":"#REF!"}},1,"",null,null,null,null,null,null,null,null,null,null,null,null,null,null,null,null,null,null,null,null,null,null,null,null,null,null,null,null,null,null,null,null,null,null,null,null,null,null,null,null,null,null,null,null,null,null,null,null,null,null,null,null,null,null,null,null,null,null,null,null,null,null,null,null,null,null,null,null,null,null,null,null,null,null,null,null,null,null,null,null,null,null,null,null,null,null,null,null,null,null,null,null,null,null,null,null,null,null,null,null,null,null,null,null,null,null,null,null,null,null,null,null,null,null,null,null,null,null,null,null,null,null,null,null,null,null,null,null,""]
[null,null,null,null,null,null,null,null,null,null,{"$f":"IF(A467=\"\",\"\",K$5+Header!C$6*(A467-1))","v":""},null,"","","","","",{"$f":"#REF!","v":{"$error":"#REF!"}},1,"",null,null,null,null,null,null,null,null,null,null,null,null,null,null,null,null,null,null,null,null,null,null,null,null,null,null,null,null,null,null,null,null,null,null,null,null,null,null,null,null,null,null,null,null,null,null,null,null,null,null,null,null,null,null,null,null,null,null,null,null,null,null,null,null,null,null,null,null,null,null,null,null,null,null,null,null,null,null,null,null,null,null,null,null,null,null,null,null,null,null,null,null,null,null,null,null,null,null,null,null,null,null,null,null,null,null,null,null,null,null,null,null,null,null,null,null,null,null,null,null,null,null,null,null,null,null,null,null,""]
[null,null,null,null,null,null,null,null,null,null,{"$f":"IF(A468=\"\",\"\",K$5+Header!C$6*(A468-1))","v":""},null,"","","","","",{"$f":"#REF!","v":{"$error":"#REF!"}},1,"",null,null,null,null,null,null,null,null,null,null,null,null,null,null,null,null,null,null,null,null,null,null,null,null,null,null,null,null,null,null,null,null,null,null,null,null,null,null,null,null,null,null,null,null,null,null,null,null,null,null,null,null,null,null,null,null,null,null,null,null,null,null,null,null,null,null,null,null,null,null,null,null,null,null,null,null,null,null,null,null,null,null,null,null,null,null,null,null,null,null,null,null,null,null,null,null,null,null,null,null,null,null,null,null,null,null,null,null,null,null,null,null,null,null,null,null,null,null,null,null,null,null,null,null,null,null,null,null,""]
[null,null,null,null,null,null,null,null,null,null,{"$f":"IF(A469=\"\",\"\",K$5+Header!C$6*(A469-1))","v":""},null,"","","","","",{"$f":"#REF!","v":{"$error":"#REF!"}},1,"",null,null,null,null,null,null,null,null,null,null,null,null,null,null,null,null,null,null,null,null,null,null,null,null,null,null,null,null,null,null,null,null,null,null,null,null,null,null,null,null,null,null,null,null,null,null,null,null,null,null,null,null,null,null,null,null,null,null,null,null,null,null,null,null,null,null,null,null,null,null,null,null,null,null,null,null,null,null,null,null,null,null,null,null,null,null,null,null,null,null,null,null,null,null,null,null,null,null,null,null,null,null,null,null,null,null,null,null,null,null,null,null,null,null,null,null,null,null,null,null,null,null,null,null,null,null,null,null,""]
[null,null,null,null,null,null,null,null,null,null,{"$f":"IF(A470=\"\",\"\",K$5+Header!C$6*(A470-1))","v":""},null,"","","","","",{"$f":"#REF!","v":{"$error":"#REF!"}},1,"",null,null,null,null,null,null,null,null,null,null,null,null,null,null,null,null,null,null,null,null,null,null,null,null,null,null,null,null,null,null,null,null,null,null,null,null,null,null,null,null,null,null,null,null,null,null,null,null,null,null,null,null,null,null,null,null,null,null,null,null,null,null,null,null,null,null,null,null,null,null,null,null,null,null,null,null,null,null,null,null,null,null,null,null,null,null,null,null,null,null,null,null,null,null,null,null,null,null,null,null,null,null,null,null,null,null,null,null,null,null,null,null,null,null,null,null,null,null,null,null,null,null,null,null,null,null,null,null,""]
[null,null,null,null,null,null,null,null,null,null,{"$f":"IF(A471=\"\",\"\",K$5+Header!C$6*(A471-1))","v":""},null,"","","","","",{"$f":"#REF!","v":{"$error":"#REF!"}},1,"",null,null,null,null,null,null,null,null,null,null,null,null,null,null,null,null,null,null,null,null,null,null,null,null,null,null,null,null,null,null,null,null,null,null,null,null,null,null,null,null,null,null,null,null,null,null,null,null,null,null,null,null,null,null,null,null,null,null,null,null,null,null,null,null,null,null,null,null,null,null,null,null,null,null,null,null,null,null,null,null,null,null,null,null,null,null,null,null,null,null,null,null,null,null,null,null,null,null,null,null,null,null,null,null,null,null,null,null,null,null,null,null,null,null,null,null,null,null,null,null,null,null,null,null,null,null,null,null,""]
[null,null,null,null,null,null,null,null,null,null,{"$f":"IF(A472=\"\",\"\",K$5+Header!C$6*(A472-1))","v":""},null,"","","","","",{"$f":"#REF!","v":{"$error":"#REF!"}},1,"",null,null,null,null,null,null,null,null,null,null,null,null,null,null,null,null,null,null,null,null,null,null,null,null,null,null,null,null,null,null,null,null,null,null,null,null,null,null,null,null,null,null,null,null,null,null,null,null,null,null,null,null,null,null,null,null,null,null,null,null,null,null,null,null,null,null,null,null,null,null,null,null,null,null,null,null,null,null,null,null,null,null,null,null,null,null,null,null,null,null,null,null,null,null,null,null,null,null,null,null,null,null,null,null,null,null,null,null,null,null,null,null,null,null,null,null,null,null,null,null,null,null,null,null,null,null,null,null,""]
[null,null,null,null,null,null,null,null,null,null,{"$f":"IF(A473=\"\",\"\",K$5+Header!C$6*(A473-1))","v":""},null,"","","","","",{"$f":"#REF!","v":{"$error":"#REF!"}},1,"",null,null,null,null,null,null,null,null,null,null,null,null,null,null,null,null,null,null,null,null,null,null,null,null,null,null,null,null,null,null,null,null,null,null,null,null,null,null,null,null,null,null,null,null,null,null,null,null,null,null,null,null,null,null,null,null,null,null,null,null,null,null,null,null,null,null,null,null,null,null,null,null,null,null,null,null,null,null,null,null,null,null,null,null,null,null,null,null,null,null,null,null,null,null,null,null,null,null,null,null,null,null,null,null,null,null,null,null,null,null,null,null,null,null,null,null,null,null,null,null,null,null,null,null,null,null,null,null,""]
[null,null,null,null,null,null,null,null,null,null,{"$f":"IF(A474=\"\",\"\",K$5+Header!C$6*(A474-1))","v":""},null,"","","","","",{"$f":"#REF!","v":{"$error":"#REF!"}},1,"",null,null,null,null,null,null,null,null,null,null,null,null,null,null,null,null,null,null,null,null,null,null,null,null,null,null,null,null,null,null,null,null,null,null,null,null,null,null,null,null,null,null,null,null,null,null,null,null,null,null,null,null,null,null,null,null,null,null,null,null,null,null,null,null,null,null,null,null,null,null,null,null,null,null,null,null,null,null,null,null,null,null,null,null,null,null,null,null,null,null,null,null,null,null,null,null,null,null,null,null,null,null,null,null,null,null,null,null,null,null,null,null,null,null,null,null,null,null,null,null,null,null,null,null,null,null,null,null,""]
[null,null,null,null,null,null,null,null,null,null,{"$f":"IF(A475=\"\",\"\",K$5+Header!C$6*(A475-1))","v":""},null,"","","","","",{"$f":"#REF!","v":{"$error":"#REF!"}},1,"",null,null,null,null,null,null,null,null,null,null,null,null,null,null,null,null,null,null,null,null,null,null,null,null,null,null,null,null,null,null,null,null,null,null,null,null,null,null,null,null,null,null,null,null,null,null,null,null,null,null,null,null,null,null,null,null,null,null,null,null,null,null,null,null,null,null,null,null,null,null,null,null,null,null,null,null,null,null,null,null,null,null,null,null,null,null,null,null,null,null,null,null,null,null,null,null,null,null,null,null,null,null,null,null,null,null,null,null,null,null,null,null,null,null,null,null,null,null,null,null,null,null,null,null,null,null,null,null,""]
[null,null,null,null,null,null,null,null,null,null,{"$f":"IF(A476=\"\",\"\",K$5+Header!C$6*(A476-1))","v":""},null,"","","","","",{"$f":"#REF!","v":{"$error":"#REF!"}},1,"",null,null,null,null,null,null,null,null,null,null,null,null,null,null,null,null,null,null,null,null,null,null,null,null,null,null,null,null,null,null,null,null,null,null,null,null,null,null,null,null,null,null,null,null,null,null,null,null,null,null,null,null,null,null,null,null,null,null,null,null,null,null,null,null,null,null,null,null,null,null,null,null,null,null,null,null,null,null,null,null,null,null,null,null,null,null,null,null,null,null,null,null,null,null,null,null,null,null,null,null,null,null,null,null,null,null,null,null,null,null,null,null,null,null,null,null,null,null,null,null,null,null,null,null,null,null,null,null,""]
[null,null,null,null,null,null,null,null,null,null,{"$f":"IF(A477=\"\",\"\",K$5+Header!C$6*(A477-1))","v":""},null,"","","","","",{"$f":"#REF!","v":{"$error":"#REF!"}},1,"",null,null,null,null,null,null,null,null,null,null,null,null,null,null,null,null,null,null,null,null,null,null,null,null,null,null,null,null,null,null,null,null,null,null,null,null,null,null,null,null,null,null,null,null,null,null,null,null,null,null,null,null,null,null,null,null,null,null,null,null,null,null,null,null,null,null,null,null,null,null,null,null,null,null,null,null,null,null,null,null,null,null,null,null,null,null,null,null,null,null,null,null,null,null,null,null,null,null,null,null,null,null,null,null,null,null,null,null,null,null,null,null,null,null,null,null,null,null,null,null,null,null,null,null,null,null,null,null,""]
[null,null,null,null,null,null,null,null,null,null,{"$f":"IF(A478=\"\",\"\",K$5+Header!C$6*(A478-1))","v":""},null,"","","","","",{"$f":"#REF!","v":{"$error":"#REF!"}},1,"",null,null,null,null,null,null,null,null,null,null,null,null,null,null,null,null,null,null,null,null,null,null,null,null,null,null,null,null,null,null,null,null,null,null,null,null,null,null,null,null,null,null,null,null,null,null,null,null,null,null,null,null,null,null,null,null,null,null,null,null,null,null,null,null,null,null,null,null,null,null,null,null,null,null,null,null,null,null,null,null,null,null,null,null,null,null,null,null,null,null,null,null,null,null,null,null,null,null,null,null,null,null,null,null,null,null,null,null,null,null,null,null,null,null,null,null,null,null,null,null,null,null,null,null,null,null,null,null,""]
[null,null,null,null,null,null,null,null,null,null,{"$f":"IF(A479=\"\",\"\",K$5+Header!C$6*(A479-1))","v":""},null,"","","","","",{"$f":"#REF!","v":{"$error":"#REF!"}},1,"",null,null,null,null,null,null,null,null,null,null,null,null,null,null,null,null,null,null,null,null,null,null,null,null,null,null,null,null,null,null,null,null,null,null,null,null,null,null,null,null,null,null,null,null,null,null,null,null,null,null,null,null,null,null,null,null,null,null,null,null,null,null,null,null,null,null,null,null,null,null,null,null,null,null,null,null,null,null,null,null,null,null,null,null,null,null,null,null,null,null,null,null,null,null,null,null,null,null,null,null,null,null,null,null,null,null,null,null,null,null,null,null,null,null,null,null,null,null,null,null,null,null,null,null,null,null,null,null,""]
[null,null,null,null,null,null,null,null,null,null,{"$f":"IF(A480=\"\",\"\",K$5+Header!C$6*(A480-1))","v":""},null,"","","","","",{"$f":"#REF!","v":{"$error":"#REF!"}},1,"",null,null,null,null,null,null,null,null,null,null,null,null,null,null,null,null,null,null,null,null,null,null,null,null,null,null,null,null,null,null,null,null,null,null,null,null,null,null,null,null,null,null,null,null,null,null,null,null,null,null,null,null,null,null,null,null,null,null,null,null,null,null,null,null,null,null,null,null,null,null,null,null,null,null,null,null,null,null,null,null,null,null,null,null,null,null,null,null,null,null,null,null,null,null,null,null,null,null,null,null,null,null,null,null,null,null,null,null,null,null,null,null,null,null,null,null,null,null,null,null,null,null,null,null,null,null,null,null,""]
[null,null,null,null,null,null,null,null,null,null,{"$f":"IF(A481=\"\",\"\",K$5+Header!C$6*(A481-1))","v":""},null,"","","","","",{"$f":"#REF!","v":{"$error":"#REF!"}},1,"",null,null,null,null,null,null,null,null,null,null,null,null,null,null,null,null,null,null,null,null,null,null,null,null,null,null,null,null,null,null,null,null,null,null,null,null,null,null,null,null,null,null,null,null,null,null,null,null,null,null,null,null,null,null,null,null,null,null,null,null,null,null,null,null,null,null,null,null,null,null,null,null,null,null,null,null,null,null,null,null,null,null,null,null,null,null,null,null,null,null,null,null,null,null,null,null,null,null,null,null,null,null,null,null,null,null,null,null,null,null,null,null,null,null,null,null,null,null,null,null,null,null,null,null,null,null,null,null,""]
[null,null,null,null,null,null,null,null,null,null,{"$f":"IF(A482=\"\",\"\",K$5+Header!C$6*(A482-1))","v":""},null,"","","","","",{"$f":"#REF!","v":{"$error":"#REF!"}},1,"",null,null,null,null,null,null,null,null,null,null,null,null,null,null,null,null,null,null,null,null,null,null,null,null,null,null,null,null,null,null,null,null,null,null,null,null,null,null,null,null,null,null,null,null,null,null,null,null,null,null,null,null,null,null,null,null,null,null,null,null,null,null,null,null,null,null,null,null,null,null,null,null,null,null,null,null,null,null,null,null,null,null,null,null,null,null,null,null,null,null,null,null,null,null,null,null,null,null,null,null,null,null,null,null,null,null,null,null,null,null,null,null,null,null,null,null,null,null,null,null,null,null,null,null,null,null,null,null,""]
[null,null,null,null,null,null,null,null,null,null,{"$f":"IF(A483=\"\",\"\",K$5+Header!C$6*(A483-1))","v":""},null,"","","","","",{"$f":"#REF!","v":{"$error":"#REF!"}},1,"",null,null,null,null,null,null,null,null,null,null,null,null,null,null,null,null,null,null,null,null,null,null,null,null,null,null,null,null,null,null,null,null,null,null,null,null,null,null,null,null,null,null,null,null,null,null,null,null,null,null,null,null,null,null,null,null,null,null,null,null,null,null,null,null,null,null,null,null,null,null,null,null,null,null,null,null,null,null,null,null,null,null,null,null,null,null,null,null,null,null,null,null,null,null,null,null,null,null,null,null,null,null,null,null,null,null,null,null,null,null,null,null,null,null,null,null,null,null,null,null,null,null,null,null,null,null,null,null,""]
[null,null,null,null,null,null,null,null,null,null,{"$f":"IF(A484=\"\",\"\",K$5+Header!C$6*(A484-1))","v":""},null,"","","","","",{"$f":"#REF!","v":{"$error":"#REF!"}},1,"",null,null,null,null,null,null,null,null,null,null,null,null,null,null,null,null,null,null,null,null,null,null,null,null,null,null,null,null,null,null,null,null,null,null,null,null,null,null,null,null,null,null,null,null,null,null,null,null,null,null,null,null,null,null,null,null,null,null,null,null,null,null,null,null,null,null,null,null,null,null,null,null,null,null,null,null,null,null,null,null,null,null,null,null,null,null,null,null,null,null,null,null,null,null,null,null,null,null,null,null,null,null,null,null,null,null,null,null,null,null,null,null,null,null,null,null,null,null,null,null,null,null,null,null,null,null,null,null,""]
[null,null,null,null,null,null,null,null,null,null,{"$f":"IF(A485=\"\",\"\",K$5+Header!C$6*(A485-1))","v":""},null,"","","","","",{"$f":"#REF!","v":{"$error":"#REF!"}},1,"",null,null,null,null,null,null,null,null,null,null,null,null,null,null,null,null,null,null,null,null,null,null,null,null,null,null,null,null,null,null,null,null,null,null,null,null,null,null,null,null,null,null,null,null,null,null,null,null,null,null,null,null,null,null,null,null,null,null,null,null,null,null,null,null,null,null,null,null,null,null,null,null,null,null,null,null,null,null,null,null,null,null,null,null,null,null,null,null,null,null,null,null,null,null,null,null,null,null,null,null,null,null,null,null,null,null,null,null,null,null,null,null,null,null,null,null,null,null,null,null,null,null,null,null,null,null,null,null,""]
[null,null,null,null,null,null,null,null,null,null,{"$f":"IF(A486=\"\",\"\",K$5+Header!C$6*(A486-1))","v":""},null,"","","","","",{"$f":"#REF!","v":{"$error":"#REF!"}},1,"",null,null,null,null,null,null,null,null,null,null,null,null,null,null,null,null,null,null,null,null,null,null,null,null,null,null,null,null,null,null,null,null,null,null,null,null,null,null,null,null,null,null,null,null,null,null,null,null,null,null,null,null,null,null,null,null,null,null,null,null,null,null,null,null,null,null,null,null,null,null,null,null,null,null,null,null,null,null,null,null,null,null,null,null,null,null,null,null,null,null,null,null,null,null,null,null,null,null,null,null,null,null,null,null,null,null,null,null,null,null,null,null,null,null,null,null,null,null,null,null,null,null,null,null,null,null,null,null,""]
[null,null,null,null,null,null,null,null,null,null,{"$f":"IF(A487=\"\",\"\",K$5+Header!C$6*(A487-1))","v":""},null,"","","","","",{"$f":"#REF!","v":{"$error":"#REF!"}},1,"",null,null,null,null,null,null,null,null,null,null,null,null,null,null,null,null,null,null,null,null,null,null,null,null,null,null,null,null,null,null,null,null,null,null,null,null,null,null,null,null,null,null,null,null,null,null,null,null,null,null,null,null,null,null,null,null,null,null,null,null,null,null,null,null,null,null,null,null,null,null,null,null,null,null,null,null,null,null,null,null,null,null,null,null,null,null,null,null,null,null,null,null,null,null,null,null,null,null,null,null,null,null,null,null,null,null,null,null,null,null,null,null,null,null,null,null,null,null,null,null,null,null,null,null,null,null,null,null,""]
[null,null,null,null,null,null,null,null,null,null,{"$f":"IF(A488=\"\",\"\",K$5+Header!C$6*(A488-1))","v":""},null,"","","","","",{"$f":"#REF!","v":{"$error":"#REF!"}},1,"",null,null,null,null,null,null,null,null,null,null,null,null,null,null,null,null,null,null,null,null,null,null,null,null,null,null,null,null,null,null,null,null,null,null,null,null,null,null,null,null,null,null,null,null,null,null,null,null,null,null,null,null,null,null,null,null,null,null,null,null,null,null,null,null,null,null,null,null,null,null,null,null,null,null,null,null,null,null,null,null,null,null,null,null,null,null,null,null,null,null,null,null,null,null,null,null,null,null,null,null,null,null,null,null,null,null,null,null,null,null,null,null,null,null,null,null,null,null,null,null,null,null,null,null,null,null,null,null,""]
[null,null,null,null,null,null,null,null,null,null,{"$f":"IF(A489=\"\",\"\",K$5+Header!C$6*(A489-1))","v":""},null,"","","","","",{"$f":"#REF!","v":{"$error":"#REF!"}},1,"",null,null,null,null,null,null,null,null,null,null,null,null,null,null,null,null,null,null,null,null,null,null,null,null,null,null,null,null,null,null,null,null,null,null,null,null,null,null,null,null,null,null,null,null,null,null,null,null,null,null,null,null,null,null,null,null,null,null,null,null,null,null,null,null,null,null,null,null,null,null,null,null,null,null,null,null,null,null,null,null,null,null,null,null,null,null,null,null,null,null,null,null,null,null,null,null,null,null,null,null,null,null,null,null,null,null,null,null,null,null,null,null,null,null,null,null,null,null,null,null,null,null,null,null,null,null,null,null,""]
[null,null,null,null,null,null,null,null,null,null,{"$f":"IF(A490=\"\",\"\",K$5+Header!C$6*(A490-1))","v":""},null,"","","","","",{"$f":"#REF!","v":{"$error":"#REF!"}},1,"",null,null,null,null,null,null,null,null,null,null,null,null,null,null,null,null,null,null,null,null,null,null,null,null,null,null,null,null,null,null,null,null,null,null,null,null,null,null,null,null,null,null,null,null,null,null,null,null,null,null,null,null,null,null,null,null,null,null,null,null,null,null,null,null,null,null,null,null,null,null,null,null,null,null,null,null,null,null,null,null,null,null,null,null,null,null,null,null,null,null,null,null,null,null,null,null,null,null,null,null,null,null,null,null,null,null,null,null,null,null,null,null,null,null,null,null,null,null,null,null,null,null,null,null,null,null,null,null,""]
[null,null,null,null,null,null,null,null,null,null,{"$f":"IF(A491=\"\",\"\",K$5+Header!C$6*(A491-1))","v":""},null,"","","","","",{"$f":"#REF!","v":{"$error":"#REF!"}},1,"",null,null,null,null,null,null,null,null,null,null,null,null,null,null,null,null,null,null,null,null,null,null,null,null,null,null,null,null,null,null,null,null,null,null,null,null,null,null,null,null,null,null,null,null,null,null,null,null,null,null,null,null,null,null,null,null,null,null,null,null,null,null,null,null,null,null,null,null,null,null,null,null,null,null,null,null,null,null,null,null,null,null,null,null,null,null,null,null,null,null,null,null,null,null,null,null,null,null,null,null,null,null,null,null,null,null,null,null,null,null,null,null,null,null,null,null,null,null,null,null,null,null,null,null,null,null,null,null,""]
[null,null,null,null,null,null,null,null,null,null,{"$f":"IF(A492=\"\",\"\",K$5+Header!C$6*(A492-1))","v":""},null,"","",{"$f":"IF(M492=\"\",N492,M492)","v":""},"","",{"$f":"#REF!","v":{"$error":"#REF!"}},1,"",null,null,null,null,null,null,null,null,null,null,null,null,null,null,null,null,null,null,null,null,null,null,null,null,null,null,null,null,null,null,null,null,null,null,null,null,null,null,null,null,null,null,null,null,null,null,null,null,null,null,null,null,null,null,null,null,null,null,null,null,null,null,null,null,null,null,null,null,null,null,null,null,null,null,null,null,null,null,null,null,null,null,null,null,null,null,null,null,null,null,null,null,null,null,null,null,null,null,null,null,null,null,null,null,null,null,null,null,null,null,null,null,null,null,null,null,null,null,null,null,null,null,null,null,null,null,null,null,""]
[null,null,null,null,null,null,null,null,null,null,{"$f":"IF(A493=\"\",\"\",K$5+Header!C$6*(A493-1))","v":""},null,"","","","","",{"$f":"#REF!","v":{"$error":"#REF!"}},1,"",null,null,null,null,null,null,null,null,null,null,null,null,null,null,null,null,null,null,null,null,null,null,null,null,null,null,null,null,null,null,null,null,null,null,null,null,null,null,null,null,null,null,null,null,null,null,null,null,null,null,null,null,null,null,null,null,null,null,null,null,null,null,null,null,null,null,null,null,null,null,null,null,null,null,null,null,null,null,null,null,null,null,null,null,null,null,null,null,null,null,null,null,null,null,null,null,null,null,null,null,null,null,null,null,null,null,null,null,null,null,null,null,null,null,null,null,null,null,null,null,null,null,null,null,null,null,null,null,""]
[null,null,null,null,null,null,null,null,null,null,{"$f":"IF(A494=\"\",\"\",K$5+Header!C$6*(A494-1))","v":""},null,"","","","","",{"$f":"#REF!","v":{"$error":"#REF!"}},1,"",null,null,null,null,null,null,null,null,null,null,null,null,null,null,null,null,null,null,null,null,null,null,null,null,null,null,null,null,null,null,null,null,null,null,null,null,null,null,null,null,null,null,null,null,null,null,null,null,null,null,null,null,null,null,null,null,null,null,null,null,null,null,null,null,null,null,null,null,null,null,null,null,null,null,null,null,null,null,null,null,null,null,null,null,null,null,null,null,null,null,null,null,null,null,null,null,null,null,null,null,null,null,null,null,null,null,null,null,null,null,null,null,null,null,null,null,null,null,null,null,null,null,null,null,null,null,null,null,""]
[null,null,null,null,null,null,null,null,null,null,{"$f":"IF(A495=\"\",\"\",K$5+Header!C$6*(A495-1))","v":""},null,"","","","","",{"$f":"#REF!","v":{"$error":"#REF!"}},1,"",null,null,null,null,null,null,null,null,null,null,null,null,null,null,null,null,null,null,null,null,null,null,null,null,null,null,null,null,null,null,null,null,null,null,null,null,null,null,null,null,null,null,null,null,null,null,null,null,null,null,null,null,null,null,null,null,null,null,null,null,null,null,null,null,null,null,null,null,null,null,null,null,null,null,null,null,null,null,null,null,null,null,null,null,null,null,null,null,null,null,null,null,null,null,null,null,null,null,null,null,null,null,null,null,null,null,null,null,null,null,null,null,null,null,null,null,null,null,null,null,null,null,null,null,null,null,null,null,""]
[null,null,null,null,null,null,null,null,null,null,{"$f":"IF(A496=\"\",\"\",K$5+Header!C$6*(A496-1))","v":""},null,"","","","","",{"$f":"#REF!","v":{"$error":"#REF!"}},1,"",null,null,null,null,null,null,null,null,null,null,null,null,null,null,null,null,null,null,null,null,null,null,null,null,null,null,null,null,null,null,null,null,null,null,null,null,null,null,null,null,null,null,null,null,null,null,null,null,null,null,null,null,null,null,null,null,null,null,null,null,null,null,null,null,null,null,null,null,null,null,null,null,null,null,null,null,null,null,null,null,null,null,null,null,null,null,null,null,null,null,null,null,null,null,null,null,null,null,null,null,null,null,null,null,null,null,null,null,null,null,null,null,null,null,null,null,null,null,null,null,null,null,null,null,null,null,null,null,""]
[null,null,null,null,null,null,null,null,null,null,{"$f":"IF(A497=\"\",\"\",K$5+Header!C$6*(A497-1))","v":""},null,"","","","","",{"$f":"#REF!","v":{"$error":"#REF!"}},1,"",null,null,null,null,null,null,null,null,null,null,null,null,null,null,null,null,null,null,null,null,null,null,null,null,null,null,null,null,null,null,null,null,null,null,null,null,null,null,null,null,null,null,null,null,null,null,null,null,null,null,null,null,null,null,null,null,null,null,null,null,null,null,null,null,null,null,null,null,null,null,null,null,null,null,null,null,null,null,null,null,null,null,null,null,null,null,null,null,null,null,null,null,null,null,null,null,null,null,null,null,null,null,null,null,null,null,null,null,null,null,null,null,null,null,null,null,null,null,null,null,null,null,null,null,null,null,null,null,""]
[null,null,null,null,null,null,null,null,null,null,{"$f":"IF(A498=\"\",\"\",K$5+Header!C$6*(A498-1))","v":""},null,"","","","","",{"$f":"#REF!","v":{"$error":"#REF!"}},1,"",null,null,null,null,null,null,null,null,null,null,null,null,null,null,null,null,null,null,null,null,null,null,null,null,null,null,null,null,null,null,null,null,null,null,null,null,null,null,null,null,null,null,null,null,null,null,null,null,null,null,null,null,null,null,null,null,null,null,null,null,null,null,null,null,null,null,null,null,null,null,null,null,null,null,null,null,null,null,null,null,null,null,null,null,null,null,null,null,null,null,null,null,null,null,null,null,null,null,null,null,null,null,null,null,null,null,null,null,null,null,null,null,null,null,null,null,null,null,null,null,null,null,null,null,null,null,null,null,""]
[null,null,null,null,null,null,null,null,null,null,{"$f":"IF(A499=\"\",\"\",K$5+Header!C$6*(A499-1))","v":""},null,"","","","","",{"$f":"#REF!","v":{"$error":"#REF!"}},1,"",null,null,null,null,null,null,null,null,null,null,null,null,null,null,null,null,null,null,null,null,null,null,null,null,null,null,null,null,null,null,null,null,null,null,null,null,null,null,null,null,null,null,null,null,null,null,null,null,null,null,null,null,null,null,null,null,null,null,null,null,null,null,null,null,null,null,null,null,null,null,null,null,null,null,null,null,null,null,null,null,null,null,null,null,null,null,null,null,null,null,null,null,null,null,null,null,null,null,null,null,null,null,null,null,null,null,null,null,null,null,null,null,null,null,null,null,null,null,null,null,null,null,null,null,null,null,null,null,""]
[null,1,null,null,null,null,null,null,null,null,{"$f":"IF(A500=\"\",\"\",K$5+Header!C$6*(A500-1))","v":""},null,"","","","","",{"$f":"#REF!","v":{"$error":"#REF!"}},1,"",null,null,null,null,null,null,null,null,null,null,null,null,null,null,null,null,null,null,null,null,null,null,null,null,null,null,null,null,null,null,null,null,null,null,null,null,null,null,null,null,null,null,null,null,null,null,null,null,null,null,null,null,null,null,null,null,null,null,null,null,null,null,null,null,null,null,null,null,null,null,null,null,null,null,null,null,null,null,null,null,null,null,null,null,null,null,null,null,null,null,null,null,null,null,null,null,null,null,null,null,null,null,null,null,null,null,null,null,null,null,null,null,null,null,null,null,null,null,null,null,null,null,null,null,null,null,null,null,2]
[null,null,null,null,null,null,null,null,null,null,{"$f":"IF(A501=\"\",\"\",K$5+Header!C$6*(A501-1))","v":""},null,"","","","","",{"$f":"#REF!","v":{"$error":"#REF!"}},1,"",null,null,null,null,null,null,null,null,null,null,null,null,null,null,null,null,null,null,null,null,null,null,null,null,null,null,null,null,null,null,null,null,null,null,null,null,null,null,null,null,null,null,null,null,null,null,null,null,null,null,null,null,null,null,null,null,null,null,null,null,null,null,null,null,null,null,null,null,null,null,null,null,null,null,null,null,null,null,null,null,null,null,null,null,null,null,null,null,null,null,null,null,null,null,null,null,null,null,null,null,null,null,null,null,null,null,null,null,null,null,null,null,null,null,null,null,null,null,null,null,null,null,null,null,null,null,null,null,""]
[null,null,null,null,null,null,null,null,null,null,{"$f":"IF(A502=\"\",\"\",K$5+Header!C$6*(A502-1))","v":""},null,"","","","","",{"$f":"#REF!","v":{"$error":"#REF!"}},1,"",null,null,null,null,null,null,null,null,null,null,null,null,null,null,null,null,null,null,null,null,null,null,null,null,null,null,null,null,null,null,null,null,null,null,null,null,null,null,null,null,null,null,null,null,null,null,null,null,null,null,null,null,null,null,null,null,null,null,null,null,null,null,null,null,null,null,null,null,null,null,null,null,null,null,null,null,null,null,null,null,null,null,null,null,null,null,null,null,null,null,null,null,null,null,null,null,null,null,null,null,null,null,null,null,null,null,null,null,null,null,null,null,null,null,null,null,null,null,null,null,null,null,null,null,null,null,null,null,""]
[null,null,null,null,null,null,null,null,null,null,{"$f":"IF(A503=\"\",\"\",K$5+Header!C$6*(A503-1))","v":""},null,"","","","","",{"$f":"#REF!","v":{"$error":"#REF!"}},1,"",null,null,null,null,null,null,null,null,null,null,null,null,null,null,null,null,null,null,null,null,null,null,null,null,null,null,null,null,null,null,null,null,null,null,null,null,null,null,null,null,null,null,null,null,null,null,null,null,null,null,null,null,null,null,null,null,null,null,null,null,null,null,null,null,null,null,null,null,null,null,null,null,null,null,null,null,null,null,null,null,null,null,null,null,null,null,null,null,null,null,null,null,null,null,null,null,null,null,null,null,null,null,null,null,null,null,null,null,null,null,null,null,null,null,null,null,null,null,null,null,null,null,null,null,null,null,null,null,""]
["Mean/median",null,null,null,"Mean ",null,{"$f":"AVERAGE(G5:G503)","v":{"$error":"#DIV/0!"}},null,"Mean ",{"$f":"IF(ISERROR(AVERAGE(J5:J503)),\"\",AVERAGE(J5:J503))","v":""},{"$f":"MAX(K5:K502)","v":2},null,null,null,null,{"$f":"AVERAGE(P5:P502)","v":{"$error":"#DIV/0!"}},null,null,null,null,null,null,null,null,null,null,null,null,null,null,null,null,null,null,null,null,null,null,null,null,null,null,null,null,null,null,null,null,null,null,null,null,null,null,null,null,null,null,null,null,null,null,null,null,null,null,null,null,null,null,null,null,null,null,null,null,null,null,null,null,null,null,null,null,null,null,null,null,null,null,null,null,null,null,null,null,null,null,null,null,null,null,null,null,null,null,null,null,null,null,null,null,null,null,null,null,null,null,null,null,null,null,null,null,null,null,null,null,null,null,null,null,null,null,null,null,null,null,null,null,null,null,null,null,null,null,null,null,null,"Percent alteration"]
[null,{"$f":"AVERAGE(B5:B503)/5","v":0.2},null,null,"Median",null,{"$f":"MEDIAN(G5:G503)","v":{"$error":"#NUM!"}},null,"Median",{"$f":"MEDIAN(J5:J503)","v":{"$error":"#NUM!"}},null,null,null,null,null,{"$f":"STDEV(P5:P502)","v":{"$error":"#DIV/0!"}},null,null,null,null,null,null,null,null,null,null,null,null,null,null,null,null,null,null,null,null,null,null,null,null,null,null,null,null,null,null,null,null,null,null,null,null,null,null,null,null,null,null,null,null,null,null,null,null,null,null,null,null,null,null,null,null,null,null,null,null,null,null,null,null,null,null,null,null,null,null,null,null,null,null,null,null,null,null,null,null,null,null,null,null,null,null,null,null,null,null,null,null,null,null,null,null,null,null,null,null,null,null,null,null,null,null,null,null,null,null,null,null,null,null,null,null,null,null,null,null,null,null,null,null,null,null,null,null,null,null,null,"Mean ",{"$f":"IF(ISERROR(AVERAGE(ES5:ES503)),\"\",AVERAGE(ES5:ES503))","v":2},{"$f":"ES505/5","v":0.4}]
[null,{"$f":"IF(ISERROR(STDEV(B5:B503)),\"\",STDEV(B5:B503)/5)","v":""},null,null,"Standard Deviation",null,{"$f":"STDEV(G5:G503)","v":{"$error":"#DIV/0!"}},null,"Standard Deviation",{"$f":"STDEV(J5:J503)","v":{"$error":"#DIV/0!"}},null,null,null,null,null,{"$f":"COUNT(P5:P502)","v":0},null,null,null,null,null,null,null,null,null,null,null,null,null,null,null,null,null,null,null,null,null,null,null,null,null,null,null,null,null,null,null,null,null,null,null,null,null,null,null,null,null,null,null,null,null,null,null,null,null,null,null,null,null,null,null,null,null,null,null,null,null,null,null,null,null,null,null,null,null,null,null,null,null,null,null,null,null,null,null,null,null,null,null,null,null,null,null,null,null,null,null,null,null,null,null,null,null,null,null,null,null,null,null,null,null,null,null,null,null,null,null,null,null,null,null,null,null,null,null,null,null,null,null,null,null,null,null,null,null,null,null,"Standard Deviation",{"$f":"IF(ISERROR(STDEV(ES5:ES503)),\"\",STDEV(ES5:ES503))","v":""},{"$f":"ES506/5","v":{"$error":"#VALUE!"}}]
[null,{"$f":"IF(COUNT(B5:B503)=0,\"\",COUNT(B5:B503))","v":1},null,null,"Count",null,{"$f":"COUNT(G5:G503)","v":0},null,"Count",{"$f":"COUNT(J5:J502)","v":0},null,null,null,null,null,{"$f":"CONFIDENCE(0.05,P505,P506)","v":{"$error":"#DIV/0!"}},null,null,null,null,null,null,null,null,null,null,null,null,null,null,null,null,null,null,null,null,null,null,null,null,null,null,null,null,null,null,null,null,null,null,null,null,null,null,null,null,null,null,null,null,null,null,null,null,null,null,null,null,null,null,null,null,null,null,null,null,null,null,null,null,null,null,null,null,null,null,null,null,null,null,null,null,null,null,null,null,null,null,null,null,null,null,null,null,null,null,null,null,null,null,null,null,null,null,null,null,null,null,null,null,null,null,null,null,null,null,null,null,null,null,null,null,null,null,null,null,null,null,null,null,null,null,null,null,null,null,null,"Count",{"$f":"IF(COUNT(ES5:ES503)=0,\"\",COUNT(ES5:JS503))","v":1}]
[null,{"$f":"IF(B507=\"\",\"\",CONFIDENCE(0.05,B506,B507))","v":{"$error":"#VALUE!"}},null,null,"Confidence",null,{"$f":"CONFIDENCE(0.05,G506,G507)","v":{"$error":"#DIV/0!"}},null,"Confidence",{"$f":"CONFIDENCE(0.05,J506,J507)","v":{"$error":"#DIV/0!"}},null,null,null,null,null,null,null,null,null,null,null,null,null,null,null,null,null,null,null,null,null,null,null,null,null,null,null,null,null,null,null,null,null,null,null,null,null,null,null,null,null,null,null,null,null,null,null,null,null,null,null,null,null,null,null,null,null,null,null,null,null,null,null,null,null,null,null,null,null,null,null,null,null,null,null,null,null,null,null,null,null,null,null,null,null,null,null,null,null,null,null,null,null,null,null,null,null,null,null,null,null,null,null,null,null,null,null,null,null,null,null,null,null,null,null,null,null,null,null,null,null,null,null,null,null,null,null,null,null,null,null,null,null,null,null,null,null,"Confidence",{"$f":"IF(ES507=\"\",\"\",CONFIDENCE(0.05,ES506,ES507))","v":{"$error":"#VALUE!"}},{"$f":"ES508/5","v":{"$error":"#VALUE!"}}]
[null,{"$f":"IF(B508=\"\",\"\",B508*1.0041-0.008)","v":{"$error":"#VALUE!"}},null,null," ",null,null,null,"Boot adjust",{"$f":"0.98*J508-0.064","v":{"$error":"#DIV/0!"}},null,null,null,null,null,null,null,null,null,null,null,null,null,null,null,null,null,null,null,null,null,null,null,null,null,null,null,null,null,null,null,null,null,null,null,null,null,null,null,null,null,null,null,null,null,null,null,null,null,null,null,null,null,null,null,null,null,null,null,null,null,null,null,null,null,null,null,null,null,null,null,null,null,null,null,null,null,null,null,null,null,null,null,null,null,null,null,null,null,null,null,null,null,null,null,null,null,null,null,null,null,null,null,null,null,null,null,null,null,null,null,null,null,null,null,null,null,null,null,null,null,null,null,null,null,null,null,null,null,null,null,null,null,null,null,null,null,null,{"$f":"IF(ES508=\"\",\"\",ES508*1.0041-0.008)","v":{"$error":"#VALUE!"}},{"$f":"ES509/5","v":{"$error":"#VALUE!"}}]
[]
[null,null,null,null,null,"Units:",{"$f":"Header!F17","v":"In"}]
[null,"From observer variation (Table 9 in the DIG)",null,null,null,null,"From observer variation (Table 9)",null,null,"From observer variation (Table 9)",null,null,null,null,null,null,null,null,null,null,null,null,null,null,null,null,null,null,null,null,null,null,null,null,null,null,null,null,null,null,null,null,null,null,null,null,null,null,null,null,null,null,null,null,null,null,null,null,null,null,null,null,null,null,null,null,null,null,null,null,null,null,null,null,null,null,null,null,null,null,null,null,null,null,null,null,null,null,null,null,null,null,null,null,null,null,null,null,null,null,null,null,null,null,null,null,null,null,null,null,null,null,null,null,null,null,null,null,null,null,null,null,null,null,null,null,null,null,null,null,null,null,null,null,null,null,null,null,null,null,null,null,null,null,null,null,null,null,"From observer variation (Table 9)"]
[null,{"$f":"IF(C513<0.06,0.06,C513)","v":6.6000000000000003E-2},{"$f":"B514*B505","v":6.6000000000000003E-2},null,null,"ME",{"$f":"IF(ISERROR(G504),0.83,G514*G504)","v":0.83},null,"ME",{"$f":"IF(ISERROR(J505),0.52,J515*J504)","v":0.52},null,null,null,null,null,null,null,null,null,null,null,null,null,null,null,null,null,null,null,null,null,null,null,null,null,null,null,null,null,null,null,null,null,null,null,null,null,null,null,null,null,null,null,null,null,null,null,null,null,null,null,null,null,null,null,null,null,null,null,null,null,null,null,null,null,null,null,null,null,null,null,null,null,null,null,null,null,null,null,null,null,null,null,null,null,null,null,null,null,null,null,null,null,null,null,null,null,null,null,null,null,null,null,null,null,null,null,null,null,null,null,null,null,null,null,null,null,null,null,null,null,null,null,null,null,null,null,null,null,null,null,null,null,null,null,null,null,null,{"$f":"IF(ES505=\"\",0.07,ES515*ES505)","v":0.66},{"$f":"ES513/5","v":0.13200000000000001}]
[null,0.33,null,null,null,"RME =",0.16,null,null,null,null,null,null,null,null,null,null,null,null,null,null,null,null,null,null,null,null,null,null,null,null,null,null,null,null,null,null,null,null,null,null,null,null,null,null,null,null,null,null,null,null,null,null,null,null,null,null,null,null,null,null,null,null,null,null,null,null,null,null,null,null,null,null,null,null,null,null,null,null,null,null,null,null,null,null,null,null,null,null,null,null,null,null,null,null,null,null,null,null,null,null,null,null,null,null,null,null,null,null,null,null,null,null,null,null,null,null,null,null,null,null,null,null,null,null,null,null,null,null,null,null,null,null,null,null,null,null,null,null,null,null,null,null,null,null,null,null,null,{"$f":"IF(ES508=\"\",ES513,ES513*1.0041-0.008)","v":{"$error":"#VALUE!"}},{"$f":"ES514/5","v":{"$error":"#VALUE!"}}]
[null,null,null,null,null,null,null,null,"RME =",0.27,null,null,null,null,null,null,null,null,null,null,null,null,null,null,null,null,null,null,null,null,null,null,null,null,null,null,null,null,null,null,null,null,null,null,null,null,null,null,null,null,null,null,null,null,null,null,null,null,null,null,null,null,null,null,null,null,null,null,null,null,null,null,null,null,null,null,null,null,null,null,null,null,null,null,null,null,null,null,null,null,null,null,null,null,null,null,null,null,null,null,null,null,null,null,null,null,null,null,null,null,null,null,null,null,null,null,null,null,null,null,null,null,null,null,null,null,null,null,null,null,null,null,null,null,null,null,null,null,null,null,null,null,null,null,null,null,null,null,0.33]
[]
[null,{"$f":"Header!V2^2*DMA!B506^2/DMA!B513^2","v":{"$error":"#VALUE!"}},null,null,null,"N",{"$f":"Header!U2^2*DMA!G506^2/DMA!G513^2","v":{"$error":"#DIV/0!"}},null,"N",{"$f":"Header!R2^2*DMA!J506^2/DMA!J513^2","v":{"$error":"#DIV/0!"}},null,null,null,null,null,null,null,null,null,null,null,null,null,null,null,null,null,null,null,null,null,null,null,null,null,null,null,null,null,null,null,null,null,null,null,null,null,null,null,null,null,null,null,null,null,null,null,null,null,null,null,null,null,null,null,null,null,null,null,null,null,null,null,null,null,null,null,null,null,null,null,null,null,null,null,null,null,null,null,null,null,null,null,null,null,null,null,null,null,null,null,null,null,null,null,null,null,null,null,null,null,null,null,null,null,null,null,null,null,null,null,null,null,null,null,null,null,null,null,null,null,null,null,null,null,null,null,null,null,null,null,null,null,null,null,null,null,"N",{"$f":"Header!V2^2*C506^2/ET514^2","v":{"$error":"#VALUE!"}}]
[]
[]
[]
[]
[]
[]
[]
[]
[]
[]
[]
[]
[]
[]
[]
[]
[]
[]
[]
[]
[]
["end"]
[]
[]
[]
[]
[]
[]
[]
[]
[]
[null,"SAMPLE NEEDED (adjusted to bootstrap)",null,null,null,null,null,null,null,null,null,null,null,null,null,null,null,null,null,null,null,null,null,null,null,null,null,null,null,null,null,null,null,null,null,null,null,null,null,null,null,null,null,null,null,null,null,null,null,null,null,null,null,null,null,null,null,null,null,null,null,null,null,null,null,null,null,null,null,null,null,null,null,null,null,null,null,null,null,null,null,null,null,null,null,null,null,null,null,null,null,null,null,null,null,null,null,null,null,null,null,null,null,null,null,null,null,null,null,null,null,null,null,null,null,null,null,null,null,null,null,null,null,null,null,null,null,null,null,null,null,null,null,null,null,null,null,null,null,null,null,null,null,null,null,null,null,null,"SAMPLE NEEDED (adjusted to bootstrap)"]
[null,{"$f":"IF(B506=\"\",80,((DMA!L2)^2*(Header!V3)^2/(Header!I2*C508/C509)^2))","v":80},null,null,null,null,null,null,null,null,null,null,null,null,null,null,null,null,null,null,null,null,null,null,null,null,null,null,null,null,null,null,null,null,null,null,null,null,null,null,null,null,null,null,null,null,null,null,null,null,null,null,null,null,null,null,null,null,null,null,null,null,null,null,null,null,null,null,null,null,null,null,null,null,null,null,null,null,null,null,null,null,null,null,null,null,null,null,null,null,null,null,null,null,null,null,null,null,null,null,null,null,null,null,null,null,null,null,null,null,null,null,null,null,null,null,null,null,null,null,null,null,null,null,null,null,null,null,null,null,null,null,null,null,null,null,null,null,null,null,null,null,null,null,null,null,null,null,{"$f":"IF(ES506=\"\",80,((DMA!FJ2)^2*(Header!FT3)^2/(Header!FG2*ET508/ET509)^2))","v":80}]
[]
[]
[]
[]
[]
[]
[]
[]
[]
[]
[]
[]
[]
[]
[]
[]
[]
[]
[]
[]
[]
[]
[]
[]
[]
[]
[]
[]
[]
[]
[]
[]
[]
[]
[]
[]
[]
[]
[]
[]
[]
[]
[]
[]
[]
[]
[]
[]
[]
[]
[]
[]
[]
[]
[]
[]
[]
[null,null,null,null,null,null,null,null,null,null,null,null,null,null,null,null,null,null,null,null,null,null,null,null,null,null,null,null,null,null,null,null,null,null,null,null,null,null,null,null,null,null,null,null,null,null,null,null,null,null,null,null,null,null,null,null,null,null,null,null,null,null,null,null,null,null,null,null,null,null,null,null,null,null,null,null,null,null,null,null,null,null,null,null,null,null,null,null,null,null,null,null,null,null,null,null,null,null,null,null,null,null,null,null,null,null,null,null,null,null,null,null,"(Sum Early, Mid, Late)"]
[]
[null,null,null,null,null,null,null,null,null,null,null,null,null,null,null,null,null,null,null,null,null,null,null,null,null,null,null,null,null,null,null,null,null,null,null,null,null,null,null,null,null,null,null,null,null,null,null,null,null,null,null,null,null,null,null,null,null,null,null,null,null,null,null,null,null,null,null,null,null,null,null,null,null,null,null,null,null,null,null,null,null,null,null,null,null,null,null,null,null,null,null,null,null,null,null,null,null,null,null,null,null,null,null,null,null,null,null,null,null,null,null,null,"w/o capability & modifer"]

{"sheet":"Comments","index":3,"n_rows":500,"n_cols":32,"rows_kept":500,"cut":false,"hidden":false,"merged":[]}
["Plot No.","Comment",null,null,null,null,null,null,"UPDATED:","2025-01-01",null,null,null,null,null,null,null,null,null,"Data Filter","Plot #",{"$f":"DMA!B2","v":"Streambank Alteration"},{"$f":"DMA!F1","v":"      Stubble Height"},null,{"$f":"DMA!I1","v":"   Woody Species Use"},null,"Raw data","Plot #",{"$f":"V1","v":"Streambank Alteration"},{"$f":"W1","v":"      Stubble Height"},null,"   Woody Species Use"]
[null,null,null,null,null,null,null,null,null,null,null,null,null,null,null,null,null,null,null,null,1,{"$f":"IF(ISERROR(AVERAGEIF($AA:$AA,$U2,AC:AC)),\"\",AVERAGEIF($AA:$AA,$U2,AC:AC))","v":20},{"$f":"IF(ISERROR(AVERAGEIF($AA:$AA,$U2,AD:AD)),\"\",AVERAGEIF($AA:$AA,$U2,AD:AD))","v":""},null,"",null,{"$f":"AB2","v":1},{"$f":"IF(DMA!A5=\"\",\"\",DMA!A5)","v":1},{"$f":"IF(DMA!$B5=\"\",\"\",DMA!$B5/5*100)","v":""},{"$f":"IF(DMA!G5=\"\",\"\",DMA!G5)","v":""},null,{"$f":"IF(DMA!J5=\"\",\"\",DMA!J5)","v":""}]
[null,null,null,null,null,null,null,null,"back","This version is consistent with the updated MIM  Data Instructions Guide 2025 available at: ",null,null,null,null,null,null,null,null,null,null,2,{"$f":"IF(ISERROR(AVERAGEIF(AA:AA,U3,AC:AC)),\"\",AVERAGEIF(AA:AA,U3,AC:AC))","v":""},{"$f":"IF(ISERROR(AVERAGEIF($AA:$AA,$U3,AD:AD)),\"\",AVERAGEIF($AA:$AA,$U3,AD:AD))","v":""},null,{"$f":"IF(ISERROR(AVERAGEIF($AA:$AA,$U3,AF:AF)),\"\",AVERAGEIF($AA:$AA,$U3,AF:AF))","v":""},null,{"$f":"IF(AB3=AA2+1,AB3,AA2)","v":1},{"$f":"IF(DMA!A6=\"\",\"\",DMA!A6)","v":""},{"$f":"IF(DMA!$B6=\"\",\"\",DMA!$B6/5*100)","v":""},{"$f":"IF(DMA!G6=\"\",\"\",DMA!G6)","v":""},null,{"$f":"IF(DMA!J6=\"\",\"\",DMA!J6)","v":""}]
[null,null,null,null,null,null,null,null,null,"rmsmim.com",null,null,null,null,null,null,null,null,null,null,3,"","",null,"",null,{"$f":"IF(AB4=AA3+1,AB4,AA3)","v":1},{"$f":"IF(DMA!A7=\"\",\"\",DMA!A7)","v":""},{"$f":"IF(DMA!$B7=\"\",\"\",DMA!$B7/5*100)","v":""},{"$f":"IF(DMA!G7=\"\",\"\",DMA!G7)","v":""},null,{"$f":"IF(DMA!J7=\"\",\"\",DMA!J7)","v":""}]
[null,null,null,null,null,null,null,null,null,null,null,null,null,null,null,null,null,null,null,null,4,"","",null,"",null,1,{"$f":"IF(DMA!A8=\"\",\"\",DMA!A8)","v":""},{"$f":"IF(DMA!$B8=\"\",\"\",DMA!$B8/5*100)","v":""},{"$f":"IF(DMA!G8=\"\",\"\",DMA!G8)","v":""},null,{"$f":"IF(DMA!J8=\"\",\"\",DMA!J8)","v":""}]
[null,null,null,null,null,null,null,null,null,"The \"Spatial\" tab can be used to test whether or not there is spatial autocorrelation",null,null,null,null,null,null,null,null,null,null,5,"","",null,"",null,1,{"$f":"IF(DMA!A9=\"\",\"\",DMA!A9)","v":""},{"$f":"IF(DMA!$B9=\"\",\"\",DMA!$B9/5*100)","v":""},{"$f":"IF(DMA!G9=\"\",\"\",DMA!G9)","v":""},null,{"$f":"IF(DMA!J9=\"\",\"\",DMA!J9)","v":""}]
[null,null,null,null,null,null,null,null,null,"after collecting a number of samples for indicators that more commonly associate",null,null,null,null,null,null,null,null,null,null,6,"","",null,"",null,1,{"$f":"IF(DMA!A10=\"\",\"\",DMA!A10)","v":""},{"$f":"IF(DMA!$B10=\"\",\"\",DMA!$B10/5*100)","v":""},{"$f":"IF(DMA!G10=\"\",\"\",DMA!G10)","v":""},null,{"$f":"IF(DMA!J10=\"\",\"\",DMA!J10)","v":""}]
[null,null,null,null,null,null,null,null,null,"with spatial autocorrelation.   If there is a strong positive correlation (>.3), consider",null,null,null,null,null,null,null,null,null,null,7,"","",null,"",null,1,{"$f":"IF(DMA!A11=\"\",\"\",DMA!A11)","v":""},{"$f":"IF(DMA!$B11=\"\",\"\",DMA!$B11/5*100)","v":""},{"$f":"IF(DMA!G11=\"\",\"\",DMA!G11)","v":""},null,{"$f":"IF(DMA!J11=\"\",\"\",DMA!J11)","v":""}]
[null,null,null,null,null,null,null,null,null,"increasing sample point spacing.  However, as more samples are collected the test",null,null,null,null,null,null,null,null,null,null,8,"","",null,"",null,1,{"$f":"IF(DMA!A12=\"\",\"\",DMA!A12)","v":""},{"$f":"IF(DMA!$B12=\"\",\"\",DMA!$B12/5*100)","v":""},{"$f":"IF(DMA!G12=\"\",\"\",DMA!G12)","v":""},null,{"$f":"IF(DMA!J12=\"\",\"\",DMA!J12)","v":""}]
[null,null,null,null,null,null,null,null,null,"may be negative for spatial autocorrelation.  Previously it was suggested to test after",null,null,null,null,null,null,null,null,null,null,9,"","",null,"",null,1,{"$f":"IF(DMA!A13=\"\",\"\",DMA!A13)","v":""},{"$f":"IF(DMA!$B13=\"\",\"\",DMA!$B13/5*100)","v":""},{"$f":"IF(DMA!G13=\"\",\"\",DMA!G13)","v":""},null,{"$f":"IF(DMA!J13=\"\",\"\",DMA!J13)","v":""}]
[null,null,null,null,null,null,null,null,null,"collecting just 10 samples, but more will likely be needed to achieve a reliable test.",null,null,null,null,null,null,null,null,null,null,10,"","",null,"",null,1,{"$f":"IF(DMA!A14=\"\",\"\",DMA!A14)","v":""},{"$f":"IF(DMA!$B14=\"\",\"\",DMA!$B14/5*100)","v":""},{"$f":"IF(DMA!G14=\"\",\"\",DMA!G14)","v":""},null,{"$f":"IF(DMA!J14=\"\",\"\",DMA!J14)","v":""}]
[null,null,null,null,null,null,null,null,null,"One convention is to collect all samples on the left side (approx 40), then make the",null,null,null,null,null,null,null,null,null,null,11,"",{"$f":"IF(ISERROR(AVERAGEIF($AA:$AA,$U12,AD:AD)),\"\",AVERAGEIF($AA:$AA,$U12,AD:AD))","v":""},null,{"$f":"IF(ISERROR(AVERAGEIF($AA:$AA,$U12,AF:AF)),\"\",AVERAGEIF($AA:$AA,$U12,AF:AF))","v":""},null,1,{"$f":"IF(DMA!A15=\"\",\"\",DMA!A15)","v":""},{"$f":"IF(DMA!$B15=\"\",\"\",DMA!$B15/5*100)","v":""},{"$f":"IF(DMA!G15=\"\",\"\",DMA!G15)","v":""},null,{"$f":"IF(DMA!J15=\"\",\"\",DMA!J15)","v":""}]
[null,null,null,null,null,null,null,null,null,"test.  If expanding the sample spacing is desired, consider expanding the length of",null,null,null,null,null,null,null,null,null,null,12,"","",null,"",null,1,{"$f":"IF(DMA!A16=\"\",\"\",DMA!A16)","v":""},{"$f":"IF(DMA!$B16=\"\",\"\",DMA!$B16/5*100)","v":""},{"$f":"IF(DMA!G16=\"\",\"\",DMA!G16)","v":""},null,{"$f":"IF(DMA!J16=\"\",\"\",DMA!J16)","v":""}]
[null,null,null,null,null,null,null,null,null,"the DMA at that point.  ",null,null,null,null,null,null,null,null,null,null,13,"","",null,"",null,1,{"$f":"IF(DMA!A17=\"\",\"\",DMA!A17)","v":""},{"$f":"IF(DMA!$B17=\"\",\"\",DMA!$B17/5*100)","v":""},{"$f":"IF(DMA!G17=\"\",\"\",DMA!G17)","v":""},null,{"$f":"IF(DMA!J17=\"\",\"\",DMA!J17)","v":""}]
[null,null,null,null,null,null,null,null,null,null,null,null,null,null,null,null,null,null,null,null,14,"","",null,"",null,1,{"$f":"IF(DMA!A18=\"\",\"\",DMA!A18)","v":""},{"$f":"IF(DMA!$B18=\"\",\"\",DMA!$B18/5*100)","v":""},{"$f":"IF(DMA!G18=\"\",\"\",DMA!G18)","v":""},null,{"$f":"IF(DMA!J18=\"\",\"\",DMA!J18)","v":""}]
[null,null,null,null,null,null,null,null,null,null,null,null,null,null,null,null,null,null,null,null,15,"","",null,"",null,1,{"$f":"IF(DMA!A19=\"\",\"\",DMA!A19)","v":""},{"$f":"IF(DMA!$B19=\"\",\"\",DMA!$B19/5*100)","v":""},{"$f":"IF(DMA!G19=\"\",\"\",DMA!G19)","v":""},null,{"$f":"IF(DMA!J19=\"\",\"\",DMA!J19)","v":""}]
[null,null,null,null,null,null,null,null,null,null,null,null,null,null,null,null,null,null,null,null,16,"","",null,"",null,1,{"$f":"IF(DMA!A20=\"\",\"\",DMA!A20)","v":""},{"$f":"IF(DMA!$B20=\"\",\"\",DMA!$B20/5*100)","v":""},{"$f":"IF(DMA!G20=\"\",\"\",DMA!G20)","v":""},null,{"$f":"IF(DMA!J20=\"\",\"\",DMA!J20)","v":""}]
[null,null,null,null,null,null,null,null,null,null,null,null,null,null,null,null,null,null,null,null,17,"","",null,"",null,1,{"$f":"IF(DMA!A21=\"\",\"\",DMA!A21)","v":""},{"$f":"IF(DMA!$B21=\"\",\"\",DMA!$B21/5*100)","v":""},{"$f":"IF(DMA!G21=\"\",\"\",DMA!G21)","v":""},null,{"$f":"IF(DMA!J21=\"\",\"\",DMA!J21)","v":""}]
[null,null,null,null,null,null,null,null,null,null,null,null,null,null,null,null,null,null,null,null,18,"","",null,"",null,1,{"$f":"IF(DMA!A22=\"\",\"\",DMA!A22)","v":""},{"$f":"IF(DMA!$B22=\"\",\"\",DMA!$B22/5*100)","v":""},{"$f":"IF(DMA!G22=\"\",\"\",DMA!G22)","v":""},null,{"$f":"IF(DMA!J22=\"\",\"\",DMA!J22)","v":""}]
[null,null,null,null,null,null,null,null,null,null,null,null,null,null,null,null,null,null,null,null,19,"","",null,"",null,1,{"$f":"IF(DMA!A23=\"\",\"\",DMA!A23)","v":""},{"$f":"IF(DMA!$B23=\"\",\"\",DMA!$B23/5*100)","v":""},{"$f":"IF(DMA!G23=\"\",\"\",DMA!G23)","v":""},null,{"$f":"IF(DMA!J23=\"\",\"\",DMA!J23)","v":""}]
[null,null,null,null,null,null,null,null,null,null,null,null,null,null,null,null,null,null,null,null,20,"","",null,"",null,1,{"$f":"IF(DMA!A24=\"\",\"\",DMA!A24)","v":""},{"$f":"IF(DMA!$B24=\"\",\"\",DMA!$B24/5*100)","v":""},{"$f":"IF(DMA!G24=\"\",\"\",DMA!G24)","v":""},null,{"$f":"IF(DMA!J24=\"\",\"\",DMA!J24)","v":""}]
[null,null,null,null,null,null,null,null,null,null,null,null,null,null,null,null,null,null,null,null,21,"","",null,"",null,1,{"$f":"IF(DMA!A25=\"\",\"\",DMA!A25)","v":""},{"$f":"IF(DMA!$B25=\"\",\"\",DMA!$B25/5*100)","v":""},{"$f":"IF(DMA!G25=\"\",\"\",DMA!G25)","v":""},null,{"$f":"IF(DMA!J25=\"\",\"\",DMA!J25)","v":""}]
[null,null,null,null,null,null,null,null,null,null,null,null,null,null,null,null,null,null,null,null,22,"","",null,"",null,1,{"$f":"IF(DMA!A26=\"\",\"\",DMA!A26)","v":""},{"$f":"IF(DMA!$B26=\"\",\"\",DMA!$B26/5*100)","v":""},{"$f":"IF(DMA!G26=\"\",\"\",DMA!G26)","v":""},null,{"$f":"IF(DMA!J26=\"\",\"\",DMA!J26)","v":""}]
[null,null,null,null,null,null,null,null,null,null,null,null,null,null,null,null,null,null,null,null,23,"","",null,"",null,1,{"$f":"IF(DMA!A27=\"\",\"\",DMA!A27)","v":""},{"$f":"IF(DMA!$B27=\"\",\"\",DMA!$B27/5*100)","v":""},{"$f":"IF(DMA!G27=\"\",\"\",DMA!G27)","v":""},null,{"$f":"IF(DMA!J27=\"\",\"\",DMA!J27)","v":""}]
[null,null,null,null,null,null,null,null,null,null,null,null,null,null,null,null,null,null,null,null,24,"","",null,"",null,1,{"$f":"IF(DMA!A28=\"\",\"\",DMA!A28)","v":""},{"$f":"IF(DMA!$B28=\"\",\"\",DMA!$B28/5*100)","v":""},{"$f":"IF(DMA!G28=\"\",\"\",DMA!G28)","v":""},null,{"$f":"IF(DMA!J28=\"\",\"\",DMA!J28)","v":""}]
[null,null,null,null,null,null,null,null,null,null,null,null,null,null,null,null,null,null,null,null,25,"","",null,"",null,1,{"$f":"IF(DMA!A29=\"\",\"\",DMA!A29)","v":""},{"$f":"IF(DMA!$B29=\"\",\"\",DMA!$B29/5*100)","v":""},{"$f":"IF(DMA!G29=\"\",\"\",DMA!G29)","v":""},null,{"$f":"IF(DMA!J29=\"\",\"\",DMA!J29)","v":""}]
[null,null,null,null,null,null,null,null,null,null,null,null,null,null,null,null,null,null,null,null,26,"","",null,"",null,1,{"$f":"IF(DMA!A30=\"\",\"\",DMA!A30)","v":""},{"$f":"IF(DMA!$B30=\"\",\"\",DMA!$B30/5*100)","v":""},{"$f":"IF(DMA!G30=\"\",\"\",DMA!G30)","v":""},null,{"$f":"IF(DMA!J30=\"\",\"\",DMA!J30)","v":""}]
[null,null,null,null,null,null,null,null,null,null,null,null,null,null,null,null,null,null,null,null,27,"","",null,"",null,1,{"$f":"IF(DMA!A31=\"\",\"\",DMA!A31)","v":""},{"$f":"IF(DMA!$B31=\"\",\"\",DMA!$B31/5*100)","v":""},{"$f":"IF(DMA!G31=\"\",\"\",DMA!G31)","v":""},null,{"$f":"IF(DMA!J31=\"\",\"\",DMA!J31)","v":""}]
[null,null,null,null,null,null,null,null,null,null,null,null,null,null,null,null,null,null,null,null,28,"","",null,"",null,1,{"$f":"IF(DMA!A32=\"\",\"\",DMA!A32)","v":""},{"$f":"IF(DMA!$B32=\"\",\"\",DMA!$B32/5*100)","v":""},{"$f":"IF(DMA!G32=\"\",\"\",DMA!G32)","v":""},null,{"$f":"IF(DMA!J32=\"\",\"\",DMA!J32)","v":""}]
[null,null,null,null,null,null,null,null,null,null,null,null,null,null,null,null,null,null,null,null,29,"","",null,"",null,1,{"$f":"IF(DMA!A33=\"\",\"\",DMA!A33)","v":""},{"$f":"IF(DMA!$B33=\"\",\"\",DMA!$B33/5*100)","v":""},{"$f":"IF(DMA!G33=\"\",\"\",DMA!G33)","v":""},null,{"$f":"IF(DMA!J33=\"\",\"\",DMA!J33)","v":""}]
[null,null,null,null,null,null,null,null,null,null,null,null,null,null,null,null,null,null,null,null,30,"","",null,"",null,1,{"$f":"IF(DMA!A34=\"\",\"\",DMA!A34)","v":""},{"$f":"IF(DMA!$B34=\"\",\"\",DMA!$B34/5*100)","v":""},{"$f":"IF(DMA!G34=\"\",\"\",DMA!G34)","v":""},null,{"$f":"IF(DMA!J34=\"\",\"\",DMA!J34)","v":""}]
[null,null,null,null,null,null,null,null,null,null,null,null,null,null,null,null,null,null,null,null,31,"","",null,"",null,1,{"$f":"IF(DMA!A35=\"\",\"\",DMA!A35)","v":""},{"$f":"IF(DMA!$B35=\"\",\"\",DMA!$B35/5*100)","v":""},{"$f":"IF(DMA!G35=\"\",\"\",DMA!G35)","v":""},null,{"$f":"IF(DMA!J35=\"\",\"\",DMA!J35)","v":""}]
[null,null,null,null,null,null,null,null,null,null,null,null,null,null,null,null,null,null,null,null,32,"","",null,"",null,1,{"$f":"IF(DMA!A36=\"\",\"\",DMA!A36)","v":""},{"$f":"IF(DMA!$B36=\"\",\"\",DMA!$B36/5*100)","v":""},{"$f":"IF(DMA!G36=\"\",\"\",DMA!G36)","v":""},null,{"$f":"IF(DMA!J36=\"\",\"\",DMA!J36)","v":""}]
[null,null,null,null,null,null,null,null,null,null,null,null,null,null,null,null,null,null,null,null,33,"","",null,"",null,1,{"$f":"IF(DMA!A37=\"\",\"\",DMA!A37)","v":""},{"$f":"IF(DMA!$B37=\"\",\"\",DMA!$B37/5*100)","v":""},{"$f":"IF(DMA!G37=\"\",\"\",DMA!G37)","v":""},null,{"$f":"IF(DMA!J37=\"\",\"\",DMA!J37)","v":""}]
[null,null,null,null,null,null,null,null,null,null,null,null,null,null,null,null,null,null,null,null,34,"","",null,"",null,1,{"$f":"IF(DMA!A38=\"\",\"\",DMA!A38)","v":""},{"$f":"IF(DMA!$B38=\"\",\"\",DMA!$B38/5*100)","v":""},{"$f":"IF(DMA!G38=\"\",\"\",DMA!G38)","v":""},null,{"$f":"IF(DMA!J38=\"\",\"\",DMA!J38)","v":""}]
[null,null,null,null,null,null,null,null,null,null,null,null,null,null,null,null,null,null,null,null,35,"","",null,"",null,1,{"$f":"IF(DMA!A39=\"\",\"\",DMA!A39)","v":""},{"$f":"IF(DMA!$B39=\"\",\"\",DMA!$B39/5*100)","v":""},{"$f":"IF(DMA!G39=\"\",\"\",DMA!G39)","v":""},null,{"$f":"IF(DMA!J39=\"\",\"\",DMA!J39)","v":""}]
[null,null,null,null,null,null,null,null,null,null,null,null,null,null,null,null,null,null,null,null,36,"","",null,"",null,1,{"$f":"IF(DMA!A40=\"\",\"\",DMA!A40)","v":""},{"$f":"IF(DMA!$B40=\"\",\"\",DMA!$B40/5*100)","v":""},{"$f":"IF(DMA!G40=\"\",\"\",DMA!G40)","v":""},null,{"$f":"IF(DMA!J40=\"\",\"\",DMA!J40)","v":""}]
[null,null,null,null,null,null,null,null,null,null,null,null,null,null,null,null,null,null,null,null,37,"","",null,"",null,1,{"$f":"IF(DMA!A41=\"\",\"\",DMA!A41)","v":""},{"$f":"IF(DMA!$B41=\"\",\"\",DMA!$B41/5*100)","v":""},{"$f":"IF(DMA!G41=\"\",\"\",DMA!G41)","v":""},null,{"$f":"IF(DMA!J41=\"\",\"\",DMA!J41)","v":""}]
[null,null,null,null,null,null,null,null,null,null,null,null,null,null,null,null,null,null,null,null,38,"","",null,"",null,1,{"$f":"IF(DMA!A42=\"\",\"\",DMA!A42)","v":""},{"$f":"IF(DMA!$B42=\"\",\"\",DMA!$B42/5*100)","v":""},{"$f":"IF(DMA!G42=\"\",\"\",DMA!G42)","v":""},null,{"$f":"IF(DMA!J42=\"\",\"\",DMA!J42)","v":""}]
[null,null,null,null,null,null,null,null,null,null,null,null,null,null,null,null,null,null,null,null,39,"","",null,"",null,1,{"$f":"IF(DMA!A43=\"\",\"\",DMA!A43)","v":""},{"$f":"IF(DMA!$B43=\"\",\"\",DMA!$B43/5*100)","v":""},{"$f":"IF(DMA!G43=\"\",\"\",DMA!G43)","v":""},null,{"$f":"IF(DMA!J43=\"\",\"\",DMA!J43)","v":""}]
[null,null,null,null,null,null,null,null,null,null,null,null,null,null,null,null,null,null,null,null,40,"","",null,"",null,1,{"$f":"IF(DMA!A44=\"\",\"\",DMA!A44)","v":""},{"$f":"IF(DMA!$B44=\"\",\"\",DMA!$B44/5*100)","v":""},{"$f":"IF(DMA!G44=\"\",\"\",DMA!G44)","v":""},null,{"$f":"IF(DMA!J44=\"\",\"\",DMA!J44)","v":""}]
[null,null,null,null,null,null,null,null,null,null,null,null,null,null,null,null,null,null,null,null,41,"","",null,"",null,1,{"$f":"IF(DMA!A45=\"\",\"\",DMA!A45)","v":""},{"$f":"IF(DMA!$B45=\"\",\"\",DMA!$B45/5*100)","v":""},{"$f":"IF(DMA!G45=\"\",\"\",DMA!G45)","v":""},null,{"$f":"IF(DMA!J45=\"\",\"\",DMA!J45)","v":""}]
[null,null,null,null,null,null,null,null,null,null,null,null,null,null,null,null,null,null,null,null,42,"","",null,"",null,1,{"$f":"IF(DMA!A46=\"\",\"\",DMA!A46)","v":""},{"$f":"IF(DMA!$B46=\"\",\"\",DMA!$B46/5*100)","v":""},{"$f":"IF(DMA!G46=\"\",\"\",DMA!G46)","v":""},null,{"$f":"IF(DMA!J46=\"\",\"\",DMA!J46)","v":""}]
[null,null,null,null,null,null,null,null,null,null,null,null,null,null,null,null,null,null,null,null,43,"","",null,"",null,1,{"$f":"IF(DMA!A47=\"\",\"\",DMA!A47)","v":""},{"$f":"IF(DMA!$B47=\"\",\"\",DMA!$B47/5*100)","v":""},{"$f":"IF(DMA!G47=\"\",\"\",DMA!G47)","v":""},null,{"$f":"IF(DMA!J47=\"\",\"\",DMA!J47)","v":""}]
[null,null,null,null,null,null,null,null,null,null,null,null,null,null,null,null,null,null,null,null,44,"","",null,"",null,1,{"$f":"IF(DMA!A48=\"\",\"\",DMA!A48)","v":""},{"$f":"IF(DMA!$B48=\"\",\"\",DMA!$B48/5*100)","v":""},{"$f":"IF(DMA!G48=\"\",\"\",DMA!G48)","v":""},null,{"$f":"IF(DMA!J48=\"\",\"\",DMA!J48)","v":""}]
[null,null,null,null,null,null,null,null,null,null,null,null,null,null,null,null,null,null,null,null,45,"","",null,"",null,1,{"$f":"IF(DMA!A49=\"\",\"\",DMA!A49)","v":""},{"$f":"IF(DMA!$B49=\"\",\"\",DMA!$B49/5*100)","v":""},{"$f":"IF(DMA!G49=\"\",\"\",DMA!G49)","v":""},null,{"$f":"IF(DMA!J49=\"\",\"\",DMA!J49)","v":""}]
[null,null,null,null,null,null,null,null,null,null,null,null,null,null,null,null,null,null,null,null,46,"","",null,"",null,1,{"$f":"IF(DMA!A50=\"\",\"\",DMA!A50)","v":""},{"$f":"IF(DMA!$B50=\"\",\"\",DMA!$B50/5*100)","v":""},{"$f":"IF(DMA!G50=\"\",\"\",DMA!G50)","v":""},null,{"$f":"IF(DMA!J50=\"\",\"\",DMA!J50)","v":""}]
[null,null,null,null,null,null,null,null,null,null,null,null,null,null,null,null,null,null,null,null,47,"","",null,"",null,1,{"$f":"IF(DMA!A51=\"\",\"\",DMA!A51)","v":""},{"$f":"IF(DMA!$B51=\"\",\"\",DMA!$B51/5*100)","v":""},{"$f":"IF(DMA!G51=\"\",\"\",DMA!G51)","v":""},null,{"$f":"IF(DMA!J51=\"\",\"\",DMA!J51)","v":""}]
[null,null,null,null,null,null,null,null,null,null,null,null,null,null,null,null,null,null,null,null,48,"","",null,"",null,1,{"$f":"IF(DMA!A52=\"\",\"\",DMA!A52)","v":""},{"$f":"IF(DMA!$B52=\"\",\"\",DMA!$B52/5*100)","v":""},{"$f":"IF(DMA!G52=\"\",\"\",DMA!G52)","v":""},null,{"$f":"IF(DMA!J52=\"\",\"\",DMA!J52)","v":""}]
[null,null,null,null,null,null,null,null,null,null,null,null,null,null,null,null,null,null,null,null,49,"","",null,"",null,1,{"$f":"IF(DMA!A53=\"\",\"\",DMA!A53)","v":""},{"$f":"IF(DMA!$B53=\"\",\"\",DMA!$B53/5*100)","v":""},{"$f":"IF(DMA!G53=\"\",\"\",DMA!G53)","v":""},null,{"$f":"IF(DMA!J53=\"\",\"\",DMA!J53)","v":""}]
[null,null,null,null,null,null,null,null,null,null,null,null,null,null,null,null,null,null,null,null,50,"","",null,"",null,1,{"$f":"IF(DMA!A54=\"\",\"\",DMA!A54)","v":""},{"$f":"IF(DMA!$B54=\"\",\"\",DMA!$B54/5*100)","v":""},{"$f":"IF(DMA!G54=\"\",\"\",DMA!G54)","v":""},null,{"$f":"IF(DMA!J54=\"\",\"\",DMA!J54)","v":""}]
[null,null,null,null,null,null,null,null,null,null,null,null,null,null,null,null,null,null,null,null,51,"","",null,"",null,1,{"$f":"IF(DMA!A55=\"\",\"\",DMA!A55)","v":""},{"$f":"IF(DMA!$B55=\"\",\"\",DMA!$B55/5*100)","v":""},{"$f":"IF(DMA!G55=\"\",\"\",DMA!G55)","v":""},null,{"$f":"IF(DMA!J55=\"\",\"\",DMA!J55)","v":""}]
[null,null,null,null,null,null,null,null,null,null,null,null,null,null,null,null,null,null,null,null,52,"","",null,"",null,1,{"$f":"IF(DMA!A56=\"\",\"\",DMA!A56)","v":""},{"$f":"IF(DMA!$B56=\"\",\"\",DMA!$B56/5*100)","v":""},{"$f":"IF(DMA!G56=\"\",\"\",DMA!G56)","v":""},null,{"$f":"IF(DMA!J56=\"\",\"\",DMA!J56)","v":""}]
[null,null,null,null,null,null,null,null,null,null,null,null,null,null,null,null,null,null,null,null,53,"","",null,"",null,1,{"$f":"IF(DMA!A57=\"\",\"\",DMA!A57)","v":""},{"$f":"IF(DMA!$B57=\"\",\"\",DMA!$B57/5*100)","v":""},{"$f":"IF(DMA!G57=\"\",\"\",DMA!G57)","v":""},null,{"$f":"IF(DMA!J57=\"\",\"\",DMA!J57)","v":""}]
[null,null,null,null,null,null,null,null,null,null,null,null,null,null,null,null,null,null,null,null,54,"","",null,"",null,1,{"$f":"IF(DMA!A58=\"\",\"\",DMA!A58)","v":""},{"$f":"IF(DMA!$B58=\"\",\"\",DMA!$B58/5*100)","v":""},{"$f":"IF(DMA!G58=\"\",\"\",DMA!G58)","v":""},null,{"$f":"IF(DMA!J58=\"\",\"\",DMA!J58)","v":""}]
[null,null,null,null,null,null,null,null,null,null,null,null,null,null,null,null,null,null,null,null,55,"","",null,"",null,1,{"$f":"IF(DMA!A59=\"\",\"\",DMA!A59)","v":""},{"$f":"IF(DMA!$B59=\"\",\"\",DMA!$B59/5*100)","v":""},{"$f":"IF(DMA!G59=\"\",\"\",DMA!G59)","v":""},null,{"$f":"IF(DMA!J59=\"\",\"\",DMA!J59)","v":""}]
[null,null,null,null,null,null,null,null,null,null,null,null,null,null,null,null,null,null,null,null,56,"","",null,"",null,1,{"$f":"IF(DMA!A60=\"\",\"\",DMA!A60)","v":""},{"$f":"IF(DMA!$B60=\"\",\"\",DMA!$B60/5*100)","v":""},{"$f":"IF(DMA!G60=\"\",\"\",DMA!G60)","v":""},null,{"$f":"IF(DMA!J60=\"\",\"\",DMA!J60)","v":""}]
[null,null,null,null,null,null,null,null,null,null,null,null,null,null,null,null,null,null,null,null,57,"","",null,"",null,1,{"$f":"IF(DMA!A61=\"\",\"\",DMA!A61)","v":""},{"$f":"IF(DMA!$B61=\"\",\"\",DMA!$B61/5*100)","v":""},{"$f":"IF(DMA!G61=\"\",\"\",DMA!G61)","v":""},null,{"$f":"IF(DMA!J61=\"\",\"\",DMA!J61)","v":""}]
[null,null,null,null,null,null,null,null,null,null,null,null,null,null,null,null,null,null,null,null,58,"","",null,"",null,1,{"$f":"IF(DMA!A62=\"\",\"\",DMA!A62)","v":""},{"$f":"IF(DMA!$B62=\"\",\"\",DMA!$B62/5*100)","v":""},{"$f":"IF(DMA!G62=\"\",\"\",DMA!G62)","v":""},null,{"$f":"IF(DMA!J62=\"\",\"\",DMA!J62)","v":""}]
[null,null,null,null,null,null,null,null,null,null,null,null,null,null,null,null,null,null,null,null,59,"","",null,"",null,1,{"$f":"IF(DMA!A63=\"\",\"\",DMA!A63)","v":""},{"$f":"IF(DMA!$B63=\"\",\"\",DMA!$B63/5*100)","v":""},{"$f":"IF(DMA!G63=\"\",\"\",DMA!G63)","v":""},null,{"$f":"IF(DMA!J63=\"\",\"\",DMA!J63)","v":""}]
[null,null,null,null,null,null,null,null,null,null,null,null,null,null,null,null,null,null,null,null,60,"","",null,"",null,1,{"$f":"IF(DMA!A64=\"\",\"\",DMA!A64)","v":""},{"$f":"IF(DMA!$B64=\"\",\"\",DMA!$B64/5*100)","v":""},{"$f":"IF(DMA!G64=\"\",\"\",DMA!G64)","v":""},null,{"$f":"IF(DMA!J64=\"\",\"\",DMA!J64)","v":""}]
[null,null,null,null,null,null,null,null,null,null,null,null,null,null,null,null,null,null,null,null,61,"","",null,"",null,1,{"$f":"IF(DMA!A65=\"\",\"\",DMA!A65)","v":""},{"$f":"IF(DMA!$B65=\"\",\"\",DMA!$B65/5*100)","v":""},{"$f":"IF(DMA!G65=\"\",\"\",DMA!G65)","v":""},null,{"$f":"IF(DMA!J65=\"\",\"\",DMA!J65)","v":""}]
[null,null,null,null,null,null,null,null,null,null,null,null,null,null,null,null,null,null,null,null,62,"","",null,"",null,1,{"$f":"IF(DMA!A66=\"\",\"\",DMA!A66)","v":""},{"$f":"IF(DMA!$B66=\"\",\"\",DMA!$B66/5*100)","v":""},{"$f":"IF(DMA!G66=\"\",\"\",DMA!G66)","v":""},null,{"$f":"IF(DMA!J66=\"\",\"\",DMA!J66)","v":""}]
[null,null,null,null,null,null,null,null,null,null,null,null,null,null,null,null,null,null,null,null,63,"","",null,"",null,1,{"$f":"IF(DMA!A67=\"\",\"\",DMA!A67)","v":""},{"$f":"IF(DMA!$B67=\"\",\"\",DMA!$B67/5*100)","v":""},{"$f":"IF(DMA!G67=\"\",\"\",DMA!G67)","v":""},null,{"$f":"IF(DMA!J67=\"\",\"\",DMA!J67)","v":""}]
[null,null,null,null,null,null,null,null,null,null,null,null,null,null,null,null,null,null,null,null,64,"","",null,"",null,1,{"$f":"IF(DMA!A68=\"\",\"\",DMA!A68)","v":""},{"$f":"IF(DMA!$B68=\"\",\"\",DMA!$B68/5*100)","v":""},{"$f":"IF(DMA!G68=\"\",\"\",DMA!G68)","v":""},null,{"$f":"IF(DMA!J68=\"\",\"\",DMA!J68)","v":""}]
[null,null,null,null,null,null,null,null,null,null,null,null,null,null,null,null,null,null,null,null,65,"","",null,"",null,1,{"$f":"IF(DMA!A69=\"\",\"\",DMA!A69)","v":""},{"$f":"IF(DMA!$B69=\"\",\"\",DMA!$B69/5*100)","v":""},{"$f":"IF(DMA!G69=\"\",\"\",DMA!G69)","v":""},null,{"$f":"IF(DMA!J69=\"\",\"\",DMA!J69)","v":""}]
[null,null,null,null,null,null,null,null,null,null,null,null,null,null,null,null,null,null,null,null,66,{"$f":"IF(ISERROR(AVERAGEIF(AA:AA,U67,AC:AC)),\"\",AVERAGEIF(AA:AA,U67,AC:AC))","v":""},"",null,"",null,1,{"$f":"IF(DMA!A70=\"\",\"\",DMA!A70)","v":""},{"$f":"IF(DMA!$B70=\"\",\"\",DMA!$B70/5*100)","v":""},{"$f":"IF(DMA!G70=\"\",\"\",DMA!G70)","v":""},null,{"$f":"IF(DMA!J70=\"\",\"\",DMA!J70)","v":""}]
[null,null,null,null,null,null,null,null,null,null,null,null,null,null,null,null,null,null,null,null,67,"","",null,"",null,{"$f":"IF(AB68=AA67+1,AB68,AA67)","v":1},{"$f":"IF(DMA!A71=\"\",\"\",DMA!A71)","v":""},{"$f":"IF(DMA!$B71=\"\",\"\",DMA!$B71/5*100)","v":""},{"$f":"IF(DMA!G71=\"\",\"\",DMA!G71)","v":""},null,{"$f":"IF(DMA!J71=\"\",\"\",DMA!J71)","v":""}]
[null,null,null,null,null,null,null,null,null,null,null,null,null,null,null,null,null,null,null,null,68,"","",null,"",null,1,{"$f":"IF(DMA!A72=\"\",\"\",DMA!A72)","v":""},{"$f":"IF(DMA!$B72=\"\",\"\",DMA!$B72/5*100)","v":""},{"$f":"IF(DMA!G72=\"\",\"\",DMA!G72)","v":""},null,{"$f":"IF(DMA!J72=\"\",\"\",DMA!J72)","v":""}]
[null,null,null,null,null,null,null,null,null,null,null,null,null,null,null,null,null,null,null,null,69,"","",null,"",null,1,{"$f":"IF(DMA!A73=\"\",\"\",DMA!A73)","v":""},{"$f":"IF(DMA!$B73=\"\",\"\",DMA!$B73/5*100)","v":""},{"$f":"IF(DMA!G73=\"\",\"\",DMA!G73)","v":""},null,{"$f":"IF(DMA!J73=\"\",\"\",DMA!J73)","v":""}]
[null,null,null,null,null,null,null,null,null,null,null,null,null,null,null,null,null,null,null,null,70,"","",null,"",null,1,{"$f":"IF(DMA!A74=\"\",\"\",DMA!A74)","v":""},{"$f":"IF(DMA!$B74=\"\",\"\",DMA!$B74/5*100)","v":""},{"$f":"IF(DMA!G74=\"\",\"\",DMA!G74)","v":""},null,{"$f":"IF(DMA!J74=\"\",\"\",DMA!J74)","v":""}]
[null,null,null,null,null,null,null,null,null,null,null,null,null,null,null,null,null,null,null,null,71,"","",null,"",null,1,{"$f":"IF(DMA!A75=\"\",\"\",DMA!A75)","v":""},{"$f":"IF(DMA!$B75=\"\",\"\",DMA!$B75/5*100)","v":""},{"$f":"IF(DMA!G75=\"\",\"\",DMA!G75)","v":""},null,{"$f":"IF(DMA!J75=\"\",\"\",DMA!J75)","v":""}]
[null,null,null,null,null,null,null,null,null,null,null,null,null,null,null,null,null,null,null,null,72,"","",null,"",null,1,{"$f":"IF(DMA!A76=\"\",\"\",DMA!A76)","v":""},{"$f":"IF(DMA!$B76=\"\",\"\",DMA!$B76/5*100)","v":""},{"$f":"IF(DMA!G76=\"\",\"\",DMA!G76)","v":""},null,{"$f":"IF(DMA!J76=\"\",\"\",DMA!J76)","v":""}]
[null,null,null,null,null,null,null,null,null,null,null,null,null,null,null,null,null,null,null,null,73,"","",null,"",null,1,{"$f":"IF(DMA!A77=\"\",\"\",DMA!A77)","v":""},{"$f":"IF(DMA!$B77=\"\",\"\",DMA!$B77/5*100)","v":""},{"$f":"IF(DMA!G77=\"\",\"\",DMA!G77)","v":""},null,{"$f":"IF(DMA!J77=\"\",\"\",DMA!J77)","v":""}]
[null,null,null,null,null,null,null,null,null,null,null,null,null,null,null,null,null,null,null,null,74,"","",null,"",null,1,{"$f":"IF(DMA!A78=\"\",\"\",DMA!A78)","v":""},{"$f":"IF(DMA!$B78=\"\",\"\",DMA!$B78/5*100)","v":""},{"$f":"IF(DMA!G78=\"\",\"\",DMA!G78)","v":""},null,{"$f":"IF(DMA!J78=\"\",\"\",DMA!J78)","v":""}]
[null,null,null,null,null,null,null,null,null,null,null,null,null,null,null,null,null,null,null,null,75,"",{"$f":"IF(ISERROR(AVERAGEIF($AA:$AA,$U76,AD:AD)),\"\",AVERAGEIF($AA:$AA,$U76,AD:AD))","v":""},null,{"$f":"IF(ISERROR(AVERAGEIF($AA:$AA,$U76,AF:AF)),\"\",AVERAGEIF($AA:$AA,$U76,AF:AF))","v":""},null,1,{"$f":"IF(DMA!A79=\"\",\"\",DMA!A79)","v":""},{"$f":"IF(DMA!$B79=\"\",\"\",DMA!$B79/5*100)","v":""},{"$f":"IF(DMA!G79=\"\",\"\",DMA!G79)","v":""},null,{"$f":"IF(DMA!J79=\"\",\"\",DMA!J79)","v":""}]
[null,null,null,null,null,null,null,null,null,null,null,null,null,null,null,null,null,null,null,null,76,"","",null,"",null,1,{"$f":"IF(DMA!A80=\"\",\"\",DMA!A80)","v":""},{"$f":"IF(DMA!$B80=\"\",\"\",DMA!$B80/5*100)","v":""},{"$f":"IF(DMA!G80=\"\",\"\",DMA!G80)","v":""},null,{"$f":"IF(DMA!J80=\"\",\"\",DMA!J80)","v":""}]
[null,null,null,null,null,null,null,null,null,null,null,null,null,null,null,null,null,null,null,null,77,"","",null,"",null,1,{"$f":"IF(DMA!A81=\"\",\"\",DMA!A81)","v":""},{"$f":"IF(DMA!$B81=\"\",\"\",DMA!$B81/5*100)","v":""},{"$f":"IF(DMA!G81=\"\",\"\",DMA!G81)","v":""},null,{"$f":"IF(DMA!J81=\"\",\"\",DMA!J81)","v":""}]
[null,null,null,null,null,null,null,null,null,null,null,null,null,null,null,null,null,null,null,null,78,"","",null,"",null,1,{"$f":"IF(DMA!A82=\"\",\"\",DMA!A82)","v":""},{"$f":"IF(DMA!$B82=\"\",\"\",DMA!$B82/5*100)","v":""},{"$f":"IF(DMA!G82=\"\",\"\",DMA!G82)","v":""},null,{"$f":"IF(DMA!J82=\"\",\"\",DMA!J82)","v":""}]
[null,null,null,null,null,null,null,null,null,null,null,null,null,null,null,null,null,null,null,null,79,"","",null,"",null,1,{"$f":"IF(DMA!A83=\"\",\"\",DMA!A83)","v":""},{"$f":"IF(DMA!$B83=\"\",\"\",DMA!$B83/5*100)","v":""},{"$f":"IF(DMA!G83=\"\",\"\",DMA!G83)","v":""},null,{"$f":"IF(DMA!J83=\"\",\"\",DMA!J83)","v":""}]
[null,null,null,null,null,null,null,null,null,null,null,null,null,null,null,null,null,null,null,null,80,"","",null,"",null,1,{"$f":"IF(DMA!A84=\"\",\"\",DMA!A84)","v":""},{"$f":"IF(DMA!$B84=\"\",\"\",DMA!$B84/5*100)","v":""},{"$f":"IF(DMA!G84=\"\",\"\",DMA!G84)","v":""},null,{"$f":"IF(DMA!J84=\"\",\"\",DMA!J84)","v":""}]
[null,null,null,null,null,null,null,null,null,null,null,null,null,null,null,null,null,null,null,null,81,"","",null,"",null,1,{"$f":"IF(DMA!A85=\"\",\"\",DMA!A85)","v":""},{"$f":"IF(DMA!$B85=\"\",\"\",DMA!$B85/5*100)","v":""},{"$f":"IF(DMA!G85=\"\",\"\",DMA!G85)","v":""},null,{"$f":"IF(DMA!J85=\"\",\"\",DMA!J85)","v":""}]
[null,null,null,null,null,null,null,null,null,null,null,null,null,null,null,null,null,null,null,null,82,"","",null,"",null,1,{"$f":"IF(DMA!A86=\"\",\"\",DMA!A86)","v":""},{"$f":"IF(DMA!$B86=\"\",\"\",DMA!$B86/5*100)","v":""},{"$f":"IF(DMA!G86=\"\",\"\",DMA!G86)","v":""},null,{"$f":"IF(DMA!J86=\"\",\"\",DMA!J86)","v":""}]
[null,null,null,null,null,null,null,null,null,null,null,null,null,null,null,null,null,null,null,null,83,"","",null,"",null,1,{"$f":"IF(DMA!A87=\"\",\"\",DMA!A87)","v":""},{"$f":"IF(DMA!$B87=\"\",\"\",DMA!$B87/5*100)","v":""},{"$f":"IF(DMA!G87=\"\",\"\",DMA!G87)","v":""},null,{"$f":"IF(DMA!J87=\"\",\"\",DMA!J87)","v":""}]
[null,null,null,null,null,null,null,null,null,null,null,null,null,null,null,null,null,null,null,null,84,"","",null,"",null,1,{"$f":"IF(DMA!A88=\"\",\"\",DMA!A88)","v":""},{"$f":"IF(DMA!$B88=\"\",\"\",DMA!$B88/5*100)","v":""},{"$f":"IF(DMA!G88=\"\",\"\",DMA!G88)","v":""},null,{"$f":"IF(DMA!J88=\"\",\"\",DMA!J88)","v":""}]
[null,null,null,null,null,null,null,null,null,null,null,null,null,null,null,null,null,null,null,null,85,"","",null,"",null,1,{"$f":"IF(DMA!A89=\"\",\"\",DMA!A89)","v":""},{"$f":"IF(DMA!$B89=\"\",\"\",DMA!$B89/5*100)","v":""},{"$f":"IF(DMA!G89=\"\",\"\",DMA!G89)","v":""},null,{"$f":"IF(DMA!J89=\"\",\"\",DMA!J89)","v":""}]
[null,null,null,null,null,null,null,null,null,null,null,null,null,null,null,null,null,null,null,null,86,"","",null,"",null,1,{"$f":"IF(DMA!A90=\"\",\"\",DMA!A90)","v":""},{"$f":"IF(DMA!$B90=\"\",\"\",DMA!$B90/5*100)","v":""},{"$f":"IF(DMA!G90=\"\",\"\",DMA!G90)","v":""},null,{"$f":"IF(DMA!J90=\"\",\"\",DMA!J90)","v":""}]
[null,null,null,null,null,null,null,null,null,null,null,null,null,null,null,null,null,null,null,null,87,"","",null,"",null,1,{"$f":"IF(DMA!A91=\"\",\"\",DMA!A91)","v":""},{"$f":"IF(DMA!$B91=\"\",\"\",DMA!$B91/5*100)","v":""},{"$f":"IF(DMA!G91=\"\",\"\",DMA!G91)","v":""},null,{"$f":"IF(DMA!J91=\"\",\"\",DMA!J91)","v":""}]
[null,null,null,null,null,null,null,null,null,null,null,null,null,null,null,null,null,null,null,null,88,"","",null,"",null,1,{"$f":"IF(DMA!A92=\"\",\"\",DMA!A92)","v":""},{"$f":"IF(DMA!$B92=\"\",\"\",DMA!$B92/5*100)","v":""},{"$f":"IF(DMA!G92=\"\",\"\",DMA!G92)","v":""},null,{"$f":"IF(DMA!J92=\"\",\"\",DMA!J92)","v":""}]
[null,null,null,null,null,null,null,null,null,null,null,null,null,null,null,null,null,null,null,null,89,"","",null,"",null,1,{"$f":"IF(DMA!A93=\"\",\"\",DMA!A93)","v":""},{"$f":"IF(DMA!$B93=\"\",\"\",DMA!$B93/5*100)","v":""},{"$f":"IF(DMA!G93=\"\",\"\",DMA!G93)","v":""},null,{"$f":"IF(DMA!J93=\"\",\"\",DMA!J93)","v":""}]
[null,null,null,null,null,null,null,null,null,null,null,null,null,null,null,null,null,null,null,null,90,"","",null,"",null,1,{"$f":"IF(DMA!A94=\"\",\"\",DMA!A94)","v":""},{"$f":"IF(DMA!$B94=\"\",\"\",DMA!$B94/5*100)","v":""},{"$f":"IF(DMA!G94=\"\",\"\",DMA!G94)","v":""},null,{"$f":"IF(DMA!J94=\"\",\"\",DMA!J94)","v":""}]
[null,null,null,null,null,null,null,null,null,null,null,null,null,null,null,null,null,null,null,null,91,"","",null,"",null,1,{"$f":"IF(DMA!A95=\"\",\"\",DMA!A95)","v":""},{"$f":"IF(DMA!$B95=\"\",\"\",DMA!$B95/5*100)","v":""},{"$f":"IF(DMA!G95=\"\",\"\",DMA!G95)","v":""},null,{"$f":"IF(DMA!J95=\"\",\"\",DMA!J95)","v":""}]
[null,null,null,null,null,null,null,null,null,null,null,null,null,null,null,null,null,null,null,null,92,"","",null,"",null,1,{"$f":"IF(DMA!A96=\"\",\"\",DMA!A96)","v":""},{"$f":"IF(DMA!$B96=\"\",\"\",DMA!$B96/5*100)","v":""},{"$f":"IF(DMA!G96=\"\",\"\",DMA!G96)","v":""},null,{"$f":"IF(DMA!J96=\"\",\"\",DMA!J96)","v":""}]
[null,null,null,null,null,null,null,null,null,null,null,null,null,null,null,null,null,null,null,null,93,"","",null,"",null,1,{"$f":"IF(DMA!A97=\"\",\"\",DMA!A97)","v":""},{"$f":"IF(DMA!$B97=\"\",\"\",DMA!$B97/5*100)","v":""},{"$f":"IF(DMA!G97=\"\",\"\",DMA!G97)","v":""},null,{"$f":"IF(DMA!J97=\"\",\"\",DMA!J97)","v":""}]
[null,null,null,null,null,null,null,null,null,null,null,null,null,null,null,null,null,null,null,null,94,"","",null,"",null,1,{"$f":"IF(DMA!A98=\"\",\"\",DMA!A98)","v":""},{"$f":"IF(DMA!$B98=\"\",\"\",DMA!$B98/5*100)","v":""},{"$f":"IF(DMA!G98=\"\",\"\",DMA!G98)","v":""},null,{"$f":"IF(DMA!J98=\"\",\"\",DMA!J98)","v":""}]
[null,null,null,null,null,null,null,null,null,null,null,null,null,null,null,null,null,null,null,null,95,"","",null,"",null,1,{"$f":"IF(DMA!A99=\"\",\"\",DMA!A99)","v":""},{"$f":"IF(DMA!$B99=\"\",\"\",DMA!$B99/5*100)","v":""},{"$f":"IF(DMA!G99=\"\",\"\",DMA!G99)","v":""},null,{"$f":"IF(DMA!J99=\"\",\"\",DMA!J99)","v":""}]
[null,null,null,null,null,null,null,null,null,null,null,null,null,null,null,null,null,null,null,null,96,"","",null,"",null,1,{"$f":"IF(DMA!A100=\"\",\"\",DMA!A100)","v":""},{"$f":"IF(DMA!$B100=\"\",\"\",DMA!$B100/5*100)","v":""},{"$f":"IF(DMA!G100=\"\",\"\",DMA!G100)","v":""},null,{"$f":"IF(DMA!J100=\"\",\"\",DMA!J100)","v":""}]
[null,null,null,null,null,null,null,null,null,null,null,null,null,null,null,null,null,null,null,null,97,"","",null,"",null,1,{"$f":"IF(DMA!A101=\"\",\"\",DMA!A101)","v":""},{"$f":"IF(DMA!$B101=\"\",\"\",DMA!$B101/5*100)","v":""},{"$f":"IF(DMA!G101=\"\",\"\",DMA!G101)","v":""},null,{"$f":"IF(DMA!J101=\"\",\"\",DMA!J101)","v":""}]
[null,null,null,null,null,null,null,null,null,null,null,null,null,null,null,null,null,null,null,null,98,"","",null,"",null,1,{"$f":"IF(DMA!A102=\"\",\"\",DMA!A102)","v":""},{"$f":"IF(DMA!$B102=\"\",\"\",DMA!$B102/5*100)","v":""},{"$f":"IF(DMA!G102=\"\",\"\",DMA!G102)","v":""},null,{"$f":"IF(DMA!J102=\"\",\"\",DMA!J102)","v":""}]
[null,null,null,null,null,null,null,null,null,null,null,null,null,null,null,null,null,null,null,null,99,"","",null,"",null,1,{"$f":"IF(DMA!A103=\"\",\"\",DMA!A103)","v":""},{"$f":"IF(DMA!$B103=\"\",\"\",DMA!$B103/5*100)","v":""},{"$f":"IF(DMA!G103=\"\",\"\",DMA!G103)","v":""},null,{"$f":"IF(DMA!J103=\"\",\"\",DMA!J103)","v":""}]
[null,null,null,null,null,null,null,null,null,null,null,null,null,null,null,null,null,null,null,null,100,"","",null,"",null,1,{"$f":"IF(DMA!A104=\"\",\"\",DMA!A104)","v":""},{"$f":"IF(DMA!$B104=\"\",\"\",DMA!$B104/5*100)","v":""},{"$f":"IF(DMA!G104=\"\",\"\",DMA!G104)","v":""},null,{"$f":"IF(DMA!J104=\"\",\"\",DMA!J104)","v":""}]
[null,null,null,null,null,null,null,null,null,null,null,null,null,null,null,null,null,null,null,null,101,"","",null,"",null,1,{"$f":"IF(DMA!A105=\"\",\"\",DMA!A105)","v":""},{"$f":"IF(DMA!$B105=\"\",\"\",DMA!$B105/5*100)","v":""},{"$f":"IF(DMA!G105=\"\",\"\",DMA!G105)","v":""},null,{"$f":"IF(DMA!J105=\"\",\"\",DMA!J105)","v":""}]
[null,null,null,null,null,null,null,null,null,null,null,null,null,null,null,null,null,null,null,null,102,"","",null,"",null,1,{"$f":"IF(DMA!A106=\"\",\"\",DMA!A106)","v":""},{"$f":"IF(DMA!$B106=\"\",\"\",DMA!$B106/5*100)","v":""},{"$f":"IF(DMA!G106=\"\",\"\",DMA!G106)","v":""},null,{"$f":"IF(DMA!J106=\"\",\"\",DMA!J106)","v":""}]
[null,null,null,null,null,null,null,null,null,null,null,null,null,null,null,null,null,null,null,null,103,"","",null,"",null,1,{"$f":"IF(DMA!A107=\"\",\"\",DMA!A107)","v":""},{"$f":"IF(DMA!$B107=\"\",\"\",DMA!$B107/5*100)","v":""},{"$f":"IF(DMA!G107=\"\",\"\",DMA!G107)","v":""},null,{"$f":"IF(DMA!J107=\"\",\"\",DMA!J107)","v":""}]
[null,null,null,null,null,null,null,null,null,null,null,null,null,null,null,null,null,null,null,null,104,"","",null,"",null,1,{"$f":"IF(DMA!A108=\"\",\"\",DMA!A108)","v":""},{"$f":"IF(DMA!$B108=\"\",\"\",DMA!$B108/5*100)","v":""},{"$f":"IF(DMA!G108=\"\",\"\",DMA!G108)","v":""},null,{"$f":"IF(DMA!J108=\"\",\"\",DMA!J108)","v":""}]
[null,null,null,null,null,null,null,null,null,null,null,null,null,null,null,null,null,null,null,null,105,"","",null,"",null,1,{"$f":"IF(DMA!A109=\"\",\"\",DMA!A109)","v":""},{"$f":"IF(DMA!$B109=\"\",\"\",DMA!$B109/5*100)","v":""},{"$f":"IF(DMA!G109=\"\",\"\",DMA!G109)","v":""},null,{"$f":"IF(DMA!J109=\"\",\"\",DMA!J109)","v":""}]
[null,null,null,null,null,null,null,null,null,null,null,null,null,null,null,null,null,null,null,null,106,"","",null,"",null,1,{"$f":"IF(DMA!A110=\"\",\"\",DMA!A110)","v":""},{"$f":"IF(DMA!$B110=\"\",\"\",DMA!$B110/5*100)","v":""},{"$f":"IF(DMA!G110=\"\",\"\",DMA!G110)","v":""},null,{"$f":"IF(DMA!J110=\"\",\"\",DMA!J110)","v":""}]
[null,null,null,null,null,null,null,null,null,null,null,null,null,null,null,null,null,null,null,null,107,"","",null,"",null,1,{"$f":"IF(DMA!A111=\"\",\"\",DMA!A111)","v":""},{"$f":"IF(DMA!$B111=\"\",\"\",DMA!$B111/5*100)","v":""},{"$f":"IF(DMA!G111=\"\",\"\",DMA!G111)","v":""},null,{"$f":"IF(DMA!J111=\"\",\"\",DMA!J111)","v":""}]
[null,null,null,null,null,null,null,null,null,null,null,null,null,null,null,null,null,null,null,null,108,"","",null,"",null,1,{"$f":"IF(DMA!A112=\"\",\"\",DMA!A112)","v":""},{"$f":"IF(DMA!$B112=\"\",\"\",DMA!$B112/5*100)","v":""},{"$f":"IF(DMA!G112=\"\",\"\",DMA!G112)","v":""},null,{"$f":"IF(DMA!J112=\"\",\"\",DMA!J112)","v":""}]
[null,null,null,null,null,null,null,null,null,null,null,null,null,null,null,null,null,null,null,null,109,"","",null,"",null,1,{"$f":"IF(DMA!A113=\"\",\"\",DMA!A113)","v":""},{"$f":"IF(DMA!$B113=\"\",\"\",DMA!$B113/5*100)","v":""},{"$f":"IF(DMA!G113=\"\",\"\",DMA!G113)","v":""},null,{"$f":"IF(DMA!J113=\"\",\"\",DMA!J113)","v":""}]
[null,null,null,null,null,null,null,null,null,null,null,null,null,null,null,null,null,null,null,null,110,"","",null,"",null,1,{"$f":"IF(DMA!A114=\"\",\"\",DMA!A114)","v":""},{"$f":"IF(DMA!$B114=\"\",\"\",DMA!$B114/5*100)","v":""},{"$f":"IF(DMA!G114=\"\",\"\",DMA!G114)","v":""},null,{"$f":"IF(DMA!J114=\"\",\"\",DMA!J114)","v":""}]
[null,null,null,null,null,null,null,null,null,null,null,null,null,null,null,null,null,null,null,null,111,"","",null,"",null,1,{"$f":"IF(DMA!A115=\"\",\"\",DMA!A115)","v":""},{"$f":"IF(DMA!$B115=\"\",\"\",DMA!$B115/5*100)","v":""},{"$f":"IF(DMA!G115=\"\",\"\",DMA!G115)","v":""},null,{"$f":"IF(DMA!J115=\"\",\"\",DMA!J115)","v":""}]
[null,null,null,null,null,null,null,null,null,null,null,null,null,null,null,null,null,null,null,null,112,"","",null,"",null,1,{"$f":"IF(DMA!A116=\"\",\"\",DMA!A116)","v":""},{"$f":"IF(DMA!$B116=\"\",\"\",DMA!$B116/5*100)","v":""},{"$f":"IF(DMA!G116=\"\",\"\",DMA!G116)","v":""},null,{"$f":"IF(DMA!J116=\"\",\"\",DMA!J116)","v":""}]
[null,null,null,null,null,null,null,null,null,null,null,null,null,null,null,null,null,null,null,null,113,"","",null,"",null,1,{"$f":"IF(DMA!A117=\"\",\"\",DMA!A117)","v":""},{"$f":"IF(DMA!$B117=\"\",\"\",DMA!$B117/5*100)","v":""},{"$f":"IF(DMA!G117=\"\",\"\",DMA!G117)","v":""},null,{"$f":"IF(DMA!J117=\"\",\"\",DMA!J117)","v":""}]
[null,null,null,null,null,null,null,null,null,null,null,null,null,null,null,null,null,null,null,null,114,"","",null,"",null,1,{"$f":"IF(DMA!A118=\"\",\"\",DMA!A118)","v":""},{"$f":"IF(DMA!$B118=\"\",\"\",DMA!$B118/5*100)","v":""},{"$f":"IF(DMA!G118=\"\",\"\",DMA!G118)","v":""},null,{"$f":"IF(DMA!J118=\"\",\"\",DMA!J118)","v":""}]
[null,null,null,null,null,null,null,null,null,null,null,null,null,null,null,null,null,null,null,null,115,"","",null,"",null,1,{"$f":"IF(DMA!A119=\"\",\"\",DMA!A119)","v":""},{"$f":"IF(DMA!$B119=\"\",\"\",DMA!$B119/5*100)","v":""},{"$f":"IF(DMA!G119=\"\",\"\",DMA!G119)","v":""},null,{"$f":"IF(DMA!J119=\"\",\"\",DMA!J119)","v":""}]
[null,null,null,null,null,null,null,null,null,null,null,null,null,null,null,null,null,null,null,null,116,"","",null,"",null,1,{"$f":"IF(DMA!A120=\"\",\"\",DMA!A120)","v":""},{"$f":"IF(DMA!$B120=\"\",\"\",DMA!$B120/5*100)","v":""},{"$f":"IF(DMA!G120=\"\",\"\",DMA!G120)","v":""},null,{"$f":"IF(DMA!J120=\"\",\"\",DMA!J120)","v":""}]
[null,null,null,null,null,null,null,null,null,null,null,null,null,null,null,null,null,null,null,null,117,"","",null,"",null,1,{"$f":"IF(DMA!A121=\"\",\"\",DMA!A121)","v":""},{"$f":"IF(DMA!$B121=\"\",\"\",DMA!$B121/5*100)","v":""},{"$f":"IF(DMA!G121=\"\",\"\",DMA!G121)","v":""},null,{"$f":"IF(DMA!J121=\"\",\"\",DMA!J121)","v":""}]
[null,null,null,null,null,null,null,null,null,null,null,null,null,null,null,null,null,null,null,null,118,"","",null,"",null,1,{"$f":"IF(DMA!A122=\"\",\"\",DMA!A122)","v":""},{"$f":"IF(DMA!$B122=\"\",\"\",DMA!$B122/5*100)","v":""},{"$f":"IF(DMA!G122=\"\",\"\",DMA!G122)","v":""},null,{"$f":"IF(DMA!J122=\"\",\"\",DMA!J122)","v":""}]
[null,null,null,null,null,null,null,null,null,null,null,null,null,null,null,null,null,null,null,null,119,"","",null,"",null,1,{"$f":"IF(DMA!A123=\"\",\"\",DMA!A123)","v":""},{"$f":"IF(DMA!$B123=\"\",\"\",DMA!$B123/5*100)","v":""},{"$f":"IF(DMA!G123=\"\",\"\",DMA!G123)","v":""},null,{"$f":"IF(DMA!J123=\"\",\"\",DMA!J123)","v":""}]
[null,null,null,null,null,null,null,null,null,null,null,null,null,null,null,null,null,null,null,null,120,"","",null,"",null,1,{"$f":"IF(DMA!A124=\"\",\"\",DMA!A124)","v":""},{"$f":"IF(DMA!$B124=\"\",\"\",DMA!$B124/5*100)","v":""},{"$f":"IF(DMA!G124=\"\",\"\",DMA!G124)","v":""},null,{"$f":"IF(DMA!J124=\"\",\"\",DMA!J124)","v":""}]
[null,null,null,null,null,null,null,null,null,null,null,null,null,null,null,null,null,null,null,null,121,"","",null,"",null,1,{"$f":"IF(DMA!A125=\"\",\"\",DMA!A125)","v":""},{"$f":"IF(DMA!$B125=\"\",\"\",DMA!$B125/5*100)","v":""},{"$f":"IF(DMA!G125=\"\",\"\",DMA!G125)","v":""},null,{"$f":"IF(DMA!J125=\"\",\"\",DMA!J125)","v":""}]
[null,null,null,null,null,null,null,null,null,null,null,null,null,null,null,null,null,null,null,null,122,"","",null,"",null,1,{"$f":"IF(DMA!A126=\"\",\"\",DMA!A126)","v":""},{"$f":"IF(DMA!$B126=\"\",\"\",DMA!$B126/5*100)","v":""},{"$f":"IF(DMA!G126=\"\",\"\",DMA!G126)","v":""},null,{"$f":"IF(DMA!J126=\"\",\"\",DMA!J126)","v":""}]
[null,null,null,null,null,null,null,null,null,null,null,null,null,null,null,null,null,null,null,null,123,"","",null,"",null,1,{"$f":"IF(DMA!A127=\"\",\"\",DMA!A127)","v":""},{"$f":"IF(DMA!$B127=\"\",\"\",DMA!$B127/5*100)","v":""},{"$f":"IF(DMA!G127=\"\",\"\",DMA!G127)","v":""},null,{"$f":"IF(DMA!J127=\"\",\"\",DMA!J127)","v":""}]
[null,null,null,null,null,null,null,null,null,null,null,null,null,null,null,null,null,null,null,null,124,"","",null,"",null,1,{"$f":"IF(DMA!A128=\"\",\"\",DMA!A128)","v":""},{"$f":"IF(DMA!$B128=\"\",\"\",DMA!$B128/5*100)","v":""},{"$f":"IF(DMA!G128=\"\",\"\",DMA!G128)","v":""},null,{"$f":"IF(DMA!J128=\"\",\"\",DMA!J128)","v":""}]
[null,null,null,null,null,null,null,null,null,null,null,null,null,null,null,null,null,null,null,null,125,"","",null,"",null,1,{"$f":"IF(DMA!A129=\"\",\"\",DMA!A129)","v":""},{"$f":"IF(DMA!$B129=\"\",\"\",DMA!$B129/5*100)","v":""},{"$f":"IF(DMA!G129=\"\",\"\",DMA!G129)","v":""},null,{"$f":"IF(DMA!J129=\"\",\"\",DMA!J129)","v":""}]
[null,null,null,null,null,null,null,null,null,null,null,null,null,null,null,null,null,null,null,null,126,"","",null,"",null,1,{"$f":"IF(DMA!A130=\"\",\"\",DMA!A130)","v":""},{"$f":"IF(DMA!$B130=\"\",\"\",DMA!$B130/5*100)","v":""},{"$f":"IF(DMA!G130=\"\",\"\",DMA!G130)","v":""},null,{"$f":"IF(DMA!J130=\"\",\"\",DMA!J130)","v":""}]
[null,null,null,null,null,null,null,null,null,null,null,null,null,null,null,null,null,null,null,null,127,"","",null,"",null,1,{"$f":"IF(DMA!A131=\"\",\"\",DMA!A131)","v":""},{"$f":"IF(DMA!$B131=\"\",\"\",DMA!$B131/5*100)","v":""},{"$f":"IF(DMA!G131=\"\",\"\",DMA!G131)","v":""},null,{"$f":"IF(DMA!J131=\"\",\"\",DMA!J131)","v":""}]
[null,null,null,null,null,null,null,null,null,null,null,null,null,null,null,null,null,null,null,null,128,"","",null,"",null,1,{"$f":"IF(DMA!A132=\"\",\"\",DMA!A132)","v":""},{"$f":"IF(DMA!$B132=\"\",\"\",DMA!$B132/5*100)","v":""},{"$f":"IF(DMA!G132=\"\",\"\",DMA!G132)","v":""},null,{"$f":"IF(DMA!J132=\"\",\"\",DMA!J132)","v":""}]
[null,null,null,null,null,null,null,null,null,null,null,null,null,null,null,null,null,null,null,null,129,"","",null,"",null,1,{"$f":"IF(DMA!A133=\"\",\"\",DMA!A133)","v":""},{"$f":"IF(DMA!$B133=\"\",\"\",DMA!$B133/5*100)","v":""},{"$f":"IF(DMA!G133=\"\",\"\",DMA!G133)","v":""},null,{"$f":"IF(DMA!J133=\"\",\"\",DMA!J133)","v":""}]
[null,null,null,null,null,null,null,null,null,null,null,null,null,null,null,null,null,null,null,null,130,{"$f":"IF(ISERROR(AVERAGEIF(AA:AA,U131,AC:AC)),\"\",AVERAGEIF(AA:AA,U131,AC:AC))","v":""},"",null,"",null,1,{"$f":"IF(DMA!A134=\"\",\"\",DMA!A134)","v":""},{"$f":"IF(DMA!$B134=\"\",\"\",DMA!$B134/5*100)","v":""},{"$f":"IF(DMA!G134=\"\",\"\",DMA!G134)","v":""},null,{"$f":"IF(DMA!J134=\"\",\"\",DMA!J134)","v":""}]
[null,null,null,null,null,null,null,null,null,null,null,null,null,null,null,null,null,null,null,null,131,"","",null,"",null,{"$f":"IF(AB132=AA131+1,AB132,AA131)","v":1},{"$f":"IF(DMA!A135=\"\",\"\",DMA!A135)","v":""},{"$f":"IF(DMA!$B135=\"\",\"\",DMA!$B135/5*100)","v":""},{"$f":"IF(DMA!G135=\"\",\"\",DMA!G135)","v":""},null,{"$f":"IF(DMA!J135=\"\",\"\",DMA!J135)","v":""}]
[null,null,null,null,null,null,null,null,null,null,null,null,null,null,null,null,null,null,null,null,132,"","",null,"",null,1,{"$f":"IF(DMA!A136=\"\",\"\",DMA!A136)","v":""},{"$f":"IF(DMA!$B136=\"\",\"\",DMA!$B136/5*100)","v":""},{"$f":"IF(DMA!G136=\"\",\"\",DMA!G136)","v":""},null,{"$f":"IF(DMA!J136=\"\",\"\",DMA!J136)","v":""}]
[null,null,null,null,null,null,null,null,null,null,null,null,null,null,null,null,null,null,null,null,133,"","",null,"",null,1,{"$f":"IF(DMA!A137=\"\",\"\",DMA!A137)","v":""},{"$f":"IF(DMA!$B137=\"\",\"\",DMA!$B137/5*100)","v":""},{"$f":"IF(DMA!G137=\"\",\"\",DMA!G137)","v":""},null,{"$f":"IF(DMA!J137=\"\",\"\",DMA!J137)","v":""}]
[null,null,null,null,null,null,null,null,null,null,null,null,null,null,null,null,null,null,null,null,134,"","",null,"",null,1,{"$f":"IF(DMA!A138=\"\",\"\",DMA!A138)","v":""},{"$f":"IF(DMA!$B138=\"\",\"\",DMA!$B138/5*100)","v":""},{"$f":"IF(DMA!G138=\"\",\"\",DMA!G138)","v":""},null,{"$f":"IF(DMA!J138=\"\",\"\",DMA!J138)","v":""}]
[null,null,null,null,null,null,null,null,null,null,null,null,null,null,null,null,null,null,null,null,135,"","",null,"",null,1,{"$f":"IF(DMA!A139=\"\",\"\",DMA!A139)","v":""},{"$f":"IF(DMA!$B139=\"\",\"\",DMA!$B139/5*100)","v":""},{"$f":"IF(DMA!G139=\"\",\"\",DMA!G139)","v":""},null,{"$f":"IF(DMA!J139=\"\",\"\",DMA!J139)","v":""}]
[null,null,null,null,null,null,null,null,null,null,null,null,null,null,null,null,null,null,null,null,136,"","",null,"",null,1,{"$f":"IF(DMA!A140=\"\",\"\",DMA!A140)","v":""},{"$f":"IF(DMA!$B140=\"\",\"\",DMA!$B140/5*100)","v":""},{"$f":"IF(DMA!G140=\"\",\"\",DMA!G140)","v":""},null,{"$f":"IF(DMA!J140=\"\",\"\",DMA!J140)","v":""}]
[null,null,null,null,null,null,null,null,null,null,null,null,null,null,null,null,null,null,null,null,137,"","",null,"",null,1,{"$f":"IF(DMA!A141=\"\",\"\",DMA!A141)","v":""},{"$f":"IF(DMA!$B141=\"\",\"\",DMA!$B141/5*100)","v":""},{"$f":"IF(DMA!G141=\"\",\"\",DMA!G141)","v":""},null,{"$f":"IF(DMA!J141=\"\",\"\",DMA!J141)","v":""}]
[null,null,null,null,null,null,null,null,null,null,null,null,null,null,null,null,null,null,null,null,138,"","",null,"",null,1,{"$f":"IF(DMA!A142=\"\",\"\",DMA!A142)","v":""},{"$f":"IF(DMA!$B142=\"\",\"\",DMA!$B142/5*100)","v":""},{"$f":"IF(DMA!G142=\"\",\"\",DMA!G142)","v":""},null,{"$f":"IF(DMA!J142=\"\",\"\",DMA!J142)","v":""}]
[null,null,null,null,null,null,null,null,null,null,null,null,null,null,null,null,null,null,null,null,139,"",{"$f":"IF(ISERROR(AVERAGEIF($AA:$AA,$U140,AD:AD)),\"\",AVERAGEIF($AA:$AA,$U140,AD:AD))","v":""},null,{"$f":"IF(ISERROR(AVERAGEIF($AA:$AA,$U140,AF:AF)),\"\",AVERAGEIF($AA:$AA,$U140,AF:AF))","v":""},null,1,{"$f":"IF(DMA!A143=\"\",\"\",DMA!A143)","v":""},{"$f":"IF(DMA!$B143=\"\",\"\",DMA!$B143/5*100)","v":""},{"$f":"IF(DMA!G143=\"\",\"\",DMA!G143)","v":""},null,{"$f":"IF(DMA!J143=\"\",\"\",DMA!J143)","v":""}]
[null,null,null,null,null,null,null,null,null,null,null,null,null,null,null,null,null,null,null,null,140,"","",null,"",null,1,{"$f":"IF(DMA!A144=\"\",\"\",DMA!A144)","v":""},{"$f":"IF(DMA!$B144=\"\",\"\",DMA!$B144/5*100)","v":""},{"$f":"IF(DMA!G144=\"\",\"\",DMA!G144)","v":""},null,{"$f":"IF(DMA!J144=\"\",\"\",DMA!J144)","v":""}]
[null,null,null,null,null,null,null,null,null,null,null,null,null,null,null,null,null,null,null,null,141,"","",null,"",null,1,{"$f":"IF(DMA!A145=\"\",\"\",DMA!A145)","v":""},{"$f":"IF(DMA!$B145=\"\",\"\",DMA!$B145/5*100)","v":""},{"$f":"IF(DMA!G145=\"\",\"\",DMA!G145)","v":""},null,{"$f":"IF(DMA!J145=\"\",\"\",DMA!J145)","v":""}]
[null,null,null,null,null,null,null,null,null,null,null,null,null,null,null,null,null,null,null,null,142,"","",null,"",null,1,{"$f":"IF(DMA!A146=\"\",\"\",DMA!A146)","v":""},{"$f":"IF(DMA!$B146=\"\",\"\",DMA!$B146/5*100)","v":""},{"$f":"IF(DMA!G146=\"\",\"\",DMA!G146)","v":""},null,{"$f":"IF(DMA!J146=\"\",\"\",DMA!J146)","v":""}]
[null,null,null,null,null,null,null,null,null,null,null,null,null,null,null,null,null,null,null,null,143,"","",null,"",null,1,{"$f":"IF(DMA!A147=\"\",\"\",DMA!A147)","v":""},{"$f":"IF(DMA!$B147=\"\",\"\",DMA!$B147/5*100)","v":""},{"$f":"IF(DMA!G147=\"\",\"\",DMA!G147)","v":""},null,{"$f":"IF(DMA!J147=\"\",\"\",DMA!J147)","v":""}]
[null,null,null,null,null,null,null,null,null,null,null,null,null,null,null,null,null,null,null,null,144,"","",null,"",null,1,{"$f":"IF(DMA!A148=\"\",\"\",DMA!A148)","v":""},{"$f":"IF(DMA!$B148=\"\",\"\",DMA!$B148/5*100)","v":""},{"$f":"IF(DMA!G148=\"\",\"\",DMA!G148)","v":""},null,{"$f":"IF(DMA!J148=\"\",\"\",DMA!J148)","v":""}]
[null,null,null,null,null,null,null,null,null,null,null,null,null,null,null,null,null,null,null,null,145,"","",null,"",null,1,{"$f":"IF(DMA!A149=\"\",\"\",DMA!A149)","v":""},{"$f":"IF(DMA!$B149=\"\",\"\",DMA!$B149/5*100)","v":""},{"$f":"IF(DMA!G149=\"\",\"\",DMA!G149)","v":""},null,{"$f":"IF(DMA!J149=\"\",\"\",DMA!J149)","v":""}]
[null,null,null,null,null,null,null,null,null,null,null,null,null,null,null,null,null,null,null,null,146,"","",null,"",null,1,{"$f":"IF(DMA!A150=\"\",\"\",DMA!A150)","v":""},{"$f":"IF(DMA!$B150=\"\",\"\",DMA!$B150/5*100)","v":""},{"$f":"IF(DMA!G150=\"\",\"\",DMA!G150)","v":""},null,{"$f":"IF(DMA!J150=\"\",\"\",DMA!J150)","v":""}]
[null,null,null,null,null,null,null,null,null,null,null,null,null,null,null,null,null,null,null,null,147,"","",null,"",null,1,{"$f":"IF(DMA!A151=\"\",\"\",DMA!A151)","v":""},{"$f":"IF(DMA!$B151=\"\",\"\",DMA!$B151/5*100)","v":""},{"$f":"IF(DMA!G151=\"\",\"\",DMA!G151)","v":""},null,{"$f":"IF(DMA!J151=\"\",\"\",DMA!J151)","v":""}]
[null,null,null,null,null,null,null,null,null,null,null,null,null,null,null,null,null,null,null,null,148,"","",null,"",null,1,{"$f":"IF(DMA!A152=\"\",\"\",DMA!A152)","v":""},{"$f":"IF(DMA!$B152=\"\",\"\",DMA!$B152/5*100)","v":""},{"$f":"IF(DMA!G152=\"\",\"\",DMA!G152)","v":""},null,{"$f":"IF(DMA!J152=\"\",\"\",DMA!J152)","v":""}]
[null,null,null,null,null,null,null,null,null,null,null,null,null,null,null,null,null,null,null,null,149,"","",null,"",null,1,{"$f":"IF(DMA!A153=\"\",\"\",DMA!A153)","v":""},{"$f":"IF(DMA!$B153=\"\",\"\",DMA!$B153/5*100)","v":""},{"$f":"IF(DMA!G153=\"\",\"\",DMA!G153)","v":""},null,{"$f":"IF(DMA!J153=\"\",\"\",DMA!J153)","v":""}]
[null,null,null,null,null,null,null,null,null,null,null,null,null,null,null,null,null,null,null,null,150,"","",null,"",null,1,{"$f":"IF(DMA!A154=\"\",\"\",DMA!A154)","v":""},{"$f":"IF(DMA!$B154=\"\",\"\",DMA!$B154/5*100)","v":""},{"$f":"IF(DMA!G154=\"\",\"\",DMA!G154)","v":""},null,{"$f":"IF(DMA!J154=\"\",\"\",DMA!J154)","v":""}]
[null,null,null,null,null,null,null,null,null,null,null,null,null,null,null,null,null,null,null,null,null,null,null,null,null,null,1,{"$f":"IF(DMA!A155=\"\",\"\",DMA!A155)","v":""},{"$f":"IF(DMA!$B155=\"\",\"\",DMA!$B155/5*100)","v":""},{"$f":"IF(DMA!G155=\"\",\"\",DMA!G155)","v":""},null,{"$f":"IF(DMA!J155=\"\",\"\",DMA!J155)","v":""}]
[null,null,null,null,null,null,null,null,null,null,null,null,null,null,null,null,null,null,null,null,null,null,null,null,null,null,1,{"$f":"IF(DMA!A156=\"\",\"\",DMA!A156)","v":""},{"$f":"IF(DMA!$B156=\"\",\"\",DMA!$B156/5*100)","v":""},{"$f":"IF(DMA!G156=\"\",\"\",DMA!G156)","v":""},null,{"$f":"IF(DMA!J156=\"\",\"\",DMA!J156)","v":""}]
[null,null,null,null,null,null,null,null,null,null,null,null,null,null,null,null,null,null,null,null,null,null,null,null,null,null,1,{"$f":"IF(DMA!A157=\"\",\"\",DMA!A157)","v":""},{"$f":"IF(DMA!$B157=\"\",\"\",DMA!$B157/5*100)","v":""},{"$f":"IF(DMA!G157=\"\",\"\",DMA!G157)","v":""},null,{"$f":"IF(DMA!J157=\"\",\"\",DMA!J157)","v":""}]
[null,null,null,null,null,null,null,null,null,null,null,null,null,null,null,null,null,null,null,null,null,null,null,null,null,null,1,{"$f":"IF(DMA!A158=\"\",\"\",DMA!A158)","v":""},{"$f":"IF(DMA!$B158=\"\",\"\",DMA!$B158/5*100)","v":""},{"$f":"IF(DMA!G158=\"\",\"\",DMA!G158)","v":""},null,{"$f":"IF(DMA!J158=\"\",\"\",DMA!J158)","v":""}]
[null,null,null,null,null,null,null,null,null,null,null,null,null,null,null,null,null,null,null,null,null,null,null,null,null,null,1,{"$f":"IF(DMA!A159=\"\",\"\",DMA!A159)","v":""},{"$f":"IF(DMA!$B159=\"\",\"\",DMA!$B159/5*100)","v":""},{"$f":"IF(DMA!G159=\"\",\"\",DMA!G159)","v":""},null,{"$f":"IF(DMA!J159=\"\",\"\",DMA!J159)","v":""}]
[null,null,null,null,null,null,null,null,null,null,null,null,null,null,null,null,null,null,null,null,null,null,null,null,null,null,1,{"$f":"IF(DMA!A160=\"\",\"\",DMA!A160)","v":""},{"$f":"IF(DMA!$B160=\"\",\"\",DMA!$B160/5*100)","v":""},{"$f":"IF(DMA!G160=\"\",\"\",DMA!G160)","v":""},null,{"$f":"IF(DMA!J160=\"\",\"\",DMA!J160)","v":""}]
[null,null,null,null,null,null,null,null,null,null,null,null,null,null,null,null,null,null,null,null,null,null,null,null,null,null,1,{"$f":"IF(DMA!A161=\"\",\"\",DMA!A161)","v":""},{"$f":"IF(DMA!$B161=\"\",\"\",DMA!$B161/5*100)","v":""},{"$f":"IF(DMA!G161=\"\",\"\",DMA!G161)","v":""},null,{"$f":"IF(DMA!J161=\"\",\"\",DMA!J161)","v":""}]
[null,null,null,null,null,null,null,null,null,null,null,null,null,null,null,null,null,null,null,null,null,null,null,null,null,null,1,{"$f":"IF(DMA!A162=\"\",\"\",DMA!A162)","v":""},{"$f":"IF(DMA!$B162=\"\",\"\",DMA!$B162/5*100)","v":""},{"$f":"IF(DMA!G162=\"\",\"\",DMA!G162)","v":""},null,{"$f":"IF(DMA!J162=\"\",\"\",DMA!J162)","v":""}]
[null,null,null,null,null,null,null,null,null,null,null,null,null,null,null,null,null,null,null,null,null,null,null,null,null,null,1,{"$f":"IF(DMA!A163=\"\",\"\",DMA!A163)","v":""},{"$f":"IF(DMA!$B163=\"\",\"\",DMA!$B163/5*100)","v":""},{"$f":"IF(DMA!G163=\"\",\"\",DMA!G163)","v":""},null,{"$f":"IF(DMA!J163=\"\",\"\",DMA!J163)","v":""}]
[null,null,null,null,null,null,null,null,null,null,null,null,null,null,null,null,null,null,null,null,null,null,null,null,null,null,1,{"$f":"IF(DMA!A164=\"\",\"\",DMA!A164)","v":""},{"$f":"IF(DMA!$B164=\"\",\"\",DMA!$B164/5*100)","v":""},{"$f":"IF(DMA!G164=\"\",\"\",DMA!G164)","v":""},null,{"$f":"IF(DMA!J164=\"\",\"\",DMA!J164)","v":""}]
[null,null,null,null,null,null,null,null,null,null,null,null,null,null,null,null,null,null,null,null,null,null,null,null,null,null,1,{"$f":"IF(DMA!A165=\"\",\"\",DMA!A165)","v":""},{"$f":"IF(DMA!$B165=\"\",\"\",DMA!$B165/5*100)","v":""},{"$f":"IF(DMA!G165=\"\",\"\",DMA!G165)","v":""},null,{"$f":"IF(DMA!J165=\"\",\"\",DMA!J165)","v":""}]
[null,null,null,null,null,null,null,null,null,null,null,null,null,null,null,null,null,null,null,null,null,null,null,null,null,null,1,{"$f":"IF(DMA!A166=\"\",\"\",DMA!A166)","v":""},{"$f":"IF(DMA!$B166=\"\",\"\",DMA!$B166/5*100)","v":""},{"$f":"IF(DMA!G166=\"\",\"\",DMA!G166)","v":""},null,{"$f":"IF(DMA!J166=\"\",\"\",DMA!J166)","v":""}]
[null,null,null,null,null,null,null,null,null,null,null,null,null,null,null,null,null,null,null,null,null,null,null,null,null,null,1,{"$f":"IF(DMA!A167=\"\",\"\",DMA!A167)","v":""},{"$f":"IF(DMA!$B167=\"\",\"\",DMA!$B167/5*100)","v":""},{"$f":"IF(DMA!G167=\"\",\"\",DMA!G167)","v":""},null,{"$f":"IF(DMA!J167=\"\",\"\",DMA!J167)","v":""}]
[null,null,null,null,null,null,null,null,null,null,null,null,null,null,null,null,null,null,null,null,null,null,null,null,null,null,1,{"$f":"IF(DMA!A168=\"\",\"\",DMA!A168)","v":""},{"$f":"IF(DMA!$B168=\"\",\"\",DMA!$B168/5*100)","v":""},{"$f":"IF(DMA!G168=\"\",\"\",DMA!G168)","v":""},null,{"$f":"IF(DMA!J168=\"\",\"\",DMA!J168)","v":""}]
[null,null,null,null,null,null,null,null,null,null,null,null,null,null,null,null,null,null,null,null,null,null,null,null,null,null,1,{"$f":"IF(DMA!A169=\"\",\"\",DMA!A169)","v":""},{"$f":"IF(DMA!$B169=\"\",\"\",DMA!$B169/5*100)","v":""},{"$f":"IF(DMA!G169=\"\",\"\",DMA!G169)","v":""},null,{"$f":"IF(DMA!J169=\"\",\"\",DMA!J169)","v":""}]
[null,null,null,null,null,null,null,null,null,null,null,null,null,null,null,null,null,null,null,null,null,null,null,null,null,null,1,{"$f":"IF(DMA!A170=\"\",\"\",DMA!A170)","v":""},{"$f":"IF(DMA!$B170=\"\",\"\",DMA!$B170/5*100)","v":""},{"$f":"IF(DMA!G170=\"\",\"\",DMA!G170)","v":""},null,{"$f":"IF(DMA!J170=\"\",\"\",DMA!J170)","v":""}]
[null,null,null,null,null,null,null,null,null,null,null,null,null,null,null,null,null,null,null,null,null,null,null,null,null,null,1,{"$f":"IF(DMA!A171=\"\",\"\",DMA!A171)","v":""},{"$f":"IF(DMA!$B171=\"\",\"\",DMA!$B171/5*100)","v":""},{"$f":"IF(DMA!G171=\"\",\"\",DMA!G171)","v":""},null,{"$f":"IF(DMA!J171=\"\",\"\",DMA!J171)","v":""}]
[null,null,null,null,null,null,null,null,null,null,null,null,null,null,null,null,null,null,null,null,null,null,null,null,null,null,1,{"$f":"IF(DMA!A172=\"\",\"\",DMA!A172)","v":""},{"$f":"IF(DMA!$B172=\"\",\"\",DMA!$B172/5*100)","v":""},{"$f":"IF(DMA!G172=\"\",\"\",DMA!G172)","v":""},null,{"$f":"IF(DMA!J172=\"\",\"\",DMA!J172)","v":""}]
[null,null,null,null,null,null,null,null,null,null,null,null,null,null,null,null,null,null,null,null,null,null,null,null,null,null,1,{"$f":"IF(DMA!A173=\"\",\"\",DMA!A173)","v":""},{"$f":"IF(DMA!$B173=\"\",\"\",DMA!$B173/5*100)","v":""},{"$f":"IF(DMA!G173=\"\",\"\",DMA!G173)","v":""},null,{"$f":"IF(DMA!J173=\"\",\"\",DMA!J173)","v":""}]
[null,null,null,null,null,null,null,null,null,null,null,null,null,null,null,null,null,null,null,null,null,null,null,null,null,null,1,{"$f":"IF(DMA!A174=\"\",\"\",DMA!A174)","v":""},{"$f":"IF(DMA!$B174=\"\",\"\",DMA!$B174/5*100)","v":""},{"$f":"IF(DMA!G174=\"\",\"\",DMA!G174)","v":""},null,{"$f":"IF(DMA!J174=\"\",\"\",DMA!J174)","v":""}]
[null,null,null,null,null,null,null,null,null,null,null,null,null,null,null,null,null,null,null,null,null,null,null,null,null,null,1,{"$f":"IF(DMA!A175=\"\",\"\",DMA!A175)","v":""},{"$f":"IF(DMA!$B175=\"\",\"\",DMA!$B175/5*100)","v":""},{"$f":"IF(DMA!G175=\"\",\"\",DMA!G175)","v":""},null,{"$f":"IF(DMA!J175=\"\",\"\",DMA!J175)","v":""}]
[null,null,null,null,null,null,null,null,null,null,null,null,null,null,null,null,null,null,null,null,null,null,null,null,null,null,1,{"$f":"IF(DMA!A176=\"\",\"\",DMA!A176)","v":""},{"$f":"IF(DMA!$B176=\"\",\"\",DMA!$B176/5*100)","v":""},{"$f":"IF(DMA!G176=\"\",\"\",DMA!G176)","v":""},null,{"$f":"IF(DMA!J176=\"\",\"\",DMA!J176)","v":""}]
[null,null,null,null,null,null,null,null,null,null,null,null,null,null,null,null,null,null,null,null,null,null,null,null,null,null,1,{"$f":"IF(DMA!A177=\"\",\"\",DMA!A177)","v":""},{"$f":"IF(DMA!$B177=\"\",\"\",DMA!$B177/5*100)","v":""},{"$f":"IF(DMA!G177=\"\",\"\",DMA!G177)","v":""},null,{"$f":"IF(DMA!J177=\"\",\"\",DMA!J177)","v":""}]
[null,null,null,null,null,null,null,null,null,null,null,null,null,null,null,null,null,null,null,null,null,null,null,null,null,null,1,{"$f":"IF(DMA!A178=\"\",\"\",DMA!A178)","v":""},{"$f":"IF(DMA!$B178=\"\",\"\",DMA!$B178/5*100)","v":""},{"$f":"IF(DMA!G178=\"\",\"\",DMA!G178)","v":""},null,{"$f":"IF(DMA!J178=\"\",\"\",DMA!J178)","v":""}]
[null,null,null,null,null,null,null,null,null,null,null,null,null,null,null,null,null,null,null,null,null,null,null,null,null,null,1,{"$f":"IF(DMA!A179=\"\",\"\",DMA!A179)","v":""},{"$f":"IF(DMA!$B179=\"\",\"\",DMA!$B179/5*100)","v":""},{"$f":"IF(DMA!G179=\"\",\"\",DMA!G179)","v":""},null,{"$f":"IF(DMA!J179=\"\",\"\",DMA!J179)","v":""}]
[null,null,null,null,null,null,null,null,null,null,null,null,null,null,null,null,null,null,null,null,null,null,null,null,null,null,1,{"$f":"IF(DMA!A180=\"\",\"\",DMA!A180)","v":""},{"$f":"IF(DMA!$B180=\"\",\"\",DMA!$B180/5*100)","v":""},{"$f":"IF(DMA!G180=\"\",\"\",DMA!G180)","v":""},null,{"$f":"IF(DMA!J180=\"\",\"\",DMA!J180)","v":""}]
[null,null,null,null,null,null,null,null,null,null,null,null,null,null,null,null,null,null,null,null,null,null,null,null,null,null,1,{"$f":"IF(DMA!A181=\"\",\"\",DMA!A181)","v":""},{"$f":"IF(DMA!$B181=\"\",\"\",DMA!$B181/5*100)","v":""},{"$f":"IF(DMA!G181=\"\",\"\",DMA!G181)","v":""},null,{"$f":"IF(DMA!J181=\"\",\"\",DMA!J181)","v":""}]
[null,null,null,null,null,null,null,null,null,null,null,null,null,null,null,null,null,null,null,null,null,null,null,null,null,null,1,{"$f":"IF(DMA!A182=\"\",\"\",DMA!A182)","v":""},{"$f":"IF(DMA!$B182=\"\",\"\",DMA!$B182/5*100)","v":""},{"$f":"IF(DMA!G182=\"\",\"\",DMA!G182)","v":""},null,{"$f":"IF(DMA!J182=\"\",\"\",DMA!J182)","v":""}]
[null,null,null,null,null,null,null,null,null,null,null,null,null,null,null,null,null,null,null,null,null,null,null,null,null,null,1,{"$f":"IF(DMA!A183=\"\",\"\",DMA!A183)","v":""},{"$f":"IF(DMA!$B183=\"\",\"\",DMA!$B183/5*100)","v":""},{"$f":"IF(DMA!G183=\"\",\"\",DMA!G183)","v":""},null,{"$f":"IF(DMA!J183=\"\",\"\",DMA!J183)","v":""}]
[null,null,null,null,null,null,null,null,null,null,null,null,null,null,null,null,null,null,null,null,null,null,null,null,null,null,1,{"$f":"IF(DMA!A184=\"\",\"\",DMA!A184)","v":""},{"$f":"IF(DMA!$B184=\"\",\"\",DMA!$B184/5*100)","v":""},{"$f":"IF(DMA!G184=\"\",\"\",DMA!G184)","v":""},null,{"$f":"IF(DMA!J184=\"\",\"\",DMA!J184)","v":""}]
[null,null,null,null,null,null,null,null,null,null,null,null,null,null,null,null,null,null,null,null,null,null,null,null,null,null,1,{"$f":"IF(DMA!A185=\"\",\"\",DMA!A185)","v":""},{"$f":"IF(DMA!$B185=\"\",\"\",DMA!$B185/5*100)","v":""},{"$f":"IF(DMA!G185=\"\",\"\",DMA!G185)","v":""},null,{"$f":"IF(DMA!J185=\"\",\"\",DMA!J185)","v":""}]
[null,null,null,null,null,null,null,null,null,null,null,null,null,null,null,null,null,null,null,null,null,null,null,null,null,null,1,{"$f":"IF(DMA!A186=\"\",\"\",DMA!A186)","v":""},{"$f":"IF(DMA!$B186=\"\",\"\",DMA!$B186/5*100)","v":""},{"$f":"IF(DMA!G186=\"\",\"\",DMA!G186)","v":""},null,{"$f":"IF(DMA!J186=\"\",\"\",DMA!J186)","v":""}]
[null,null,null,null,null,null,null,null,null,null,null,null,null,null,null,null,null,null,null,null,null,null,null,null,null,null,1,{"$f":"IF(DMA!A187=\"\",\"\",DMA!A187)","v":""},{"$f":"IF(DMA!$B187=\"\",\"\",DMA!$B187/5*100)","v":""},{"$f":"IF(DMA!G187=\"\",\"\",DMA!G187)","v":""},null,{"$f":"IF(DMA!J187=\"\",\"\",DMA!J187)","v":""}]
[null,null,null,null,null,null,null,null,null,null,null,null,null,null,null,null,null,null,null,null,null,null,null,null,null,null,1,{"$f":"IF(DMA!A188=\"\",\"\",DMA!A188)","v":""},{"$f":"IF(DMA!$B188=\"\",\"\",DMA!$B188/5*100)","v":""},{"$f":"IF(DMA!G188=\"\",\"\",DMA!G188)","v":""},null,{"$f":"IF(DMA!J188=\"\",\"\",DMA!J188)","v":""}]
[null,null,null,null,null,null,null,null,null,null,null,null,null,null,null,null,null,null,null,null,null,null,null,null,null,null,1,{"$f":"IF(DMA!A189=\"\",\"\",DMA!A189)","v":""},{"$f":"IF(DMA!$B189=\"\",\"\",DMA!$B189/5*100)","v":""},{"$f":"IF(DMA!G189=\"\",\"\",DMA!G189)","v":""},null,{"$f":"IF(DMA!J189=\"\",\"\",DMA!J189)","v":""}]
[null,null,null,null,null,null,null,null,null,null,null,null,null,null,null,null,null,null,null,null,null,null,null,null,null,null,1,{"$f":"IF(DMA!A190=\"\",\"\",DMA!A190)","v":""},{"$f":"IF(DMA!$B190=\"\",\"\",DMA!$B190/5*100)","v":""},{"$f":"IF(DMA!G190=\"\",\"\",DMA!G190)","v":""},null,{"$f":"IF(DMA!J190=\"\",\"\",DMA!J190)","v":""}]
[null,null,null,null,null,null,null,null,null,null,null,null,null,null,null,null,null,null,null,null,null,null,null,null,null,null,1,{"$f":"IF(DMA!A191=\"\",\"\",DMA!A191)","v":""},{"$f":"IF(DMA!$B191=\"\",\"\",DMA!$B191/5*100)","v":""},{"$f":"IF(DMA!G191=\"\",\"\",DMA!G191)","v":""},null,{"$f":"IF(DMA!J191=\"\",\"\",DMA!J191)","v":""}]
[null,null,null,null,null,null,null,null,null,null,null,null,null,null,null,null,null,null,null,null,null,null,null,null,null,null,1,{"$f":"IF(DMA!A192=\"\",\"\",DMA!A192)","v":""},{"$f":"IF(DMA!$B192=\"\",\"\",DMA!$B192/5*100)","v":""},{"$f":"IF(DMA!G192=\"\",\"\",DMA!G192)","v":""},null,{"$f":"IF(DMA!J192=\"\",\"\",DMA!J192)","v":""}]
[null,null,null,null,null,null,null,null,null,null,null,null,null,null,null,null,null,null,null,null,null,null,null,null,null,null,1,{"$f":"IF(DMA!A193=\"\",\"\",DMA!A193)","v":""},{"$f":"IF(DMA!$B193=\"\",\"\",DMA!$B193/5*100)","v":""},{"$f":"IF(DMA!G193=\"\",\"\",DMA!G193)","v":""},null,{"$f":"IF(DMA!J193=\"\",\"\",DMA!J193)","v":""}]
[null,null,null,null,null,null,null,null,null,null,null,null,null,null,null,null,null,null,null,null,null,null,null,null,null,null,1,{"$f":"IF(DMA!A194=\"\",\"\",DMA!A194)","v":""},{"$f":"IF(DMA!$B194=\"\",\"\",DMA!$B194/5*100)","v":""},{"$f":"IF(DMA!G194=\"\",\"\",DMA!G194)","v":""},null,{"$f":"IF(DMA!J194=\"\",\"\",DMA!J194)","v":""}]
[null,null,null,null,null,null,null,null,null,null,null,null,null,null,null,null,null,null,null,null,null,null,null,null,null,null,1,{"$f":"IF(DMA!A195=\"\",\"\",DMA!A195)","v":""},{"$f":"IF(DMA!$B195=\"\",\"\",DMA!$B195/5*100)","v":""},{"$f":"IF(DMA!G195=\"\",\"\",DMA!G195)","v":""},null,{"$f":"IF(DMA!J195=\"\",\"\",DMA!J195)","v":""}]
[null,null,null,null,null,null,null,null,null,null,null,null,null,null,null,null,null,null,null,null,null,null,null,null,null,null,1,{"$f":"IF(DMA!A196=\"\",\"\",DMA!A196)","v":""},{"$f":"IF(DMA!$B196=\"\",\"\",DMA!$B196/5*100)","v":""},{"$f":"IF(DMA!G196=\"\",\"\",DMA!G196)","v":""},null,{"$f":"IF(DMA!J196=\"\",\"\",DMA!J196)","v":""}]
[null,null,null,null,null,null,null,null,null,null,null,null,null,null,null,null,null,null,null,null,null,null,null,null,null,null,1,{"$f":"IF(DMA!A197=\"\",\"\",DMA!A197)","v":""},{"$f":"IF(DMA!$B197=\"\",\"\",DMA!$B197/5*100)","v":""},{"$f":"IF(DMA!G197=\"\",\"\",DMA!G197)","v":""},null,{"$f":"IF(DMA!J197=\"\",\"\",DMA!J197)","v":""}]
[null,null,null,null,null,null,null,null,null,null,null,null,null,null,null,null,null,null,null,null,null,null,null,null,null,null,1,{"$f":"IF(DMA!A198=\"\",\"\",DMA!A198)","v":""},{"$f":"IF(DMA!$B198=\"\",\"\",DMA!$B198/5*100)","v":""},{"$f":"IF(DMA!G198=\"\",\"\",DMA!G198)","v":""},null,{"$f":"IF(DMA!J198=\"\",\"\",DMA!J198)","v":""}]
[null,null,null,null,null,null,null,null,null,null,null,null,null,null,null,null,null,null,null,null,null,null,null,null,null,null,{"$f":"IF(AB196=AA195+1,AB196,AA195)","v":1},{"$f":"IF(DMA!A199=\"\",\"\",DMA!A199)","v":""},{"$f":"IF(DMA!$B199=\"\",\"\",DMA!$B199/5*100)","v":""},{"$f":"IF(DMA!G199=\"\",\"\",DMA!G199)","v":""},null,{"$f":"IF(DMA!J199=\"\",\"\",DMA!J199)","v":""}]
[null,null,null,null,null,null,null,null,null,null,null,null,null,null,null,null,null,null,null,null,null,null,null,null,null,null,1,{"$f":"IF(DMA!A200=\"\",\"\",DMA!A200)","v":""},{"$f":"IF(DMA!$B200=\"\",\"\",DMA!$B200/5*100)","v":""},{"$f":"IF(DMA!G200=\"\",\"\",DMA!G200)","v":""},null,{"$f":"IF(DMA!J200=\"\",\"\",DMA!J200)","v":""}]
[null,null,null,null,null,null,null,null,null,null,null,null,null,null,null,null,null,null,null,null,null,null,null,null,null,null,1,{"$f":"IF(DMA!A201=\"\",\"\",DMA!A201)","v":""},{"$f":"IF(DMA!$B201=\"\",\"\",DMA!$B201/5*100)","v":""},{"$f":"IF(DMA!G201=\"\",\"\",DMA!G201)","v":""},null,{"$f":"IF(DMA!J201=\"\",\"\",DMA!J201)","v":""}]
[null,null,null,null,null,null,null,null,null,null,null,null,null,null,null,null,null,null,null,null,null,null,null,null,null,null,1,{"$f":"IF(DMA!A202=\"\",\"\",DMA!A202)","v":""},{"$f":"IF(DMA!$B202=\"\",\"\",DMA!$B202/5*100)","v":""},{"$f":"IF(DMA!G202=\"\",\"\",DMA!G202)","v":""},null,{"$f":"IF(DMA!J202=\"\",\"\",DMA!J202)","v":""}]
[null,null,null,null,null,null,null,null,null,null,null,null,null,null,null,null,null,null,null,null,null,null,null,null,null,null,1,{"$f":"IF(DMA!A203=\"\",\"\",DMA!A203)","v":""},{"$f":"IF(DMA!$B203=\"\",\"\",DMA!$B203/5*100)","v":""},{"$f":"IF(DMA!G203=\"\",\"\",DMA!G203)","v":""},null,{"$f":"IF(DMA!J203=\"\",\"\",DMA!J203)","v":""}]
[null,null,null,null,null,null,null,null,null,null,null,null,null,null,null,null,null,null,null,null,null,null,null,null,null,null,1,{"$f":"IF(DMA!A204=\"\",\"\",DMA!A204)","v":""},{"$f":"IF(DMA!$B204=\"\",\"\",DMA!$B204/5*100)","v":""},{"$f":"IF(DMA!G204=\"\",\"\",DMA!G204)","v":""},null,{"$f":"IF(DMA!J204=\"\",\"\",DMA!J204)","v":""}]
[null,null,null,null,null,null,null,null,null,null,null,null,null,null,null,null,null,null,null,null,null,null,null,null,null,null,1,{"$f":"IF(DMA!A205=\"\",\"\",DMA!A205)","v":""},{"$f":"IF(DMA!$B205=\"\",\"\",DMA!$B205/5*100)","v":""},{"$f":"IF(DMA!G205=\"\",\"\",DMA!G205)","v":""},null,{"$f":"IF(DMA!J205=\"\",\"\",DMA!J205)","v":""}]
[null,null,null,null,null,null,null,null,null,null,null,null,null,null,null,null,null,null,null,null,null,null,null,null,null,null,1,{"$f":"IF(DMA!A206=\"\",\"\",DMA!A206)","v":""},{"$f":"IF(DMA!$B206=\"\",\"\",DMA!$B206/5*100)","v":""},{"$f":"IF(DMA!G206=\"\",\"\",DMA!G206)","v":""},null,{"$f":"IF(DMA!J206=\"\",\"\",DMA!J206)","v":""}]
[null,null,null,null,null,null,null,null,null,null,null,null,null,null,null,null,null,null,null,null,null,null,null,null,null,null,1,{"$f":"IF(DMA!A207=\"\",\"\",DMA!A207)","v":""},{"$f":"IF(DMA!$B207=\"\",\"\",DMA!$B207/5*100)","v":""},{"$f":"IF(DMA!G207=\"\",\"\",DMA!G207)","v":""},null,{"$f":"IF(DMA!J207=\"\",\"\",DMA!J207)","v":""}]
[null,null,null,null,null,null,null,null,null,null,null,null,null,null,null,null,null,null,null,null,null,null,null,null,null,null,1,{"$f":"IF(DMA!A208=\"\",\"\",DMA!A208)","v":""},{"$f":"IF(DMA!$B208=\"\",\"\",DMA!$B208/5*100)","v":""},{"$f":"IF(DMA!G208=\"\",\"\",DMA!G208)","v":""},null,{"$f":"IF(DMA!J208=\"\",\"\",DMA!J208)","v":""}]
[null,null,null,null,null,null,null,null,null,null,null,null,null,null,null,null,null,null,null,null,null,null,null,null,null,null,1,{"$f":"IF(DMA!A209=\"\",\"\",DMA!A209)","v":""},{"$f":"IF(DMA!$B209=\"\",\"\",DMA!$B209/5*100)","v":""},{"$f":"IF(DMA!G209=\"\",\"\",DMA!G209)","v":""},null,{"$f":"IF(DMA!J209=\"\",\"\",DMA!J209)","v":""}]
[null,null,null,null,null,null,null,null,null,null,null,null,null,null,null,null,null,null,null,null,null,null,null,null,null,null,1,{"$f":"IF(DMA!A210=\"\",\"\",DMA!A210)","v":""},{"$f":"IF(DMA!$B210=\"\",\"\",DMA!$B210/5*100)","v":""},{"$f":"IF(DMA!G210=\"\",\"\",DMA!G210)","v":""},null,{"$f":"IF(DMA!J210=\"\",\"\",DMA!J210)","v":""}]
[null,null,null,null,null,null,null,null,null,null,null,null,null,null,null,null,null,null,null,null,null,null,null,null,null,null,1,{"$f":"IF(DMA!A211=\"\",\"\",DMA!A211)","v":""},{"$f":"IF(DMA!$B211=\"\",\"\",DMA!$B211/5*100)","v":""},{"$f":"IF(DMA!G211=\"\",\"\",DMA!G211)","v":""},null,{"$f":"IF(DMA!J211=\"\",\"\",DMA!J211)","v":""}]
[null,null,null,null,null,null,null,null,null,null,null,null,null,null,null,null,null,null,null,null,null,null,null,null,null,null,1,{"$f":"IF(DMA!A212=\"\",\"\",DMA!A212)","v":""},{"$f":"IF(DMA!$B212=\"\",\"\",DMA!$B212/5*100)","v":""},{"$f":"IF(DMA!G212=\"\",\"\",DMA!G212)","v":""},null,{"$f":"IF(DMA!J212=\"\",\"\",DMA!J212)","v":""}]
[null,null,null,null,null,null,null,null,null,null,null,null,null,null,null,null,null,null,null,null,null,null,null,null,null,null,1,{"$f":"IF(DMA!A213=\"\",\"\",DMA!A213)","v":""},{"$f":"IF(DMA!$B213=\"\",\"\",DMA!$B213/5*100)","v":""},{"$f":"IF(DMA!G213=\"\",\"\",DMA!G213)","v":""},null,{"$f":"IF(DMA!J213=\"\",\"\",DMA!J213)","v":""}]
[null,null,null,null,null,null,null,null,null,null,null,null,null,null,null,null,null,null,null,null,null,null,null,null,null,null,1,{"$f":"IF(DMA!A214=\"\",\"\",DMA!A214)","v":""},{"$f":"IF(DMA!$B214=\"\",\"\",DMA!$B214/5*100)","v":""},{"$f":"IF(DMA!G214=\"\",\"\",DMA!G214)","v":""},null,{"$f":"IF(DMA!J214=\"\",\"\",DMA!J214)","v":""}]
[null,null,null,null,null,null,null,null,null,null,null,null,null,null,null,null,null,null,null,null,null,null,null,null,null,null,1,{"$f":"IF(DMA!A215=\"\",\"\",DMA!A215)","v":""},{"$f":"IF(DMA!$B215=\"\",\"\",DMA!$B215/5*100)","v":""},{"$f":"IF(DMA!G215=\"\",\"\",DMA!G215)","v":""},null,{"$f":"IF(DMA!J215=\"\",\"\",DMA!J215)","v":""}]
[null,null,null,null,null,null,null,null,null,null,null,null,null,null,null,null,null,null,null,null,null,null,null,null,null,null,1,{"$f":"IF(DMA!A216=\"\",\"\",DMA!A216)","v":""},{"$f":"IF(DMA!$B216=\"\",\"\",DMA!$B216/5*100)","v":""},{"$f":"IF(DMA!G216=\"\",\"\",DMA!G216)","v":""},null,{"$f":"IF(DMA!J216=\"\",\"\",DMA!J216)","v":""}]
[null,null,null,null,null,null,null,null,null,null,null,null,null,null,null,null,null,null,null,null,null,null,null,null,null,null,1,{"$f":"IF(DMA!A217=\"\",\"\",DMA!A217)","v":""},{"$f":"IF(DMA!$B217=\"\",\"\",DMA!$B217/5*100)","v":""},{"$f":"IF(DMA!G217=\"\",\"\",DMA!G217)","v":""},null,{"$f":"IF(DMA!J217=\"\",\"\",DMA!J217)","v":""}]
[null,null,null,null,null,null,null,null,null,null,null,null,null,null,null,null,null,null,null,null,null,null,null,null,null,null,1,{"$f":"IF(DMA!A218=\"\",\"\",DMA!A218)","v":""},{"$f":"IF(DMA!$B218=\"\",\"\",DMA!$B218/5*100)","v":""},{"$f":"IF(DMA!G218=\"\",\"\",DMA!G218)","v":""},null,{"$f":"IF(DMA!J218=\"\",\"\",DMA!J218)","v":""}]
[null,null,null,null,null,null,null,null,null,null,null,null,null,null,null,null,null,null,null,null,null,null,null,null,null,null,1,{"$f":"IF(DMA!A219=\"\",\"\",DMA!A219)","v":""},{"$f":"IF(DMA!$B219=\"\",\"\",DMA!$B219/5*100)","v":""},{"$f":"IF(DMA!G219=\"\",\"\",DMA!G219)","v":""},null,{"$f":"IF(DMA!J219=\"\",\"\",DMA!J219)","v":""}]
[null,null,null,null,null,null,null,null,null,null,null,null,null,null,null,null,null,null,null,null,null,null,null,null,null,null,1,{"$f":"IF(DMA!A220=\"\",\"\",DMA!A220)","v":""},{"$f":"IF(DMA!$B220=\"\",\"\",DMA!$B220/5*100)","v":""},{"$f":"IF(DMA!G220=\"\",\"\",DMA!G220)","v":""},null,{"$f":"IF(DMA!J220=\"\",\"\",DMA!J220)","v":""}]
[null,null,null,null,null,null,null,null,null,null,null,null,null,null,null,null,null,null,null,null,null,null,null,null,null,null,1,{"$f":"IF(DMA!A221=\"\",\"\",DMA!A221)","v":""},{"$f":"IF(DMA!$B221=\"\",\"\",DMA!$B221/5*100)","v":""},{"$f":"IF(DMA!G221=\"\",\"\",DMA!G221)","v":""},null,{"$f":"IF(DMA!J221=\"\",\"\",DMA!J221)","v":""}]
[null,null,null,null,null,null,null,null,null,null,null,null,null,null,null,null,null,null,null,null,null,null,null,null,null,null,1,{"$f":"IF(DMA!A222=\"\",\"\",DMA!A222)","v":""},{"$f":"IF(DMA!$B222=\"\",\"\",DMA!$B222/5*100)","v":""},{"$f":"IF(DMA!G222=\"\",\"\",DMA!G222)","v":""},null,{"$f":"IF(DMA!J222=\"\",\"\",DMA!J222)","v":""}]
[null,null,null,null,null,null,null,null,null,null,null,null,null,null,null,null,null,null,null,null,null,null,null,null,null,null,1,{"$f":"IF(DMA!A223=\"\",\"\",DMA!A223)","v":""},{"$f":"IF(DMA!$B223=\"\",\"\",DMA!$B223/5*100)","v":""},{"$f":"IF(DMA!G223=\"\",\"\",DMA!G223)","v":""},null,{"$f":"IF(DMA!J223=\"\",\"\",DMA!J223)","v":""}]
[null,null,null,null,null,null,null,null,null,null,null,null,null,null,null,null,null,null,null,null,null,null,null,null,null,null,1,{"$f":"IF(DMA!A224=\"\",\"\",DMA!A224)","v":""},{"$f":"IF(DMA!$B224=\"\",\"\",DMA!$B224/5*100)","v":""},{"$f":"IF(DMA!G224=\"\",\"\",DMA!G224)","v":""},null,{"$f":"IF(DMA!J224=\"\",\"\",DMA!J224)","v":""}]
[null,null,null,null,null,null,null,null,null,null,null,null,null,null,null,null,null,null,null,null,null,null,null,null,null,null,1,{"$f":"IF(DMA!A225=\"\",\"\",DMA!A225)","v":""},{"$f":"IF(DMA!$B225=\"\",\"\",DMA!$B225/5*100)","v":""},{"$f":"IF(DMA!G225=\"\",\"\",DMA!G225)","v":""},null,{"$f":"IF(DMA!J225=\"\",\"\",DMA!J225)","v":""}]
[null,null,null,null,null,null,null,null,null,null,null,null,null,null,null,null,null,null,null,null,null,null,null,null,null,null,1,{"$f":"IF(DMA!A226=\"\",\"\",DMA!A226)","v":""},{"$f":"IF(DMA!$B226=\"\",\"\",DMA!$B226/5*100)","v":""},{"$f":"IF(DMA!G226=\"\",\"\",DMA!G226)","v":""},null,{"$f":"IF(DMA!J226=\"\",\"\",DMA!J226)","v":""}]
[null,null,null,null,null,null,null,null,null,null,null,null,null,null,null,null,null,null,null,null,null,null,null,null,null,null,1,{"$f":"IF(DMA!A227=\"\",\"\",DMA!A227)","v":""},{"$f":"IF(DMA!$B227=\"\",\"\",DMA!$B227/5*100)","v":""},{"$f":"IF(DMA!G227=\"\",\"\",DMA!G227)","v":""},null,{"$f":"IF(DMA!J227=\"\",\"\",DMA!J227)","v":""}]
[null,null,null,null,null,null,null,null,null,null,null,null,null,null,null,null,null,null,null,null,null,null,null,null,null,null,1,{"$f":"IF(DMA!A228=\"\",\"\",DMA!A228)","v":""},{"$f":"IF(DMA!$B228=\"\",\"\",DMA!$B228/5*100)","v":""},{"$f":"IF(DMA!G228=\"\",\"\",DMA!G228)","v":""},null,{"$f":"IF(DMA!J228=\"\",\"\",DMA!J228)","v":""}]
[null,null,null,null,null,null,null,null,null,null,null,null,null,null,null,null,null,null,null,null,null,null,null,null,null,null,1,{"$f":"IF(DMA!A229=\"\",\"\",DMA!A229)","v":""},{"$f":"IF(DMA!$B229=\"\",\"\",DMA!$B229/5*100)","v":""},{"$f":"IF(DMA!G229=\"\",\"\",DMA!G229)","v":""},null,{"$f":"IF(DMA!J229=\"\",\"\",DMA!J229)","v":""}]
[null,null,null,null,null,null,null,null,null,null,null,null,null,null,null,null,null,null,null,null,null,null,null,null,null,null,1,{"$f":"IF(DMA!A230=\"\",\"\",DMA!A230)","v":""},{"$f":"IF(DMA!$B230=\"\",\"\",DMA!$B230/5*100)","v":""},{"$f":"IF(DMA!G230=\"\",\"\",DMA!G230)","v":""},null,{"$f":"IF(DMA!J230=\"\",\"\",DMA!J230)","v":""}]
[null,null,null,null,null,null,null,null,null,null,null,null,null,null,null,null,null,null,null,null,null,null,null,null,null,null,1,{"$f":"IF(DMA!A231=\"\",\"\",DMA!A231)","v":""},{"$f":"IF(DMA!$B231=\"\",\"\",DMA!$B231/5*100)","v":""},{"$f":"IF(DMA!G231=\"\",\"\",DMA!G231)","v":""},null,{"$f":"IF(DMA!J231=\"\",\"\",DMA!J231)","v":""}]
[null,null,null,null,null,null,null,null,null,null,null,null,null,null,null,null,null,null,null,null,null,null,null,null,null,null,1,{"$f":"IF(DMA!A232=\"\",\"\",DMA!A232)","v":""},{"$f":"IF(DMA!$B232=\"\",\"\",DMA!$B232/5*100)","v":""},{"$f":"IF(DMA!G232=\"\",\"\",DMA!G232)","v":""},null,{"$f":"IF(DMA!J232=\"\",\"\",DMA!J232)","v":""}]
[null,null,null,null,null,null,null,null,null,null,null,null,null,null,null,null,null,null,null,null,null,null,null,null,null,null,1,{"$f":"IF(DMA!A233=\"\",\"\",DMA!A233)","v":""},{"$f":"IF(DMA!$B233=\"\",\"\",DMA!$B233/5*100)","v":""},{"$f":"IF(DMA!G233=\"\",\"\",DMA!G233)","v":""},null,{"$f":"IF(DMA!J233=\"\",\"\",DMA!J233)","v":""}]
[null,null,null,null,null,null,null,null,null,null,null,null,null,null,null,null,null,null,null,null,null,null,null,null,null,null,1,{"$f":"IF(DMA!A234=\"\",\"\",DMA!A234)","v":""},{"$f":"IF(DMA!$B234=\"\",\"\",DMA!$B234/5*100)","v":""},{"$f":"IF(DMA!G234=\"\",\"\",DMA!G234)","v":""},null,{"$f":"IF(DMA!J234=\"\",\"\",DMA!J234)","v":""}]
[null,null,null,null,null,null,null,null,null,null,null,null,null,null,null,null,null,null,null,null,null,null,null,null,null,null,1,{"$f":"IF(DMA!A235=\"\",\"\",DMA!A235)","v":""},{"$f":"IF(DMA!$B235=\"\",\"\",DMA!$B235/5*100)","v":""},{"$f":"IF(DMA!G235=\"\",\"\",DMA!G235)","v":""},null,{"$f":"IF(DMA!J235=\"\",\"\",DMA!J235)","v":""}]
[null,null,null,null,null,null,null,null,null,null,null,null,null,null,null,null,null,null,null,null,null,null,null,null,null,null,1,{"$f":"IF(DMA!A236=\"\",\"\",DMA!A236)","v":""},{"$f":"IF(DMA!$B236=\"\",\"\",DMA!$B236/5*100)","v":""},{"$f":"IF(DMA!G236=\"\",\"\",DMA!G236)","v":""},null,{"$f":"IF(DMA!J236=\"\",\"\",DMA!J236)","v":""}]
[null,null,null,null,null,null,null,null,null,null,null,null,null,null,null,null,null,null,null,null,null,null,null,null,null,null,1,{"$f":"IF(DMA!A237=\"\",\"\",DMA!A237)","v":""},{"$f":"IF(DMA!$B237=\"\",\"\",DMA!$B237/5*100)","v":""},{"$f":"IF(DMA!G237=\"\",\"\",DMA!G237)","v":""},null,{"$f":"IF(DMA!J237=\"\",\"\",DMA!J237)","v":""}]
[null,null,null,null,null,null,null,null,null,null,null,null,null,null,null,null,null,null,null,null,null,null,null,null,null,null,1,{"$f":"IF(DMA!A238=\"\",\"\",DMA!A238)","v":""},{"$f":"IF(DMA!$B238=\"\",\"\",DMA!$B238/5*100)","v":""},{"$f":"IF(DMA!G238=\"\",\"\",DMA!G238)","v":""},null,{"$f":"IF(DMA!J238=\"\",\"\",DMA!J238)","v":""}]
[null,null,null,null,null,null,null,null,null,null,null,null,null,null,null,null,null,null,null,null,null,null,null,null,null,null,1,{"$f":"IF(DMA!A239=\"\",\"\",DMA!A239)","v":""},{"$f":"IF(DMA!$B239=\"\",\"\",DMA!$B239/5*100)","v":""},{"$f":"IF(DMA!G239=\"\",\"\",DMA!G239)","v":""},null,{"$f":"IF(DMA!J239=\"\",\"\",DMA!J239)","v":""}]
[null,null,null,null,null,null,null,null,null,null,null,null,null,null,null,null,null,null,null,null,null,null,null,null,null,null,1,{"$f":"IF(DMA!A240=\"\",\"\",DMA!A240)","v":""},{"$f":"IF(DMA!$B240=\"\",\"\",DMA!$B240/5*100)","v":""},{"$f":"IF(DMA!G240=\"\",\"\",DMA!G240)","v":""},null,{"$f":"IF(DMA!J240=\"\",\"\",DMA!J240)","v":""}]
[null,null,null,null,null,null,null,null,null,null,null,null,null,null,null,null,null,null,null,null,null,null,null,null,null,null,1,{"$f":"IF(DMA!A241=\"\",\"\",DMA!A241)","v":""},{"$f":"IF(DMA!$B241=\"\",\"\",DMA!$B241/5*100)","v":""},{"$f":"IF(DMA!G241=\"\",\"\",DMA!G241)","v":""},null,{"$f":"IF(DMA!J241=\"\",\"\",DMA!J241)","v":""}]
[null,null,null,null,null,null,null,null,null,null,null,null,null,null,null,null,null,null,null,null,null,null,null,null,null,null,1,{"$f":"IF(DMA!A242=\"\",\"\",DMA!A242)","v":""},{"$f":"IF(DMA!$B242=\"\",\"\",DMA!$B242/5*100)","v":""},{"$f":"IF(DMA!G242=\"\",\"\",DMA!G242)","v":""},null,{"$f":"IF(DMA!J242=\"\",\"\",DMA!J242)","v":""}]
[null,null,null,null,null,null,null,null,null,null,null,null,null,null,null,null,null,null,null,null,null,null,null,null,null,null,1,{"$f":"IF(DMA!A243=\"\",\"\",DMA!A243)","v":""},{"$f":"IF(DMA!$B243=\"\",\"\",DMA!$B243/5*100)","v":""},{"$f":"IF(DMA!G243=\"\",\"\",DMA!G243)","v":""},null,{"$f":"IF(DMA!J243=\"\",\"\",DMA!J243)","v":""}]
[null,null,null,null,null,null,null,null,null,null,null,null,null,null,null,null,null,null,null,null,null,null,null,null,null,null,1,{"$f":"IF(DMA!A244=\"\",\"\",DMA!A244)","v":""},{"$f":"IF(DMA!$B244=\"\",\"\",DMA!$B244/5*100)","v":""},{"$f":"IF(DMA!G244=\"\",\"\",DMA!G244)","v":""},null,{"$f":"IF(DMA!J244=\"\",\"\",DMA!J244)","v":""}]
[null,null,null,null,null,null,null,null,null,null,null,null,null,null,null,null,null,null,null,null,null,null,null,null,null,null,1,{"$f":"IF(DMA!A245=\"\",\"\",DMA!A245)","v":""},{"$f":"IF(DMA!$B245=\"\",\"\",DMA!$B245/5*100)","v":""},{"$f":"IF(DMA!G245=\"\",\"\",DMA!G245)","v":""},null,{"$f":"IF(DMA!J245=\"\",\"\",DMA!J245)","v":""}]
[null,null,null,null,null,null,null,null,null,null,null,null,null,null,null,null,null,null,null,null,null,null,null,null,null,null,1,{"$f":"IF(DMA!A246=\"\",\"\",DMA!A246)","v":""},{"$f":"IF(DMA!$B246=\"\",\"\",DMA!$B246/5*100)","v":""},{"$f":"IF(DMA!G246=\"\",\"\",DMA!G246)","v":""},null,{"$f":"IF(DMA!J246=\"\",\"\",DMA!J246)","v":""}]
[null,null,null,null,null,null,null,null,null,null,null,null,null,null,null,null,null,null,null,null,null,null,null,null,null,null,1,{"$f":"IF(DMA!A247=\"\",\"\",DMA!A247)","v":""},{"$f":"IF(DMA!$B247=\"\",\"\",DMA!$B247/5*100)","v":""},{"$f":"IF(DMA!G247=\"\",\"\",DMA!G247)","v":""},null,{"$f":"IF(DMA!J247=\"\",\"\",DMA!J247)","v":""}]
[null,null,null,null,null,null,null,null,null,null,null,null,null,null,null,null,null,null,null,null,null,null,null,null,null,null,1,{"$f":"IF(DMA!A248=\"\",\"\",DMA!A248)","v":""},{"$f":"IF(DMA!$B248=\"\",\"\",DMA!$B248/5*100)","v":""},{"$f":"IF(DMA!G248=\"\",\"\",DMA!G248)","v":""},null,{"$f":"IF(DMA!J248=\"\",\"\",DMA!J248)","v":""}]
[null,null,null,null,null,null,null,null,null,null,null,null,null,null,null,null,null,null,null,null,null,null,null,null,null,null,1,{"$f":"IF(DMA!A249=\"\",\"\",DMA!A249)","v":""},{"$f":"IF(DMA!$B249=\"\",\"\",DMA!$B249/5*100)","v":""},{"$f":"IF(DMA!G249=\"\",\"\",DMA!G249)","v":""},null,{"$f":"IF(DMA!J249=\"\",\"\",DMA!J249)","v":""}]
[null,null,null,null,null,null,null,null,null,null,null,null,null,null,null,null,null,null,null,null,null,null,null,null,null,null,1,{"$f":"IF(DMA!A250=\"\",\"\",DMA!A250)","v":""},{"$f":"IF(DMA!$B250=\"\",\"\",DMA!$B250/5*100)","v":""},{"$f":"IF(DMA!G250=\"\",\"\",DMA!G250)","v":""},null,{"$f":"IF(DMA!J250=\"\",\"\",DMA!J250)","v":""}]
[null,null,null,null,null,null,null,null,null,null,null,null,null,null,null,null,null,null,null,null,null,null,null,null,null,null,1,{"$f":"IF(DMA!A251=\"\",\"\",DMA!A251)","v":""},{"$f":"IF(DMA!$B251=\"\",\"\",DMA!$B251/5*100)","v":""},{"$f":"IF(DMA!G251=\"\",\"\",DMA!G251)","v":""},null,{"$f":"IF(DMA!J251=\"\",\"\",DMA!J251)","v":""}]
[null,null,null,null,null,null,null,null,null,null,null,null,null,null,null,null,null,null,null,null,null,null,null,null,null,null,1,{"$f":"IF(DMA!A252=\"\",\"\",DMA!A252)","v":""},{"$f":"IF(DMA!$B252=\"\",\"\",DMA!$B252/5*100)","v":""},{"$f":"IF(DMA!G252=\"\",\"\",DMA!G252)","v":""},null,{"$f":"IF(DMA!J252=\"\",\"\",DMA!J252)","v":""}]
[null,null,null,null,null,null,null,null,null,null,null,null,null,null,null,null,null,null,null,null,null,null,null,null,null,null,1,{"$f":"IF(DMA!A253=\"\",\"\",DMA!A253)","v":""},{"$f":"IF(DMA!$B253=\"\",\"\",DMA!$B253/5*100)","v":""},{"$f":"IF(DMA!G253=\"\",\"\",DMA!G253)","v":""},null,{"$f":"IF(DMA!J253=\"\",\"\",DMA!J253)","v":""}]
[null,null,null,null,null,null,null,null,null,null,null,null,null,null,null,null,null,null,null,null,null,null,null,null,null,null,1,{"$f":"IF(DMA!A254=\"\",\"\",DMA!A254)","v":""},{"$f":"IF(DMA!$B254=\"\",\"\",DMA!$B254/5*100)","v":""},{"$f":"IF(DMA!G254=\"\",\"\",DMA!G254)","v":""},null,{"$f":"IF(DMA!J254=\"\",\"\",DMA!J254)","v":""}]
[null,null,null,null,null,null,null,null,null,null,null,null,null,null,null,null,null,null,null,null,null,null,null,null,null,null,1,{"$f":"IF(DMA!A255=\"\",\"\",DMA!A255)","v":""},{"$f":"IF(DMA!$B255=\"\",\"\",DMA!$B255/5*100)","v":""},{"$f":"IF(DMA!G255=\"\",\"\",DMA!G255)","v":""},null,{"$f":"IF(DMA!J255=\"\",\"\",DMA!J255)","v":""}]
[null,null,null,null,null,null,null,null,null,null,null,null,null,null,null,null,null,null,null,null,null,null,null,null,null,null,1,{"$f":"IF(DMA!A256=\"\",\"\",DMA!A256)","v":""},{"$f":"IF(DMA!$B256=\"\",\"\",DMA!$B256/5*100)","v":""},{"$f":"IF(DMA!G256=\"\",\"\",DMA!G256)","v":""},null,{"$f":"IF(DMA!J256=\"\",\"\",DMA!J256)","v":""}]
[null,null,null,null,null,null,null,null,null,null,null,null,null,null,null,null,null,null,null,null,null,null,null,null,null,null,1,{"$f":"IF(DMA!A257=\"\",\"\",DMA!A257)","v":""},{"$f":"IF(DMA!$B257=\"\",\"\",DMA!$B257/5*100)","v":""},{"$f":"IF(DMA!G257=\"\",\"\",DMA!G257)","v":""},null,{"$f":"IF(DMA!J257=\"\",\"\",DMA!J257)","v":""}]
[null,null,null,null,null,null,null,null,null,null,null,null,null,null,null,null,null,null,null,null,null,null,null,null,null,null,1,{"$f":"IF(DMA!A258=\"\",\"\",DMA!A258)","v":""},{"$f":"IF(DMA!$B258=\"\",\"\",DMA!$B258/5*100)","v":""},{"$f":"IF(DMA!G258=\"\",\"\",DMA!G258)","v":""},null,{"$f":"IF(DMA!J258=\"\",\"\",DMA!J258)","v":""}]
[null,null,null,null,null,null,null,null,null,null,null,null,null,null,null,null,null,null,null,null,null,null,null,null,null,null,1,{"$f":"IF(DMA!A259=\"\",\"\",DMA!A259)","v":""},{"$f":"IF(DMA!$B259=\"\",\"\",DMA!$B259/5*100)","v":""},{"$f":"IF(DMA!G259=\"\",\"\",DMA!G259)","v":""},null,{"$f":"IF(DMA!J259=\"\",\"\",DMA!J259)","v":""}]
[null,null,null,null,null,null,null,null,null,null,null,null,null,null,null,null,null,null,null,null,null,null,null,null,null,null,1,{"$f":"IF(DMA!A260=\"\",\"\",DMA!A260)","v":""},{"$f":"IF(DMA!$B260=\"\",\"\",DMA!$B260/5*100)","v":""},{"$f":"IF(DMA!G260=\"\",\"\",DMA!G260)","v":""},null,{"$f":"IF(DMA!J260=\"\",\"\",DMA!J260)","v":""}]
[null,null,null,null,null,null,null,null,null,null,null,null,null,null,null,null,null,null,null,null,null,null,null,null,null,null,1,{"$f":"IF(DMA!A261=\"\",\"\",DMA!A261)","v":""},{"$f":"IF(DMA!$B261=\"\",\"\",DMA!$B261/5*100)","v":""},{"$f":"IF(DMA!G261=\"\",\"\",DMA!G261)","v":""},null,{"$f":"IF(DMA!J261=\"\",\"\",DMA!J261)","v":""}]
[null,null,null,null,null,null,null,null,null,null,null,null,null,null,null,null,null,null,null,null,null,null,null,null,null,null,1,{"$f":"IF(DMA!A262=\"\",\"\",DMA!A262)","v":""},{"$f":"IF(DMA!$B262=\"\",\"\",DMA!$B262/5*100)","v":""},{"$f":"IF(DMA!G262=\"\",\"\",DMA!G262)","v":""},null,{"$f":"IF(DMA!J262=\"\",\"\",DMA!J262)","v":""}]
[null,null,null,null,null,null,null,null,null,null,null,null,null,null,null,null,null,null,null,null,null,null,null,null,null,null,{"$f":"IF(AB260=AA259+1,AB260,AA259)","v":1},{"$f":"IF(DMA!A263=\"\",\"\",DMA!A263)","v":""},{"$f":"IF(DMA!$B263=\"\",\"\",DMA!$B263/5*100)","v":""},{"$f":"IF(DMA!G263=\"\",\"\",DMA!G263)","v":""},null,{"$f":"IF(DMA!J263=\"\",\"\",DMA!J263)","v":""}]
[null,null,null,null,null,null,null,null,null,null,null,null,null,null,null,null,null,null,null,null,null,null,null,null,null,null,1,{"$f":"IF(DMA!A264=\"\",\"\",DMA!A264)","v":""},{"$f":"IF(DMA!$B264=\"\",\"\",DMA!$B264/5*100)","v":""},{"$f":"IF(DMA!G264=\"\",\"\",DMA!G264)","v":""},null,{"$f":"IF(DMA!J264=\"\",\"\",DMA!J264)","v":""}]
[null,null,null,null,null,null,null,null,null,null,null,null,null,null,null,null,null,null,null,null,null,null,null,null,null,null,1,{"$f":"IF(DMA!A265=\"\",\"\",DMA!A265)","v":""},{"$f":"IF(DMA!$B265=\"\",\"\",DMA!$B265/5*100)","v":""},{"$f":"IF(DMA!G265=\"\",\"\",DMA!G265)","v":""},null,{"$f":"IF(DMA!J265=\"\",\"\",DMA!J265)","v":""}]
[null,null,null,null,null,null,null,null,null,null,null,null,null,null,null,null,null,null,null,null,null,null,null,null,null,null,1,{"$f":"IF(DMA!A266=\"\",\"\",DMA!A266)","v":""},{"$f":"IF(DMA!$B266=\"\",\"\",DMA!$B266/5*100)","v":""},{"$f":"IF(DMA!G266=\"\",\"\",DMA!G266)","v":""},null,{"$f":"IF(DMA!J266=\"\",\"\",DMA!J266)","v":""}]
[null,null,null,null,null,null,null,null,null,null,null,null,null,null,null,null,null,null,null,null,null,null,null,null,null,null,1,{"$f":"IF(DMA!A267=\"\",\"\",DMA!A267)","v":""},{"$f":"IF(DMA!$B267=\"\",\"\",DMA!$B267/5*100)","v":""},{"$f":"IF(DMA!G267=\"\",\"\",DMA!G267)","v":""},null,{"$f":"IF(DMA!J267=\"\",\"\",DMA!J267)","v":""}]
[null,null,null,null,null,null,null,null,null,null,null,null,null,null,null,null,null,null,null,null,null,null,null,null,null,null,1,{"$f":"IF(DMA!A268=\"\",\"\",DMA!A268)","v":""},{"$f":"IF(DMA!$B268=\"\",\"\",DMA!$B268/5*100)","v":""},{"$f":"IF(DMA!G268=\"\",\"\",DMA!G268)","v":""},null,{"$f":"IF(DMA!J268=\"\",\"\",DMA!J268)","v":""}]
[null,null,null,null,null,null,null,null,null,null,null,null,null,null,null,null,null,null,null,null,null,null,null,null,null,null,1,{"$f":"IF(DMA!A269=\"\",\"\",DMA!A269)","v":""},{"$f":"IF(DMA!$B269=\"\",\"\",DMA!$B269/5*100)","v":""},{"$f":"IF(DMA!G269=\"\",\"\",DMA!G269)","v":""},null,{"$f":"IF(DMA!J269=\"\",\"\",DMA!J269)","v":""}]
[null,null,null,null,null,null,null,null,null,null,null,null,null,null,null,null,null,null,null,null,null,null,null,null,null,null,1,{"$f":"IF(DMA!A270=\"\",\"\",DMA!A270)","v":""},{"$f":"IF(DMA!$B270=\"\",\"\",DMA!$B270/5*100)","v":""},{"$f":"IF(DMA!G270=\"\",\"\",DMA!G270)","v":""},null,{"$f":"IF(DMA!J270=\"\",\"\",DMA!J270)","v":""}]
[null,null,null,null,null,null,null,null,null,null,null,null,null,null,null,null,null,null,null,null,null,null,null,null,null,null,1,{"$f":"IF(DMA!A271=\"\",\"\",DMA!A271)","v":""},{"$f":"IF(DMA!$B271=\"\",\"\",DMA!$B271/5*100)","v":""},{"$f":"IF(DMA!G271=\"\",\"\",DMA!G271)","v":""},null,{"$f":"IF(DMA!J271=\"\",\"\",DMA!J271)","v":""}]
[null,null,null,null,null,null,null,null,null,null,null,null,null,null,null,null,null,null,null,null,null,null,null,null,null,null,1,{"$f":"IF(DMA!A272=\"\",\"\",DMA!A272)","v":""},{"$f":"IF(DMA!$B272=\"\",\"\",DMA!$B272/5*100)","v":""},{"$f":"IF(DMA!G272=\"\",\"\",DMA!G272)","v":""},null,{"$f":"IF(DMA!J272=\"\",\"\",DMA!J272)","v":""}]
[null,null,null,null,null,null,null,null,null,null,null,null,null,null,null,null,null,null,null,null,null,null,null,null,null,null,1,{"$f":"IF(DMA!A273=\"\",\"\",DMA!A273)","v":""},{"$f":"IF(DMA!$B273=\"\",\"\",DMA!$B273/5*100)","v":""},{"$f":"IF(DMA!G273=\"\",\"\",DMA!G273)","v":""},null,{"$f":"IF(DMA!J273=\"\",\"\",DMA!J273)","v":""}]
[null,null,null,null,null,null,null,null,null,null,null,null,null,null,null,null,null,null,null,null,null,null,null,null,null,null,1,{"$f":"IF(DMA!A274=\"\",\"\",DMA!A274)","v":""},{"$f":"IF(DMA!$B274=\"\",\"\",DMA!$B274/5*100)","v":""},{"$f":"IF(DMA!G274=\"\",\"\",DMA!G274)","v":""},null,{"$f":"IF(DMA!J274=\"\",\"\",DMA!J274)","v":""}]
[null,null,null,null,null,null,null,null,null,null,null,null,null,null,null,null,null,null,null,null,null,null,null,null,null,null,1,{"$f":"IF(DMA!A275=\"\",\"\",DMA!A275)","v":""},{"$f":"IF(DMA!$B275=\"\",\"\",DMA!$B275/5*100)","v":""},{"$f":"IF(DMA!G275=\"\",\"\",DMA!G275)","v":""},null,{"$f":"IF(DMA!J275=\"\",\"\",DMA!J275)","v":""}]
[null,null,null,null,null,null,null,null,null,null,null,null,null,null,null,null,null,null,null,null,null,null,null,null,null,null,1,{"$f":"IF(DMA!A276=\"\",\"\",DMA!A276)","v":""},{"$f":"IF(DMA!$B276=\"\",\"\",DMA!$B276/5*100)","v":""},{"$f":"IF(DMA!G276=\"\",\"\",DMA!G276)","v":""},null,{"$f":"IF(DMA!J276=\"\",\"\",DMA!J276)","v":""}]
[null,null,null,null,null,null,null,null,null,null,null,null,null,null,null,null,null,null,null,null,null,null,null,null,null,null,1,{"$f":"IF(DMA!A277=\"\",\"\",DMA!A277)","v":""},{"$f":"IF(DMA!$B277=\"\",\"\",DMA!$B277/5*100)","v":""},{"$f":"IF(DMA!G277=\"\",\"\",DMA!G277)","v":""},null,{"$f":"IF(DMA!J277=\"\",\"\",DMA!J277)","v":""}]
[null,null,null,null,null,null,null,null,null,null,null,null,null,null,null,null,null,null,null,null,null,null,null,null,null,null,1,{"$f":"IF(DMA!A278=\"\",\"\",DMA!A278)","v":""},{"$f":"IF(DMA!$B278=\"\",\"\",DMA!$B278/5*100)","v":""},{"$f":"IF(DMA!G278=\"\",\"\",DMA!G278)","v":""},null,{"$f":"IF(DMA!J278=\"\",\"\",DMA!J278)","v":""}]
[null,null,null,null,null,null,null,null,null,null,null,null,null,null,null,null,null,null,null,null,null,null,null,null,null,null,1,{"$f":"IF(DMA!A279=\"\",\"\",DMA!A279)","v":""},{"$f":"IF(DMA!$B279=\"\",\"\",DMA!$B279/5*100)","v":""},{"$f":"IF(DMA!G279=\"\",\"\",DMA!G279)","v":""},null,{"$f":"IF(DMA!J279=\"\",\"\",DMA!J279)","v":""}]
[null,null,null,null,null,null,null,null,null,null,null,null,null,null,null,null,null,null,null,null,null,null,null,null,null,null,1,{"$f":"IF(DMA!A280=\"\",\"\",DMA!A280)","v":""},{"$f":"IF(DMA!$B280=\"\",\"\",DMA!$B280/5*100)","v":""},{"$f":"IF(DMA!G280=\"\",\"\",DMA!G280)","v":""},null,{"$f":"IF(DMA!J280=\"\",\"\",DMA!J280)","v":""}]
[null,null,null,null,null,null,null,null,null,null,null,null,null,null,null,null,null,null,null,null,null,null,null,null,null,null,1,{"$f":"IF(DMA!A281=\"\",\"\",DMA!A281)","v":""},{"$f":"IF(DMA!$B281=\"\",\"\",DMA!$B281/5*100)","v":""},{"$f":"IF(DMA!G281=\"\",\"\",DMA!G281)","v":""},null,{"$f":"IF(DMA!J281=\"\",\"\",DMA!J281)","v":""}]
[null,null,null,null,null,null,null,null,null,null,null,null,null,null,null,null,null,null,null,null,null,null,null,null,null,null,1,{"$f":"IF(DMA!A282=\"\",\"\",DMA!A282)","v":""},{"$f":"IF(DMA!$B282=\"\",\"\",DMA!$B282/5*100)","v":""},{"$f":"IF(DMA!G282=\"\",\"\",DMA!G282)","v":""},null,{"$f":"IF(DMA!J282=\"\",\"\",DMA!J282)","v":""}]
[null,null,null,null,null,null,null,null,null,null,null,null,null,null,null,null,null,null,null,null,null,null,null,null,null,null,1,{"$f":"IF(DMA!A283=\"\",\"\",DMA!A283)","v":""},{"$f":"IF(DMA!$B283=\"\",\"\",DMA!$B283/5*100)","v":""},{"$f":"IF(DMA!G283=\"\",\"\",DMA!G283)","v":""},null,{"$f":"IF(DMA!J283=\"\",\"\",DMA!J283)","v":""}]
[null,null,null,null,null,null,null,null,null,null,null,null,null,null,null,null,null,null,null,null,null,null,null,null,null,null,1,{"$f":"IF(DMA!A284=\"\",\"\",DMA!A284)","v":""},{"$f":"IF(DMA!$B284=\"\",\"\",DMA!$B284/5*100)","v":""},{"$f":"IF(DMA!G284=\"\",\"\",DMA!G284)","v":""},null,{"$f":"IF(DMA!J284=\"\",\"\",DMA!J284)","v":""}]
[null,null,null,null,null,null,null,null,null,null,null,null,null,null,null,null,null,null,null,null,null,null,null,null,null,null,1,{"$f":"IF(DMA!A285=\"\",\"\",DMA!A285)","v":""},{"$f":"IF(DMA!$B285=\"\",\"\",DMA!$B285/5*100)","v":""},{"$f":"IF(DMA!G285=\"\",\"\",DMA!G285)","v":""},null,{"$f":"IF(DMA!J285=\"\",\"\",DMA!J285)","v":""}]
[null,null,null,null,null,null,null,null,null,null,null,null,null,null,null,null,null,null,null,null,null,null,null,null,null,null,1,{"$f":"IF(DMA!A286=\"\",\"\",DMA!A286)","v":""},{"$f":"IF(DMA!$B286=\"\",\"\",DMA!$B286/5*100)","v":""},{"$f":"IF(DMA!G286=\"\",\"\",DMA!G286)","v":""},null,{"$f":"IF(DMA!J286=\"\",\"\",DMA!J286)","v":""}]
[null,null,null,null,null,null,null,null,null,null,null,null,null,null,null,null,null,null,null,null,null,null,null,null,null,null,1,{"$f":"IF(DMA!A287=\"\",\"\",DMA!A287)","v":""},{"$f":"IF(DMA!$B287=\"\",\"\",DMA!$B287/5*100)","v":""},{"$f":"IF(DMA!G287=\"\",\"\",DMA!G287)","v":""},null,{"$f":"IF(DMA!J287=\"\",\"\",DMA!J287)","v":""}]
[null,null,null,null,null,null,null,null,null,null,null,null,null,null,null,null,null,null,null,null,null,null,null,null,null,null,1,{"$f":"IF(DMA!A288=\"\",\"\",DMA!A288)","v":""},{"$f":"IF(DMA!$B288=\"\",\"\",DMA!$B288/5*100)","v":""},{"$f":"IF(DMA!G288=\"\",\"\",DMA!G288)","v":""},null,{"$f":"IF(DMA!J288=\"\",\"\",DMA!J288)","v":""}]
[null,null,null,null,null,null,null,null,null,null,null,null,null,null,null,null,null,null,null,null,null,null,null,null,null,null,1,{"$f":"IF(DMA!A289=\"\",\"\",DMA!A289)","v":""},{"$f":"IF(DMA!$B289=\"\",\"\",DMA!$B289/5*100)","v":""},{"$f":"IF(DMA!G289=\"\",\"\",DMA!G289)","v":""},null,{"$f":"IF(DMA!J289=\"\",\"\",DMA!J289)","v":""}]
[null,null,null,null,null,null,null,null,null,null,null,null,null,null,null,null,null,null,null,null,null,null,null,null,null,null,1,{"$f":"IF(DMA!A290=\"\",\"\",DMA!A290)","v":""},{"$f":"IF(DMA!$B290=\"\",\"\",DMA!$B290/5*100)","v":""},{"$f":"IF(DMA!G290=\"\",\"\",DMA!G290)","v":""},null,{"$f":"IF(DMA!J290=\"\",\"\",DMA!J290)","v":""}]
[null,null,null,null,null,null,null,null,null,null,null,null,null,null,null,null,null,null,null,null,null,null,null,null,null,null,1,{"$f":"IF(DMA!A291=\"\",\"\",DMA!A291)","v":""},{"$f":"IF(DMA!$B291=\"\",\"\",DMA!$B291/5*100)","v":""},{"$f":"IF(DMA!G291=\"\",\"\",DMA!G291)","v":""},null,{"$f":"IF(DMA!J291=\"\",\"\",DMA!J291)","v":""}]
[null,null,null,null,null,null,null,null,null,null,null,null,null,null,null,null,null,null,null,null,null,null,null,null,null,null,1,{"$f":"IF(DMA!A292=\"\",\"\",DMA!A292)","v":""},{"$f":"IF(DMA!$B292=\"\",\"\",DMA!$B292/5*100)","v":""},{"$f":"IF(DMA!G292=\"\",\"\",DMA!G292)","v":""},null,{"$f":"IF(DMA!J292=\"\",\"\",DMA!J292)","v":""}]
[null,null,null,null,null,null,null,null,null,null,null,null,null,null,null,null,null,null,null,null,null,null,null,null,null,null,1,{"$f":"IF(DMA!A293=\"\",\"\",DMA!A293)","v":""},{"$f":"IF(DMA!$B293=\"\",\"\",DMA!$B293/5*100)","v":""},{"$f":"IF(DMA!G293=\"\",\"\",DMA!G293)","v":""},null,{"$f":"IF(DMA!J293=\"\",\"\",DMA!J293)","v":""}]
[null,null,null,null,null,null,null,null,null,null,null,null,null,null,null,null,null,null,null,null,null,null,null,null,null,null,1,{"$f":"IF(DMA!A294=\"\",\"\",DMA!A294)","v":""},{"$f":"IF(DMA!$B294=\"\",\"\",DMA!$B294/5*100)","v":""},{"$f":"IF(DMA!G294=\"\",\"\",DMA!G294)","v":""},null,{"$f":"IF(DMA!J294=\"\",\"\",DMA!J294)","v":""}]
[null,null,null,null,null,null,null,null,null,null,null,null,null,null,null,null,null,null,null,null,null,null,null,null,null,null,1,{"$f":"IF(DMA!A295=\"\",\"\",DMA!A295)","v":""},{"$f":"IF(DMA!$B295=\"\",\"\",DMA!$B295/5*100)","v":""},{"$f":"IF(DMA!G295=\"\",\"\",DMA!G295)","v":""},null,{"$f":"IF(DMA!J295=\"\",\"\",DMA!J295)","v":""}]
[null,null,null,null,null,null,null,null,null,null,null,null,null,null,null,null,null,null,null,null,null,null,null,null,null,null,1,{"$f":"IF(DMA!A296=\"\",\"\",DMA!A296)","v":""},{"$f":"IF(DMA!$B296=\"\",\"\",DMA!$B296/5*100)","v":""},{"$f":"IF(DMA!G296=\"\",\"\",DMA!G296)","v":""},null,{"$f":"IF(DMA!J296=\"\",\"\",DMA!J296)","v":""}]
[null,null,null,null,null,null,null,null,null,null,null,null,null,null,null,null,null,null,null,null,null,null,null,null,null,null,1,{"$f":"IF(DMA!A297=\"\",\"\",DMA!A297)","v":""},{"$f":"IF(DMA!$B297=\"\",\"\",DMA!$B297/5*100)","v":""},{"$f":"IF(DMA!G297=\"\",\"\",DMA!G297)","v":""},null,{"$f":"IF(DMA!J297=\"\",\"\",DMA!J297)","v":""}]
[null,null,null,null,null,null,null,null,null,null,null,null,null,null,null,null,null,null,null,null,null,null,null,null,null,null,1,{"$f":"IF(DMA!A298=\"\",\"\",DMA!A298)","v":""},{"$f":"IF(DMA!$B298=\"\",\"\",DMA!$B298/5*100)","v":""},{"$f":"IF(DMA!G298=\"\",\"\",DMA!G298)","v":""},null,{"$f":"IF(DMA!J298=\"\",\"\",DMA!J298)","v":""}]
[null,null,null,null,null,null,null,null,null,null,null,null,null,null,null,null,null,null,null,null,null,null,null,null,null,null,1,{"$f":"IF(DMA!A299=\"\",\"\",DMA!A299)","v":""},{"$f":"IF(DMA!$B299=\"\",\"\",DMA!$B299/5*100)","v":""},{"$f":"IF(DMA!G299=\"\",\"\",DMA!G299)","v":""},null,{"$f":"IF(DMA!J299=\"\",\"\",DMA!J299)","v":""}]
[null,null,null,null,null,null,null,null,null,null,null,null,null,null,null,null,null,null,null,null,null,null,null,null,null,null,1,{"$f":"IF(DMA!A300=\"\",\"\",DMA!A300)","v":""},{"$f":"IF(DMA!$B300=\"\",\"\",DMA!$B300/5*100)","v":""},{"$f":"IF(DMA!G300=\"\",\"\",DMA!G300)","v":""},null,{"$f":"IF(DMA!J300=\"\",\"\",DMA!J300)","v":""}]
[null,null,null,null,null,null,null,null,null,null,null,null,null,null,null,null,null,null,null,null,null,null,null,null,null,null,1,{"$f":"IF(DMA!A301=\"\",\"\",DMA!A301)","v":""},{"$f":"IF(DMA!$B301=\"\",\"\",DMA!$B301/5*100)","v":""},{"$f":"IF(DMA!G301=\"\",\"\",DMA!G301)","v":""},null,{"$f":"IF(DMA!J301=\"\",\"\",DMA!J301)","v":""}]
[null,null,null,null,null,null,null,null,null,null,null,null,null,null,null,null,null,null,null,null,null,null,null,null,null,null,1,{"$f":"IF(DMA!A302=\"\",\"\",DMA!A302)","v":""},{"$f":"IF(DMA!$B302=\"\",\"\",DMA!$B302/5*100)","v":""},{"$f":"IF(DMA!G302=\"\",\"\",DMA!G302)","v":""},null,{"$f":"IF(DMA!J302=\"\",\"\",DMA!J302)","v":""}]
[null,null,null,null,null,null,null,null,null,null,null,null,null,null,null,null,null,null,null,null,null,null,null,null,null,null,1,{"$f":"IF(DMA!A303=\"\",\"\",DMA!A303)","v":""},{"$f":"IF(DMA!$B303=\"\",\"\",DMA!$B303/5*100)","v":""},{"$f":"IF(DMA!G303=\"\",\"\",DMA!G303)","v":""},null,{"$f":"IF(DMA!J303=\"\",\"\",DMA!J303)","v":""}]
[null,null,null,null,null,null,null,null,null,null,null,null,null,null,null,null,null,null,null,null,null,null,null,null,null,null,1,{"$f":"IF(DMA!A304=\"\",\"\",DMA!A304)","v":""},{"$f":"IF(DMA!$B304=\"\",\"\",DMA!$B304/5*100)","v":""},{"$f":"IF(DMA!G304=\"\",\"\",DMA!G304)","v":""},null,{"$f":"IF(DMA!J304=\"\",\"\",DMA!J304)","v":""}]
[null,null,null,null,null,null,null,null,null,null,null,null,null,null,null,null,null,null,null,null,null,null,null,null,null,null,1,{"$f":"IF(DMA!A305=\"\",\"\",DMA!A305)","v":""},{"$f":"IF(DMA!$B305=\"\",\"\",DMA!$B305/5*100)","v":""},{"$f":"IF(DMA!G305=\"\",\"\",DMA!G305)","v":""},null,{"$f":"IF(DMA!J305=\"\",\"\",DMA!J305)","v":""}]
[null,null,null,null,null,null,null,null,null,null,null,null,null,null,null,null,null,null,null,null,null,null,null,null,null,null,1,{"$f":"IF(DMA!A306=\"\",\"\",DMA!A306)","v":""},{"$f":"IF(DMA!$B306=\"\",\"\",DMA!$B306/5*100)","v":""},{"$f":"IF(DMA!G306=\"\",\"\",DMA!G306)","v":""},null,{"$f":"IF(DMA!J306=\"\",\"\",DMA!J306)","v":""}]
[null,null,null,null,null,null,null,null,null,null,null,null,null,null,null,null,null,null,null,null,null,null,null,null,null,null,1,{"$f":"IF(DMA!A307=\"\",\"\",DMA!A307)","v":""},{"$f":"IF(DMA!$B307=\"\",\"\",DMA!$B307/5*100)","v":""},{"$f":"IF(DMA!G307=\"\",\"\",DMA!G307)","v":""},null,{"$f":"IF(DMA!J307=\"\",\"\",DMA!J307)","v":""}]
[null,null,null,null,null,null,null,null,null,null,null,null,null,null,null,null,null,null,null,null,null,null,null,null,null,null,1,{"$f":"IF(DMA!A308=\"\",\"\",DMA!A308)","v":""},{"$f":"IF(DMA!$B308=\"\",\"\",DMA!$B308/5*100)","v":""},{"$f":"IF(DMA!G308=\"\",\"\",DMA!G308)","v":""},null,{"$f":"IF(DMA!J308=\"\",\"\",DMA!J308)","v":""}]
[null,null,null,null,null,null,null,null,null,null,null,null,null,null,null,null,null,null,null,null,null,null,null,null,null,null,1,{"$f":"IF(DMA!A309=\"\",\"\",DMA!A309)","v":""},{"$f":"IF(DMA!$B309=\"\",\"\",DMA!$B309/5*100)","v":""},{"$f":"IF(DMA!G309=\"\",\"\",DMA!G309)","v":""},null,{"$f":"IF(DMA!J309=\"\",\"\",DMA!J309)","v":""}]
[null,null,null,null,null,null,null,null,null,null,null,null,null,null,null,null,null,null,null,null,null,null,null,null,null,null,1,{"$f":"IF(DMA!A310=\"\",\"\",DMA!A310)","v":""},{"$f":"IF(DMA!$B310=\"\",\"\",DMA!$B310/5*100)","v":""},{"$f":"IF(DMA!G310=\"\",\"\",DMA!G310)","v":""},null,{"$f":"IF(DMA!J310=\"\",\"\",DMA!J310)","v":""}]
[null,null,null,null,null,null,null,null,null,null,null,null,null,null,null,null,null,null,null,null,null,null,null,null,null,null,1,{"$f":"IF(DMA!A311=\"\",\"\",DMA!A311)","v":""},{"$f":"IF(DMA!$B311=\"\",\"\",DMA!$B311/5*100)","v":""},{"$f":"IF(DMA!G311=\"\",\"\",DMA!G311)","v":""},null,{"$f":"IF(DMA!J311=\"\",\"\",DMA!J311)","v":""}]
[null,null,null,null,null,null,null,null,null,null,null,null,null,null,null,null,null,null,null,null,null,null,null,null,null,null,1,{"$f":"IF(DMA!A312=\"\",\"\",DMA!A312)","v":""},{"$f":"IF(DMA!$B312=\"\",\"\",DMA!$B312/5*100)","v":""},{"$f":"IF(DMA!G312=\"\",\"\",DMA!G312)","v":""},null,{"$f":"IF(DMA!J312=\"\",\"\",DMA!J312)","v":""}]
[null,null,null,null,null,null,null,null,null,null,null,null,null,null,null,null,null,null,null,null,null,null,null,null,null,null,1,{"$f":"IF(DMA!A313=\"\",\"\",DMA!A313)","v":""},{"$f":"IF(DMA!$B313=\"\",\"\",DMA!$B313/5*100)","v":""},{"$f":"IF(DMA!G313=\"\",\"\",DMA!G313)","v":""},null,{"$f":"IF(DMA!J313=\"\",\"\",DMA!J313)","v":""}]
[null,null,null,null,null,null,null,null,null,null,null,null,null,null,null,null,null,null,null,null,null,null,null,null,null,null,1,{"$f":"IF(DMA!A314=\"\",\"\",DMA!A314)","v":""},{"$f":"IF(DMA!$B314=\"\",\"\",DMA!$B314/5*100)","v":""},{"$f":"IF(DMA!G314=\"\",\"\",DMA!G314)","v":""},null,{"$f":"IF(DMA!J314=\"\",\"\",DMA!J314)","v":""}]
[null,null,null,null,null,null,null,null,null,null,null,null,null,null,null,null,null,null,null,null,null,null,null,null,null,null,1,{"$f":"IF(DMA!A315=\"\",\"\",DMA!A315)","v":""},{"$f":"IF(DMA!$B315=\"\",\"\",DMA!$B315/5*100)","v":""},{"$f":"IF(DMA!G315=\"\",\"\",DMA!G315)","v":""},null,{"$f":"IF(DMA!J315=\"\",\"\",DMA!J315)","v":""}]
[null,null,null,null,null,null,null,null,null,null,null,null,null,null,null,null,null,null,null,null,null,null,null,null,null,null,1,{"$f":"IF(DMA!A316=\"\",\"\",DMA!A316)","v":""},{"$f":"IF(DMA!$B316=\"\",\"\",DMA!$B316/5*100)","v":""},{"$f":"IF(DMA!G316=\"\",\"\",DMA!G316)","v":""},null,{"$f":"IF(DMA!J316=\"\",\"\",DMA!J316)","v":""}]
[null,null,null,null,null,null,null,null,null,null,null,null,null,null,null,null,null,null,null,null,null,null,null,null,null,null,1,{"$f":"IF(DMA!A317=\"\",\"\",DMA!A317)","v":""},{"$f":"IF(DMA!$B317=\"\",\"\",DMA!$B317/5*100)","v":""},{"$f":"IF(DMA!G317=\"\",\"\",DMA!G317)","v":""},null,{"$f":"IF(DMA!J317=\"\",\"\",DMA!J317)","v":""}]
[null,null,null,null,null,null,null,null,null,null,null,null,null,null,null,null,null,null,null,null,null,null,null,null,null,null,1,{"$f":"IF(DMA!A318=\"\",\"\",DMA!A318)","v":""},{"$f":"IF(DMA!$B318=\"\",\"\",DMA!$B318/5*100)","v":""},{"$f":"IF(DMA!G318=\"\",\"\",DMA!G318)","v":""},null,{"$f":"IF(DMA!J318=\"\",\"\",DMA!J318)","v":""}]
[null,null,null,null,null,null,null,null,null,null,null,null,null,null,null,null,null,null,null,null,null,null,null,null,null,null,1,{"$f":"IF(DMA!A319=\"\",\"\",DMA!A319)","v":""},{"$f":"IF(DMA!$B319=\"\",\"\",DMA!$B319/5*100)","v":""},{"$f":"IF(DMA!G319=\"\",\"\",DMA!G319)","v":""},null,{"$f":"IF(DMA!J319=\"\",\"\",DMA!J319)","v":""}]
[null,null,null,null,null,null,null,null,null,null,null,null,null,null,null,null,null,null,null,null,null,null,null,null,null,null,1,{"$f":"IF(DMA!A320=\"\",\"\",DMA!A320)","v":""},{"$f":"IF(DMA!$B320=\"\",\"\",DMA!$B320/5*100)","v":""},{"$f":"IF(DMA!G320=\"\",\"\",DMA!G320)","v":""},null,{"$f":"IF(DMA!J320=\"\",\"\",DMA!J320)","v":""}]
[null,null,null,null,null,null,null,null,null,null,null,null,null,null,null,null,null,null,null,null,null,null,null,null,null,null,1,{"$f":"IF(DMA!A321=\"\",\"\",DMA!A321)","v":""},{"$f":"IF(DMA!$B321=\"\",\"\",DMA!$B321/5*100)","v":""},{"$f":"IF(DMA!G321=\"\",\"\",DMA!G321)","v":""},null,{"$f":"IF(DMA!J321=\"\",\"\",DMA!J321)","v":""}]
[null,null,null,null,null,null,null,null,null,null,null,null,null,null,null,null,null,null,null,null,null,null,null,null,null,null,1,{"$f":"IF(DMA!A322=\"\",\"\",DMA!A322)","v":""},{"$f":"IF(DMA!$B322=\"\",\"\",DMA!$B322/5*100)","v":""},{"$f":"IF(DMA!G322=\"\",\"\",DMA!G322)","v":""},null,{"$f":"IF(DMA!J322=\"\",\"\",DMA!J322)","v":""}]
[null,null,null,null,null,null,null,null,null,null,null,null,null,null,null,null,null,null,null,null,null,null,null,null,null,null,1,{"$f":"IF(DMA!A323=\"\",\"\",DMA!A323)","v":""},{"$f":"IF(DMA!$B323=\"\",\"\",DMA!$B323/5*100)","v":""},{"$f":"IF(DMA!G323=\"\",\"\",DMA!G323)","v":""},null,{"$f":"IF(DMA!J323=\"\",\"\",DMA!J323)","v":""}]
[null,null,null,null,null,null,null,null,null,null,null,null,null,null,null,null,null,null,null,null,null,null,null,null,null,null,1,{"$f":"IF(DMA!A324=\"\",\"\",DMA!A324)","v":""},{"$f":"IF(DMA!$B324=\"\",\"\",DMA!$B324/5*100)","v":""},{"$f":"IF(DMA!G324=\"\",\"\",DMA!G324)","v":""},null,{"$f":"IF(DMA!J324=\"\",\"\",DMA!J324)","v":""}]
[null,null,null,null,null,null,null,null,null,null,null,null,null,null,null,null,null,null,null,null,null,null,null,null,null,null,1,{"$f":"IF(DMA!A325=\"\",\"\",DMA!A325)","v":""},{"$f":"IF(DMA!$B325=\"\",\"\",DMA!$B325/5*100)","v":""},{"$f":"IF(DMA!G325=\"\",\"\",DMA!G325)","v":""},null,{"$f":"IF(DMA!J325=\"\",\"\",DMA!J325)","v":""}]
[null,null,null,null,null,null,null,null,null,null,null,null,null,null,null,null,null,null,null,null,null,null,null,null,null,null,1,{"$f":"IF(DMA!A326=\"\",\"\",DMA!A326)","v":""},{"$f":"IF(DMA!$B326=\"\",\"\",DMA!$B326/5*100)","v":""},{"$f":"IF(DMA!G326=\"\",\"\",DMA!G326)","v":""},null,{"$f":"IF(DMA!J326=\"\",\"\",DMA!J326)","v":""}]
[null,null,null,null,null,null,null,null,null,null,null,null,null,null,null,null,null,null,null,null,null,null,null,null,null,null,{"$f":"IF(AB324=AA323+1,AB324,AA323)","v":1},{"$f":"IF(DMA!A327=\"\",\"\",DMA!A327)","v":""},{"$f":"IF(DMA!$B327=\"\",\"\",DMA!$B327/5*100)","v":""},{"$f":"IF(DMA!G327=\"\",\"\",DMA!G327)","v":""},null,{"$f":"IF(DMA!J327=\"\",\"\",DMA!J327)","v":""}]
[null,null,null,null,null,null,null,null,null,null,null,null,null,null,null,null,null,null,null,null,null,null,null,null,null,null,1,{"$f":"IF(DMA!A328=\"\",\"\",DMA!A328)","v":""},{"$f":"IF(DMA!$B328=\"\",\"\",DMA!$B328/5*100)","v":""},{"$f":"IF(DMA!G328=\"\",\"\",DMA!G328)","v":""},null,{"$f":"IF(DMA!J328=\"\",\"\",DMA!J328)","v":""}]
[null,null,null,null,null,null,null,null,null,null,null,null,null,null,null,null,null,null,null,null,null,null,null,null,null,null,1,{"$f":"IF(DMA!A329=\"\",\"\",DMA!A329)","v":""},{"$f":"IF(DMA!$B329=\"\",\"\",DMA!$B329/5*100)","v":""},{"$f":"IF(DMA!G329=\"\",\"\",DMA!G329)","v":""},null,{"$f":"IF(DMA!J329=\"\",\"\",DMA!J329)","v":""}]
[null,null,null,null,null,null,null,null,null,null,null,null,null,null,null,null,null,null,null,null,null,null,null,null,null,null,1,{"$f":"IF(DMA!A330=\"\",\"\",DMA!A330)","v":""},{"$f":"IF(DMA!$B330=\"\",\"\",DMA!$B330/5*100)","v":""},{"$f":"IF(DMA!G330=\"\",\"\",DMA!G330)","v":""},null,{"$f":"IF(DMA!J330=\"\",\"\",DMA!J330)","v":""}]
[null,null,null,null,null,null,null,null,null,null,null,null,null,null,null,null,null,null,null,null,null,null,null,null,null,null,1,{"$f":"IF(DMA!A331=\"\",\"\",DMA!A331)","v":""},{"$f":"IF(DMA!$B331=\"\",\"\",DMA!$B331/5*100)","v":""},{"$f":"IF(DMA!G331=\"\",\"\",DMA!G331)","v":""},null,{"$f":"IF(DMA!J331=\"\",\"\",DMA!J331)","v":""}]
[null,null,null,null,null,null,null,null,null,null,null,null,null,null,null,null,null,null,null,null,null,null,null,null,null,null,1,{"$f":"IF(DMA!A332=\"\",\"\",DMA!A332)","v":""},{"$f":"IF(DMA!$B332=\"\",\"\",DMA!$B332/5*100)","v":""},{"$f":"IF(DMA!G332=\"\",\"\",DMA!G332)","v":""},null,{"$f":"IF(DMA!J332=\"\",\"\",DMA!J332)","v":""}]
[null,null,null,null,null,null,null,null,null,null,null,null,null,null,null,null,null,null,null,null,null,null,null,null,null,null,1,{"$f":"IF(DMA!A333=\"\",\"\",DMA!A333)","v":""},{"$f":"IF(DMA!$B333=\"\",\"\",DMA!$B333/5*100)","v":""},{"$f":"IF(DMA!G333=\"\",\"\",DMA!G333)","v":""},null,{"$f":"IF(DMA!J333=\"\",\"\",DMA!J333)","v":""}]
[null,null,null,null,null,null,null,null,null,null,null,null,null,null,null,null,null,null,null,null,null,null,null,null,null,null,1,{"$f":"IF(DMA!A334=\"\",\"\",DMA!A334)","v":""},{"$f":"IF(DMA!$B334=\"\",\"\",DMA!$B334/5*100)","v":""},{"$f":"IF(DMA!G334=\"\",\"\",DMA!G334)","v":""},null,{"$f":"IF(DMA!J334=\"\",\"\",DMA!J334)","v":""}]
[null,null,null,null,null,null,null,null,null,null,null,null,null,null,null,null,null,null,null,null,null,null,null,null,null,null,1,{"$f":"IF(DMA!A335=\"\",\"\",DMA!A335)","v":""},{"$f":"IF(DMA!$B335=\"\",\"\",DMA!$B335/5*100)","v":""},{"$f":"IF(DMA!G335=\"\",\"\",DMA!G335)","v":""},null,{"$f":"IF(DMA!J335=\"\",\"\",DMA!J335)","v":""}]
[null,null,null,null,null,null,null,null,null,null,null,null,null,null,null,null,null,null,null,null,null,null,null,null,null,null,1,{"$f":"IF(DMA!A336=\"\",\"\",DMA!A336)","v":""},{"$f":"IF(DMA!$B336=\"\",\"\",DMA!$B336/5*100)","v":""},{"$f":"IF(DMA!G336=\"\",\"\",DMA!G336)","v":""},null,{"$f":"IF(DMA!J336=\"\",\"\",DMA!J336)","v":""}]
[null,null,null,null,null,null,null,null,null,null,null,null,null,null,null,null,null,null,null,null,null,null,null,null,null,null,1,{"$f":"IF(DMA!A337=\"\",\"\",DMA!A337)","v":""},{"$f":"IF(DMA!$B337=\"\",\"\",DMA!$B337/5*100)","v":""},{"$f":"IF(DMA!G337=\"\",\"\",DMA!G337)","v":""},null,{"$f":"IF(DMA!J337=\"\",\"\",DMA!J337)","v":""}]
[null,null,null,null,null,null,null,null,null,null,null,null,null,null,null,null,null,null,null,null,null,null,null,null,null,null,1,{"$f":"IF(DMA!A338=\"\",\"\",DMA!A338)","v":""},{"$f":"IF(DMA!$B338=\"\",\"\",DMA!$B338/5*100)","v":""},{"$f":"IF(DMA!G338=\"\",\"\",DMA!G338)","v":""},null,{"$f":"IF(DMA!J338=\"\",\"\",DMA!J338)","v":""}]
[null,null,null,null,null,null,null,null,null,null,null,null,null,null,null,null,null,null,null,null,null,null,null,null,null,null,1,{"$f":"IF(DMA!A339=\"\",\"\",DMA!A339)","v":""},{"$f":"IF(DMA!$B339=\"\",\"\",DMA!$B339/5*100)","v":""},{"$f":"IF(DMA!G339=\"\",\"\",DMA!G339)","v":""},null,{"$f":"IF(DMA!J339=\"\",\"\",DMA!J339)","v":""}]
[null,null,null,null,null,null,null,null,null,null,null,null,null,null,null,null,null,null,null,null,null,null,null,null,null,null,1,{"$f":"IF(DMA!A340=\"\",\"\",DMA!A340)","v":""},{"$f":"IF(DMA!$B340=\"\",\"\",DMA!$B340/5*100)","v":""},{"$f":"IF(DMA!G340=\"\",\"\",DMA!G340)","v":""},null,{"$f":"IF(DMA!J340=\"\",\"\",DMA!J340)","v":""}]
[null,null,null,null,null,null,null,null,null,null,null,null,null,null,null,null,null,null,null,null,null,null,null,null,null,null,1,{"$f":"IF(DMA!A341=\"\",\"\",DMA!A341)","v":""},{"$f":"IF(DMA!$B341=\"\",\"\",DMA!$B341/5*100)","v":""},{"$f":"IF(DMA!G341=\"\",\"\",DMA!G341)","v":""},null,{"$f":"IF(DMA!J341=\"\",\"\",DMA!J341)","v":""}]
[null,null,null,null,null,null,null,null,null,null,null,null,null,null,null,null,null,null,null,null,null,null,null,null,null,null,1,{"$f":"IF(DMA!A342=\"\",\"\",DMA!A342)","v":""},{"$f":"IF(DMA!$B342=\"\",\"\",DMA!$B342/5*100)","v":""},{"$f":"IF(DMA!G342=\"\",\"\",DMA!G342)","v":""},null,{"$f":"IF(DMA!J342=\"\",\"\",DMA!J342)","v":""}]
[null,null,null,null,null,null,null,null,null,null,null,null,null,null,null,null,null,null,null,null,null,null,null,null,null,null,1,{"$f":"IF(DMA!A343=\"\",\"\",DMA!A343)","v":""},{"$f":"IF(DMA!$B343=\"\",\"\",DMA!$B343/5*100)","v":""},{"$f":"IF(DMA!G343=\"\",\"\",DMA!G343)","v":""},null,{"$f":"IF(DMA!J343=\"\",\"\",DMA!J343)","v":""}]
[null,null,null,null,null,null,null,null,null,null,null,null,null,null,null,null,null,null,null,null,null,null,null,null,null,null,1,{"$f":"IF(DMA!A344=\"\",\"\",DMA!A344)","v":""},{"$f":"IF(DMA!$B344=\"\",\"\",DMA!$B344/5*100)","v":""},{"$f":"IF(DMA!G344=\"\",\"\",DMA!G344)","v":""},null,{"$f":"IF(DMA!J344=\"\",\"\",DMA!J344)","v":""}]
[null,null,null,null,null,null,null,null,null,null,null,null,null,null,null,null,null,null,null,null,null,null,null,null,null,null,1,{"$f":"IF(DMA!A345=\"\",\"\",DMA!A345)","v":""},{"$f":"IF(DMA!$B345=\"\",\"\",DMA!$B345/5*100)","v":""},{"$f":"IF(DMA!G345=\"\",\"\",DMA!G345)","v":""},null,{"$f":"IF(DMA!J345=\"\",\"\",DMA!J345)","v":""}]
[null,null,null,null,null,null,null,null,null,null,null,null,null,null,null,null,null,null,null,null,null,null,null,null,null,null,1,{"$f":"IF(DMA!A346=\"\",\"\",DMA!A346)","v":""},{"$f":"IF(DMA!$B346=\"\",\"\",DMA!$B346/5*100)","v":""},{"$f":"IF(DMA!G346=\"\",\"\",DMA!G346)","v":""},null,{"$f":"IF(DMA!J346=\"\",\"\",DMA!J346)","v":""}]
[null,null,null,null,null,null,null,null,null,null,null,null,null,null,null,null,null,null,null,null,null,null,null,null,null,null,1,{"$f":"IF(DMA!A347=\"\",\"\",DMA!A347)","v":""},{"$f":"IF(DMA!$B347=\"\",\"\",DMA!$B347/5*100)","v":""},{"$f":"IF(DMA!G347=\"\",\"\",DMA!G347)","v":""},null,{"$f":"IF(DMA!J347=\"\",\"\",DMA!J347)","v":""}]
[null,null,null,null,null,null,null,null,null,null,null,null,null,null,null,null,null,null,null,null,null,null,null,null,null,null,1,{"$f":"IF(DMA!A348=\"\",\"\",DMA!A348)","v":""},{"$f":"IF(DMA!$B348=\"\",\"\",DMA!$B348/5*100)","v":""},{"$f":"IF(DMA!G348=\"\",\"\",DMA!G348)","v":""},null,{"$f":"IF(DMA!J348=\"\",\"\",DMA!J348)","v":""}]
[null,null,null,null,null,null,null,null,null,null,null,null,null,null,null,null,null,null,null,null,null,null,null,null,null,null,1,{"$f":"IF(DMA!A349=\"\",\"\",DMA!A349)","v":""},{"$f":"IF(DMA!$B349=\"\",\"\",DMA!$B349/5*100)","v":""},{"$f":"IF(DMA!G349=\"\",\"\",DMA!G349)","v":""},null,{"$f":"IF(DMA!J349=\"\",\"\",DMA!J349)","v":""}]
[null,null,null,null,null,null,null,null,null,null,null,null,null,null,null,null,null,null,null,null,null,null,null,null,null,null,1,{"$f":"IF(DMA!A350=\"\",\"\",DMA!A350)","v":""},{"$f":"IF(DMA!$B350=\"\",\"\",DMA!$B350/5*100)","v":""},{"$f":"IF(DMA!G350=\"\",\"\",DMA!G350)","v":""},null,{"$f":"IF(DMA!J350=\"\",\"\",DMA!J350)","v":""}]
[null,null,null,null,null,null,null,null,null,null,null,null,null,null,null,null,null,null,null,null,null,null,null,null,null,null,1,{"$f":"IF(DMA!A351=\"\",\"\",DMA!A351)","v":""},{"$f":"IF(DMA!$B351=\"\",\"\",DMA!$B351/5*100)","v":""},{"$f":"IF(DMA!G351=\"\",\"\",DMA!G351)","v":""},null,{"$f":"IF(DMA!J351=\"\",\"\",DMA!J351)","v":""}]
[null,null,null,null,null,null,null,null,null,null,null,null,null,null,null,null,null,null,null,null,null,null,null,null,null,null,1,{"$f":"IF(DMA!A352=\"\",\"\",DMA!A352)","v":""},{"$f":"IF(DMA!$B352=\"\",\"\",DMA!$B352/5*100)","v":""},{"$f":"IF(DMA!G352=\"\",\"\",DMA!G352)","v":""},null,{"$f":"IF(DMA!J352=\"\",\"\",DMA!J352)","v":""}]
[null,null,null,null,null,null,null,null,null,null,null,null,null,null,null,null,null,null,null,null,null,null,null,null,null,null,1,{"$f":"IF(DMA!A353=\"\",\"\",DMA!A353)","v":""},{"$f":"IF(DMA!$B353=\"\",\"\",DMA!$B353/5*100)","v":""},{"$f":"IF(DMA!G353=\"\",\"\",DMA!G353)","v":""},null,{"$f":"IF(DMA!J353=\"\",\"\",DMA!J353)","v":""}]
[null,null,null,null,null,null,null,null,null,null,null,null,null,null,null,null,null,null,null,null,null,null,null,null,null,null,1,{"$f":"IF(DMA!A354=\"\",\"\",DMA!A354)","v":""},{"$f":"IF(DMA!$B354=\"\",\"\",DMA!$B354/5*100)","v":""},{"$f":"IF(DMA!G354=\"\",\"\",DMA!G354)","v":""},null,{"$f":"IF(DMA!J354=\"\",\"\",DMA!J354)","v":""}]
[null,null,null,null,null,null,null,null,null,null,null,null,null,null,null,null,null,null,null,null,null,null,null,null,null,null,1,{"$f":"IF(DMA!A355=\"\",\"\",DMA!A355)","v":""},{"$f":"IF(DMA!$B355=\"\",\"\",DMA!$B355/5*100)","v":""},{"$f":"IF(DMA!G355=\"\",\"\",DMA!G355)","v":""},null,{"$f":"IF(DMA!J355=\"\",\"\",DMA!J355)","v":""}]
[null,null,null,null,null,null,null,null,null,null,null,null,null,null,null,null,null,null,null,null,null,null,null,null,null,null,1,{"$f":"IF(DMA!A356=\"\",\"\",DMA!A356)","v":""},{"$f":"IF(DMA!$B356=\"\",\"\",DMA!$B356/5*100)","v":""},{"$f":"IF(DMA!G356=\"\",\"\",DMA!G356)","v":""},null,{"$f":"IF(DMA!J356=\"\",\"\",DMA!J356)","v":""}]
[null,null,null,null,null,null,null,null,null,null,null,null,null,null,null,null,null,null,null,null,null,null,null,null,null,null,1,{"$f":"IF(DMA!A357=\"\",\"\",DMA!A357)","v":""},{"$f":"IF(DMA!$B357=\"\",\"\",DMA!$B357/5*100)","v":""},{"$f":"IF(DMA!G357=\"\",\"\",DMA!G357)","v":""},null,{"$f":"IF(DMA!J357=\"\",\"\",DMA!J357)","v":""}]
[null,null,null,null,null,null,null,null,null,null,null,null,null,null,null,null,null,null,null,null,null,null,null,null,null,null,1,{"$f":"IF(DMA!A358=\"\",\"\",DMA!A358)","v":""},{"$f":"IF(DMA!$B358=\"\",\"\",DMA!$B358/5*100)","v":""},{"$f":"IF(DMA!G358=\"\",\"\",DMA!G358)","v":""},null,{"$f":"IF(DMA!J358=\"\",\"\",DMA!J358)","v":""}]
[null,null,null,null,null,null,null,null,null,null,null,null,null,null,null,null,null,null,null,null,null,null,null,null,null,null,1,{"$f":"IF(DMA!A359=\"\",\"\",DMA!A359)","v":""},{"$f":"IF(DMA!$B359=\"\",\"\",DMA!$B359/5*100)","v":""},{"$f":"IF(DMA!G359=\"\",\"\",DMA!G359)","v":""},null,{"$f":"IF(DMA!J359=\"\",\"\",DMA!J359)","v":""}]
[null,null,null,null,null,null,null,null,null,null,null,null,null,null,null,null,null,null,null,null,null,null,null,null,null,null,1,{"$f":"IF(DMA!A360=\"\",\"\",DMA!A360)","v":""},{"$f":"IF(DMA!$B360=\"\",\"\",DMA!$B360/5*100)","v":""},{"$f":"IF(DMA!G360=\"\",\"\",DMA!G360)","v":""},null,{"$f":"IF(DMA!J360=\"\",\"\",DMA!J360)","v":""}]
[null,null,null,null,null,null,null,null,null,null,null,null,null,null,null,null,null,null,null,null,null,null,null,null,null,null,1,{"$f":"IF(DMA!A361=\"\",\"\",DMA!A361)","v":""},{"$f":"IF(DMA!$B361=\"\",\"\",DMA!$B361/5*100)","v":""},{"$f":"IF(DMA!G361=\"\",\"\",DMA!G361)","v":""},null,{"$f":"IF(DMA!J361=\"\",\"\",DMA!J361)","v":""}]
[null,null,null,null,null,null,null,null,null,null,null,null,null,null,null,null,null,null,null,null,null,null,null,null,null,null,1,{"$f":"IF(DMA!A362=\"\",\"\",DMA!A362)","v":""},{"$f":"IF(DMA!$B362=\"\",\"\",DMA!$B362/5*100)","v":""},{"$f":"IF(DMA!G362=\"\",\"\",DMA!G362)","v":""},null,{"$f":"IF(DMA!J362=\"\",\"\",DMA!J362)","v":""}]
[null,null,null,null,null,null,null,null,null,null,null,null,null,null,null,null,null,null,null,null,null,null,null,null,null,null,1,{"$f":"IF(DMA!A363=\"\",\"\",DMA!A363)","v":""},{"$f":"IF(DMA!$B363=\"\",\"\",DMA!$B363/5*100)","v":""},{"$f":"IF(DMA!G363=\"\",\"\",DMA!G363)","v":""},null,{"$f":"IF(DMA!J363=\"\",\"\",DMA!J363)","v":""}]
[null,null,null,null,null,null,null,null,null,null,null,null,null,null,null,null,null,null,null,null,null,null,null,null,null,null,1,{"$f":"IF(DMA!A364=\"\",\"\",DMA!A364)","v":""},{"$f":"IF(DMA!$B364=\"\",\"\",DMA!$B364/5*100)","v":""},{"$f":"IF(DMA!G364=\"\",\"\",DMA!G364)","v":""},null,{"$f":"IF(DMA!J364=\"\",\"\",DMA!J364)","v":""}]
[null,null,null,null,null,null,null,null,null,null,null,null,null,null,null,null,null,null,null,null,null,null,null,null,null,null,1,{"$f":"IF(DMA!A365=\"\",\"\",DMA!A365)","v":""},{"$f":"IF(DMA!$B365=\"\",\"\",DMA!$B365/5*100)","v":""},{"$f":"IF(DMA!G365=\"\",\"\",DMA!G365)","v":""},null,{"$f":"IF(DMA!J365=\"\",\"\",DMA!J365)","v":""}]
[null,null,null,null,null,null,null,null,null,null,null,null,null,null,null,null,null,null,null,null,null,null,null,null,null,null,1,{"$f":"IF(DMA!A366=\"\",\"\",DMA!A366)","v":""},{"$f":"IF(DMA!$B366=\"\",\"\",DMA!$B366/5*100)","v":""},{"$f":"IF(DMA!G366=\"\",\"\",DMA!G366)","v":""},null,{"$f":"IF(DMA!J366=\"\",\"\",DMA!J366)","v":""}]
[null,null,null,null,null,null,null,null,null,null,null,null,null,null,null,null,null,null,null,null,null,null,null,null,null,null,1,{"$f":"IF(DMA!A367=\"\",\"\",DMA!A367)","v":""},{"$f":"IF(DMA!$B367=\"\",\"\",DMA!$B367/5*100)","v":""},{"$f":"IF(DMA!G367=\"\",\"\",DMA!G367)","v":""},null,{"$f":"IF(DMA!J367=\"\",\"\",DMA!J367)","v":""}]
[null,null,null,null,null,null,null,null,null,null,null,null,null,null,null,null,null,null,null,null,null,null,null,null,null,null,1,{"$f":"IF(DMA!A368=\"\",\"\",DMA!A368)","v":""},{"$f":"IF(DMA!$B368=\"\",\"\",DMA!$B368/5*100)","v":""},{"$f":"IF(DMA!G368=\"\",\"\",DMA!G368)","v":""},null,{"$f":"IF(DMA!J368=\"\",\"\",DMA!J368)","v":""}]
[null,null,null,null,null,null,null,null,null,null,null,null,null,null,null,null,null,null,null,null,null,null,null,null,null,null,1,{"$f":"IF(DMA!A369=\"\",\"\",DMA!A369)","v":""},{"$f":"IF(DMA!$B369=\"\",\"\",DMA!$B369/5*100)","v":""},{"$f":"IF(DMA!G369=\"\",\"\",DMA!G369)","v":""},null,{"$f":"IF(DMA!J369=\"\",\"\",DMA!J369)","v":""}]
[null,null,null,null,null,null,null,null,null,null,null,null,null,null,null,null,null,null,null,null,null,null,null,null,null,null,1,{"$f":"IF(DMA!A370=\"\",\"\",DMA!A370)","v":""},{"$f":"IF(DMA!$B370=\"\",\"\",DMA!$B370/5*100)","v":""},{"$f":"IF(DMA!G370=\"\",\"\",DMA!G370)","v":""},null,{"$f":"IF(DMA!J370=\"\",\"\",DMA!J370)","v":""}]
[null,null,null,null,null,null,null,null,null,null,null,null,null,null,null,null,null,null,null,null,null,null,null,null,null,null,1,{"$f":"IF(DMA!A371=\"\",\"\",DMA!A371)","v":""},{"$f":"IF(DMA!$B371=\"\",\"\",DMA!$B371/5*100)","v":""},{"$f":"IF(DMA!G371=\"\",\"\",DMA!G371)","v":""},null,{"$f":"IF(DMA!J371=\"\",\"\",DMA!J371)","v":""}]
[null,null,null,null,null,null,null,null,null,null,null,null,null,null,null,null,null,null,null,null,null,null,null,null,null,null,1,{"$f":"IF(DMA!A372=\"\",\"\",DMA!A372)","v":""},{"$f":"IF(DMA!$B372=\"\",\"\",DMA!$B372/5*100)","v":""},{"$f":"IF(DMA!G372=\"\",\"\",DMA!G372)","v":""},null,{"$f":"IF(DMA!J372=\"\",\"\",DMA!J372)","v":""}]
[null,null,null,null,null,null,null,null,null,null,null,null,null,null,null,null,null,null,null,null,null,null,null,null,null,null,1,{"$f":"IF(DMA!A373=\"\",\"\",DMA!A373)","v":""},{"$f":"IF(DMA!$B373=\"\",\"\",DMA!$B373/5*100)","v":""},{"$f":"IF(DMA!G373=\"\",\"\",DMA!G373)","v":""},null,{"$f":"IF(DMA!J373=\"\",\"\",DMA!J373)","v":""}]
[null,null,null,null,null,null,null,null,null,null,null,null,null,null,null,null,null,null,null,null,null,null,null,null,null,null,1,{"$f":"IF(DMA!A374=\"\",\"\",DMA!A374)","v":""},{"$f":"IF(DMA!$B374=\"\",\"\",DMA!$B374/5*100)","v":""},{"$f":"IF(DMA!G374=\"\",\"\",DMA!G374)","v":""},null,{"$f":"IF(DMA!J374=\"\",\"\",DMA!J374)","v":""}]
[null,null,null,null,null,null,null,null,null,null,null,null,null,null,null,null,null,null,null,null,null,null,null,null,null,null,1,{"$f":"IF(DMA!A375=\"\",\"\",DMA!A375)","v":""},{"$f":"IF(DMA!$B375=\"\",\"\",DMA!$B375/5*100)","v":""},{"$f":"IF(DMA!G375=\"\",\"\",DMA!G375)","v":""},null,{"$f":"IF(DMA!J375=\"\",\"\",DMA!J375)","v":""}]
[null,null,null,null,null,null,null,null,null,null,null,null,null,null,null,null,null,null,null,null,null,null,null,null,null,null,1,{"$f":"IF(DMA!A376=\"\",\"\",DMA!A376)","v":""},{"$f":"IF(DMA!$B376=\"\",\"\",DMA!$B376/5*100)","v":""},{"$f":"IF(DMA!G376=\"\",\"\",DMA!G376)","v":""},null,{"$f":"IF(DMA!J376=\"\",\"\",DMA!J376)","v":""}]
[null,null,null,null,null,null,null,null,null,null,null,null,null,null,null,null,null,null,null,null,null,null,null,null,null,null,1,{"$f":"IF(DMA!A377=\"\",\"\",DMA!A377)","v":""},{"$f":"IF(DMA!$B377=\"\",\"\",DMA!$B377/5*100)","v":""},{"$f":"IF(DMA!G377=\"\",\"\",DMA!G377)","v":""},null,{"$f":"IF(DMA!J377=\"\",\"\",DMA!J377)","v":""}]
[null,null,null,null,null,null,null,null,null,null,null,null,null,null,null,null,null,null,null,null,null,null,null,null,null,null,1,{"$f":"IF(DMA!A378=\"\",\"\",DMA!A378)","v":""},{"$f":"IF(DMA!$B378=\"\",\"\",DMA!$B378/5*100)","v":""},{"$f":"IF(DMA!G378=\"\",\"\",DMA!G378)","v":""},null,{"$f":"IF(DMA!J378=\"\",\"\",DMA!J378)","v":""}]
[null,null,null,null,null,null,null,null,null,null,null,null,null,null,null,null,null,null,null,null,null,null,null,null,null,null,1,{"$f":"IF(DMA!A379=\"\",\"\",DMA!A379)","v":""},{"$f":"IF(DMA!$B379=\"\",\"\",DMA!$B379/5*100)","v":""},{"$f":"IF(DMA!G379=\"\",\"\",DMA!G379)","v":""},null,{"$f":"IF(DMA!J379=\"\",\"\",DMA!J379)","v":""}]
[null,null,null,null,null,null,null,null,null,null,null,null,null,null,null,null,null,null,null,null,null,null,null,null,null,null,1,{"$f":"IF(DMA!A380=\"\",\"\",DMA!A380)","v":""},{"$f":"IF(DMA!$B380=\"\",\"\",DMA!$B380/5*100)","v":""},{"$f":"IF(DMA!G380=\"\",\"\",DMA!G380)","v":""},null,{"$f":"IF(DMA!J380=\"\",\"\",DMA!J380)","v":""}]
[null,null,null,null,null,null,null,null,null,null,null,null,null,null,null,null,null,null,null,null,null,null,null,null,null,null,1,{"$f":"IF(DMA!A381=\"\",\"\",DMA!A381)","v":""},{"$f":"IF(DMA!$B381=\"\",\"\",DMA!$B381/5*100)","v":""},{"$f":"IF(DMA!G381=\"\",\"\",DMA!G381)","v":""},null,{"$f":"IF(DMA!J381=\"\",\"\",DMA!J381)","v":""}]
[null,null,null,null,null,null,null,null,null,null,null,null,null,null,null,null,null,null,null,null,null,null,null,null,null,null,1,{"$f":"IF(DMA!A382=\"\",\"\",DMA!A382)","v":""},{"$f":"IF(DMA!$B382=\"\",\"\",DMA!$B382/5*100)","v":""},{"$f":"IF(DMA!G382=\"\",\"\",DMA!G382)","v":""},null,{"$f":"IF(DMA!J382=\"\",\"\",DMA!J382)","v":""}]
[null,null,null,null,null,null,null,null,null,null,null,null,null,null,null,null,null,null,null,null,null,null,null,null,null,null,1,{"$f":"IF(DMA!A383=\"\",\"\",DMA!A383)","v":""},{"$f":"IF(DMA!$B383=\"\",\"\",DMA!$B383/5*100)","v":""},{"$f":"IF(DMA!G383=\"\",\"\",DMA!G383)","v":""},null,{"$f":"IF(DMA!J383=\"\",\"\",DMA!J383)","v":""}]
[null,null,null,null,null,null,null,null,null,null,null,null,null,null,null,null,null,null,null,null,null,null,null,null,null,null,1,{"$f":"IF(DMA!A384=\"\",\"\",DMA!A384)","v":""},{"$f":"IF(DMA!$B384=\"\",\"\",DMA!$B384/5*100)","v":""},{"$f":"IF(DMA!G384=\"\",\"\",DMA!G384)","v":""},null,{"$f":"IF(DMA!J384=\"\",\"\",DMA!J384)","v":""}]
[null,null,null,null,null,null,null,null,null,null,null,null,null,null,null,null,null,null,null,null,null,null,null,null,null,null,1,{"$f":"IF(DMA!A385=\"\",\"\",DMA!A385)","v":""},{"$f":"IF(DMA!$B385=\"\",\"\",DMA!$B385/5*100)","v":""},{"$f":"IF(DMA!G385=\"\",\"\",DMA!G385)","v":""},null,{"$f":"IF(DMA!J385=\"\",\"\",DMA!J385)","v":""}]
[null,null,null,null,null,null,null,null,null,null,null,null,null,null,null,null,null,null,null,null,null,null,null,null,null,null,1,{"$f":"IF(DMA!A386=\"\",\"\",DMA!A386)","v":""},{"$f":"IF(DMA!$B386=\"\",\"\",DMA!$B386/5*100)","v":""},{"$f":"IF(DMA!G386=\"\",\"\",DMA!G386)","v":""},null,{"$f":"IF(DMA!J386=\"\",\"\",DMA!J386)","v":""}]
[null,null,null,null,null,null,null,null,null,null,null,null,null,null,null,null,null,null,null,null,null,null,null,null,null,null,1,{"$f":"IF(DMA!A387=\"\",\"\",DMA!A387)","v":""},{"$f":"IF(DMA!$B387=\"\",\"\",DMA!$B387/5*100)","v":""},{"$f":"IF(DMA!G387=\"\",\"\",DMA!G387)","v":""},null,{"$f":"IF(DMA!J387=\"\",\"\",DMA!J387)","v":""}]
[null,null,null,null,null,null,null,null,null,null,null,null,null,null,null,null,null,null,null,null,null,null,null,null,null,null,1,{"$f":"IF(DMA!A388=\"\",\"\",DMA!A388)","v":""},{"$f":"IF(DMA!$B388=\"\",\"\",DMA!$B388/5*100)","v":""},{"$f":"IF(DMA!G388=\"\",\"\",DMA!G388)","v":""},null,{"$f":"IF(DMA!J388=\"\",\"\",DMA!J388)","v":""}]
[null,null,null,null,null,null,null,null,null,null,null,null,null,null,null,null,null,null,null,null,null,null,null,null,null,null,1,{"$f":"IF(DMA!A389=\"\",\"\",DMA!A389)","v":""},{"$f":"IF(DMA!$B389=\"\",\"\",DMA!$B389/5*100)","v":""},{"$f":"IF(DMA!G389=\"\",\"\",DMA!G389)","v":""},null,{"$f":"IF(DMA!J389=\"\",\"\",DMA!J389)","v":""}]
[null,null,null,null,null,null,null,null,null,null,null,null,null,null,null,null,null,null,null,null,null,null,null,null,null,null,1,{"$f":"IF(DMA!A390=\"\",\"\",DMA!A390)","v":""},{"$f":"IF(DMA!$B390=\"\",\"\",DMA!$B390/5*100)","v":""},{"$f":"IF(DMA!G390=\"\",\"\",DMA!G390)","v":""},null,{"$f":"IF(DMA!J390=\"\",\"\",DMA!J390)","v":""}]
[null,null,null,null,null,null,null,null,null,null,null,null,null,null,null,null,null,null,null,null,null,null,null,null,null,null,{"$f":"IF(AB388=AA387+1,AB388,AA387)","v":1},{"$f":"IF(DMA!A391=\"\",\"\",DMA!A391)","v":""},{"$f":"IF(DMA!$B391=\"\",\"\",DMA!$B391/5*100)","v":""},{"$f":"IF(DMA!G391=\"\",\"\",DMA!G391)","v":""},null,{"$f":"IF(DMA!J391=\"\",\"\",DMA!J391)","v":""}]
[null,null,null,null,null,null,null,null,null,null,null,null,null,null,null,null,null,null,null,null,null,null,null,null,null,null,1,{"$f":"IF(DMA!A392=\"\",\"\",DMA!A392)","v":""},{"$f":"IF(DMA!$B392=\"\",\"\",DMA!$B392/5*100)","v":""},{"$f":"IF(DMA!G392=\"\",\"\",DMA!G392)","v":""},null,{"$f":"IF(DMA!J392=\"\",\"\",DMA!J392)","v":""}]
[null,null,null,null,null,null,null,null,null,null,null,null,null,null,null,null,null,null,null,null,null,null,null,null,null,null,1,{"$f":"IF(DMA!A393=\"\",\"\",DMA!A393)","v":""},{"$f":"IF(DMA!$B393=\"\",\"\",DMA!$B393/5*100)","v":""},{"$f":"IF(DMA!G393=\"\",\"\",DMA!G393)","v":""},null,{"$f":"IF(DMA!J393=\"\",\"\",DMA!J393)","v":""}]
[null,null,null,null,null,null,null,null,null,null,null,null,null,null,null,null,null,null,null,null,null,null,null,null,null,null,1,{"$f":"IF(DMA!A394=\"\",\"\",DMA!A394)","v":""},{"$f":"IF(DMA!$B394=\"\",\"\",DMA!$B394/5*100)","v":""},{"$f":"IF(DMA!G394=\"\",\"\",DMA!G394)","v":""},null,{"$f":"IF(DMA!J394=\"\",\"\",DMA!J394)","v":""}]
[null,null,null,null,null,null,null,null,null,null,null,null,null,null,null,null,null,null,null,null,null,null,null,null,null,null,1,{"$f":"IF(DMA!A395=\"\",\"\",DMA!A395)","v":""},{"$f":"IF(DMA!$B395=\"\",\"\",DMA!$B395/5*100)","v":""},{"$f":"IF(DMA!G395=\"\",\"\",DMA!G395)","v":""},null,{"$f":"IF(DMA!J395=\"\",\"\",DMA!J395)","v":""}]
[null,null,null,null,null,null,null,null,null,null,null,null,null,null,null,null,null,null,null,null,null,null,null,null,null,null,1,{"$f":"IF(DMA!A396=\"\",\"\",DMA!A396)","v":""},{"$f":"IF(DMA!$B396=\"\",\"\",DMA!$B396/5*100)","v":""},{"$f":"IF(DMA!G396=\"\",\"\",DMA!G396)","v":""},null,{"$f":"IF(DMA!J396=\"\",\"\",DMA!J396)","v":""}]
[null,null,null,null,null,null,null,null,null,null,null,null,null,null,null,null,null,null,null,null,null,null,null,null,null,null,1,{"$f":"IF(DMA!A397=\"\",\"\",DMA!A397)","v":""},{"$f":"IF(DMA!$B397=\"\",\"\",DMA!$B397/5*100)","v":""},{"$f":"IF(DMA!G397=\"\",\"\",DMA!G397)","v":""},null,{"$f":"IF(DMA!J397=\"\",\"\",DMA!J397)","v":""}]
[null,null,null,null,null,null,null,null,null,null,null,null,null,null,null,null,null,null,null,null,null,null,null,null,null,null,1,{"$f":"IF(DMA!A398=\"\",\"\",DMA!A398)","v":""},{"$f":"IF(DMA!$B398=\"\",\"\",DMA!$B398/5*100)","v":""},{"$f":"IF(DMA!G398=\"\",\"\",DMA!G398)","v":""},null,{"$f":"IF(DMA!J398=\"\",\"\",DMA!J398)","v":""}]
[null,null,null,null,null,null,null,null,null,null,null,null,null,null,null,null,null,null,null,null,null,null,null,null,null,null,1,{"$f":"IF(DMA!A399=\"\",\"\",DMA!A399)","v":""},{"$f":"IF(DMA!$B399=\"\",\"\",DMA!$B399/5*100)","v":""},{"$f":"IF(DMA!G399=\"\",\"\",DMA!G399)","v":""},null,{"$f":"IF(DMA!J399=\"\",\"\",DMA!J399)","v":""}]
[null,null,null,null,null,null,null,null,null,null,null,null,null,null,null,null,null,null,null,null,null,null,null,null,null,null,1,{"$f":"IF(DMA!A400=\"\",\"\",DMA!A400)","v":""},{"$f":"IF(DMA!$B400=\"\",\"\",DMA!$B400/5*100)","v":""},{"$f":"IF(DMA!G400=\"\",\"\",DMA!G400)","v":""},null,{"$f":"IF(DMA!J400=\"\",\"\",DMA!J400)","v":""}]
[null,null,null,null,null,null,null,null,null,null,null,null,null,null,null,null,null,null,null,null,null,null,null,null,null,null,1,{"$f":"IF(DMA!A401=\"\",\"\",DMA!A401)","v":""},{"$f":"IF(DMA!$B401=\"\",\"\",DMA!$B401/5*100)","v":""},{"$f":"IF(DMA!G401=\"\",\"\",DMA!G401)","v":""},null,{"$f":"IF(DMA!J401=\"\",\"\",DMA!J401)","v":""}]
[null,null,null,null,null,null,null,null,null,null,null,null,null,null,null,null,null,null,null,null,null,null,null,null,null,null,1,{"$f":"IF(DMA!A402=\"\",\"\",DMA!A402)","v":""},{"$f":"IF(DMA!$B402=\"\",\"\",DMA!$B402/5*100)","v":""},{"$f":"IF(DMA!G402=\"\",\"\",DMA!G402)","v":""},null,{"$f":"IF(DMA!J402=\"\",\"\",DMA!J402)","v":""}]
[null,null,null,null,null,null,null,null,null,null,null,null,null,null,null,null,null,null,null,null,null,null,null,null,null,null,1,{"$f":"IF(DMA!A403=\"\",\"\",DMA!A403)","v":""},{"$f":"IF(DMA!$B403=\"\",\"\",DMA!$B403/5*100)","v":""},{"$f":"IF(DMA!G403=\"\",\"\",DMA!G403)","v":""},null,{"$f":"IF(DMA!J403=\"\",\"\",DMA!J403)","v":""}]
[null,null,null,null,null,null,null,null,null,null,null,null,null,null,null,null,null,null,null,null,null,null,null,null,null,null,1,{"$f":"IF(DMA!A404=\"\",\"\",DMA!A404)","v":""},{"$f":"IF(DMA!$B404=\"\",\"\",DMA!$B404/5*100)","v":""},{"$f":"IF(DMA!G404=\"\",\"\",DMA!G404)","v":""},null,{"$f":"IF(DMA!J404=\"\",\"\",DMA!J404)","v":""}]
[null,null,null,null,null,null,null,null,null,null,null,null,null,null,null,null,null,null,null,null,null,null,null,null,null,null,1,{"$f":"IF(DMA!A405=\"\",\"\",DMA!A405)","v":""},{"$f":"IF(DMA!$B405=\"\",\"\",DMA!$B405/5*100)","v":""},{"$f":"IF(DMA!G405=\"\",\"\",DMA!G405)","v":""},null,{"$f":"IF(DMA!J405=\"\",\"\",DMA!J405)","v":""}]
[null,null,null,null,null,null,null,null,null,null,null,null,null,null,null,null,null,null,null,null,null,null,null,null,null,null,1,{"$f":"IF(DMA!A406=\"\",\"\",DMA!A406)","v":""},{"$f":"IF(DMA!$B406=\"\",\"\",DMA!$B406/5*100)","v":""},{"$f":"IF(DMA!G406=\"\",\"\",DMA!G406)","v":""},null,{"$f":"IF(DMA!J406=\"\",\"\",DMA!J406)","v":""}]
[null,null,null,null,null,null,null,null,null,null,null,null,null,null,null,null,null,null,null,null,null,null,null,null,null,null,1,{"$f":"IF(DMA!A407=\"\",\"\",DMA!A407)","v":""},{"$f":"IF(DMA!$B407=\"\",\"\",DMA!$B407/5*100)","v":""},{"$f":"IF(DMA!G407=\"\",\"\",DMA!G407)","v":""},null,{"$f":"IF(DMA!J407=\"\",\"\",DMA!J407)","v":""}]
[null,null,null,null,null,null,null,null,null,null,null,null,null,null,null,null,null,null,null,null,null,null,null,null,null,null,1,{"$f":"IF(DMA!A408=\"\",\"\",DMA!A408)","v":""},{"$f":"IF(DMA!$B408=\"\",\"\",DMA!$B408/5*100)","v":""},{"$f":"IF(DMA!G408=\"\",\"\",DMA!G408)","v":""},null,{"$f":"IF(DMA!J408=\"\",\"\",DMA!J408)","v":""}]
[null,null,null,null,null,null,null,null,null,null,null,null,null,null,null,null,null,null,null,null,null,null,null,null,null,null,1,{"$f":"IF(DMA!A409=\"\",\"\",DMA!A409)","v":""},{"$f":"IF(DMA!$B409=\"\",\"\",DMA!$B409/5*100)","v":""},{"$f":"IF(DMA!G409=\"\",\"\",DMA!G409)","v":""},null,{"$f":"IF(DMA!J409=\"\",\"\",DMA!J409)","v":""}]
[null,null,null,null,null,null,null,null,null,null,null,null,null,null,null,null,null,null,null,null,null,null,null,null,null,null,1,{"$f":"IF(DMA!A410=\"\",\"\",DMA!A410)","v":""},{"$f":"IF(DMA!$B410=\"\",\"\",DMA!$B410/5*100)","v":""},{"$f":"IF(DMA!G410=\"\",\"\",DMA!G410)","v":""},null,{"$f":"IF(DMA!J410=\"\",\"\",DMA!J410)","v":""}]
[null,null,null,null,null,null,null,null,null,null,null,null,null,null,null,null,null,null,null,null,null,null,null,null,null,null,1,{"$f":"IF(DMA!A411=\"\",\"\",DMA!A411)","v":""},{"$f":"IF(DMA!$B411=\"\",\"\",DMA!$B411/5*100)","v":""},{"$f":"IF(DMA!G411=\"\",\"\",DMA!G411)","v":""},null,{"$f":"IF(DMA!J411=\"\",\"\",DMA!J411)","v":""}]
[null,null,null,null,null,null,null,null,null,null,null,null,null,null,null,null,null,null,null,null,null,null,null,null,null,null,1,{"$f":"IF(DMA!A412=\"\",\"\",DMA!A412)","v":""},{"$f":"IF(DMA!$B412=\"\",\"\",DMA!$B412/5*100)","v":""},{"$f":"IF(DMA!G412=\"\",\"\",DMA!G412)","v":""},null,{"$f":"IF(DMA!J412=\"\",\"\",DMA!J412)","v":""}]
[null,null,null,null,null,null,null,null,null,null,null,null,null,null,null,null,null,null,null,null,null,null,null,null,null,null,1,{"$f":"IF(DMA!A413=\"\",\"\",DMA!A413)","v":""},{"$f":"IF(DMA!$B413=\"\",\"\",DMA!$B413/5*100)","v":""},{"$f":"IF(DMA!G413=\"\",\"\",DMA!G413)","v":""},null,{"$f":"IF(DMA!J413=\"\",\"\",DMA!J413)","v":""}]
[null,null,null,null,null,null,null,null,null,null,null,null,null,null,null,null,null,null,null,null,null,null,null,null,null,null,1,{"$f":"IF(DMA!A414=\"\",\"\",DMA!A414)","v":""},{"$f":"IF(DMA!$B414=\"\",\"\",DMA!$B414/5*100)","v":""},{"$f":"IF(DMA!G414=\"\",\"\",DMA!G414)","v":""},null,{"$f":"IF(DMA!J414=\"\",\"\",DMA!J414)","v":""}]
[null,null,null,null,null,null,null,null,null,null,null,null,null,null,null,null,null,null,null,null,null,null,null,null,null,null,1,{"$f":"IF(DMA!A415=\"\",\"\",DMA!A415)","v":""},{"$f":"IF(DMA!$B415=\"\",\"\",DMA!$B415/5*100)","v":""},{"$f":"IF(DMA!G415=\"\",\"\",DMA!G415)","v":""},null,{"$f":"IF(DMA!J415=\"\",\"\",DMA!J415)","v":""}]
[null,null,null,null,null,null,null,null,null,null,null,null,null,null,null,null,null,null,null,null,null,null,null,null,null,null,1,{"$f":"IF(DMA!A416=\"\",\"\",DMA!A416)","v":""},{"$f":"IF(DMA!$B416=\"\",\"\",DMA!$B416/5*100)","v":""},{"$f":"IF(DMA!G416=\"\",\"\",DMA!G416)","v":""},null,{"$f":"IF(DMA!J416=\"\",\"\",DMA!J416)","v":""}]
[null,null,null,null,null,null,null,null,null,null,null,null,null,null,null,null,null,null,null,null,null,null,null,null,null,null,1,{"$f":"IF(DMA!A417=\"\",\"\",DMA!A417)","v":""},{"$f":"IF(DMA!$B417=\"\",\"\",DMA!$B417/5*100)","v":""},{"$f":"IF(DMA!G417=\"\",\"\",DMA!G417)","v":""},null,{"$f":"IF(DMA!J417=\"\",\"\",DMA!J417)","v":""}]
[null,null,null,null,null,null,null,null,null,null,null,null,null,null,null,null,null,null,null,null,null,null,null,null,null,null,1,{"$f":"IF(DMA!A418=\"\",\"\",DMA!A418)","v":""},{"$f":"IF(DMA!$B418=\"\",\"\",DMA!$B418/5*100)","v":""},{"$f":"IF(DMA!G418=\"\",\"\",DMA!G418)","v":""},null,{"$f":"IF(DMA!J418=\"\",\"\",DMA!J418)","v":""}]
[null,null,null,null,null,null,null,null,null,null,null,null,null,null,null,null,null,null,null,null,null,null,null,null,null,null,1,{"$f":"IF(DMA!A419=\"\",\"\",DMA!A419)","v":""},{"$f":"IF(DMA!$B419=\"\",\"\",DMA!$B419/5*100)","v":""},{"$f":"IF(DMA!G419=\"\",\"\",DMA!G419)","v":""},null,{"$f":"IF(DMA!J419=\"\",\"\",DMA!J419)","v":""}]
[null,null,null,null,null,null,null,null,null,null,null,null,null,null,null,null,null,null,null,null,null,null,null,null,null,null,1,{"$f":"IF(DMA!A420=\"\",\"\",DMA!A420)","v":""},{"$f":"IF(DMA!$B420=\"\",\"\",DMA!$B420/5*100)","v":""},{"$f":"IF(DMA!G420=\"\",\"\",DMA!G420)","v":""},null,{"$f":"IF(DMA!J420=\"\",\"\",DMA!J420)","v":""}]
[null,null,null,null,null,null,null,null,null,null,null,null,null,null,null,null,null,null,null,null,null,null,null,null,null,null,1,{"$f":"IF(DMA!A421=\"\",\"\",DMA!A421)","v":""},{"$f":"IF(DMA!$B421=\"\",\"\",DMA!$B421/5*100)","v":""},{"$f":"IF(DMA!G421=\"\",\"\",DMA!G421)","v":""},null,{"$f":"IF(DMA!J421=\"\",\"\",DMA!J421)","v":""}]
[null,null,null,null,null,null,null,null,null,null,null,null,null,null,null,null,null,null,null,null,null,null,null,null,null,null,1,{"$f":"IF(DMA!A422=\"\",\"\",DMA!A422)","v":""},{"$f":"IF(DMA!$B422=\"\",\"\",DMA!$B422/5*100)","v":""},{"$f":"IF(DMA!G422=\"\",\"\",DMA!G422)","v":""},null,{"$f":"IF(DMA!J422=\"\",\"\",DMA!J422)","v":""}]
[null,null,null,null,null,null,null,null,null,null,null,null,null,null,null,null,null,null,null,null,null,null,null,null,null,null,1,{"$f":"IF(DMA!A423=\"\",\"\",DMA!A423)","v":""},{"$f":"IF(DMA!$B423=\"\",\"\",DMA!$B423/5*100)","v":""},{"$f":"IF(DMA!G423=\"\",\"\",DMA!G423)","v":""},null,{"$f":"IF(DMA!J423=\"\",\"\",DMA!J423)","v":""}]
[null,null,null,null,null,null,null,null,null,null,null,null,null,null,null,null,null,null,null,null,null,null,null,null,null,null,1,{"$f":"IF(DMA!A424=\"\",\"\",DMA!A424)","v":""},{"$f":"IF(DMA!$B424=\"\",\"\",DMA!$B424/5*100)","v":""},{"$f":"IF(DMA!G424=\"\",\"\",DMA!G424)","v":""},null,{"$f":"IF(DMA!J424=\"\",\"\",DMA!J424)","v":""}]
[null,null,null,null,null,null,null,null,null,null,null,null,null,null,null,null,null,null,null,null,null,null,null,null,null,null,1,{"$f":"IF(DMA!A425=\"\",\"\",DMA!A425)","v":""},{"$f":"IF(DMA!$B425=\"\",\"\",DMA!$B425/5*100)","v":""},{"$f":"IF(DMA!G425=\"\",\"\",DMA!G425)","v":""},null,{"$f":"IF(DMA!J425=\"\",\"\",DMA!J425)","v":""}]
[null,null,null,null,null,null,null,null,null,null,null,null,null,null,null,null,null,null,null,null,null,null,null,null,null,null,1,{"$f":"IF(DMA!A426=\"\",\"\",DMA!A426)","v":""},{"$f":"IF(DMA!$B426=\"\",\"\",DMA!$B426/5*100)","v":""},{"$f":"IF(DMA!G426=\"\",\"\",DMA!G426)","v":""},null,{"$f":"IF(DMA!J426=\"\",\"\",DMA!J426)","v":""}]
[null,null,null,null,null,null,null,null,null,null,null,null,null,null,null,null,null,null,null,null,null,null,null,null,null,null,1,{"$f":"IF(DMA!A427=\"\",\"\",DMA!A427)","v":""},{"$f":"IF(DMA!$B427=\"\",\"\",DMA!$B427/5*100)","v":""},{"$f":"IF(DMA!G427=\"\",\"\",DMA!G427)","v":""},null,{"$f":"IF(DMA!J427=\"\",\"\",DMA!J427)","v":""}]
[null,null,null,null,null,null,null,null,null,null,null,null,null,null,null,null,null,null,null,null,null,null,null,null,null,null,1,{"$f":"IF(DMA!A428=\"\",\"\",DMA!A428)","v":""},{"$f":"IF(DMA!$B428=\"\",\"\",DMA!$B428/5*100)","v":""},{"$f":"IF(DMA!G428=\"\",\"\",DMA!G428)","v":""},null,{"$f":"IF(DMA!J428=\"\",\"\",DMA!J428)","v":""}]
[null,null,null,null,null,null,null,null,null,null,null,null,null,null,null,null,null,null,null,null,null,null,null,null,null,null,1,{"$f":"IF(DMA!A429=\"\",\"\",DMA!A429)","v":""},{"$f":"IF(DMA!$B429=\"\",\"\",DMA!$B429/5*100)","v":""},{"$f":"IF(DMA!G429=\"\",\"\",DMA!G429)","v":""},null,{"$f":"IF(DMA!J429=\"\",\"\",DMA!J429)","v":""}]
[null,null,null,null,null,null,null,null,null,null,null,null,null,null,null,null,null,null,null,null,null,null,null,null,null,null,1,{"$f":"IF(DMA!A430=\"\",\"\",DMA!A430)","v":""},{"$f":"IF(DMA!$B430=\"\",\"\",DMA!$B430/5*100)","v":""},{"$f":"IF(DMA!G430=\"\",\"\",DMA!G430)","v":""},null,{"$f":"IF(DMA!J430=\"\",\"\",DMA!J430)","v":""}]
[null,null,null,null,null,null,null,null,null,null,null,null,null,null,null,null,null,null,null,null,null,null,null,null,null,null,1,{"$f":"IF(DMA!A431=\"\",\"\",DMA!A431)","v":""},{"$f":"IF(DMA!$B431=\"\",\"\",DMA!$B431/5*100)","v":""},{"$f":"IF(DMA!G431=\"\",\"\",DMA!G431)","v":""},null,{"$f":"IF(DMA!J431=\"\",\"\",DMA!J431)","v":""}]
[null,null,null,null,null,null,null,null,null,null,null,null,null,null,null,null,null,null,null,null,null,null,null,null,null,null,1,{"$f":"IF(DMA!A432=\"\",\"\",DMA!A432)","v":""},{"$f":"IF(DMA!$B432=\"\",\"\",DMA!$B432/5*100)","v":""},{"$f":"IF(DMA!G432=\"\",\"\",DMA!G432)","v":""},null,{"$f":"IF(DMA!J432=\"\",\"\",DMA!J432)","v":""}]
[null,null,null,null,null,null,null,null,null,null,null,null,null,null,null,null,null,null,null,null,null,null,null,null,null,null,1,{"$f":"IF(DMA!A433=\"\",\"\",DMA!A433)","v":""},{"$f":"IF(DMA!$B433=\"\",\"\",DMA!$B433/5*100)","v":""},{"$f":"IF(DMA!G433=\"\",\"\",DMA!G433)","v":""},null,{"$f":"IF(DMA!J433=\"\",\"\",DMA!J433)","v":""}]
[null,null,null,null,null,null,null,null,null,null,null,null,null,null,null,null,null,null,null,null,null,null,null,null,null,null,1,{"$f":"IF(DMA!A434=\"\",\"\",DMA!A434)","v":""},{"$f":"IF(DMA!$B434=\"\",\"\",DMA!$B434/5*100)","v":""},{"$f":"IF(DMA!G434=\"\",\"\",DMA!G434)","v":""},null,{"$f":"IF(DMA!J434=\"\",\"\",DMA!J434)","v":""}]
[null,null,null,null,null,null,null,null,null,null,null,null,null,null,null,null,null,null,null,null,null,null,null,null,null,null,1,{"$f":"IF(DMA!A435=\"\",\"\",DMA!A435)","v":""},{"$f":"IF(DMA!$B435=\"\",\"\",DMA!$B435/5*100)","v":""},{"$f":"IF(DMA!G435=\"\",\"\",DMA!G435)","v":""},null,{"$f":"IF(DMA!J435=\"\",\"\",DMA!J435)","v":""}]
[null,null,null,null,null,null,null,null,null,null,null,null,null,null,null,null,null,null,null,null,null,null,null,null,null,null,1,{"$f":"IF(DMA!A436=\"\",\"\",DMA!A436)","v":""},{"$f":"IF(DMA!$B436=\"\",\"\",DMA!$B436/5*100)","v":""},{"$f":"IF(DMA!G436=\"\",\"\",DMA!G436)","v":""},null,{"$f":"IF(DMA!J436=\"\",\"\",DMA!J436)","v":""}]
[null,null,null,null,null,null,null,null,null,null,null,null,null,null,null,null,null,null,null,null,null,null,null,null,null,null,1,{"$f":"IF(DMA!A437=\"\",\"\",DMA!A437)","v":""},{"$f":"IF(DMA!$B437=\"\",\"\",DMA!$B437/5*100)","v":""},{"$f":"IF(DMA!G437=\"\",\"\",DMA!G437)","v":""},null,{"$f":"IF(DMA!J437=\"\",\"\",DMA!J437)","v":""}]
[null,null,null,null,null,null,null,null,null,null,null,null,null,null,null,null,null,null,null,null,null,null,null,null,null,null,1,{"$f":"IF(DMA!A438=\"\",\"\",DMA!A438)","v":""},{"$f":"IF(DMA!$B438=\"\",\"\",DMA!$B438/5*100)","v":""},{"$f":"IF(DMA!G438=\"\",\"\",DMA!G438)","v":""},null,{"$f":"IF(DMA!J438=\"\",\"\",DMA!J438)","v":""}]
[null,null,null,null,null,null,null,null,null,null,null,null,null,null,null,null,null,null,null,null,null,null,null,null,null,null,1,{"$f":"IF(DMA!A439=\"\",\"\",DMA!A439)","v":""},{"$f":"IF(DMA!$B439=\"\",\"\",DMA!$B439/5*100)","v":""},{"$f":"IF(DMA!G439=\"\",\"\",DMA!G439)","v":""},null,{"$f":"IF(DMA!J439=\"\",\"\",DMA!J439)","v":""}]
[null,null,null,null,null,null,null,null,null,null,null,null,null,null,null,null,null,null,null,null,null,null,null,null,null,null,1,{"$f":"IF(DMA!A440=\"\",\"\",DMA!A440)","v":""},{"$f":"IF(DMA!$B440=\"\",\"\",DMA!$B440/5*100)","v":""},{"$f":"IF(DMA!G440=\"\",\"\",DMA!G440)","v":""},null,{"$f":"IF(DMA!J440=\"\",\"\",DMA!J440)","v":""}]
[null,null,null,null,null,null,null,null,null,null,null,null,null,null,null,null,null,null,null,null,null,null,null,null,null,null,1,{"$f":"IF(DMA!A441=\"\",\"\",DMA!A441)","v":""},{"$f":"IF(DMA!$B441=\"\",\"\",DMA!$B441/5*100)","v":""},{"$f":"IF(DMA!G441=\"\",\"\",DMA!G441)","v":""},null,{"$f":"IF(DMA!J441=\"\",\"\",DMA!J441)","v":""}]
[null,null,null,null,null,null,null,null,null,null,null,null,null,null,null,null,null,null,null,null,null,null,null,null,null,null,1,{"$f":"IF(DMA!A442=\"\",\"\",DMA!A442)","v":""},{"$f":"IF(DMA!$B442=\"\",\"\",DMA!$B442/5*100)","v":""},{"$f":"IF(DMA!G442=\"\",\"\",DMA!G442)","v":""},null,{"$f":"IF(DMA!J442=\"\",\"\",DMA!J442)","v":""}]
[null,null,null,null,null,null,null,null,null,null,null,null,null,null,null,null,null,null,null,null,null,null,null,null,null,null,1,{"$f":"IF(DMA!A443=\"\",\"\",DMA!A443)","v":""},{"$f":"IF(DMA!$B443=\"\",\"\",DMA!$B443/5*100)","v":""},{"$f":"IF(DMA!G443=\"\",\"\",DMA!G443)","v":""},null,{"$f":"IF(DMA!J443=\"\",\"\",DMA!J443)","v":""}]
[null,null,null,null,null,null,null,null,null,null,null,null,null,null,null,null,null,null,null,null,null,null,null,null,null,null,1,{"$f":"IF(DMA!A444=\"\",\"\",DMA!A444)","v":""},{"$f":"IF(DMA!$B444=\"\",\"\",DMA!$B444/5*100)","v":""},{"$f":"IF(DMA!G444=\"\",\"\",DMA!G444)","v":""},null,{"$f":"IF(DMA!J444=\"\",\"\",DMA!J444)","v":""}]
[null,null,null,null,null,null,null,null,null,null,null,null,null,null,null,null,null,null,null,null,null,null,null,null,null,null,1,{"$f":"IF(DMA!A445=\"\",\"\",DMA!A445)","v":""},{"$f":"IF(DMA!$B445=\"\",\"\",DMA!$B445/5*100)","v":""},{"$f":"IF(DMA!G445=\"\",\"\",DMA!G445)","v":""},null,{"$f":"IF(DMA!J445=\"\",\"\",DMA!J445)","v":""}]
[null,null,null,null,null,null,null,null,null,null,null,null,null,null,null,null,null,null,null,null,null,null,null,null,null,null,1,{"$f":"IF(DMA!A446=\"\",\"\",DMA!A446)","v":""},{"$f":"IF(DMA!$B446=\"\",\"\",DMA!$B446/5*100)","v":""},{"$f":"IF(DMA!G446=\"\",\"\",DMA!G446)","v":""},null,{"$f":"IF(DMA!J446=\"\",\"\",DMA!J446)","v":""}]
[null,null,null,null,null,null,null,null,null,null,null,null,null,null,null,null,null,null,null,null,null,null,null,null,null,null,1,{"$f":"IF(DMA!A447=\"\",\"\",DMA!A447)","v":""},{"$f":"IF(DMA!$B447=\"\",\"\",DMA!$B447/5*100)","v":""},{"$f":"IF(DMA!G447=\"\",\"\",DMA!G447)","v":""},null,{"$f":"IF(DMA!J447=\"\",\"\",DMA!J447)","v":""}]
[null,null,null,null,null,null,null,null,null,null,null,null,null,null,null,null,null,null,null,null,null,null,null,null,null,null,1,{"$f":"IF(DMA!A448=\"\",\"\",DMA!A448)","v":""},{"$f":"IF(DMA!$B448=\"\",\"\",DMA!$B448/5*100)","v":""},{"$f":"IF(DMA!G448=\"\",\"\",DMA!G448)","v":""},null,{"$f":"IF(DMA!J448=\"\",\"\",DMA!J448)","v":""}]
[null,null,null,null,null,null,null,null,null,null,null,null,null,null,null,null,null,null,null,null,null,null,null,null,null,null,1,{"$f":"IF(DMA!A449=\"\",\"\",DMA!A449)","v":""},{"$f":"IF(DMA!$B449=\"\",\"\",DMA!$B449/5*100)","v":""},{"$f":"IF(DMA!G449=\"\",\"\",DMA!G449)","v":""},null,{"$f":"IF(DMA!J449=\"\",\"\",DMA!J449)","v":""}]
[null,null,null,null,null,null,null,null,null,null,null,null,null,null,null,null,null,null,null,null,null,null,null,null,null,null,1,{"$f":"IF(DMA!A450=\"\",\"\",DMA!A450)","v":""},{"$f":"IF(DMA!$B450=\"\",\"\",DMA!$B450/5*100)","v":""},{"$f":"IF(DMA!G450=\"\",\"\",DMA!G450)","v":""},null,{"$f":"IF(DMA!J450=\"\",\"\",DMA!J450)","v":""}]
[null,null,null,null,null,null,null,null,null,null,null,null,null,null,null,null,null,null,null,null,null,null,null,null,null,null,1,{"$f":"IF(DMA!A451=\"\",\"\",DMA!A451)","v":""},{"$f":"IF(DMA!$B451=\"\",\"\",DMA!$B451/5*100)","v":""},{"$f":"IF(DMA!G451=\"\",\"\",DMA!G451)","v":""},null,{"$f":"IF(DMA!J451=\"\",\"\",DMA!J451)","v":""}]
[null,null,null,null,null,null,null,null,null,null,null,null,null,null,null,null,null,null,null,null,null,null,null,null,null,null,1,{"$f":"IF(DMA!A452=\"\",\"\",DMA!A452)","v":""},{"$f":"IF(DMA!$B452=\"\",\"\",DMA!$B452/5*100)","v":""},{"$f":"IF(DMA!G452=\"\",\"\",DMA!G452)","v":""},null,{"$f":"IF(DMA!J452=\"\",\"\",DMA!J452)","v":""}]
[null,null,null,null,null,null,null,null,null,null,null,null,null,null,null,null,null,null,null,null,null,null,null,null,null,null,1,{"$f":"IF(DMA!A453=\"\",\"\",DMA!A453)","v":""},{"$f":"IF(DMA!$B453=\"\",\"\",DMA!$B453/5*100)","v":""},{"$f":"IF(DMA!G453=\"\",\"\",DMA!G453)","v":""},null,{"$f":"IF(DMA!J453=\"\",\"\",DMA!J453)","v":""}]
[null,null,null,null,null,null,null,null,null,null,null,null,null,null,null,null,null,null,null,null,null,null,null,null,null,null,1,{"$f":"IF(DMA!A454=\"\",\"\",DMA!A454)","v":""},{"$f":"IF(DMA!$B454=\"\",\"\",DMA!$B454/5*100)","v":""},{"$f":"IF(DMA!G454=\"\",\"\",DMA!G454)","v":""},null,{"$f":"IF(DMA!J454=\"\",\"\",DMA!J454)","v":""}]
[null,null,null,null,null,null,null,null,null,null,null,null,null,null,null,null,null,null,null,null,null,null,null,null,null,null,{"$f":"IF(AB452=AA451+1,AB452,AA451)","v":1},{"$f":"IF(DMA!A455=\"\",\"\",DMA!A455)","v":""},{"$f":"IF(DMA!$B455=\"\",\"\",DMA!$B455/5*100)","v":""},{"$f":"IF(DMA!G455=\"\",\"\",DMA!G455)","v":""},null,{"$f":"IF(DMA!J455=\"\",\"\",DMA!J455)","v":""}]
[null,null,null,null,null,null,null,null,null,null,null,null,null,null,null,null,null,null,null,null,null,null,null,null,null,null,1,{"$f":"IF(DMA!A456=\"\",\"\",DMA!A456)","v":""},{"$f":"IF(DMA!$B456=\"\",\"\",DMA!$B456/5*100)","v":""},{"$f":"IF(DMA!G456=\"\",\"\",DMA!G456)","v":""},null,{"$f":"IF(DMA!J456=\"\",\"\",DMA!J456)","v":""}]
[null,null,null,null,null,null,null,null,null,null,null,null,null,null,null,null,null,null,null,null,null,null,null,null,null,null,1,{"$f":"IF(DMA!A457=\"\",\"\",DMA!A457)","v":""},{"$f":"IF(DMA!$B457=\"\",\"\",DMA!$B457/5*100)","v":""},{"$f":"IF(DMA!G457=\"\",\"\",DMA!G457)","v":""},null,{"$f":"IF(DMA!J457=\"\",\"\",DMA!J457)","v":""}]
[null,null,null,null,null,null,null,null,null,null,null,null,null,null,null,null,null,null,null,null,null,null,null,null,null,null,1,{"$f":"IF(DMA!A458=\"\",\"\",DMA!A458)","v":""},{"$f":"IF(DMA!$B458=\"\",\"\",DMA!$B458/5*100)","v":""},{"$f":"IF(DMA!G458=\"\",\"\",DMA!G458)","v":""},null,{"$f":"IF(DMA!J458=\"\",\"\",DMA!J458)","v":""}]
[null,null,null,null,null,null,null,null,null,null,null,null,null,null,null,null,null,null,null,null,null,null,null,null,null,null,1,{"$f":"IF(DMA!A459=\"\",\"\",DMA!A459)","v":""},{"$f":"IF(DMA!$B459=\"\",\"\",DMA!$B459/5*100)","v":""},{"$f":"IF(DMA!G459=\"\",\"\",DMA!G459)","v":""},null,{"$f":"IF(DMA!J459=\"\",\"\",DMA!J459)","v":""}]
[null,null,null,null,null,null,null,null,null,null,null,null,null,null,null,null,null,null,null,null,null,null,null,null,null,null,1,{"$f":"IF(DMA!A460=\"\",\"\",DMA!A460)","v":""},{"$f":"IF(DMA!$B460=\"\",\"\",DMA!$B460/5*100)","v":""},{"$f":"IF(DMA!G460=\"\",\"\",DMA!G460)","v":""},null,{"$f":"IF(DMA!J460=\"\",\"\",DMA!J460)","v":""}]
[null,null,null,null,null,null,null,null,null,null,null,null,null,null,null,null,null,null,null,null,null,null,null,null,null,null,1,{"$f":"IF(DMA!A461=\"\",\"\",DMA!A461)","v":""},{"$f":"IF(DMA!$B461=\"\",\"\",DMA!$B461/5*100)","v":""},{"$f":"IF(DMA!G461=\"\",\"\",DMA!G461)","v":""},null,{"$f":"IF(DMA!J461=\"\",\"\",DMA!J461)","v":""}]
[null,null,null,null,null,null,null,null,null,null,null,null,null,null,null,null,null,null,null,null,null,null,null,null,null,null,1,{"$f":"IF(DMA!A462=\"\",\"\",DMA!A462)","v":""},{"$f":"IF(DMA!$B462=\"\",\"\",DMA!$B462/5*100)","v":""},{"$f":"IF(DMA!G462=\"\",\"\",DMA!G462)","v":""},null,{"$f":"IF(DMA!J462=\"\",\"\",DMA!J462)","v":""}]
[null,null,null,null,null,null,null,null,null,null,null,null,null,null,null,null,null,null,null,null,null,null,null,null,null,null,1,{"$f":"IF(DMA!A463=\"\",\"\",DMA!A463)","v":""},{"$f":"IF(DMA!$B463=\"\",\"\",DMA!$B463/5*100)","v":""},{"$f":"IF(DMA!G463=\"\",\"\",DMA!G463)","v":""},null,{"$f":"IF(DMA!J463=\"\",\"\",DMA!J463)","v":""}]
[null,null,null,null,null,null,null,null,null,null,null,null,null,null,null,null,null,null,null,null,null,null,null,null,null,null,1,{"$f":"IF(DMA!A464=\"\",\"\",DMA!A464)","v":""},{"$f":"IF(DMA!$B464=\"\",\"\",DMA!$B464/5*100)","v":""},{"$f":"IF(DMA!G464=\"\",\"\",DMA!G464)","v":""},null,{"$f":"IF(DMA!J464=\"\",\"\",DMA!J464)","v":""}]
[null,null,null,null,null,null,null,null,null,null,null,null,null,null,null,null,null,null,null,null,null,null,null,null,null,null,1,{"$f":"IF(DMA!A465=\"\",\"\",DMA!A465)","v":""},{"$f":"IF(DMA!$B465=\"\",\"\",DMA!$B465/5*100)","v":""},{"$f":"IF(DMA!G465=\"\",\"\",DMA!G465)","v":""},null,{"$f":"IF(DMA!J465=\"\",\"\",DMA!J465)","v":""}]
[null,null,null,null,null,null,null,null,null,null,null,null,null,null,null,null,null,null,null,null,null,null,null,null,null,null,1,{"$f":"IF(DMA!A466=\"\",\"\",DMA!A466)","v":""},{"$f":"IF(DMA!$B466=\"\",\"\",DMA!$B466/5*100)","v":""},{"$f":"IF(DMA!G466=\"\",\"\",DMA!G466)","v":""},null,{"$f":"IF(DMA!J466=\"\",\"\",DMA!J466)","v":""}]
[null,null,null,null,null,null,null,null,null,null,null,null,null,null,null,null,null,null,null,null,null,null,null,null,null,null,1,{"$f":"IF(DMA!A467=\"\",\"\",DMA!A467)","v":""},{"$f":"IF(DMA!$B467=\"\",\"\",DMA!$B467/5*100)","v":""},{"$f":"IF(DMA!G467=\"\",\"\",DMA!G467)","v":""},null,{"$f":"IF(DMA!J467=\"\",\"\",DMA!J467)","v":""}]
[null,null,null,null,null,null,null,null,null,null,null,null,null,null,null,null,null,null,null,null,null,null,null,null,null,null,1,{"$f":"IF(DMA!A468=\"\",\"\",DMA!A468)","v":""},{"$f":"IF(DMA!$B468=\"\",\"\",DMA!$B468/5*100)","v":""},{"$f":"IF(DMA!G468=\"\",\"\",DMA!G468)","v":""},null,{"$f":"IF(DMA!J468=\"\",\"\",DMA!J468)","v":""}]
[null,null,null,null,null,null,null,null,null,null,null,null,null,null,null,null,null,null,null,null,null,null,null,null,null,null,1,{"$f":"IF(DMA!A469=\"\",\"\",DMA!A469)","v":""},{"$f":"IF(DMA!$B469=\"\",\"\",DMA!$B469/5*100)","v":""},{"$f":"IF(DMA!G469=\"\",\"\",DMA!G469)","v":""},null,{"$f":"IF(DMA!J469=\"\",\"\",DMA!J469)","v":""}]
[null,null,null,null,null,null,null,null,null,null,null,null,null,null,null,null,null,null,null,null,null,null,null,null,null,null,1,{"$f":"IF(DMA!A470=\"\",\"\",DMA!A470)","v":""},{"$f":"IF(DMA!$B470=\"\",\"\",DMA!$B470/5*100)","v":""},{"$f":"IF(DMA!G470=\"\",\"\",DMA!G470)","v":""},null,{"$f":"IF(DMA!J470=\"\",\"\",DMA!J470)","v":""}]
[null,null,null,null,null,null,null,null,null,null,null,null,null,null,null,null,null,null,null,null,null,null,null,null,null,null,1,{"$f":"IF(DMA!A471=\"\",\"\",DMA!A471)","v":""},{"$f":"IF(DMA!$B471=\"\",\"\",DMA!$B471/5*100)","v":""},{"$f":"IF(DMA!G471=\"\",\"\",DMA!G471)","v":""},null,{"$f":"IF(DMA!J471=\"\",\"\",DMA!J471)","v":""}]
[null,null,null,null,null,null,null,null,null,null,null,null,null,null,null,null,null,null,null,null,null,null,null,null,null,null,1,{"$f":"IF(DMA!A472=\"\",\"\",DMA!A472)","v":""},{"$f":"IF(DMA!$B472=\"\",\"\",DMA!$B472/5*100)","v":""},{"$f":"IF(DMA!G472=\"\",\"\",DMA!G472)","v":""},null,{"$f":"IF(DMA!J472=\"\",\"\",DMA!J472)","v":""}]
[null,null,null,null,null,null,null,null,null,null,null,null,null,null,null,null,null,null,null,null,null,null,null,null,null,null,1,{"$f":"IF(DMA!A473=\"\",\"\",DMA!A473)","v":""},{"$f":"IF(DMA!$B473=\"\",\"\",DMA!$B473/5*100)","v":""},{"$f":"IF(DMA!G473=\"\",\"\",DMA!G473)","v":""},null,{"$f":"IF(DMA!J473=\"\",\"\",DMA!J473)","v":""}]
[null,null,null,null,null,null,null,null,null,null,null,null,null,null,null,null,null,null,null,null,null,null,null,null,null,null,1,{"$f":"IF(DMA!A474=\"\",\"\",DMA!A474)","v":""},{"$f":"IF(DMA!$B474=\"\",\"\",DMA!$B474/5*100)","v":""},{"$f":"IF(DMA!G474=\"\",\"\",DMA!G474)","v":""},null,{"$f":"IF(DMA!J474=\"\",\"\",DMA!J474)","v":""}]
[null,null,null,null,null,null,null,null,null,null,null,null,null,null,null,null,null,null,null,null,null,null,null,null,null,null,1,{"$f":"IF(DMA!A475=\"\",\"\",DMA!A475)","v":""},{"$f":"IF(DMA!$B475=\"\",\"\",DMA!$B475/5*100)","v":""},{"$f":"IF(DMA!G475=\"\",\"\",DMA!G475)","v":""},null,{"$f":"IF(DMA!J475=\"\",\"\",DMA!J475)","v":""}]
[null,null,null,null,null,null,null,null,null,null,null,null,null,null,null,null,null,null,null,null,null,null,null,null,null,null,1,{"$f":"IF(DMA!A476=\"\",\"\",DMA!A476)","v":""},{"$f":"IF(DMA!$B476=\"\",\"\",DMA!$B476/5*100)","v":""},{"$f":"IF(DMA!G476=\"\",\"\",DMA!G476)","v":""},null,{"$f":"IF(DMA!J476=\"\",\"\",DMA!J476)","v":""}]
[null,null,null,null,null,null,null,null,null,null,null,null,null,null,null,null,null,null,null,null,null,null,null,null,null,null,1,{"$f":"IF(DMA!A477=\"\",\"\",DMA!A477)","v":""},{"$f":"IF(DMA!$B477=\"\",\"\",DMA!$B477/5*100)","v":""},{"$f":"IF(DMA!G477=\"\",\"\",DMA!G477)","v":""},null,{"$f":"IF(DMA!J477=\"\",\"\",DMA!J477)","v":""}]
[null,null,null,null,null,null,null,null,null,null,null,null,null,null,null,null,null,null,null,null,null,null,null,null,null,null,1,{"$f":"IF(DMA!A478=\"\",\"\",DMA!A478)","v":""},{"$f":"IF(DMA!$B478=\"\",\"\",DMA!$B478/5*100)","v":""},{"$f":"IF(DMA!G478=\"\",\"\",DMA!G478)","v":""},null,{"$f":"IF(DMA!J478=\"\",\"\",DMA!J478)","v":""}]
[null,null,null,null,null,null,null,null,null,null,null,null,null,null,null,null,null,null,null,null,null,null,null,null,null,null,1,{"$f":"IF(DMA!A479=\"\",\"\",DMA!A479)","v":""},{"$f":"IF(DMA!$B479=\"\",\"\",DMA!$B479/5*100)","v":""},{"$f":"IF(DMA!G479=\"\",\"\",DMA!G479)","v":""},null,{"$f":"IF(DMA!J479=\"\",\"\",DMA!J479)","v":""}]
[null,null,null,null,null,null,null,null,null,null,null,null,null,null,null,null,null,null,null,null,null,null,null,null,null,null,1,{"$f":"IF(DMA!A480=\"\",\"\",DMA!A480)","v":""},{"$f":"IF(DMA!$B480=\"\",\"\",DMA!$B480/5*100)","v":""},{"$f":"IF(DMA!G480=\"\",\"\",DMA!G480)","v":""},null,{"$f":"IF(DMA!J480=\"\",\"\",DMA!J480)","v":""}]
[null,null,null,null,null,null,null,null,null,null,null,null,null,null,null,null,null,null,null,null,null,null,null,null,null,null,1,{"$f":"IF(DMA!A481=\"\",\"\",DMA!A481)","v":""},{"$f":"IF(DMA!$B481=\"\",\"\",DMA!$B481/5*100)","v":""},{"$f":"IF(DMA!G481=\"\",\"\",DMA!G481)","v":""},null,{"$f":"IF(DMA!J481=\"\",\"\",DMA!J481)","v":""}]
[null,null,null,null,null,null,null,null,null,null,null,null,null,null,null,null,null,null,null,null,null,null,null,null,null,null,1,{"$f":"IF(DMA!A482=\"\",\"\",DMA!A482)","v":""},{"$f":"IF(DMA!$B482=\"\",\"\",DMA!$B482/5*100)","v":""},{"$f":"IF(DMA!G482=\"\",\"\",DMA!G482)","v":""},null,{"$f":"IF(DMA!J482=\"\",\"\",DMA!J482)","v":""}]
[null,null,null,null,null,null,null,null,null,null,null,null,null,null,null,null,null,null,null,null,null,null,null,null,null,null,1,{"$f":"IF(DMA!A483=\"\",\"\",DMA!A483)","v":""},{"$f":"IF(DMA!$B483=\"\",\"\",DMA!$B483/5*100)","v":""},{"$f":"IF(DMA!G483=\"\",\"\",DMA!G483)","v":""},null,{"$f":"IF(DMA!J483=\"\",\"\",DMA!J483)","v":""}]
[null,null,null,null,null,null,null,null,null,null,null,null,null,null,null,null,null,null,null,null,null,null,null,null,null,null,1,{"$f":"IF(DMA!A484=\"\",\"\",DMA!A484)","v":""},{"$f":"IF(DMA!$B484=\"\",\"\",DMA!$B484/5*100)","v":""},{"$f":"IF(DMA!G484=\"\",\"\",DMA!G484)","v":""},null,{"$f":"IF(DMA!J484=\"\",\"\",DMA!J484)","v":""}]
[null,null,null,null,null,null,null,null,null,null,null,null,null,null,null,null,null,null,null,null,null,null,null,null,null,null,1,{"$f":"IF(DMA!A485=\"\",\"\",DMA!A485)","v":""},{"$f":"IF(DMA!$B485=\"\",\"\",DMA!$B485/5*100)","v":""},{"$f":"IF(DMA!G485=\"\",\"\",DMA!G485)","v":""},null,{"$f":"IF(DMA!J485=\"\",\"\",DMA!J485)","v":""}]
[null,null,null,null,null,null,null,null,null,null,null,null,null,null,null,null,null,null,null,null,null,null,null,null,null,null,1,{"$f":"IF(DMA!A486=\"\",\"\",DMA!A486)","v":""},{"$f":"IF(DMA!$B486=\"\",\"\",DMA!$B486/5*100)","v":""},{"$f":"IF(DMA!G486=\"\",\"\",DMA!G486)","v":""},null,{"$f":"IF(DMA!J486=\"\",\"\",DMA!J486)","v":""}]
[null,null,null,null,null,null,null,null,null,null,null,null,null,null,null,null,null,null,null,null,null,null,null,null,null,null,1,{"$f":"IF(DMA!A487=\"\",\"\",DMA!A487)","v":""},{"$f":"IF(DMA!$B487=\"\",\"\",DMA!$B487/5*100)","v":""},{"$f":"IF(DMA!G487=\"\",\"\",DMA!G487)","v":""},null,{"$f":"IF(DMA!J487=\"\",\"\",DMA!J487)","v":""}]
[null,null,null,null,null,null,null,null,null,null,null,null,null,null,null,null,null,null,null,null,null,null,null,null,null,null,1,{"$f":"IF(DMA!A488=\"\",\"\",DMA!A488)","v":""},{"$f":"IF(DMA!$B488=\"\",\"\",DMA!$B488/5*100)","v":""},{"$f":"IF(DMA!G488=\"\",\"\",DMA!G488)","v":""},null,{"$f":"IF(DMA!J488=\"\",\"\",DMA!J488)","v":""}]
[null,null,null,null,null,null,null,null,null,null,null,null,null,null,null,null,null,null,null,null,null,null,null,null,null,null,1,{"$f":"IF(DMA!A489=\"\",\"\",DMA!A489)","v":""},{"$f":"IF(DMA!$B489=\"\",\"\",DMA!$B489/5*100)","v":""},{"$f":"IF(DMA!G489=\"\",\"\",DMA!G489)","v":""},null,{"$f":"IF(DMA!J489=\"\",\"\",DMA!J489)","v":""}]
[null,null,null,null,null,null,null,null,null,null,null,null,null,null,null,null,null,null,null,null,null,null,null,null,null,null,1,{"$f":"IF(DMA!A490=\"\",\"\",DMA!A490)","v":""},{"$f":"IF(DMA!$B490=\"\",\"\",DMA!$B490/5*100)","v":""},{"$f":"IF(DMA!G490=\"\",\"\",DMA!G490)","v":""},null,{"$f":"IF(DMA!J490=\"\",\"\",DMA!J490)","v":""}]
[null,null,null,null,null,null,null,null,null,null,null,null,null,null,null,null,null,null,null,null,null,null,null,null,null,null,1,{"$f":"IF(DMA!A491=\"\",\"\",DMA!A491)","v":""},{"$f":"IF(DMA!$B491=\"\",\"\",DMA!$B491/5*100)","v":""},{"$f":"IF(DMA!G491=\"\",\"\",DMA!G491)","v":""},null,{"$f":"IF(DMA!J491=\"\",\"\",DMA!J491)","v":""}]
[null,null,null,null,null,null,null,null,null,null,null,null,null,null,null,null,null,null,null,null,null,null,null,null,null,null,1,{"$f":"IF(DMA!A492=\"\",\"\",DMA!A492)","v":""},{"$f":"IF(DMA!$B492=\"\",\"\",DMA!$B492/5*100)","v":""},{"$f":"IF(DMA!G492=\"\",\"\",DMA!G492)","v":""},null,{"$f":"IF(DMA!J492=\"\",\"\",DMA!J492)","v":""}]
[null,null,null,null,null,null,null,null,null,null,null,null,null,null,null,null,null,null,null,null,null,null,null,null,null,null,1,{"$f":"IF(DMA!A493=\"\",\"\",DMA!A493)","v":""},{"$f":"IF(DMA!$B493=\"\",\"\",DMA!$B493/5*100)","v":""},{"$f":"IF(DMA!G493=\"\",\"\",DMA!G493)","v":""},null,{"$f":"IF(DMA!J493=\"\",\"\",DMA!J493)","v":""}]
[null,null,null,null,null,null,null,null,null,null,null,null,null,null,null,null,null,null,null,null,null,null,null,null,null,null,1,{"$f":"IF(DMA!A494=\"\",\"\",DMA!A494)","v":""},{"$f":"IF(DMA!$B494=\"\",\"\",DMA!$B494/5*100)","v":""},{"$f":"IF(DMA!G494=\"\",\"\",DMA!G494)","v":""},null,{"$f":"IF(DMA!J494=\"\",\"\",DMA!J494)","v":""}]
[null,null,null,null,null,null,null,null,null,null,null,null,null,null,null,null,null,null,null,null,null,null,null,null,null,null,1,{"$f":"IF(DMA!A495=\"\",\"\",DMA!A495)","v":""},{"$f":"IF(DMA!$B495=\"\",\"\",DMA!$B495/5*100)","v":""},{"$f":"IF(DMA!G495=\"\",\"\",DMA!G495)","v":""},null,{"$f":"IF(DMA!J495=\"\",\"\",DMA!J495)","v":""}]
[null,null,null,null,null,null,null,null,null,null,null,null,null,null,null,null,null,null,null,null,null,null,null,null,null,null,1,{"$f":"IF(DMA!A496=\"\",\"\",DMA!A496)","v":""},{"$f":"IF(DMA!$B496=\"\",\"\",DMA!$B496/5*100)","v":""},{"$f":"IF(DMA!G496=\"\",\"\",DMA!G496)","v":""},null,{"$f":"IF(DMA!J496=\"\",\"\",DMA!J496)","v":""}]
[null,null,null,null,null,null,null,null,null,null,null,null,null,null,null,null,null,null,null,null,null,null,null,null,null,null,1,{"$f":"IF(DMA!A497=\"\",\"\",DMA!A497)","v":""},{"$f":"IF(DMA!$B497=\"\",\"\",DMA!$B497/5*100)","v":""},{"$f":"IF(DMA!G497=\"\",\"\",DMA!G497)","v":""},null,{"$f":"IF(DMA!J497=\"\",\"\",DMA!J497)","v":""}]
[null,null,null,null,null,null,null,null,null,null,null,null,null,null,null,null,null,null,null,null,null,null,null,null,null,null,1,{"$f":"IF(DMA!A498=\"\",\"\",DMA!A498)","v":""},{"$f":"IF(DMA!$B498=\"\",\"\",DMA!$B498/5*100)","v":""},{"$f":"IF(DMA!G498=\"\",\"\",DMA!G498)","v":""},null,{"$f":"IF(DMA!J498=\"\",\"\",DMA!J498)","v":""}]
[null,null,null,null,null,null,null,null,null,null,null,null,null,null,null,null,null,null,null,null,null,null,null,null,null,null,1,{"$f":"IF(DMA!A499=\"\",\"\",DMA!A499)","v":""},{"$f":"IF(DMA!$B499=\"\",\"\",DMA!$B499/5*100)","v":""},{"$f":"IF(DMA!G499=\"\",\"\",DMA!G499)","v":""},null,{"$f":"IF(DMA!J499=\"\",\"\",DMA!J499)","v":""}]
[null,null,null,null,null,null,null,null,null,null,null,null,null,null,null,null,null,null,null,null,null,null,null,null,null,null,1,{"$f":"IF(DMA!A500=\"\",\"\",DMA!A500)","v":""},{"$f":"IF(DMA!$B500=\"\",\"\",DMA!$B500/5*100)","v":20},{"$f":"IF(DMA!G500=\"\",\"\",DMA!G500)","v":""},null,{"$f":"IF(DMA!J500=\"\",\"\",DMA!J500)","v":""}]
[null,null,null,null,null,null,null,null,null,null,null,null,null,null,null,null,null,null,null,null,null,null,null,null,null,null,1,{"$f":"IF(DMA!A501=\"\",\"\",DMA!A501)","v":""},{"$f":"IF(DMA!$B501=\"\",\"\",DMA!$B501/5*100)","v":""},{"$f":"IF(DMA!G501=\"\",\"\",DMA!G501)","v":""},null,{"$f":"IF(DMA!J501=\"\",\"\",DMA!J501)","v":""}]
[null,null,null,null,null,null,null,null,null,null,null,null,null,null,null,null,null,null,null,null,null,null,null,null,null,null,1,{"$f":"IF(DMA!A502=\"\",\"\",DMA!A502)","v":""},{"$f":"IF(DMA!$B502=\"\",\"\",DMA!$B502/5*100)","v":""},{"$f":"IF(DMA!G502=\"\",\"\",DMA!G502)","v":""},null,{"$f":"IF(DMA!J502=\"\",\"\",DMA!J502)","v":""}]
[null,null,null,null,null,null,null,null,null,null,null,null,null,null,null,null,null,null,null,null,null,null,null,null,null,null,1,{"$f":"IF(DMA!A503=\"\",\"\",DMA!A503)","v":""},{"$f":"IF(DMA!$B503=\"\",\"\",DMA!$B503/5*100)","v":""},{"$f":"IF(DMA!G503=\"\",\"\",DMA!G503)","v":""},null,{"$f":"IF(DMA!J503=\"\",\"\",DMA!J503)","v":""}]

{"sheet":"Graphs","index":4,"n_rows":208,"n_cols":67,"rows_kept":208,"cut":false,"hidden":false,"merged":[]}
[]
[]
["RIPARIAN VEGETATION VARIABLES",null,null,null,null,null,"Plant Diversity Index ",null,null,null,null,null,null,null,null,null,null,null,null,null,null,null,null,null,null,null,null,null,null,null,null,null,null,null,"FREQUENCY DISTRIBUTIONS"]
[]
[null,null,null,"TOTAL*=",{"$f":"SUM(B13:B199)","v":0},null,{"$f":"IF(A13=\"\",\"\",COUNT(B13:B199)*AVERAGE(B13:B199)/STDEV(B13:B199))","v":""},null,null,null,null,null,null,null,null,null,null,null,null,null,null,null,null,null,null,null,null,null,null,null,null,null,null,null,"Woody Plant Height",null,null,null,null,null,"Percentile Heights"]
[]
[null,null,null,"* If Total is not greater than 100, some species in the data are not accounted for in the analysis.  ",null,null,null,null,null,null,null,null,null,null,null,null,null,null,null,null,null,null,null,null,null,null,null,null,null,null,null,null,null,null,"Class  ","Height range","Total plants","Height","Frequency",null,"85th Percentile","50th Percentile","25th Percentile"]
[null,null,null,"   Check the plant codes to be certain that they are correct.",null,null,null,null,null,null,null,null,null,null,null,null,null,null,null,null,null,null,null,null,null,null,null,null,null,null,null,null,null,null,1,"<.5",{"$f":"COUNTIF(DMA!#REF!,1)","v":{"$error":"#REF!"}},0.4,{"$f":"IF(AK8<>0,100*(AK8/AK$14),\"\")","v":{"$error":"#REF!"}}]
[" ",null,null,"** If corrections are made, clear the Species Plant Code list below then re-run the macro",null,null,null,null,null,null,null,null,null,null,null,null,null,null,null,null,null,null,null,null,null,null,null,null,null,null,null,null,null,null,2,".5 - 1",{"$f":"COUNTIF(DMA!#REF!,2)","v":{"$error":"#REF!"}},0.75,{"$f":"IF(AK9<>0,100*(SUM(AK8:AK9)/AK$14),\"\")","v":{"$error":"#REF!"}},null,{"$f":"IF($AM9>=85,IF($AM8<85,$AL9-(($AM9-85)/($AM9-$AM8)*($AL9-$AL8)),\"\"),\"\")","v":{"$error":"#REF!"}},{"$f":"IF($AM9>=50,IF($AM8<50,$AL9-(($AM9-50)/($AM9-$AM8)*($AL9-$AL8)),\"\"),\"\")","v":{"$error":"#REF!"}},{"$f":"IF($AM9>=25,IF($AM8<25,$AL9-(($AM9-25)/($AM9-$AM8)*($AL9-$AL8)),\"\"),\"\")","v":{"$error":"#REF!"}}]
[null,null,null,null,null,null,null,null,null,null,null,null,null,null,null,null,null,null,null,null,null,null,"              ALL WOODY SPECIES COMBINED",null,null,"ESTIMATED TOTAL POPULATION WOODY PLANTS",null,null,null,null,null,null,null,null,3,"1 - 2",{"$f":"COUNTIF(DMA!#REF!,3)","v":{"$error":"#REF!"}},1.5,{"$f":"IF(AK10<>0,100*(SUM(AK8:AK10)/AK$14),\"\")","v":{"$error":"#REF!"}},null,{"$f":"IF($AM10>=85,IF($AM9<85,$AL10-(($AM10-85)/($AM10-$AM9)*($AL10-$AL9)),\"\"),\"\")","v":{"$error":"#REF!"}},{"$f":"IF($AM10>=50,IF($AM9<50,$AL10-(($AM10-50)/($AM10-$AM9)*($AL10-$AL9)),\"\"),\"\")","v":{"$error":"#REF!"}},{"$f":"IF($AM10>=25,IF($AM9<25,$AL10-(($AM10-25)/($AM10-$AM9)*($AL10-$AL9)),\"\"),\"\")","v":{"$error":"#REF!"}}]
["               PLANT SPECIES COMPOSITION",null,null,null,"     STUBBLE HEIGHT",null,null,"  WOODY HEIGHT",null,null,"   WOODY USE",null,null,"WOODY SPECIES",null,"WOODY AGE Class",null,null," ",null,null," ",{"$f":"IF(SUM(AC13:AC55)=0,\"\",SUM(AC13:AC55)/SUM(P13:P199))","v":""},{"$f":"IF(SUM(AD13:AD55)=0,\"\",SUM(AD13:AD55)/SUM(Q13:Q199))","v":""},{"$f":"IF(SUM(AE13:AE55)=0,\"\",SUM(AE13:AE55)/SUM(R13:R199))","v":""},"Adjusted for sampling bias",null,null,null,null,null,null,null,null,4,"2 - 4",{"$f":"COUNTIF(DMA!#REF!,4)","v":{"$error":"#REF!"}},3,{"$f":"IF(AK11<>0,100*(SUM(AK8:AK11)/AK$14),\"\")","v":{"$error":"#REF!"}},null,{"$f":"IF($AM11>=85,IF($AM10<85,$AL11-(($AM11-85)/($AM11-$AM10)*($AL11-$AL10)),\"\"),\"\")","v":{"$error":"#REF!"}},{"$f":"IF($AM11>=50,IF($AM10<50,$AL11-(($AM11-50)/($AM11-$AM10)*($AL11-$AL10)),\"\"),\"\")","v":{"$error":"#REF!"}},{"$f":"IF($AM11>=25,IF($AM10<25,$AL11-(($AM11-25)/($AM11-$AM10)*($AL11-$AL10)),\"\"),\"\")","v":{"$error":"#REF!"}},null,null,null,null,null,null,null,null,"WOODY AGE Class - STATISTICS",null,null,null,null,null,null,null,null,null,null,null,null,"Sample points (quadrats)"]
["Species Plant Code","Greenline Composition ","Cover","Constancy","Key Species","N","Avg Height (in)","Plant Code","N","Avg Height (mt)","Key Species","N","Avg Use (%)","Frequency              (N)","Key Species","Seedlings","Young","Mature","Rhizom-atous*","N","Plots","Avg plants per plot","Conf Interval as % of Estimated population - SEEDLINGS","Conf Interval as % of Estimated population - YOUNG","Conf Interval as % of Estimated population - MATURE","SEEDLINGS","YOUNG","MATURE",null,null,null,null,null,null,5,"4 - 8",{"$f":"COUNTIF(DMA!#REF!,5)","v":{"$error":"#REF!"}},6,{"$f":"IF(AK12<>0,100*(SUM(AK8:AK12)/AK$14),\"\")","v":{"$error":"#REF!"}},null,{"$f":"IF($AM12>=85,IF($AM11<85,$AL12-(($AM12-85)/($AM12-$AM11)*($AL12-$AL11)),\"\"),\"\")","v":{"$error":"#REF!"}},{"$f":"IF($AM12>=50,IF($AM11<50,$AL12-(($AM12-50)/($AM12-$AM11)*($AL12-$AL11)),\"\"),\"\")","v":{"$error":"#REF!"}},{"$f":"IF($AM12>=25,IF($AM11<25,$AL12-(($AM12-25)/($AM12-$AM11)*($AL12-$AL11)),\"\"),\"\")","v":{"$error":"#REF!"}},null,null,null,null,null,null,null,null,"Confidence Interval SEEDLINGS","Confidence Interval YOUNG","Confidence Interval MATURE","Standard deviation SEEDLINGS","Standard deviation YOUNG","Standard deviation MATURE","Average SEEDLINGS","Average YOUNG","Average MATURE",null,"Stubble Plants","Woody Plants",null,"Count seedlings","Count Young","Count Mature"]
[null,null,null,null,null,null,null,null,null,null,null,null,null,null,null,null,null,null,null,null,null,null,null,null,null,null,null,null,{"$f":"IF(W13=\"\",\"\",W13*P13)","v":""},{"$f":"IF(X13=\"\",\"\",X13*Q13)","v":""},"",null,null,null,6,">8",{"$f":"COUNTIF(DMA!#REF!,6)","v":{"$error":"#REF!"}},12,{"$f":"IF(AK13<>0,100*(SUM(AK8:AK13)/AK$14),\"\")","v":{"$error":"#REF!"}},null,{"$f":"IF($AM13>=85,IF($AM12<85,$AL13-(($AM13-85)/($AM13-$AM12)*($AL13-$AL12)),\"\"),\"\")","v":{"$error":"#REF!"}},{"$f":"IF($AM13>=50,IF($AM12<50,$AL13-(($AM13-50)/($AM13-$AM12)*($AL13-$AL12)),\"\"),\"\")","v":{"$error":"#REF!"}},{"$f":"IF($AM13>=25,IF($AM12<25,$AL13-(($AM13-25)/($AM13-$AM12)*($AL13-$AL12)),\"\"),\"\")","v":{"$error":"#REF!"}},null,null,null,null,null,null,null,null,{"$f":"IF(BC13=\"\",\"\",IF(BC13=1,\"\",IF(BC13=0,\"\",CONFIDENCE(0.05,BC13,BM13))))","v":""},{"$f":"IF(BD13=\"\",\"\",IF(BD13=1,\"\",IF(BD13=0,\"\",CONFIDENCE(0.05,BD13,BN13))))","v":""},{"$f":"IF(BE13=\"\",\"\",IF(BE13=1,\"\",IF(BE13=0,\"\",CONFIDENCE(0.05,BE13,BO13))))","v":""},{"$f":"IF(P13=\"\",\"\",IF(P13=0,\"\",SQRT(SUMIF(DMA!$DA$5:$DA$503,Graphs!$O13,DMA!DB$5:DB$503))/COUNTIF(DMA!$DA$5:$DA$503,Graphs!$O13)))","v":""},{"$f":"IF(Q13=\"\",\"\",IF(Q13=0,\"\",SQRT(SUMIF(DMA!$DA$5:$DA$503,Graphs!$O13,DMA!DC$5:DC$503))/COUNTIF(DMA!$DA$5:$DA$503,Graphs!$O13)))","v":""},{"$f":"IF(R13=\"\",\"\",IF(R13=0,\"\",SQRT(SUMIF(DMA!$DA$5:$DA$503,Graphs!$O13,DMA!DD$5:DD$503))/COUNTIF(DMA!$DA$5:$DA$503,Graphs!$O13)))","v":""},{"$f":"IF($P13=\"\",\"\",IF(P13=0,\"\",AVERAGEIF(DMA!#REF!,Graphs!$O13,DMA!#REF!)))","v":""},{"$f":"IF($Q13=\"\",\"\",IF(Q13=0,\"\",AVERAGEIF(DMA!#REF!,Graphs!$O13,DMA!#REF!)))","v":""},{"$f":"IF($R13=\"\",\"\",IF(R13=0,\"\",AVERAGEIF(DMA!#REF!,Graphs!$O13,DMA!#REF!)))","v":""},null,null,null,null,{"$f":"IF($O13=\"\",\"\",COUNTIFS(DMA!#REF!,Graphs!$O13,DMA!#REF!,\">0\"))","v":""},{"$f":"IF($O13=\"\",\"\",COUNTIFS(DMA!#REF!,Graphs!$O13,DMA!#REF!,\">0\"))","v":""},{"$f":"IF($O13=\"\",\"\",COUNTIFS(DMA!#REF!,Graphs!$O13,DMA!#REF!,\">0\"))","v":""}]
[null,null,null,null,null,null,null,null,null,null,null,null,null,null,null,null,null,null,null,null,null,null,null,null,null,null,null,null,{"$f":"IF(W14=\"\",\"\",W14*P14)","v":""},"","",null,null,null,"Total",null,{"$f":"SUM(AK8:AK13)","v":{"$error":"#REF!"}},null,null,null,null,null,null,null,null,null,null,null,null,null,null,{"$f":"IF(BC14=\"\",\"\",IF(BC14=1,\"\",IF(BC14=0,\"\",CONFIDENCE(0.05,BC14,BM14))))","v":""},{"$f":"IF(BD14=\"\",\"\",IF(BD14=1,\"\",IF(BD14=0,\"\",CONFIDENCE(0.05,BD14,BN14))))","v":""},{"$f":"IF(BE14=\"\",\"\",IF(BE14=1,\"\",IF(BE14=0,\"\",CONFIDENCE(0.05,BE14,BO14))))","v":""},{"$f":"IF(P14=\"\",\"\",IF(P14=0,\"\",SQRT(SUMIF(DMA!$DA$5:$DA$503,Graphs!$O14,DMA!DB$5:DB$503))/COUNTIF(DMA!$DA$5:$DA$503,Graphs!$O14)))","v":""},{"$f":"IF(Q14=\"\",\"\",IF(Q14=0,\"\",SQRT(SUMIF(DMA!$DA$5:$DA$503,Graphs!$O14,DMA!DC$5:DC$503))/COUNTIF(DMA!$DA$5:$DA$503,Graphs!$O14)))","v":""},{"$f":"IF(R14=\"\",\"\",IF(R14=0,\"\",SQRT(SUMIF(DMA!$DA$5:$DA$503,Graphs!$O14,DMA!DD$5:DD$503))/COUNTIF(DMA!$DA$5:$DA$503,Graphs!$O14)))","v":""},{"$f":"IF($P14=\"\",\"\",IF(P14=0,\"\",AVERAGEIF(DMA!#REF!,Graphs!$O14,DMA!#REF!)))","v":""},{"$f":"IF($Q14=\"\",\"\",IF(Q14=0,\"\",AVERAGEIF(DMA!#REF!,Graphs!$O14,DMA!#REF!)))","v":""},{"$f":"IF($R14=\"\",\"\",IF(R14=0,\"\",AVERAGEIF(DMA!#REF!,Graphs!$O14,DMA!#REF!)))","v":""},null,null,null,null,{"$f":"IF($O14=\"\",\"\",COUNTIFS(DMA!#REF!,Graphs!$O14,DMA!#REF!,\">0\"))","v":""},{"$f":"IF($O14=\"\",\"\",COUNTIFS(DMA!#REF!,Graphs!$O14,DMA!#REF!,\">0\"))","v":""},{"$f":"IF($O14=\"\",\"\",COUNTIFS(DMA!#REF!,Graphs!$O14,DMA!#REF!,\">0\"))","v":""}]
[null,null,null,null,null,null,null,null,null,null,null,null,null,null,null,null,null,null,null,null,null,null,null,null,null,null,null,null,"","","",null,null,null,null,null,null,null,null,null,null,null,null,null,null,null,null,null,null,null,null,"","","",{"$f":"IF(P15=\"\",\"\",IF(P15=0,\"\",SQRT(SUMIF(DMA!$DA$5:$DA$503,Graphs!$O15,DMA!DB$5:DB$503))/COUNTIF(DMA!$DA$5:$DA$503,Graphs!$O15)))","v":""},{"$f":"IF(Q15=\"\",\"\",IF(Q15=0,\"\",SQRT(SUMIF(DMA!$DA$5:$DA$503,Graphs!$O15,DMA!DC$5:DC$503))/COUNTIF(DMA!$DA$5:$DA$503,Graphs!$O15)))","v":""},{"$f":"IF(R15=\"\",\"\",IF(R15=0,\"\",SQRT(SUMIF(DMA!$DA$5:$DA$503,Graphs!$O15,DMA!DD$5:DD$503))/COUNTIF(DMA!$DA$5:$DA$503,Graphs!$O15)))","v":""},{"$f":"IF($P15=\"\",\"\",IF(P15=0,\"\",AVERAGEIF(DMA!#REF!,Graphs!$O15,DMA!#REF!)))","v":""},{"$f":"IF($Q15=\"\",\"\",IF(Q15=0,\"\",AVERAGEIF(DMA!#REF!,Graphs!$O15,DMA!#REF!)))","v":""},{"$f":"IF($R15=\"\",\"\",IF(R15=0,\"\",AVERAGEIF(DMA!#REF!,Graphs!$O15,DMA!#REF!)))","v":""},null,null,null,null,{"$f":"IF($O15=\"\",\"\",COUNTIFS(DMA!#REF!,Graphs!$O15,DMA!#REF!,\">0\"))","v":""},{"$f":"IF($O15=\"\",\"\",COUNTIFS(DMA!#REF!,Graphs!$O15,DMA!#REF!,\">0\"))","v":""},{"$f":"IF($O15=\"\",\"\",COUNTIFS(DMA!#REF!,Graphs!$O15,DMA!#REF!,\">0\"))","v":""}]
[null,null,null,null,null,null,null,null,null,null,null,null,null,null,null,null,null,null,null,null,null,null,null,null,null,null,null,null,"","","",null,null,null,null,null,null,null,null,null,null,null,null,null,null,null,null,null,null,null,null,"","","",{"$f":"IF(P16=\"\",\"\",IF(P16=0,\"\",SQRT(SUMIF(DMA!$DA$5:$DA$503,Graphs!$O16,DMA!DB$5:DB$503))/COUNTIF(DMA!$DA$5:$DA$503,Graphs!$O16)))","v":""},{"$f":"IF(Q16=\"\",\"\",IF(Q16=0,\"\",SQRT(SUMIF(DMA!$DA$5:$DA$503,Graphs!$O16,DMA!DC$5:DC$503))/COUNTIF(DMA!$DA$5:$DA$503,Graphs!$O16)))","v":""},{"$f":"IF(R16=\"\",\"\",IF(R16=0,\"\",SQRT(SUMIF(DMA!$DA$5:$DA$503,Graphs!$O16,DMA!DD$5:DD$503))/COUNTIF(DMA!$DA$5:$DA$503,Graphs!$O16)))","v":""},{"$f":"IF($P16=\"\",\"\",IF(P16=0,\"\",AVERAGEIF(DMA!#REF!,Graphs!$O16,DMA!#REF!)))","v":""},{"$f":"IF($Q16=\"\",\"\",IF(Q16=0,\"\",AVERAGEIF(DMA!#REF!,Graphs!$O16,DMA!#REF!)))","v":""},{"$f":"IF($R16=\"\",\"\",IF(R16=0,\"\",AVERAGEIF(DMA!#REF!,Graphs!$O16,DMA!#REF!)))","v":""},null,null,null,null,{"$f":"IF($O16=\"\",\"\",COUNTIFS(DMA!#REF!,Graphs!$O16,DMA!#REF!,\">0\"))","v":""},{"$f":"IF($O16=\"\",\"\",COUNTIFS(DMA!#REF!,Graphs!$O16,DMA!#REF!,\">0\"))","v":""},{"$f":"IF($O16=\"\",\"\",COUNTIFS(DMA!#REF!,Graphs!$O16,DMA!#REF!,\">0\"))","v":""}]
[null,null,null,null,null,null,null,null,null,null,null,null,null,null,null,null,null,null,null,null,null,null,null,null,null,null,null,null,"","","",null,null,null,null,null,null,null,null,null,null,null,null,null,null,null,null,null,null,null,null,"","","",{"$f":"IF(P17=\"\",\"\",IF(P17=0,\"\",SQRT(SUMIF(DMA!$DA$5:$DA$503,Graphs!$O17,DMA!DB$5:DB$503))/COUNTIF(DMA!$DA$5:$DA$503,Graphs!$O17)))","v":""},{"$f":"IF(Q17=\"\",\"\",IF(Q17=0,\"\",SQRT(SUMIF(DMA!$DA$5:$DA$503,Graphs!$O17,DMA!DC$5:DC$503))/COUNTIF(DMA!$DA$5:$DA$503,Graphs!$O17)))","v":""},{"$f":"IF(R17=\"\",\"\",IF(R17=0,\"\",SQRT(SUMIF(DMA!$DA$5:$DA$503,Graphs!$O17,DMA!DD$5:DD$503))/COUNTIF(DMA!$DA$5:$DA$503,Graphs!$O17)))","v":""},{"$f":"IF($P17=\"\",\"\",IF(P17=0,\"\",AVERAGEIF(DMA!#REF!,Graphs!$O17,DMA!#REF!)))","v":""},{"$f":"IF($Q17=\"\",\"\",IF(Q17=0,\"\",AVERAGEIF(DMA!#REF!,Graphs!$O17,DMA!#REF!)))","v":""},{"$f":"IF($R17=\"\",\"\",IF(R17=0,\"\",AVERAGEIF(DMA!#REF!,Graphs!$O17,DMA!#REF!)))","v":""},null,null,null,null,{"$f":"IF($O17=\"\",\"\",COUNTIFS(DMA!#REF!,Graphs!$O17,DMA!#REF!,\">0\"))","v":""},{"$f":"IF($O17=\"\",\"\",COUNTIFS(DMA!#REF!,Graphs!$O17,DMA!#REF!,\">0\"))","v":""},{"$f":"IF($O17=\"\",\"\",COUNTIFS(DMA!#REF!,Graphs!$O17,DMA!#REF!,\">0\"))","v":""}]
[null,null,null,null,null,null,null,null,null,null,null,null,null,null,null,null,null,null,null,null,null,null,null,null,null,null,null,null,"","","",null,null,null,null,null,null,null,null,null,null,null,null,null,null,null,null,null,null,null,null,"","","",{"$f":"IF(P18=\"\",\"\",IF(P18=0,\"\",SQRT(SUMIF(DMA!$DA$5:$DA$503,Graphs!$O18,DMA!DB$5:DB$503))/COUNTIF(DMA!$DA$5:$DA$503,Graphs!$O18)))","v":""},{"$f":"IF(Q18=\"\",\"\",IF(Q18=0,\"\",SQRT(SUMIF(DMA!$DA$5:$DA$503,Graphs!$O18,DMA!DC$5:DC$503))/COUNTIF(DMA!$DA$5:$DA$503,Graphs!$O18)))","v":""},{"$f":"IF(R18=\"\",\"\",IF(R18=0,\"\",SQRT(SUMIF(DMA!$DA$5:$DA$503,Graphs!$O18,DMA!DD$5:DD$503))/COUNTIF(DMA!$DA$5:$DA$503,Graphs!$O18)))","v":""},{"$f":"IF($P18=\"\",\"\",IF(P18=0,\"\",AVERAGEIF(DMA!#REF!,Graphs!$O18,DMA!#REF!)))","v":""},{"$f":"IF($Q18=\"\",\"\",IF(Q18=0,\"\",AVERAGEIF(DMA!#REF!,Graphs!$O18,DMA!#REF!)))","v":""},{"$f":"IF($R18=\"\",\"\",IF(R18=0,\"\",AVERAGEIF(DMA!#REF!,Graphs!$O18,DMA!#REF!)))","v":""},null,null,null,null,{"$f":"IF($O18=\"\",\"\",COUNTIFS(DMA!#REF!,Graphs!$O18,DMA!#REF!,\">0\"))","v":""},{"$f":"IF($O18=\"\",\"\",COUNTIFS(DMA!#REF!,Graphs!$O18,DMA!#REF!,\">0\"))","v":""},{"$f":"IF($O18=\"\",\"\",COUNTIFS(DMA!#REF!,Graphs!$O18,DMA!#REF!,\">0\"))","v":""}]
[null,null,null,null,null,null,null,null,null,null,null,null,null,null,null,null,null,null,null,null,null,null,null,null,null,null,null,null,"","","",null,null,null,null,null,null,null,null,null,null,null,null,null,null,null,null,null,null,null,null,"","","",{"$f":"IF(P19=\"\",\"\",IF(P19=0,\"\",SQRT(SUMIF(DMA!$DA$5:$DA$503,Graphs!$O19,DMA!DB$5:DB$503))/COUNTIF(DMA!$DA$5:$DA$503,Graphs!$O19)))","v":""},{"$f":"IF(Q19=\"\",\"\",IF(Q19=0,\"\",SQRT(SUMIF(DMA!$DA$5:$DA$503,Graphs!$O19,DMA!DC$5:DC$503))/COUNTIF(DMA!$DA$5:$DA$503,Graphs!$O19)))","v":""},{"$f":"IF(R19=\"\",\"\",IF(R19=0,\"\",SQRT(SUMIF(DMA!$DA$5:$DA$503,Graphs!$O19,DMA!DD$5:DD$503))/COUNTIF(DMA!$DA$5:$DA$503,Graphs!$O19)))","v":""},{"$f":"IF($P19=\"\",\"\",IF(P19=0,\"\",AVERAGEIF(DMA!#REF!,Graphs!$O19,DMA!#REF!)))","v":""},{"$f":"IF($Q19=\"\",\"\",IF(Q19=0,\"\",AVERAGEIF(DMA!#REF!,Graphs!$O19,DMA!#REF!)))","v":""},{"$f":"IF($R19=\"\",\"\",IF(R19=0,\"\",AVERAGEIF(DMA!#REF!,Graphs!$O19,DMA!#REF!)))","v":""},null,null,null,null,{"$f":"IF($O19=\"\",\"\",COUNTIFS(DMA!#REF!,Graphs!$O19,DMA!#REF!,\">0\"))","v":""},{"$f":"IF($O19=\"\",\"\",COUNTIFS(DMA!#REF!,Graphs!$O19,DMA!#REF!,\">0\"))","v":""},{"$f":"IF($O19=\"\",\"\",COUNTIFS(DMA!#REF!,Graphs!$O19,DMA!#REF!,\">0\"))","v":""}]
[null,null,null,null,null,null,null,null,null,null,null,null,null,null,null,null,null,null,null,null,null,null,null,null,null,null,null,null,{"$f":"IF(W164=\"\",\"\",W164*P164)","v":""},{"$f":"IF(X164=\"\",\"\",X164*Q164)","v":""},{"$f":"IF(Y164=\"\",\"\",Y164*R164)","v":""},null,null,null,null,null,null,null,null,null,null,null,null,null,null,null,null,null,null,null,null,"","","",{"$f":"IF(P20=\"\",\"\",IF(P20=0,\"\",SQRT(SUMIF(DMA!$DA$5:$DA$503,Graphs!$O20,DMA!DB$5:DB$503))/COUNTIF(DMA!$DA$5:$DA$503,Graphs!$O20)))","v":""},{"$f":"IF(Q20=\"\",\"\",IF(Q20=0,\"\",SQRT(SUMIF(DMA!$DA$5:$DA$503,Graphs!$O20,DMA!DC$5:DC$503))/COUNTIF(DMA!$DA$5:$DA$503,Graphs!$O20)))","v":""},{"$f":"IF(R20=\"\",\"\",IF(R20=0,\"\",SQRT(SUMIF(DMA!$DA$5:$DA$503,Graphs!$O20,DMA!DD$5:DD$503))/COUNTIF(DMA!$DA$5:$DA$503,Graphs!$O20)))","v":""},{"$f":"IF($P20=\"\",\"\",IF(P20=0,\"\",AVERAGEIF(DMA!#REF!,Graphs!$O20,DMA!#REF!)))","v":""},{"$f":"IF($Q20=\"\",\"\",IF(Q20=0,\"\",AVERAGEIF(DMA!#REF!,Graphs!$O20,DMA!#REF!)))","v":""},{"$f":"IF($R20=\"\",\"\",IF(R20=0,\"\",AVERAGEIF(DMA!#REF!,Graphs!$O20,DMA!#REF!)))","v":""},null,null,null,null,{"$f":"IF($O20=\"\",\"\",COUNTIFS(DMA!#REF!,Graphs!$O20,DMA!#REF!,\">0\"))","v":""},{"$f":"IF($O20=\"\",\"\",COUNTIFS(DMA!#REF!,Graphs!$O20,DMA!#REF!,\">0\"))","v":""},{"$f":"IF($O20=\"\",\"\",COUNTIFS(DMA!#REF!,Graphs!$O20,DMA!#REF!,\">0\"))","v":""}]
[null,null,null,null,null,null,null,null,null,null,null,null,null,null,null,null,null,null,null,null,null,null,null,null,null,null,null,null,"","","",null,null,null,null,null,null,null,null,null,null,null,null,null,null,null,null,null,null,null,null,"","","",{"$f":"IF(P21=\"\",\"\",IF(P21=0,\"\",SQRT(SUMIF(DMA!$DA$5:$DA$503,Graphs!$O21,DMA!DB$5:DB$503))/COUNTIF(DMA!$DA$5:$DA$503,Graphs!$O21)))","v":""},{"$f":"IF(Q21=\"\",\"\",IF(Q21=0,\"\",SQRT(SUMIF(DMA!$DA$5:$DA$503,Graphs!$O21,DMA!DC$5:DC$503))/COUNTIF(DMA!$DA$5:$DA$503,Graphs!$O21)))","v":""},{"$f":"IF(R21=\"\",\"\",IF(R21=0,\"\",SQRT(SUMIF(DMA!$DA$5:$DA$503,Graphs!$O21,DMA!DD$5:DD$503))/COUNTIF(DMA!$DA$5:$DA$503,Graphs!$O21)))","v":""},{"$f":"IF($P21=\"\",\"\",IF(P21=0,\"\",AVERAGEIF(DMA!#REF!,Graphs!$O21,DMA!#REF!)))","v":""},{"$f":"IF($Q21=\"\",\"\",IF(Q21=0,\"\",AVERAGEIF(DMA!#REF!,Graphs!$O21,DMA!#REF!)))","v":""},{"$f":"IF($R21=\"\",\"\",IF(R21=0,\"\",AVERAGEIF(DMA!#REF!,Graphs!$O21,DMA!#REF!)))","v":""},null,null,null,null,{"$f":"IF($O21=\"\",\"\",COUNTIFS(DMA!#REF!,Graphs!$O21,DMA!#REF!,\">0\"))","v":""},{"$f":"IF($O21=\"\",\"\",COUNTIFS(DMA!#REF!,Graphs!$O21,DMA!#REF!,\">0\"))","v":""},{"$f":"IF($O21=\"\",\"\",COUNTIFS(DMA!#REF!,Graphs!$O21,DMA!#REF!,\">0\"))","v":""}]
[null,null,null,null,null,null,null,null,null,null,null,null,null,null,null,null,null,null,null,null,null,null,null,null,null,null,null,null,"","","",null,null,null,null,null,null,null,null,null,null,null,null,null,null,null,null,null,null,null,null,"","","",{"$f":"IF(P22=\"\",\"\",IF(P22=0,\"\",SQRT(SUMIF(DMA!$DA$5:$DA$503,Graphs!$O22,DMA!DB$5:DB$503))/COUNTIF(DMA!$DA$5:$DA$503,Graphs!$O22)))","v":""},{"$f":"IF(Q22=\"\",\"\",IF(Q22=0,\"\",SQRT(SUMIF(DMA!$DA$5:$DA$503,Graphs!$O22,DMA!DC$5:DC$503))/COUNTIF(DMA!$DA$5:$DA$503,Graphs!$O22)))","v":""},{"$f":"IF(R22=\"\",\"\",IF(R22=0,\"\",SQRT(SUMIF(DMA!$DA$5:$DA$503,Graphs!$O22,DMA!DD$5:DD$503))/COUNTIF(DMA!$DA$5:$DA$503,Graphs!$O22)))","v":""},{"$f":"IF($P22=\"\",\"\",IF(P22=0,\"\",AVERAGEIF(DMA!#REF!,Graphs!$O22,DMA!#REF!)))","v":""},{"$f":"IF($Q22=\"\",\"\",IF(Q22=0,\"\",AVERAGEIF(DMA!#REF!,Graphs!$O22,DMA!#REF!)))","v":""},{"$f":"IF($R22=\"\",\"\",IF(R22=0,\"\",AVERAGEIF(DMA!#REF!,Graphs!$O22,DMA!#REF!)))","v":""},null,null,null,null,{"$f":"IF($O22=\"\",\"\",COUNTIFS(DMA!#REF!,Graphs!$O22,DMA!#REF!,\">0\"))","v":""},{"$f":"IF($O22=\"\",\"\",COUNTIFS(DMA!#REF!,Graphs!$O22,DMA!#REF!,\">0\"))","v":""},{"$f":"IF($O22=\"\",\"\",COUNTIFS(DMA!#REF!,Graphs!$O22,DMA!#REF!,\">0\"))","v":""}]
[null,null,null,null,null,null,null,null,null,null,null,null,null,null,null,null,null,null,null,null,null,null,null,null,null,null,null,null,"","","",null,null,null,null,null,null,null,null,null,null,null,null,null,null,null,null,null,null,null,null,"","","",{"$f":"IF(P23=\"\",\"\",IF(P23=0,\"\",SQRT(SUMIF(DMA!$DA$5:$DA$503,Graphs!$O23,DMA!DB$5:DB$503))/COUNTIF(DMA!$DA$5:$DA$503,Graphs!$O23)))","v":""},{"$f":"IF(Q23=\"\",\"\",IF(Q23=0,\"\",SQRT(SUMIF(DMA!$DA$5:$DA$503,Graphs!$O23,DMA!DC$5:DC$503))/COUNTIF(DMA!$DA$5:$DA$503,Graphs!$O23)))","v":""},{"$f":"IF(R23=\"\",\"\",IF(R23=0,\"\",SQRT(SUMIF(DMA!$DA$5:$DA$503,Graphs!$O23,DMA!DD$5:DD$503))/COUNTIF(DMA!$DA$5:$DA$503,Graphs!$O23)))","v":""},{"$f":"IF($P23=\"\",\"\",IF(P23=0,\"\",AVERAGEIF(DMA!#REF!,Graphs!$O23,DMA!#REF!)))","v":""},{"$f":"IF($Q23=\"\",\"\",IF(Q23=0,\"\",AVERAGEIF(DMA!#REF!,Graphs!$O23,DMA!#REF!)))","v":""},{"$f":"IF($R23=\"\",\"\",IF(R23=0,\"\",AVERAGEIF(DMA!#REF!,Graphs!$O23,DMA!#REF!)))","v":""},null,null,null,null,{"$f":"IF($O23=\"\",\"\",COUNTIFS(DMA!#REF!,Graphs!$O23,DMA!#REF!,\">0\"))","v":""},{"$f":"IF($O23=\"\",\"\",COUNTIFS(DMA!#REF!,Graphs!$O23,DMA!#REF!,\">0\"))","v":""},{"$f":"IF($O23=\"\",\"\",COUNTIFS(DMA!#REF!,Graphs!$O23,DMA!#REF!,\">0\"))","v":""}]
[null,null,null,null,null,null,null,null,null,null,null,null,null,null,null,null,null,null,null,null,null,null,null,null,null,null,null,null,"","","",null,null,null,null,null,null,null,null,null,null,null,null,null,null,null,null,null,null,null,null,"","","",{"$f":"IF(P24=\"\",\"\",IF(P24=0,\"\",SQRT(SUMIF(DMA!$DA$5:$DA$503,Graphs!$O24,DMA!DB$5:DB$503))/COUNTIF(DMA!$DA$5:$DA$503,Graphs!$O24)))","v":""},{"$f":"IF(Q24=\"\",\"\",IF(Q24=0,\"\",SQRT(SUMIF(DMA!$DA$5:$DA$503,Graphs!$O24,DMA!DC$5:DC$503))/COUNTIF(DMA!$DA$5:$DA$503,Graphs!$O24)))","v":""},{"$f":"IF(R24=\"\",\"\",IF(R24=0,\"\",SQRT(SUMIF(DMA!$DA$5:$DA$503,Graphs!$O24,DMA!DD$5:DD$503))/COUNTIF(DMA!$DA$5:$DA$503,Graphs!$O24)))","v":""},{"$f":"IF($P24=\"\",\"\",IF(P24=0,\"\",AVERAGEIF(DMA!#REF!,Graphs!$O24,DMA!#REF!)))","v":""},{"$f":"IF($Q24=\"\",\"\",IF(Q24=0,\"\",AVERAGEIF(DMA!#REF!,Graphs!$O24,DMA!#REF!)))","v":""},{"$f":"IF($R24=\"\",\"\",IF(R24=0,\"\",AVERAGEIF(DMA!#REF!,Graphs!$O24,DMA!#REF!)))","v":""},null,null,null,null,{"$f":"IF($O24=\"\",\"\",COUNTIFS(DMA!#REF!,Graphs!$O24,DMA!#REF!,\">0\"))","v":""},{"$f":"IF($O24=\"\",\"\",COUNTIFS(DMA!#REF!,Graphs!$O24,DMA!#REF!,\">0\"))","v":""},{"$f":"IF($O24=\"\",\"\",COUNTIFS(DMA!#REF!,Graphs!$O24,DMA!#REF!,\">0\"))","v":""}]
[null,null,null,null,null,null,null,null,null,null,null,null,null,null,null,null,null,null,null,null,null,null,null,null,null,null,null,null,"","","",null,null,null,null,null,null,null,null,null,null,null,null,null,null,null,null,null,null,null,null,"","","",{"$f":"IF(P25=\"\",\"\",IF(P25=0,\"\",SQRT(SUMIF(DMA!$DA$5:$DA$503,Graphs!$O25,DMA!DB$5:DB$503))/COUNTIF(DMA!$DA$5:$DA$503,Graphs!$O25)))","v":""},{"$f":"IF(Q25=\"\",\"\",IF(Q25=0,\"\",SQRT(SUMIF(DMA!$DA$5:$DA$503,Graphs!$O25,DMA!DC$5:DC$503))/COUNTIF(DMA!$DA$5:$DA$503,Graphs!$O25)))","v":""},{"$f":"IF(R25=\"\",\"\",IF(R25=0,\"\",SQRT(SUMIF(DMA!$DA$5:$DA$503,Graphs!$O25,DMA!DD$5:DD$503))/COUNTIF(DMA!$DA$5:$DA$503,Graphs!$O25)))","v":""},{"$f":"IF($P25=\"\",\"\",IF(P25=0,\"\",AVERAGEIF(DMA!#REF!,Graphs!$O25,DMA!#REF!)))","v":""},{"$f":"IF($Q25=\"\",\"\",IF(Q25=0,\"\",AVERAGEIF(DMA!#REF!,Graphs!$O25,DMA!#REF!)))","v":""},{"$f":"IF($R25=\"\",\"\",IF(R25=0,\"\",AVERAGEIF(DMA!#REF!,Graphs!$O25,DMA!#REF!)))","v":""},null,null,null,null,{"$f":"IF($O25=\"\",\"\",COUNTIFS(DMA!#REF!,Graphs!$O25,DMA!#REF!,\">0\"))","v":""},{"$f":"IF($O25=\"\",\"\",COUNTIFS(DMA!#REF!,Graphs!$O25,DMA!#REF!,\">0\"))","v":""},{"$f":"IF($O25=\"\",\"\",COUNTIFS(DMA!#REF!,Graphs!$O25,DMA!#REF!,\">0\"))","v":""}]
[null,null,null,null,null,null,null,null,null,null,null,null,null,null,null,null,null,null,null,null,null,null,null,null,null,null,null,null,"","","",null,null,null,null,null,null,null,null,null,null,null,null,null,null,null,null,null,null,null,null,"","","",{"$f":"IF(P26=\"\",\"\",IF(P26=0,\"\",SQRT(SUMIF(DMA!$DA$5:$DA$503,Graphs!$O26,DMA!DB$5:DB$503))/COUNTIF(DMA!$DA$5:$DA$503,Graphs!$O26)))","v":""},{"$f":"IF(Q26=\"\",\"\",IF(Q26=0,\"\",SQRT(SUMIF(DMA!$DA$5:$DA$503,Graphs!$O26,DMA!DC$5:DC$503))/COUNTIF(DMA!$DA$5:$DA$503,Graphs!$O26)))","v":""},{"$f":"IF(R26=\"\",\"\",IF(R26=0,\"\",SQRT(SUMIF(DMA!$DA$5:$DA$503,Graphs!$O26,DMA!DD$5:DD$503))/COUNTIF(DMA!$DA$5:$DA$503,Graphs!$O26)))","v":""},{"$f":"IF($P26=\"\",\"\",IF(P26=0,\"\",AVERAGEIF(DMA!#REF!,Graphs!$O26,DMA!#REF!)))","v":""},{"$f":"IF($Q26=\"\",\"\",IF(Q26=0,\"\",AVERAGEIF(DMA!#REF!,Graphs!$O26,DMA!#REF!)))","v":""},{"$f":"IF($R26=\"\",\"\",IF(R26=0,\"\",AVERAGEIF(DMA!#REF!,Graphs!$O26,DMA!#REF!)))","v":""},null,null,null,null,{"$f":"IF($O26=\"\",\"\",COUNTIFS(DMA!#REF!,Graphs!$O26,DMA!#REF!,\">0\"))","v":""},{"$f":"IF($O26=\"\",\"\",COUNTIFS(DMA!#REF!,Graphs!$O26,DMA!#REF!,\">0\"))","v":""},{"$f":"IF($O26=\"\",\"\",COUNTIFS(DMA!#REF!,Graphs!$O26,DMA!#REF!,\">0\"))","v":""}]
[null,null,null,null,null,null,null,null,null,null,null,null,null,null,null,null,null,null,null,null,null,null,null,null,null,null,null,null,"","","",null,null,null,null,null,null,null,null,null,null,null,null,null,null,null,null,null,null,null,null,"","","",{"$f":"IF(P27=\"\",\"\",IF(P27=0,\"\",SQRT(SUMIF(DMA!$DA$5:$DA$503,Graphs!$O27,DMA!DB$5:DB$503))/COUNTIF(DMA!$DA$5:$DA$503,Graphs!$O27)))","v":""},{"$f":"IF(Q27=\"\",\"\",IF(Q27=0,\"\",SQRT(SUMIF(DMA!$DA$5:$DA$503,Graphs!$O27,DMA!DC$5:DC$503))/COUNTIF(DMA!$DA$5:$DA$503,Graphs!$O27)))","v":""},{"$f":"IF(R27=\"\",\"\",IF(R27=0,\"\",SQRT(SUMIF(DMA!$DA$5:$DA$503,Graphs!$O27,DMA!DD$5:DD$503))/COUNTIF(DMA!$DA$5:$DA$503,Graphs!$O27)))","v":""},{"$f":"IF($P27=\"\",\"\",IF(P27=0,\"\",AVERAGEIF(DMA!#REF!,Graphs!$O27,DMA!#REF!)))","v":""},{"$f":"IF($Q27=\"\",\"\",IF(Q27=0,\"\",AVERAGEIF(DMA!#REF!,Graphs!$O27,DMA!#REF!)))","v":""},{"$f":"IF($R27=\"\",\"\",IF(R27=0,\"\",AVERAGEIF(DMA!#REF!,Graphs!$O27,DMA!#REF!)))","v":""},null,null,null,null,{"$f":"IF($O27=\"\",\"\",COUNTIFS(DMA!#REF!,Graphs!$O27,DMA!#REF!,\">0\"))","v":""},{"$f":"IF($O27=\"\",\"\",COUNTIFS(DMA!#REF!,Graphs!$O27,DMA!#REF!,\">0\"))","v":""},{"$f":"IF($O27=\"\",\"\",COUNTIFS(DMA!#REF!,Graphs!$O27,DMA!#REF!,\">0\"))","v":""}]
[null,null,null,null,null,null,null,null,null,null,null,null,null,null,null,null,null,null,null,null,null,null,null,null,null,null,null,null,"","","",null,null,null,null,null,null,null,null,null,null,null,null,null,null,null,null,null,null,null,null,"","","",{"$f":"IF(P28=\"\",\"\",IF(P28=0,\"\",SQRT(SUMIF(DMA!$DA$5:$DA$503,Graphs!$O28,DMA!DB$5:DB$503))/COUNTIF(DMA!$DA$5:$DA$503,Graphs!$O28)))","v":""},{"$f":"IF(Q28=\"\",\"\",IF(Q28=0,\"\",SQRT(SUMIF(DMA!$DA$5:$DA$503,Graphs!$O28,DMA!DC$5:DC$503))/COUNTIF(DMA!$DA$5:$DA$503,Graphs!$O28)))","v":""},{"$f":"IF(R28=\"\",\"\",IF(R28=0,\"\",SQRT(SUMIF(DMA!$DA$5:$DA$503,Graphs!$O28,DMA!DD$5:DD$503))/COUNTIF(DMA!$DA$5:$DA$503,Graphs!$O28)))","v":""},{"$f":"IF($P28=\"\",\"\",IF(P28=0,\"\",AVERAGEIF(DMA!#REF!,Graphs!$O28,DMA!#REF!)))","v":""},{"$f":"IF($Q28=\"\",\"\",IF(Q28=0,\"\",AVERAGEIF(DMA!#REF!,Graphs!$O28,DMA!#REF!)))","v":""},{"$f":"IF($R28=\"\",\"\",IF(R28=0,\"\",AVERAGEIF(DMA!#REF!,Graphs!$O28,DMA!#REF!)))","v":""},null,null,null,null,{"$f":"IF($O28=\"\",\"\",COUNTIFS(DMA!#REF!,Graphs!$O28,DMA!#REF!,\">0\"))","v":""},{"$f":"IF($O28=\"\",\"\",COUNTIFS(DMA!#REF!,Graphs!$O28,DMA!#REF!,\">0\"))","v":""},{"$f":"IF($O28=\"\",\"\",COUNTIFS(DMA!#REF!,Graphs!$O28,DMA!#REF!,\">0\"))","v":""}]
[null,null,null,null,null,null,null,null,null,null,null,null,null,null,null,null,null,null,null,null,null,null,null,null,null,null,null,null,"","","",null,null,null,null,null,null,null,null,null,null,null,null,null,null,null,null,null,null,null,null,"","","",{"$f":"IF(P29=\"\",\"\",IF(P29=0,\"\",SQRT(SUMIF(DMA!$DA$5:$DA$503,Graphs!$O29,DMA!DB$5:DB$503))/COUNTIF(DMA!$DA$5:$DA$503,Graphs!$O29)))","v":""},{"$f":"IF(Q29=\"\",\"\",IF(Q29=0,\"\",SQRT(SUMIF(DMA!$DA$5:$DA$503,Graphs!$O29,DMA!DC$5:DC$503))/COUNTIF(DMA!$DA$5:$DA$503,Graphs!$O29)))","v":""},{"$f":"IF(R29=\"\",\"\",IF(R29=0,\"\",SQRT(SUMIF(DMA!$DA$5:$DA$503,Graphs!$O29,DMA!DD$5:DD$503))/COUNTIF(DMA!$DA$5:$DA$503,Graphs!$O29)))","v":""},{"$f":"IF($P29=\"\",\"\",IF(P29=0,\"\",AVERAGEIF(DMA!#REF!,Graphs!$O29,DMA!#REF!)))","v":""},{"$f":"IF($Q29=\"\",\"\",IF(Q29=0,\"\",AVERAGEIF(DMA!#REF!,Graphs!$O29,DMA!#REF!)))","v":""},{"$f":"IF($R29=\"\",\"\",IF(R29=0,\"\",AVERAGEIF(DMA!#REF!,Graphs!$O29,DMA!#REF!)))","v":""},null,null,null,null,{"$f":"IF($O29=\"\",\"\",COUNTIFS(DMA!#REF!,Graphs!$O29,DMA!#REF!,\">0\"))","v":""},{"$f":"IF($O29=\"\",\"\",COUNTIFS(DMA!#REF!,Graphs!$O29,DMA!#REF!,\">0\"))","v":""},{"$f":"IF($O29=\"\",\"\",COUNTIFS(DMA!#REF!,Graphs!$O29,DMA!#REF!,\">0\"))","v":""}]
[null,null,null,null,null,null,null,null,null,null,null,null,null,null,null,null,null,null,null,null,null,null,null,null,null,null,null,null,"","","",null,null,null,null,null,null,null,null,null,null,null,null,null,null,null,null,null,null,null,null,"","","",{"$f":"IF(P30=\"\",\"\",IF(P30=0,\"\",SQRT(SUMIF(DMA!$DA$5:$DA$503,Graphs!$O30,DMA!DB$5:DB$503))/COUNTIF(DMA!$DA$5:$DA$503,Graphs!$O30)))","v":""},{"$f":"IF(Q30=\"\",\"\",IF(Q30=0,\"\",SQRT(SUMIF(DMA!$DA$5:$DA$503,Graphs!$O30,DMA!DC$5:DC$503))/COUNTIF(DMA!$DA$5:$DA$503,Graphs!$O30)))","v":""},{"$f":"IF(R30=\"\",\"\",IF(R30=0,\"\",SQRT(SUMIF(DMA!$DA$5:$DA$503,Graphs!$O30,DMA!DD$5:DD$503))/COUNTIF(DMA!$DA$5:$DA$503,Graphs!$O30)))","v":""},{"$f":"IF($P30=\"\",\"\",IF(P30=0,\"\",AVERAGEIF(DMA!#REF!,Graphs!$O30,DMA!#REF!)))","v":""},{"$f":"IF($Q30=\"\",\"\",IF(Q30=0,\"\",AVERAGEIF(DMA!#REF!,Graphs!$O30,DMA!#REF!)))","v":""},{"$f":"IF($R30=\"\",\"\",IF(R30=0,\"\",AVERAGEIF(DMA!#REF!,Graphs!$O30,DMA!#REF!)))","v":""},null,null,null,null,{"$f":"IF($O30=\"\",\"\",COUNTIFS(DMA!#REF!,Graphs!$O30,DMA!#REF!,\">0\"))","v":""},{"$f":"IF($O30=\"\",\"\",COUNTIFS(DMA!#REF!,Graphs!$O30,DMA!#REF!,\">0\"))","v":""},{"$f":"IF($O30=\"\",\"\",COUNTIFS(DMA!#REF!,Graphs!$O30,DMA!#REF!,\">0\"))","v":""}]
[null,null,null,null,null,null,null,null,null,null,null,null,null,null,null,null,null,null,null,null,null,null,null,null,null,null,null,null,"","","",null,null,null,null,null,null,null,null,null,null,null,null,null,null,null,null,null,null,null,null,"","","",{"$f":"IF(P31=\"\",\"\",IF(P31=0,\"\",SQRT(SUMIF(DMA!$DA$5:$DA$503,Graphs!$O31,DMA!DB$5:DB$503))/COUNTIF(DMA!$DA$5:$DA$503,Graphs!$O31)))","v":""},{"$f":"IF(Q31=\"\",\"\",IF(Q31=0,\"\",SQRT(SUMIF(DMA!$DA$5:$DA$503,Graphs!$O31,DMA!DC$5:DC$503))/COUNTIF(DMA!$DA$5:$DA$503,Graphs!$O31)))","v":""},{"$f":"IF(R31=\"\",\"\",IF(R31=0,\"\",SQRT(SUMIF(DMA!$DA$5:$DA$503,Graphs!$O31,DMA!DD$5:DD$503))/COUNTIF(DMA!$DA$5:$DA$503,Graphs!$O31)))","v":""},{"$f":"IF($P31=\"\",\"\",IF(P31=0,\"\",AVERAGEIF(DMA!#REF!,Graphs!$O31,DMA!#REF!)))","v":""},{"$f":"IF($Q31=\"\",\"\",IF(Q31=0,\"\",AVERAGEIF(DMA!#REF!,Graphs!$O31,DMA!#REF!)))","v":""},{"$f":"IF($R31=\"\",\"\",IF(R31=0,\"\",AVERAGEIF(DMA!#REF!,Graphs!$O31,DMA!#REF!)))","v":""},null,null,null,null,{"$f":"IF($O31=\"\",\"\",COUNTIFS(DMA!#REF!,Graphs!$O31,DMA!#REF!,\">0\"))","v":""},{"$f":"IF($O31=\"\",\"\",COUNTIFS(DMA!#REF!,Graphs!$O31,DMA!#REF!,\">0\"))","v":""},{"$f":"IF($O31=\"\",\"\",COUNTIFS(DMA!#REF!,Graphs!$O31,DMA!#REF!,\">0\"))","v":""}]
[null,null,null,null,null,null,null,null,null,null,null,null,null,null,null,null,null,null,null,null,null,null,null,null,null,null,null,null,"","","",null,null,null,null,null,null,null,null,null,null,null,null,null,null,null,null,null,null,null,null,"","","",{"$f":"IF(P32=\"\",\"\",IF(P32=0,\"\",SQRT(SUMIF(DMA!$DA$5:$DA$503,Graphs!$O32,DMA!DB$5:DB$503))/COUNTIF(DMA!$DA$5:$DA$503,Graphs!$O32)))","v":""},{"$f":"IF(Q32=\"\",\"\",IF(Q32=0,\"\",SQRT(SUMIF(DMA!$DA$5:$DA$503,Graphs!$O32,DMA!DC$5:DC$503))/COUNTIF(DMA!$DA$5:$DA$503,Graphs!$O32)))","v":""},{"$f":"IF(R32=\"\",\"\",IF(R32=0,\"\",SQRT(SUMIF(DMA!$DA$5:$DA$503,Graphs!$O32,DMA!DD$5:DD$503))/COUNTIF(DMA!$DA$5:$DA$503,Graphs!$O32)))","v":""},{"$f":"IF($P32=\"\",\"\",IF(P32=0,\"\",AVERAGEIF(DMA!#REF!,Graphs!$O32,DMA!#REF!)))","v":""},{"$f":"IF($Q32=\"\",\"\",IF(Q32=0,\"\",AVERAGEIF(DMA!#REF!,Graphs!$O32,DMA!#REF!)))","v":""},{"$f":"IF($R32=\"\",\"\",IF(R32=0,\"\",AVERAGEIF(DMA!#REF!,Graphs!$O32,DMA!#REF!)))","v":""},null,null,null,null,{"$f":"IF($O32=\"\",\"\",COUNTIFS(DMA!#REF!,Graphs!$O32,DMA!#REF!,\">0\"))","v":""},{"$f":"IF($O32=\"\",\"\",COUNTIFS(DMA!#REF!,Graphs!$O32,DMA!#REF!,\">0\"))","v":""},{"$f":"IF($O32=\"\",\"\",COUNTIFS(DMA!#REF!,Graphs!$O32,DMA!#REF!,\">0\"))","v":""}]
[null,null,null,null,null,null,null,null,null,null,null,null,null,null,null,null,null,null,null,null,null,null,null,null,null,null,null,null,"","","",null,null,null,null,null,null,null,null,null,null,null,null,null,null,null,null,null,null,null,null,"","","",{"$f":"IF(P33=\"\",\"\",IF(P33=0,\"\",SQRT(SUMIF(DMA!$DA$5:$DA$503,Graphs!$O33,DMA!DB$5:DB$503))/COUNTIF(DMA!$DA$5:$DA$503,Graphs!$O33)))","v":""},{"$f":"IF(Q33=\"\",\"\",IF(Q33=0,\"\",SQRT(SUMIF(DMA!$DA$5:$DA$503,Graphs!$O33,DMA!DC$5:DC$503))/COUNTIF(DMA!$DA$5:$DA$503,Graphs!$O33)))","v":""},{"$f":"IF(R33=\"\",\"\",IF(R33=0,\"\",SQRT(SUMIF(DMA!$DA$5:$DA$503,Graphs!$O33,DMA!DD$5:DD$503))/COUNTIF(DMA!$DA$5:$DA$503,Graphs!$O33)))","v":""},{"$f":"IF($P33=\"\",\"\",IF(P33=0,\"\",AVERAGEIF(DMA!#REF!,Graphs!$O33,DMA!#REF!)))","v":""},{"$f":"IF($Q33=\"\",\"\",IF(Q33=0,\"\",AVERAGEIF(DMA!#REF!,Graphs!$O33,DMA!#REF!)))","v":""},{"$f":"IF($R33=\"\",\"\",IF(R33=0,\"\",AVERAGEIF(DMA!#REF!,Graphs!$O33,DMA!#REF!)))","v":""},null,null,null,null,{"$f":"IF($O33=\"\",\"\",COUNTIFS(DMA!#REF!,Graphs!$O33,DMA!#REF!,\">0\"))","v":""},{"$f":"IF($O33=\"\",\"\",COUNTIFS(DMA!#REF!,Graphs!$O33,DMA!#REF!,\">0\"))","v":""},{"$f":"IF($O33=\"\",\"\",COUNTIFS(DMA!#REF!,Graphs!$O33,DMA!#REF!,\">0\"))","v":""}]
[null,null,null,null,null,null,null,null,null,null,null,null,null,null,null,null,null,null,null,null,null,null,null,null,null,null,null,null,"","","",null,null,null,null,null,null,null,null,null,null,null,null,null,null,null,null,null,null,null,null,"","","",{"$f":"IF(P34=\"\",\"\",IF(P34=0,\"\",SQRT(SUMIF(DMA!$DA$5:$DA$503,Graphs!$O34,DMA!DB$5:DB$503))/COUNTIF(DMA!$DA$5:$DA$503,Graphs!$O34)))","v":""},{"$f":"IF(Q34=\"\",\"\",IF(Q34=0,\"\",SQRT(SUMIF(DMA!$DA$5:$DA$503,Graphs!$O34,DMA!DC$5:DC$503))/COUNTIF(DMA!$DA$5:$DA$503,Graphs!$O34)))","v":""},{"$f":"IF(R34=\"\",\"\",IF(R34=0,\"\",SQRT(SUMIF(DMA!$DA$5:$DA$503,Graphs!$O34,DMA!DD$5:DD$503))/COUNTIF(DMA!$DA$5:$DA$503,Graphs!$O34)))","v":""},{"$f":"IF($P34=\"\",\"\",IF(P34=0,\"\",AVERAGEIF(DMA!#REF!,Graphs!$O34,DMA!#REF!)))","v":""},{"$f":"IF($Q34=\"\",\"\",IF(Q34=0,\"\",AVERAGEIF(DMA!#REF!,Graphs!$O34,DMA!#REF!)))","v":""},{"$f":"IF($R34=\"\",\"\",IF(R34=0,\"\",AVERAGEIF(DMA!#REF!,Graphs!$O34,DMA!#REF!)))","v":""},null,null,null,null,{"$f":"IF($O34=\"\",\"\",COUNTIFS(DMA!#REF!,Graphs!$O34,DMA!#REF!,\">0\"))","v":""},{"$f":"IF($O34=\"\",\"\",COUNTIFS(DMA!#REF!,Graphs!$O34,DMA!#REF!,\">0\"))","v":""},{"$f":"IF($O34=\"\",\"\",COUNTIFS(DMA!#REF!,Graphs!$O34,DMA!#REF!,\">0\"))","v":""}]
[null,null,null,null,null,null,null,null,null,null,null,null,null,null,null,null,null,null,null,null,null,null,null,null,null,null,null,null,"","","",null,null,null,null,null,null,null,null,null,null,"GGW",null,null,null,null,null,null,null,null,null,"","","",{"$f":"IF(P35=\"\",\"\",IF(P35=0,\"\",SQRT(SUMIF(DMA!$DA$5:$DA$503,Graphs!$O35,DMA!DB$5:DB$503))/COUNTIF(DMA!$DA$5:$DA$503,Graphs!$O35)))","v":""},{"$f":"IF(Q35=\"\",\"\",IF(Q35=0,\"\",SQRT(SUMIF(DMA!$DA$5:$DA$503,Graphs!$O35,DMA!DC$5:DC$503))/COUNTIF(DMA!$DA$5:$DA$503,Graphs!$O35)))","v":""},{"$f":"IF(R35=\"\",\"\",IF(R35=0,\"\",SQRT(SUMIF(DMA!$DA$5:$DA$503,Graphs!$O35,DMA!DD$5:DD$503))/COUNTIF(DMA!$DA$5:$DA$503,Graphs!$O35)))","v":""},{"$f":"IF($P35=\"\",\"\",IF(P35=0,\"\",AVERAGEIF(DMA!#REF!,Graphs!$O35,DMA!#REF!)))","v":""},{"$f":"IF($Q35=\"\",\"\",IF(Q35=0,\"\",AVERAGEIF(DMA!#REF!,Graphs!$O35,DMA!#REF!)))","v":""},{"$f":"IF($R35=\"\",\"\",IF(R35=0,\"\",AVERAGEIF(DMA!#REF!,Graphs!$O35,DMA!#REF!)))","v":""},null,null,null,null,{"$f":"IF($O35=\"\",\"\",COUNTIFS(DMA!#REF!,Graphs!$O35,DMA!#REF!,\">0\"))","v":""},{"$f":"IF($O35=\"\",\"\",COUNTIFS(DMA!#REF!,Graphs!$O35,DMA!#REF!,\">0\"))","v":""},{"$f":"IF($O35=\"\",\"\",COUNTIFS(DMA!#REF!,Graphs!$O35,DMA!#REF!,\">0\"))","v":""}]
[null,null,null,null,null,null,null,null,null,null,null,null,null,null,null,null,null,null,null,null,null,null,null,null,null,null,null,null,"","","",null,null,null,null,null,null,null,null,null,null,null,null,null,null,null,null,null,null,null,null,"","","",{"$f":"IF(P36=\"\",\"\",IF(P36=0,\"\",SQRT(SUMIF(DMA!$DA$5:$DA$503,Graphs!$O36,DMA!DB$5:DB$503))/COUNTIF(DMA!$DA$5:$DA$503,Graphs!$O36)))","v":""},{"$f":"IF(Q36=\"\",\"\",IF(Q36=0,\"\",SQRT(SUMIF(DMA!$DA$5:$DA$503,Graphs!$O36,DMA!DC$5:DC$503))/COUNTIF(DMA!$DA$5:$DA$503,Graphs!$O36)))","v":""},{"$f":"IF(R36=\"\",\"\",IF(R36=0,\"\",SQRT(SUMIF(DMA!$DA$5:$DA$503,Graphs!$O36,DMA!DD$5:DD$503))/COUNTIF(DMA!$DA$5:$DA$503,Graphs!$O36)))","v":""},{"$f":"IF($P36=\"\",\"\",IF(P36=0,\"\",AVERAGEIF(DMA!#REF!,Graphs!$O36,DMA!#REF!)))","v":""},{"$f":"IF($Q36=\"\",\"\",IF(Q36=0,\"\",AVERAGEIF(DMA!#REF!,Graphs!$O36,DMA!#REF!)))","v":""},{"$f":"IF($R36=\"\",\"\",IF(R36=0,\"\",AVERAGEIF(DMA!#REF!,Graphs!$O36,DMA!#REF!)))","v":""},null,null,null,null,{"$f":"IF($O36=\"\",\"\",COUNTIFS(DMA!#REF!,Graphs!$O36,DMA!#REF!,\">0\"))","v":""},{"$f":"IF($O36=\"\",\"\",COUNTIFS(DMA!#REF!,Graphs!$O36,DMA!#REF!,\">0\"))","v":""},{"$f":"IF($O36=\"\",\"\",COUNTIFS(DMA!#REF!,Graphs!$O36,DMA!#REF!,\">0\"))","v":""}]
[null,null,null,null,null,null,null,null,null,null,null,null,null,null,null,null,null,null,null,null,null,null,null,null,null,null,null,null,"","","",null,null,null,null,null,null,null,null,null,null,"Range (m)","Samples","Proportion","Bin","Cumulative",null,null,null,null,null,"","","",{"$f":"IF(P37=\"\",\"\",IF(P37=0,\"\",SQRT(SUMIF(DMA!$DA$5:$DA$503,Graphs!$O37,DMA!DB$5:DB$503))/COUNTIF(DMA!$DA$5:$DA$503,Graphs!$O37)))","v":""},{"$f":"IF(Q37=\"\",\"\",IF(Q37=0,\"\",SQRT(SUMIF(DMA!$DA$5:$DA$503,Graphs!$O37,DMA!DC$5:DC$503))/COUNTIF(DMA!$DA$5:$DA$503,Graphs!$O37)))","v":""},{"$f":"IF(R37=\"\",\"\",IF(R37=0,\"\",SQRT(SUMIF(DMA!$DA$5:$DA$503,Graphs!$O37,DMA!DD$5:DD$503))/COUNTIF(DMA!$DA$5:$DA$503,Graphs!$O37)))","v":""},{"$f":"IF($P37=\"\",\"\",IF(P37=0,\"\",AVERAGEIF(DMA!#REF!,Graphs!$O37,DMA!#REF!)))","v":""},{"$f":"IF($Q37=\"\",\"\",IF(Q37=0,\"\",AVERAGEIF(DMA!#REF!,Graphs!$O37,DMA!#REF!)))","v":""},{"$f":"IF($R37=\"\",\"\",IF(R37=0,\"\",AVERAGEIF(DMA!#REF!,Graphs!$O37,DMA!#REF!)))","v":""},null,null,null,null,{"$f":"IF($O37=\"\",\"\",COUNTIFS(DMA!#REF!,Graphs!$O37,DMA!#REF!,\">0\"))","v":""},{"$f":"IF($O37=\"\",\"\",COUNTIFS(DMA!#REF!,Graphs!$O37,DMA!#REF!,\">0\"))","v":""},{"$f":"IF($O37=\"\",\"\",COUNTIFS(DMA!#REF!,Graphs!$O37,DMA!#REF!,\">0\"))","v":""}]
[null,null,null,null,null,null,null,null,null,null,null,null,null,null,null,null,null,null,null,null,null,null,null,null,null,null,null,null,"","","",null,null,null,null,null,null,null,null,null,null,"<1",{"$f":"COUNTIF(DMA!#REF!,\"<=1\")","v":{"$error":"#REF!"}},{"$f":"IF(AQ38<>0,100*(AQ38/AQ$44),0)","v":{"$error":"#REF!"}},1,{"$f":"AR38","v":{"$error":"#REF!"}},null,null,null,null,null,"","","",{"$f":"IF(P38=\"\",\"\",IF(P38=0,\"\",SQRT(SUMIF(DMA!$DA$5:$DA$503,Graphs!$O38,DMA!DB$5:DB$503))/COUNTIF(DMA!$DA$5:$DA$503,Graphs!$O38)))","v":""},{"$f":"IF(Q38=\"\",\"\",IF(Q38=0,\"\",SQRT(SUMIF(DMA!$DA$5:$DA$503,Graphs!$O38,DMA!DC$5:DC$503))/COUNTIF(DMA!$DA$5:$DA$503,Graphs!$O38)))","v":""},{"$f":"IF(R38=\"\",\"\",IF(R38=0,\"\",SQRT(SUMIF(DMA!$DA$5:$DA$503,Graphs!$O38,DMA!DD$5:DD$503))/COUNTIF(DMA!$DA$5:$DA$503,Graphs!$O38)))","v":""},{"$f":"IF($P38=\"\",\"\",IF(P38=0,\"\",AVERAGEIF(DMA!#REF!,Graphs!$O38,DMA!#REF!)))","v":""},{"$f":"IF($Q38=\"\",\"\",IF(Q38=0,\"\",AVERAGEIF(DMA!#REF!,Graphs!$O38,DMA!#REF!)))","v":""},{"$f":"IF($R38=\"\",\"\",IF(R38=0,\"\",AVERAGEIF(DMA!#REF!,Graphs!$O38,DMA!#REF!)))","v":""},null,null,null,null,{"$f":"IF($O38=\"\",\"\",COUNTIFS(DMA!#REF!,Graphs!$O38,DMA!#REF!,\">0\"))","v":""},{"$f":"IF($O38=\"\",\"\",COUNTIFS(DMA!#REF!,Graphs!$O38,DMA!#REF!,\">0\"))","v":""},{"$f":"IF($O38=\"\",\"\",COUNTIFS(DMA!#REF!,Graphs!$O38,DMA!#REF!,\">0\"))","v":""}]
[null,null,null,null,null,null,null,null,null,null,null,null,null,null,null,null,null,null,null,null,null,null,null,null,null,null,null,null,"","","",null,null,null,null,null,null,null,null,null,null,"1 - 2",{"$f":"COUNTIF(DMA!#REF!,\"<=2\")-AQ38","v":{"$error":"#REF!"}},{"$error":"#REF!"},2,{"$f":"IF(AR39=\"\",\"\",AR39+AT38)","v":{"$error":"#REF!"}},null,null,null,null,null,"","","",{"$f":"IF(P39=\"\",\"\",IF(P39=0,\"\",SQRT(SUMIF(DMA!$DA$5:$DA$503,Graphs!$O39,DMA!DB$5:DB$503))/COUNTIF(DMA!$DA$5:$DA$503,Graphs!$O39)))","v":""},{"$f":"IF(Q39=\"\",\"\",IF(Q39=0,\"\",SQRT(SUMIF(DMA!$DA$5:$DA$503,Graphs!$O39,DMA!DC$5:DC$503))/COUNTIF(DMA!$DA$5:$DA$503,Graphs!$O39)))","v":""},{"$f":"IF(R39=\"\",\"\",IF(R39=0,\"\",SQRT(SUMIF(DMA!$DA$5:$DA$503,Graphs!$O39,DMA!DD$5:DD$503))/COUNTIF(DMA!$DA$5:$DA$503,Graphs!$O39)))","v":""},{"$f":"IF($P39=\"\",\"\",IF(P39=0,\"\",AVERAGEIF(DMA!#REF!,Graphs!$O39,DMA!#REF!)))","v":""},{"$f":"IF($Q39=\"\",\"\",IF(Q39=0,\"\",AVERAGEIF(DMA!#REF!,Graphs!$O39,DMA!#REF!)))","v":""},{"$f":"IF($R39=\"\",\"\",IF(R39=0,\"\",AVERAGEIF(DMA!#REF!,Graphs!$O39,DMA!#REF!)))","v":""},null,null,null,null,{"$f":"IF($O39=\"\",\"\",COUNTIFS(DMA!#REF!,Graphs!$O39,DMA!#REF!,\">0\"))","v":""},{"$f":"IF($O39=\"\",\"\",COUNTIFS(DMA!#REF!,Graphs!$O39,DMA!#REF!,\">0\"))","v":""},{"$f":"IF($O39=\"\",\"\",COUNTIFS(DMA!#REF!,Graphs!$O39,DMA!#REF!,\">0\"))","v":""}]
[null,null,null,null,null,null,null,null,null,null,null,null,null,null,null,null,null,null,null,null,null,null,null,null,null,null,null,null,"","","",null,null,null,null,null,null,null,null,null,null,"2- 4",{"$f":"COUNTIF(DMA!#REF!,\"<=4\")-SUM(AQ38:AQ39)","v":{"$error":"#REF!"}},{"$error":"#REF!"},4,{"$f":"IF(AR40=\"\",\"\",AR40+AT39)","v":{"$error":"#REF!"}},null,null,null,null,null,"","","",{"$f":"IF(P40=\"\",\"\",IF(P40=0,\"\",SQRT(SUMIF(DMA!$DA$5:$DA$503,Graphs!$O40,DMA!DB$5:DB$503))/COUNTIF(DMA!$DA$5:$DA$503,Graphs!$O40)))","v":""},{"$f":"IF(Q40=\"\",\"\",IF(Q40=0,\"\",SQRT(SUMIF(DMA!$DA$5:$DA$503,Graphs!$O40,DMA!DC$5:DC$503))/COUNTIF(DMA!$DA$5:$DA$503,Graphs!$O40)))","v":""},{"$f":"IF(R40=\"\",\"\",IF(R40=0,\"\",SQRT(SUMIF(DMA!$DA$5:$DA$503,Graphs!$O40,DMA!DD$5:DD$503))/COUNTIF(DMA!$DA$5:$DA$503,Graphs!$O40)))","v":""},{"$f":"IF($P40=\"\",\"\",IF(P40=0,\"\",AVERAGEIF(DMA!#REF!,Graphs!$O40,DMA!#REF!)))","v":""},{"$f":"IF($Q40=\"\",\"\",IF(Q40=0,\"\",AVERAGEIF(DMA!#REF!,Graphs!$O40,DMA!#REF!)))","v":""},{"$f":"IF($R40=\"\",\"\",IF(R40=0,\"\",AVERAGEIF(DMA!#REF!,Graphs!$O40,DMA!#REF!)))","v":""},null,null,null,null,{"$f":"IF($O40=\"\",\"\",COUNTIFS(DMA!#REF!,Graphs!$O40,DMA!#REF!,\">0\"))","v":""},{"$f":"IF($O40=\"\",\"\",COUNTIFS(DMA!#REF!,Graphs!$O40,DMA!#REF!,\">0\"))","v":""},{"$f":"IF($O40=\"\",\"\",COUNTIFS(DMA!#REF!,Graphs!$O40,DMA!#REF!,\">0\"))","v":""}]
[null,null,null,null,null,null,null,null,null,null,null,null,null,null,null,null,null,null,null,null,null,null,null,null,null,null,null,null,"","","",null,null,null,null,null,null,null,null,null,null,"4 - 6",{"$f":"COUNTIF(DMA!#REF!,\"<=6\")-SUM(AQ38:AQ40)","v":{"$error":"#REF!"}},{"$error":"#REF!"},6,{"$f":"IF(AR41=\"\",\"\",AR41+AT40)","v":{"$error":"#REF!"}},null,null,null,null,null,"","","",{"$f":"IF(P41=\"\",\"\",IF(P41=0,\"\",SQRT(SUMIF(DMA!$DA$5:$DA$503,Graphs!$O41,DMA!DB$5:DB$503))/COUNTIF(DMA!$DA$5:$DA$503,Graphs!$O41)))","v":""},{"$f":"IF(Q41=\"\",\"\",IF(Q41=0,\"\",SQRT(SUMIF(DMA!$DA$5:$DA$503,Graphs!$O41,DMA!DC$5:DC$503))/COUNTIF(DMA!$DA$5:$DA$503,Graphs!$O41)))","v":""},{"$f":"IF(R41=\"\",\"\",IF(R41=0,\"\",SQRT(SUMIF(DMA!$DA$5:$DA$503,Graphs!$O41,DMA!DD$5:DD$503))/COUNTIF(DMA!$DA$5:$DA$503,Graphs!$O41)))","v":""},{"$f":"IF($P41=\"\",\"\",IF(P41=0,\"\",AVERAGEIF(DMA!#REF!,Graphs!$O41,DMA!#REF!)))","v":""},{"$f":"IF($Q41=\"\",\"\",IF(Q41=0,\"\",AVERAGEIF(DMA!#REF!,Graphs!$O41,DMA!#REF!)))","v":""},{"$f":"IF($R41=\"\",\"\",IF(R41=0,\"\",AVERAGEIF(DMA!#REF!,Graphs!$O41,DMA!#REF!)))","v":""},null,null,null,null,{"$f":"IF($O41=\"\",\"\",COUNTIFS(DMA!#REF!,Graphs!$O41,DMA!#REF!,\">0\"))","v":""},{"$f":"IF($O41=\"\",\"\",COUNTIFS(DMA!#REF!,Graphs!$O41,DMA!#REF!,\">0\"))","v":""},{"$f":"IF($O41=\"\",\"\",COUNTIFS(DMA!#REF!,Graphs!$O41,DMA!#REF!,\">0\"))","v":""}]
[null,null,null,null,null,null,null,null,null,null,null,null,null,null,null,null,null,null,null,null,null,null,null,null,null,null,null,null,"","","",null,null,null,null,null,null,null,null,null,null,"6 - 8",{"$f":"COUNTIF(DMA!#REF!,\"<=8\")-SUM(AQ38:AQ41)","v":{"$error":"#REF!"}},{"$error":"#REF!"},8,{"$f":"IF(AR42=\"\",\"\",AR42+AT41)","v":{"$error":"#REF!"}},null,null,null,null,null,"","","",{"$f":"IF(P42=\"\",\"\",IF(P42=0,\"\",SQRT(SUMIF(DMA!$DA$5:$DA$503,Graphs!$O42,DMA!DB$5:DB$503))/COUNTIF(DMA!$DA$5:$DA$503,Graphs!$O42)))","v":""},{"$f":"IF(Q42=\"\",\"\",IF(Q42=0,\"\",SQRT(SUMIF(DMA!$DA$5:$DA$503,Graphs!$O42,DMA!DC$5:DC$503))/COUNTIF(DMA!$DA$5:$DA$503,Graphs!$O42)))","v":""},{"$f":"IF(R42=\"\",\"\",IF(R42=0,\"\",SQRT(SUMIF(DMA!$DA$5:$DA$503,Graphs!$O42,DMA!DD$5:DD$503))/COUNTIF(DMA!$DA$5:$DA$503,Graphs!$O42)))","v":""},{"$f":"IF($P42=\"\",\"\",IF(P42=0,\"\",AVERAGEIF(DMA!#REF!,Graphs!$O42,DMA!#REF!)))","v":""},{"$f":"IF($Q42=\"\",\"\",IF(Q42=0,\"\",AVERAGEIF(DMA!#REF!,Graphs!$O42,DMA!#REF!)))","v":""},{"$f":"IF($R42=\"\",\"\",IF(R42=0,\"\",AVERAGEIF(DMA!#REF!,Graphs!$O42,DMA!#REF!)))","v":""},null,null,null,null,{"$f":"IF($O42=\"\",\"\",COUNTIFS(DMA!#REF!,Graphs!$O42,DMA!#REF!,\">0\"))","v":""},{"$f":"IF($O42=\"\",\"\",COUNTIFS(DMA!#REF!,Graphs!$O42,DMA!#REF!,\">0\"))","v":""},{"$f":"IF($O42=\"\",\"\",COUNTIFS(DMA!#REF!,Graphs!$O42,DMA!#REF!,\">0\"))","v":""}]
[null,null,null,null,null,null,null,null,null,null,null,null,null,null,null,null,null,null,null,null,null,null,null,null,null,null,null,null,"","","",null,null,null,null,null,null,null,null,null,null,">8",{"$f":"COUNTIF(DMA!#REF!,\">8\")","v":{"$error":"#REF!"}},{"$error":"#REF!"},10,{"$f":"IF(AR43=\"\",\"\",AR43+AT42)","v":{"$error":"#REF!"}},null,null,null,null,null,"","","",{"$f":"IF(P43=\"\",\"\",IF(P43=0,\"\",SQRT(SUMIF(DMA!$DA$5:$DA$503,Graphs!$O43,DMA!DB$5:DB$503))/COUNTIF(DMA!$DA$5:$DA$503,Graphs!$O43)))","v":""},{"$f":"IF(Q43=\"\",\"\",IF(Q43=0,\"\",SQRT(SUMIF(DMA!$DA$5:$DA$503,Graphs!$O43,DMA!DC$5:DC$503))/COUNTIF(DMA!$DA$5:$DA$503,Graphs!$O43)))","v":""},{"$f":"IF(R43=\"\",\"\",IF(R43=0,\"\",SQRT(SUMIF(DMA!$DA$5:$DA$503,Graphs!$O43,DMA!DD$5:DD$503))/COUNTIF(DMA!$DA$5:$DA$503,Graphs!$O43)))","v":""},{"$f":"IF($P43=\"\",\"\",IF(P43=0,\"\",AVERAGEIF(DMA!#REF!,Graphs!$O43,DMA!#REF!)))","v":""},{"$f":"IF($Q43=\"\",\"\",IF(Q43=0,\"\",AVERAGEIF(DMA!#REF!,Graphs!$O43,DMA!#REF!)))","v":""},{"$f":"IF($R43=\"\",\"\",IF(R43=0,\"\",AVERAGEIF(DMA!#REF!,Graphs!$O43,DMA!#REF!)))","v":""},null,null,null,null,{"$f":"IF($O43=\"\",\"\",COUNTIFS(DMA!#REF!,Graphs!$O43,DMA!#REF!,\">0\"))","v":""},{"$f":"IF($O43=\"\",\"\",COUNTIFS(DMA!#REF!,Graphs!$O43,DMA!#REF!,\">0\"))","v":""},{"$f":"IF($O43=\"\",\"\",COUNTIFS(DMA!#REF!,Graphs!$O43,DMA!#REF!,\">0\"))","v":""}]
[null,null,null,null,null,null,null,null,null,null,null,null,null,null,null,null,null,null,null,null,null,null,null,null,null,null,null,null,"","","",null,null,null,null,null,null,null,null,null,null,"Total",{"$f":"SUM(AQ38:AQ43)","v":{"$error":"#REF!"}},null,null,null,null,null,null,null,null,"","","",{"$f":"IF(P44=\"\",\"\",IF(P44=0,\"\",SQRT(SUMIF(DMA!$DA$5:$DA$503,Graphs!$O44,DMA!DB$5:DB$503))/COUNTIF(DMA!$DA$5:$DA$503,Graphs!$O44)))","v":""},{"$f":"IF(Q44=\"\",\"\",IF(Q44=0,\"\",SQRT(SUMIF(DMA!$DA$5:$DA$503,Graphs!$O44,DMA!DC$5:DC$503))/COUNTIF(DMA!$DA$5:$DA$503,Graphs!$O44)))","v":""},{"$f":"IF(R44=\"\",\"\",IF(R44=0,\"\",SQRT(SUMIF(DMA!$DA$5:$DA$503,Graphs!$O44,DMA!DD$5:DD$503))/COUNTIF(DMA!$DA$5:$DA$503,Graphs!$O44)))","v":""},{"$f":"IF($P44=\"\",\"\",IF(P44=0,\"\",AVERAGEIF(DMA!#REF!,Graphs!$O44,DMA!#REF!)))","v":""},{"$f":"IF($Q44=\"\",\"\",IF(Q44=0,\"\",AVERAGEIF(DMA!#REF!,Graphs!$O44,DMA!#REF!)))","v":""},{"$f":"IF($R44=\"\",\"\",IF(R44=0,\"\",AVERAGEIF(DMA!#REF!,Graphs!$O44,DMA!#REF!)))","v":""},null,null,null,null,{"$f":"IF($O44=\"\",\"\",COUNTIFS(DMA!#REF!,Graphs!$O44,DMA!#REF!,\">0\"))","v":""},{"$f":"IF($O44=\"\",\"\",COUNTIFS(DMA!#REF!,Graphs!$O44,DMA!#REF!,\">0\"))","v":""},{"$f":"IF($O44=\"\",\"\",COUNTIFS(DMA!#REF!,Graphs!$O44,DMA!#REF!,\">0\"))","v":""}]
[null,null,null,null,null,null,null,null,null,null,null,null,null,null,null,null,null,null,null,null,null,null,null,null,null,null,null,null,"","","",null,null,null,null,null,null,null,null,null,null,null,null,null,null,null,null,null,null,null,null,"","","",{"$f":"IF(P45=\"\",\"\",IF(P45=0,\"\",SQRT(SUMIF(DMA!$DA$5:$DA$503,Graphs!$O45,DMA!DB$5:DB$503))/COUNTIF(DMA!$DA$5:$DA$503,Graphs!$O45)))","v":""},{"$f":"IF(Q45=\"\",\"\",IF(Q45=0,\"\",SQRT(SUMIF(DMA!$DA$5:$DA$503,Graphs!$O45,DMA!DC$5:DC$503))/COUNTIF(DMA!$DA$5:$DA$503,Graphs!$O45)))","v":""},{"$f":"IF(R45=\"\",\"\",IF(R45=0,\"\",SQRT(SUMIF(DMA!$DA$5:$DA$503,Graphs!$O45,DMA!DD$5:DD$503))/COUNTIF(DMA!$DA$5:$DA$503,Graphs!$O45)))","v":""},{"$f":"IF($P45=\"\",\"\",IF(P45=0,\"\",AVERAGEIF(DMA!#REF!,Graphs!$O45,DMA!#REF!)))","v":""},{"$f":"IF($Q45=\"\",\"\",IF(Q45=0,\"\",AVERAGEIF(DMA!#REF!,Graphs!$O45,DMA!#REF!)))","v":""},{"$f":"IF($R45=\"\",\"\",IF(R45=0,\"\",AVERAGEIF(DMA!#REF!,Graphs!$O45,DMA!#REF!)))","v":""},null,null,null,null,{"$f":"IF($O45=\"\",\"\",COUNTIFS(DMA!#REF!,Graphs!$O45,DMA!#REF!,\">0\"))","v":""},{"$f":"IF($O45=\"\",\"\",COUNTIFS(DMA!#REF!,Graphs!$O45,DMA!#REF!,\">0\"))","v":""},{"$f":"IF($O45=\"\",\"\",COUNTIFS(DMA!#REF!,Graphs!$O45,DMA!#REF!,\">0\"))","v":""}]
[null,null,null,null,null,null,null,null,null,null,null,null,null,null,null,null,null,null,null,null,null,null,null,null,null,null,null,null,"","","",null,null,null,null,null,null,null,null,null,null,null,null,null,null,null,null,null,null,null,null,"","","",{"$f":"IF(P46=\"\",\"\",IF(P46=0,\"\",SQRT(SUMIF(DMA!$DA$5:$DA$503,Graphs!$O46,DMA!DB$5:DB$503))/COUNTIF(DMA!$DA$5:$DA$503,Graphs!$O46)))","v":""},{"$f":"IF(Q46=\"\",\"\",IF(Q46=0,\"\",SQRT(SUMIF(DMA!$DA$5:$DA$503,Graphs!$O46,DMA!DC$5:DC$503))/COUNTIF(DMA!$DA$5:$DA$503,Graphs!$O46)))","v":""},{"$f":"IF(R46=\"\",\"\",IF(R46=0,\"\",SQRT(SUMIF(DMA!$DA$5:$DA$503,Graphs!$O46,DMA!DD$5:DD$503))/COUNTIF(DMA!$DA$5:$DA$503,Graphs!$O46)))","v":""},{"$f":"IF($P46=\"\",\"\",IF(P46=0,\"\",AVERAGEIF(DMA!#REF!,Graphs!$O46,DMA!#REF!)))","v":""},{"$f":"IF($Q46=\"\",\"\",IF(Q46=0,\"\",AVERAGEIF(DMA!#REF!,Graphs!$O46,DMA!#REF!)))","v":""},{"$f":"IF($R46=\"\",\"\",IF(R46=0,\"\",AVERAGEIF(DMA!#REF!,Graphs!$O46,DMA!#REF!)))","v":""},null,null,null,null,{"$f":"IF($O46=\"\",\"\",COUNTIFS(DMA!#REF!,Graphs!$O46,DMA!#REF!,\">0\"))","v":""},{"$f":"IF($O46=\"\",\"\",COUNTIFS(DMA!#REF!,Graphs!$O46,DMA!#REF!,\">0\"))","v":""},{"$f":"IF($O46=\"\",\"\",COUNTIFS(DMA!#REF!,Graphs!$O46,DMA!#REF!,\">0\"))","v":""}]
[null,null,null,null,null,null,null,null,null,null,null,null,null,null,null,null,null,null,null,null,null,null,null,null,null,null,null,null,"","","",null,null,null,null,null,null,null,null,null,null,null,null,null,null,null,null,null,null,null,null,"","","",{"$f":"IF(P47=\"\",\"\",IF(P47=0,\"\",SQRT(SUMIF(DMA!$DA$5:$DA$503,Graphs!$O47,DMA!DB$5:DB$503))/COUNTIF(DMA!$DA$5:$DA$503,Graphs!$O47)))","v":""},{"$f":"IF(Q47=\"\",\"\",IF(Q47=0,\"\",SQRT(SUMIF(DMA!$DA$5:$DA$503,Graphs!$O47,DMA!DC$5:DC$503))/COUNTIF(DMA!$DA$5:$DA$503,Graphs!$O47)))","v":""},{"$f":"IF(R47=\"\",\"\",IF(R47=0,\"\",SQRT(SUMIF(DMA!$DA$5:$DA$503,Graphs!$O47,DMA!DD$5:DD$503))/COUNTIF(DMA!$DA$5:$DA$503,Graphs!$O47)))","v":""},{"$f":"IF($P47=\"\",\"\",IF(P47=0,\"\",AVERAGEIF(DMA!#REF!,Graphs!$O47,DMA!#REF!)))","v":""},{"$f":"IF($Q47=\"\",\"\",IF(Q47=0,\"\",AVERAGEIF(DMA!#REF!,Graphs!$O47,DMA!#REF!)))","v":""},{"$f":"IF($R47=\"\",\"\",IF(R47=0,\"\",AVERAGEIF(DMA!#REF!,Graphs!$O47,DMA!#REF!)))","v":""},null,null,null,null,{"$f":"IF($O47=\"\",\"\",COUNTIFS(DMA!#REF!,Graphs!$O47,DMA!#REF!,\">0\"))","v":""},{"$f":"IF($O47=\"\",\"\",COUNTIFS(DMA!#REF!,Graphs!$O47,DMA!#REF!,\">0\"))","v":""},{"$f":"IF($O47=\"\",\"\",COUNTIFS(DMA!#REF!,Graphs!$O47,DMA!#REF!,\">0\"))","v":""}]
[null,null,null,null,null,null,null,null,null,null,null,null,null,null,null,null,null,null,null,null,null,null,null,null,null,null,null,null,"","","",null,null,null,null,null,null,null,null,null,null,null,null,null,null,null,null,null,null,null,null,"","","",{"$f":"IF(P48=\"\",\"\",IF(P48=0,\"\",SQRT(SUMIF(DMA!$DA$5:$DA$503,Graphs!$O48,DMA!DB$5:DB$503))/COUNTIF(DMA!$DA$5:$DA$503,Graphs!$O48)))","v":""},{"$f":"IF(Q48=\"\",\"\",IF(Q48=0,\"\",SQRT(SUMIF(DMA!$DA$5:$DA$503,Graphs!$O48,DMA!DC$5:DC$503))/COUNTIF(DMA!$DA$5:$DA$503,Graphs!$O48)))","v":""},{"$f":"IF(R48=\"\",\"\",IF(R48=0,\"\",SQRT(SUMIF(DMA!$DA$5:$DA$503,Graphs!$O48,DMA!DD$5:DD$503))/COUNTIF(DMA!$DA$5:$DA$503,Graphs!$O48)))","v":""},{"$f":"IF($P48=\"\",\"\",IF(P48=0,\"\",AVERAGEIF(DMA!#REF!,Graphs!$O48,DMA!#REF!)))","v":""},{"$f":"IF($Q48=\"\",\"\",IF(Q48=0,\"\",AVERAGEIF(DMA!#REF!,Graphs!$O48,DMA!#REF!)))","v":""},{"$f":"IF($R48=\"\",\"\",IF(R48=0,\"\",AVERAGEIF(DMA!#REF!,Graphs!$O48,DMA!#REF!)))","v":""},null,null,null,null,{"$f":"IF($O48=\"\",\"\",COUNTIFS(DMA!#REF!,Graphs!$O48,DMA!#REF!,\">0\"))","v":""},{"$f":"IF($O48=\"\",\"\",COUNTIFS(DMA!#REF!,Graphs!$O48,DMA!#REF!,\">0\"))","v":""},{"$f":"IF($O48=\"\",\"\",COUNTIFS(DMA!#REF!,Graphs!$O48,DMA!#REF!,\">0\"))","v":""}]
[null,null,null,null,null,null,null,null,null,null,null,null,null,null,null,null,null,null,null,null,null,null,null,null,null,null,null,null,"","","",null,null,null,null,null,null,null,null,null,null,null,null,null,null,null,null,null,null,null,null,"","","",{"$f":"IF(P49=\"\",\"\",IF(P49=0,\"\",SQRT(SUMIF(DMA!$DA$5:$DA$503,Graphs!$O49,DMA!DB$5:DB$503))/COUNTIF(DMA!$DA$5:$DA$503,Graphs!$O49)))","v":""},{"$f":"IF(Q49=\"\",\"\",IF(Q49=0,\"\",SQRT(SUMIF(DMA!$DA$5:$DA$503,Graphs!$O49,DMA!DC$5:DC$503))/COUNTIF(DMA!$DA$5:$DA$503,Graphs!$O49)))","v":""},{"$f":"IF(R49=\"\",\"\",IF(R49=0,\"\",SQRT(SUMIF(DMA!$DA$5:$DA$503,Graphs!$O49,DMA!DD$5:DD$503))/COUNTIF(DMA!$DA$5:$DA$503,Graphs!$O49)))","v":""},{"$f":"IF($P49=\"\",\"\",IF(P49=0,\"\",AVERAGEIF(DMA!#REF!,Graphs!$O49,DMA!#REF!)))","v":""},{"$f":"IF($Q49=\"\",\"\",IF(Q49=0,\"\",AVERAGEIF(DMA!#REF!,Graphs!$O49,DMA!#REF!)))","v":""},{"$f":"IF($R49=\"\",\"\",IF(R49=0,\"\",AVERAGEIF(DMA!#REF!,Graphs!$O49,DMA!#REF!)))","v":""},null,null,null,null,{"$f":"IF($O49=\"\",\"\",COUNTIFS(DMA!#REF!,Graphs!$O49,DMA!#REF!,\">0\"))","v":""},{"$f":"IF($O49=\"\",\"\",COUNTIFS(DMA!#REF!,Graphs!$O49,DMA!#REF!,\">0\"))","v":""},{"$f":"IF($O49=\"\",\"\",COUNTIFS(DMA!#REF!,Graphs!$O49,DMA!#REF!,\">0\"))","v":""}]
[null,null,null,null,null,null,null,null,null,null,null,null,null,null,null,null,null,null,null,null,null,null,null,null,null,null,null,null,"","","",null,null,null,null,null,null,null,null,null,null,null,null,null,null,null,null,null,null,null,null,"","","",{"$f":"IF(P50=\"\",\"\",IF(P50=0,\"\",SQRT(SUMIF(DMA!$DA$5:$DA$503,Graphs!$O50,DMA!DB$5:DB$503))/COUNTIF(DMA!$DA$5:$DA$503,Graphs!$O50)))","v":""},{"$f":"IF(Q50=\"\",\"\",IF(Q50=0,\"\",SQRT(SUMIF(DMA!$DA$5:$DA$503,Graphs!$O50,DMA!DC$5:DC$503))/COUNTIF(DMA!$DA$5:$DA$503,Graphs!$O50)))","v":""},{"$f":"IF(R50=\"\",\"\",IF(R50=0,\"\",SQRT(SUMIF(DMA!$DA$5:$DA$503,Graphs!$O50,DMA!DD$5:DD$503))/COUNTIF(DMA!$DA$5:$DA$503,Graphs!$O50)))","v":""},{"$f":"IF($P50=\"\",\"\",IF(P50=0,\"\",AVERAGEIF(DMA!#REF!,Graphs!$O50,DMA!#REF!)))","v":""},{"$f":"IF($Q50=\"\",\"\",IF(Q50=0,\"\",AVERAGEIF(DMA!#REF!,Graphs!$O50,DMA!#REF!)))","v":""},{"$f":"IF($R50=\"\",\"\",IF(R50=0,\"\",AVERAGEIF(DMA!#REF!,Graphs!$O50,DMA!#REF!)))","v":""},null,null,null,null,{"$f":"IF($O50=\"\",\"\",COUNTIFS(DMA!#REF!,Graphs!$O50,DMA!#REF!,\">0\"))","v":""},{"$f":"IF($O50=\"\",\"\",COUNTIFS(DMA!#REF!,Graphs!$O50,DMA!#REF!,\">0\"))","v":""},{"$f":"IF($O50=\"\",\"\",COUNTIFS(DMA!#REF!,Graphs!$O50,DMA!#REF!,\">0\"))","v":""}]
[null,null,null,null,null,null,null,null,null,null,null,null,null,null,null,null,null,null,null,null,null,null,null,null,null,null,null,null,"","","",null,null,null,null,null,null,null,null,null,null,null,null,null,null,null,null,null,null,null,null,"","","",{"$f":"IF(P51=\"\",\"\",IF(P51=0,\"\",SQRT(SUMIF(DMA!$DA$5:$DA$503,Graphs!$O51,DMA!DB$5:DB$503))/COUNTIF(DMA!$DA$5:$DA$503,Graphs!$O51)))","v":""},{"$f":"IF(Q51=\"\",\"\",IF(Q51=0,\"\",SQRT(SUMIF(DMA!$DA$5:$DA$503,Graphs!$O51,DMA!DC$5:DC$503))/COUNTIF(DMA!$DA$5:$DA$503,Graphs!$O51)))","v":""},{"$f":"IF(R51=\"\",\"\",IF(R51=0,\"\",SQRT(SUMIF(DMA!$DA$5:$DA$503,Graphs!$O51,DMA!DD$5:DD$503))/COUNTIF(DMA!$DA$5:$DA$503,Graphs!$O51)))","v":""},{"$f":"IF($P51=\"\",\"\",IF(P51=0,\"\",AVERAGEIF(DMA!#REF!,Graphs!$O51,DMA!#REF!)))","v":""},{"$f":"IF($Q51=\"\",\"\",IF(Q51=0,\"\",AVERAGEIF(DMA!#REF!,Graphs!$O51,DMA!#REF!)))","v":""},{"$f":"IF($R51=\"\",\"\",IF(R51=0,\"\",AVERAGEIF(DMA!#REF!,Graphs!$O51,DMA!#REF!)))","v":""},null,null,null,null,{"$f":"IF($O51=\"\",\"\",COUNTIFS(DMA!#REF!,Graphs!$O51,DMA!#REF!,\">0\"))","v":""},{"$f":"IF($O51=\"\",\"\",COUNTIFS(DMA!#REF!,Graphs!$O51,DMA!#REF!,\">0\"))","v":""},{"$f":"IF($O51=\"\",\"\",COUNTIFS(DMA!#REF!,Graphs!$O51,DMA!#REF!,\">0\"))","v":""}]
[null,null,null,null,null,null,null,null,null,null,null,null,null,null,null,null,null,null,null,null,null,null,null,null,null,null,null,null,"","","",null,null,null,null,null,null,null,null,null,null,null,null,null,null,null,null,null,null,null,null,"","","",{"$f":"IF(P52=\"\",\"\",IF(P52=0,\"\",SQRT(SUMIF(DMA!$DA$5:$DA$503,Graphs!$O52,DMA!DB$5:DB$503))/COUNTIF(DMA!$DA$5:$DA$503,Graphs!$O52)))","v":""},{"$f":"IF(Q52=\"\",\"\",IF(Q52=0,\"\",SQRT(SUMIF(DMA!$DA$5:$DA$503,Graphs!$O52,DMA!DC$5:DC$503))/COUNTIF(DMA!$DA$5:$DA$503,Graphs!$O52)))","v":""},{"$f":"IF(R52=\"\",\"\",IF(R52=0,\"\",SQRT(SUMIF(DMA!$DA$5:$DA$503,Graphs!$O52,DMA!DD$5:DD$503))/COUNTIF(DMA!$DA$5:$DA$503,Graphs!$O52)))","v":""},{"$f":"IF($P52=\"\",\"\",IF(P52=0,\"\",AVERAGEIF(DMA!#REF!,Graphs!$O52,DMA!#REF!)))","v":""},{"$f":"IF($Q52=\"\",\"\",IF(Q52=0,\"\",AVERAGEIF(DMA!#REF!,Graphs!$O52,DMA!#REF!)))","v":""},{"$f":"IF($R52=\"\",\"\",IF(R52=0,\"\",AVERAGEIF(DMA!#REF!,Graphs!$O52,DMA!#REF!)))","v":""},null,null,null,null,{"$f":"IF($O52=\"\",\"\",COUNTIFS(DMA!#REF!,Graphs!$O52,DMA!#REF!,\">0\"))","v":""},{"$f":"IF($O52=\"\",\"\",COUNTIFS(DMA!#REF!,Graphs!$O52,DMA!#REF!,\">0\"))","v":""},{"$f":"IF($O52=\"\",\"\",COUNTIFS(DMA!#REF!,Graphs!$O52,DMA!#REF!,\">0\"))","v":""}]
[null,null,null,null,null,null,null,null,null,null,null,null,null,null,null,null,null,null,null,null,null,null,null,null,null,null,null,null,"","","",null,null,null,null,null,null,null,null,null,null,null,null,null,null,null,null,null,null,null,null,"","","",{"$f":"IF(P53=\"\",\"\",IF(P53=0,\"\",SQRT(SUMIF(DMA!$DA$5:$DA$503,Graphs!$O53,DMA!DB$5:DB$503))/COUNTIF(DMA!$DA$5:$DA$503,Graphs!$O53)))","v":""},{"$f":"IF(Q53=\"\",\"\",IF(Q53=0,\"\",SQRT(SUMIF(DMA!$DA$5:$DA$503,Graphs!$O53,DMA!DC$5:DC$503))/COUNTIF(DMA!$DA$5:$DA$503,Graphs!$O53)))","v":""},{"$f":"IF(R53=\"\",\"\",IF(R53=0,\"\",SQRT(SUMIF(DMA!$DA$5:$DA$503,Graphs!$O53,DMA!DD$5:DD$503))/COUNTIF(DMA!$DA$5:$DA$503,Graphs!$O53)))","v":""},{"$f":"IF($P53=\"\",\"\",IF(P53=0,\"\",AVERAGEIF(DMA!#REF!,Graphs!$O53,DMA!#REF!)))","v":""},{"$f":"IF($Q53=\"\",\"\",IF(Q53=0,\"\",AVERAGEIF(DMA!#REF!,Graphs!$O53,DMA!#REF!)))","v":""},{"$f":"IF($R53=\"\",\"\",IF(R53=0,\"\",AVERAGEIF(DMA!#REF!,Graphs!$O53,DMA!#REF!)))","v":""},null,null,null,null,{"$f":"IF($O53=\"\",\"\",COUNTIFS(DMA!#REF!,Graphs!$O53,DMA!#REF!,\">0\"))","v":""},{"$f":"IF($O53=\"\",\"\",COUNTIFS(DMA!#REF!,Graphs!$O53,DMA!#REF!,\">0\"))","v":""},{"$f":"IF($O53=\"\",\"\",COUNTIFS(DMA!#REF!,Graphs!$O53,DMA!#REF!,\">0\"))","v":""}]
[null,null,null,null,null,null,null,null,null,null,null,null,null,null,null,null,null,null,null,null,null,null,null,null,null,null,null,null,"","","",null,null,null,null,null,null,null,null,null,null,null,null,null,null,null,null,null,null,null,null,"","","",{"$f":"IF(P54=\"\",\"\",IF(P54=0,\"\",SQRT(SUMIF(DMA!$DA$5:$DA$503,Graphs!$O54,DMA!DB$5:DB$503))/COUNTIF(DMA!$DA$5:$DA$503,Graphs!$O54)))","v":""},{"$f":"IF(Q54=\"\",\"\",IF(Q54=0,\"\",SQRT(SUMIF(DMA!$DA$5:$DA$503,Graphs!$O54,DMA!DC$5:DC$503))/COUNTIF(DMA!$DA$5:$DA$503,Graphs!$O54)))","v":""},{"$f":"IF(R54=\"\",\"\",IF(R54=0,\"\",SQRT(SUMIF(DMA!$DA$5:$DA$503,Graphs!$O54,DMA!DD$5:DD$503))/COUNTIF(DMA!$DA$5:$DA$503,Graphs!$O54)))","v":""},{"$f":"IF($P54=\"\",\"\",IF(P54=0,\"\",AVERAGEIF(DMA!#REF!,Graphs!$O54,DMA!#REF!)))","v":""},{"$f":"IF($Q54=\"\",\"\",IF(Q54=0,\"\",AVERAGEIF(DMA!#REF!,Graphs!$O54,DMA!#REF!)))","v":""},{"$f":"IF($R54=\"\",\"\",IF(R54=0,\"\",AVERAGEIF(DMA!#REF!,Graphs!$O54,DMA!#REF!)))","v":""},null,null,null,null,{"$f":"IF($O54=\"\",\"\",COUNTIFS(DMA!#REF!,Graphs!$O54,DMA!#REF!,\">0\"))","v":""},{"$f":"IF($O54=\"\",\"\",COUNTIFS(DMA!#REF!,Graphs!$O54,DMA!#REF!,\">0\"))","v":""},{"$f":"IF($O54=\"\",\"\",COUNTIFS(DMA!#REF!,Graphs!$O54,DMA!#REF!,\">0\"))","v":""}]
[null,null,null,null,null,null,null,null,null,null,null,null,null,null,null,null,null,null,null,null,null,null,null,null,null,null,null,null,"","","",null,null,null,null,null,null,null,null,null,null,null,null,null,null,null,null,null,null,null,null,"","","",{"$f":"IF(P55=\"\",\"\",IF(P55=0,\"\",SQRT(SUMIF(DMA!$DA$5:$DA$503,Graphs!$O55,DMA!DB$5:DB$503))/COUNTIF(DMA!$DA$5:$DA$503,Graphs!$O55)))","v":""},{"$f":"IF(Q55=\"\",\"\",IF(Q55=0,\"\",SQRT(SUMIF(DMA!$DA$5:$DA$503,Graphs!$O55,DMA!DC$5:DC$503))/COUNTIF(DMA!$DA$5:$DA$503,Graphs!$O55)))","v":""},{"$f":"IF(R55=\"\",\"\",IF(R55=0,\"\",SQRT(SUMIF(DMA!$DA$5:$DA$503,Graphs!$O55,DMA!DD$5:DD$503))/COUNTIF(DMA!$DA$5:$DA$503,Graphs!$O55)))","v":""},{"$f":"IF($P55=\"\",\"\",IF(P55=0,\"\",AVERAGEIF(DMA!#REF!,Graphs!$O55,DMA!#REF!)))","v":""},{"$f":"IF($Q55=\"\",\"\",IF(Q55=0,\"\",AVERAGEIF(DMA!#REF!,Graphs!$O55,DMA!#REF!)))","v":""},{"$f":"IF($R55=\"\",\"\",IF(R55=0,\"\",AVERAGEIF(DMA!#REF!,Graphs!$O55,DMA!#REF!)))","v":""},null,null,null,null,{"$f":"IF($O55=\"\",\"\",COUNTIFS(DMA!#REF!,Graphs!$O55,DMA!#REF!,\">0\"))","v":""},{"$f":"IF($O55=\"\",\"\",COUNTIFS(DMA!#REF!,Graphs!$O55,DMA!#REF!,\">0\"))","v":""},{"$f":"IF($O55=\"\",\"\",COUNTIFS(DMA!#REF!,Graphs!$O55,DMA!#REF!,\">0\"))","v":""}]
[null,null,null,null,null,null,null,null,null,null,null,null,null,null,null,null,null,null,null,null,null,null,null,null,null,null,null,null,null,null,null,null,null,null,null,null,null,null,null,null,null,null,null,null,null,null,null,null,null,null,null,{"$f":"IF(BC56=\"\",\"\",IF(BC56=1,\"\",IF(BC56=0,\"\",CONFIDENCE(0.05,BC56,BM56))))","v":""},{"$f":"IF(BD56=\"\",\"\",IF(BD56=1,\"\",IF(BD56=0,\"\",CONFIDENCE(0.05,BD56,BN56))))","v":""},{"$f":"IF(BE56=\"\",\"\",IF(BE56=1,\"\",IF(BE56=0,\"\",CONFIDENCE(0.05,BE56,BO56))))","v":""},{"$f":"IF(P56=\"\",\"\",IF(P56=0,\"\",SQRT(SUMIF(DMA!$DA$5:$DA$503,Graphs!$O56,DMA!DB$5:DB$503))/COUNTIF(DMA!$DA$5:$DA$503,Graphs!$O56)))","v":""},{"$f":"IF(Q56=\"\",\"\",IF(Q56=0,\"\",SQRT(SUMIF(DMA!$DA$5:$DA$503,Graphs!$O56,DMA!DC$5:DC$503))/COUNTIF(DMA!$DA$5:$DA$503,Graphs!$O56)))","v":""},{"$f":"IF(R56=\"\",\"\",IF(R56=0,\"\",SQRT(SUMIF(DMA!$DA$5:$DA$503,Graphs!$O56,DMA!DD$5:DD$503))/COUNTIF(DMA!$DA$5:$DA$503,Graphs!$O56)))","v":""},{"$f":"IF($P56=\"\",\"\",IF(P56=0,\"\",AVERAGEIF(DMA!#REF!,Graphs!$O56,DMA!#REF!)))","v":""},{"$f":"IF($Q56=\"\",\"\",IF(Q56=0,\"\",AVERAGEIF(DMA!#REF!,Graphs!$O56,DMA!#REF!)))","v":""},{"$f":"IF($R56=\"\",\"\",IF(R56=0,\"\",AVERAGEIF(DMA!#REF!,Graphs!$O56,DMA!#REF!)))","v":""}]
[null,null,null,null,null,null,null,null,null,null,null,null,null,null,null,null,null,null,null,null,null,null,null,null,null,null,null,null,null,null,null,null,null,null,null,null,null,null,null,null,null,null,null,null,null,null,null,null,null,null,null,"","","",{"$f":"IF(P57=\"\",\"\",IF(P57=0,\"\",SQRT(SUMIF(DMA!$DA$5:$DA$503,Graphs!$O57,DMA!DB$5:DB$503))/COUNTIF(DMA!$DA$5:$DA$503,Graphs!$O57)))","v":""},{"$f":"IF(Q57=\"\",\"\",IF(Q57=0,\"\",SQRT(SUMIF(DMA!$DA$5:$DA$503,Graphs!$O57,DMA!DC$5:DC$503))/COUNTIF(DMA!$DA$5:$DA$503,Graphs!$O57)))","v":""},{"$f":"IF(R57=\"\",\"\",IF(R57=0,\"\",SQRT(SUMIF(DMA!$DA$5:$DA$503,Graphs!$O57,DMA!DD$5:DD$503))/COUNTIF(DMA!$DA$5:$DA$503,Graphs!$O57)))","v":""},{"$f":"IF($P57=\"\",\"\",IF(P57=0,\"\",AVERAGEIF(DMA!#REF!,Graphs!$O57,DMA!#REF!)))","v":""},{"$f":"IF($Q57=\"\",\"\",IF(Q57=0,\"\",AVERAGEIF(DMA!#REF!,Graphs!$O57,DMA!#REF!)))","v":""},{"$f":"IF($R57=\"\",\"\",IF(R57=0,\"\",AVERAGEIF(DMA!#REF!,Graphs!$O57,DMA!#REF!)))","v":""}]
[null,null,null,null,null,null,null,null,null,null,null,null,null,null,null,null,null,null,null,null,null,null,null,null,null,null,null,null,null,null,null,null,null,null,null,null,null,null,null,null,null,null,null,null,null,null,null,null,null,null,null,"","","",{"$f":"IF(P58=\"\",\"\",IF(P58=0,\"\",SQRT(SUMIF(DMA!$DA$5:$DA$503,Graphs!$O58,DMA!DB$5:DB$503))/COUNTIF(DMA!$DA$5:$DA$503,Graphs!$O58)))","v":""},{"$f":"IF(Q58=\"\",\"\",IF(Q58=0,\"\",SQRT(SUMIF(DMA!$DA$5:$DA$503,Graphs!$O58,DMA!DC$5:DC$503))/COUNTIF(DMA!$DA$5:$DA$503,Graphs!$O58)))","v":""},{"$f":"IF(R58=\"\",\"\",IF(R58=0,\"\",SQRT(SUMIF(DMA!$DA$5:$DA$503,Graphs!$O58,DMA!DD$5:DD$503))/COUNTIF(DMA!$DA$5:$DA$503,Graphs!$O58)))","v":""},{"$f":"IF($P58=\"\",\"\",IF(P58=0,\"\",AVERAGEIF(DMA!#REF!,Graphs!$O58,DMA!#REF!)))","v":""},{"$f":"IF($Q58=\"\",\"\",IF(Q58=0,\"\",AVERAGEIF(DMA!#REF!,Graphs!$O58,DMA!#REF!)))","v":""},{"$f":"IF($R58=\"\",\"\",IF(R58=0,\"\",AVERAGEIF(DMA!#REF!,Graphs!$O58,DMA!#REF!)))","v":""}]
[null,null,null,null,null,null,null,null,null,null,null,null,null,null,null,null,null,null,null,null,null,null,null,null,null,null,null,null,null,null,null,null,null,null,null,null,null,null,null,null,null,null,null,null,null,null,null,null,null,null,null,"","","",{"$f":"IF(P59=\"\",\"\",IF(P59=0,\"\",SQRT(SUMIF(DMA!$DA$5:$DA$503,Graphs!$O59,DMA!DB$5:DB$503))/COUNTIF(DMA!$DA$5:$DA$503,Graphs!$O59)))","v":""},{"$f":"IF(Q59=\"\",\"\",IF(Q59=0,\"\",SQRT(SUMIF(DMA!$DA$5:$DA$503,Graphs!$O59,DMA!DC$5:DC$503))/COUNTIF(DMA!$DA$5:$DA$503,Graphs!$O59)))","v":""},{"$f":"IF(R59=\"\",\"\",IF(R59=0,\"\",SQRT(SUMIF(DMA!$DA$5:$DA$503,Graphs!$O59,DMA!DD$5:DD$503))/COUNTIF(DMA!$DA$5:$DA$503,Graphs!$O59)))","v":""},{"$f":"IF($P59=\"\",\"\",IF(P59=0,\"\",AVERAGEIF(DMA!#REF!,Graphs!$O59,DMA!#REF!)))","v":""},{"$f":"IF($Q59=\"\",\"\",IF(Q59=0,\"\",AVERAGEIF(DMA!#REF!,Graphs!$O59,DMA!#REF!)))","v":""},{"$f":"IF($R59=\"\",\"\",IF(R59=0,\"\",AVERAGEIF(DMA!#REF!,Graphs!$O59,DMA!#REF!)))","v":""}]
[null,null,null,null,null,null,null,null,null,null,null,null,null,null,null,null,null,null,null,null,null,null,null,null,null,null,null,null,null,null,null,null,null,null,null,null,null,null,null,null,null,null,null,null,null,null,null,null,null,null,null,"","","",{"$f":"IF(P60=\"\",\"\",IF(P60=0,\"\",SQRT(SUMIF(DMA!$DA$5:$DA$503,Graphs!$O60,DMA!DB$5:DB$503))/COUNTIF(DMA!$DA$5:$DA$503,Graphs!$O60)))","v":""},{"$f":"IF(Q60=\"\",\"\",IF(Q60=0,\"\",SQRT(SUMIF(DMA!$DA$5:$DA$503,Graphs!$O60,DMA!DC$5:DC$503))/COUNTIF(DMA!$DA$5:$DA$503,Graphs!$O60)))","v":""},{"$f":"IF(R60=\"\",\"\",IF(R60=0,\"\",SQRT(SUMIF(DMA!$DA$5:$DA$503,Graphs!$O60,DMA!DD$5:DD$503))/COUNTIF(DMA!$DA$5:$DA$503,Graphs!$O60)))","v":""},{"$f":"IF($P60=\"\",\"\",IF(P60=0,\"\",AVERAGEIF(DMA!#REF!,Graphs!$O60,DMA!#REF!)))","v":""},{"$f":"IF($Q60=\"\",\"\",IF(Q60=0,\"\",AVERAGEIF(DMA!#REF!,Graphs!$O60,DMA!#REF!)))","v":""},{"$f":"IF($R60=\"\",\"\",IF(R60=0,\"\",AVERAGEIF(DMA!#REF!,Graphs!$O60,DMA!#REF!)))","v":""}]
[null,null,null,null,null,null,null,null,null,null,null,null,null,null,null,null,null,null,null,null,null,null,null,null,null,null,null,null,null,null,null,null,null,null,null,null,null,null,null,null,null,null,null,null,null,null,null,null,null,null,null,"","","",{"$f":"IF(P61=\"\",\"\",IF(P61=0,\"\",SQRT(SUMIF(DMA!$DA$5:$DA$503,Graphs!$O61,DMA!DB$5:DB$503))/COUNTIF(DMA!$DA$5:$DA$503,Graphs!$O61)))","v":""},{"$f":"IF(Q61=\"\",\"\",IF(Q61=0,\"\",SQRT(SUMIF(DMA!$DA$5:$DA$503,Graphs!$O61,DMA!DC$5:DC$503))/COUNTIF(DMA!$DA$5:$DA$503,Graphs!$O61)))","v":""},{"$f":"IF(R61=\"\",\"\",IF(R61=0,\"\",SQRT(SUMIF(DMA!$DA$5:$DA$503,Graphs!$O61,DMA!DD$5:DD$503))/COUNTIF(DMA!$DA$5:$DA$503,Graphs!$O61)))","v":""},{"$f":"IF($P61=\"\",\"\",IF(P61=0,\"\",AVERAGEIF(DMA!#REF!,Graphs!$O61,DMA!#REF!)))","v":""},{"$f":"IF($Q61=\"\",\"\",IF(Q61=0,\"\",AVERAGEIF(DMA!#REF!,Graphs!$O61,DMA!#REF!)))","v":""},{"$f":"IF($R61=\"\",\"\",IF(R61=0,\"\",AVERAGEIF(DMA!#REF!,Graphs!$O61,DMA!#REF!)))","v":""}]
[null,null,null,null,null,null,null,null,null,null,null,null,null,null,null,null,null,null,null,null,null,null,null,null,null,null,null,null,null,null,null,null,null,null,null,null,null,null,null,null,null,null,null,null,null,null,null,null,null,null,null,"","","",{"$f":"IF(P62=\"\",\"\",IF(P62=0,\"\",SQRT(SUMIF(DMA!$DA$5:$DA$503,Graphs!$O62,DMA!DB$5:DB$503))/COUNTIF(DMA!$DA$5:$DA$503,Graphs!$O62)))","v":""},{"$f":"IF(Q62=\"\",\"\",IF(Q62=0,\"\",SQRT(SUMIF(DMA!$DA$5:$DA$503,Graphs!$O62,DMA!DC$5:DC$503))/COUNTIF(DMA!$DA$5:$DA$503,Graphs!$O62)))","v":""},{"$f":"IF(R62=\"\",\"\",IF(R62=0,\"\",SQRT(SUMIF(DMA!$DA$5:$DA$503,Graphs!$O62,DMA!DD$5:DD$503))/COUNTIF(DMA!$DA$5:$DA$503,Graphs!$O62)))","v":""},{"$f":"IF($P62=\"\",\"\",IF(P62=0,\"\",AVERAGEIF(DMA!#REF!,Graphs!$O62,DMA!#REF!)))","v":""},{"$f":"IF($Q62=\"\",\"\",IF(Q62=0,\"\",AVERAGEIF(DMA!#REF!,Graphs!$O62,DMA!#REF!)))","v":""},{"$f":"IF($R62=\"\",\"\",IF(R62=0,\"\",AVERAGEIF(DMA!#REF!,Graphs!$O62,DMA!#REF!)))","v":""}]
[null,null,null,null,null,null,null,null,null,null,null,null,null,null,null,null,null,null,null,null,null,null,null,null,null,null,null,null,null,null,null,null,null,null,null,null,null,null,null,null,null,null,null,null,null,null,null,null,null,null,null,"","","",{"$f":"IF(P63=\"\",\"\",IF(P63=0,\"\",SQRT(SUMIF(DMA!$DA$5:$DA$503,Graphs!$O63,DMA!DB$5:DB$503))/COUNTIF(DMA!$DA$5:$DA$503,Graphs!$O63)))","v":""},{"$f":"IF(Q63=\"\",\"\",IF(Q63=0,\"\",SQRT(SUMIF(DMA!$DA$5:$DA$503,Graphs!$O63,DMA!DC$5:DC$503))/COUNTIF(DMA!$DA$5:$DA$503,Graphs!$O63)))","v":""},{"$f":"IF(R63=\"\",\"\",IF(R63=0,\"\",SQRT(SUMIF(DMA!$DA$5:$DA$503,Graphs!$O63,DMA!DD$5:DD$503))/COUNTIF(DMA!$DA$5:$DA$503,Graphs!$O63)))","v":""},{"$f":"IF($P63=\"\",\"\",IF(P63=0,\"\",AVERAGEIF(DMA!#REF!,Graphs!$O63,DMA!#REF!)))","v":""},{"$f":"IF($Q63=\"\",\"\",IF(Q63=0,\"\",AVERAGEIF(DMA!#REF!,Graphs!$O63,DMA!#REF!)))","v":""},{"$f":"IF($R63=\"\",\"\",IF(R63=0,\"\",AVERAGEIF(DMA!#REF!,Graphs!$O63,DMA!#REF!)))","v":""}]
[null,null,null,null,null,null,null,null,null,null,null,null,null,null,null,null,null,null,null,null,null,null,null,null,null,null,null,null,null,null,null,null,null,null,null,null,null,null,null,null,null,null,null,null,null,null,null,null,null,null,null,"","","",{"$f":"IF(P64=\"\",\"\",IF(P64=0,\"\",SQRT(SUMIF(DMA!$DA$5:$DA$503,Graphs!$O64,DMA!DB$5:DB$503))/COUNTIF(DMA!$DA$5:$DA$503,Graphs!$O64)))","v":""},{"$f":"IF(Q64=\"\",\"\",IF(Q64=0,\"\",SQRT(SUMIF(DMA!$DA$5:$DA$503,Graphs!$O64,DMA!DC$5:DC$503))/COUNTIF(DMA!$DA$5:$DA$503,Graphs!$O64)))","v":""},{"$f":"IF(R64=\"\",\"\",IF(R64=0,\"\",SQRT(SUMIF(DMA!$DA$5:$DA$503,Graphs!$O64,DMA!DD$5:DD$503))/COUNTIF(DMA!$DA$5:$DA$503,Graphs!$O64)))","v":""},{"$f":"IF($P64=\"\",\"\",IF(P64=0,\"\",AVERAGEIF(DMA!#REF!,Graphs!$O64,DMA!#REF!)))","v":""},{"$f":"IF($Q64=\"\",\"\",IF(Q64=0,\"\",AVERAGEIF(DMA!#REF!,Graphs!$O64,DMA!#REF!)))","v":""},{"$f":"IF($R64=\"\",\"\",IF(R64=0,\"\",AVERAGEIF(DMA!#REF!,Graphs!$O64,DMA!#REF!)))","v":""}]
[null,"","","","","","","","","","","","","","","","","","","","",null,null,null,null,null,null,null,null,null,null,null,null,null,null,null,null,null,null,null,null,null,null,null,null,null,null,null,null,null,null,"","","",{"$f":"IF(P65=\"\",\"\",IF(P65=0,\"\",SQRT(SUMIF(DMA!$DA$5:$DA$503,Graphs!$O65,DMA!DB$5:DB$503))/COUNTIF(DMA!$DA$5:$DA$503,Graphs!$O65)))","v":""},{"$f":"IF(Q65=\"\",\"\",IF(Q65=0,\"\",SQRT(SUMIF(DMA!$DA$5:$DA$503,Graphs!$O65,DMA!DC$5:DC$503))/COUNTIF(DMA!$DA$5:$DA$503,Graphs!$O65)))","v":""},{"$f":"IF(R65=\"\",\"\",IF(R65=0,\"\",SQRT(SUMIF(DMA!$DA$5:$DA$503,Graphs!$O65,DMA!DD$5:DD$503))/COUNTIF(DMA!$DA$5:$DA$503,Graphs!$O65)))","v":""},{"$f":"IF($P65=\"\",\"\",IF(P65=0,\"\",AVERAGEIF(DMA!#REF!,Graphs!$O65,DMA!#REF!)))","v":""},{"$f":"IF($Q65=\"\",\"\",IF(Q65=0,\"\",AVERAGEIF(DMA!#REF!,Graphs!$O65,DMA!#REF!)))","v":""},{"$f":"IF($R65=\"\",\"\",IF(R65=0,\"\",AVERAGEIF(DMA!#REF!,Graphs!$O65,DMA!#REF!)))","v":""}]
[null,"","","","","","","","","","","","","","","","","","","","",null,null,null,null,null,null,null,null,null,null,null,null,null,null,null,null,null,null,null,null,null,null,null,null,null,null,null,null,null,null,"","","",{"$f":"IF(P66=\"\",\"\",IF(P66=0,\"\",SQRT(SUMIF(DMA!$DA$5:$DA$503,Graphs!$O66,DMA!DB$5:DB$503))/COUNTIF(DMA!$DA$5:$DA$503,Graphs!$O66)))","v":""},{"$f":"IF(Q66=\"\",\"\",IF(Q66=0,\"\",SQRT(SUMIF(DMA!$DA$5:$DA$503,Graphs!$O66,DMA!DC$5:DC$503))/COUNTIF(DMA!$DA$5:$DA$503,Graphs!$O66)))","v":""},{"$f":"IF(R66=\"\",\"\",IF(R66=0,\"\",SQRT(SUMIF(DMA!$DA$5:$DA$503,Graphs!$O66,DMA!DD$5:DD$503))/COUNTIF(DMA!$DA$5:$DA$503,Graphs!$O66)))","v":""},{"$f":"IF($P66=\"\",\"\",IF(P66=0,\"\",AVERAGEIF(DMA!#REF!,Graphs!$O66,DMA!#REF!)))","v":""},{"$f":"IF($Q66=\"\",\"\",IF(Q66=0,\"\",AVERAGEIF(DMA!#REF!,Graphs!$O66,DMA!#REF!)))","v":""},{"$f":"IF($R66=\"\",\"\",IF(R66=0,\"\",AVERAGEIF(DMA!#REF!,Graphs!$O66,DMA!#REF!)))","v":""}]
[null,"","","","","","","","","","","","","","","","","","","","",null,null,null,null,null,null,null,null,null,null,null,null,null,null,null,null,null,null,null,null,null,null,null,null,null,null,null,null,null,null,"","","",{"$f":"IF(P67=\"\",\"\",IF(P67=0,\"\",SQRT(SUMIF(DMA!$DA$5:$DA$503,Graphs!$O67,DMA!DB$5:DB$503))/COUNTIF(DMA!$DA$5:$DA$503,Graphs!$O67)))","v":""},{"$f":"IF(Q67=\"\",\"\",IF(Q67=0,\"\",SQRT(SUMIF(DMA!$DA$5:$DA$503,Graphs!$O67,DMA!DC$5:DC$503))/COUNTIF(DMA!$DA$5:$DA$503,Graphs!$O67)))","v":""},{"$f":"IF(R67=\"\",\"\",IF(R67=0,\"\",SQRT(SUMIF(DMA!$DA$5:$DA$503,Graphs!$O67,DMA!DD$5:DD$503))/COUNTIF(DMA!$DA$5:$DA$503,Graphs!$O67)))","v":""},{"$f":"IF($P67=\"\",\"\",IF(P67=0,\"\",AVERAGEIF(DMA!#REF!,Graphs!$O67,DMA!#REF!)))","v":""},{"$f":"IF($Q67=\"\",\"\",IF(Q67=0,\"\",AVERAGEIF(DMA!#REF!,Graphs!$O67,DMA!#REF!)))","v":""},{"$f":"IF($R67=\"\",\"\",IF(R67=0,\"\",AVERAGEIF(DMA!#REF!,Graphs!$O67,DMA!#REF!)))","v":""}]
[null,"","","","","","","","","","","","","","","","","","","","",null,null,null,null,null,null,null,null,null,null,null,null,null,null,null,null,null,null,null,null,null,null,null,null,null,null,null,null,null,null,"","","",{"$f":"IF(P68=\"\",\"\",IF(P68=0,\"\",SQRT(SUMIF(DMA!$DA$5:$DA$503,Graphs!$O68,DMA!DB$5:DB$503))/COUNTIF(DMA!$DA$5:$DA$503,Graphs!$O68)))","v":""},{"$f":"IF(Q68=\"\",\"\",IF(Q68=0,\"\",SQRT(SUMIF(DMA!$DA$5:$DA$503,Graphs!$O68,DMA!DC$5:DC$503))/COUNTIF(DMA!$DA$5:$DA$503,Graphs!$O68)))","v":""},{"$f":"IF(R68=\"\",\"\",IF(R68=0,\"\",SQRT(SUMIF(DMA!$DA$5:$DA$503,Graphs!$O68,DMA!DD$5:DD$503))/COUNTIF(DMA!$DA$5:$DA$503,Graphs!$O68)))","v":""},{"$f":"IF($P68=\"\",\"\",IF(P68=0,\"\",AVERAGEIF(DMA!#REF!,Graphs!$O68,DMA!#REF!)))","v":""},{"$f":"IF($Q68=\"\",\"\",IF(Q68=0,\"\",AVERAGEIF(DMA!#REF!,Graphs!$O68,DMA!#REF!)))","v":""},{"$f":"IF($R68=\"\",\"\",IF(R68=0,\"\",AVERAGEIF(DMA!#REF!,Graphs!$O68,DMA!#REF!)))","v":""}]
[null,"","","","","","","","","","","","","","","","","","","","",null,null,null,null,null,null,null,null,null,null,null,null,null,null,null,null,null,null,null,null,null,null,null,null,null,null,null,null,null,null,"","","",{"$f":"IF(P69=\"\",\"\",IF(P69=0,\"\",SQRT(SUMIF(DMA!$DA$5:$DA$503,Graphs!$O69,DMA!DB$5:DB$503))/COUNTIF(DMA!$DA$5:$DA$503,Graphs!$O69)))","v":""},{"$f":"IF(Q69=\"\",\"\",IF(Q69=0,\"\",SQRT(SUMIF(DMA!$DA$5:$DA$503,Graphs!$O69,DMA!DC$5:DC$503))/COUNTIF(DMA!$DA$5:$DA$503,Graphs!$O69)))","v":""},{"$f":"IF(R69=\"\",\"\",IF(R69=0,\"\",SQRT(SUMIF(DMA!$DA$5:$DA$503,Graphs!$O69,DMA!DD$5:DD$503))/COUNTIF(DMA!$DA$5:$DA$503,Graphs!$O69)))","v":""},{"$f":"IF($P69=\"\",\"\",IF(P69=0,\"\",AVERAGEIF(DMA!#REF!,Graphs!$O69,DMA!#REF!)))","v":""},{"$f":"IF($Q69=\"\",\"\",IF(Q69=0,\"\",AVERAGEIF(DMA!#REF!,Graphs!$O69,DMA!#REF!)))","v":""},{"$f":"IF($R69=\"\",\"\",IF(R69=0,\"\",AVERAGEIF(DMA!#REF!,Graphs!$O69,DMA!#REF!)))","v":""}]
[null,"","","","","","","","","","","","","","","","","","","","",null,null,null,null,null,null,null,null,null,null,null,null,null,null,null,null,null,null,null,null,null,null,null,null,null,null,null,null,null,null,"","","",{"$f":"IF(P70=\"\",\"\",IF(P70=0,\"\",SQRT(SUMIF(DMA!$DA$5:$DA$503,Graphs!$O70,DMA!DB$5:DB$503))/COUNTIF(DMA!$DA$5:$DA$503,Graphs!$O70)))","v":""},{"$f":"IF(Q70=\"\",\"\",IF(Q70=0,\"\",SQRT(SUMIF(DMA!$DA$5:$DA$503,Graphs!$O70,DMA!DC$5:DC$503))/COUNTIF(DMA!$DA$5:$DA$503,Graphs!$O70)))","v":""},{"$f":"IF(R70=\"\",\"\",IF(R70=0,\"\",SQRT(SUMIF(DMA!$DA$5:$DA$503,Graphs!$O70,DMA!DD$5:DD$503))/COUNTIF(DMA!$DA$5:$DA$503,Graphs!$O70)))","v":""},{"$f":"IF($P70=\"\",\"\",IF(P70=0,\"\",AVERAGEIF(DMA!#REF!,Graphs!$O70,DMA!#REF!)))","v":""},{"$f":"IF($Q70=\"\",\"\",IF(Q70=0,\"\",AVERAGEIF(DMA!#REF!,Graphs!$O70,DMA!#REF!)))","v":""},{"$f":"IF($R70=\"\",\"\",IF(R70=0,\"\",AVERAGEIF(DMA!#REF!,Graphs!$O70,DMA!#REF!)))","v":""}]
[null,"","","","","","","","","","","","","","","","","","","","",null,null,null,null,null,null,null,null,null,null,null,null,null,null,null,null,null,null,null,null,null,null,null,null,null,null,null,null,null,null,"","","",{"$f":"IF(P71=\"\",\"\",IF(P71=0,\"\",SQRT(SUMIF(DMA!$DA$5:$DA$503,Graphs!$O71,DMA!DB$5:DB$503))/COUNTIF(DMA!$DA$5:$DA$503,Graphs!$O71)))","v":""},{"$f":"IF(Q71=\"\",\"\",IF(Q71=0,\"\",SQRT(SUMIF(DMA!$DA$5:$DA$503,Graphs!$O71,DMA!DC$5:DC$503))/COUNTIF(DMA!$DA$5:$DA$503,Graphs!$O71)))","v":""},{"$f":"IF(R71=\"\",\"\",IF(R71=0,\"\",SQRT(SUMIF(DMA!$DA$5:$DA$503,Graphs!$O71,DMA!DD$5:DD$503))/COUNTIF(DMA!$DA$5:$DA$503,Graphs!$O71)))","v":""},{"$f":"IF($P71=\"\",\"\",IF(P71=0,\"\",AVERAGEIF(DMA!#REF!,Graphs!$O71,DMA!#REF!)))","v":""},{"$f":"IF($Q71=\"\",\"\",IF(Q71=0,\"\",AVERAGEIF(DMA!#REF!,Graphs!$O71,DMA!#REF!)))","v":""},{"$f":"IF($R71=\"\",\"\",IF(R71=0,\"\",AVERAGEIF(DMA!#REF!,Graphs!$O71,DMA!#REF!)))","v":""}]
[null,"","","","","","","","","","","","","","","","","","","","",null,null,null,null,null,null,null,null,null,null,null,null,null,null,null,null,null,null,null,null,null,null,null,null,null,null,null,null,null,null,"","","",{"$f":"IF(P72=\"\",\"\",IF(P72=0,\"\",SQRT(SUMIF(DMA!$DA$5:$DA$503,Graphs!$O72,DMA!DB$5:DB$503))/COUNTIF(DMA!$DA$5:$DA$503,Graphs!$O72)))","v":""},{"$f":"IF(Q72=\"\",\"\",IF(Q72=0,\"\",SQRT(SUMIF(DMA!$DA$5:$DA$503,Graphs!$O72,DMA!DC$5:DC$503))/COUNTIF(DMA!$DA$5:$DA$503,Graphs!$O72)))","v":""},{"$f":"IF(R72=\"\",\"\",IF(R72=0,\"\",SQRT(SUMIF(DMA!$DA$5:$DA$503,Graphs!$O72,DMA!DD$5:DD$503))/COUNTIF(DMA!$DA$5:$DA$503,Graphs!$O72)))","v":""},{"$f":"IF($P72=\"\",\"\",IF(P72=0,\"\",AVERAGEIF(DMA!#REF!,Graphs!$O72,DMA!#REF!)))","v":""},{"$f":"IF($Q72=\"\",\"\",IF(Q72=0,\"\",AVERAGEIF(DMA!#REF!,Graphs!$O72,DMA!#REF!)))","v":""},{"$f":"IF($R72=\"\",\"\",IF(R72=0,\"\",AVERAGEIF(DMA!#REF!,Graphs!$O72,DMA!#REF!)))","v":""}]
[null,"","","","","","","","","","","","","","","","","","","","",null,null,null,null,null,null,null,null,null,null,null,null,null,null,null,null,null,null,null,null,null,null,null,null,null,null,null,null,null,null,"","","",{"$f":"IF(P73=\"\",\"\",IF(P73=0,\"\",SQRT(SUMIF(DMA!$DA$5:$DA$503,Graphs!$O73,DMA!DB$5:DB$503))/COUNTIF(DMA!$DA$5:$DA$503,Graphs!$O73)))","v":""},{"$f":"IF(Q73=\"\",\"\",IF(Q73=0,\"\",SQRT(SUMIF(DMA!$DA$5:$DA$503,Graphs!$O73,DMA!DC$5:DC$503))/COUNTIF(DMA!$DA$5:$DA$503,Graphs!$O73)))","v":""},{"$f":"IF(R73=\"\",\"\",IF(R73=0,\"\",SQRT(SUMIF(DMA!$DA$5:$DA$503,Graphs!$O73,DMA!DD$5:DD$503))/COUNTIF(DMA!$DA$5:$DA$503,Graphs!$O73)))","v":""},{"$f":"IF($P73=\"\",\"\",IF(P73=0,\"\",AVERAGEIF(DMA!#REF!,Graphs!$O73,DMA!#REF!)))","v":""},{"$f":"IF($Q73=\"\",\"\",IF(Q73=0,\"\",AVERAGEIF(DMA!#REF!,Graphs!$O73,DMA!#REF!)))","v":""},{"$f":"IF($R73=\"\",\"\",IF(R73=0,\"\",AVERAGEIF(DMA!#REF!,Graphs!$O73,DMA!#REF!)))","v":""}]
[null,"","","","","","","","","","","","","","","","","","","","",null,null,null,null,null,null,null,null,null,null,null,null,null,null,null,null,null,null,null,null,null,null,null,null,null,null,null,null,null,null,"","","",{"$f":"IF(P74=\"\",\"\",IF(P74=0,\"\",SQRT(SUMIF(DMA!$DA$5:$DA$503,Graphs!$O74,DMA!DB$5:DB$503))/COUNTIF(DMA!$DA$5:$DA$503,Graphs!$O74)))","v":""},{"$f":"IF(Q74=\"\",\"\",IF(Q74=0,\"\",SQRT(SUMIF(DMA!$DA$5:$DA$503,Graphs!$O74,DMA!DC$5:DC$503))/COUNTIF(DMA!$DA$5:$DA$503,Graphs!$O74)))","v":""},{"$f":"IF(R74=\"\",\"\",IF(R74=0,\"\",SQRT(SUMIF(DMA!$DA$5:$DA$503,Graphs!$O74,DMA!DD$5:DD$503))/COUNTIF(DMA!$DA$5:$DA$503,Graphs!$O74)))","v":""},{"$f":"IF($P74=\"\",\"\",IF(P74=0,\"\",AVERAGEIF(DMA!#REF!,Graphs!$O74,DMA!#REF!)))","v":""},{"$f":"IF($Q74=\"\",\"\",IF(Q74=0,\"\",AVERAGEIF(DMA!#REF!,Graphs!$O74,DMA!#REF!)))","v":""},{"$f":"IF($R74=\"\",\"\",IF(R74=0,\"\",AVERAGEIF(DMA!#REF!,Graphs!$O74,DMA!#REF!)))","v":""}]
[null,"","","","","","","","","","","","","","","","","","","","",null,null,null,null,null,null,null,null,null,null,null,null,null,null,null,null,null,null,null,null,null,null,null,null,null,null,null,null,null,null,"","","",{"$f":"IF(P75=\"\",\"\",IF(P75=0,\"\",SQRT(SUMIF(DMA!$DA$5:$DA$503,Graphs!$O75,DMA!DB$5:DB$503))/COUNTIF(DMA!$DA$5:$DA$503,Graphs!$O75)))","v":""},{"$f":"IF(Q75=\"\",\"\",IF(Q75=0,\"\",SQRT(SUMIF(DMA!$DA$5:$DA$503,Graphs!$O75,DMA!DC$5:DC$503))/COUNTIF(DMA!$DA$5:$DA$503,Graphs!$O75)))","v":""},{"$f":"IF(R75=\"\",\"\",IF(R75=0,\"\",SQRT(SUMIF(DMA!$DA$5:$DA$503,Graphs!$O75,DMA!DD$5:DD$503))/COUNTIF(DMA!$DA$5:$DA$503,Graphs!$O75)))","v":""},{"$f":"IF($P75=\"\",\"\",IF(P75=0,\"\",AVERAGEIF(DMA!#REF!,Graphs!$O75,DMA!#REF!)))","v":""},{"$f":"IF($Q75=\"\",\"\",IF(Q75=0,\"\",AVERAGEIF(DMA!#REF!,Graphs!$O75,DMA!#REF!)))","v":""},{"$f":"IF($R75=\"\",\"\",IF(R75=0,\"\",AVERAGEIF(DMA!#REF!,Graphs!$O75,DMA!#REF!)))","v":""}]
[null,"","","","","","","","","","","","","","","","","","","","",null,null,null,null,null,null,null,null,null,null,null,null,null,null,null,null,null,null,null,null,null,null,null,null,null,null,null,null,null,null,"","","",{"$f":"IF(P76=\"\",\"\",IF(P76=0,\"\",SQRT(SUMIF(DMA!$DA$5:$DA$503,Graphs!$O76,DMA!DB$5:DB$503))/COUNTIF(DMA!$DA$5:$DA$503,Graphs!$O76)))","v":""},{"$f":"IF(Q76=\"\",\"\",IF(Q76=0,\"\",SQRT(SUMIF(DMA!$DA$5:$DA$503,Graphs!$O76,DMA!DC$5:DC$503))/COUNTIF(DMA!$DA$5:$DA$503,Graphs!$O76)))","v":""},{"$f":"IF(R76=\"\",\"\",IF(R76=0,\"\",SQRT(SUMIF(DMA!$DA$5:$DA$503,Graphs!$O76,DMA!DD$5:DD$503))/COUNTIF(DMA!$DA$5:$DA$503,Graphs!$O76)))","v":""},{"$f":"IF($P76=\"\",\"\",IF(P76=0,\"\",AVERAGEIF(DMA!#REF!,Graphs!$O76,DMA!#REF!)))","v":""},{"$f":"IF($Q76=\"\",\"\",IF(Q76=0,\"\",AVERAGEIF(DMA!#REF!,Graphs!$O76,DMA!#REF!)))","v":""},{"$f":"IF($R76=\"\",\"\",IF(R76=0,\"\",AVERAGEIF(DMA!#REF!,Graphs!$O76,DMA!#REF!)))","v":""}]
[null,"","","","","","","","","","","","","","","","","","","","",null,null,null,null,null,null,null,null,null,null,null,null,null,null,null,null,null,null,null,null,null,null,null,null,null,null,null,null,null,null,"","","",{"$f":"IF(P77=\"\",\"\",IF(P77=0,\"\",SQRT(SUMIF(DMA!$DA$5:$DA$503,Graphs!$O77,DMA!DB$5:DB$503))/COUNTIF(DMA!$DA$5:$DA$503,Graphs!$O77)))","v":""},{"$f":"IF(Q77=\"\",\"\",IF(Q77=0,\"\",SQRT(SUMIF(DMA!$DA$5:$DA$503,Graphs!$O77,DMA!DC$5:DC$503))/COUNTIF(DMA!$DA$5:$DA$503,Graphs!$O77)))","v":""},{"$f":"IF(R77=\"\",\"\",IF(R77=0,\"\",SQRT(SUMIF(DMA!$DA$5:$DA$503,Graphs!$O77,DMA!DD$5:DD$503))/COUNTIF(DMA!$DA$5:$DA$503,Graphs!$O77)))","v":""},{"$f":"IF($P77=\"\",\"\",IF(P77=0,\"\",AVERAGEIF(DMA!#REF!,Graphs!$O77,DMA!#REF!)))","v":""},{"$f":"IF($Q77=\"\",\"\",IF(Q77=0,\"\",AVERAGEIF(DMA!#REF!,Graphs!$O77,DMA!#REF!)))","v":""},{"$f":"IF($R77=\"\",\"\",IF(R77=0,\"\",AVERAGEIF(DMA!#REF!,Graphs!$O77,DMA!#REF!)))","v":""}]
[null,"","","","","","","","","","","","","","","","","","","","",null,null,null,null,null,null,null,null,null,null,null,null,null,null,null,null,null,null,null,null,null,null,null,null,null,null,null,null,null,null,"","","",{"$f":"IF(P78=\"\",\"\",IF(P78=0,\"\",SQRT(SUMIF(DMA!$DA$5:$DA$503,Graphs!$O78,DMA!DB$5:DB$503))/COUNTIF(DMA!$DA$5:$DA$503,Graphs!$O78)))","v":""},{"$f":"IF(Q78=\"\",\"\",IF(Q78=0,\"\",SQRT(SUMIF(DMA!$DA$5:$DA$503,Graphs!$O78,DMA!DC$5:DC$503))/COUNTIF(DMA!$DA$5:$DA$503,Graphs!$O78)))","v":""},{"$f":"IF(R78=\"\",\"\",IF(R78=0,\"\",SQRT(SUMIF(DMA!$DA$5:$DA$503,Graphs!$O78,DMA!DD$5:DD$503))/COUNTIF(DMA!$DA$5:$DA$503,Graphs!$O78)))","v":""},{"$f":"IF($P78=\"\",\"\",IF(P78=0,\"\",AVERAGEIF(DMA!#REF!,Graphs!$O78,DMA!#REF!)))","v":""},{"$f":"IF($Q78=\"\",\"\",IF(Q78=0,\"\",AVERAGEIF(DMA!#REF!,Graphs!$O78,DMA!#REF!)))","v":""},{"$f":"IF($R78=\"\",\"\",IF(R78=0,\"\",AVERAGEIF(DMA!#REF!,Graphs!$O78,DMA!#REF!)))","v":""}]
[null,"","","","","","","","","","","","","","","","","","","","",null,null,null,null,null,null,null,null,null,null,null,null,null,null,null,null,null,null,null,null,null,null,null,null,null,null,null,null,null,null,"","","",{"$f":"IF(P79=\"\",\"\",IF(P79=0,\"\",SQRT(SUMIF(DMA!$DA$5:$DA$503,Graphs!$O79,DMA!DB$5:DB$503))/COUNTIF(DMA!$DA$5:$DA$503,Graphs!$O79)))","v":""},{"$f":"IF(Q79=\"\",\"\",IF(Q79=0,\"\",SQRT(SUMIF(DMA!$DA$5:$DA$503,Graphs!$O79,DMA!DC$5:DC$503))/COUNTIF(DMA!$DA$5:$DA$503,Graphs!$O79)))","v":""},{"$f":"IF(R79=\"\",\"\",IF(R79=0,\"\",SQRT(SUMIF(DMA!$DA$5:$DA$503,Graphs!$O79,DMA!DD$5:DD$503))/COUNTIF(DMA!$DA$5:$DA$503,Graphs!$O79)))","v":""},{"$f":"IF($P79=\"\",\"\",IF(P79=0,\"\",AVERAGEIF(DMA!#REF!,Graphs!$O79,DMA!#REF!)))","v":""},{"$f":"IF($Q79=\"\",\"\",IF(Q79=0,\"\",AVERAGEIF(DMA!#REF!,Graphs!$O79,DMA!#REF!)))","v":""},{"$f":"IF($R79=\"\",\"\",IF(R79=0,\"\",AVERAGEIF(DMA!#REF!,Graphs!$O79,DMA!#REF!)))","v":""}]
[null,"","","","","","","","","","","","","","","","","","","","",null,null,null,null,null,null,null,null,null,null,null,null,null,null,null,null,null,null,null,null,null,null,null,null,null,null,null,null,null,null,"","","",{"$f":"IF(P80=\"\",\"\",IF(P80=0,\"\",SQRT(SUMIF(DMA!$DA$5:$DA$503,Graphs!$O80,DMA!DB$5:DB$503))/COUNTIF(DMA!$DA$5:$DA$503,Graphs!$O80)))","v":""},{"$f":"IF(Q80=\"\",\"\",IF(Q80=0,\"\",SQRT(SUMIF(DMA!$DA$5:$DA$503,Graphs!$O80,DMA!DC$5:DC$503))/COUNTIF(DMA!$DA$5:$DA$503,Graphs!$O80)))","v":""},{"$f":"IF(R80=\"\",\"\",IF(R80=0,\"\",SQRT(SUMIF(DMA!$DA$5:$DA$503,Graphs!$O80,DMA!DD$5:DD$503))/COUNTIF(DMA!$DA$5:$DA$503,Graphs!$O80)))","v":""},{"$f":"IF($P80=\"\",\"\",IF(P80=0,\"\",AVERAGEIF(DMA!#REF!,Graphs!$O80,DMA!#REF!)))","v":""},{"$f":"IF($Q80=\"\",\"\",IF(Q80=0,\"\",AVERAGEIF(DMA!#REF!,Graphs!$O80,DMA!#REF!)))","v":""},{"$f":"IF($R80=\"\",\"\",IF(R80=0,\"\",AVERAGEIF(DMA!#REF!,Graphs!$O80,DMA!#REF!)))","v":""}]
[null,"","","","","","","","","","","","","","","","","","","","",null,null,null,null,null,null,null,null,null,null,null,null,null,null,null,null,null,null,null,null,null,null,null,null,null,null,null,null,null,null,"","","",{"$f":"IF(P81=\"\",\"\",IF(P81=0,\"\",SQRT(SUMIF(DMA!$DA$5:$DA$503,Graphs!$O81,DMA!DB$5:DB$503))/COUNTIF(DMA!$DA$5:$DA$503,Graphs!$O81)))","v":""},{"$f":"IF(Q81=\"\",\"\",IF(Q81=0,\"\",SQRT(SUMIF(DMA!$DA$5:$DA$503,Graphs!$O81,DMA!DC$5:DC$503))/COUNTIF(DMA!$DA$5:$DA$503,Graphs!$O81)))","v":""},{"$f":"IF(R81=\"\",\"\",IF(R81=0,\"\",SQRT(SUMIF(DMA!$DA$5:$DA$503,Graphs!$O81,DMA!DD$5:DD$503))/COUNTIF(DMA!$DA$5:$DA$503,Graphs!$O81)))","v":""},{"$f":"IF($P81=\"\",\"\",IF(P81=0,\"\",AVERAGEIF(DMA!#REF!,Graphs!$O81,DMA!#REF!)))","v":""},{"$f":"IF($Q81=\"\",\"\",IF(Q81=0,\"\",AVERAGEIF(DMA!#REF!,Graphs!$O81,DMA!#REF!)))","v":""},{"$f":"IF($R81=\"\",\"\",IF(R81=0,\"\",AVERAGEIF(DMA!#REF!,Graphs!$O81,DMA!#REF!)))","v":""}]
[null,"","","","","","","","","","","","","","","","","","","","",null,null,null,null,null,null,null,null,null,null,null,null,null,null,null,null,null,null,null,null,null,null,null,null,null,null,null,null,null,null,"","","",{"$f":"IF(P82=\"\",\"\",IF(P82=0,\"\",SQRT(SUMIF(DMA!$DA$5:$DA$503,Graphs!$O82,DMA!DB$5:DB$503))/COUNTIF(DMA!$DA$5:$DA$503,Graphs!$O82)))","v":""},{"$f":"IF(Q82=\"\",\"\",IF(Q82=0,\"\",SQRT(SUMIF(DMA!$DA$5:$DA$503,Graphs!$O82,DMA!DC$5:DC$503))/COUNTIF(DMA!$DA$5:$DA$503,Graphs!$O82)))","v":""},{"$f":"IF(R82=\"\",\"\",IF(R82=0,\"\",SQRT(SUMIF(DMA!$DA$5:$DA$503,Graphs!$O82,DMA!DD$5:DD$503))/COUNTIF(DMA!$DA$5:$DA$503,Graphs!$O82)))","v":""},{"$f":"IF($P82=\"\",\"\",IF(P82=0,\"\",AVERAGEIF(DMA!#REF!,Graphs!$O82,DMA!#REF!)))","v":""},{"$f":"IF($Q82=\"\",\"\",IF(Q82=0,\"\",AVERAGEIF(DMA!#REF!,Graphs!$O82,DMA!#REF!)))","v":""},{"$f":"IF($R82=\"\",\"\",IF(R82=0,\"\",AVERAGEIF(DMA!#REF!,Graphs!$O82,DMA!#REF!)))","v":""}]
[null,"","","","","","","","","","","","","","","","","","","","",null,null,null,null,null,null,null,null,null,null,null,null,null,null,null,null,null,null,null,null,null,null,null,null,null,null,null,null,null,null,"","","",{"$f":"IF(P83=\"\",\"\",IF(P83=0,\"\",SQRT(SUMIF(DMA!$DA$5:$DA$503,Graphs!$O83,DMA!DB$5:DB$503))/COUNTIF(DMA!$DA$5:$DA$503,Graphs!$O83)))","v":""},{"$f":"IF(Q83=\"\",\"\",IF(Q83=0,\"\",SQRT(SUMIF(DMA!$DA$5:$DA$503,Graphs!$O83,DMA!DC$5:DC$503))/COUNTIF(DMA!$DA$5:$DA$503,Graphs!$O83)))","v":""},{"$f":"IF(R83=\"\",\"\",IF(R83=0,\"\",SQRT(SUMIF(DMA!$DA$5:$DA$503,Graphs!$O83,DMA!DD$5:DD$503))/COUNTIF(DMA!$DA$5:$DA$503,Graphs!$O83)))","v":""},{"$f":"IF($P83=\"\",\"\",IF(P83=0,\"\",AVERAGEIF(DMA!#REF!,Graphs!$O83,DMA!#REF!)))","v":""},{"$f":"IF($Q83=\"\",\"\",IF(Q83=0,\"\",AVERAGEIF(DMA!#REF!,Graphs!$O83,DMA!#REF!)))","v":""},{"$f":"IF($R83=\"\",\"\",IF(R83=0,\"\",AVERAGEIF(DMA!#REF!,Graphs!$O83,DMA!#REF!)))","v":""}]
[null,"","","","","","","","","","","","","","","","","","","","",null,null,null,null,null,null,null,null,null,null,null,null,null,null,null,null,null,null,null,null,null,null,null,null,null,null,null,null,null,null,"","","",{"$f":"IF(P84=\"\",\"\",IF(P84=0,\"\",SQRT(SUMIF(DMA!$DA$5:$DA$503,Graphs!$O84,DMA!DB$5:DB$503))/COUNTIF(DMA!$DA$5:$DA$503,Graphs!$O84)))","v":""},{"$f":"IF(Q84=\"\",\"\",IF(Q84=0,\"\",SQRT(SUMIF(DMA!$DA$5:$DA$503,Graphs!$O84,DMA!DC$5:DC$503))/COUNTIF(DMA!$DA$5:$DA$503,Graphs!$O84)))","v":""},{"$f":"IF(R84=\"\",\"\",IF(R84=0,\"\",SQRT(SUMIF(DMA!$DA$5:$DA$503,Graphs!$O84,DMA!DD$5:DD$503))/COUNTIF(DMA!$DA$5:$DA$503,Graphs!$O84)))","v":""},{"$f":"IF($P84=\"\",\"\",IF(P84=0,\"\",AVERAGEIF(DMA!#REF!,Graphs!$O84,DMA!#REF!)))","v":""},{"$f":"IF($Q84=\"\",\"\",IF(Q84=0,\"\",AVERAGEIF(DMA!#REF!,Graphs!$O84,DMA!#REF!)))","v":""},{"$f":"IF($R84=\"\",\"\",IF(R84=0,\"\",AVERAGEIF(DMA!#REF!,Graphs!$O84,DMA!#REF!)))","v":""}]
[null,"","","","","","","","","","","","","","","","","","","","",null,null,null,null,null,null,null,null,null,null,null,null,null,null,null,null,null,null,null,null,null,null,null,null,null,null,null,null,null,null,"","","",{"$f":"IF(P85=\"\",\"\",IF(P85=0,\"\",SQRT(SUMIF(DMA!$DA$5:$DA$503,Graphs!$O85,DMA!DB$5:DB$503))/COUNTIF(DMA!$DA$5:$DA$503,Graphs!$O85)))","v":""},{"$f":"IF(Q85=\"\",\"\",IF(Q85=0,\"\",SQRT(SUMIF(DMA!$DA$5:$DA$503,Graphs!$O85,DMA!DC$5:DC$503))/COUNTIF(DMA!$DA$5:$DA$503,Graphs!$O85)))","v":""},{"$f":"IF(R85=\"\",\"\",IF(R85=0,\"\",SQRT(SUMIF(DMA!$DA$5:$DA$503,Graphs!$O85,DMA!DD$5:DD$503))/COUNTIF(DMA!$DA$5:$DA$503,Graphs!$O85)))","v":""},{"$f":"IF($P85=\"\",\"\",IF(P85=0,\"\",AVERAGEIF(DMA!#REF!,Graphs!$O85,DMA!#REF!)))","v":""},{"$f":"IF($Q85=\"\",\"\",IF(Q85=0,\"\",AVERAGEIF(DMA!#REF!,Graphs!$O85,DMA!#REF!)))","v":""},{"$f":"IF($R85=\"\",\"\",IF(R85=0,\"\",AVERAGEIF(DMA!#REF!,Graphs!$O85,DMA!#REF!)))","v":""}]
[null,"","","","","","","","","","","","","","","","","","","","",null,null,null,null,null,null,null,null,null,null,null,null,null,null,null,null,null,null,null,null,null,null,null,null,null,null,null,null,null,null,"","","",{"$f":"IF(P86=\"\",\"\",IF(P86=0,\"\",SQRT(SUMIF(DMA!$DA$5:$DA$503,Graphs!$O86,DMA!DB$5:DB$503))/COUNTIF(DMA!$DA$5:$DA$503,Graphs!$O86)))","v":""},{"$f":"IF(Q86=\"\",\"\",IF(Q86=0,\"\",SQRT(SUMIF(DMA!$DA$5:$DA$503,Graphs!$O86,DMA!DC$5:DC$503))/COUNTIF(DMA!$DA$5:$DA$503,Graphs!$O86)))","v":""},{"$f":"IF(R86=\"\",\"\",IF(R86=0,\"\",SQRT(SUMIF(DMA!$DA$5:$DA$503,Graphs!$O86,DMA!DD$5:DD$503))/COUNTIF(DMA!$DA$5:$DA$503,Graphs!$O86)))","v":""},{"$f":"IF($P86=\"\",\"\",IF(P86=0,\"\",AVERAGEIF(DMA!#REF!,Graphs!$O86,DMA!#REF!)))","v":""},{"$f":"IF($Q86=\"\",\"\",IF(Q86=0,\"\",AVERAGEIF(DMA!#REF!,Graphs!$O86,DMA!#REF!)))","v":""},{"$f":"IF($R86=\"\",\"\",IF(R86=0,\"\",AVERAGEIF(DMA!#REF!,Graphs!$O86,DMA!#REF!)))","v":""}]
[null,"","","","","","","","","","","","","","","","","","","","",null,null,null,null,null,null,null,null,null,null,null,null,null,null,null,null,null,null,null,null,null,null,null,null,null,null,null,null,null,null,"","","",{"$f":"IF(P87=\"\",\"\",IF(P87=0,\"\",SQRT(SUMIF(DMA!$DA$5:$DA$503,Graphs!$O87,DMA!DB$5:DB$503))/COUNTIF(DMA!$DA$5:$DA$503,Graphs!$O87)))","v":""},{"$f":"IF(Q87=\"\",\"\",IF(Q87=0,\"\",SQRT(SUMIF(DMA!$DA$5:$DA$503,Graphs!$O87,DMA!DC$5:DC$503))/COUNTIF(DMA!$DA$5:$DA$503,Graphs!$O87)))","v":""},{"$f":"IF(R87=\"\",\"\",IF(R87=0,\"\",SQRT(SUMIF(DMA!$DA$5:$DA$503,Graphs!$O87,DMA!DD$5:DD$503))/COUNTIF(DMA!$DA$5:$DA$503,Graphs!$O87)))","v":""},{"$f":"IF($P87=\"\",\"\",IF(P87=0,\"\",AVERAGEIF(DMA!#REF!,Graphs!$O87,DMA!#REF!)))","v":""},{"$f":"IF($Q87=\"\",\"\",IF(Q87=0,\"\",AVERAGEIF(DMA!#REF!,Graphs!$O87,DMA!#REF!)))","v":""},{"$f":"IF($R87=\"\",\"\",IF(R87=0,\"\",AVERAGEIF(DMA!#REF!,Graphs!$O87,DMA!#REF!)))","v":""}]
[null,"","","","","","","","","","","","","","","","","","","","",null,null,null,null,null,null,null,null,null,null,null,null,null,null,null,null,null,null,null,null,null,null,null,null,null,null,null,null,null,null,"","","",{"$f":"IF(P88=\"\",\"\",IF(P88=0,\"\",SQRT(SUMIF(DMA!$DA$5:$DA$503,Graphs!$O88,DMA!DB$5:DB$503))/COUNTIF(DMA!$DA$5:$DA$503,Graphs!$O88)))","v":""},{"$f":"IF(Q88=\"\",\"\",IF(Q88=0,\"\",SQRT(SUMIF(DMA!$DA$5:$DA$503,Graphs!$O88,DMA!DC$5:DC$503))/COUNTIF(DMA!$DA$5:$DA$503,Graphs!$O88)))","v":""},{"$f":"IF(R88=\"\",\"\",IF(R88=0,\"\",SQRT(SUMIF(DMA!$DA$5:$DA$503,Graphs!$O88,DMA!DD$5:DD$503))/COUNTIF(DMA!$DA$5:$DA$503,Graphs!$O88)))","v":""},{"$f":"IF($P88=\"\",\"\",IF(P88=0,\"\",AVERAGEIF(DMA!#REF!,Graphs!$O88,DMA!#REF!)))","v":""},{"$f":"IF($Q88=\"\",\"\",IF(Q88=0,\"\",AVERAGEIF(DMA!#REF!,Graphs!$O88,DMA!#REF!)))","v":""},{"$f":"IF($R88=\"\",\"\",IF(R88=0,\"\",AVERAGEIF(DMA!#REF!,Graphs!$O88,DMA!#REF!)))","v":""}]
[null,"","","","","","","","","","","","","","","","","","","","",null,null,null,null,null,null,null,null,null,null,null,null,null,null,null,null,null,null,null,null,null,null,null,null,null,null,null,null,null,null,"","","",{"$f":"IF(P89=\"\",\"\",IF(P89=0,\"\",SQRT(SUMIF(DMA!$DA$5:$DA$503,Graphs!$O89,DMA!DB$5:DB$503))/COUNTIF(DMA!$DA$5:$DA$503,Graphs!$O89)))","v":""},{"$f":"IF(Q89=\"\",\"\",IF(Q89=0,\"\",SQRT(SUMIF(DMA!$DA$5:$DA$503,Graphs!$O89,DMA!DC$5:DC$503))/COUNTIF(DMA!$DA$5:$DA$503,Graphs!$O89)))","v":""},{"$f":"IF(R89=\"\",\"\",IF(R89=0,\"\",SQRT(SUMIF(DMA!$DA$5:$DA$503,Graphs!$O89,DMA!DD$5:DD$503))/COUNTIF(DMA!$DA$5:$DA$503,Graphs!$O89)))","v":""},{"$f":"IF($P89=\"\",\"\",IF(P89=0,\"\",AVERAGEIF(DMA!#REF!,Graphs!$O89,DMA!#REF!)))","v":""},{"$f":"IF($Q89=\"\",\"\",IF(Q89=0,\"\",AVERAGEIF(DMA!#REF!,Graphs!$O89,DMA!#REF!)))","v":""},{"$f":"IF($R89=\"\",\"\",IF(R89=0,\"\",AVERAGEIF(DMA!#REF!,Graphs!$O89,DMA!#REF!)))","v":""}]
[null,"","","","","","","","","","","","","","","","","","","","",null,null,null,null,null,null,null,null,null,null,null,null,null,null,null,null,null,null,null,null,null,null,null,null,null,null,null,null,null,null,"","","",{"$f":"IF(P90=\"\",\"\",IF(P90=0,\"\",SQRT(SUMIF(DMA!$DA$5:$DA$503,Graphs!$O90,DMA!DB$5:DB$503))/COUNTIF(DMA!$DA$5:$DA$503,Graphs!$O90)))","v":""},{"$f":"IF(Q90=\"\",\"\",IF(Q90=0,\"\",SQRT(SUMIF(DMA!$DA$5:$DA$503,Graphs!$O90,DMA!DC$5:DC$503))/COUNTIF(DMA!$DA$5:$DA$503,Graphs!$O90)))","v":""},{"$f":"IF(R90=\"\",\"\",IF(R90=0,\"\",SQRT(SUMIF(DMA!$DA$5:$DA$503,Graphs!$O90,DMA!DD$5:DD$503))/COUNTIF(DMA!$DA$5:$DA$503,Graphs!$O90)))","v":""},{"$f":"IF($P90=\"\",\"\",IF(P90=0,\"\",AVERAGEIF(DMA!#REF!,Graphs!$O90,DMA!#REF!)))","v":""},{"$f":"IF($Q90=\"\",\"\",IF(Q90=0,\"\",AVERAGEIF(DMA!#REF!,Graphs!$O90,DMA!#REF!)))","v":""},{"$f":"IF($R90=\"\",\"\",IF(R90=0,\"\",AVERAGEIF(DMA!#REF!,Graphs!$O90,DMA!#REF!)))","v":""}]
[null,"","","","","","","","","","","","","","","","","","","","",null,null,null,null,null,null,null,null,null,null,null,null,null,null,null,null,null,null,null,null,null,null,null,null,null,null,null,null,null,null,"","","",{"$f":"IF(P91=\"\",\"\",IF(P91=0,\"\",SQRT(SUMIF(DMA!$DA$5:$DA$503,Graphs!$O91,DMA!DB$5:DB$503))/COUNTIF(DMA!$DA$5:$DA$503,Graphs!$O91)))","v":""},{"$f":"IF(Q91=\"\",\"\",IF(Q91=0,\"\",SQRT(SUMIF(DMA!$DA$5:$DA$503,Graphs!$O91,DMA!DC$5:DC$503))/COUNTIF(DMA!$DA$5:$DA$503,Graphs!$O91)))","v":""},{"$f":"IF(R91=\"\",\"\",IF(R91=0,\"\",SQRT(SUMIF(DMA!$DA$5:$DA$503,Graphs!$O91,DMA!DD$5:DD$503))/COUNTIF(DMA!$DA$5:$DA$503,Graphs!$O91)))","v":""},{"$f":"IF($P91=\"\",\"\",IF(P91=0,\"\",AVERAGEIF(DMA!#REF!,Graphs!$O91,DMA!#REF!)))","v":""},{"$f":"IF($Q91=\"\",\"\",IF(Q91=0,\"\",AVERAGEIF(DMA!#REF!,Graphs!$O91,DMA!#REF!)))","v":""},{"$f":"IF($R91=\"\",\"\",IF(R91=0,\"\",AVERAGEIF(DMA!#REF!,Graphs!$O91,DMA!#REF!)))","v":""}]
[null,"","","","","","","","","","","","","","","","","","","","",null,null,null,null,null,null,null,null,null,null,null,null,null,null,null,null,null,null,null,null,null,null,null,null,null,null,null,null,null,null,"","","",{"$f":"IF(P92=\"\",\"\",IF(P92=0,\"\",SQRT(SUMIF(DMA!$DA$5:$DA$503,Graphs!$O92,DMA!DB$5:DB$503))/COUNTIF(DMA!$DA$5:$DA$503,Graphs!$O92)))","v":""},{"$f":"IF(Q92=\"\",\"\",IF(Q92=0,\"\",SQRT(SUMIF(DMA!$DA$5:$DA$503,Graphs!$O92,DMA!DC$5:DC$503))/COUNTIF(DMA!$DA$5:$DA$503,Graphs!$O92)))","v":""},{"$f":"IF(R92=\"\",\"\",IF(R92=0,\"\",SQRT(SUMIF(DMA!$DA$5:$DA$503,Graphs!$O92,DMA!DD$5:DD$503))/COUNTIF(DMA!$DA$5:$DA$503,Graphs!$O92)))","v":""},{"$f":"IF($P92=\"\",\"\",IF(P92=0,\"\",AVERAGEIF(DMA!#REF!,Graphs!$O92,DMA!#REF!)))","v":""},{"$f":"IF($Q92=\"\",\"\",IF(Q92=0,\"\",AVERAGEIF(DMA!#REF!,Graphs!$O92,DMA!#REF!)))","v":""},{"$f":"IF($R92=\"\",\"\",IF(R92=0,\"\",AVERAGEIF(DMA!#REF!,Graphs!$O92,DMA!#REF!)))","v":""}]
[null,"","","","","","","","","","","","","","","","","","","","",null,null,null,null,null,null,null,null,null,null,null,null,null,null,null,null,null,null,null,null,null,null,null,null,null,null,null,null,null,null,"","","",{"$f":"IF(P93=\"\",\"\",IF(P93=0,\"\",SQRT(SUMIF(DMA!$DA$5:$DA$503,Graphs!$O93,DMA!DB$5:DB$503))/COUNTIF(DMA!$DA$5:$DA$503,Graphs!$O93)))","v":""},{"$f":"IF(Q93=\"\",\"\",IF(Q93=0,\"\",SQRT(SUMIF(DMA!$DA$5:$DA$503,Graphs!$O93,DMA!DC$5:DC$503))/COUNTIF(DMA!$DA$5:$DA$503,Graphs!$O93)))","v":""},{"$f":"IF(R93=\"\",\"\",IF(R93=0,\"\",SQRT(SUMIF(DMA!$DA$5:$DA$503,Graphs!$O93,DMA!DD$5:DD$503))/COUNTIF(DMA!$DA$5:$DA$503,Graphs!$O93)))","v":""},{"$f":"IF($P93=\"\",\"\",IF(P93=0,\"\",AVERAGEIF(DMA!#REF!,Graphs!$O93,DMA!#REF!)))","v":""},{"$f":"IF($Q93=\"\",\"\",IF(Q93=0,\"\",AVERAGEIF(DMA!#REF!,Graphs!$O93,DMA!#REF!)))","v":""},{"$f":"IF($R93=\"\",\"\",IF(R93=0,\"\",AVERAGEIF(DMA!#REF!,Graphs!$O93,DMA!#REF!)))","v":""}]
[null,"","","","","","","","","","","","","","","","","","","","",null,null,null,null,null,null,null,null,null,null,null,null,null,null,null,null,null,null,null,null,null,null,null,null,null,null,null,null,null,null,"","","",{"$f":"IF(P94=\"\",\"\",IF(P94=0,\"\",SQRT(SUMIF(DMA!$DA$5:$DA$503,Graphs!$O94,DMA!DB$5:DB$503))/COUNTIF(DMA!$DA$5:$DA$503,Graphs!$O94)))","v":""},{"$f":"IF(Q94=\"\",\"\",IF(Q94=0,\"\",SQRT(SUMIF(DMA!$DA$5:$DA$503,Graphs!$O94,DMA!DC$5:DC$503))/COUNTIF(DMA!$DA$5:$DA$503,Graphs!$O94)))","v":""},{"$f":"IF(R94=\"\",\"\",IF(R94=0,\"\",SQRT(SUMIF(DMA!$DA$5:$DA$503,Graphs!$O94,DMA!DD$5:DD$503))/COUNTIF(DMA!$DA$5:$DA$503,Graphs!$O94)))","v":""},{"$f":"IF($P94=\"\",\"\",IF(P94=0,\"\",AVERAGEIF(DMA!#REF!,Graphs!$O94,DMA!#REF!)))","v":""},{"$f":"IF($Q94=\"\",\"\",IF(Q94=0,\"\",AVERAGEIF(DMA!#REF!,Graphs!$O94,DMA!#REF!)))","v":""},{"$f":"IF($R94=\"\",\"\",IF(R94=0,\"\",AVERAGEIF(DMA!#REF!,Graphs!$O94,DMA!#REF!)))","v":""}]
[null,"","","","","","","","","","","","","","","","","","","","",null,null,null,null,null,null,null,null,null,null,null,null,null,null,null,null,null,null,null,null,null,null,null,null,null,null,null,null,null,null,"","","",{"$f":"IF(P95=\"\",\"\",IF(P95=0,\"\",SQRT(SUMIF(DMA!$DA$5:$DA$503,Graphs!$O95,DMA!DB$5:DB$503))/COUNTIF(DMA!$DA$5:$DA$503,Graphs!$O95)))","v":""},{"$f":"IF(Q95=\"\",\"\",IF(Q95=0,\"\",SQRT(SUMIF(DMA!$DA$5:$DA$503,Graphs!$O95,DMA!DC$5:DC$503))/COUNTIF(DMA!$DA$5:$DA$503,Graphs!$O95)))","v":""},{"$f":"IF(R95=\"\",\"\",IF(R95=0,\"\",SQRT(SUMIF(DMA!$DA$5:$DA$503,Graphs!$O95,DMA!DD$5:DD$503))/COUNTIF(DMA!$DA$5:$DA$503,Graphs!$O95)))","v":""},{"$f":"IF($P95=\"\",\"\",IF(P95=0,\"\",AVERAGEIF(DMA!#REF!,Graphs!$O95,DMA!#REF!)))","v":""},{"$f":"IF($Q95=\"\",\"\",IF(Q95=0,\"\",AVERAGEIF(DMA!#REF!,Graphs!$O95,DMA!#REF!)))","v":""},{"$f":"IF($R95=\"\",\"\",IF(R95=0,\"\",AVERAGEIF(DMA!#REF!,Graphs!$O95,DMA!#REF!)))","v":""}]
[null,"","","","","","","","","","","","","","","","","","","","",null,null,null,null,null,null,null,null,null,null,null,null,null,null,null,null,null,null,null,null,null,null,null,null,null,null,null,null,null,null,"","","",{"$f":"IF(P96=\"\",\"\",IF(P96=0,\"\",SQRT(SUMIF(DMA!$DA$5:$DA$503,Graphs!$O96,DMA!DB$5:DB$503))/COUNTIF(DMA!$DA$5:$DA$503,Graphs!$O96)))","v":""},{"$f":"IF(Q96=\"\",\"\",IF(Q96=0,\"\",SQRT(SUMIF(DMA!$DA$5:$DA$503,Graphs!$O96,DMA!DC$5:DC$503))/COUNTIF(DMA!$DA$5:$DA$503,Graphs!$O96)))","v":""},{"$f":"IF(R96=\"\",\"\",IF(R96=0,\"\",SQRT(SUMIF(DMA!$DA$5:$DA$503,Graphs!$O96,DMA!DD$5:DD$503))/COUNTIF(DMA!$DA$5:$DA$503,Graphs!$O96)))","v":""},{"$f":"IF($P96=\"\",\"\",IF(P96=0,\"\",AVERAGEIF(DMA!#REF!,Graphs!$O96,DMA!#REF!)))","v":""},{"$f":"IF($Q96=\"\",\"\",IF(Q96=0,\"\",AVERAGEIF(DMA!#REF!,Graphs!$O96,DMA!#REF!)))","v":""},{"$f":"IF($R96=\"\",\"\",IF(R96=0,\"\",AVERAGEIF(DMA!#REF!,Graphs!$O96,DMA!#REF!)))","v":""}]
[null,"","","","","","","","","","","","","","","","","","","","",null,null,null,null,null,null,null,null,null,null,null,null,null,null,null,null,null,null,null,null,null,null,null,null,null,null,null,null,null,null,"","","",{"$f":"IF(P97=\"\",\"\",IF(P97=0,\"\",SQRT(SUMIF(DMA!$DA$5:$DA$503,Graphs!$O97,DMA!DB$5:DB$503))/COUNTIF(DMA!$DA$5:$DA$503,Graphs!$O97)))","v":""},{"$f":"IF(Q97=\"\",\"\",IF(Q97=0,\"\",SQRT(SUMIF(DMA!$DA$5:$DA$503,Graphs!$O97,DMA!DC$5:DC$503))/COUNTIF(DMA!$DA$5:$DA$503,Graphs!$O97)))","v":""},{"$f":"IF(R97=\"\",\"\",IF(R97=0,\"\",SQRT(SUMIF(DMA!$DA$5:$DA$503,Graphs!$O97,DMA!DD$5:DD$503))/COUNTIF(DMA!$DA$5:$DA$503,Graphs!$O97)))","v":""},{"$f":"IF($P97=\"\",\"\",IF(P97=0,\"\",AVERAGEIF(DMA!#REF!,Graphs!$O97,DMA!#REF!)))","v":""},{"$f":"IF($Q97=\"\",\"\",IF(Q97=0,\"\",AVERAGEIF(DMA!#REF!,Graphs!$O97,DMA!#REF!)))","v":""},{"$f":"IF($R97=\"\",\"\",IF(R97=0,\"\",AVERAGEIF(DMA!#REF!,Graphs!$O97,DMA!#REF!)))","v":""}]
[null,"","","","","","","","","","","","","","","","","","","","",null,null,null,null,null,null,null,null,null,null,null,null,null,null,null,null,null,null,null,null,null,null,null,null,null,null,null,null,null,null,"","","",{"$f":"IF(P98=\"\",\"\",IF(P98=0,\"\",SQRT(SUMIF(DMA!$DA$5:$DA$503,Graphs!$O98,DMA!DB$5:DB$503))/COUNTIF(DMA!$DA$5:$DA$503,Graphs!$O98)))","v":""},{"$f":"IF(Q98=\"\",\"\",IF(Q98=0,\"\",SQRT(SUMIF(DMA!$DA$5:$DA$503,Graphs!$O98,DMA!DC$5:DC$503))/COUNTIF(DMA!$DA$5:$DA$503,Graphs!$O98)))","v":""},{"$f":"IF(R98=\"\",\"\",IF(R98=0,\"\",SQRT(SUMIF(DMA!$DA$5:$DA$503,Graphs!$O98,DMA!DD$5:DD$503))/COUNTIF(DMA!$DA$5:$DA$503,Graphs!$O98)))","v":""},{"$f":"IF($P98=\"\",\"\",IF(P98=0,\"\",AVERAGEIF(DMA!#REF!,Graphs!$O98,DMA!#REF!)))","v":""},{"$f":"IF($Q98=\"\",\"\",IF(Q98=0,\"\",AVERAGEIF(DMA!#REF!,Graphs!$O98,DMA!#REF!)))","v":""},{"$f":"IF($R98=\"\",\"\",IF(R98=0,\"\",AVERAGEIF(DMA!#REF!,Graphs!$O98,DMA!#REF!)))","v":""}]
[null,"","","","","","","","","","","","","","","","","","","","",null,null,null,null,null,null,null,null,null,null,null,null,null,null,null,null,null,null,null,null,null,null,null,null,null,null,null,null,null,null,"","","",{"$f":"IF(P99=\"\",\"\",IF(P99=0,\"\",SQRT(SUMIF(DMA!$DA$5:$DA$503,Graphs!$O99,DMA!DB$5:DB$503))/COUNTIF(DMA!$DA$5:$DA$503,Graphs!$O99)))","v":""},{"$f":"IF(Q99=\"\",\"\",IF(Q99=0,\"\",SQRT(SUMIF(DMA!$DA$5:$DA$503,Graphs!$O99,DMA!DC$5:DC$503))/COUNTIF(DMA!$DA$5:$DA$503,Graphs!$O99)))","v":""},{"$f":"IF(R99=\"\",\"\",IF(R99=0,\"\",SQRT(SUMIF(DMA!$DA$5:$DA$503,Graphs!$O99,DMA!DD$5:DD$503))/COUNTIF(DMA!$DA$5:$DA$503,Graphs!$O99)))","v":""},{"$f":"IF($P99=\"\",\"\",IF(P99=0,\"\",AVERAGEIF(DMA!#REF!,Graphs!$O99,DMA!#REF!)))","v":""},{"$f":"IF($Q99=\"\",\"\",IF(Q99=0,\"\",AVERAGEIF(DMA!#REF!,Graphs!$O99,DMA!#REF!)))","v":""},{"$f":"IF($R99=\"\",\"\",IF(R99=0,\"\",AVERAGEIF(DMA!#REF!,Graphs!$O99,DMA!#REF!)))","v":""}]
[null,"","","","","","","","","","","","","","","","","","","","",null,null,null,null,null,null,null,null,null,null,null,null,null,null,null,null,null,null,null,null,null,null,null,null,null,null,null,null,null,null,"","","",{"$f":"IF(P100=\"\",\"\",IF(P100=0,\"\",SQRT(SUMIF(DMA!$DA$5:$DA$503,Graphs!$O100,DMA!DB$5:DB$503))/COUNTIF(DMA!$DA$5:$DA$503,Graphs!$O100)))","v":""},{"$f":"IF(Q100=\"\",\"\",IF(Q100=0,\"\",SQRT(SUMIF(DMA!$DA$5:$DA$503,Graphs!$O100,DMA!DC$5:DC$503))/COUNTIF(DMA!$DA$5:$DA$503,Graphs!$O100)))","v":""},{"$f":"IF(R100=\"\",\"\",IF(R100=0,\"\",SQRT(SUMIF(DMA!$DA$5:$DA$503,Graphs!$O100,DMA!DD$5:DD$503))/COUNTIF(DMA!$DA$5:$DA$503,Graphs!$O100)))","v":""},{"$f":"IF($P100=\"\",\"\",IF(P100=0,\"\",AVERAGEIF(DMA!#REF!,Graphs!$O100,DMA!#REF!)))","v":""},{"$f":"IF($Q100=\"\",\"\",IF(Q100=0,\"\",AVERAGEIF(DMA!#REF!,Graphs!$O100,DMA!#REF!)))","v":""},{"$f":"IF($R100=\"\",\"\",IF(R100=0,\"\",AVERAGEIF(DMA!#REF!,Graphs!$O100,DMA!#REF!)))","v":""}]
[null,"","","","","","","","","","","","","","","","","","","","",null,null,null,null,null,null,null,null,null,null,null,null,null,null,null,null,null,null,null,null,null,null,null,null,null,null,null,null,null,null,"","","",{"$f":"IF(P101=\"\",\"\",IF(P101=0,\"\",SQRT(SUMIF(DMA!$DA$5:$DA$503,Graphs!$O101,DMA!DB$5:DB$503))/COUNTIF(DMA!$DA$5:$DA$503,Graphs!$O101)))","v":""},{"$f":"IF(Q101=\"\",\"\",IF(Q101=0,\"\",SQRT(SUMIF(DMA!$DA$5:$DA$503,Graphs!$O101,DMA!DC$5:DC$503))/COUNTIF(DMA!$DA$5:$DA$503,Graphs!$O101)))","v":""},{"$f":"IF(R101=\"\",\"\",IF(R101=0,\"\",SQRT(SUMIF(DMA!$DA$5:$DA$503,Graphs!$O101,DMA!DD$5:DD$503))/COUNTIF(DMA!$DA$5:$DA$503,Graphs!$O101)))","v":""},{"$f":"IF($P101=\"\",\"\",IF(P101=0,\"\",AVERAGEIF(DMA!#REF!,Graphs!$O101,DMA!#REF!)))","v":""},{"$f":"IF($Q101=\"\",\"\",IF(Q101=0,\"\",AVERAGEIF(DMA!#REF!,Graphs!$O101,DMA!#REF!)))","v":""},{"$f":"IF($R101=\"\",\"\",IF(R101=0,\"\",AVERAGEIF(DMA!#REF!,Graphs!$O101,DMA!#REF!)))","v":""}]
[null,"","","","","","","","","","","","","","","","","","","","",null,null,null,null,null,null,null,null,null,null,null,null,null,null,null,null,null,null,null,null,null,null,null,null,null,null,null,null,null,null,"","","",{"$f":"IF(P102=\"\",\"\",IF(P102=0,\"\",SQRT(SUMIF(DMA!$DA$5:$DA$503,Graphs!$O102,DMA!DB$5:DB$503))/COUNTIF(DMA!$DA$5:$DA$503,Graphs!$O102)))","v":""},{"$f":"IF(Q102=\"\",\"\",IF(Q102=0,\"\",SQRT(SUMIF(DMA!$DA$5:$DA$503,Graphs!$O102,DMA!DC$5:DC$503))/COUNTIF(DMA!$DA$5:$DA$503,Graphs!$O102)))","v":""},{"$f":"IF(R102=\"\",\"\",IF(R102=0,\"\",SQRT(SUMIF(DMA!$DA$5:$DA$503,Graphs!$O102,DMA!DD$5:DD$503))/COUNTIF(DMA!$DA$5:$DA$503,Graphs!$O102)))","v":""},{"$f":"IF($P102=\"\",\"\",IF(P102=0,\"\",AVERAGEIF(DMA!#REF!,Graphs!$O102,DMA!#REF!)))","v":""},{"$f":"IF($Q102=\"\",\"\",IF(Q102=0,\"\",AVERAGEIF(DMA!#REF!,Graphs!$O102,DMA!#REF!)))","v":""},{"$f":"IF($R102=\"\",\"\",IF(R102=0,\"\",AVERAGEIF(DMA!#REF!,Graphs!$O102,DMA!#REF!)))","v":""}]
[null,"","","","","","","","","","","","","","","","","","","","",null,null,null,null,null,null,null,null,null,null,null,null,null,null,null,null,null,null,null,null,null,null,null,null,null,null,null,null,null,null,"","","",{"$f":"IF(P103=\"\",\"\",IF(P103=0,\"\",SQRT(SUMIF(DMA!$DA$5:$DA$503,Graphs!$O103,DMA!DB$5:DB$503))/COUNTIF(DMA!$DA$5:$DA$503,Graphs!$O103)))","v":""},{"$f":"IF(Q103=\"\",\"\",IF(Q103=0,\"\",SQRT(SUMIF(DMA!$DA$5:$DA$503,Graphs!$O103,DMA!DC$5:DC$503))/COUNTIF(DMA!$DA$5:$DA$503,Graphs!$O103)))","v":""},{"$f":"IF(R103=\"\",\"\",IF(R103=0,\"\",SQRT(SUMIF(DMA!$DA$5:$DA$503,Graphs!$O103,DMA!DD$5:DD$503))/COUNTIF(DMA!$DA$5:$DA$503,Graphs!$O103)))","v":""},{"$f":"IF($P103=\"\",\"\",IF(P103=0,\"\",AVERAGEIF(DMA!#REF!,Graphs!$O103,DMA!#REF!)))","v":""},{"$f":"IF($Q103=\"\",\"\",IF(Q103=0,\"\",AVERAGEIF(DMA!#REF!,Graphs!$O103,DMA!#REF!)))","v":""},{"$f":"IF($R103=\"\",\"\",IF(R103=0,\"\",AVERAGEIF(DMA!#REF!,Graphs!$O103,DMA!#REF!)))","v":""}]
[null,"","","","","","","","","","","","","","","","","","","","",null,null,null,null,null,null,null,null,null,null,null,null,null,null,null,null,null,null,null,null,null,null,null,null,null,null,null,null,null,null,"","","",{"$f":"IF(P104=\"\",\"\",IF(P104=0,\"\",SQRT(SUMIF(DMA!$DA$5:$DA$503,Graphs!$O104,DMA!DB$5:DB$503))/COUNTIF(DMA!$DA$5:$DA$503,Graphs!$O104)))","v":""},{"$f":"IF(Q104=\"\",\"\",IF(Q104=0,\"\",SQRT(SUMIF(DMA!$DA$5:$DA$503,Graphs!$O104,DMA!DC$5:DC$503))/COUNTIF(DMA!$DA$5:$DA$503,Graphs!$O104)))","v":""},{"$f":"IF(R104=\"\",\"\",IF(R104=0,\"\",SQRT(SUMIF(DMA!$DA$5:$DA$503,Graphs!$O104,DMA!DD$5:DD$503))/COUNTIF(DMA!$DA$5:$DA$503,Graphs!$O104)))","v":""},{"$f":"IF($P104=\"\",\"\",IF(P104=0,\"\",AVERAGEIF(DMA!#REF!,Graphs!$O104,DMA!#REF!)))","v":""},{"$f":"IF($Q104=\"\",\"\",IF(Q104=0,\"\",AVERAGEIF(DMA!#REF!,Graphs!$O104,DMA!#REF!)))","v":""},{"$f":"IF($R104=\"\",\"\",IF(R104=0,\"\",AVERAGEIF(DMA!#REF!,Graphs!$O104,DMA!#REF!)))","v":""}]
[null,"","","","","","","","","","","","","","","","","","","","",null,null,null,null,null,null,null,null,null,null,null,null,null,null,null,null,null,null,null,null,null,null,null,null,null,null,null,null,null,null,"","","",{"$f":"IF(P105=\"\",\"\",IF(P105=0,\"\",SQRT(SUMIF(DMA!$DA$5:$DA$503,Graphs!$O105,DMA!DB$5:DB$503))/COUNTIF(DMA!$DA$5:$DA$503,Graphs!$O105)))","v":""},{"$f":"IF(Q105=\"\",\"\",IF(Q105=0,\"\",SQRT(SUMIF(DMA!$DA$5:$DA$503,Graphs!$O105,DMA!DC$5:DC$503))/COUNTIF(DMA!$DA$5:$DA$503,Graphs!$O105)))","v":""},{"$f":"IF(R105=\"\",\"\",IF(R105=0,\"\",SQRT(SUMIF(DMA!$DA$5:$DA$503,Graphs!$O105,DMA!DD$5:DD$503))/COUNTIF(DMA!$DA$5:$DA$503,Graphs!$O105)))","v":""},{"$f":"IF($P105=\"\",\"\",IF(P105=0,\"\",AVERAGEIF(DMA!#REF!,Graphs!$O105,DMA!#REF!)))","v":""},{"$f":"IF($Q105=\"\",\"\",IF(Q105=0,\"\",AVERAGEIF(DMA!#REF!,Graphs!$O105,DMA!#REF!)))","v":""},{"$f":"IF($R105=\"\",\"\",IF(R105=0,\"\",AVERAGEIF(DMA!#REF!,Graphs!$O105,DMA!#REF!)))","v":""}]
[null,"","","","","","","","","","","","","","","","","","","","",null,null,null,null,null,null,null,null,null,null,null,null,null,null,null,null,null,null,null,null,null,null,null,null,null,null,null,null,null,null,"","","",{"$f":"IF(P106=\"\",\"\",IF(P106=0,\"\",SQRT(SUMIF(DMA!$DA$5:$DA$503,Graphs!$O106,DMA!DB$5:DB$503))/COUNTIF(DMA!$DA$5:$DA$503,Graphs!$O106)))","v":""},{"$f":"IF(Q106=\"\",\"\",IF(Q106=0,\"\",SQRT(SUMIF(DMA!$DA$5:$DA$503,Graphs!$O106,DMA!DC$5:DC$503))/COUNTIF(DMA!$DA$5:$DA$503,Graphs!$O106)))","v":""},{"$f":"IF(R106=\"\",\"\",IF(R106=0,\"\",SQRT(SUMIF(DMA!$DA$5:$DA$503,Graphs!$O106,DMA!DD$5:DD$503))/COUNTIF(DMA!$DA$5:$DA$503,Graphs!$O106)))","v":""},{"$f":"IF($P106=\"\",\"\",IF(P106=0,\"\",AVERAGEIF(DMA!#REF!,Graphs!$O106,DMA!#REF!)))","v":""},{"$f":"IF($Q106=\"\",\"\",IF(Q106=0,\"\",AVERAGEIF(DMA!#REF!,Graphs!$O106,DMA!#REF!)))","v":""},{"$f":"IF($R106=\"\",\"\",IF(R106=0,\"\",AVERAGEIF(DMA!#REF!,Graphs!$O106,DMA!#REF!)))","v":""}]
[null,"","","","","","","","","","","","","","","","","","","","",null,null,null,null,null,null,null,null,null,null,null,null,null,null,null,null,null,null,null,null,null,null,null,null,null,null,null,null,null,null,"","","",{"$f":"IF(P107=\"\",\"\",IF(P107=0,\"\",SQRT(SUMIF(DMA!$DA$5:$DA$503,Graphs!$O107,DMA!DB$5:DB$503))/COUNTIF(DMA!$DA$5:$DA$503,Graphs!$O107)))","v":""},{"$f":"IF(Q107=\"\",\"\",IF(Q107=0,\"\",SQRT(SUMIF(DMA!$DA$5:$DA$503,Graphs!$O107,DMA!DC$5:DC$503))/COUNTIF(DMA!$DA$5:$DA$503,Graphs!$O107)))","v":""},{"$f":"IF(R107=\"\",\"\",IF(R107=0,\"\",SQRT(SUMIF(DMA!$DA$5:$DA$503,Graphs!$O107,DMA!DD$5:DD$503))/COUNTIF(DMA!$DA$5:$DA$503,Graphs!$O107)))","v":""},{"$f":"IF($P107=\"\",\"\",IF(P107=0,\"\",AVERAGEIF(DMA!#REF!,Graphs!$O107,DMA!#REF!)))","v":""},{"$f":"IF($Q107=\"\",\"\",IF(Q107=0,\"\",AVERAGEIF(DMA!#REF!,Graphs!$O107,DMA!#REF!)))","v":""},{"$f":"IF($R107=\"\",\"\",IF(R107=0,\"\",AVERAGEIF(DMA!#REF!,Graphs!$O107,DMA!#REF!)))","v":""}]
[null,"","","","","","","","","","","","","","","","","","","","",null,null,null,null,null,null,null,null,null,null,null,null,null,null,null,null,null,null,null,null,null,null,null,null,null,null,null,null,null,null,"","","",{"$f":"IF(P108=\"\",\"\",IF(P108=0,\"\",SQRT(SUMIF(DMA!$DA$5:$DA$503,Graphs!$O108,DMA!DB$5:DB$503))/COUNTIF(DMA!$DA$5:$DA$503,Graphs!$O108)))","v":""},{"$f":"IF(Q108=\"\",\"\",IF(Q108=0,\"\",SQRT(SUMIF(DMA!$DA$5:$DA$503,Graphs!$O108,DMA!DC$5:DC$503))/COUNTIF(DMA!$DA$5:$DA$503,Graphs!$O108)))","v":""},{"$f":"IF(R108=\"\",\"\",IF(R108=0,\"\",SQRT(SUMIF(DMA!$DA$5:$DA$503,Graphs!$O108,DMA!DD$5:DD$503))/COUNTIF(DMA!$DA$5:$DA$503,Graphs!$O108)))","v":""},{"$f":"IF($P108=\"\",\"\",IF(P108=0,\"\",AVERAGEIF(DMA!#REF!,Graphs!$O108,DMA!#REF!)))","v":""},{"$f":"IF($Q108=\"\",\"\",IF(Q108=0,\"\",AVERAGEIF(DMA!#REF!,Graphs!$O108,DMA!#REF!)))","v":""},{"$f":"IF($R108=\"\",\"\",IF(R108=0,\"\",AVERAGEIF(DMA!#REF!,Graphs!$O108,DMA!#REF!)))","v":""}]
[null,"","","","","","","","","","","","","","","","","","","","",null,null,null,null,null,null,null,null,null,null,null,null,null,null,null,null,null,null,null,null,null,null,null,null,null,null,null,null,null,null,"","","",{"$f":"IF(P109=\"\",\"\",IF(P109=0,\"\",SQRT(SUMIF(DMA!$DA$5:$DA$503,Graphs!$O109,DMA!DB$5:DB$503))/COUNTIF(DMA!$DA$5:$DA$503,Graphs!$O109)))","v":""},{"$f":"IF(Q109=\"\",\"\",IF(Q109=0,\"\",SQRT(SUMIF(DMA!$DA$5:$DA$503,Graphs!$O109,DMA!DC$5:DC$503))/COUNTIF(DMA!$DA$5:$DA$503,Graphs!$O109)))","v":""},{"$f":"IF(R109=\"\",\"\",IF(R109=0,\"\",SQRT(SUMIF(DMA!$DA$5:$DA$503,Graphs!$O109,DMA!DD$5:DD$503))/COUNTIF(DMA!$DA$5:$DA$503,Graphs!$O109)))","v":""},{"$f":"IF($P109=\"\",\"\",IF(P109=0,\"\",AVERAGEIF(DMA!#REF!,Graphs!$O109,DMA!#REF!)))","v":""},{"$f":"IF($Q109=\"\",\"\",IF(Q109=0,\"\",AVERAGEIF(DMA!#REF!,Graphs!$O109,DMA!#REF!)))","v":""},{"$f":"IF($R109=\"\",\"\",IF(R109=0,\"\",AVERAGEIF(DMA!#REF!,Graphs!$O109,DMA!#REF!)))","v":""}]
[null,"","","","","","","","","","","","","","","","","","","","",null,null,null,null,null,null,null,null,null,null,null,null,null,null,null,null,null,null,null,null,null,null,null,null,null,null,null,null,null,null,"","","",{"$f":"IF(P110=\"\",\"\",IF(P110=0,\"\",SQRT(SUMIF(DMA!$DA$5:$DA$503,Graphs!$O110,DMA!DB$5:DB$503))/COUNTIF(DMA!$DA$5:$DA$503,Graphs!$O110)))","v":""},{"$f":"IF(Q110=\"\",\"\",IF(Q110=0,\"\",SQRT(SUMIF(DMA!$DA$5:$DA$503,Graphs!$O110,DMA!DC$5:DC$503))/COUNTIF(DMA!$DA$5:$DA$503,Graphs!$O110)))","v":""},{"$f":"IF(R110=\"\",\"\",IF(R110=0,\"\",SQRT(SUMIF(DMA!$DA$5:$DA$503,Graphs!$O110,DMA!DD$5:DD$503))/COUNTIF(DMA!$DA$5:$DA$503,Graphs!$O110)))","v":""},{"$f":"IF($P110=\"\",\"\",IF(P110=0,\"\",AVERAGEIF(DMA!#REF!,Graphs!$O110,DMA!#REF!)))","v":""},{"$f":"IF($Q110=\"\",\"\",IF(Q110=0,\"\",AVERAGEIF(DMA!#REF!,Graphs!$O110,DMA!#REF!)))","v":""},{"$f":"IF($R110=\"\",\"\",IF(R110=0,\"\",AVERAGEIF(DMA!#REF!,Graphs!$O110,DMA!#REF!)))","v":""}]
[null,"","","","","","","","","","","","","","","","","","","","",null,null,null,null,null,null,null,null,null,null,null,null,null,null,null,null,null,null,null,null,null,null,null,null,null,null,null,null,null,null,"","","",{"$f":"IF(P111=\"\",\"\",IF(P111=0,\"\",SQRT(SUMIF(DMA!$DA$5:$DA$503,Graphs!$O111,DMA!DB$5:DB$503))/COUNTIF(DMA!$DA$5:$DA$503,Graphs!$O111)))","v":""},{"$f":"IF(Q111=\"\",\"\",IF(Q111=0,\"\",SQRT(SUMIF(DMA!$DA$5:$DA$503,Graphs!$O111,DMA!DC$5:DC$503))/COUNTIF(DMA!$DA$5:$DA$503,Graphs!$O111)))","v":""},{"$f":"IF(R111=\"\",\"\",IF(R111=0,\"\",SQRT(SUMIF(DMA!$DA$5:$DA$503,Graphs!$O111,DMA!DD$5:DD$503))/COUNTIF(DMA!$DA$5:$DA$503,Graphs!$O111)))","v":""},{"$f":"IF($P111=\"\",\"\",IF(P111=0,\"\",AVERAGEIF(DMA!#REF!,Graphs!$O111,DMA!#REF!)))","v":""},{"$f":"IF($Q111=\"\",\"\",IF(Q111=0,\"\",AVERAGEIF(DMA!#REF!,Graphs!$O111,DMA!#REF!)))","v":""},{"$f":"IF($R111=\"\",\"\",IF(R111=0,\"\",AVERAGEIF(DMA!#REF!,Graphs!$O111,DMA!#REF!)))","v":""}]
[null,"","","","","","","","","","","","","","","","","","","","",null,null,null,null,null,null,null,null,null,null,null,null,null,null,null,null,null,null,null,null,null,null,null,null,null,null,null,null,null,null,"","","",{"$f":"IF(P112=\"\",\"\",IF(P112=0,\"\",SQRT(SUMIF(DMA!$DA$5:$DA$503,Graphs!$O112,DMA!DB$5:DB$503))/COUNTIF(DMA!$DA$5:$DA$503,Graphs!$O112)))","v":""},{"$f":"IF(Q112=\"\",\"\",IF(Q112=0,\"\",SQRT(SUMIF(DMA!$DA$5:$DA$503,Graphs!$O112,DMA!DC$5:DC$503))/COUNTIF(DMA!$DA$5:$DA$503,Graphs!$O112)))","v":""},{"$f":"IF(R112=\"\",\"\",IF(R112=0,\"\",SQRT(SUMIF(DMA!$DA$5:$DA$503,Graphs!$O112,DMA!DD$5:DD$503))/COUNTIF(DMA!$DA$5:$DA$503,Graphs!$O112)))","v":""},{"$f":"IF($P112=\"\",\"\",IF(P112=0,\"\",AVERAGEIF(DMA!#REF!,Graphs!$O112,DMA!#REF!)))","v":""},{"$f":"IF($Q112=\"\",\"\",IF(Q112=0,\"\",AVERAGEIF(DMA!#REF!,Graphs!$O112,DMA!#REF!)))","v":""},{"$f":"IF($R112=\"\",\"\",IF(R112=0,\"\",AVERAGEIF(DMA!#REF!,Graphs!$O112,DMA!#REF!)))","v":""}]
[null,"","","","","","","","","","","","","","","","","","","","",null,null,null,null,null,null,null,null,null,null,null,null,null,null,null,null,null,null,null,null,null,null,null,null,null,null,null,null,null,null,"","","",{"$f":"IF(P113=\"\",\"\",IF(P113=0,\"\",SQRT(SUMIF(DMA!$DA$5:$DA$503,Graphs!$O113,DMA!DB$5:DB$503))/COUNTIF(DMA!$DA$5:$DA$503,Graphs!$O113)))","v":""},{"$f":"IF(Q113=\"\",\"\",IF(Q113=0,\"\",SQRT(SUMIF(DMA!$DA$5:$DA$503,Graphs!$O113,DMA!DC$5:DC$503))/COUNTIF(DMA!$DA$5:$DA$503,Graphs!$O113)))","v":""},{"$f":"IF(R113=\"\",\"\",IF(R113=0,\"\",SQRT(SUMIF(DMA!$DA$5:$DA$503,Graphs!$O113,DMA!DD$5:DD$503))/COUNTIF(DMA!$DA$5:$DA$503,Graphs!$O113)))","v":""},{"$f":"IF($P113=\"\",\"\",IF(P113=0,\"\",AVERAGEIF(DMA!#REF!,Graphs!$O113,DMA!#REF!)))","v":""},{"$f":"IF($Q113=\"\",\"\",IF(Q113=0,\"\",AVERAGEIF(DMA!#REF!,Graphs!$O113,DMA!#REF!)))","v":""},{"$f":"IF($R113=\"\",\"\",IF(R113=0,\"\",AVERAGEIF(DMA!#REF!,Graphs!$O113,DMA!#REF!)))","v":""}]
[null,"","","","","","","","","","","","","","","","","","","","",null,null,null,null,null,null,null,null,null,null,null,null,null,null,null,null,null,null,null,null,null,null,null,null,null,null,null,null,null,null,"","","",{"$f":"IF(P114=\"\",\"\",IF(P114=0,\"\",SQRT(SUMIF(DMA!$DA$5:$DA$503,Graphs!$O114,DMA!DB$5:DB$503))/COUNTIF(DMA!$DA$5:$DA$503,Graphs!$O114)))","v":""},{"$f":"IF(Q114=\"\",\"\",IF(Q114=0,\"\",SQRT(SUMIF(DMA!$DA$5:$DA$503,Graphs!$O114,DMA!DC$5:DC$503))/COUNTIF(DMA!$DA$5:$DA$503,Graphs!$O114)))","v":""},{"$f":"IF(R114=\"\",\"\",IF(R114=0,\"\",SQRT(SUMIF(DMA!$DA$5:$DA$503,Graphs!$O114,DMA!DD$5:DD$503))/COUNTIF(DMA!$DA$5:$DA$503,Graphs!$O114)))","v":""},{"$f":"IF($P114=\"\",\"\",IF(P114=0,\"\",AVERAGEIF(DMA!#REF!,Graphs!$O114,DMA!#REF!)))","v":""},{"$f":"IF($Q114=\"\",\"\",IF(Q114=0,\"\",AVERAGEIF(DMA!#REF!,Graphs!$O114,DMA!#REF!)))","v":""},{"$f":"IF($R114=\"\",\"\",IF(R114=0,\"\",AVERAGEIF(DMA!#REF!,Graphs!$O114,DMA!#REF!)))","v":""}]
[null,"","","","","","","","","","","","","","","","","","","","",null,null,null,null,null,null,null,null,null,null,null,null,null,null,null,null,null,null,null,null,null,null,null,null,null,null,null,null,null,null,"","","",{"$f":"IF(P115=\"\",\"\",IF(P115=0,\"\",SQRT(SUMIF(DMA!$DA$5:$DA$503,Graphs!$O115,DMA!DB$5:DB$503))/COUNTIF(DMA!$DA$5:$DA$503,Graphs!$O115)))","v":""},{"$f":"IF(Q115=\"\",\"\",IF(Q115=0,\"\",SQRT(SUMIF(DMA!$DA$5:$DA$503,Graphs!$O115,DMA!DC$5:DC$503))/COUNTIF(DMA!$DA$5:$DA$503,Graphs!$O115)))","v":""},{"$f":"IF(R115=\"\",\"\",IF(R115=0,\"\",SQRT(SUMIF(DMA!$DA$5:$DA$503,Graphs!$O115,DMA!DD$5:DD$503))/COUNTIF(DMA!$DA$5:$DA$503,Graphs!$O115)))","v":""},{"$f":"IF($P115=\"\",\"\",IF(P115=0,\"\",AVERAGEIF(DMA!#REF!,Graphs!$O115,DMA!#REF!)))","v":""},{"$f":"IF($Q115=\"\",\"\",IF(Q115=0,\"\",AVERAGEIF(DMA!#REF!,Graphs!$O115,DMA!#REF!)))","v":""},{"$f":"IF($R115=\"\",\"\",IF(R115=0,\"\",AVERAGEIF(DMA!#REF!,Graphs!$O115,DMA!#REF!)))","v":""}]
[null,"","","","","","","","","","","","","","","","","","","","",null,null,null,null,null,null,null,null,null,null,null,null,null,null,null,null,null,null,null,null,null,null,null,null,null,null,null,null,null,null,"","","",{"$f":"IF(P116=\"\",\"\",IF(P116=0,\"\",SQRT(SUMIF(DMA!$DA$5:$DA$503,Graphs!$O116,DMA!DB$5:DB$503))/COUNTIF(DMA!$DA$5:$DA$503,Graphs!$O116)))","v":""},{"$f":"IF(Q116=\"\",\"\",IF(Q116=0,\"\",SQRT(SUMIF(DMA!$DA$5:$DA$503,Graphs!$O116,DMA!DC$5:DC$503))/COUNTIF(DMA!$DA$5:$DA$503,Graphs!$O116)))","v":""},{"$f":"IF(R116=\"\",\"\",IF(R116=0,\"\",SQRT(SUMIF(DMA!$DA$5:$DA$503,Graphs!$O116,DMA!DD$5:DD$503))/COUNTIF(DMA!$DA$5:$DA$503,Graphs!$O116)))","v":""},{"$f":"IF($P116=\"\",\"\",IF(P116=0,\"\",AVERAGEIF(DMA!#REF!,Graphs!$O116,DMA!#REF!)))","v":""},{"$f":"IF($Q116=\"\",\"\",IF(Q116=0,\"\",AVERAGEIF(DMA!#REF!,Graphs!$O116,DMA!#REF!)))","v":""},{"$f":"IF($R116=\"\",\"\",IF(R116=0,\"\",AVERAGEIF(DMA!#REF!,Graphs!$O116,DMA!#REF!)))","v":""}]
[null,"","","","","","","","","","","","","","","","","","","","",null,null,null,null,null,null,null,null,null,null,null,null,null,null,null,null,null,null,null,null,null,null,null,null,null,null,null,null,null,null,"","","",{"$f":"IF(P117=\"\",\"\",IF(P117=0,\"\",SQRT(SUMIF(DMA!$DA$5:$DA$503,Graphs!$O117,DMA!DB$5:DB$503))/COUNTIF(DMA!$DA$5:$DA$503,Graphs!$O117)))","v":""},{"$f":"IF(Q117=\"\",\"\",IF(Q117=0,\"\",SQRT(SUMIF(DMA!$DA$5:$DA$503,Graphs!$O117,DMA!DC$5:DC$503))/COUNTIF(DMA!$DA$5:$DA$503,Graphs!$O117)))","v":""},{"$f":"IF(R117=\"\",\"\",IF(R117=0,\"\",SQRT(SUMIF(DMA!$DA$5:$DA$503,Graphs!$O117,DMA!DD$5:DD$503))/COUNTIF(DMA!$DA$5:$DA$503,Graphs!$O117)))","v":""},{"$f":"IF($P117=\"\",\"\",IF(P117=0,\"\",AVERAGEIF(DMA!#REF!,Graphs!$O117,DMA!#REF!)))","v":""},{"$f":"IF($Q117=\"\",\"\",IF(Q117=0,\"\",AVERAGEIF(DMA!#REF!,Graphs!$O117,DMA!#REF!)))","v":""},{"$f":"IF($R117=\"\",\"\",IF(R117=0,\"\",AVERAGEIF(DMA!#REF!,Graphs!$O117,DMA!#REF!)))","v":""}]
[null,"","","","","","","","","","","","","","","","","","","","",null,null,null,null,null,null,null,null,null,null,null,null,null,null,null,null,null,null,null,null,null,null,null,null,null,null,null,null,null,null,"","","",{"$f":"IF(P118=\"\",\"\",IF(P118=0,\"\",SQRT(SUMIF(DMA!$DA$5:$DA$503,Graphs!$O118,DMA!DB$5:DB$503))/COUNTIF(DMA!$DA$5:$DA$503,Graphs!$O118)))","v":""},{"$f":"IF(Q118=\"\",\"\",IF(Q118=0,\"\",SQRT(SUMIF(DMA!$DA$5:$DA$503,Graphs!$O118,DMA!DC$5:DC$503))/COUNTIF(DMA!$DA$5:$DA$503,Graphs!$O118)))","v":""},{"$f":"IF(R118=\"\",\"\",IF(R118=0,\"\",SQRT(SUMIF(DMA!$DA$5:$DA$503,Graphs!$O118,DMA!DD$5:DD$503))/COUNTIF(DMA!$DA$5:$DA$503,Graphs!$O118)))","v":""},{"$f":"IF($P118=\"\",\"\",IF(P118=0,\"\",AVERAGEIF(DMA!#REF!,Graphs!$O118,DMA!#REF!)))","v":""},{"$f":"IF($Q118=\"\",\"\",IF(Q118=0,\"\",AVERAGEIF(DMA!#REF!,Graphs!$O118,DMA!#REF!)))","v":""},{"$f":"IF($R118=\"\",\"\",IF(R118=0,\"\",AVERAGEIF(DMA!#REF!,Graphs!$O118,DMA!#REF!)))","v":""}]
[null,"","","","","","","","","","","","","","","","","","","","",null,null,null,null,null,null,null,null,null,null,null,null,null,null,null,null,null,null,null,null,null,null,null,null,null,null,null,null,null,null,"","","",{"$f":"IF(P119=\"\",\"\",IF(P119=0,\"\",SQRT(SUMIF(DMA!$DA$5:$DA$503,Graphs!$O119,DMA!DB$5:DB$503))/COUNTIF(DMA!$DA$5:$DA$503,Graphs!$O119)))","v":""},{"$f":"IF(Q119=\"\",\"\",IF(Q119=0,\"\",SQRT(SUMIF(DMA!$DA$5:$DA$503,Graphs!$O119,DMA!DC$5:DC$503))/COUNTIF(DMA!$DA$5:$DA$503,Graphs!$O119)))","v":""},{"$f":"IF(R119=\"\",\"\",IF(R119=0,\"\",SQRT(SUMIF(DMA!$DA$5:$DA$503,Graphs!$O119,DMA!DD$5:DD$503))/COUNTIF(DMA!$DA$5:$DA$503,Graphs!$O119)))","v":""},{"$f":"IF($P119=\"\",\"\",IF(P119=0,\"\",AVERAGEIF(DMA!#REF!,Graphs!$O119,DMA!#REF!)))","v":""},{"$f":"IF($Q119=\"\",\"\",IF(Q119=0,\"\",AVERAGEIF(DMA!#REF!,Graphs!$O119,DMA!#REF!)))","v":""},{"$f":"IF($R119=\"\",\"\",IF(R119=0,\"\",AVERAGEIF(DMA!#REF!,Graphs!$O119,DMA!#REF!)))","v":""}]
[null,"","","","","","","","","","","","","","","","","","","","",null,null,null,null,null,null,null,null,null,null,null,null,null,null,null,null,null,null,null,null,null,null,null,null,null,null,null,null,null,null,{"$f":"IF(BC120=\"\",\"\",IF(BC120=1,\"\",IF(BC120=0,\"\",CONFIDENCE(0.05,BC120,BM120))))","v":""},{"$f":"IF(BD120=\"\",\"\",IF(BD120=1,\"\",IF(BD120=0,\"\",CONFIDENCE(0.05,BD120,BN120))))","v":""},{"$f":"IF(BE120=\"\",\"\",IF(BE120=1,\"\",IF(BE120=0,\"\",CONFIDENCE(0.05,BE120,BO120))))","v":""},{"$f":"IF(P120=\"\",\"\",IF(P120=0,\"\",SQRT(SUMIF(DMA!$DA$5:$DA$503,Graphs!$O120,DMA!DB$5:DB$503))/COUNTIF(DMA!$DA$5:$DA$503,Graphs!$O120)))","v":""},{"$f":"IF(Q120=\"\",\"\",IF(Q120=0,\"\",SQRT(SUMIF(DMA!$DA$5:$DA$503,Graphs!$O120,DMA!DC$5:DC$503))/COUNTIF(DMA!$DA$5:$DA$503,Graphs!$O120)))","v":""},{"$f":"IF(R120=\"\",\"\",IF(R120=0,\"\",SQRT(SUMIF(DMA!$DA$5:$DA$503,Graphs!$O120,DMA!DD$5:DD$503))/COUNTIF(DMA!$DA$5:$DA$503,Graphs!$O120)))","v":""},{"$f":"IF($P120=\"\",\"\",IF(P120=0,\"\",AVERAGEIF(DMA!#REF!,Graphs!$O120,DMA!#REF!)))","v":""},{"$f":"IF($Q120=\"\",\"\",IF(Q120=0,\"\",AVERAGEIF(DMA!#REF!,Graphs!$O120,DMA!#REF!)))","v":""},{"$f":"IF($R120=\"\",\"\",IF(R120=0,\"\",AVERAGEIF(DMA!#REF!,Graphs!$O120,DMA!#REF!)))","v":""}]
[null,"","","","","","","","","","","","","","","","","","","","",null,null,null,null,null,null,null,null,null,null,null,null,null,null,null,null,null,null,null,null,null,null,null,null,null,null,null,null,null,null,"","","",{"$f":"IF(P121=\"\",\"\",IF(P121=0,\"\",SQRT(SUMIF(DMA!$DA$5:$DA$503,Graphs!$O121,DMA!DB$5:DB$503))/COUNTIF(DMA!$DA$5:$DA$503,Graphs!$O121)))","v":""},{"$f":"IF(Q121=\"\",\"\",IF(Q121=0,\"\",SQRT(SUMIF(DMA!$DA$5:$DA$503,Graphs!$O121,DMA!DC$5:DC$503))/COUNTIF(DMA!$DA$5:$DA$503,Graphs!$O121)))","v":""},{"$f":"IF(R121=\"\",\"\",IF(R121=0,\"\",SQRT(SUMIF(DMA!$DA$5:$DA$503,Graphs!$O121,DMA!DD$5:DD$503))/COUNTIF(DMA!$DA$5:$DA$503,Graphs!$O121)))","v":""},{"$f":"IF($P121=\"\",\"\",IF(P121=0,\"\",AVERAGEIF(DMA!#REF!,Graphs!$O121,DMA!#REF!)))","v":""},{"$f":"IF($Q121=\"\",\"\",IF(Q121=0,\"\",AVERAGEIF(DMA!#REF!,Graphs!$O121,DMA!#REF!)))","v":""},{"$f":"IF($R121=\"\",\"\",IF(R121=0,\"\",AVERAGEIF(DMA!#REF!,Graphs!$O121,DMA!#REF!)))","v":""}]
[null,"","","","","","","","","","","","","","","","","","","","",null,null,null,null,null,null,null,null,null,null,null,null,null,null,null,null,null,null,null,null,null,null,null,null,null,null,null,null,null,null,"","","",{"$f":"IF(P122=\"\",\"\",IF(P122=0,\"\",SQRT(SUMIF(DMA!$DA$5:$DA$503,Graphs!$O122,DMA!DB$5:DB$503))/COUNTIF(DMA!$DA$5:$DA$503,Graphs!$O122)))","v":""},{"$f":"IF(Q122=\"\",\"\",IF(Q122=0,\"\",SQRT(SUMIF(DMA!$DA$5:$DA$503,Graphs!$O122,DMA!DC$5:DC$503))/COUNTIF(DMA!$DA$5:$DA$503,Graphs!$O122)))","v":""},{"$f":"IF(R122=\"\",\"\",IF(R122=0,\"\",SQRT(SUMIF(DMA!$DA$5:$DA$503,Graphs!$O122,DMA!DD$5:DD$503))/COUNTIF(DMA!$DA$5:$DA$503,Graphs!$O122)))","v":""},{"$f":"IF($P122=\"\",\"\",IF(P122=0,\"\",AVERAGEIF(DMA!#REF!,Graphs!$O122,DMA!#REF!)))","v":""},{"$f":"IF($Q122=\"\",\"\",IF(Q122=0,\"\",AVERAGEIF(DMA!#REF!,Graphs!$O122,DMA!#REF!)))","v":""},{"$f":"IF($R122=\"\",\"\",IF(R122=0,\"\",AVERAGEIF(DMA!#REF!,Graphs!$O122,DMA!#REF!)))","v":""}]
[null,"","","","","","","","","","","","","","","","","","","","",null,null,null,null,null,null,null,null,null,null,null,null,null,null,null,null,null,null,null,null,null,null,null,null,null,null,null,null,null,null,"","","",{"$f":"IF(P123=\"\",\"\",IF(P123=0,\"\",SQRT(SUMIF(DMA!$DA$5:$DA$503,Graphs!$O123,DMA!DB$5:DB$503))/COUNTIF(DMA!$DA$5:$DA$503,Graphs!$O123)))","v":""},{"$f":"IF(Q123=\"\",\"\",IF(Q123=0,\"\",SQRT(SUMIF(DMA!$DA$5:$DA$503,Graphs!$O123,DMA!DC$5:DC$503))/COUNTIF(DMA!$DA$5:$DA$503,Graphs!$O123)))","v":""},{"$f":"IF(R123=\"\",\"\",IF(R123=0,\"\",SQRT(SUMIF(DMA!$DA$5:$DA$503,Graphs!$O123,DMA!DD$5:DD$503))/COUNTIF(DMA!$DA$5:$DA$503,Graphs!$O123)))","v":""},{"$f":"IF($P123=\"\",\"\",IF(P123=0,\"\",AVERAGEIF(DMA!#REF!,Graphs!$O123,DMA!#REF!)))","v":""},{"$f":"IF($Q123=\"\",\"\",IF(Q123=0,\"\",AVERAGEIF(DMA!#REF!,Graphs!$O123,DMA!#REF!)))","v":""},{"$f":"IF($R123=\"\",\"\",IF(R123=0,\"\",AVERAGEIF(DMA!#REF!,Graphs!$O123,DMA!#REF!)))","v":""}]
[null,"","","","","","","","","","","","","","","","","","","","",null,null,null,null,null,null,null,null,null,null,null,null,null,null,null,null,null,null,null,null,null,null,null,null,null,null,null,null,null,null,"","","",{"$f":"IF(P124=\"\",\"\",IF(P124=0,\"\",SQRT(SUMIF(DMA!$DA$5:$DA$503,Graphs!$O124,DMA!DB$5:DB$503))/COUNTIF(DMA!$DA$5:$DA$503,Graphs!$O124)))","v":""},{"$f":"IF(Q124=\"\",\"\",IF(Q124=0,\"\",SQRT(SUMIF(DMA!$DA$5:$DA$503,Graphs!$O124,DMA!DC$5:DC$503))/COUNTIF(DMA!$DA$5:$DA$503,Graphs!$O124)))","v":""},{"$f":"IF(R124=\"\",\"\",IF(R124=0,\"\",SQRT(SUMIF(DMA!$DA$5:$DA$503,Graphs!$O124,DMA!DD$5:DD$503))/COUNTIF(DMA!$DA$5:$DA$503,Graphs!$O124)))","v":""},{"$f":"IF($P124=\"\",\"\",IF(P124=0,\"\",AVERAGEIF(DMA!#REF!,Graphs!$O124,DMA!#REF!)))","v":""},{"$f":"IF($Q124=\"\",\"\",IF(Q124=0,\"\",AVERAGEIF(DMA!#REF!,Graphs!$O124,DMA!#REF!)))","v":""},{"$f":"IF($R124=\"\",\"\",IF(R124=0,\"\",AVERAGEIF(DMA!#REF!,Graphs!$O124,DMA!#REF!)))","v":""}]
[null,"","","","","","","","","","","","","","","","","","","","",null,null,null,null,null,null,null,null,null,null,null,null,null,null,null,null,null,null,null,null,null,null,null,null,null,null,null,null,null,null,"","","",{"$f":"IF(P125=\"\",\"\",IF(P125=0,\"\",SQRT(SUMIF(DMA!$DA$5:$DA$503,Graphs!$O125,DMA!DB$5:DB$503))/COUNTIF(DMA!$DA$5:$DA$503,Graphs!$O125)))","v":""},{"$f":"IF(Q125=\"\",\"\",IF(Q125=0,\"\",SQRT(SUMIF(DMA!$DA$5:$DA$503,Graphs!$O125,DMA!DC$5:DC$503))/COUNTIF(DMA!$DA$5:$DA$503,Graphs!$O125)))","v":""},{"$f":"IF(R125=\"\",\"\",IF(R125=0,\"\",SQRT(SUMIF(DMA!$DA$5:$DA$503,Graphs!$O125,DMA!DD$5:DD$503))/COUNTIF(DMA!$DA$5:$DA$503,Graphs!$O125)))","v":""},{"$f":"IF($P125=\"\",\"\",IF(P125=0,\"\",AVERAGEIF(DMA!#REF!,Graphs!$O125,DMA!#REF!)))","v":""},{"$f":"IF($Q125=\"\",\"\",IF(Q125=0,\"\",AVERAGEIF(DMA!#REF!,Graphs!$O125,DMA!#REF!)))","v":""},{"$f":"IF($R125=\"\",\"\",IF(R125=0,\"\",AVERAGEIF(DMA!#REF!,Graphs!$O125,DMA!#REF!)))","v":""}]
[null,"","","","","","","","","","","","","","","","","","","","",null,null,null,null,null,null,null,null,null,null,null,null,null,null,null,null,null,null,null,null,null,null,null,null,null,null,null,null,null,null,"","","",{"$f":"IF(P126=\"\",\"\",IF(P126=0,\"\",SQRT(SUMIF(DMA!$DA$5:$DA$503,Graphs!$O126,DMA!DB$5:DB$503))/COUNTIF(DMA!$DA$5:$DA$503,Graphs!$O126)))","v":""},{"$f":"IF(Q126=\"\",\"\",IF(Q126=0,\"\",SQRT(SUMIF(DMA!$DA$5:$DA$503,Graphs!$O126,DMA!DC$5:DC$503))/COUNTIF(DMA!$DA$5:$DA$503,Graphs!$O126)))","v":""},{"$f":"IF(R126=\"\",\"\",IF(R126=0,\"\",SQRT(SUMIF(DMA!$DA$5:$DA$503,Graphs!$O126,DMA!DD$5:DD$503))/COUNTIF(DMA!$DA$5:$DA$503,Graphs!$O126)))","v":""},{"$f":"IF($P126=\"\",\"\",IF(P126=0,\"\",AVERAGEIF(DMA!#REF!,Graphs!$O126,DMA!#REF!)))","v":""},{"$f":"IF($Q126=\"\",\"\",IF(Q126=0,\"\",AVERAGEIF(DMA!#REF!,Graphs!$O126,DMA!#REF!)))","v":""},{"$f":"IF($R126=\"\",\"\",IF(R126=0,\"\",AVERAGEIF(DMA!#REF!,Graphs!$O126,DMA!#REF!)))","v":""}]
[null,"","","","","","","","","","","","","","","","","","","","",null,null,null,null,null,null,null,null,null,null,null,null,null,null,null,null,null,null,null,null,null,null,null,null,null,null,null,null,null,null,"","","",{"$f":"IF(P127=\"\",\"\",IF(P127=0,\"\",SQRT(SUMIF(DMA!$DA$5:$DA$503,Graphs!$O127,DMA!DB$5:DB$503))/COUNTIF(DMA!$DA$5:$DA$503,Graphs!$O127)))","v":""},{"$f":"IF(Q127=\"\",\"\",IF(Q127=0,\"\",SQRT(SUMIF(DMA!$DA$5:$DA$503,Graphs!$O127,DMA!DC$5:DC$503))/COUNTIF(DMA!$DA$5:$DA$503,Graphs!$O127)))","v":""},{"$f":"IF(R127=\"\",\"\",IF(R127=0,\"\",SQRT(SUMIF(DMA!$DA$5:$DA$503,Graphs!$O127,DMA!DD$5:DD$503))/COUNTIF(DMA!$DA$5:$DA$503,Graphs!$O127)))","v":""},{"$f":"IF($P127=\"\",\"\",IF(P127=0,\"\",AVERAGEIF(DMA!#REF!,Graphs!$O127,DMA!#REF!)))","v":""},{"$f":"IF($Q127=\"\",\"\",IF(Q127=0,\"\",AVERAGEIF(DMA!#REF!,Graphs!$O127,DMA!#REF!)))","v":""},{"$f":"IF($R127=\"\",\"\",IF(R127=0,\"\",AVERAGEIF(DMA!#REF!,Graphs!$O127,DMA!#REF!)))","v":""}]
[null,"","","","","","","","","","","","","","","","","","","","",null,null,null,null,null,null,null,null,null,null,null,null,null,null,null,null,null,null,null,null,null,null,null,null,null,null,null,null,null,null,"","","",{"$f":"IF(P128=\"\",\"\",IF(P128=0,\"\",SQRT(SUMIF(DMA!$DA$5:$DA$503,Graphs!$O128,DMA!DB$5:DB$503))/COUNTIF(DMA!$DA$5:$DA$503,Graphs!$O128)))","v":""},{"$f":"IF(Q128=\"\",\"\",IF(Q128=0,\"\",SQRT(SUMIF(DMA!$DA$5:$DA$503,Graphs!$O128,DMA!DC$5:DC$503))/COUNTIF(DMA!$DA$5:$DA$503,Graphs!$O128)))","v":""},{"$f":"IF(R128=\"\",\"\",IF(R128=0,\"\",SQRT(SUMIF(DMA!$DA$5:$DA$503,Graphs!$O128,DMA!DD$5:DD$503))/COUNTIF(DMA!$DA$5:$DA$503,Graphs!$O128)))","v":""},{"$f":"IF($P128=\"\",\"\",IF(P128=0,\"\",AVERAGEIF(DMA!#REF!,Graphs!$O128,DMA!#REF!)))","v":""},{"$f":"IF($Q128=\"\",\"\",IF(Q128=0,\"\",AVERAGEIF(DMA!#REF!,Graphs!$O128,DMA!#REF!)))","v":""},{"$f":"IF($R128=\"\",\"\",IF(R128=0,\"\",AVERAGEIF(DMA!#REF!,Graphs!$O128,DMA!#REF!)))","v":""}]
[null,"","","","","","","","","","","","","","","","","","","","",null,null,null,null,null,null,null,null,null,null,null,null,null,null,null,null,null,null,null,null,null,null,null,null,null,null,null,null,null,null,"","","",{"$f":"IF(P129=\"\",\"\",IF(P129=0,\"\",SQRT(SUMIF(DMA!$DA$5:$DA$503,Graphs!$O129,DMA!DB$5:DB$503))/COUNTIF(DMA!$DA$5:$DA$503,Graphs!$O129)))","v":""},{"$f":"IF(Q129=\"\",\"\",IF(Q129=0,\"\",SQRT(SUMIF(DMA!$DA$5:$DA$503,Graphs!$O129,DMA!DC$5:DC$503))/COUNTIF(DMA!$DA$5:$DA$503,Graphs!$O129)))","v":""},{"$f":"IF(R129=\"\",\"\",IF(R129=0,\"\",SQRT(SUMIF(DMA!$DA$5:$DA$503,Graphs!$O129,DMA!DD$5:DD$503))/COUNTIF(DMA!$DA$5:$DA$503,Graphs!$O129)))","v":""},{"$f":"IF($P129=\"\",\"\",IF(P129=0,\"\",AVERAGEIF(DMA!#REF!,Graphs!$O129,DMA!#REF!)))","v":""},{"$f":"IF($Q129=\"\",\"\",IF(Q129=0,\"\",AVERAGEIF(DMA!#REF!,Graphs!$O129,DMA!#REF!)))","v":""},{"$f":"IF($R129=\"\",\"\",IF(R129=0,\"\",AVERAGEIF(DMA!#REF!,Graphs!$O129,DMA!#REF!)))","v":""}]
[null,"","","","","","","","","","","","","","","","","","","","",null,null,null,null,null,null,null,null,null,null,null,null,null,null,null,null,null,null,null,null,null,null,null,null,null,null,null,null,null,null,"","","",{"$f":"IF(P130=\"\",\"\",IF(P130=0,\"\",SQRT(SUMIF(DMA!$DA$5:$DA$503,Graphs!$O130,DMA!DB$5:DB$503))/COUNTIF(DMA!$DA$5:$DA$503,Graphs!$O130)))","v":""},{"$f":"IF(Q130=\"\",\"\",IF(Q130=0,\"\",SQRT(SUMIF(DMA!$DA$5:$DA$503,Graphs!$O130,DMA!DC$5:DC$503))/COUNTIF(DMA!$DA$5:$DA$503,Graphs!$O130)))","v":""},{"$f":"IF(R130=\"\",\"\",IF(R130=0,\"\",SQRT(SUMIF(DMA!$DA$5:$DA$503,Graphs!$O130,DMA!DD$5:DD$503))/COUNTIF(DMA!$DA$5:$DA$503,Graphs!$O130)))","v":""},{"$f":"IF($P130=\"\",\"\",IF(P130=0,\"\",AVERAGEIF(DMA!#REF!,Graphs!$O130,DMA!#REF!)))","v":""},{"$f":"IF($Q130=\"\",\"\",IF(Q130=0,\"\",AVERAGEIF(DMA!#REF!,Graphs!$O130,DMA!#REF!)))","v":""},{"$f":"IF($R130=\"\",\"\",IF(R130=0,\"\",AVERAGEIF(DMA!#REF!,Graphs!$O130,DMA!#REF!)))","v":""}]
[null,"","","","","","","","","","","","","","","","","","","","",null,null,null,null,null,null,null,null,null,null,null,null,null,null,null,null,null,null,null,null,null,null,null,null,null,null,null,null,null,null,"","","",{"$f":"IF(P131=\"\",\"\",IF(P131=0,\"\",SQRT(SUMIF(DMA!$DA$5:$DA$503,Graphs!$O131,DMA!DB$5:DB$503))/COUNTIF(DMA!$DA$5:$DA$503,Graphs!$O131)))","v":""},{"$f":"IF(Q131=\"\",\"\",IF(Q131=0,\"\",SQRT(SUMIF(DMA!$DA$5:$DA$503,Graphs!$O131,DMA!DC$5:DC$503))/COUNTIF(DMA!$DA$5:$DA$503,Graphs!$O131)))","v":""},{"$f":"IF(R131=\"\",\"\",IF(R131=0,\"\",SQRT(SUMIF(DMA!$DA$5:$DA$503,Graphs!$O131,DMA!DD$5:DD$503))/COUNTIF(DMA!$DA$5:$DA$503,Graphs!$O131)))","v":""},{"$f":"IF($P131=\"\",\"\",IF(P131=0,\"\",AVERAGEIF(DMA!#REF!,Graphs!$O131,DMA!#REF!)))","v":""},{"$f":"IF($Q131=\"\",\"\",IF(Q131=0,\"\",AVERAGEIF(DMA!#REF!,Graphs!$O131,DMA!#REF!)))","v":""},{"$f":"IF($R131=\"\",\"\",IF(R131=0,\"\",AVERAGEIF(DMA!#REF!,Graphs!$O131,DMA!#REF!)))","v":""}]
[null,"","","","","","","","","","","","","","","","","","","","",null,null,null,null,null,null,null,null,null,null,null,null,null,null,null,null,null,null,null,null,null,null,null,null,null,null,null,null,null,null,"","","",{"$f":"IF(P132=\"\",\"\",IF(P132=0,\"\",SQRT(SUMIF(DMA!$DA$5:$DA$503,Graphs!$O132,DMA!DB$5:DB$503))/COUNTIF(DMA!$DA$5:$DA$503,Graphs!$O132)))","v":""},{"$f":"IF(Q132=\"\",\"\",IF(Q132=0,\"\",SQRT(SUMIF(DMA!$DA$5:$DA$503,Graphs!$O132,DMA!DC$5:DC$503))/COUNTIF(DMA!$DA$5:$DA$503,Graphs!$O132)))","v":""},{"$f":"IF(R132=\"\",\"\",IF(R132=0,\"\",SQRT(SUMIF(DMA!$DA$5:$DA$503,Graphs!$O132,DMA!DD$5:DD$503))/COUNTIF(DMA!$DA$5:$DA$503,Graphs!$O132)))","v":""},{"$f":"IF($P132=\"\",\"\",IF(P132=0,\"\",AVERAGEIF(DMA!#REF!,Graphs!$O132,DMA!#REF!)))","v":""},{"$f":"IF($Q132=\"\",\"\",IF(Q132=0,\"\",AVERAGEIF(DMA!#REF!,Graphs!$O132,DMA!#REF!)))","v":""},{"$f":"IF($R132=\"\",\"\",IF(R132=0,\"\",AVERAGEIF(DMA!#REF!,Graphs!$O132,DMA!#REF!)))","v":""}]
[null,"","","","","","","","","","","","","","","","","","","","",null,null,null,null,null,null,null,null,null,null,null,null,null,null,null,null,null,null,null,null,null,null,null,null,null,null,null,null,null,null,"","","",{"$f":"IF(P133=\"\",\"\",IF(P133=0,\"\",SQRT(SUMIF(DMA!$DA$5:$DA$503,Graphs!$O133,DMA!DB$5:DB$503))/COUNTIF(DMA!$DA$5:$DA$503,Graphs!$O133)))","v":""},{"$f":"IF(Q133=\"\",\"\",IF(Q133=0,\"\",SQRT(SUMIF(DMA!$DA$5:$DA$503,Graphs!$O133,DMA!DC$5:DC$503))/COUNTIF(DMA!$DA$5:$DA$503,Graphs!$O133)))","v":""},{"$f":"IF(R133=\"\",\"\",IF(R133=0,\"\",SQRT(SUMIF(DMA!$DA$5:$DA$503,Graphs!$O133,DMA!DD$5:DD$503))/COUNTIF(DMA!$DA$5:$DA$503,Graphs!$O133)))","v":""},{"$f":"IF($P133=\"\",\"\",IF(P133=0,\"\",AVERAGEIF(DMA!#REF!,Graphs!$O133,DMA!#REF!)))","v":""},{"$f":"IF($Q133=\"\",\"\",IF(Q133=0,\"\",AVERAGEIF(DMA!#REF!,Graphs!$O133,DMA!#REF!)))","v":""},{"$f":"IF($R133=\"\",\"\",IF(R133=0,\"\",AVERAGEIF(DMA!#REF!,Graphs!$O133,DMA!#REF!)))","v":""}]
[null,"","","","","","","","","","","","","","","","","","","","",null,null,null,null,null,null,null,null,null,null,null,null,null,null,null,null,null,null,null,null,null,null,null,null,null,null,null,null,null,null,"","","",{"$f":"IF(P134=\"\",\"\",IF(P134=0,\"\",SQRT(SUMIF(DMA!$DA$5:$DA$503,Graphs!$O134,DMA!DB$5:DB$503))/COUNTIF(DMA!$DA$5:$DA$503,Graphs!$O134)))","v":""},{"$f":"IF(Q134=\"\",\"\",IF(Q134=0,\"\",SQRT(SUMIF(DMA!$DA$5:$DA$503,Graphs!$O134,DMA!DC$5:DC$503))/COUNTIF(DMA!$DA$5:$DA$503,Graphs!$O134)))","v":""},{"$f":"IF(R134=\"\",\"\",IF(R134=0,\"\",SQRT(SUMIF(DMA!$DA$5:$DA$503,Graphs!$O134,DMA!DD$5:DD$503))/COUNTIF(DMA!$DA$5:$DA$503,Graphs!$O134)))","v":""},{"$f":"IF($P134=\"\",\"\",IF(P134=0,\"\",AVERAGEIF(DMA!#REF!,Graphs!$O134,DMA!#REF!)))","v":""},{"$f":"IF($Q134=\"\",\"\",IF(Q134=0,\"\",AVERAGEIF(DMA!#REF!,Graphs!$O134,DMA!#REF!)))","v":""},{"$f":"IF($R134=\"\",\"\",IF(R134=0,\"\",AVERAGEIF(DMA!#REF!,Graphs!$O134,DMA!#REF!)))","v":""}]
[null,"","","","","","","","","","","","","","","","","","","","",null,null,null,null,null,null,null,null,null,null,null,null,null,null,null,null,null,null,null,null,null,null,null,null,null,null,null,null,null,null,"","","",{"$f":"IF(P135=\"\",\"\",IF(P135=0,\"\",SQRT(SUMIF(DMA!$DA$5:$DA$503,Graphs!$O135,DMA!DB$5:DB$503))/COUNTIF(DMA!$DA$5:$DA$503,Graphs!$O135)))","v":""},{"$f":"IF(Q135=\"\",\"\",IF(Q135=0,\"\",SQRT(SUMIF(DMA!$DA$5:$DA$503,Graphs!$O135,DMA!DC$5:DC$503))/COUNTIF(DMA!$DA$5:$DA$503,Graphs!$O135)))","v":""},{"$f":"IF(R135=\"\",\"\",IF(R135=0,\"\",SQRT(SUMIF(DMA!$DA$5:$DA$503,Graphs!$O135,DMA!DD$5:DD$503))/COUNTIF(DMA!$DA$5:$DA$503,Graphs!$O135)))","v":""},{"$f":"IF($P135=\"\",\"\",IF(P135=0,\"\",AVERAGEIF(DMA!#REF!,Graphs!$O135,DMA!#REF!)))","v":""},{"$f":"IF($Q135=\"\",\"\",IF(Q135=0,\"\",AVERAGEIF(DMA!#REF!,Graphs!$O135,DMA!#REF!)))","v":""},{"$f":"IF($R135=\"\",\"\",IF(R135=0,\"\",AVERAGEIF(DMA!#REF!,Graphs!$O135,DMA!#REF!)))","v":""}]
[null,"","","","","","","","","","","","","","","","","","","","",null,null,null,null,null,null,null,null,null,null,null,null,null,null,null,null,null,null,null,null,null,null,null,null,null,null,null,null,null,null,"","","",{"$f":"IF(P136=\"\",\"\",IF(P136=0,\"\",SQRT(SUMIF(DMA!$DA$5:$DA$503,Graphs!$O136,DMA!DB$5:DB$503))/COUNTIF(DMA!$DA$5:$DA$503,Graphs!$O136)))","v":""},{"$f":"IF(Q136=\"\",\"\",IF(Q136=0,\"\",SQRT(SUMIF(DMA!$DA$5:$DA$503,Graphs!$O136,DMA!DC$5:DC$503))/COUNTIF(DMA!$DA$5:$DA$503,Graphs!$O136)))","v":""},{"$f":"IF(R136=\"\",\"\",IF(R136=0,\"\",SQRT(SUMIF(DMA!$DA$5:$DA$503,Graphs!$O136,DMA!DD$5:DD$503))/COUNTIF(DMA!$DA$5:$DA$503,Graphs!$O136)))","v":""},{"$f":"IF($P136=\"\",\"\",IF(P136=0,\"\",AVERAGEIF(DMA!#REF!,Graphs!$O136,DMA!#REF!)))","v":""},{"$f":"IF($Q136=\"\",\"\",IF(Q136=0,\"\",AVERAGEIF(DMA!#REF!,Graphs!$O136,DMA!#REF!)))","v":""},{"$f":"IF($R136=\"\",\"\",IF(R136=0,\"\",AVERAGEIF(DMA!#REF!,Graphs!$O136,DMA!#REF!)))","v":""}]
[null,"","","","","","","","","","","","","","","","","","","","",null,null,null,null,null,null,null,null,null,null,null,null,null,null,null,null,null,null,null,null,null,null,null,null,null,null,null,null,null,null,"","","",{"$f":"IF(P137=\"\",\"\",IF(P137=0,\"\",SQRT(SUMIF(DMA!$DA$5:$DA$503,Graphs!$O137,DMA!DB$5:DB$503))/COUNTIF(DMA!$DA$5:$DA$503,Graphs!$O137)))","v":""},{"$f":"IF(Q137=\"\",\"\",IF(Q137=0,\"\",SQRT(SUMIF(DMA!$DA$5:$DA$503,Graphs!$O137,DMA!DC$5:DC$503))/COUNTIF(DMA!$DA$5:$DA$503,Graphs!$O137)))","v":""},{"$f":"IF(R137=\"\",\"\",IF(R137=0,\"\",SQRT(SUMIF(DMA!$DA$5:$DA$503,Graphs!$O137,DMA!DD$5:DD$503))/COUNTIF(DMA!$DA$5:$DA$503,Graphs!$O137)))","v":""},{"$f":"IF($P137=\"\",\"\",IF(P137=0,\"\",AVERAGEIF(DMA!#REF!,Graphs!$O137,DMA!#REF!)))","v":""},{"$f":"IF($Q137=\"\",\"\",IF(Q137=0,\"\",AVERAGEIF(DMA!#REF!,Graphs!$O137,DMA!#REF!)))","v":""},{"$f":"IF($R137=\"\",\"\",IF(R137=0,\"\",AVERAGEIF(DMA!#REF!,Graphs!$O137,DMA!#REF!)))","v":""}]
[null,"","","","","","","","","","","","","","","","","","","","",null,null,null,null,null,null,null,null,null,null,null,null,null,null,null,null,null,null,null,null,null,null,null,null,null,null,null,null,null,null,"","","",{"$f":"IF(P138=\"\",\"\",IF(P138=0,\"\",SQRT(SUMIF(DMA!$DA$5:$DA$503,Graphs!$O138,DMA!DB$5:DB$503))/COUNTIF(DMA!$DA$5:$DA$503,Graphs!$O138)))","v":""},{"$f":"IF(Q138=\"\",\"\",IF(Q138=0,\"\",SQRT(SUMIF(DMA!$DA$5:$DA$503,Graphs!$O138,DMA!DC$5:DC$503))/COUNTIF(DMA!$DA$5:$DA$503,Graphs!$O138)))","v":""},{"$f":"IF(R138=\"\",\"\",IF(R138=0,\"\",SQRT(SUMIF(DMA!$DA$5:$DA$503,Graphs!$O138,DMA!DD$5:DD$503))/COUNTIF(DMA!$DA$5:$DA$503,Graphs!$O138)))","v":""},{"$f":"IF($P138=\"\",\"\",IF(P138=0,\"\",AVERAGEIF(DMA!#REF!,Graphs!$O138,DMA!#REF!)))","v":""},{"$f":"IF($Q138=\"\",\"\",IF(Q138=0,\"\",AVERAGEIF(DMA!#REF!,Graphs!$O138,DMA!#REF!)))","v":""},{"$f":"IF($R138=\"\",\"\",IF(R138=0,\"\",AVERAGEIF(DMA!#REF!,Graphs!$O138,DMA!#REF!)))","v":""}]
[null,"","","","","","","","","","","","","","","","","","","","",null,null,null,null,null,null,null,null,null,null,null,null,null,null,null,null,null,null,null,null,null,null,null,null,null,null,null,null,null,null,"","","",{"$f":"IF(P139=\"\",\"\",IF(P139=0,\"\",SQRT(SUMIF(DMA!$DA$5:$DA$503,Graphs!$O139,DMA!DB$5:DB$503))/COUNTIF(DMA!$DA$5:$DA$503,Graphs!$O139)))","v":""},{"$f":"IF(Q139=\"\",\"\",IF(Q139=0,\"\",SQRT(SUMIF(DMA!$DA$5:$DA$503,Graphs!$O139,DMA!DC$5:DC$503))/COUNTIF(DMA!$DA$5:$DA$503,Graphs!$O139)))","v":""},{"$f":"IF(R139=\"\",\"\",IF(R139=0,\"\",SQRT(SUMIF(DMA!$DA$5:$DA$503,Graphs!$O139,DMA!DD$5:DD$503))/COUNTIF(DMA!$DA$5:$DA$503,Graphs!$O139)))","v":""},{"$f":"IF($P139=\"\",\"\",IF(P139=0,\"\",AVERAGEIF(DMA!#REF!,Graphs!$O139,DMA!#REF!)))","v":""},{"$f":"IF($Q139=\"\",\"\",IF(Q139=0,\"\",AVERAGEIF(DMA!#REF!,Graphs!$O139,DMA!#REF!)))","v":""},{"$f":"IF($R139=\"\",\"\",IF(R139=0,\"\",AVERAGEIF(DMA!#REF!,Graphs!$O139,DMA!#REF!)))","v":""}]
[null,"","","","","","","","","","","","","","","","","","","","",null,null,null,null,null,null,null,null,null,null,null,null,null,null,null,null,null,null,null,null,null,null,null,null,null,null,null,null,null,null,"","","",{"$f":"IF(P140=\"\",\"\",IF(P140=0,\"\",SQRT(SUMIF(DMA!$DA$5:$DA$503,Graphs!$O140,DMA!DB$5:DB$503))/COUNTIF(DMA!$DA$5:$DA$503,Graphs!$O140)))","v":""},{"$f":"IF(Q140=\"\",\"\",IF(Q140=0,\"\",SQRT(SUMIF(DMA!$DA$5:$DA$503,Graphs!$O140,DMA!DC$5:DC$503))/COUNTIF(DMA!$DA$5:$DA$503,Graphs!$O140)))","v":""},{"$f":"IF(R140=\"\",\"\",IF(R140=0,\"\",SQRT(SUMIF(DMA!$DA$5:$DA$503,Graphs!$O140,DMA!DD$5:DD$503))/COUNTIF(DMA!$DA$5:$DA$503,Graphs!$O140)))","v":""},{"$f":"IF($P140=\"\",\"\",IF(P140=0,\"\",AVERAGEIF(DMA!#REF!,Graphs!$O140,DMA!#REF!)))","v":""},{"$f":"IF($Q140=\"\",\"\",IF(Q140=0,\"\",AVERAGEIF(DMA!#REF!,Graphs!$O140,DMA!#REF!)))","v":""},{"$f":"IF($R140=\"\",\"\",IF(R140=0,\"\",AVERAGEIF(DMA!#REF!,Graphs!$O140,DMA!#REF!)))","v":""}]
[null,"","","","","","","","","","","","","","","","","","","","",null,null,null,null,null,null,null,null,null,null,null,null,null,null,null,null,null,null,null,null,null,null,null,null,null,null,null,null,null,null,"","","",{"$f":"IF(P141=\"\",\"\",IF(P141=0,\"\",SQRT(SUMIF(DMA!$DA$5:$DA$503,Graphs!$O141,DMA!DB$5:DB$503))/COUNTIF(DMA!$DA$5:$DA$503,Graphs!$O141)))","v":""},{"$f":"IF(Q141=\"\",\"\",IF(Q141=0,\"\",SQRT(SUMIF(DMA!$DA$5:$DA$503,Graphs!$O141,DMA!DC$5:DC$503))/COUNTIF(DMA!$DA$5:$DA$503,Graphs!$O141)))","v":""},{"$f":"IF(R141=\"\",\"\",IF(R141=0,\"\",SQRT(SUMIF(DMA!$DA$5:$DA$503,Graphs!$O141,DMA!DD$5:DD$503))/COUNTIF(DMA!$DA$5:$DA$503,Graphs!$O141)))","v":""},{"$f":"IF($P141=\"\",\"\",IF(P141=0,\"\",AVERAGEIF(DMA!#REF!,Graphs!$O141,DMA!#REF!)))","v":""},{"$f":"IF($Q141=\"\",\"\",IF(Q141=0,\"\",AVERAGEIF(DMA!#REF!,Graphs!$O141,DMA!#REF!)))","v":""},{"$f":"IF($R141=\"\",\"\",IF(R141=0,\"\",AVERAGEIF(DMA!#REF!,Graphs!$O141,DMA!#REF!)))","v":""}]
[null,"","","","","","","","","","","","","","","","","","","","",null,null,null,null,null,null,null,null,null,null,null,null,null,null,null,null,null,null,null,null,null,null,null,null,null,null,null,null,null,null,"","","",{"$f":"IF(P142=\"\",\"\",IF(P142=0,\"\",SQRT(SUMIF(DMA!$DA$5:$DA$503,Graphs!$O142,DMA!DB$5:DB$503))/COUNTIF(DMA!$DA$5:$DA$503,Graphs!$O142)))","v":""},{"$f":"IF(Q142=\"\",\"\",IF(Q142=0,\"\",SQRT(SUMIF(DMA!$DA$5:$DA$503,Graphs!$O142,DMA!DC$5:DC$503))/COUNTIF(DMA!$DA$5:$DA$503,Graphs!$O142)))","v":""},{"$f":"IF(R142=\"\",\"\",IF(R142=0,\"\",SQRT(SUMIF(DMA!$DA$5:$DA$503,Graphs!$O142,DMA!DD$5:DD$503))/COUNTIF(DMA!$DA$5:$DA$503,Graphs!$O142)))","v":""},{"$f":"IF($P142=\"\",\"\",IF(P142=0,\"\",AVERAGEIF(DMA!#REF!,Graphs!$O142,DMA!#REF!)))","v":""},{"$f":"IF($Q142=\"\",\"\",IF(Q142=0,\"\",AVERAGEIF(DMA!#REF!,Graphs!$O142,DMA!#REF!)))","v":""},{"$f":"IF($R142=\"\",\"\",IF(R142=0,\"\",AVERAGEIF(DMA!#REF!,Graphs!$O142,DMA!#REF!)))","v":""}]
[null,"","","","","","","","","","","","","","","","","","","","",null,null,null,null,null,null,null,null,null,null,null,null,null,null,null,null,null,null,null,null,null,null,null,null,null,null,null,null,null,null,"","","",{"$f":"IF(P143=\"\",\"\",IF(P143=0,\"\",SQRT(SUMIF(DMA!$DA$5:$DA$503,Graphs!$O143,DMA!DB$5:DB$503))/COUNTIF(DMA!$DA$5:$DA$503,Graphs!$O143)))","v":""},{"$f":"IF(Q143=\"\",\"\",IF(Q143=0,\"\",SQRT(SUMIF(DMA!$DA$5:$DA$503,Graphs!$O143,DMA!DC$5:DC$503))/COUNTIF(DMA!$DA$5:$DA$503,Graphs!$O143)))","v":""},{"$f":"IF(R143=\"\",\"\",IF(R143=0,\"\",SQRT(SUMIF(DMA!$DA$5:$DA$503,Graphs!$O143,DMA!DD$5:DD$503))/COUNTIF(DMA!$DA$5:$DA$503,Graphs!$O143)))","v":""},{"$f":"IF($P143=\"\",\"\",IF(P143=0,\"\",AVERAGEIF(DMA!#REF!,Graphs!$O143,DMA!#REF!)))","v":""},{"$f":"IF($Q143=\"\",\"\",IF(Q143=0,\"\",AVERAGEIF(DMA!#REF!,Graphs!$O143,DMA!#REF!)))","v":""},{"$f":"IF($R143=\"\",\"\",IF(R143=0,\"\",AVERAGEIF(DMA!#REF!,Graphs!$O143,DMA!#REF!)))","v":""}]
[null,"","","","","","","","","","","","","","","","","","","","",null,null,null,null,null,null,null,null,null,null,null,null,null,null,null,null,null,null,null,null,null,null,null,null,null,null,null,null,null,null,"","","",{"$f":"IF(P144=\"\",\"\",IF(P144=0,\"\",SQRT(SUMIF(DMA!$DA$5:$DA$503,Graphs!$O144,DMA!DB$5:DB$503))/COUNTIF(DMA!$DA$5:$DA$503,Graphs!$O144)))","v":""},{"$f":"IF(Q144=\"\",\"\",IF(Q144=0,\"\",SQRT(SUMIF(DMA!$DA$5:$DA$503,Graphs!$O144,DMA!DC$5:DC$503))/COUNTIF(DMA!$DA$5:$DA$503,Graphs!$O144)))","v":""},{"$f":"IF(R144=\"\",\"\",IF(R144=0,\"\",SQRT(SUMIF(DMA!$DA$5:$DA$503,Graphs!$O144,DMA!DD$5:DD$503))/COUNTIF(DMA!$DA$5:$DA$503,Graphs!$O144)))","v":""},{"$f":"IF($P144=\"\",\"\",IF(P144=0,\"\",AVERAGEIF(DMA!#REF!,Graphs!$O144,DMA!#REF!)))","v":""},{"$f":"IF($Q144=\"\",\"\",IF(Q144=0,\"\",AVERAGEIF(DMA!#REF!,Graphs!$O144,DMA!#REF!)))","v":""},{"$f":"IF($R144=\"\",\"\",IF(R144=0,\"\",AVERAGEIF(DMA!#REF!,Graphs!$O144,DMA!#REF!)))","v":""}]
[null,"","","","","","","","","","","","","","","","","","","","",null,null,null,null,null,null,null,null,null,null,null,null,null,null,null,null,null,null,null,null,null,null,null,null,null,null,null,null,null,null,"","","",{"$f":"IF(P145=\"\",\"\",IF(P145=0,\"\",SQRT(SUMIF(DMA!$DA$5:$DA$503,Graphs!$O145,DMA!DB$5:DB$503))/COUNTIF(DMA!$DA$5:$DA$503,Graphs!$O145)))","v":""},{"$f":"IF(Q145=\"\",\"\",IF(Q145=0,\"\",SQRT(SUMIF(DMA!$DA$5:$DA$503,Graphs!$O145,DMA!DC$5:DC$503))/COUNTIF(DMA!$DA$5:$DA$503,Graphs!$O145)))","v":""},{"$f":"IF(R145=\"\",\"\",IF(R145=0,\"\",SQRT(SUMIF(DMA!$DA$5:$DA$503,Graphs!$O145,DMA!DD$5:DD$503))/COUNTIF(DMA!$DA$5:$DA$503,Graphs!$O145)))","v":""},{"$f":"IF($P145=\"\",\"\",IF(P145=0,\"\",AVERAGEIF(DMA!#REF!,Graphs!$O145,DMA!#REF!)))","v":""},{"$f":"IF($Q145=\"\",\"\",IF(Q145=0,\"\",AVERAGEIF(DMA!#REF!,Graphs!$O145,DMA!#REF!)))","v":""},{"$f":"IF($R145=\"\",\"\",IF(R145=0,\"\",AVERAGEIF(DMA!#REF!,Graphs!$O145,DMA!#REF!)))","v":""}]
[null,"","","","","","","","","","","","","","","","","","","","",null,null,null,null,null,null,null,null,null,null,null,null,null,null,null,null,null,null,null,null,null,null,null,null,null,null,null,null,null,null,"","","",{"$f":"IF(P146=\"\",\"\",IF(P146=0,\"\",SQRT(SUMIF(DMA!$DA$5:$DA$503,Graphs!$O146,DMA!DB$5:DB$503))/COUNTIF(DMA!$DA$5:$DA$503,Graphs!$O146)))","v":""},{"$f":"IF(Q146=\"\",\"\",IF(Q146=0,\"\",SQRT(SUMIF(DMA!$DA$5:$DA$503,Graphs!$O146,DMA!DC$5:DC$503))/COUNTIF(DMA!$DA$5:$DA$503,Graphs!$O146)))","v":""},{"$f":"IF(R146=\"\",\"\",IF(R146=0,\"\",SQRT(SUMIF(DMA!$DA$5:$DA$503,Graphs!$O146,DMA!DD$5:DD$503))/COUNTIF(DMA!$DA$5:$DA$503,Graphs!$O146)))","v":""},{"$f":"IF($P146=\"\",\"\",IF(P146=0,\"\",AVERAGEIF(DMA!#REF!,Graphs!$O146,DMA!#REF!)))","v":""},{"$f":"IF($Q146=\"\",\"\",IF(Q146=0,\"\",AVERAGEIF(DMA!#REF!,Graphs!$O146,DMA!#REF!)))","v":""},{"$f":"IF($R146=\"\",\"\",IF(R146=0,\"\",AVERAGEIF(DMA!#REF!,Graphs!$O146,DMA!#REF!)))","v":""}]
[null,"","","","","","","","","","","","","","","","","","","","",null,null,null,null,null,null,null,null,null,null,null,null,null,null,null,null,null,null,null,null,null,null,null,null,null,null,null,null,null,null,"","","",{"$f":"IF(P147=\"\",\"\",IF(P147=0,\"\",SQRT(SUMIF(DMA!$DA$5:$DA$503,Graphs!$O147,DMA!DB$5:DB$503))/COUNTIF(DMA!$DA$5:$DA$503,Graphs!$O147)))","v":""},{"$f":"IF(Q147=\"\",\"\",IF(Q147=0,\"\",SQRT(SUMIF(DMA!$DA$5:$DA$503,Graphs!$O147,DMA!DC$5:DC$503))/COUNTIF(DMA!$DA$5:$DA$503,Graphs!$O147)))","v":""},{"$f":"IF(R147=\"\",\"\",IF(R147=0,\"\",SQRT(SUMIF(DMA!$DA$5:$DA$503,Graphs!$O147,DMA!DD$5:DD$503))/COUNTIF(DMA!$DA$5:$DA$503,Graphs!$O147)))","v":""},{"$f":"IF($P147=\"\",\"\",IF(P147=0,\"\",AVERAGEIF(DMA!#REF!,Graphs!$O147,DMA!#REF!)))","v":""},{"$f":"IF($Q147=\"\",\"\",IF(Q147=0,\"\",AVERAGEIF(DMA!#REF!,Graphs!$O147,DMA!#REF!)))","v":""},{"$f":"IF($R147=\"\",\"\",IF(R147=0,\"\",AVERAGEIF(DMA!#REF!,Graphs!$O147,DMA!#REF!)))","v":""}]
[null,"","","","","","","","","","","","","","","","","","","","",null,null,null,null,null,null,null,null,null,null,null,null,null,null,null,null,null,null,null,null,null,null,null,null,null,null,null,null,null,null,"","","",{"$f":"IF(P148=\"\",\"\",IF(P148=0,\"\",SQRT(SUMIF(DMA!$DA$5:$DA$503,Graphs!$O148,DMA!DB$5:DB$503))/COUNTIF(DMA!$DA$5:$DA$503,Graphs!$O148)))","v":""},{"$f":"IF(Q148=\"\",\"\",IF(Q148=0,\"\",SQRT(SUMIF(DMA!$DA$5:$DA$503,Graphs!$O148,DMA!DC$5:DC$503))/COUNTIF(DMA!$DA$5:$DA$503,Graphs!$O148)))","v":""},{"$f":"IF(R148=\"\",\"\",IF(R148=0,\"\",SQRT(SUMIF(DMA!$DA$5:$DA$503,Graphs!$O148,DMA!DD$5:DD$503))/COUNTIF(DMA!$DA$5:$DA$503,Graphs!$O148)))","v":""},{"$f":"IF($P148=\"\",\"\",IF(P148=0,\"\",AVERAGEIF(DMA!#REF!,Graphs!$O148,DMA!#REF!)))","v":""},{"$f":"IF($Q148=\"\",\"\",IF(Q148=0,\"\",AVERAGEIF(DMA!#REF!,Graphs!$O148,DMA!#REF!)))","v":""},{"$f":"IF($R148=\"\",\"\",IF(R148=0,\"\",AVERAGEIF(DMA!#REF!,Graphs!$O148,DMA!#REF!)))","v":""}]
[null,"","","","","","","","","","","","","","","","","","","","",null,null,null,null,null,null,null,null,null,null,null,null,null,null,null,null,null,null,null,null,null,null,null,null,null,null,null,null,null,null,"","","",{"$f":"IF(P149=\"\",\"\",IF(P149=0,\"\",SQRT(SUMIF(DMA!$DA$5:$DA$503,Graphs!$O149,DMA!DB$5:DB$503))/COUNTIF(DMA!$DA$5:$DA$503,Graphs!$O149)))","v":""},{"$f":"IF(Q149=\"\",\"\",IF(Q149=0,\"\",SQRT(SUMIF(DMA!$DA$5:$DA$503,Graphs!$O149,DMA!DC$5:DC$503))/COUNTIF(DMA!$DA$5:$DA$503,Graphs!$O149)))","v":""},{"$f":"IF(R149=\"\",\"\",IF(R149=0,\"\",SQRT(SUMIF(DMA!$DA$5:$DA$503,Graphs!$O149,DMA!DD$5:DD$503))/COUNTIF(DMA!$DA$5:$DA$503,Graphs!$O149)))","v":""},{"$f":"IF($P149=\"\",\"\",IF(P149=0,\"\",AVERAGEIF(DMA!#REF!,Graphs!$O149,DMA!#REF!)))","v":""},{"$f":"IF($Q149=\"\",\"\",IF(Q149=0,\"\",AVERAGEIF(DMA!#REF!,Graphs!$O149,DMA!#REF!)))","v":""},{"$f":"IF($R149=\"\",\"\",IF(R149=0,\"\",AVERAGEIF(DMA!#REF!,Graphs!$O149,DMA!#REF!)))","v":""}]
[null,"","","","","","","","","","","","","","","","","","","","",null,null,null,null,null,null,null,null,null,null,null,null,null,null,null,null,null,null,null,null,null,null,null,null,null,null,null,null,null,null,"","","",{"$f":"IF(P150=\"\",\"\",IF(P150=0,\"\",SQRT(SUMIF(DMA!$DA$5:$DA$503,Graphs!$O150,DMA!DB$5:DB$503))/COUNTIF(DMA!$DA$5:$DA$503,Graphs!$O150)))","v":""},{"$f":"IF(Q150=\"\",\"\",IF(Q150=0,\"\",SQRT(SUMIF(DMA!$DA$5:$DA$503,Graphs!$O150,DMA!DC$5:DC$503))/COUNTIF(DMA!$DA$5:$DA$503,Graphs!$O150)))","v":""},{"$f":"IF(R150=\"\",\"\",IF(R150=0,\"\",SQRT(SUMIF(DMA!$DA$5:$DA$503,Graphs!$O150,DMA!DD$5:DD$503))/COUNTIF(DMA!$DA$5:$DA$503,Graphs!$O150)))","v":""},{"$f":"IF($P150=\"\",\"\",IF(P150=0,\"\",AVERAGEIF(DMA!#REF!,Graphs!$O150,DMA!#REF!)))","v":""},{"$f":"IF($Q150=\"\",\"\",IF(Q150=0,\"\",AVERAGEIF(DMA!#REF!,Graphs!$O150,DMA!#REF!)))","v":""},{"$f":"IF($R150=\"\",\"\",IF(R150=0,\"\",AVERAGEIF(DMA!#REF!,Graphs!$O150,DMA!#REF!)))","v":""}]
[null,"","","","","","","","","","","","","","","","","","","","",null,null,null,null,null,null,null,null,null,null,null,null,null,null,null,null,null,null,null,null,null,null,null,null,null,null,null,null,null,null,"","","",{"$f":"IF(P151=\"\",\"\",IF(P151=0,\"\",SQRT(SUMIF(DMA!$DA$5:$DA$503,Graphs!$O151,DMA!DB$5:DB$503))/COUNTIF(DMA!$DA$5:$DA$503,Graphs!$O151)))","v":""},{"$f":"IF(Q151=\"\",\"\",IF(Q151=0,\"\",SQRT(SUMIF(DMA!$DA$5:$DA$503,Graphs!$O151,DMA!DC$5:DC$503))/COUNTIF(DMA!$DA$5:$DA$503,Graphs!$O151)))","v":""},{"$f":"IF(R151=\"\",\"\",IF(R151=0,\"\",SQRT(SUMIF(DMA!$DA$5:$DA$503,Graphs!$O151,DMA!DD$5:DD$503))/COUNTIF(DMA!$DA$5:$DA$503,Graphs!$O151)))","v":""},{"$f":"IF($P151=\"\",\"\",IF(P151=0,\"\",AVERAGEIF(DMA!#REF!,Graphs!$O151,DMA!#REF!)))","v":""},{"$f":"IF($Q151=\"\",\"\",IF(Q151=0,\"\",AVERAGEIF(DMA!#REF!,Graphs!$O151,DMA!#REF!)))","v":""},{"$f":"IF($R151=\"\",\"\",IF(R151=0,\"\",AVERAGEIF(DMA!#REF!,Graphs!$O151,DMA!#REF!)))","v":""}]
[null,"","","","","","","","","","","","","","","","","","","","",null,null,null,null,null,null,null,null,null,null,null,null,null,null,null,null,null,null,null,null,null,null,null,null,null,null,null,null,null,null,"","","",{"$f":"IF(P152=\"\",\"\",IF(P152=0,\"\",SQRT(SUMIF(DMA!$DA$5:$DA$503,Graphs!$O152,DMA!DB$5:DB$503))/COUNTIF(DMA!$DA$5:$DA$503,Graphs!$O152)))","v":""},{"$f":"IF(Q152=\"\",\"\",IF(Q152=0,\"\",SQRT(SUMIF(DMA!$DA$5:$DA$503,Graphs!$O152,DMA!DC$5:DC$503))/COUNTIF(DMA!$DA$5:$DA$503,Graphs!$O152)))","v":""},{"$f":"IF(R152=\"\",\"\",IF(R152=0,\"\",SQRT(SUMIF(DMA!$DA$5:$DA$503,Graphs!$O152,DMA!DD$5:DD$503))/COUNTIF(DMA!$DA$5:$DA$503,Graphs!$O152)))","v":""},{"$f":"IF($P152=\"\",\"\",IF(P152=0,\"\",AVERAGEIF(DMA!#REF!,Graphs!$O152,DMA!#REF!)))","v":""},{"$f":"IF($Q152=\"\",\"\",IF(Q152=0,\"\",AVERAGEIF(DMA!#REF!,Graphs!$O152,DMA!#REF!)))","v":""},{"$f":"IF($R152=\"\",\"\",IF(R152=0,\"\",AVERAGEIF(DMA!#REF!,Graphs!$O152,DMA!#REF!)))","v":""}]
[null,"","","","","","","","","","","","","","","","","","","","",null,null,null,null,null,null,null,null,null,null,null,null,null,null,null,null,null,null,null,null,null,null,null,null,null,null,null,null,null,null,"","","",{"$f":"IF(P153=\"\",\"\",IF(P153=0,\"\",SQRT(SUMIF(DMA!$DA$5:$DA$503,Graphs!$O153,DMA!DB$5:DB$503))/COUNTIF(DMA!$DA$5:$DA$503,Graphs!$O153)))","v":""},{"$f":"IF(Q153=\"\",\"\",IF(Q153=0,\"\",SQRT(SUMIF(DMA!$DA$5:$DA$503,Graphs!$O153,DMA!DC$5:DC$503))/COUNTIF(DMA!$DA$5:$DA$503,Graphs!$O153)))","v":""},{"$f":"IF(R153=\"\",\"\",IF(R153=0,\"\",SQRT(SUMIF(DMA!$DA$5:$DA$503,Graphs!$O153,DMA!DD$5:DD$503))/COUNTIF(DMA!$DA$5:$DA$503,Graphs!$O153)))","v":""},{"$f":"IF($P153=\"\",\"\",IF(P153=0,\"\",AVERAGEIF(DMA!#REF!,Graphs!$O153,DMA!#REF!)))","v":""},{"$f":"IF($Q153=\"\",\"\",IF(Q153=0,\"\",AVERAGEIF(DMA!#REF!,Graphs!$O153,DMA!#REF!)))","v":""},{"$f":"IF($R153=\"\",\"\",IF(R153=0,\"\",AVERAGEIF(DMA!#REF!,Graphs!$O153,DMA!#REF!)))","v":""}]
[null,"","","","","","","","","","","","","","","","","","","","",null,null,null,null,null,null,null,null,null,null,null,null,null,null,null,null,null,null,null,null,null,null,null,null,null,null,null,null,null,null,"","","",{"$f":"IF(P154=\"\",\"\",IF(P154=0,\"\",SQRT(SUMIF(DMA!$DA$5:$DA$503,Graphs!$O154,DMA!DB$5:DB$503))/COUNTIF(DMA!$DA$5:$DA$503,Graphs!$O154)))","v":""},{"$f":"IF(Q154=\"\",\"\",IF(Q154=0,\"\",SQRT(SUMIF(DMA!$DA$5:$DA$503,Graphs!$O154,DMA!DC$5:DC$503))/COUNTIF(DMA!$DA$5:$DA$503,Graphs!$O154)))","v":""},{"$f":"IF(R154=\"\",\"\",IF(R154=0,\"\",SQRT(SUMIF(DMA!$DA$5:$DA$503,Graphs!$O154,DMA!DD$5:DD$503))/COUNTIF(DMA!$DA$5:$DA$503,Graphs!$O154)))","v":""},{"$f":"IF($P154=\"\",\"\",IF(P154=0,\"\",AVERAGEIF(DMA!#REF!,Graphs!$O154,DMA!#REF!)))","v":""},{"$f":"IF($Q154=\"\",\"\",IF(Q154=0,\"\",AVERAGEIF(DMA!#REF!,Graphs!$O154,DMA!#REF!)))","v":""},{"$f":"IF($R154=\"\",\"\",IF(R154=0,\"\",AVERAGEIF(DMA!#REF!,Graphs!$O154,DMA!#REF!)))","v":""}]
[null,"","","","","","","","","","","","","","","","","","","","",null,null,null,null,null,null,null,null,null,null,null,null,null,null,null,null,null,null,null,null,null,null,null,null,null,null,null,null,null,null,"","","",{"$f":"IF(P155=\"\",\"\",IF(P155=0,\"\",SQRT(SUMIF(DMA!$DA$5:$DA$503,Graphs!$O155,DMA!DB$5:DB$503))/COUNTIF(DMA!$DA$5:$DA$503,Graphs!$O155)))","v":""},{"$f":"IF(Q155=\"\",\"\",IF(Q155=0,\"\",SQRT(SUMIF(DMA!$DA$5:$DA$503,Graphs!$O155,DMA!DC$5:DC$503))/COUNTIF(DMA!$DA$5:$DA$503,Graphs!$O155)))","v":""},{"$f":"IF(R155=\"\",\"\",IF(R155=0,\"\",SQRT(SUMIF(DMA!$DA$5:$DA$503,Graphs!$O155,DMA!DD$5:DD$503))/COUNTIF(DMA!$DA$5:$DA$503,Graphs!$O155)))","v":""},{"$f":"IF($P155=\"\",\"\",IF(P155=0,\"\",AVERAGEIF(DMA!#REF!,Graphs!$O155,DMA!#REF!)))","v":""},{"$f":"IF($Q155=\"\",\"\",IF(Q155=0,\"\",AVERAGEIF(DMA!#REF!,Graphs!$O155,DMA!#REF!)))","v":""},{"$f":"IF($R155=\"\",\"\",IF(R155=0,\"\",AVERAGEIF(DMA!#REF!,Graphs!$O155,DMA!#REF!)))","v":""}]
[null,"","","","","","","","","","","","","","","","","","","","",null,null,null,null,null,null,null,null,null,null,null,null,null,null,null,null,null,null,null,null,null,null,null,null,null,null,null,null,null,null,"","","",{"$f":"IF(P156=\"\",\"\",IF(P156=0,\"\",SQRT(SUMIF(DMA!$DA$5:$DA$503,Graphs!$O156,DMA!DB$5:DB$503))/COUNTIF(DMA!$DA$5:$DA$503,Graphs!$O156)))","v":""},{"$f":"IF(Q156=\"\",\"\",IF(Q156=0,\"\",SQRT(SUMIF(DMA!$DA$5:$DA$503,Graphs!$O156,DMA!DC$5:DC$503))/COUNTIF(DMA!$DA$5:$DA$503,Graphs!$O156)))","v":""},{"$f":"IF(R156=\"\",\"\",IF(R156=0,\"\",SQRT(SUMIF(DMA!$DA$5:$DA$503,Graphs!$O156,DMA!DD$5:DD$503))/COUNTIF(DMA!$DA$5:$DA$503,Graphs!$O156)))","v":""},{"$f":"IF($P156=\"\",\"\",IF(P156=0,\"\",AVERAGEIF(DMA!#REF!,Graphs!$O156,DMA!#REF!)))","v":""},{"$f":"IF($Q156=\"\",\"\",IF(Q156=0,\"\",AVERAGEIF(DMA!#REF!,Graphs!$O156,DMA!#REF!)))","v":""},{"$f":"IF($R156=\"\",\"\",IF(R156=0,\"\",AVERAGEIF(DMA!#REF!,Graphs!$O156,DMA!#REF!)))","v":""}]
[null,"","","","","","","","","","","","","","","","","","","","",null,null,null,null,null,null,null,null,null,null,null,null,null,null,null,null,null,null,null,null,null,null,null,null,null,null,null,null,null,null,"","","",{"$f":"IF(P157=\"\",\"\",IF(P157=0,\"\",SQRT(SUMIF(DMA!$DA$5:$DA$503,Graphs!$O157,DMA!DB$5:DB$503))/COUNTIF(DMA!$DA$5:$DA$503,Graphs!$O157)))","v":""},{"$f":"IF(Q157=\"\",\"\",IF(Q157=0,\"\",SQRT(SUMIF(DMA!$DA$5:$DA$503,Graphs!$O157,DMA!DC$5:DC$503))/COUNTIF(DMA!$DA$5:$DA$503,Graphs!$O157)))","v":""},{"$f":"IF(R157=\"\",\"\",IF(R157=0,\"\",SQRT(SUMIF(DMA!$DA$5:$DA$503,Graphs!$O157,DMA!DD$5:DD$503))/COUNTIF(DMA!$DA$5:$DA$503,Graphs!$O157)))","v":""},{"$f":"IF($P157=\"\",\"\",IF(P157=0,\"\",AVERAGEIF(DMA!#REF!,Graphs!$O157,DMA!#REF!)))","v":""},{"$f":"IF($Q157=\"\",\"\",IF(Q157=0,\"\",AVERAGEIF(DMA!#REF!,Graphs!$O157,DMA!#REF!)))","v":""},{"$f":"IF($R157=\"\",\"\",IF(R157=0,\"\",AVERAGEIF(DMA!#REF!,Graphs!$O157,DMA!#REF!)))","v":""}]
[null,"","","","","","","","","","","","","","","","","","","","",null,null,null,null,null,null,null,null,null,null,null,null,null,null,null,null,null,null,null,null,null,null,null,null,null,null,null,null,null,null,"","","",{"$f":"IF(P158=\"\",\"\",IF(P158=0,\"\",SQRT(SUMIF(DMA!$DA$5:$DA$503,Graphs!$O158,DMA!DB$5:DB$503))/COUNTIF(DMA!$DA$5:$DA$503,Graphs!$O158)))","v":""},{"$f":"IF(Q158=\"\",\"\",IF(Q158=0,\"\",SQRT(SUMIF(DMA!$DA$5:$DA$503,Graphs!$O158,DMA!DC$5:DC$503))/COUNTIF(DMA!$DA$5:$DA$503,Graphs!$O158)))","v":""},{"$f":"IF(R158=\"\",\"\",IF(R158=0,\"\",SQRT(SUMIF(DMA!$DA$5:$DA$503,Graphs!$O158,DMA!DD$5:DD$503))/COUNTIF(DMA!$DA$5:$DA$503,Graphs!$O158)))","v":""},{"$f":"IF($P158=\"\",\"\",IF(P158=0,\"\",AVERAGEIF(DMA!#REF!,Graphs!$O158,DMA!#REF!)))","v":""},{"$f":"IF($Q158=\"\",\"\",IF(Q158=0,\"\",AVERAGEIF(DMA!#REF!,Graphs!$O158,DMA!#REF!)))","v":""},{"$f":"IF($R158=\"\",\"\",IF(R158=0,\"\",AVERAGEIF(DMA!#REF!,Graphs!$O158,DMA!#REF!)))","v":""}]
[null,"","","","","","","","","","","","","","","","","","","","",null,null,null,null,null,null,null,null,null,null,null,null,null,null,null,null,null,null,null,null,null,null,null,null,null,null,null,null,null,null,"","","",{"$f":"IF(P159=\"\",\"\",IF(P159=0,\"\",SQRT(SUMIF(DMA!$DA$5:$DA$503,Graphs!$O159,DMA!DB$5:DB$503))/COUNTIF(DMA!$DA$5:$DA$503,Graphs!$O159)))","v":""},{"$f":"IF(Q159=\"\",\"\",IF(Q159=0,\"\",SQRT(SUMIF(DMA!$DA$5:$DA$503,Graphs!$O159,DMA!DC$5:DC$503))/COUNTIF(DMA!$DA$5:$DA$503,Graphs!$O159)))","v":""},{"$f":"IF(R159=\"\",\"\",IF(R159=0,\"\",SQRT(SUMIF(DMA!$DA$5:$DA$503,Graphs!$O159,DMA!DD$5:DD$503))/COUNTIF(DMA!$DA$5:$DA$503,Graphs!$O159)))","v":""},{"$f":"IF($P159=\"\",\"\",IF(P159=0,\"\",AVERAGEIF(DMA!#REF!,Graphs!$O159,DMA!#REF!)))","v":""},{"$f":"IF($Q159=\"\",\"\",IF(Q159=0,\"\",AVERAGEIF(DMA!#REF!,Graphs!$O159,DMA!#REF!)))","v":""},{"$f":"IF($R159=\"\",\"\",IF(R159=0,\"\",AVERAGEIF(DMA!#REF!,Graphs!$O159,DMA!#REF!)))","v":""}]
[null,"","","","","","","","","","","","","","","","","","","","",null,null,null,null,null,null,null,null,null,null,null,null,null,null,null,null,null,null,null,null,null,null,null,null,null,null,null,null,null,null,"","","",{"$f":"IF(P160=\"\",\"\",IF(P160=0,\"\",SQRT(SUMIF(DMA!$DA$5:$DA$503,Graphs!$O160,DMA!DB$5:DB$503))/COUNTIF(DMA!$DA$5:$DA$503,Graphs!$O160)))","v":""},{"$f":"IF(Q160=\"\",\"\",IF(Q160=0,\"\",SQRT(SUMIF(DMA!$DA$5:$DA$503,Graphs!$O160,DMA!DC$5:DC$503))/COUNTIF(DMA!$DA$5:$DA$503,Graphs!$O160)))","v":""},{"$f":"IF(R160=\"\",\"\",IF(R160=0,\"\",SQRT(SUMIF(DMA!$DA$5:$DA$503,Graphs!$O160,DMA!DD$5:DD$503))/COUNTIF(DMA!$DA$5:$DA$503,Graphs!$O160)))","v":""},{"$f":"IF($P160=\"\",\"\",IF(P160=0,\"\",AVERAGEIF(DMA!#REF!,Graphs!$O160,DMA!#REF!)))","v":""},{"$f":"IF($Q160=\"\",\"\",IF(Q160=0,\"\",AVERAGEIF(DMA!#REF!,Graphs!$O160,DMA!#REF!)))","v":""},{"$f":"IF($R160=\"\",\"\",IF(R160=0,\"\",AVERAGEIF(DMA!#REF!,Graphs!$O160,DMA!#REF!)))","v":""}]
[null,"","","","","","","","","","","","","","","","","","","","",null,null,null,null,null,null,null,null,null,null,null,null,null,null,null,null,null,null,null,null,null,null,null,null,null,null,null,null,null,null,"","","",{"$f":"IF(P161=\"\",\"\",IF(P161=0,\"\",SQRT(SUMIF(DMA!$DA$5:$DA$503,Graphs!$O161,DMA!DB$5:DB$503))/COUNTIF(DMA!$DA$5:$DA$503,Graphs!$O161)))","v":""},{"$f":"IF(Q161=\"\",\"\",IF(Q161=0,\"\",SQRT(SUMIF(DMA!$DA$5:$DA$503,Graphs!$O161,DMA!DC$5:DC$503))/COUNTIF(DMA!$DA$5:$DA$503,Graphs!$O161)))","v":""},{"$f":"IF(R161=\"\",\"\",IF(R161=0,\"\",SQRT(SUMIF(DMA!$DA$5:$DA$503,Graphs!$O161,DMA!DD$5:DD$503))/COUNTIF(DMA!$DA$5:$DA$503,Graphs!$O161)))","v":""},{"$f":"IF($P161=\"\",\"\",IF(P161=0,\"\",AVERAGEIF(DMA!#REF!,Graphs!$O161,DMA!#REF!)))","v":""},{"$f":"IF($Q161=\"\",\"\",IF(Q161=0,\"\",AVERAGEIF(DMA!#REF!,Graphs!$O161,DMA!#REF!)))","v":""},{"$f":"IF($R161=\"\",\"\",IF(R161=0,\"\",AVERAGEIF(DMA!#REF!,Graphs!$O161,DMA!#REF!)))","v":""}]
[null,"","","","","","","","","","","","","","","","","","","","",null,null,null,null,null,null,null,null,null,null,null,null,null,null,null,null,null,null,null,null,null,null,null,null,null,null,null,null,null,null,"","","",{"$f":"IF(P162=\"\",\"\",IF(P162=0,\"\",SQRT(SUMIF(DMA!$DA$5:$DA$503,Graphs!$O162,DMA!DB$5:DB$503))/COUNTIF(DMA!$DA$5:$DA$503,Graphs!$O162)))","v":""},{"$f":"IF(Q162=\"\",\"\",IF(Q162=0,\"\",SQRT(SUMIF(DMA!$DA$5:$DA$503,Graphs!$O162,DMA!DC$5:DC$503))/COUNTIF(DMA!$DA$5:$DA$503,Graphs!$O162)))","v":""},{"$f":"IF(R162=\"\",\"\",IF(R162=0,\"\",SQRT(SUMIF(DMA!$DA$5:$DA$503,Graphs!$O162,DMA!DD$5:DD$503))/COUNTIF(DMA!$DA$5:$DA$503,Graphs!$O162)))","v":""},{"$f":"IF($P162=\"\",\"\",IF(P162=0,\"\",AVERAGEIF(DMA!#REF!,Graphs!$O162,DMA!#REF!)))","v":""},{"$f":"IF($Q162=\"\",\"\",IF(Q162=0,\"\",AVERAGEIF(DMA!#REF!,Graphs!$O162,DMA!#REF!)))","v":""},{"$f":"IF($R162=\"\",\"\",IF(R162=0,\"\",AVERAGEIF(DMA!#REF!,Graphs!$O162,DMA!#REF!)))","v":""}]
[null,"","","","","","","","","","","","","","","","","","","","",null,null,null,null,null,null,null,null,null,null,null,null,null,null,null,null,null,null,null,null,null,null,null,null,null,null,null,null,null,null,"","","",{"$f":"IF(P163=\"\",\"\",IF(P163=0,\"\",SQRT(SUMIF(DMA!$DA$5:$DA$503,Graphs!$O163,DMA!DB$5:DB$503))/COUNTIF(DMA!$DA$5:$DA$503,Graphs!$O163)))","v":""},{"$f":"IF(Q163=\"\",\"\",IF(Q163=0,\"\",SQRT(SUMIF(DMA!$DA$5:$DA$503,Graphs!$O163,DMA!DC$5:DC$503))/COUNTIF(DMA!$DA$5:$DA$503,Graphs!$O163)))","v":""},{"$f":"IF(R163=\"\",\"\",IF(R163=0,\"\",SQRT(SUMIF(DMA!$DA$5:$DA$503,Graphs!$O163,DMA!DD$5:DD$503))/COUNTIF(DMA!$DA$5:$DA$503,Graphs!$O163)))","v":""},{"$f":"IF($P163=\"\",\"\",IF(P163=0,\"\",AVERAGEIF(DMA!#REF!,Graphs!$O163,DMA!#REF!)))","v":""},{"$f":"IF($Q163=\"\",\"\",IF(Q163=0,\"\",AVERAGEIF(DMA!#REF!,Graphs!$O163,DMA!#REF!)))","v":""},{"$f":"IF($R163=\"\",\"\",IF(R163=0,\"\",AVERAGEIF(DMA!#REF!,Graphs!$O163,DMA!#REF!)))","v":""}]
[null,"","","","","","","","","","","","","","","","","","","","",null,null,null,null,null,null,null,null,null,null,null,null,null,null,null,null,null,null,null,null,null,null,null,null,null,null,null,null,null,null,"","","",{"$f":"IF(P164=\"\",\"\",IF(P164=0,\"\",SQRT(SUMIF(DMA!$DA$5:$DA$503,Graphs!$O164,DMA!DB$5:DB$503))/COUNTIF(DMA!$DA$5:$DA$503,Graphs!$O164)))","v":""},{"$f":"IF(Q164=\"\",\"\",IF(Q164=0,\"\",SQRT(SUMIF(DMA!$DA$5:$DA$503,Graphs!$O164,DMA!DC$5:DC$503))/COUNTIF(DMA!$DA$5:$DA$503,Graphs!$O164)))","v":""},{"$f":"IF(R164=\"\",\"\",IF(R164=0,\"\",SQRT(SUMIF(DMA!$DA$5:$DA$503,Graphs!$O164,DMA!DD$5:DD$503))/COUNTIF(DMA!$DA$5:$DA$503,Graphs!$O164)))","v":""},{"$f":"IF($P164=\"\",\"\",IF(P164=0,\"\",AVERAGEIF(DMA!#REF!,Graphs!$O164,DMA!#REF!)))","v":""},{"$f":"IF($Q164=\"\",\"\",IF(Q164=0,\"\",AVERAGEIF(DMA!#REF!,Graphs!$O164,DMA!#REF!)))","v":""},{"$f":"IF($R164=\"\",\"\",IF(R164=0,\"\",AVERAGEIF(DMA!#REF!,Graphs!$O164,DMA!#REF!)))","v":""}]
[null,"","","","","","","","","","","","","","","","","","","","",null,null,null,null,null,null,null,null,null,null,null,null,null,null,null,null,null,null,null,null,null,null,null,null,null,null,null,null,null,null,"","","",{"$f":"IF(P165=\"\",\"\",IF(P165=0,\"\",SQRT(SUMIF(DMA!$DA$5:$DA$503,Graphs!$O165,DMA!DB$5:DB$503))/COUNTIF(DMA!$DA$5:$DA$503,Graphs!$O165)))","v":""},{"$f":"IF(Q165=\"\",\"\",IF(Q165=0,\"\",SQRT(SUMIF(DMA!$DA$5:$DA$503,Graphs!$O165,DMA!DC$5:DC$503))/COUNTIF(DMA!$DA$5:$DA$503,Graphs!$O165)))","v":""},{"$f":"IF(R165=\"\",\"\",IF(R165=0,\"\",SQRT(SUMIF(DMA!$DA$5:$DA$503,Graphs!$O165,DMA!DD$5:DD$503))/COUNTIF(DMA!$DA$5:$DA$503,Graphs!$O165)))","v":""},{"$f":"IF($P165=\"\",\"\",IF(P165=0,\"\",AVERAGEIF(DMA!#REF!,Graphs!$O165,DMA!#REF!)))","v":""},{"$f":"IF($Q165=\"\",\"\",IF(Q165=0,\"\",AVERAGEIF(DMA!#REF!,Graphs!$O165,DMA!#REF!)))","v":""},{"$f":"IF($R165=\"\",\"\",IF(R165=0,\"\",AVERAGEIF(DMA!#REF!,Graphs!$O165,DMA!#REF!)))","v":""}]
[null,"","","","","","","","","","","","","","","","","","","","",null,null,null,null,null,null,null,null,null,null,null,null,null,null,null,null,null,null,null,null,null,null,null,null,null,null,null,null,null,null,"","","",{"$f":"IF(P166=\"\",\"\",IF(P166=0,\"\",SQRT(SUMIF(DMA!$DA$5:$DA$503,Graphs!$O166,DMA!DB$5:DB$503))/COUNTIF(DMA!$DA$5:$DA$503,Graphs!$O166)))","v":""},{"$f":"IF(Q166=\"\",\"\",IF(Q166=0,\"\",SQRT(SUMIF(DMA!$DA$5:$DA$503,Graphs!$O166,DMA!DC$5:DC$503))/COUNTIF(DMA!$DA$5:$DA$503,Graphs!$O166)))","v":""},{"$f":"IF(R166=\"\",\"\",IF(R166=0,\"\",SQRT(SUMIF(DMA!$DA$5:$DA$503,Graphs!$O166,DMA!DD$5:DD$503))/COUNTIF(DMA!$DA$5:$DA$503,Graphs!$O166)))","v":""},{"$f":"IF($P166=\"\",\"\",IF(P166=0,\"\",AVERAGEIF(DMA!#REF!,Graphs!$O166,DMA!#REF!)))","v":""},{"$f":"IF($Q166=\"\",\"\",IF(Q166=0,\"\",AVERAGEIF(DMA!#REF!,Graphs!$O166,DMA!#REF!)))","v":""},{"$f":"IF($R166=\"\",\"\",IF(R166=0,\"\",AVERAGEIF(DMA!#REF!,Graphs!$O166,DMA!#REF!)))","v":""}]
[null,"","","","","","","","","","","","","","","","","","","","",null,null,null,null,null,null,null,null,null,null,null,null,null,null,null,null,null,null,null,null,null,null,null,null,null,null,null,null,null,null,"","","",{"$f":"IF(P167=\"\",\"\",IF(P167=0,\"\",SQRT(SUMIF(DMA!$DA$5:$DA$503,Graphs!$O167,DMA!DB$5:DB$503))/COUNTIF(DMA!$DA$5:$DA$503,Graphs!$O167)))","v":""},{"$f":"IF(Q167=\"\",\"\",IF(Q167=0,\"\",SQRT(SUMIF(DMA!$DA$5:$DA$503,Graphs!$O167,DMA!DC$5:DC$503))/COUNTIF(DMA!$DA$5:$DA$503,Graphs!$O167)))","v":""},{"$f":"IF(R167=\"\",\"\",IF(R167=0,\"\",SQRT(SUMIF(DMA!$DA$5:$DA$503,Graphs!$O167,DMA!DD$5:DD$503))/COUNTIF(DMA!$DA$5:$DA$503,Graphs!$O167)))","v":""},{"$f":"IF($P167=\"\",\"\",IF(P167=0,\"\",AVERAGEIF(DMA!#REF!,Graphs!$O167,DMA!#REF!)))","v":""},{"$f":"IF($Q167=\"\",\"\",IF(Q167=0,\"\",AVERAGEIF(DMA!#REF!,Graphs!$O167,DMA!#REF!)))","v":""},{"$f":"IF($R167=\"\",\"\",IF(R167=0,\"\",AVERAGEIF(DMA!#REF!,Graphs!$O167,DMA!#REF!)))","v":""}]
[null,"","","","","","","","","","","","","","","","","","","","",null,null,null,null,null,null,null,null,null,null,null,null,null,null,null,null,null,null,null,null,null,null,null,null,null,null,null,null,null,null,"","","",{"$f":"IF(P168=\"\",\"\",IF(P168=0,\"\",SQRT(SUMIF(DMA!$DA$5:$DA$503,Graphs!$O168,DMA!DB$5:DB$503))/COUNTIF(DMA!$DA$5:$DA$503,Graphs!$O168)))","v":""},{"$f":"IF(Q168=\"\",\"\",IF(Q168=0,\"\",SQRT(SUMIF(DMA!$DA$5:$DA$503,Graphs!$O168,DMA!DC$5:DC$503))/COUNTIF(DMA!$DA$5:$DA$503,Graphs!$O168)))","v":""},{"$f":"IF(R168=\"\",\"\",IF(R168=0,\"\",SQRT(SUMIF(DMA!$DA$5:$DA$503,Graphs!$O168,DMA!DD$5:DD$503))/COUNTIF(DMA!$DA$5:$DA$503,Graphs!$O168)))","v":""},{"$f":"IF($P168=\"\",\"\",IF(P168=0,\"\",AVERAGEIF(DMA!#REF!,Graphs!$O168,DMA!#REF!)))","v":""},{"$f":"IF($Q168=\"\",\"\",IF(Q168=0,\"\",AVERAGEIF(DMA!#REF!,Graphs!$O168,DMA!#REF!)))","v":""},{"$f":"IF($R168=\"\",\"\",IF(R168=0,\"\",AVERAGEIF(DMA!#REF!,Graphs!$O168,DMA!#REF!)))","v":""}]
[null,"","","","","","","","","","","","","","","","","","","","",null,null,null,null,null,null,null,null,null,null,null,null,null,null,null,null,null,null,null,null,null,null,null,null,null,null,null,null,null,null,"","","",{"$f":"IF(P169=\"\",\"\",IF(P169=0,\"\",SQRT(SUMIF(DMA!$DA$5:$DA$503,Graphs!$O169,DMA!DB$5:DB$503))/COUNTIF(DMA!$DA$5:$DA$503,Graphs!$O169)))","v":""},{"$f":"IF(Q169=\"\",\"\",IF(Q169=0,\"\",SQRT(SUMIF(DMA!$DA$5:$DA$503,Graphs!$O169,DMA!DC$5:DC$503))/COUNTIF(DMA!$DA$5:$DA$503,Graphs!$O169)))","v":""},{"$f":"IF(R169=\"\",\"\",IF(R169=0,\"\",SQRT(SUMIF(DMA!$DA$5:$DA$503,Graphs!$O169,DMA!DD$5:DD$503))/COUNTIF(DMA!$DA$5:$DA$503,Graphs!$O169)))","v":""},{"$f":"IF($P169=\"\",\"\",IF(P169=0,\"\",AVERAGEIF(DMA!#REF!,Graphs!$O169,DMA!#REF!)))","v":""},{"$f":"IF($Q169=\"\",\"\",IF(Q169=0,\"\",AVERAGEIF(DMA!#REF!,Graphs!$O169,DMA!#REF!)))","v":""},{"$f":"IF($R169=\"\",\"\",IF(R169=0,\"\",AVERAGEIF(DMA!#REF!,Graphs!$O169,DMA!#REF!)))","v":""}]
[null,"","","","","","","","","","","","","","","","","","","","",null,null,null,null,null,null,null,null,null,null,null,null,null,null,null,null,null,null,null,null,null,null,null,null,null,null,null,null,null,null,"","","",{"$f":"IF(P170=\"\",\"\",IF(P170=0,\"\",SQRT(SUMIF(DMA!$DA$5:$DA$503,Graphs!$O170,DMA!DB$5:DB$503))/COUNTIF(DMA!$DA$5:$DA$503,Graphs!$O170)))","v":""},{"$f":"IF(Q170=\"\",\"\",IF(Q170=0,\"\",SQRT(SUMIF(DMA!$DA$5:$DA$503,Graphs!$O170,DMA!DC$5:DC$503))/COUNTIF(DMA!$DA$5:$DA$503,Graphs!$O170)))","v":""},{"$f":"IF(R170=\"\",\"\",IF(R170=0,\"\",SQRT(SUMIF(DMA!$DA$5:$DA$503,Graphs!$O170,DMA!DD$5:DD$503))/COUNTIF(DMA!$DA$5:$DA$503,Graphs!$O170)))","v":""},{"$f":"IF($P170=\"\",\"\",IF(P170=0,\"\",AVERAGEIF(DMA!#REF!,Graphs!$O170,DMA!#REF!)))","v":""},{"$f":"IF($Q170=\"\",\"\",IF(Q170=0,\"\",AVERAGEIF(DMA!#REF!,Graphs!$O170,DMA!#REF!)))","v":""},{"$f":"IF($R170=\"\",\"\",IF(R170=0,\"\",AVERAGEIF(DMA!#REF!,Graphs!$O170,DMA!#REF!)))","v":""}]
[null,"","","","","","","","","","","","","","","","","","","","",null,null,null,null,null,null,null,null,null,null,null,null,null,null,null,null,null,null,null,null,null,null,null,null,null,null,null,null,null,null,"","","",{"$f":"IF(P171=\"\",\"\",IF(P171=0,\"\",SQRT(SUMIF(DMA!$DA$5:$DA$503,Graphs!$O171,DMA!DB$5:DB$503))/COUNTIF(DMA!$DA$5:$DA$503,Graphs!$O171)))","v":""},{"$f":"IF(Q171=\"\",\"\",IF(Q171=0,\"\",SQRT(SUMIF(DMA!$DA$5:$DA$503,Graphs!$O171,DMA!DC$5:DC$503))/COUNTIF(DMA!$DA$5:$DA$503,Graphs!$O171)))","v":""},{"$f":"IF(R171=\"\",\"\",IF(R171=0,\"\",SQRT(SUMIF(DMA!$DA$5:$DA$503,Graphs!$O171,DMA!DD$5:DD$503))/COUNTIF(DMA!$DA$5:$DA$503,Graphs!$O171)))","v":""},{"$f":"IF($P171=\"\",\"\",IF(P171=0,\"\",AVERAGEIF(DMA!#REF!,Graphs!$O171,DMA!#REF!)))","v":""},{"$f":"IF($Q171=\"\",\"\",IF(Q171=0,\"\",AVERAGEIF(DMA!#REF!,Graphs!$O171,DMA!#REF!)))","v":""},{"$f":"IF($R171=\"\",\"\",IF(R171=0,\"\",AVERAGEIF(DMA!#REF!,Graphs!$O171,DMA!#REF!)))","v":""}]
[null,"","","","","","","","","","","","","","","","","","","","",null,null,null,null,null,null,null,null,null,null,null,null,null,null,null,null,null,null,null,null,null,null,null,null,null,null,null,null,null,null,"","","",{"$f":"IF(P172=\"\",\"\",IF(P172=0,\"\",SQRT(SUMIF(DMA!$DA$5:$DA$503,Graphs!$O172,DMA!DB$5:DB$503))/COUNTIF(DMA!$DA$5:$DA$503,Graphs!$O172)))","v":""},{"$f":"IF(Q172=\"\",\"\",IF(Q172=0,\"\",SQRT(SUMIF(DMA!$DA$5:$DA$503,Graphs!$O172,DMA!DC$5:DC$503))/COUNTIF(DMA!$DA$5:$DA$503,Graphs!$O172)))","v":""},{"$f":"IF(R172=\"\",\"\",IF(R172=0,\"\",SQRT(SUMIF(DMA!$DA$5:$DA$503,Graphs!$O172,DMA!DD$5:DD$503))/COUNTIF(DMA!$DA$5:$DA$503,Graphs!$O172)))","v":""},{"$f":"IF($P172=\"\",\"\",IF(P172=0,\"\",AVERAGEIF(DMA!#REF!,Graphs!$O172,DMA!#REF!)))","v":""},{"$f":"IF($Q172=\"\",\"\",IF(Q172=0,\"\",AVERAGEIF(DMA!#REF!,Graphs!$O172,DMA!#REF!)))","v":""},{"$f":"IF($R172=\"\",\"\",IF(R172=0,\"\",AVERAGEIF(DMA!#REF!,Graphs!$O172,DMA!#REF!)))","v":""}]
[null,"","","","","","","","","","","","","","","","","","","","",null,null,null,null,null,null,null,null,null,null,null,null,null,null,null,null,null,null,null,null,null,null,null,null,null,null,null,null,null,null,"","","",{"$f":"IF(P173=\"\",\"\",IF(P173=0,\"\",SQRT(SUMIF(DMA!$DA$5:$DA$503,Graphs!$O173,DMA!DB$5:DB$503))/COUNTIF(DMA!$DA$5:$DA$503,Graphs!$O173)))","v":""},{"$f":"IF(Q173=\"\",\"\",IF(Q173=0,\"\",SQRT(SUMIF(DMA!$DA$5:$DA$503,Graphs!$O173,DMA!DC$5:DC$503))/COUNTIF(DMA!$DA$5:$DA$503,Graphs!$O173)))","v":""},{"$f":"IF(R173=\"\",\"\",IF(R173=0,\"\",SQRT(SUMIF(DMA!$DA$5:$DA$503,Graphs!$O173,DMA!DD$5:DD$503))/COUNTIF(DMA!$DA$5:$DA$503,Graphs!$O173)))","v":""},{"$f":"IF($P173=\"\",\"\",IF(P173=0,\"\",AVERAGEIF(DMA!#REF!,Graphs!$O173,DMA!#REF!)))","v":""},{"$f":"IF($Q173=\"\",\"\",IF(Q173=0,\"\",AVERAGEIF(DMA!#REF!,Graphs!$O173,DMA!#REF!)))","v":""},{"$f":"IF($R173=\"\",\"\",IF(R173=0,\"\",AVERAGEIF(DMA!#REF!,Graphs!$O173,DMA!#REF!)))","v":""}]
[null,"","","","","","","","","","","","","","","","","","","","",null,null,null,null,null,null,null,null,null,null,null,null,null,null,null,null,null,null,null,null,null,null,null,null,null,null,null,null,null,null,"","","",{"$f":"IF(P174=\"\",\"\",IF(P174=0,\"\",SQRT(SUMIF(DMA!$DA$5:$DA$503,Graphs!$O174,DMA!DB$5:DB$503))/COUNTIF(DMA!$DA$5:$DA$503,Graphs!$O174)))","v":""},{"$f":"IF(Q174=\"\",\"\",IF(Q174=0,\"\",SQRT(SUMIF(DMA!$DA$5:$DA$503,Graphs!$O174,DMA!DC$5:DC$503))/COUNTIF(DMA!$DA$5:$DA$503,Graphs!$O174)))","v":""},{"$f":"IF(R174=\"\",\"\",IF(R174=0,\"\",SQRT(SUMIF(DMA!$DA$5:$DA$503,Graphs!$O174,DMA!DD$5:DD$503))/COUNTIF(DMA!$DA$5:$DA$503,Graphs!$O174)))","v":""},{"$f":"IF($P174=\"\",\"\",IF(P174=0,\"\",AVERAGEIF(DMA!#REF!,Graphs!$O174,DMA!#REF!)))","v":""},{"$f":"IF($Q174=\"\",\"\",IF(Q174=0,\"\",AVERAGEIF(DMA!#REF!,Graphs!$O174,DMA!#REF!)))","v":""},{"$f":"IF($R174=\"\",\"\",IF(R174=0,\"\",AVERAGEIF(DMA!#REF!,Graphs!$O174,DMA!#REF!)))","v":""}]
[null,"","","","","","","","","","","","","","","","","","","","",null,null,null,null,null,null,null,null,null,null,null,null,null,null,null,null,null,null,null,null,null,null,null,null,null,null,null,null,null,null,"","","",{"$f":"IF(P175=\"\",\"\",IF(P175=0,\"\",SQRT(SUMIF(DMA!$DA$5:$DA$503,Graphs!$O175,DMA!DB$5:DB$503))/COUNTIF(DMA!$DA$5:$DA$503,Graphs!$O175)))","v":""},{"$f":"IF(Q175=\"\",\"\",IF(Q175=0,\"\",SQRT(SUMIF(DMA!$DA$5:$DA$503,Graphs!$O175,DMA!DC$5:DC$503))/COUNTIF(DMA!$DA$5:$DA$503,Graphs!$O175)))","v":""},{"$f":"IF(R175=\"\",\"\",IF(R175=0,\"\",SQRT(SUMIF(DMA!$DA$5:$DA$503,Graphs!$O175,DMA!DD$5:DD$503))/COUNTIF(DMA!$DA$5:$DA$503,Graphs!$O175)))","v":""},{"$f":"IF($P175=\"\",\"\",IF(P175=0,\"\",AVERAGEIF(DMA!#REF!,Graphs!$O175,DMA!#REF!)))","v":""},{"$f":"IF($Q175=\"\",\"\",IF(Q175=0,\"\",AVERAGEIF(DMA!#REF!,Graphs!$O175,DMA!#REF!)))","v":""},{"$f":"IF($R175=\"\",\"\",IF(R175=0,\"\",AVERAGEIF(DMA!#REF!,Graphs!$O175,DMA!#REF!)))","v":""}]
[null,"","","","","","","","","","","","","","","","","","","","",null,null,null,null,null,null,null,null,null,null,null,null,null,null,null,null,null,null,null,null,null,null,null,null,null,null,null,null,null,null,"","","",{"$f":"IF(P176=\"\",\"\",IF(P176=0,\"\",SQRT(SUMIF(DMA!$DA$5:$DA$503,Graphs!$O176,DMA!DB$5:DB$503))/COUNTIF(DMA!$DA$5:$DA$503,Graphs!$O176)))","v":""},{"$f":"IF(Q176=\"\",\"\",IF(Q176=0,\"\",SQRT(SUMIF(DMA!$DA$5:$DA$503,Graphs!$O176,DMA!DC$5:DC$503))/COUNTIF(DMA!$DA$5:$DA$503,Graphs!$O176)))","v":""},{"$f":"IF(R176=\"\",\"\",IF(R176=0,\"\",SQRT(SUMIF(DMA!$DA$5:$DA$503,Graphs!$O176,DMA!DD$5:DD$503))/COUNTIF(DMA!$DA$5:$DA$503,Graphs!$O176)))","v":""},{"$f":"IF($P176=\"\",\"\",IF(P176=0,\"\",AVERAGEIF(DMA!#REF!,Graphs!$O176,DMA!#REF!)))","v":""},{"$f":"IF($Q176=\"\",\"\",IF(Q176=0,\"\",AVERAGEIF(DMA!#REF!,Graphs!$O176,DMA!#REF!)))","v":""},{"$f":"IF($R176=\"\",\"\",IF(R176=0,\"\",AVERAGEIF(DMA!#REF!,Graphs!$O176,DMA!#REF!)))","v":""}]
[null,"","","","","","","","","","","","","","","","","","","","",null,null,null,null,null,null,null,null,null,null,null,null,null,null,null,null,null,null,null,null,null,null,null,null,null,null,null,null,null,null,"","","",{"$f":"IF(P177=\"\",\"\",IF(P177=0,\"\",SQRT(SUMIF(DMA!$DA$5:$DA$503,Graphs!$O177,DMA!DB$5:DB$503))/COUNTIF(DMA!$DA$5:$DA$503,Graphs!$O177)))","v":""},{"$f":"IF(Q177=\"\",\"\",IF(Q177=0,\"\",SQRT(SUMIF(DMA!$DA$5:$DA$503,Graphs!$O177,DMA!DC$5:DC$503))/COUNTIF(DMA!$DA$5:$DA$503,Graphs!$O177)))","v":""},{"$f":"IF(R177=\"\",\"\",IF(R177=0,\"\",SQRT(SUMIF(DMA!$DA$5:$DA$503,Graphs!$O177,DMA!DD$5:DD$503))/COUNTIF(DMA!$DA$5:$DA$503,Graphs!$O177)))","v":""},{"$f":"IF($P177=\"\",\"\",IF(P177=0,\"\",AVERAGEIF(DMA!#REF!,Graphs!$O177,DMA!#REF!)))","v":""},{"$f":"IF($Q177=\"\",\"\",IF(Q177=0,\"\",AVERAGEIF(DMA!#REF!,Graphs!$O177,DMA!#REF!)))","v":""},{"$f":"IF($R177=\"\",\"\",IF(R177=0,\"\",AVERAGEIF(DMA!#REF!,Graphs!$O177,DMA!#REF!)))","v":""}]
[null,"","","","","","","","","","","","","","","","","","","","",null,null,null,null,null,null,null,null,null,null,null,null,null,null,null,null,null,null,null,null,null,null,null,null,null,null,null,null,null,null,"","","",{"$f":"IF(P178=\"\",\"\",IF(P178=0,\"\",SQRT(SUMIF(DMA!$DA$5:$DA$503,Graphs!$O178,DMA!DB$5:DB$503))/COUNTIF(DMA!$DA$5:$DA$503,Graphs!$O178)))","v":""},{"$f":"IF(Q178=\"\",\"\",IF(Q178=0,\"\",SQRT(SUMIF(DMA!$DA$5:$DA$503,Graphs!$O178,DMA!DC$5:DC$503))/COUNTIF(DMA!$DA$5:$DA$503,Graphs!$O178)))","v":""},{"$f":"IF(R178=\"\",\"\",IF(R178=0,\"\",SQRT(SUMIF(DMA!$DA$5:$DA$503,Graphs!$O178,DMA!DD$5:DD$503))/COUNTIF(DMA!$DA$5:$DA$503,Graphs!$O178)))","v":""},{"$f":"IF($P178=\"\",\"\",IF(P178=0,\"\",AVERAGEIF(DMA!#REF!,Graphs!$O178,DMA!#REF!)))","v":""},{"$f":"IF($Q178=\"\",\"\",IF(Q178=0,\"\",AVERAGEIF(DMA!#REF!,Graphs!$O178,DMA!#REF!)))","v":""},{"$f":"IF($R178=\"\",\"\",IF(R178=0,\"\",AVERAGEIF(DMA!#REF!,Graphs!$O178,DMA!#REF!)))","v":""}]
[null,"","","","","","","","","","","","","","","","","","","","",null,null,null,null,null,null,null,null,null,null,null,null,null,null,null,null,null,null,null,null,null,null,null,null,null,null,null,null,null,null,"","","",{"$f":"IF(P179=\"\",\"\",IF(P179=0,\"\",SQRT(SUMIF(DMA!$DA$5:$DA$503,Graphs!$O179,DMA!DB$5:DB$503))/COUNTIF(DMA!$DA$5:$DA$503,Graphs!$O179)))","v":""},{"$f":"IF(Q179=\"\",\"\",IF(Q179=0,\"\",SQRT(SUMIF(DMA!$DA$5:$DA$503,Graphs!$O179,DMA!DC$5:DC$503))/COUNTIF(DMA!$DA$5:$DA$503,Graphs!$O179)))","v":""},{"$f":"IF(R179=\"\",\"\",IF(R179=0,\"\",SQRT(SUMIF(DMA!$DA$5:$DA$503,Graphs!$O179,DMA!DD$5:DD$503))/COUNTIF(DMA!$DA$5:$DA$503,Graphs!$O179)))","v":""},{"$f":"IF($P179=\"\",\"\",IF(P179=0,\"\",AVERAGEIF(DMA!#REF!,Graphs!$O179,DMA!#REF!)))","v":""},{"$f":"IF($Q179=\"\",\"\",IF(Q179=0,\"\",AVERAGEIF(DMA!#REF!,Graphs!$O179,DMA!#REF!)))","v":""},{"$f":"IF($R179=\"\",\"\",IF(R179=0,\"\",AVERAGEIF(DMA!#REF!,Graphs!$O179,DMA!#REF!)))","v":""}]
[null,"","","","","","","","","","","","","","","","","","","","",null,null,null,null,null,null,null,null,null,null,null,null,null,null,null,null,null,null,null,null,null,null,null,null,null,null,null,null,null,null,"","","",{"$f":"IF(P180=\"\",\"\",IF(P180=0,\"\",SQRT(SUMIF(DMA!$DA$5:$DA$503,Graphs!$O180,DMA!DB$5:DB$503))/COUNTIF(DMA!$DA$5:$DA$503,Graphs!$O180)))","v":""},{"$f":"IF(Q180=\"\",\"\",IF(Q180=0,\"\",SQRT(SUMIF(DMA!$DA$5:$DA$503,Graphs!$O180,DMA!DC$5:DC$503))/COUNTIF(DMA!$DA$5:$DA$503,Graphs!$O180)))","v":""},{"$f":"IF(R180=\"\",\"\",IF(R180=0,\"\",SQRT(SUMIF(DMA!$DA$5:$DA$503,Graphs!$O180,DMA!DD$5:DD$503))/COUNTIF(DMA!$DA$5:$DA$503,Graphs!$O180)))","v":""},{"$f":"IF($P180=\"\",\"\",IF(P180=0,\"\",AVERAGEIF(DMA!#REF!,Graphs!$O180,DMA!#REF!)))","v":""},{"$f":"IF($Q180=\"\",\"\",IF(Q180=0,\"\",AVERAGEIF(DMA!#REF!,Graphs!$O180,DMA!#REF!)))","v":""},{"$f":"IF($R180=\"\",\"\",IF(R180=0,\"\",AVERAGEIF(DMA!#REF!,Graphs!$O180,DMA!#REF!)))","v":""}]
[null,"","","","","","","","","","","","","","","","","","","","",null,null,null,null,null,null,null,null,null,null,null,null,null,null,null,null,null,null,null,null,null,null,null,null,null,null,null,null,null,null,"","","",{"$f":"IF(P181=\"\",\"\",IF(P181=0,\"\",SQRT(SUMIF(DMA!$DA$5:$DA$503,Graphs!$O181,DMA!DB$5:DB$503))/COUNTIF(DMA!$DA$5:$DA$503,Graphs!$O181)))","v":""},{"$f":"IF(Q181=\"\",\"\",IF(Q181=0,\"\",SQRT(SUMIF(DMA!$DA$5:$DA$503,Graphs!$O181,DMA!DC$5:DC$503))/COUNTIF(DMA!$DA$5:$DA$503,Graphs!$O181)))","v":""},{"$f":"IF(R181=\"\",\"\",IF(R181=0,\"\",SQRT(SUMIF(DMA!$DA$5:$DA$503,Graphs!$O181,DMA!DD$5:DD$503))/COUNTIF(DMA!$DA$5:$DA$503,Graphs!$O181)))","v":""},{"$f":"IF($P181=\"\",\"\",IF(P181=0,\"\",AVERAGEIF(DMA!#REF!,Graphs!$O181,DMA!#REF!)))","v":""},{"$f":"IF($Q181=\"\",\"\",IF(Q181=0,\"\",AVERAGEIF(DMA!#REF!,Graphs!$O181,DMA!#REF!)))","v":""},{"$f":"IF($R181=\"\",\"\",IF(R181=0,\"\",AVERAGEIF(DMA!#REF!,Graphs!$O181,DMA!#REF!)))","v":""}]
[null,"","","","","","","","","","","","","","","","","","","","",null,null,null,null,null,null,null,null,null,null,null,null,null,null,null,null,null,null,null,null,null,null,null,null,null,null,null,null,null,null,"","","",{"$f":"IF(P182=\"\",\"\",IF(P182=0,\"\",SQRT(SUMIF(DMA!$DA$5:$DA$503,Graphs!$O182,DMA!DB$5:DB$503))/COUNTIF(DMA!$DA$5:$DA$503,Graphs!$O182)))","v":""},{"$f":"IF(Q182=\"\",\"\",IF(Q182=0,\"\",SQRT(SUMIF(DMA!$DA$5:$DA$503,Graphs!$O182,DMA!DC$5:DC$503))/COUNTIF(DMA!$DA$5:$DA$503,Graphs!$O182)))","v":""},{"$f":"IF(R182=\"\",\"\",IF(R182=0,\"\",SQRT(SUMIF(DMA!$DA$5:$DA$503,Graphs!$O182,DMA!DD$5:DD$503))/COUNTIF(DMA!$DA$5:$DA$503,Graphs!$O182)))","v":""},{"$f":"IF($P182=\"\",\"\",IF(P182=0,\"\",AVERAGEIF(DMA!#REF!,Graphs!$O182,DMA!#REF!)))","v":""},{"$f":"IF($Q182=\"\",\"\",IF(Q182=0,\"\",AVERAGEIF(DMA!#REF!,Graphs!$O182,DMA!#REF!)))","v":""},{"$f":"IF($R182=\"\",\"\",IF(R182=0,\"\",AVERAGEIF(DMA!#REF!,Graphs!$O182,DMA!#REF!)))","v":""}]
[null,"","","","","","","","","","","","","","","","","","","","",null,null,null,null,null,null,null,null,null,null,null,null,null,null,null,null,null,null,null,null,null,null,null,null,null,null,null,null,null,null,"","","",{"$f":"IF(P183=\"\",\"\",IF(P183=0,\"\",SQRT(SUMIF(DMA!$DA$5:$DA$503,Graphs!$O183,DMA!DB$5:DB$503))/COUNTIF(DMA!$DA$5:$DA$503,Graphs!$O183)))","v":""},{"$f":"IF(Q183=\"\",\"\",IF(Q183=0,\"\",SQRT(SUMIF(DMA!$DA$5:$DA$503,Graphs!$O183,DMA!DC$5:DC$503))/COUNTIF(DMA!$DA$5:$DA$503,Graphs!$O183)))","v":""},{"$f":"IF(R183=\"\",\"\",IF(R183=0,\"\",SQRT(SUMIF(DMA!$DA$5:$DA$503,Graphs!$O183,DMA!DD$5:DD$503))/COUNTIF(DMA!$DA$5:$DA$503,Graphs!$O183)))","v":""},{"$f":"IF($P183=\"\",\"\",IF(P183=0,\"\",AVERAGEIF(DMA!#REF!,Graphs!$O183,DMA!#REF!)))","v":""},{"$f":"IF($Q183=\"\",\"\",IF(Q183=0,\"\",AVERAGEIF(DMA!#REF!,Graphs!$O183,DMA!#REF!)))","v":""},{"$f":"IF($R183=\"\",\"\",IF(R183=0,\"\",AVERAGEIF(DMA!#REF!,Graphs!$O183,DMA!#REF!)))","v":""}]
[null,"","","","","","","","","","","","","","","","","","","","",null,null,null,null,null,null,null,null,null,null,null,null,null,null,null,null,null,null,null,null,null,null,null,null,null,null,null,null,null,null,{"$f":"IF(BC184=\"\",\"\",IF(BC184=1,\"\",IF(BC184=0,\"\",CONFIDENCE(0.05,BC184,BM184))))","v":""},{"$f":"IF(BD184=\"\",\"\",IF(BD184=1,\"\",IF(BD184=0,\"\",CONFIDENCE(0.05,BD184,BN184))))","v":""},{"$f":"IF(BE184=\"\",\"\",IF(BE184=1,\"\",IF(BE184=0,\"\",CONFIDENCE(0.05,BE184,BO184))))","v":""},{"$f":"IF(P184=\"\",\"\",IF(P184=0,\"\",SQRT(SUMIF(DMA!$DA$5:$DA$503,Graphs!$O184,DMA!DB$5:DB$503))/COUNTIF(DMA!$DA$5:$DA$503,Graphs!$O184)))","v":""},{"$f":"IF(Q184=\"\",\"\",IF(Q184=0,\"\",SQRT(SUMIF(DMA!$DA$5:$DA$503,Graphs!$O184,DMA!DC$5:DC$503))/COUNTIF(DMA!$DA$5:$DA$503,Graphs!$O184)))","v":""},{"$f":"IF(R184=\"\",\"\",IF(R184=0,\"\",SQRT(SUMIF(DMA!$DA$5:$DA$503,Graphs!$O184,DMA!DD$5:DD$503))/COUNTIF(DMA!$DA$5:$DA$503,Graphs!$O184)))","v":""},{"$f":"IF($P184=\"\",\"\",IF(P184=0,\"\",AVERAGEIF(DMA!#REF!,Graphs!$O184,DMA!#REF!)))","v":""},{"$f":"IF($Q184=\"\",\"\",IF(Q184=0,\"\",AVERAGEIF(DMA!#REF!,Graphs!$O184,DMA!#REF!)))","v":""},{"$f":"IF($R184=\"\",\"\",IF(R184=0,\"\",AVERAGEIF(DMA!#REF!,Graphs!$O184,DMA!#REF!)))","v":""}]
[null,"","","","","","","","","","","","","","","","","","","","",null,null,null,null,null,null,null,null,null,null,null,null,null,null,null,null,null,null,null,null,null,null,null,null,null,null,null,null,null,null,"","","",{"$f":"IF(P185=\"\",\"\",IF(P185=0,\"\",SQRT(SUMIF(DMA!$DA$5:$DA$503,Graphs!$O185,DMA!DB$5:DB$503))/COUNTIF(DMA!$DA$5:$DA$503,Graphs!$O185)))","v":""},{"$f":"IF(Q185=\"\",\"\",IF(Q185=0,\"\",SQRT(SUMIF(DMA!$DA$5:$DA$503,Graphs!$O185,DMA!DC$5:DC$503))/COUNTIF(DMA!$DA$5:$DA$503,Graphs!$O185)))","v":""},{"$f":"IF(R185=\"\",\"\",IF(R185=0,\"\",SQRT(SUMIF(DMA!$DA$5:$DA$503,Graphs!$O185,DMA!DD$5:DD$503))/COUNTIF(DMA!$DA$5:$DA$503,Graphs!$O185)))","v":""},{"$f":"IF($P185=\"\",\"\",IF(P185=0,\"\",AVERAGEIF(DMA!#REF!,Graphs!$O185,DMA!#REF!)))","v":""},{"$f":"IF($Q185=\"\",\"\",IF(Q185=0,\"\",AVERAGEIF(DMA!#REF!,Graphs!$O185,DMA!#REF!)))","v":""},{"$f":"IF($R185=\"\",\"\",IF(R185=0,\"\",AVERAGEIF(DMA!#REF!,Graphs!$O185,DMA!#REF!)))","v":""}]
[null,"","","","","","","","","","","","","","","","","","","","",null,null,null,null,null,null,null,null,null,null,null,null,null,null,null,null,null,null,null,null,null,null,null,null,null,null,null,null,null,null,"","","",{"$f":"IF(P186=\"\",\"\",IF(P186=0,\"\",SQRT(SUMIF(DMA!$DA$5:$DA$503,Graphs!$O186,DMA!DB$5:DB$503))/COUNTIF(DMA!$DA$5:$DA$503,Graphs!$O186)))","v":""},{"$f":"IF(Q186=\"\",\"\",IF(Q186=0,\"\",SQRT(SUMIF(DMA!$DA$5:$DA$503,Graphs!$O186,DMA!DC$5:DC$503))/COUNTIF(DMA!$DA$5:$DA$503,Graphs!$O186)))","v":""},{"$f":"IF(R186=\"\",\"\",IF(R186=0,\"\",SQRT(SUMIF(DMA!$DA$5:$DA$503,Graphs!$O186,DMA!DD$5:DD$503))/COUNTIF(DMA!$DA$5:$DA$503,Graphs!$O186)))","v":""},{"$f":"IF($P186=\"\",\"\",IF(P186=0,\"\",AVERAGEIF(DMA!#REF!,Graphs!$O186,DMA!#REF!)))","v":""},{"$f":"IF($Q186=\"\",\"\",IF(Q186=0,\"\",AVERAGEIF(DMA!#REF!,Graphs!$O186,DMA!#REF!)))","v":""},{"$f":"IF($R186=\"\",\"\",IF(R186=0,\"\",AVERAGEIF(DMA!#REF!,Graphs!$O186,DMA!#REF!)))","v":""}]
[null,"","","","","","","","","","","","","","","","","","","","",null,null,null,null,null,null,null,null,null,null,null,null,null,null,null,null,null,null,null,null,null,null,null,null,null,null,null,null,null,null,"","","",{"$f":"IF(P187=\"\",\"\",IF(P187=0,\"\",SQRT(SUMIF(DMA!$DA$5:$DA$503,Graphs!$O187,DMA!DB$5:DB$503))/COUNTIF(DMA!$DA$5:$DA$503,Graphs!$O187)))","v":""},{"$f":"IF(Q187=\"\",\"\",IF(Q187=0,\"\",SQRT(SUMIF(DMA!$DA$5:$DA$503,Graphs!$O187,DMA!DC$5:DC$503))/COUNTIF(DMA!$DA$5:$DA$503,Graphs!$O187)))","v":""},{"$f":"IF(R187=\"\",\"\",IF(R187=0,\"\",SQRT(SUMIF(DMA!$DA$5:$DA$503,Graphs!$O187,DMA!DD$5:DD$503))/COUNTIF(DMA!$DA$5:$DA$503,Graphs!$O187)))","v":""},{"$f":"IF($P187=\"\",\"\",IF(P187=0,\"\",AVERAGEIF(DMA!#REF!,Graphs!$O187,DMA!#REF!)))","v":""},{"$f":"IF($Q187=\"\",\"\",IF(Q187=0,\"\",AVERAGEIF(DMA!#REF!,Graphs!$O187,DMA!#REF!)))","v":""},{"$f":"IF($R187=\"\",\"\",IF(R187=0,\"\",AVERAGEIF(DMA!#REF!,Graphs!$O187,DMA!#REF!)))","v":""}]
[null,"","","","","","","","","","","","","","","","","","","","",null,null,null,null,null,null,null,null,null,null,null,null,null,null,null,null,null,null,null,null,null,null,null,null,null,null,null,null,null,null,"","","",{"$f":"IF(P188=\"\",\"\",IF(P188=0,\"\",SQRT(SUMIF(DMA!$DA$5:$DA$503,Graphs!$O188,DMA!DB$5:DB$503))/COUNTIF(DMA!$DA$5:$DA$503,Graphs!$O188)))","v":""},{"$f":"IF(Q188=\"\",\"\",IF(Q188=0,\"\",SQRT(SUMIF(DMA!$DA$5:$DA$503,Graphs!$O188,DMA!DC$5:DC$503))/COUNTIF(DMA!$DA$5:$DA$503,Graphs!$O188)))","v":""},{"$f":"IF(R188=\"\",\"\",IF(R188=0,\"\",SQRT(SUMIF(DMA!$DA$5:$DA$503,Graphs!$O188,DMA!DD$5:DD$503))/COUNTIF(DMA!$DA$5:$DA$503,Graphs!$O188)))","v":""},{"$f":"IF($P188=\"\",\"\",IF(P188=0,\"\",AVERAGEIF(DMA!#REF!,Graphs!$O188,DMA!#REF!)))","v":""},{"$f":"IF($Q188=\"\",\"\",IF(Q188=0,\"\",AVERAGEIF(DMA!#REF!,Graphs!$O188,DMA!#REF!)))","v":""},{"$f":"IF($R188=\"\",\"\",IF(R188=0,\"\",AVERAGEIF(DMA!#REF!,Graphs!$O188,DMA!#REF!)))","v":""}]
[null,"","","","","","","","","","","","","","","","","","","","",null,null,null,null,null,null,null,null,null,null,null,null,null,null,null,null,null,null,null,null,null,null,null,null,null,null,null,null,null,null,"","","",{"$f":"IF(P189=\"\",\"\",IF(P189=0,\"\",SQRT(SUMIF(DMA!$DA$5:$DA$503,Graphs!$O189,DMA!DB$5:DB$503))/COUNTIF(DMA!$DA$5:$DA$503,Graphs!$O189)))","v":""},{"$f":"IF(Q189=\"\",\"\",IF(Q189=0,\"\",SQRT(SUMIF(DMA!$DA$5:$DA$503,Graphs!$O189,DMA!DC$5:DC$503))/COUNTIF(DMA!$DA$5:$DA$503,Graphs!$O189)))","v":""},{"$f":"IF(R189=\"\",\"\",IF(R189=0,\"\",SQRT(SUMIF(DMA!$DA$5:$DA$503,Graphs!$O189,DMA!DD$5:DD$503))/COUNTIF(DMA!$DA$5:$DA$503,Graphs!$O189)))","v":""},{"$f":"IF($P189=\"\",\"\",IF(P189=0,\"\",AVERAGEIF(DMA!#REF!,Graphs!$O189,DMA!#REF!)))","v":""},{"$f":"IF($Q189=\"\",\"\",IF(Q189=0,\"\",AVERAGEIF(DMA!#REF!,Graphs!$O189,DMA!#REF!)))","v":""},{"$f":"IF($R189=\"\",\"\",IF(R189=0,\"\",AVERAGEIF(DMA!#REF!,Graphs!$O189,DMA!#REF!)))","v":""}]
[null,"","","","","","","","","","","","","","","","","","","","",null,null,null,null,null,null,null,null,null,null,null,null,null,null,null,null,null,null,null,null,null,null,null,null,null,null,null,null,null,null,"","","",{"$f":"IF(P190=\"\",\"\",IF(P190=0,\"\",SQRT(SUMIF(DMA!$DA$5:$DA$503,Graphs!$O190,DMA!DB$5:DB$503))/COUNTIF(DMA!$DA$5:$DA$503,Graphs!$O190)))","v":""},{"$f":"IF(Q190=\"\",\"\",IF(Q190=0,\"\",SQRT(SUMIF(DMA!$DA$5:$DA$503,Graphs!$O190,DMA!DC$5:DC$503))/COUNTIF(DMA!$DA$5:$DA$503,Graphs!$O190)))","v":""},{"$f":"IF(R190=\"\",\"\",IF(R190=0,\"\",SQRT(SUMIF(DMA!$DA$5:$DA$503,Graphs!$O190,DMA!DD$5:DD$503))/COUNTIF(DMA!$DA$5:$DA$503,Graphs!$O190)))","v":""},{"$f":"IF($P190=\"\",\"\",IF(P190=0,\"\",AVERAGEIF(DMA!#REF!,Graphs!$O190,DMA!#REF!)))","v":""},{"$f":"IF($Q190=\"\",\"\",IF(Q190=0,\"\",AVERAGEIF(DMA!#REF!,Graphs!$O190,DMA!#REF!)))","v":""},{"$f":"IF($R190=\"\",\"\",IF(R190=0,\"\",AVERAGEIF(DMA!#REF!,Graphs!$O190,DMA!#REF!)))","v":""}]
[null,"","","","","","","","","","","","","","","","","","","","",null,null,null,null,null,null,null,null,null,null,null,null,null,null,null,null,null,null,null,null,null,null,null,null,null,null,null,null,null,null,"","","",{"$f":"IF(P191=\"\",\"\",IF(P191=0,\"\",SQRT(SUMIF(DMA!$DA$5:$DA$503,Graphs!$O191,DMA!DB$5:DB$503))/COUNTIF(DMA!$DA$5:$DA$503,Graphs!$O191)))","v":""},{"$f":"IF(Q191=\"\",\"\",IF(Q191=0,\"\",SQRT(SUMIF(DMA!$DA$5:$DA$503,Graphs!$O191,DMA!DC$5:DC$503))/COUNTIF(DMA!$DA$5:$DA$503,Graphs!$O191)))","v":""},{"$f":"IF(R191=\"\",\"\",IF(R191=0,\"\",SQRT(SUMIF(DMA!$DA$5:$DA$503,Graphs!$O191,DMA!DD$5:DD$503))/COUNTIF(DMA!$DA$5:$DA$503,Graphs!$O191)))","v":""},{"$f":"IF($P191=\"\",\"\",IF(P191=0,\"\",AVERAGEIF(DMA!#REF!,Graphs!$O191,DMA!#REF!)))","v":""},{"$f":"IF($Q191=\"\",\"\",IF(Q191=0,\"\",AVERAGEIF(DMA!#REF!,Graphs!$O191,DMA!#REF!)))","v":""},{"$f":"IF($R191=\"\",\"\",IF(R191=0,\"\",AVERAGEIF(DMA!#REF!,Graphs!$O191,DMA!#REF!)))","v":""}]
[null,"","","","","","","","","","","","","","","","","","","","",null,null,null,null,null,null,null,null,null,null,null,null,null,null,null,null,null,null,null,null,null,null,null,null,null,null,null,null,null,null,"","","",{"$f":"IF(P192=\"\",\"\",IF(P192=0,\"\",SQRT(SUMIF(DMA!$DA$5:$DA$503,Graphs!$O192,DMA!DB$5:DB$503))/COUNTIF(DMA!$DA$5:$DA$503,Graphs!$O192)))","v":""},{"$f":"IF(Q192=\"\",\"\",IF(Q192=0,\"\",SQRT(SUMIF(DMA!$DA$5:$DA$503,Graphs!$O192,DMA!DC$5:DC$503))/COUNTIF(DMA!$DA$5:$DA$503,Graphs!$O192)))","v":""},{"$f":"IF(R192=\"\",\"\",IF(R192=0,\"\",SQRT(SUMIF(DMA!$DA$5:$DA$503,Graphs!$O192,DMA!DD$5:DD$503))/COUNTIF(DMA!$DA$5:$DA$503,Graphs!$O192)))","v":""},{"$f":"IF($P192=\"\",\"\",IF(P192=0,\"\",AVERAGEIF(DMA!#REF!,Graphs!$O192,DMA!#REF!)))","v":""},{"$f":"IF($Q192=\"\",\"\",IF(Q192=0,\"\",AVERAGEIF(DMA!#REF!,Graphs!$O192,DMA!#REF!)))","v":""},{"$f":"IF($R192=\"\",\"\",IF(R192=0,\"\",AVERAGEIF(DMA!#REF!,Graphs!$O192,DMA!#REF!)))","v":""}]
[null,"","","","","","","","","","","","","","","","","","","","",null,null,null,null,null,null,null,null,null,null,null,null,null,null,null,null,null,null,null,null,null,null,null,null,null,null,null,null,null,null,"","","",{"$f":"IF(P193=\"\",\"\",IF(P193=0,\"\",SQRT(SUMIF(DMA!$DA$5:$DA$503,Graphs!$O193,DMA!DB$5:DB$503))/COUNTIF(DMA!$DA$5:$DA$503,Graphs!$O193)))","v":""},{"$f":"IF(Q193=\"\",\"\",IF(Q193=0,\"\",SQRT(SUMIF(DMA!$DA$5:$DA$503,Graphs!$O193,DMA!DC$5:DC$503))/COUNTIF(DMA!$DA$5:$DA$503,Graphs!$O193)))","v":""},{"$f":"IF(R193=\"\",\"\",IF(R193=0,\"\",SQRT(SUMIF(DMA!$DA$5:$DA$503,Graphs!$O193,DMA!DD$5:DD$503))/COUNTIF(DMA!$DA$5:$DA$503,Graphs!$O193)))","v":""},{"$f":"IF($P193=\"\",\"\",IF(P193=0,\"\",AVERAGEIF(DMA!#REF!,Graphs!$O193,DMA!#REF!)))","v":""},{"$f":"IF($Q193=\"\",\"\",IF(Q193=0,\"\",AVERAGEIF(DMA!#REF!,Graphs!$O193,DMA!#REF!)))","v":""},{"$f":"IF($R193=\"\",\"\",IF(R193=0,\"\",AVERAGEIF(DMA!#REF!,Graphs!$O193,DMA!#REF!)))","v":""}]
[null,"","","","","","","","","","","","","","","","","","","","",null,null,null,null,null,null,null,null,null,null,null,null,null,null,null,null,null,null,null,null,null,null,null,null,null,null,null,null,null,null,"","","",{"$f":"IF(P194=\"\",\"\",IF(P194=0,\"\",SQRT(SUMIF(DMA!$DA$5:$DA$503,Graphs!$O194,DMA!DB$5:DB$503))/COUNTIF(DMA!$DA$5:$DA$503,Graphs!$O194)))","v":""},{"$f":"IF(Q194=\"\",\"\",IF(Q194=0,\"\",SQRT(SUMIF(DMA!$DA$5:$DA$503,Graphs!$O194,DMA!DC$5:DC$503))/COUNTIF(DMA!$DA$5:$DA$503,Graphs!$O194)))","v":""},{"$f":"IF(R194=\"\",\"\",IF(R194=0,\"\",SQRT(SUMIF(DMA!$DA$5:$DA$503,Graphs!$O194,DMA!DD$5:DD$503))/COUNTIF(DMA!$DA$5:$DA$503,Graphs!$O194)))","v":""},{"$f":"IF($P194=\"\",\"\",IF(P194=0,\"\",AVERAGEIF(DMA!#REF!,Graphs!$O194,DMA!#REF!)))","v":""},{"$f":"IF($Q194=\"\",\"\",IF(Q194=0,\"\",AVERAGEIF(DMA!#REF!,Graphs!$O194,DMA!#REF!)))","v":""},{"$f":"IF($R194=\"\",\"\",IF(R194=0,\"\",AVERAGEIF(DMA!#REF!,Graphs!$O194,DMA!#REF!)))","v":""}]
[null,"","","","","","","","","","","","","","","","","","","","",null,null,null,null,null,null,null,null,null,null,null,null,null,null,null,null,null,null,null,null,null,null,null,null,null,null,null,null,null,null,"","","",{"$f":"IF(P195=\"\",\"\",IF(P195=0,\"\",SQRT(SUMIF(DMA!$DA$5:$DA$503,Graphs!$O195,DMA!DB$5:DB$503))/COUNTIF(DMA!$DA$5:$DA$503,Graphs!$O195)))","v":""},{"$f":"IF(Q195=\"\",\"\",IF(Q195=0,\"\",SQRT(SUMIF(DMA!$DA$5:$DA$503,Graphs!$O195,DMA!DC$5:DC$503))/COUNTIF(DMA!$DA$5:$DA$503,Graphs!$O195)))","v":""},{"$f":"IF(R195=\"\",\"\",IF(R195=0,\"\",SQRT(SUMIF(DMA!$DA$5:$DA$503,Graphs!$O195,DMA!DD$5:DD$503))/COUNTIF(DMA!$DA$5:$DA$503,Graphs!$O195)))","v":""},{"$f":"IF($P195=\"\",\"\",IF(P195=0,\"\",AVERAGEIF(DMA!#REF!,Graphs!$O195,DMA!#REF!)))","v":""},{"$f":"IF($Q195=\"\",\"\",IF(Q195=0,\"\",AVERAGEIF(DMA!#REF!,Graphs!$O195,DMA!#REF!)))","v":""},{"$f":"IF($R195=\"\",\"\",IF(R195=0,\"\",AVERAGEIF(DMA!#REF!,Graphs!$O195,DMA!#REF!)))","v":""}]
[null,"","","","","","","","","","","","","","","","","","","","",null,null,null,null,null,null,null,null,null,null,null,null,null,null,null,null,null,null,null,null,null,null,null,null,null,null,null,null,null,null,"","","",{"$f":"IF(P196=\"\",\"\",IF(P196=0,\"\",SQRT(SUMIF(DMA!$DA$5:$DA$503,Graphs!$O196,DMA!DB$5:DB$503))/COUNTIF(DMA!$DA$5:$DA$503,Graphs!$O196)))","v":""},{"$f":"IF(Q196=\"\",\"\",IF(Q196=0,\"\",SQRT(SUMIF(DMA!$DA$5:$DA$503,Graphs!$O196,DMA!DC$5:DC$503))/COUNTIF(DMA!$DA$5:$DA$503,Graphs!$O196)))","v":""},{"$f":"IF(R196=\"\",\"\",IF(R196=0,\"\",SQRT(SUMIF(DMA!$DA$5:$DA$503,Graphs!$O196,DMA!DD$5:DD$503))/COUNTIF(DMA!$DA$5:$DA$503,Graphs!$O196)))","v":""},{"$f":"IF($P196=\"\",\"\",IF(P196=0,\"\",AVERAGEIF(DMA!#REF!,Graphs!$O196,DMA!#REF!)))","v":""},{"$f":"IF($Q196=\"\",\"\",IF(Q196=0,\"\",AVERAGEIF(DMA!#REF!,Graphs!$O196,DMA!#REF!)))","v":""},{"$f":"IF($R196=\"\",\"\",IF(R196=0,\"\",AVERAGEIF(DMA!#REF!,Graphs!$O196,DMA!#REF!)))","v":""}]
[null,"","","","","","","","","","","","","","","","","","","","",null,null,null,null,null,null,null,null,null,null,null,null,null,null,null,null,null,null,null,null,null,null,null,null,null,null,null,null,null,null,"","","",{"$f":"IF(P197=\"\",\"\",IF(P197=0,\"\",SQRT(SUMIF(DMA!$DA$5:$DA$503,Graphs!$O197,DMA!DB$5:DB$503))/COUNTIF(DMA!$DA$5:$DA$503,Graphs!$O197)))","v":""},{"$f":"IF(Q197=\"\",\"\",IF(Q197=0,\"\",SQRT(SUMIF(DMA!$DA$5:$DA$503,Graphs!$O197,DMA!DC$5:DC$503))/COUNTIF(DMA!$DA$5:$DA$503,Graphs!$O197)))","v":""},{"$f":"IF(R197=\"\",\"\",IF(R197=0,\"\",SQRT(SUMIF(DMA!$DA$5:$DA$503,Graphs!$O197,DMA!DD$5:DD$503))/COUNTIF(DMA!$DA$5:$DA$503,Graphs!$O197)))","v":""},{"$f":"IF($P197=\"\",\"\",IF(P197=0,\"\",AVERAGEIF(DMA!#REF!,Graphs!$O197,DMA!#REF!)))","v":""},{"$f":"IF($Q197=\"\",\"\",IF(Q197=0,\"\",AVERAGEIF(DMA!#REF!,Graphs!$O197,DMA!#REF!)))","v":""},{"$f":"IF($R197=\"\",\"\",IF(R197=0,\"\",AVERAGEIF(DMA!#REF!,Graphs!$O197,DMA!#REF!)))","v":""}]
[null,"","","","","","","","","","","","","","","","","","","","",null,null,null,null,null,null,null,null,null,null,null,null,null,null,null,null,null,null,null,null,null,null,null,null,null,null,null,null,null,null,"","","",{"$f":"IF(P198=\"\",\"\",IF(P198=0,\"\",SQRT(SUMIF(DMA!$DA$5:$DA$503,Graphs!$O198,DMA!DB$5:DB$503))/COUNTIF(DMA!$DA$5:$DA$503,Graphs!$O198)))","v":""},{"$f":"IF(Q198=\"\",\"\",IF(Q198=0,\"\",SQRT(SUMIF(DMA!$DA$5:$DA$503,Graphs!$O198,DMA!DC$5:DC$503))/COUNTIF(DMA!$DA$5:$DA$503,Graphs!$O198)))","v":""},{"$f":"IF(R198=\"\",\"\",IF(R198=0,\"\",SQRT(SUMIF(DMA!$DA$5:$DA$503,Graphs!$O198,DMA!DD$5:DD$503))/COUNTIF(DMA!$DA$5:$DA$503,Graphs!$O198)))","v":""},{"$f":"IF($P198=\"\",\"\",IF(P198=0,\"\",AVERAGEIF(DMA!#REF!,Graphs!$O198,DMA!#REF!)))","v":""},{"$f":"IF($Q198=\"\",\"\",IF(Q198=0,\"\",AVERAGEIF(DMA!#REF!,Graphs!$O198,DMA!#REF!)))","v":""},{"$f":"IF($R198=\"\",\"\",IF(R198=0,\"\",AVERAGEIF(DMA!#REF!,Graphs!$O198,DMA!#REF!)))","v":""}]
[null,"","","","","","","","","","","","","","","","","","","","",null,null,null,null,null,null,null,null,null,null,null,null,null,null,null,null,null,null,null,null,null,null,null,null,null,null,null,null,null,null,"","","",{"$f":"IF(P199=\"\",\"\",IF(P199=0,\"\",SQRT(SUMIF(DMA!$DA$5:$DA$503,Graphs!$O199,DMA!DB$5:DB$503))/COUNTIF(DMA!$DA$5:$DA$503,Graphs!$O199)))","v":""},{"$f":"IF(Q199=\"\",\"\",IF(Q199=0,\"\",SQRT(SUMIF(DMA!$DA$5:$DA$503,Graphs!$O199,DMA!DC$5:DC$503))/COUNTIF(DMA!$DA$5:$DA$503,Graphs!$O199)))","v":""},{"$f":"IF(R199=\"\",\"\",IF(R199=0,\"\",SQRT(SUMIF(DMA!$DA$5:$DA$503,Graphs!$O199,DMA!DD$5:DD$503))/COUNTIF(DMA!$DA$5:$DA$503,Graphs!$O199)))","v":""},{"$f":"IF($P199=\"\",\"\",IF(P199=0,\"\",AVERAGEIF(DMA!#REF!,Graphs!$O199,DMA!#REF!)))","v":""},{"$f":"IF($Q199=\"\",\"\",IF(Q199=0,\"\",AVERAGEIF(DMA!#REF!,Graphs!$O199,DMA!#REF!)))","v":""},{"$f":"IF($R199=\"\",\"\",IF(R199=0,\"\",AVERAGEIF(DMA!#REF!,Graphs!$O199,DMA!#REF!)))","v":""}]
[null,null,null,null,null,null,null,null,null,null,null,null,null,{"$f":"SUM(N13:N199)","v":0}]
[]
[]
[null,null,null,null,null,null,null,null,null,null,null,null,null,null,"WOODY AGE Class - All Woody Species"]
[null,null,null,null,null,null,null,null,null,null,null,null,null,null,"Statistic","Seedlings","Young","Mature","Rhizom-atous*"]
[null,null,null,null,null,null,null,null,null,null,null,null,null,null,"Mean ",{"$f":"AVERAGE(DMA!#REF!)","v":{"$error":"#REF!"}},{"$f":"AVERAGE(DMA!#REF!)","v":{"$error":"#REF!"}},{"$f":"AVERAGE(DMA!#REF!)","v":{"$error":"#REF!"}},{"$f":"AVERAGE(DMA!#REF!)","v":{"$error":"#REF!"}}]
[null,null,null,null,null,null,null,null,null,null,null,null,null,null,"Standard Deviation",{"$f":"STDEV(DMA!#REF!)","v":{"$error":"#REF!"}},{"$f":"STDEV(DMA!#REF!)","v":{"$error":"#REF!"}},{"$f":"STDEV(DMA!#REF!)","v":{"$error":"#REF!"}},{"$f":"STDEV(DMA!#REF!)","v":{"$error":"#REF!"}}]
[null,null,null,null,null,null,null,null,null,null,null,null,null,null,"Count",{"$f":"COUNT(DMA!#REF!)","v":0},{"$f":"COUNT(DMA!#REF!)","v":0},{"$f":"COUNT(DMA!#REF!)","v":0},{"$f":"COUNT(DMA!#REF!)","v":0}]
[null,null,null,null,null,null,null,null,null,null,null,null,null,null,"Confidence",{"$f":"IF(P207=0,\"\",CONFIDENCE(0.05,P206,P207))","v":""},{"$f":"IF(Q207=0,\"\",CONFIDENCE(0.05,Q206,Q207))","v":""},{"$f":"IF(R207=0,\"\",CONFIDENCE(0.05,R206,R207))","v":""},{"$f":"IF(S207=0,\"\",CONFIDENCE(0.05,S206,S207))","v":""}]

{"sheet":"Codes","index":5,"n_rows":60,"n_cols":22,"rows_kept":60,"cut":false,"hidden":false,"merged":[[45,0,45,6]]}
["CODES: ",null,null,null,null,null,null,null,null,null,null,"WOODY RIPARIAN SPECIES AGE CLASSES"]
["ECOLOGICAL STATUS CODES",null,null,null,null,null,null,null,null,null,null,null,null,null,null,null,null,null,null,null,"About this version"]
["Slope Class (Gradient)",null,null,null,null,null,null,null,null,null,null,"Woody riparian species age classes for single-stemmed species (e.g., cottonwood, aspen, maple)",null,null,null,null,null,null,null,null,{"$f":"Comments!I1","v":"UPDATED:"},{"$f":"IF(Comments!J1=\"\",\"\",Comments!J1)","v":"2025-01-01"}]
["Is recorded as % slope.   ",null,null,null,null,null,null,null,null,null,null,"Age Class","Stem Height and Diameter",null,null,null,null,null,null,null,null,{"$f":"IF(Comments!J2=\"\",\"\",Comments!J2)","v":""}]
["Flat meadow streams = < .5%",null,null,null,null,null,null,null,null,null,null,"Seedling","Stem is <1m tall or <2.5 cm in diameter at 50 percent of height from ground level",null,null,null,null,null,null,null,null,{"$f":"IF(Comments!J3=\"\",\"\",Comments!J3)","v":"This version is consistent with the updated MIM  Data Instructions Guide 2025 available at: "}]
["Well- drained meadows = .5 - 2%",null,null,null,null,null,null,null,null,null,null,"Young","Stem is ≥1m tall or 2.5 to 7.6 cm in diameter at 50 percent of height from ground level",null,null,null,null,null,null,null,null,{"$f":"IF(Comments!J4=\"\",\"\",Comments!J4)","v":"rmsmim.com"}]
["\"B\" type channels: 2-4%",null,null,null,null,null,null,null,null,null,null,"Mature","Stem is ≥1 m tall and >7.6 cm in diameter at 50 percent of height from ground level",null,null,null,null,null,null,null,null,{"$f":"IF(Comments!J5=\"\",\"\",Comments!J5)","v":""}]
["\"A\" channels:  >4%",null,null,null,null,null,null,null,null,null,null,null,null,null,null,null,null,null,null,null,null,{"$f":"IF(Comments!J6=\"\",\"\",Comments!J6)","v":"The \"Spatial\" tab can be used to test whether or not there is spatial autocorrelation"}]
[null,null,null,null,null,null,null,null,null,null,null,null,null,null,null,null,null,null,null,null,null,{"$f":"IF(Comments!J7=\"\",\"\",Comments!J7)","v":"after collecting a number of samples for indicators that more commonly associate"}]
[null,null,null,null,null,null,null,null,null,null,null,"Woody riparian species age classes for multi-stemmed (clumpy) species (most willows, alder, birch). ",null,null,null,null,null,null,null,null,null,{"$f":"IF(Comments!J8=\"\",\"\",Comments!J8)","v":"with spatial autocorrelation.   If there is a strong positive correlation (>.3), consider"}]
["Substrate Class (Dominant)",null,null,null,null,null,null,null,null,null,null,"Age Class","Stem Height and Diameter",null,null,null,null,null,null,null,null,{"$f":"IF(Comments!J9=\"\",\"\",Comments!J9)","v":"increasing sample point spacing.  However, as more samples are collected the test"}]
["Code","Type of substrate",null,null,"Definition",null,null,null,null,null,null,"Seedling","1 stem <0.5 cm in diameter at the base and <0.5 m tall",null,null,null,null,null,null,null,null,{"$f":"IF(Comments!J10=\"\",\"\",Comments!J10)","v":"may be negative for spatial autocorrelation.  Previously it was suggested to test after"}]
["bd","Boulder/bedrock",null,null,"> 10 inches",null,null,null,null,null,null,"Young","2-10 stems less than 1 m tall or 1 stem ≥0.5 cm in diameter at the base and less than 1 m tall",null,null,null,null,null,null,null,"Back",{"$f":"IF(Comments!J11=\"\",\"\",Comments!J11)","v":"collecting just 10 samples, but more will likely be needed to achieve a reliable test."}]
["cons","Consolidated silt/clay/sand",null,null,", Strongly compacted, cohesive,",null,null,null,null,null,null,"Mature*",">10 stems over 1 m tall or >10 stems that are >1 cm in diameter at the base and less than 1 m tall",null,null,null,null,null,null,null,null,{"$f":"IF(Comments!J12=\"\",\"\",Comments!J12)","v":"One convention is to collect all samples on the left side (approx 40), then make the"}]
[null," cemented particles",null,null,null,null,null,null,null,null,null,"* Note that mature plants can be height suppressed due to repeated heavy browsing, thus the mature class includes",null,null,null,null,null,null,null,null,null,{"$f":"IF(Comments!J13=\"\",\"\",Comments!J13)","v":"test.  If expanding the sample spacing is desired, consider expanding the length of"}]
["cb","Cobble",null,null,"2.5 - 10 inches",null,null,null,null,null,null," larger diameter stems that are shorter than 1 m tall (Singer et al. 1994, Chadde and Kay 1991).",null,null,null,null,null,null,null,null,null,{"$f":"IF(Comments!J14=\"\",\"\",Comments!J14)","v":"the DMA at that point.  "}]
["gr","Gravel",null,null,".08 - 2.5 inches",null,null,null,null,null,null,null,null,null,null,null,null,null,null,null,null,{"$f":"IF(Comments!J15=\"\",\"\",Comments!J15)","v":""}]
["nonc","Non-consolidated silt/clay/sand",null,null,"Uncompacted silt, clay, or sand",null,null,null,null,null,null,"Woody riparian species age classes for low growing (or “dwarf” shrubs) that are generally mature at ",null,null,null,null,null,null,null,null,null,{"$f":"IF(Comments!J16=\"\",\"\",Comments!J16)","v":""}]
[null,null,null,null,null,null,null,null,null,null,null,"approximately 30-50 cm tall (e.g., Short-fruit willow, Wolf willow, Hoary willow, Undergreen willow, etc.)",null,null,null,null,null,null,null,null,null,{"$f":"IF(Comments!J17=\"\",\"\",Comments!J17)","v":""}]
["Capability Groups (Winward 2000, page 34)",null,null,null,null,null,null,null,null,null,null,"Age Class","Stem Height and Diameter",null,null,null,null,null,null,null,null,{"$f":"IF(Comments!J18=\"\",\"\",Comments!J18)","v":""}]
[null,null,null,null,null,null,null,null,null,null,null,"Seedling","1 stem <0.5 cm in diameter at the base and <30 cm tall",null,null,null,null,null,null,null,null,{"$f":"IF(Comments!J19=\"\",\"\",Comments!J19)","v":""}]
["Gradient","Substrate","Group","% late seral",null,null,null,null,null,null,null,"Young","2-10 stems less than 30 cm tall or 1 stem ≥0.5 cm in diameter at the base and less than 30 cm tall",null,null,null,null,null,null,null,null,{"$f":"IF(Comments!J20=\"\",\"\",Comments!J20)","v":""}]
["<.5","gr","I","98+%",null,null,null,null,null,null,null,"Mature",">10 stems over 30 cm tall",null,null,null,null,null,null,null,null,{"$f":"IF(Comments!J21=\"\",\"\",Comments!J21)","v":""}]
[null,"cb","I","98+%",null,null,null,null,null,null,null,null,null,null,null,null,null,null,null,null,null,{"$f":"IF(Comments!J22=\"\",\"\",Comments!J22)","v":""}]
[null,"cons","I","98+%",null,null,null,null,null,null,null,null,null,null,null,null,null,null,null,null,null,{"$f":"IF(Comments!J23=\"\",\"\",Comments!J23)","v":""}]
[null,"nonc","II","90+ %",null,null,null,null,null,null,null,null,null,null,null,null,null,null,null,null,null,{"$f":"IF(Comments!J24=\"\",\"\",Comments!J24)","v":""}]
[".5 - 2.0","gr","III","90+%",null,null,null,null,null,null,null,null,null,null,null,null,null,null,null,null,null,{"$f":"IF(Comments!J25=\"\",\"\",Comments!J25)","v":""}]
[null,"cb","III","90+%",null,null,null,null,null,null,null,null,null,null,null,null,null,null,null,null,null,{"$f":"IF(Comments!J26=\"\",\"\",Comments!J26)","v":""}]
[null,"cons","III","90+%",null,null,null,null,null,null,null,null,null,null,null,null,null,null,null,null,null,{"$f":"IF(Comments!J27=\"\",\"\",Comments!J27)","v":""}]
[null,"nonc","IV","85+%",null,null,null,null,null,null,null,null,null,null,null,null,null,null,null,null,null,{"$f":"IF(Comments!J28=\"\",\"\",Comments!J28)","v":""}]
["2.0 - 4.0","gr","V","85+%",null,null,null,null,null,null,null,null,null,null,null,null,null,null,null,null,null,{"$f":"IF(Comments!J29=\"\",\"\",Comments!J29)","v":""}]
[null,"cb","V","85+%"]
[null,"cons","V","85+%"]
[null,"nonc","VI","80+%"]
["4.0 - 10","nonc","VII","80+%"]
[null,"gr","VIII","85+%"]
[null,"cons","VIII","85+%"]
[null,"cb","IX","95+%"]
[null,"bd","IX","95+%"]
[">10","bd","X","98+%"]
[]
[]
[]
[]
["SHRUB OR TREE HEIGHT CODES"]
["1 = 0 - .5 m,    2 = .5 - 1 m,    3 = 1 - 2 m,    4 = 2 - 4 m,                      5 = 4 - 8 m,    6 > 8 m"]
[]
["STREAMBANK STABILITY CODES"]
["TYPE of BANK"]
["E =  Erosional    - All banks not associated with bars   "]
["D = Depositional - Any bank containing a sand or gravel bar"]
["BANK COVER"]
["C= Covered    - Mostly covered by vegetation, rock, logs"]
["U= Uncovered  -  Mostly not covered by vegetation, rocks, logs"]
["FEATURES OF INSTABILITY"]
["F = Fracture   -  Crack visibly obvious on the bank"]
["S = Slump    -  Block of bank breaking or sliding down bank into stream"]
["SL = Slough   -  \"Sluff\" material moving down bank or into stream"]
["E = Eroding   -  Usually steep and bare faced actively eroding"]
[" A = Absent  -  No features of instability are present"]

{"sheet":"Calcs","index":6,"n_rows":30,"n_cols":10,"rows_kept":30,"cut":false,"hidden":false,"merged":[]}
["Metric calculations are documented in the Data Analysis Module"]
["This section summarizes a few metrics unique to the Data Entry Module"]
[]
["SAMPLE SIZE ESTIMATOR",null,null,null,null,null,null,null,null,"SPATIAL ANALYSIS"]
["Calculations for the sample size esimator in row 4 of the DMA sheet are",null,null,null,null,null,null,null,null,"The assessment of spatial autocorrelation uses the correlogram method"]
["summarized on the Header Sheet rows 75 to 107",null,null,null,null,null,null,null,null,"as documented in the Data Management Guide, Appendix A"]
[]
["Because the sample size estimator uses the standard normal coefficient, and"]
["streambank alteration and woody riparian species use indicators do not "]
["usually fit a normal probability distribution, re-sampling was done using"]
["bootstrapping to adjust the estimator (Data Management Guide, Appendix E)"]
["The resultant regression equations are:"]
[]
["Streambank alteration:"]
[]
["n = 1.0041 x Y - .0008"]
[]
["Where n = adjusted sample size"]
["           and y = predicted sample size using the standard normal coefficient"]
["R square for the regression equation is  0.99"]
["(regression derived from bootstrapping 95% confidence intervals for 53 DMAs)"]
[]
["Woody riparian species use"]
[]
["n = .9797 x Y - .0637"]
[]
["Where n = adjusted sample size"]
["           and y = predicted sample size using the standard normal coefficient"]
["R square for the regression equation is   0.99"]
["(regression derived from bootstrapping 95% confidence intervals for 35 DMAs)"]

{"sheet":"PLANTS","index":7,"n_rows":645,"n_cols":20,"rows_kept":645,"cut":false,"hidden":false,"merged":[]}
["MASTER PLANT LIST - by Plant Functional Groups",null,null,null,null,"ALL Plants Alphabetical",null,null,null,null,null,null,"DMA","     KEY SPECIES",null,null,"Key Species list from previous sample"]
["Functional Group","SCIENTIFIC NAME","SPECIES CODE","COMMON NAME",null,"Species Codes","Scientific Name","Common Name",null,null,"      PLANTS BY COMMON NAME - Synonym",null,"PLANT LIST","STUBBLE HEIGHT","WOODY USE",null,"STUBBLE HEIGHT","FREQUENCY","WOODY USE","FREQUENCY"]
["Graminoids","ACHNATHERUM NELSONII","ACNE9","Columbia needlegrass (STCO3)",null,"ABGR","ABIES GRANDIS ","Grand fir",null,null,"Alaskan burnet","SASI10",null,null,null,null,{"$f":"Graphs!E13","v":0},{"$f":"Graphs!F13","v":0},{"$f":"Graphs!K13","v":0},{"$f":"Graphs!L13","v":0}]
[null,"ACHNATHERUM Spp.","ACHNA","Needlegrass (STIPA)",null,"ABLA","ABIES LASIOCARPA ","Subalpine fir",null,null,"Alderleaf buckthorn","RHAL",{"$f":"IF(Graphs!A13=\"\",\"\",Graphs!A13)","v":""},null,null,null,{"$f":"Graphs!E14","v":0},{"$f":"Graphs!F14","v":0},{"$f":"Graphs!K14","v":0},{"$f":"Graphs!L14","v":0}]
[null,"AGROPYRON REPENS","AGRE2","Quackgrass (ELRE2)",null,"ACCI","ACER CIRCINATUM","Vine maple",null,null,"Alkali cordgrass","SPGR",{"$f":"IF(Graphs!A14=\"\",\"\",Graphs!A14)","v":""},null,null,null,{"$f":"Graphs!E15","v":0},{"$f":"Graphs!F15","v":0},{"$f":"Graphs!K15","v":0},{"$f":"Graphs!L15","v":0}]
[null,"AGROPYRON SMITHII","AGSM","Western Wheatgrass (PASM)",null,"ACCO2","ACACIA CONSTRICTA","Whitethorn acacia",null,null,"Alkali muhly","MUAS",{"$f":"IF(Graphs!A15=\"\",\"\",Graphs!A15)","v":""},null,null,null,{"$f":"Graphs!E16","v":0},{"$f":"Graphs!F16","v":0},{"$f":"Graphs!K16","v":0},{"$f":"Graphs!L16","v":0}]
[null,"AGROSTIS GIGANTEA","AGGI2","Redtop",null,"ACCO4","ACONITUM COLUMBIANUM ","Columbian monkshood",null,null,"Alkali plantain","PLER",{"$f":"IF(Graphs!A16=\"\",\"\",Graphs!A16)","v":""},null,null," ",{"$f":"Graphs!E17","v":0},{"$f":"Graphs!F17","v":0},{"$f":"Graphs!K17","v":0},{"$f":"Graphs!L17","v":0}]
[null,"AGROSTIS SCABRA","AGSC5","Rough Bentgrass",null,"ACER","ACER SPP.","Maple spp.",null,null,"Alkali sacaton","SPAI",{"$f":"IF(Graphs!A17=\"\",\"\",Graphs!A17)","v":""},null,null,null,{"$f":"Graphs!E18","v":0},{"$f":"Graphs!F18","v":0},{"$f":"Graphs!K18","v":0},{"$f":"Graphs!L18","v":0}]
[null,"AGROSTIS STOLONIFERA","AGST2","Creeping bentgrass",null,"ACGL","ACER GLABRUM","Rocky Mountain Maple",null,null,"Alpine leafybract aster (ASFO)","SYFO2",{"$f":"IF(Graphs!A18=\"\",\"\",Graphs!A18)","v":""},null,null,null,{"$f":"Graphs!E19","v":0},{"$f":"Graphs!F19","v":0},{"$f":"Graphs!K19","v":0},{"$f":"Graphs!L19","v":0}]
[null,"ALOPECURUS AEQUALIS","ALAE","Short-awned foxtail",null,"ACGR","ACACIA GREGGII","Catclaw acacia",null,null,"American bistort","POBI6",{"$f":"IF(Graphs!A19=\"\",\"\",Graphs!A19)","v":""},null,null,null,{"$f":"Graphs!E20","v":0},{"$f":"Graphs!F20","v":0},{"$f":"Graphs!K20","v":0},{"$f":"Graphs!L20","v":0}]
[null,"ALOPECURUS ARUNDINACEUS","ALAR","Creeping meadow foxgrass",null,"ACGR3","ACER GRANDIDENTATUM","Big tooth maple",null,null,"American black currant","RIAM2",{"$f":"IF(Graphs!A20=\"\",\"\",Graphs!A20)","v":""},null,null,null,{"$f":"Graphs!E21","v":0},{"$f":"Graphs!F21","v":0},{"$f":"Graphs!K21","v":0},{"$f":"Graphs!L21","v":0}]
[null,"ALOPECURUS GENICULATUS","ALGE2","Water Foxtail",null,"ACHNA","ACHNATHERUM Spp.","Needlegrass (STIPA)",null,null,"American Elm","ULAM",{"$f":"IF(Graphs!A21=\"\",\"\",Graphs!A21)","v":""},null,null,null,{"$f":"Graphs!E22","v":0},{"$f":"Graphs!F22","v":0},{"$f":"Graphs!K22","v":0},{"$f":"Graphs!L22","v":0}]
[null,"ALOPECURUS PRETENSIS","ALPR3","Meadow Foxtail",null,"ACMA3","ACER MACROPHYLLUM ","Big leaf maple",null,null,"American licorice","GLLE3",{"$f":"IF(Graphs!A22=\"\",\"\",Graphs!A22)","v":""},null,null,null,{"$f":"Graphs!E23","v":0},{"$f":"Graphs!F23","v":0},{"$f":"Graphs!K23","v":0},{"$f":"Graphs!L23","v":0}]
[null,"ALOPECURUS SPP.","ALOPE","Foxtail",null,"ACMI2","ACHILLEA MILLEFOLIUM ","Common yarrow",null,null,"American mannagrass","GLGR",{"$f":"IF(Graphs!A23=\"\",\"\",Graphs!A23)","v":""},null,null,null,{"$f":"Graphs!E24","v":0},{"$f":"Graphs!F24","v":0},{"$f":"Graphs!K24","v":0},{"$f":"Graphs!L24","v":0}]
[null,"ANDROPOGON GERARDII","ANGE","Big bluestem",null,"ACNE2","ACER NEGUNDO","Boxelder",null,null,"American plum","PRAM",{"$f":"IF(Graphs!A24=\"\",\"\",Graphs!A24)","v":""},null,null,null,{"$f":"Graphs!E25","v":0},{"$f":"Graphs!F25","v":0},{"$f":"Graphs!K25","v":0},{"$f":"Graphs!L25","v":0}]
[null,"ARUNDO DONAX","ARDO4","Giant reed",null,"ACNE9","ACHNATHERUM NELSONII","Columbia needlegrass (STCO3)",null,null,"American red raspberry","RUID",{"$f":"IF(Graphs!A25=\"\",\"\",Graphs!A25)","v":""},null,null,null,{"$f":"Graphs!E26","v":0},{"$f":"Graphs!F26","v":0},{"$f":"Graphs!K26","v":0},{"$f":"Graphs!L26","v":0}]
[null,"BECKMANNIA SYZIGACHNE","BESY","American sloughgrass",null,"ACRU2","ACTAEA RUBRA ","Baneberry",null,null,"American sloughgrass","BESY",{"$f":"IF(Graphs!A26=\"\",\"\",Graphs!A26)","v":""},null,null,null,{"$f":"Graphs!E27","v":0},{"$f":"Graphs!F27","v":0},{"$f":"Graphs!K27","v":0},{"$f":"Graphs!L27","v":0}]
[null,"BROMUS INERMIS","BRIN2","Smooth brome",null,"AGFO","AGASTACHE FOENICULUM ","Blue giant hyssop",null,null,"American speedwell","VEAM2",{"$f":"IF(Graphs!A27=\"\",\"\",Graphs!A27)","v":""},null,null,null,{"$f":"Graphs!E28","v":0},{"$f":"Graphs!F28","v":0},{"$f":"Graphs!K28","v":0},{"$f":"Graphs!L28","v":0}]
[null,"BROMUS MARGINATUS","BRMA4","Mountain brome",null,"AGGI2","AGROSTIS GIGANTEA","Redtop",null,null,"American vetch","VIAM",{"$f":"IF(Graphs!A28=\"\",\"\",Graphs!A28)","v":""},null,null,null,{"$f":"Graphs!E29","v":0},{"$f":"Graphs!F29","v":0},{"$f":"Graphs!K29","v":0},{"$f":"Graphs!L29","v":0}]
[null,"BROMUS TECTORUM","BRTE","Cheatgrass",null,"AGGR2","AGRIMONIA GRYPOSEPALA ","Tall hairy agrimony",null,null,"American water horehound","LYAM",{"$f":"IF(Graphs!A29=\"\",\"\",Graphs!A29)","v":""},null,null,null,{"$f":"Graphs!E30","v":0},{"$f":"Graphs!F30","v":0},{"$f":"Graphs!K30","v":0},{"$f":"Graphs!L30","v":0}]
[null,"CALAMAGROSTIS CANADENSIS","CACA4","Blue-joint reedgrass",null,"AGRE2","AGROPYRON REPENS","Quackgrass (ELRE2)",null,null,"Annual rabbitsfoot grass","POMO5",{"$f":"IF(Graphs!A30=\"\",\"\",Graphs!A30)","v":""},null,null,null,{"$f":"Graphs!E31","v":0},{"$f":"Graphs!F31","v":0},{"$f":"Graphs!K31","v":0},{"$f":"Graphs!L31","v":0}]
[null,"CALMAGROSTIS STRICTA","CAST36","Slimstem reedgrass",null,"AGSC5","AGROSTIS SCABRA","Rough Bentgrass",null,null,"Arctic willow","SAAR27",{"$f":"IF(Graphs!A31=\"\",\"\",Graphs!A31)","v":""},null,null,null,{"$f":"Graphs!E32","v":0},{"$f":"Graphs!F32","v":0},{"$f":"Graphs!K32","v":0},{"$f":"Graphs!L32","v":0}]
[null,"CAREX ALOPECOIDEA","CAAL8","Foxtail sedge",null,"AGSM","AGROPYRON SMITHII","Western Wheatgrass (PASM)",null,null,"Arizona alder","ALOB2",{"$f":"IF(Graphs!A32=\"\",\"\",Graphs!A32)","v":""},null,null,null,{"$f":"Graphs!E33","v":0},{"$f":"Graphs!F33","v":0},{"$f":"Graphs!K33","v":0},{"$f":"Graphs!L33","v":0}]
[null,"CAREX AMPLIFOLIA","CAAM10","Bigleaf sedge",null,"AGST","AGRIMONIA STRIATA ","Roadside agrimony",null,null,"Arizona Sycamore","PLWR2",{"$f":"IF(Graphs!A33=\"\",\"\",Graphs!A33)","v":""},null,null,null,{"$f":"Graphs!E34","v":0},{"$f":"Graphs!F34","v":0},{"$f":"Graphs!K34","v":0},{"$f":"Graphs!L34","v":0}]
[null,"CAREX AQUATILIS","CAAQ","Water sedge",null,"AGST2","AGROSTIS STOLONIFERA","Creeping bentgrass",null,null,"Arizona walnut","JUMA",{"$f":"IF(Graphs!A34=\"\",\"\",Graphs!A34)","v":""},null,null,null,{"$f":"Graphs!E35","v":0},{"$f":"Graphs!F35","v":0},{"$f":"Graphs!K35","v":0},{"$f":"Graphs!L35","v":0}]
[null,"CAREX ATHERODES","CAAT2","Wheat sedge",null,"AGUR","AGASTACHE URTICIFOLIA  ","Needleleaf giant hyssop",null,null,"Arizona willow","SAAR14",{"$f":"IF(Graphs!A35=\"\",\"\",Graphs!A35)","v":""},null,null,null,{"$f":"Graphs!E36","v":0},{"$f":"Graphs!F36","v":0},{"$f":"Graphs!K36","v":0},{"$f":"Graphs!L36","v":0}]
[null,"CAREX ATHROSTACHYA","CAAT3","Slenderbeak sedge",null,"ALAE","ALOPECURUS AEQUALIS","Short-awned foxtail",null,null,"Aromatic aster","SYOB",{"$f":"IF(Graphs!A36=\"\",\"\",Graphs!A36)","v":""},null,null,null,{"$f":"Graphs!E37","v":0},{"$f":"Graphs!F37","v":0},{"$f":"Graphs!K37","v":0},{"$f":"Graphs!L37","v":0}]
[null,"CAREX AUREA","CAAU3","Golden sedge",null,"ALAR","ALOPECURUS ARUNDINACEUS","Creeping meadow foxgrass",null,null,"Arrowleaf ragwort","SETR",{"$f":"IF(Graphs!A37=\"\",\"\",Graphs!A37)","v":""},null,null,null,{"$f":"Graphs!E38","v":0},{"$f":"Graphs!F38","v":0},{"$f":"Graphs!K38","v":0},{"$f":"Graphs!L38","v":0}]
[null,"CAREX CANESCENS","CACA11","Gray sedge",null,"ALGE2","ALOPECURUS GENICULATUS","Water Foxtail",null,null,"Arrowweed","PLSE",{"$f":"IF(Graphs!A38=\"\",\"\",Graphs!A38)","v":""},null,null,null,{"$f":"Graphs!E39","v":0},{"$f":"Graphs!F39","v":0},{"$f":"Graphs!K39","v":0},{"$f":"Graphs!L39","v":0}]
[null,"CAREX CAPILLARIS","CACA12","Hairlike sedge",null,"ALIN2","ALNUS INCANA","Mountain Alder",null,null,"Arroyo willow","SALA6",{"$f":"IF(Graphs!A39=\"\",\"\",Graphs!A39)","v":""},null,null,null,{"$f":"Graphs!E40","v":0},{"$f":"Graphs!F40","v":0},{"$f":"Graphs!K40","v":0},{"$f":"Graphs!L40","v":0}]
[null,"CAREX DEWEYANA","CADE9","Dewey sedge",null,"ALOB2","ALNUS OBLONGIFOLIA ","Arizona alder",null,null,"Artic rush (JUBA)","JUAR2",{"$f":"IF(Graphs!A40=\"\",\"\",Graphs!A40)","v":""},null,null,null,{"$f":"Graphs!E41","v":0},{"$f":"Graphs!F41","v":0},{"$f":"Graphs!K41","v":0},{"$f":"Graphs!L41","v":0}]
[null,"CAREX DISPERMA","CADI6","Softleaf sedge",null,"ALOC2","ALLENROLFEA OCCICENTALIS","Iodine Bush",null,null,"Arumleaf arrowhead","SACU",{"$f":"IF(Graphs!A41=\"\",\"\",Graphs!A41)","v":""},null,null,null,{"$f":"Graphs!E42","v":0},{"$f":"Graphs!F42","v":0},{"$f":"Graphs!K42","v":0},{"$f":"Graphs!L42","v":0}]
[null,"CAREX DOUGLASII","CADO2","Douglas' sedge",null,"ALOPE","ALOPECURUS SPP.","Foxtail",null,null,"Aster","ASTER",{"$f":"IF(Graphs!A42=\"\",\"\",Graphs!A42)","v":""},null,null,null,{"$f":"Graphs!E43","v":0},{"$f":"Graphs!F43","v":0},{"$f":"Graphs!K43","v":0},{"$f":"Graphs!L43","v":0}]
[null,"CAREX GRAVIDA","CAGR4","Heavy Sedge",null,"ALPR3","ALOPECURUS PRETENSIS","Meadow Foxtail",null,null,"Aster Spp.","EURYB",{"$f":"IF(Graphs!A43=\"\",\"\",Graphs!A43)","v":""},null,null,null,{"$f":"Graphs!E44","v":0},{"$f":"Graphs!F44","v":0},{"$f":"Graphs!K44","v":0},{"$f":"Graphs!L44","v":0}]
[null,"CAREX HAYDENII","CAHA7","Hayden's sedge",null,"ALRH2","ALNUS RHOBIFOLIA ","White alder",null,null,"Aster Spp. (ASTER)","SYMPH4",{"$f":"IF(Graphs!A44=\"\",\"\",Graphs!A44)","v":""},null,null,null,{"$f":"Graphs!E45","v":0},{"$f":"Graphs!F45","v":0},{"$f":"Graphs!K45","v":0},{"$f":"Graphs!L45","v":0}]
[null,"CAREX HETERONEURA","CAHE8","Different-nerved sedge",null,"ALRU2","ALNUS RUBRA ","Red alder",null,null,"Autumn willow","SASE2",{"$f":"IF(Graphs!A45=\"\",\"\",Graphs!A45)","v":""},null,null,null,{"$f":"Graphs!E46","v":0},{"$f":"Graphs!F46","v":0},{"$f":"Graphs!K46","v":0},{"$f":"Graphs!L46","v":0}]
[null,"CAREX HYSTERICINA","CAHY4","Bottlebrush sedge",null,"ALSI3","ALNUS SINUATA","Sitka alder (ALVI5)",null,null,"Avens species","GEUM",{"$f":"IF(Graphs!A46=\"\",\"\",Graphs!A46)","v":""},null,null,null,{"$f":"Graphs!E47","v":0},{"$f":"Graphs!F47","v":0},{"$f":"Graphs!K47","v":0},{"$f":"Graphs!L47","v":0}]
[null,"CAREX INTERIOR","CAIN11","Inland sedge",null,"ALVI5","ALNUS VIRIDIS","Green alder (ALSI3)",null,null,"Awlfruit sedge","CAST5",{"$f":"IF(Graphs!A47=\"\",\"\",Graphs!A47)","v":""},null,null,null,{"$f":"Graphs!E48","v":0},{"$f":"Graphs!F48","v":0},{"$f":"Graphs!K48","v":0},{"$f":"Graphs!L48","v":0}]
[null,"CAREX LASIOCARPA","CALA11","Wooly-fruit sedge",null,"AMAL2","AMELANCHIER ALNIFOLIA","Serviceberry",null,null,"Bald spikerush","ELER",{"$f":"IF(Graphs!A48=\"\",\"\",Graphs!A48)","v":""},null,null,null,{"$f":"Graphs!E49","v":0},{"$f":"Graphs!F49","v":0},{"$f":"Graphs!K49","v":0},{"$f":"Graphs!L49","v":0}]
[null,"CAREX LANUGINOSA","CALA30","Wooly sedge (CAPE42)",null,"AMAR2","AMBROSIA ARTEMISIIFOLIA ","Common ragweed",null,null,"Baltic rush (JUAR2)","JUBA",{"$f":"IF(Graphs!A49=\"\",\"\",Graphs!A49)","v":""},null,null,null,{"$f":"Graphs!E50","v":0},{"$f":"Graphs!F50","v":0},{"$f":"Graphs!K50","v":0},{"$f":"Graphs!L50","v":0}]
[null,"CAREX LENTICULARIS","CALE8","Tufted sedge",null,"AMFR","AMORPHA FRUTICOSA","False Indigo",null,null,"Baneberry","ACRU2",{"$f":"IF(Graphs!A50=\"\",\"\",Graphs!A50)","v":""},null,null,null,{"$f":"Graphs!E51","v":0},{"$f":"Graphs!F51","v":0},{"$f":"Graphs!K51","v":0},{"$f":"Graphs!L51","v":0}]
[null,"CAREX LEPTALEA","CALE10","Bristlystalked sedge",null,"AMNA","AMORPHA NANA","Dwarf wild indigo",null,null,"Barclay's willow","SABA3",{"$f":"IF(Graphs!A51=\"\",\"\",Graphs!A51)","v":""},null,null,null,{"$f":"Graphs!E52","v":0},{"$f":"Graphs!F52","v":0},{"$f":"Graphs!K52","v":0},{"$f":"Graphs!L52","v":0}]
[null,"CAREX LIMOSA","CALI7","Mud sedge",null,"AMPS","AMBROSIA PSILSTACHYA ","Cuman ragweed",null,null,"Barren-ground willow","SABR",{"$f":"IF(Graphs!A52=\"\",\"\",Graphs!A52)","v":""},null,null,null,{"$f":"Graphs!E53","v":0},{"$f":"Graphs!F53","v":0},{"$f":"Graphs!K53","v":0},{"$f":"Graphs!L53","v":0}]
[null,"CAREX MICROPTERA","CAMI7","Small-winged sedge",null,"AMTR","AMBROSIA TRIFIDA ","Great ragweed",null,null,"Basin big sagebrush","ARTR2",{"$f":"IF(Graphs!A53=\"\",\"\",Graphs!A53)","v":""},null,null,null,{"$f":"Graphs!E54","v":0},{"$f":"Graphs!F54","v":0},{"$f":"Graphs!K54","v":0},{"$f":"Graphs!L54","v":0}]
[null,"CAREX NEBRASCENSIS","CANE2","Nebraska sedge",null,"ANCA10","ANEMOPSIS CALIFORNICA ","Yerba mansa",null,null,"Basin Wildrye (ELCI2)","LECI4",{"$f":"IF(Graphs!A54=\"\",\"\",Graphs!A54)","v":""},null,null,null,{"$f":"Graphs!E55","v":0},{"$f":"Graphs!F55","v":0},{"$f":"Graphs!K55","v":0},{"$f":"Graphs!L55","v":0}]
[null,"CAREX PELLITA","CAPE42","Wooly sedge (CALA11)",null,"ANGE","ANDROPOGON GERARDII","Big bluestem",null,null,"Basin Wildrye (LECI4)","ELCI2",{"$f":"IF(Graphs!A55=\"\",\"\",Graphs!A55)","v":""},null,null,null,{"$f":"Graphs!E56","v":0},{"$f":"Graphs!F56","v":0},{"$f":"Graphs!K56","v":0},{"$f":"Graphs!L56","v":0}]
[null,"CAREX PRAEGRACILIS","CAPR5","Cluster field sedge",null,"ANKI","ANGELICA KINGII ","King's angelica",null,null,"Beaked hazelnut","COCO6",{"$f":"IF(Graphs!A56=\"\",\"\",Graphs!A56)","v":""},null,null,null,{"$f":"Graphs!E57","v":0},{"$f":"Graphs!F57","v":0},{"$f":"Graphs!K57","v":0},{"$f":"Graphs!L57","v":0}]
[null,"CAREX PRAIREA","CAPR6","Prairie sedge",null,"ANRO2","ANTENNARIA ROSEA ","Rosy pussytoes",null,null,"Beaked sedge","CARO6",{"$f":"IF(Graphs!A57=\"\",\"\",Graphs!A57)","v":""},null,null,null,{"$f":"Graphs!E58","v":0},{"$f":"Graphs!F58","v":0},{"$f":"Graphs!K58","v":0},{"$f":"Graphs!L58","v":0}]
[null,"CAREX ROSTRATA","CARO6","Beaked sedge",null,"APCA","APOCYNUM CANNABINUM ","Indianhemp",null,null,"Beaked spikerush","ELRO2",{"$f":"IF(Graphs!A58=\"\",\"\",Graphs!A58)","v":""},null,null,null,{"$f":"Graphs!E59","v":0},{"$f":"Graphs!F59","v":0},{"$f":"Graphs!K59","v":0},{"$f":"Graphs!L59","v":0}]
[null,"CAREX SARTWELLII","CASA8","Sartwell's sedge",null,"AQFO","AQUILEGIA FORMOSA ","Western columbine",null,null,"Bearberry","ARUV",{"$f":"IF(Graphs!A59=\"\",\"\",Graphs!A59)","v":""},null,null,null,{"$f":"Graphs!E60","v":0},{"$f":"Graphs!F60","v":0},{"$f":"Graphs!K60","v":0},{"$f":"Graphs!L60","v":0}]
[null,"CAREX SAXATILIS","CASA10","Rocky Mountain sedge",null,"ARAN7","ARGENTINA ANSERINA ","Silverweed cinquefoil (POAN5)",null,null,"Beardless Rabbitsfoot grass","POVI9",{"$f":"IF(Graphs!A60=\"\",\"\",Graphs!A60)","v":""},null,null,null,{"$f":"Graphs!E61","v":0},{"$f":"Graphs!F61","v":0},{"$f":"Graphs!K61","v":0},{"$f":"Graphs!L61","v":0}]
[null,"CAREX SAXIMONTANA","CASA9","Rocky Mountain sedge",null,"ARCA13","ARTEMISIA CANA","Silver sagebrush",null,null,"Beardless wildrye (ELTR3)","LETR5",{"$f":"IF(Graphs!A61=\"\",\"\",Graphs!A61)","v":""},null,null,null,{"$f":"Graphs!E62","v":0},{"$f":"Graphs!F62","v":0},{"$f":"Graphs!K62","v":0},{"$f":"Graphs!L62","v":0}]
[null,"CAREX SCOPULORUM","CASC12","Mountain sedge",null,"ARCH3","ARNICA CHAMISSONIS ","Chamisso arnica",null,null,"Beardless wildrye (LETR5)","ELTR3",{"$f":"IF(Graphs!A62=\"\",\"\",Graphs!A62)","v":""},null,null,null,{"$f":"Graphs!E63","v":0},{"$f":"Graphs!F63","v":0},{"$f":"Graphs!K63","v":0},{"$f":"Graphs!L63","v":0}]
[null,"CAREX SHELDONII","CASH","Sheldon's sedge",null,"ARCO9","ARNICA CORDIFOLIA ","Heartleaf arnica",null,null,"Bebb willow","SABE2",{"$f":"IF(Graphs!A63=\"\",\"\",Graphs!A63)","v":""},null,null,null,{"$f":"Graphs!E64","v":0},{"$f":"Graphs!F64","v":0},{"$f":"Graphs!K64","v":0},{"$f":"Graphs!L64","v":0}]
[null,"CAREX SIMULATA","CASI2","Short-beaked sedge",null,"ARCTI","ARCTIUM SPP ","Burdock species",null,null,"Bedstraw","GALIU",{"$f":"IF(Graphs!A64=\"\",\"\",Graphs!A64)","v":""},null,null,null,{"$f":"Graphs!E65","v":""},{"$f":"Graphs!F65","v":""},{"$f":"Graphs!K65","v":""},{"$f":"Graphs!L65","v":""}]
[null,"CAREX SPP","CAREX","Sedge",null,"ARDO4","ARUNDO DONAX","Giant reed",null,null,"Big bluestem","ANGE",{"$f":"IF(Graphs!A65=\"\",\"\",Graphs!A65)","v":""},null,null,null,{"$f":"Graphs!E66","v":""},{"$f":"Graphs!F66","v":""},{"$f":"Graphs!K66","v":""},{"$f":"Graphs!L66","v":""}]
[null,"CAREX SPP RHIZOMATOUS","CAREXRH","Rhizomatous sedge",null,"ARLU","ARTEMISIA LUDOVICIANA ","White sagebrush",null,null,"Big leaf maple","ACMA3",{"$f":"IF(Graphs!A66=\"\",\"\",Graphs!A66)","v":""},null,null,null,{"$f":"Graphs!E67","v":""},{"$f":"Graphs!F67","v":""},{"$f":"Graphs!K67","v":""},{"$f":"Graphs!L67","v":""}]
[null,"CAREX SPP TUFTED","CAREXTU","Tufted (clumped) sedge",null,"ARMI2","ARCTIUM MINUS ","Common burdock",null,null,"Big sacaton","SPWR2",{"$f":"IF(Graphs!A67=\"\",\"\",Graphs!A67)","v":""},null,null,null,{"$f":"Graphs!E68","v":""},{"$f":"Graphs!F68","v":""},{"$f":"Graphs!K68","v":""},{"$f":"Graphs!L68","v":""}]
[null,"CAREX STIPATA","CAST5","Awlfruit sedge",null,"ARTR2","ARTEMISIA TRIDENTATA","Basin big sagebrush",null,null,"Big saltbrush","ATLE",{"$f":"IF(Graphs!A68=\"\",\"\",Graphs!A68)","v":""},null,null,null,{"$f":"Graphs!E69","v":""},{"$f":"Graphs!F69","v":""},{"$f":"Graphs!K69","v":""},{"$f":"Graphs!L69","v":""}]
[null,"CAREX TENERA","CATE3","Quill sedge",null,"ARUV","ARCTOSTAPHYLOS UVA-URSI","Bearberry",null,null,"Big tooth maple","ACGR3",{"$f":"IF(Graphs!A69=\"\",\"\",Graphs!A69)","v":""},null,null,null,{"$f":"Graphs!E70","v":""},{"$f":"Graphs!F70","v":""},{"$f":"Graphs!K70","v":""},{"$f":"Graphs!L70","v":""}]
[null,"CAREX UTRICULATA","CAUT","Northwest territory sedge (Beaked sedge)",null,"ASCH2","ASTER CHILENSIS ","Western Aster (SYCH4)",null,null,"Bigleaf sedge","CAAM10",{"$f":"IF(Graphs!A70=\"\",\"\",Graphs!A70)","v":""},null,null,null,{"$f":"Graphs!E71","v":""},{"$f":"Graphs!F71","v":""},{"$f":"Graphs!K71","v":""},{"$f":"Graphs!L71","v":""}]
[null,"CAREX VESICARIA","CAVE6","Blister sedge",null,"ASFO","ASTER FOLIACEUS","Leafy aster (SYFO2)",null,null,"Bitter cherry","PREM",{"$f":"IF(Graphs!A71=\"\",\"\",Graphs!A71)","v":""},null,null,null,{"$f":"Graphs!E72","v":""},{"$f":"Graphs!F72","v":""},{"$f":"Graphs!K72","v":""},{"$f":"Graphs!L72","v":""}]
[null,"CAREX VULPINOIDEA","CAVU2","Fox sedge",null,"ASHE","ASTER HESPERIUS ","Marsh aster (SYLA6)",null,null,"Black cottonwood (POBA2)","POTR15",{"$f":"IF(Graphs!A72=\"\",\"\",Graphs!A72)","v":""},null,null,null,{"$f":"Graphs!E73","v":""},{"$f":"Graphs!F73","v":""},{"$f":"Graphs!K73","v":""},{"$f":"Graphs!L73","v":""}]
[null,"CATABROSA AQUATICA","CAAQ3","Water whorlgrass",null,"ASIN3","ASTER INTEGRIFOLIUS ","Thickstem Aster (EUIN9)",null,null,"Black cottonwood (POTR15)","POBA2",{"$f":"IF(Graphs!A73=\"\",\"\",Graphs!A73)","v":""},null,null,null,{"$f":"Graphs!E74","v":""},{"$f":"Graphs!F74","v":""},{"$f":"Graphs!K74","v":""},{"$f":"Graphs!L74","v":""}]
[null,"CYPERUS ACUMINATUS","CYAC2","Tapered leaf flatsedge",null,"ASOC","ASTER OCCIDENTALIS ","Western mountain aster (SYST)",null,null,"Black Elderberry","SANI4",{"$f":"IF(Graphs!A74=\"\",\"\",Graphs!A74)","v":""},null,null,null,{"$f":"Graphs!E75","v":""},{"$f":"Graphs!F75","v":""},{"$f":"Graphs!K75","v":""},{"$f":"Graphs!L75","v":""}]
[null,"DACTYLIS GLOMERATA","DAGL","Orchardgrass",null,"ASTE5","ASTRAGALUS TENELLUS ","Pulse milkvetch",null,null,"Black hawthorn","CRDO2",{"$f":"IF(Graphs!A75=\"\",\"\",Graphs!A75)","v":""},null,null,null,{"$f":"Graphs!E76","v":""},{"$f":"Graphs!F76","v":""},{"$f":"Graphs!K76","v":""},{"$f":"Graphs!L76","v":""}]
[null,"DANTHONIA CALIFORNICA","DACA3","California oatgrass",null,"ASTER","ASTER SPP. ","Aster",null,null,"Black medick","MELU",{"$f":"IF(Graphs!A76=\"\",\"\",Graphs!A76)","v":""},null,null,null,{"$f":"Graphs!E77","v":""},{"$f":"Graphs!F77","v":""},{"$f":"Graphs!K77","v":""},{"$f":"Graphs!L77","v":""}]
[null,"DANTHONIA INTERMEDIA","DAIN","Timber oatgrass",null,"ATCA2","ATRIPLEX CONESCENS","Fourwing saltbrush",null,null,"Black Twinberry","LOIN5",{"$f":"IF(Graphs!A77=\"\",\"\",Graphs!A77)","v":""},null,null,null,{"$f":"Graphs!E78","v":""},{"$f":"Graphs!F78","v":""},{"$f":"Graphs!K78","v":""},{"$f":"Graphs!L78","v":""}]
[null,"DESCHAMPSIA CESPITOSA","DECE","Tufted hairgrass",null,"ATLE","ATRIPLEX LENTIFORMIS","Big saltbrush",null,null,"Blackberry species","RUBUS",{"$f":"IF(Graphs!A78=\"\",\"\",Graphs!A78)","v":""},null,null,null,{"$f":"Graphs!E79","v":""},{"$f":"Graphs!F79","v":""},{"$f":"Graphs!K79","v":""},{"$f":"Graphs!L79","v":""}]
[null,"DISTICHLIS SPICATA","DISP","Inland saltgrass",null,"BAEM","BACCHARIS EMORYI","Emory's baccharis",null,null,"Blackeyed susan","RUHI2",{"$f":"IF(Graphs!A79=\"\",\"\",Graphs!A79)","v":""},null,null,null,{"$f":"Graphs!E80","v":""},{"$f":"Graphs!F80","v":""},{"$f":"Graphs!K80","v":""},{"$f":"Graphs!L80","v":""}]
[null,"ECHINOCHLOA MURICATA","ECMU2","Rough barnyardgrass",null,"BASA4","BACCHARIS SALICIFOLIA","Willow Baccharis",null,null,"Blackgirdle bulrush","SCAT4",{"$f":"IF(Graphs!A80=\"\",\"\",Graphs!A80)","v":""},null,null,null,{"$f":"Graphs!E81","v":""},{"$f":"Graphs!F81","v":""},{"$f":"Graphs!K81","v":""},{"$f":"Graphs!L81","v":""}]
[null,"ELEOCHARIS ACICULARIS","ELAC","Needle spikerush",null,"BASC5","BASIA SCOPARIA ","Burning bush (KOSC)",null,null,"Blister sedge","CAVE6",{"$f":"IF(Graphs!A81=\"\",\"\",Graphs!A81)","v":""},null,null,null,{"$f":"Graphs!E82","v":""},{"$f":"Graphs!F82","v":""},{"$f":"Graphs!K82","v":""},{"$f":"Graphs!L82","v":""}]
[null,"ELEOCHARIS ERYTHROPODA","ELER","Bald spikerush",null,"BEER","BERULA ERECTA ","Cut-leaf water parsnip",null,null,"Blue giant hyssop","AGFO",{"$f":"IF(Graphs!A82=\"\",\"\",Graphs!A82)","v":""},null,null,null,{"$f":"Graphs!E83","v":""},{"$f":"Graphs!F83","v":""},{"$f":"Graphs!K83","v":""},{"$f":"Graphs!L83","v":""}]
[null,"ELEOCHARIS PALUSTRIS","ELPA3","Common spikerush",null,"BEGL","BETULA GLANDULOSA","Resin birch",null,null,"Blue spruce","PIPU",{"$f":"IF(Graphs!A83=\"\",\"\",Graphs!A83)","v":""},null,null,null,{"$f":"Graphs!E84","v":""},{"$f":"Graphs!F84","v":""},{"$f":"Graphs!K84","v":""},{"$f":"Graphs!L84","v":""}]
[null,"ELEOCHARIS PARVULA","ELPA5","Dwarf spikerush",null,"BEOC2","BETULA OCCIDENTALIS","Water birch",null,null,"Blueberry","VACA",{"$f":"IF(Graphs!A84=\"\",\"\",Graphs!A84)","v":""},null,null,null,{"$f":"Graphs!E85","v":""},{"$f":"Graphs!F85","v":""},{"$f":"Graphs!K85","v":""},{"$f":"Graphs!L85","v":""}]
[null,"ELEOCHARIS PAUCIFLORA","ELPA6","Fewflowered spikerush (ELQU2)",null,"BEPA","BETULA PAPYRIFERA ","Paper birch",null,null,"Bluegrass species","POA",{"$f":"IF(Graphs!A85=\"\",\"\",Graphs!A85)","v":""},null,null,null,{"$f":"Graphs!E86","v":""},{"$f":"Graphs!F86","v":""},{"$f":"Graphs!K86","v":""},{"$f":"Graphs!L86","v":""}]
[null,"ELEOCHARIS QUINQUEFLORA","ELQU2","Fewflowered spikerush (ELPA6)",null,"BEPU4","BETULA PUMULA","Bog Birch",null,null,"Blue-joint reedgrass","CACA4",{"$f":"IF(Graphs!A86=\"\",\"\",Graphs!A86)","v":""},null,null,null,{"$f":"Graphs!E87","v":""},{"$f":"Graphs!F87","v":""},{"$f":"Graphs!K87","v":""},{"$f":"Graphs!L87","v":""}]
[null,"ELEOCHARIS ROSTELLATA","ELRO2","Beaked spikerush",null,"BESY","BECKMANNIA SYZIGACHNE","American sloughgrass",null,null,"Bog Birch","BEPU4",{"$f":"IF(Graphs!A87=\"\",\"\",Graphs!A87)","v":""},null,null,null,{"$f":"Graphs!E88","v":""},{"$f":"Graphs!F88","v":""},{"$f":"Graphs!K88","v":""},{"$f":"Graphs!L88","v":""}]
[null,"ELEOCHARIS SPECIES","ELEOC","Spikerush",null,"BRIN2","BROMUS INERMIS","Smooth brome",null,null,"Bog blueberry","VAUL",{"$f":"IF(Graphs!A88=\"\",\"\",Graphs!A88)","v":""},null,null,null,{"$f":"Graphs!E89","v":""},{"$f":"Graphs!F89","v":""},{"$f":"Graphs!K89","v":""},{"$f":"Graphs!L89","v":""}]
[null,"ELYHORDEUM MACOUNII","ELMA8","Macoun’s barley",null,"BRMA4","BROMUS MARGINATUS","Mountain brome",null,null,"Bog Laurel","KAMI",{"$f":"IF(Graphs!A89=\"\",\"\",Graphs!A89)","v":""},null,null,null,{"$f":"Graphs!E90","v":""},{"$f":"Graphs!F90","v":""},{"$f":"Graphs!K90","v":""},{"$f":"Graphs!L90","v":""}]
[null,"ELYMUS CANADENSIS","ELCA4","Canada wildrye",null,"BRTE","BROMUS TECTORUM","Cheatgrass",null,null,"Bonpland willow","SABO",{"$f":"IF(Graphs!A90=\"\",\"\",Graphs!A90)","v":""},null,null,null,{"$f":"Graphs!E91","v":""},{"$f":"Graphs!F91","v":""},{"$f":"Graphs!K91","v":""},{"$f":"Graphs!L91","v":""}]
[null,"ELYMUS CINEREUS","ELCI2","Basin Wildrye (LECI4)",null,"CAAL8","CAREX ALOPECOIDEA","Foxtail sedge",null,null,"Booth's willow","SABO2",{"$f":"IF(Graphs!A91=\"\",\"\",Graphs!A91)","v":""},null,null,null,{"$f":"Graphs!E92","v":""},{"$f":"Graphs!F92","v":""},{"$f":"Graphs!K92","v":""},{"$f":"Graphs!L92","v":""}]
[null,"ELYMUS REPENS","ELRE4","Quackgrass (AGRE2)",null,"CAAM10","CAREX AMPLIFOLIA","Bigleaf sedge",null,null,"Bottlebrush sedge","CAHY4",{"$f":"IF(Graphs!A92=\"\",\"\",Graphs!A92)","v":""},null,null,null,{"$f":"Graphs!E93","v":""},{"$f":"Graphs!F93","v":""},{"$f":"Graphs!K93","v":""},{"$f":"Graphs!L93","v":""}]
[null,"ELYMUS TRACHYCAULUS","ELTR7","Slender wheatgrass",null,"CAAQ","CAREX AQUATILIS","Water sedge",null,null,"Boxelder","ACNE2",{"$f":"IF(Graphs!A93=\"\",\"\",Graphs!A93)","v":""},null,null,null,{"$f":"Graphs!E94","v":""},{"$f":"Graphs!F94","v":""},{"$f":"Graphs!K94","v":""},{"$f":"Graphs!L94","v":""}]
[null,"ELYMUS TRITICOIDES","ELTR3","Beardless wildrye (LETR5)",null,"CAAQ3","CATABROSA AQUATICA","Water whorlgrass",null,null,"Bristlystalked sedge","CALE10",{"$f":"IF(Graphs!A94=\"\",\"\",Graphs!A94)","v":""},null,null,null,{"$f":"Graphs!E95","v":""},{"$f":"Graphs!F95","v":""},{"$f":"Graphs!K95","v":""},{"$f":"Graphs!L95","v":""}]
[null,"FESTUCA RUBRA","FERU2","Red Fescue",null,"CAAT2","CAREX ATHERODES","Wheat sedge",null,null,"Broadleaf Cattail","TYLA",{"$f":"IF(Graphs!A95=\"\",\"\",Graphs!A95)","v":""},null,null,null,{"$f":"Graphs!E96","v":""},{"$f":"Graphs!F96","v":""},{"$f":"Graphs!K96","v":""},{"$f":"Graphs!L96","v":""}]
[null,"GLYCERIA BOREALIS","GLBO","Small floating mannagrass",null,"CAAT3","CAREX ATHROSTACHYA","Slenderbeak sedge",null,null,"Brook saxifrage","SAOD2",{"$f":"IF(Graphs!A96=\"\",\"\",Graphs!A96)","v":""},null,null,null,{"$f":"Graphs!E97","v":""},{"$f":"Graphs!F97","v":""},{"$f":"Graphs!K97","v":""},{"$f":"Graphs!L97","v":""}]
[null,"GLYCERIA GRANDIS","GLGR","American mannagrass",null,"CAAU3","CAREX AUREA","Golden sedge",null,null,"Buckbean","METR3",{"$f":"IF(Graphs!A97=\"\",\"\",Graphs!A97)","v":""},null,null,null,{"$f":"Graphs!E98","v":""},{"$f":"Graphs!F98","v":""},{"$f":"Graphs!K98","v":""},{"$f":"Graphs!L98","v":""}]
[null,"GLYCERIA SPECIES","GLYCE","Mannagrass",null,"CACA11","CAREX CANESCENS","Gray sedge",null,null,"Buffalo currant (RIAU)","RIOD",{"$f":"IF(Graphs!A98=\"\",\"\",Graphs!A98)","v":""},null,null,null,{"$f":"Graphs!E99","v":""},{"$f":"Graphs!F99","v":""},{"$f":"Graphs!K99","v":""},{"$f":"Graphs!L99","v":""}]
[null,"GLYCERIA STRIATA","GLST","Fowl mannagrass",null,"CACA12","CAREX CAPILLARIS","Hairlike sedge",null,null,"Bulrush species","SCHOE6",{"$f":"IF(Graphs!A99=\"\",\"\",Graphs!A99)","v":""},null,null,null,{"$f":"Graphs!E100","v":""},{"$f":"Graphs!F100","v":""},{"$f":"Graphs!K100","v":""},{"$f":"Graphs!L100","v":""}]
[null,"HORDEUM BRACHYANTHERUM","HOBR2","Meadow barley",null,"CACA4","CALAMAGROSTIS CANADENSIS","Blue-joint reedgrass",null,null,"Bunchberry dogwood","COCA13",{"$f":"IF(Graphs!A100=\"\",\"\",Graphs!A100)","v":""},null,null,null,{"$f":"Graphs!E101","v":""},{"$f":"Graphs!F101","v":""},{"$f":"Graphs!K101","v":""},{"$f":"Graphs!L101","v":""}]
[null,"HORDEUM JUBATUM","HOJU","Foxtail barley",null,"CACU2","CAMASSIA CUSICKII ","Cusick's camas",null,null,"Bur oak","QUMA2",{"$f":"IF(Graphs!A101=\"\",\"\",Graphs!A101)","v":""},null,null,null,{"$f":"Graphs!E102","v":""},{"$f":"Graphs!F102","v":""},{"$f":"Graphs!K102","v":""},{"$f":"Graphs!L102","v":""}]
[null,"JUNCUS ARCTICUS","JUAR2","Artic rush (JUBA)",null,"CADE9","CAREX DEWEYANA","Dewey sedge",null,null,"Burdock species","ARCTI",{"$f":"IF(Graphs!A102=\"\",\"\",Graphs!A102)","v":""},null,null,null,{"$f":"Graphs!E103","v":""},{"$f":"Graphs!F103","v":""},{"$f":"Graphs!K103","v":""},{"$f":"Graphs!L103","v":""}]
[null,"JUNCUS BALTICUS","JUBA","Baltic rush (JUAR2)",null,"CADI6","CAREX DISPERMA","Softleaf sedge",null,null,"Burning bush (KOSC)","BASC5",{"$f":"IF(Graphs!A103=\"\",\"\",Graphs!A103)","v":""},null,null,null,{"$f":"Graphs!E104","v":""},{"$f":"Graphs!F104","v":""},{"$f":"Graphs!K104","v":""},{"$f":"Graphs!L104","v":""}]
[null,"JUNCUS BUFONIUS","JUBU","Toad Rush",null,"CADO2","CAREX DOUGLASII","Douglas' sedge",null,null,"Buttercup","RANUN",{"$f":"IF(Graphs!A104=\"\",\"\",Graphs!A104)","v":""},null,null,null,{"$f":"Graphs!E105","v":""},{"$f":"Graphs!F105","v":""},{"$f":"Graphs!K105","v":""},{"$f":"Graphs!L105","v":""}]
[null,"JUNCUS DUDLEYI","JUDU2","Dudley rush",null,"CAGR4","CAREX GRAVIDA","Heavy Sedge",null,null,"California false hellebore","VECA2",{"$f":"IF(Graphs!A105=\"\",\"\",Graphs!A105)","v":""},null,null,null,{"$f":"Graphs!E106","v":""},{"$f":"Graphs!F106","v":""},{"$f":"Graphs!K106","v":""},{"$f":"Graphs!L106","v":""}]
[null,"JUNCUS EFFUSUS","JUEF","Common rush",null,"CAHA7","CAREX HAYDENII","Hayden's sedge",null,null,"California loosestrife","LYCA4",{"$f":"IF(Graphs!A106=\"\",\"\",Graphs!A106)","v":""},null,null,null,{"$f":"Graphs!E107","v":""},{"$f":"Graphs!F107","v":""},{"$f":"Graphs!K107","v":""},{"$f":"Graphs!L107","v":""}]
[null,"JUNCUS ENSIFOLIUS","JUEN","Swordleaf rush",null,"CAHE8","CAREX HETERONEURA","Different-nerved sedge",null,null,"California oatgrass","DACA3",{"$f":"IF(Graphs!A107=\"\",\"\",Graphs!A107)","v":""},null,null,null,{"$f":"Graphs!E108","v":""},{"$f":"Graphs!F108","v":""},{"$f":"Graphs!K108","v":""},{"$f":"Graphs!L108","v":""}]
[null,"JUNCUS INTERIOR","JUIN2","Inland rush",null,"CAHY4","CAREX HYSTERICINA","Bottlebrush sedge",null,null,"Canada bluegrass","POCO",{"$f":"IF(Graphs!A108=\"\",\"\",Graphs!A108)","v":""},null,null,null,{"$f":"Graphs!E109","v":""},{"$f":"Graphs!F109","v":""},{"$f":"Graphs!K109","v":""},{"$f":"Graphs!L109","v":""}]
[null,"JUNCUS LONGISTYLIS","JULO","Longstyle rush",null,"CAIN11","CAREX INTERIOR","Inland sedge",null,null,"Canada goldenrod","SOCA6",{"$f":"IF(Graphs!A109=\"\",\"\",Graphs!A109)","v":""},null,null,null,{"$f":"Graphs!E110","v":""},{"$f":"Graphs!F110","v":""},{"$f":"Graphs!K110","v":""},{"$f":"Graphs!L110","v":""}]
[null,"JUNCUS MEXICANUS","JUME4","Mexican rush",null,"CALA11","CAREX LASIOCARPA","Wooly-fruit sedge",null,null,"Canada thistle","CIAR4",{"$f":"IF(Graphs!A110=\"\",\"\",Graphs!A110)","v":""},null,null,null,{"$f":"Graphs!E111","v":""},{"$f":"Graphs!F111","v":""},{"$f":"Graphs!K111","v":""},{"$f":"Graphs!L111","v":""}]
[null,"JUNCUS NEVADENSIS","JUNE","Sierra rush",null,"CALA30","CAREX LANUGINOSA","Wooly sedge (CAPE42)",null,null,"Canada violet","VICA4",{"$f":"IF(Graphs!A111=\"\",\"\",Graphs!A111)","v":""},null,null,null,{"$f":"Graphs!E112","v":""},{"$f":"Graphs!F112","v":""},{"$f":"Graphs!K112","v":""},{"$f":"Graphs!L112","v":""}]
[null,"JUNCUS NODOSUS","JUNO2","Knotted rush",null,"CALE10","CAREX LEPTALEA","Bristlystalked sedge",null,null,"Canada wildrye","ELCA4",{"$f":"IF(Graphs!A112=\"\",\"\",Graphs!A112)","v":""},null,null,null,{"$f":"Graphs!E113","v":""},{"$f":"Graphs!F113","v":""},{"$f":"Graphs!K113","v":""},{"$f":"Graphs!L113","v":""}]
[null,"JUNCUS ORTHOPHYLLUS","JUOR","Straightleaf rush",null,"CALE4","CALTHA LEPTOSEPALA ","White marsh marigold",null,null,"Canadian burnet","SACA14",{"$f":"IF(Graphs!A113=\"\",\"\",Graphs!A113)","v":""},null,null,null,{"$f":"Graphs!E114","v":""},{"$f":"Graphs!F114","v":""},{"$f":"Graphs!K114","v":""},{"$f":"Graphs!L114","v":""}]
[null,"JUNCUS SPECIES","JUNCU","Rush species",null,"CALE8","CAREX LENTICULARIS","Tufted sedge",null,null,"Cardinal flower","LOCA2",{"$f":"IF(Graphs!A114=\"\",\"\",Graphs!A114)","v":""},null,null,null,{"$f":"Graphs!E115","v":""},{"$f":"Graphs!F115","v":""},{"$f":"Graphs!K115","v":""},{"$f":"Graphs!L115","v":""}]
[null,"JUNCUS TENUIS","JUTE","Poverty rush",null,"CALI7","CAREX LIMOSA","Mud sedge",null,null,"Catclaw acacia","ACGR",{"$f":"IF(Graphs!A115=\"\",\"\",Graphs!A115)","v":""},null,null,null,{"$f":"Graphs!E116","v":""},{"$f":"Graphs!F116","v":""},{"$f":"Graphs!K116","v":""},{"$f":"Graphs!L116","v":""}]
[null,"JUNCUS TORREYI","JUTO","Torrey rush",null,"CAMI7","CAREX MICROPTERA","Small-winged sedge",null,null,"Cattail species","TYPHA",{"$f":"IF(Graphs!A116=\"\",\"\",Graphs!A116)","v":""},null,null,null,{"$f":"Graphs!E117","v":""},{"$f":"Graphs!F117","v":""},{"$f":"Graphs!K117","v":""},{"$f":"Graphs!L117","v":""}]
[null,"LEERSIA ORYZOIDES","LEOR","Rice cutgrass",null,"CANE2","CAREX NEBRASCENSIS","Nebraska sedge",null,null,"Ceanothus species","CEANO",{"$f":"IF(Graphs!A117=\"\",\"\",Graphs!A117)","v":""},null,null,null,{"$f":"Graphs!E118","v":""},{"$f":"Graphs!F118","v":""},{"$f":"Graphs!K118","v":""},{"$f":"Graphs!L118","v":""}]
[null,"LEYMUS CINEREUS","LECI4","Basin Wildrye (ELCI2)",null,"CANU4","CARDUUS NUTANS ","Nodding plumeless thistle (Musk thistle)",null,null,"Chairmaker's bulrush (SCAM2)","SCAM6",{"$f":"IF(Graphs!A118=\"\",\"\",Graphs!A118)","v":""},null,null,null,{"$f":"Graphs!E119","v":""},{"$f":"Graphs!F119","v":""},{"$f":"Graphs!K119","v":""},{"$f":"Graphs!L119","v":""}]
[null,"LEYMUS INNOVATUS","LEIN6","Fuzzyspike wildrye (Downy ryegrass)",null,"CAPE42","CAREX PELLITA","Wooly sedge (CALA11)",null,null,"Chairmaker's bulrush (SCAM6)","SCAM2",{"$f":"IF(Graphs!A119=\"\",\"\",Graphs!A119)","v":""},null,null,null,{"$f":"Graphs!E120","v":""},{"$f":"Graphs!F120","v":""},{"$f":"Graphs!K120","v":""},{"$f":"Graphs!L120","v":""}]
[null,"LEYMUS TRITICOIDES","LETR5","Beardless wildrye (ELTR3)",null,"CAPR5","CAREX PRAEGRACILIS","Cluster field sedge",null,null,"Chamisso arnica","ARCH3",{"$f":"IF(Graphs!A120=\"\",\"\",Graphs!A120)","v":""},null,null,null,{"$f":"Graphs!E121","v":""},{"$f":"Graphs!F121","v":""},{"$f":"Graphs!K121","v":""},{"$f":"Graphs!L121","v":""}]
[null,"MESIC GRASS","MG","Mesic grass",null,"CAPR6","CAREX PRAIREA","Prairie sedge",null,null,"Cheatgrass","BRTE",{"$f":"IF(Graphs!A121=\"\",\"\",Graphs!A121)","v":""},null,null,null,{"$f":"Graphs!E122","v":""},{"$f":"Graphs!F122","v":""},{"$f":"Graphs!K122","v":""},{"$f":"Graphs!L122","v":""}]
[null,"MUHLENBERGIA ANDINA","MUAN","Foxtail muhly",null,"CAQU2","CAMASSIA QUAMISH ","Common camas",null,null,"Chokecherry","PRVI",{"$f":"IF(Graphs!A122=\"\",\"\",Graphs!A122)","v":""},null,null,null,{"$f":"Graphs!E123","v":""},{"$f":"Graphs!F123","v":""},{"$f":"Graphs!K123","v":""},{"$f":"Graphs!L123","v":""}]
[null,"MUHLENBERGIA ASPERIFOLIA","MUAS","Alkali muhly",null,"CAREX","CAREX SPP","Sedge",null,null,"Climbing nightshade","SODU",{"$f":"IF(Graphs!A123=\"\",\"\",Graphs!A123)","v":""},null,null,null,{"$f":"Graphs!E124","v":""},{"$f":"Graphs!F124","v":""},{"$f":"Graphs!K124","v":""},{"$f":"Graphs!L124","v":""}]
[null,"MUHLENBERGIA CUSPIDATE","MUCU3","Plains muhly",null,"CAREXRH","CAREX SPP RHIZOMATOUS","Rhizomatous sedge",null,null,"Cloaked bulrush","SCPA8",{"$f":"IF(Graphs!A124=\"\",\"\",Graphs!A124)","v":""},null,null,null,{"$f":"Graphs!E125","v":""},{"$f":"Graphs!F125","v":""},{"$f":"Graphs!K125","v":""},{"$f":"Graphs!L125","v":""}]
[null,"MUHLENBERGIA FILIFOLIS","MUFI2","Slender muhly",null,"CAREXTU","CAREX SPP TUFTED","Tufted (clumped) sedge",null,null,"Clover Spp.","TRIFO",{"$f":"IF(Graphs!A125=\"\",\"\",Graphs!A125)","v":""},null,null,null,{"$f":"Graphs!E126","v":""},{"$f":"Graphs!F126","v":""},{"$f":"Graphs!K126","v":""},{"$f":"Graphs!L126","v":""}]
[null,"MUHLENBERGIA RACEMOSA","MURA","Marsh muhly",null,"CARO6","CAREX ROSTRATA","Beaked sedge",null,null,"Clumped willow","SALIXCL",{"$f":"IF(Graphs!A126=\"\",\"\",Graphs!A126)","v":""},null,null,null,{"$f":"Graphs!E127","v":""},{"$f":"Graphs!F127","v":""},{"$f":"Graphs!K127","v":""},{"$f":"Graphs!L127","v":""}]
[null,"MUHLENBERGIA RICHARDSONIS","MURI","Mat muhly",null,"CASA10","CAREX SAXATILIS","Rocky Mountain sedge",null,null,"Cluster field sedge","CAPR5",{"$f":"IF(Graphs!A127=\"\",\"\",Graphs!A127)","v":""},null,null,null,{"$f":"Graphs!E128","v":""},{"$f":"Graphs!F128","v":""},{"$f":"Graphs!K128","v":""},{"$f":"Graphs!L128","v":""}]
[null,"MUHLENBERGIA RIGENS","MURI2","Deergrass",null,"CASA8","CAREX SARTWELLII","Sartwell's sedge",null,null,"Cluster Rose","ROPI2",{"$f":"IF(Graphs!A128=\"\",\"\",Graphs!A128)","v":""},null,null,null,{"$f":"Graphs!E129","v":""},{"$f":"Graphs!F129","v":""},{"$f":"Graphs!K129","v":""},{"$f":"Graphs!L129","v":""}]
[null,"PANICUM CAPILLARE","PACA6","Witchgrass",null,"CASA9","CAREX SAXIMONTANA","Rocky Mountain sedge",null,null,"Columbia needlegrass (ACNE9)","STCO3",{"$f":"IF(Graphs!A129=\"\",\"\",Graphs!A129)","v":""},null,null,null,{"$f":"Graphs!E130","v":""},{"$f":"Graphs!F130","v":""},{"$f":"Graphs!K130","v":""},{"$f":"Graphs!L130","v":""}]
[null,"PANICUM OBTUSUM","PAOB","Vine mesquite",null,"CASC12","CAREX SCOPULORUM","Mountain sedge",null,null,"Columbia needlegrass (STCO3)","ACNE9",{"$f":"IF(Graphs!A130=\"\",\"\",Graphs!A130)","v":""},null,null,null,{"$f":"Graphs!E131","v":""},{"$f":"Graphs!F131","v":""},{"$f":"Graphs!K131","v":""},{"$f":"Graphs!L131","v":""}]
[null,"PANICUM VIRGATUM","PAVI2","Switchgrass",null,"CASH","CAREX SHELDONII","Sheldon's sedge",null,null,"Common buckthorn","RHCA3",{"$f":"IF(Graphs!A131=\"\",\"\",Graphs!A131)","v":""},null,null,null,{"$f":"Graphs!E132","v":""},{"$f":"Graphs!F132","v":""},{"$f":"Graphs!K132","v":""},{"$f":"Graphs!L132","v":""}]
[null,"PASCOPYRUM SMITHII","PASM","Western Wheatgrass (AGSM)",null,"CASI2","CAREX SIMULATA","Short-beaked sedge",null,null,"Common burdock","ARMI2",{"$f":"IF(Graphs!A132=\"\",\"\",Graphs!A132)","v":""},null,null,null,{"$f":"Graphs!E133","v":""},{"$f":"Graphs!F133","v":""},{"$f":"Graphs!K133","v":""},{"$f":"Graphs!L133","v":""}]
[null,"PASPALUM DILATATUM","PADI3","Dallisgrass",null,"CAST36","CALMAGROSTIS STRICTA","Slimstem reedgrass",null,null,"Common buttonbush","CEOC2",{"$f":"IF(Graphs!A133=\"\",\"\",Graphs!A133)","v":""},null,null,null,{"$f":"Graphs!E134","v":""},{"$f":"Graphs!F134","v":""},{"$f":"Graphs!K134","v":""},{"$f":"Graphs!L134","v":""}]
[null,"PASPALUM DISTICHUM","PADI6","Knotgrass",null,"CAST5","CAREX STIPATA","Awlfruit sedge",null,null,"Common camas","CAQU2",{"$f":"IF(Graphs!A134=\"\",\"\",Graphs!A134)","v":""},null,null,null,{"$f":"Graphs!E135","v":""},{"$f":"Graphs!F135","v":""},{"$f":"Graphs!K135","v":""},{"$f":"Graphs!L135","v":""}]
[null,"PHALARIS ARUNDINACEAE","PHAR3","Reed canarygrass",null,"CATE3","CAREX TENERA","Quill sedge",null,null,"Common Dandelion","TAOF",{"$f":"IF(Graphs!A135=\"\",\"\",Graphs!A135)","v":""},null,null,null,{"$f":"Graphs!E136","v":""},{"$f":"Graphs!F136","v":""},{"$f":"Graphs!K136","v":""},{"$f":"Graphs!L136","v":""}]
[null,"PHLEUM PRETENSE","PHPR3","Timothy",null,"CAUT","CAREX UTRICULATA","Northwest territory sedge (Beaked sedge)",null,null,"Common juniper","JUCO6",{"$f":"IF(Graphs!A136=\"\",\"\",Graphs!A136)","v":""},null,null,null,{"$f":"Graphs!E137","v":""},{"$f":"Graphs!F137","v":""},{"$f":"Graphs!K137","v":""},{"$f":"Graphs!L137","v":""}]
[null,"PHRAGMITES AUSTRALIS","PHAU7","Common reedgrass (PHCO15)",null,"CAVE6","CAREX VESICARIA","Blister sedge",null,null,"Common plantain","PLMA2",{"$f":"IF(Graphs!A137=\"\",\"\",Graphs!A137)","v":""},null,null,null,{"$f":"Graphs!E138","v":""},{"$f":"Graphs!F138","v":""},{"$f":"Graphs!K138","v":""},{"$f":"Graphs!L138","v":""}]
[null,"PHRAGMITES COMUNIS","PHCO15","Common reedgrass (PHAU7)",null,"CAVU2","CAREX VULPINOIDEA","Fox sedge",null,null,"Common ragweed","AMAR2",{"$f":"IF(Graphs!A138=\"\",\"\",Graphs!A138)","v":""},null,null,null,{"$f":"Graphs!E139","v":""},{"$f":"Graphs!F139","v":""},{"$f":"Graphs!K139","v":""},{"$f":"Graphs!L139","v":""}]
[null,"PLURAPHIS MUTICA","PLMU3","Tobossa grass",null,"CEANO","CEANOTHUS SPP","Ceanothus species",null,null,"Common reedgrass (PHAU7)","PHCO15",{"$f":"IF(Graphs!A139=\"\",\"\",Graphs!A139)","v":""},null,null,null,{"$f":"Graphs!E140","v":""},{"$f":"Graphs!F140","v":""},{"$f":"Graphs!K140","v":""},{"$f":"Graphs!L140","v":""}]
[null,"POA ARIDA","POAR3","Plains bluegrass",null,"CEAR4","CERASTIUM ARVENSE ","Prairie chickweed",null,null,"Common reedgrass (PHCO15)","PHAU7",{"$f":"IF(Graphs!A140=\"\",\"\",Graphs!A140)","v":""},null,null,null,{"$f":"Graphs!E141","v":""},{"$f":"Graphs!F141","v":""},{"$f":"Graphs!K141","v":""},{"$f":"Graphs!L141","v":""}]
[null,"POA COMPRESSA","POCO","Canada bluegrass",null,"CELA","CELTIS LAEVIGATA","Sugarberry",null,null,"Common rivergrass","SCFE",{"$f":"IF(Graphs!A141=\"\",\"\",Graphs!A141)","v":""},null,null,null,{"$f":"Graphs!E142","v":""},{"$f":"Graphs!F142","v":""},{"$f":"Graphs!K142","v":""},{"$f":"Graphs!L142","v":""}]
[null,"POA CUSICKII","POCU3","Cusick bluegrass",null,"CEOC2","CEPHALANTHUS OCCIDENTALIS","Common buttonbush",null,null,"Common rush","JUEF",{"$f":"IF(Graphs!A142=\"\",\"\",Graphs!A142)","v":""},null,null,null,{"$f":"Graphs!E143","v":""},{"$f":"Graphs!F143","v":""},{"$f":"Graphs!K143","v":""},{"$f":"Graphs!L143","v":""}]
[null,"POA NEVADENSIS","PONE3","Nevada bluegrass (POSE)",null,"CEST8","CENTAUREA STOEBE ","Spotted knapweed",null,null,"Common snowberry","SYAL",{"$f":"IF(Graphs!A143=\"\",\"\",Graphs!A143)","v":""},null,null,null,{"$f":"Graphs!E144","v":""},{"$f":"Graphs!F144","v":""},{"$f":"Graphs!K144","v":""},{"$f":"Graphs!L144","v":""}]
[null,"POA PALUSTRIS","POPA2","Fowl bluegrass",null,"CHAN9","CHAMERION ANGUSTIFOLIUM ","Fireweed (EPAN2)",null,null,"Common spikerush","ELPA3",{"$f":"IF(Graphs!A144=\"\",\"\",Graphs!A144)","v":""},null,null,null,{"$f":"Graphs!E145","v":""},{"$f":"Graphs!F145","v":""},{"$f":"Graphs!K145","v":""},{"$f":"Graphs!L145","v":""}]
[null,"POA PRATENSIS","POPR","Kentucky bluegrass",null,"CHLI2","CHILOPSIS LINEARIS","Desert willow",null,null,"Common tansy","TAVU",{"$f":"IF(Graphs!A145=\"\",\"\",Graphs!A145)","v":""},null,null,null,{"$f":"Graphs!E146","v":""},{"$f":"Graphs!F146","v":""},{"$f":"Graphs!K146","v":""},{"$f":"Graphs!L146","v":""}]
[null,"POA SECUNDA","POSE","Sandberg bluegrass (PONE3)",null,"CHNA2","CHRYSOTHAMNUS NAUSEOSUS","Rubber rabbitbrush (ERNA10)",null,null,"Common Threesquare bulrush (SCPU10)","SCPU3",{"$f":"IF(Graphs!A146=\"\",\"\",Graphs!A146)","v":""},null,null,null,{"$f":"Graphs!E147","v":""},{"$f":"Graphs!F147","v":""},{"$f":"Graphs!K147","v":""},{"$f":"Graphs!L147","v":""}]
[null,"POA SPP","POA","Bluegrass species",null,"CHSP11","CHLORACANTHA SPINOSA","Spiny chloracantha",null,null,"Common Threesquare bulrush (SCPU3)","SCPU10",{"$f":"IF(Graphs!A147=\"\",\"\",Graphs!A147)","v":""},null,null,null,{"$f":"Graphs!E148","v":""},{"$f":"Graphs!F148","v":""},{"$f":"Graphs!K148","v":""},{"$f":"Graphs!L148","v":""}]
[null,"POLYPOGON MONSPELIENSIS","POMO5","Annual rabbitsfoot grass",null,"CHVI8","CHRYSOTHAMNUS VISCIDIFLORUS","Yellow rabbitbrush",null,null,"Common water hemlock","CIMA2",{"$f":"IF(Graphs!A148=\"\",\"\",Graphs!A148)","v":""},null,null,null,{"$f":"Graphs!E149","v":""},{"$f":"Graphs!F149","v":""},{"$f":"Graphs!K149","v":""},{"$f":"Graphs!L149","v":""}]
[null,"POLYPOGON VIRIDIS","POVI9","Beardless Rabbitsfoot grass",null,"CIAR4","CIRSIUM ARVENSE ","Canada thistle",null,null,"Common yarrow","ACMI2",{"$f":"IF(Graphs!A149=\"\",\"\",Graphs!A149)","v":""},null,null,null,{"$f":"Graphs!E150","v":""},{"$f":"Graphs!F150","v":""},{"$f":"Graphs!K150","v":""},{"$f":"Graphs!L150","v":""}]
[null,"PUCCINELLIA LEMMONII","PULE","Lemmon's alkaligrass",null,"CICA11","CIRSIUM CANESCENS ","Prairie thistle",null,null,"Condon's bulrush","SCCO",{"$f":"IF(Graphs!A150=\"\",\"\",Graphs!A150)","v":""},null,null,null,{"$f":"Graphs!E151","v":""},{"$f":"Graphs!F151","v":""},{"$f":"Graphs!K151","v":""},{"$f":"Graphs!L151","v":""}]
[null,"PUCCINELLIA NUTTALLIANA","PUNU2","Nuttall's alkaligrass",null,"CIDO","CICUTA DOUGLASII ","Western water hemlock",null,null,"Coneflower/Blackhead","RUOC2",{"$f":"IF(Graphs!A151=\"\",\"\",Graphs!A151)","v":""},null,null,null,{"$f":"Graphs!E152","v":""},{"$f":"Graphs!F152","v":""},{"$f":"Graphs!K152","v":""},{"$f":"Graphs!L152","v":""}]
[null,"SCHOENOPLECTUS ACUTUS","SCAC3","Hardstem bulrush (SCAC)",null,"CIMA2","CICUTA MACULATA ","Common water hemlock",null,null,"Cosmopolitan bulrush (SCMA)","SCMA8",{"$f":"IF(Graphs!A152=\"\",\"\",Graphs!A152)","v":""},null,null,null,{"$f":"Graphs!E153","v":""},{"$f":"Graphs!F153","v":""},{"$f":"Graphs!K153","v":""},{"$f":"Graphs!L153","v":""}]
[null,"SCHOENOPLECTUS AMERICANUS","SCAM6","Chairmaker's bulrush (SCAM2)",null,"CISC2","CIRSIUM SCARIOSUM ","Elk Thistle",null,null,"Cosmopolitan bulrush (SCMA8)","SCMA",{"$f":"IF(Graphs!A153=\"\",\"\",Graphs!A153)","v":""},null,null,null,{"$f":"Graphs!E154","v":""},{"$f":"Graphs!F154","v":""},{"$f":"Graphs!K154","v":""},{"$f":"Graphs!L154","v":""}]
[null,"SCHOENOPLECTUS MARITIMUS","SCMA8","Cosmopolitan bulrush (SCMA)",null,"CLLI2","CLEMATIS LIGUSTIFOLIA","White Clematis",null,null,"Cottonwood","POPUL",{"$f":"IF(Graphs!A154=\"\",\"\",Graphs!A154)","v":""},null,null,null,{"$f":"Graphs!E155","v":""},{"$f":"Graphs!F155","v":""},{"$f":"Graphs!K155","v":""},{"$f":"Graphs!L155","v":""}]
[null,"SCHOENOPLECTUS PUNGENS","SCPU10","Common Threesquare bulrush (SCPU3)",null,"COCA13","CORNUS CANADENSIS ","Bunchberry dogwood",null,null,"Cow parsnip (HELA4)","HEMA80",{"$f":"IF(Graphs!A155=\"\",\"\",Graphs!A155)","v":""},null,null,null,{"$f":"Graphs!E156","v":""},{"$f":"Graphs!F156","v":""},{"$f":"Graphs!K156","v":""},{"$f":"Graphs!L156","v":""}]
[null,"SCHOENOPLECTUS Spp.","SCHOE6","Bulrush species",null,"COCO6","CORYLUS CORNUTA","Beaked hazelnut",null,null,"Cow parsnip (HEMA80)","HELA4",{"$f":"IF(Graphs!A156=\"\",\"\",Graphs!A156)","v":""},null,null,null,{"$f":"Graphs!E157","v":""},{"$f":"Graphs!F157","v":""},{"$f":"Graphs!K157","v":""},{"$f":"Graphs!L157","v":""}]
[null,"SCHOENOPLECTUS TABERNAEMONTANI","SCTA2","Softstem bulrush (SCVA)",null,"COMA2","CONIUM MACULATUM ","Poison hemlock",null,null,"Cows clover","TRWO",{"$f":"IF(Graphs!A157=\"\",\"\",Graphs!A157)","v":""},null,null,null,{"$f":"Graphs!E158","v":""},{"$f":"Graphs!F158","v":""},{"$f":"Graphs!K158","v":""},{"$f":"Graphs!L158","v":""}]
[null,"SCIRPUS ACUTUS","SCAC","Hardstem bulrush (SCAC3)",null,"COPA28","COMARUM PALUSTRE ","Purple marshlocks (POPA14)",null,null,"Creeping bentgrass","AGST2",{"$f":"IF(Graphs!A158=\"\",\"\",Graphs!A158)","v":""},null,null,null,{"$f":"Graphs!E159","v":""},{"$f":"Graphs!F159","v":""},{"$f":"Graphs!K159","v":""},{"$f":"Graphs!L159","v":""}]
[null,"SCIRPUS AMERICANUS","SCAM2","Chairmaker's bulrush (SCAM6)",null,"COSE16","CORNUS SERICEA","Red osier dogwood (COST4)",null,null,"Creeping meadow foxgrass","ALAR",{"$f":"IF(Graphs!A159=\"\",\"\",Graphs!A159)","v":""},null,null,null,{"$f":"Graphs!E160","v":""},{"$f":"Graphs!F160","v":""},{"$f":"Graphs!K160","v":""},{"$f":"Graphs!L160","v":""}]
[null,"SCIRPUS ATROCINCTUS","SCAT4","Blackgirdle bulrush",null,"COST4","CORNUS STOLONIFERA","Red osier dogwood (COSE16)",null,null,"Cuman ragweed","AMPS",{"$f":"IF(Graphs!A160=\"\",\"\",Graphs!A160)","v":""},null,null,null,{"$f":"Graphs!E161","v":""},{"$f":"Graphs!F161","v":""},{"$f":"Graphs!K161","v":""},{"$f":"Graphs!L161","v":""}]
[null,"SCIRPUS CONGDONII","SCCO","Condon's bulrush",null,"CRCH","CRATAEGUS CHRYSOCARPA","Northern hawthorn",null,null,"Curly dock","RUCR",{"$f":"IF(Graphs!A161=\"\",\"\",Graphs!A161)","v":""},null,null,null,{"$f":"Graphs!E162","v":""},{"$f":"Graphs!F162","v":""},{"$f":"Graphs!K162","v":""},{"$f":"Graphs!L162","v":""}]
[null,"SCIRPUS CYPERINUS","SCCY","Woolgrass",null,"CRDO2","CRATAEGUS DOUGLASII","Black hawthorn",null,null,"Curlytop knotweed","POLA4",{"$f":"IF(Graphs!A162=\"\",\"\",Graphs!A162)","v":""},null,null,null,{"$f":"Graphs!E163","v":""},{"$f":"Graphs!F163","v":""},{"$f":"Graphs!K163","v":""},{"$f":"Graphs!L163","v":""}]
[null,"SCIRPUS MARITIMUS","SCMA","Cosmopolitan bulrush (SCMA8)",null,"CRSU5","CRATAEGUS SUCCULANTA","Round leafed hawthorn",null,null,"Currant","RIBES",{"$f":"IF(Graphs!A163=\"\",\"\",Graphs!A163)","v":""},null,null,null,{"$f":"Graphs!E164","v":""},{"$f":"Graphs!F164","v":""},{"$f":"Graphs!K164","v":""},{"$f":"Graphs!L164","v":""}]
[null,"SCIRPUS MICROCARPUS","SCMI2","Panicled bulrush",null,"CYAC","CYMOPTERUS ACAULIS ","Plains spring parsley",null,null,"Cusick bluegrass","POCU3",{"$f":"IF(Graphs!A164=\"\",\"\",Graphs!A164)","v":""},null,null,null,{"$f":"Graphs!E165","v":""},{"$f":"Graphs!F165","v":""},{"$f":"Graphs!K165","v":""},{"$f":"Graphs!L165","v":""}]
[null,"SCIRPUS NEVADENSIS","SCNE","Nevada bulrush",null,"CYAC2","CYPERUS ACUMINATUS","Tapered leaf flatsedge",null,null,"Cusick's camas","CACU2",{"$f":"IF(Graphs!A165=\"\",\"\",Graphs!A165)","v":""},null,null,null,{"$f":"Graphs!E166","v":""},{"$f":"Graphs!F166","v":""},{"$f":"Graphs!K166","v":""},{"$f":"Graphs!L166","v":""}]
[null,"SCIRPUS PALLIDUS","SCPA8","Cloaked bulrush",null,"CYDA4","CYLINDROPUNTIA DAVISII","Thistle cholla",null,null,"Cutleaf coneflower","RULA3",{"$f":"IF(Graphs!A166=\"\",\"\",Graphs!A166)","v":""},null,null,null,{"$f":"Graphs!E167","v":""},{"$f":"Graphs!F167","v":""},{"$f":"Graphs!K167","v":""},{"$f":"Graphs!L167","v":""}]
[null,"SCIRPUS PUNGENS","SCPU3","Common Threesquare bulrush (SCPU10)",null,"CYOF","CYNOGLOSSUM OFFICINALE ","Houndstongue",null,null,"Cut-leaf water parsnip","BEER",{"$f":"IF(Graphs!A167=\"\",\"\",Graphs!A167)","v":""},null,null,null,{"$f":"Graphs!E168","v":""},{"$f":"Graphs!F168","v":""},{"$f":"Graphs!K168","v":""},{"$f":"Graphs!L168","v":""}]
[null,"SCIRPUS SPP","SCIRP","Bulrush species",null,"CYPA19","CYPRIPEDIUM PARVIFLORUM ","Yellow ladyslipper",null,null,"Dallisgrass","PADI3",{"$f":"IF(Graphs!A168=\"\",\"\",Graphs!A168)","v":""},null,null,null,{"$f":"Graphs!E169","v":""},{"$f":"Graphs!F169","v":""},{"$f":"Graphs!K169","v":""},{"$f":"Graphs!L169","v":""}]
[null,"SCIRPUS VALIDUS","SCVA","Softstem bulrush (SCTA2)",null,"DACA3","DANTHONIA CALIFORNICA","California oatgrass",null,null,"Deergrass","MURI2",{"$f":"IF(Graphs!A169=\"\",\"\",Graphs!A169)","v":""},null,null,null,{"$f":"Graphs!E170","v":""},{"$f":"Graphs!F170","v":""},{"$f":"Graphs!K170","v":""},{"$f":"Graphs!L170","v":""}]
[null,"SCOLOCHLOA FESTUCACEA","SCFE","Common rivergrass",null,"DAFR6","DASIPHORA FRUTICOSA","Shrubby cinquefoil (POFR4)",null,null,"Desert peach","PRAN2",{"$f":"IF(Graphs!A170=\"\",\"\",Graphs!A170)","v":""},null,null,null,{"$f":"Graphs!E171","v":""},{"$f":"Graphs!F171","v":""},{"$f":"Graphs!K171","v":""},{"$f":"Graphs!L171","v":""}]
[null,"SORGHASTRUM NUTANS","SONU2","Indian grass",null,"DAGL","DACTYLIS GLOMERATA","Orchardgrass",null,null,"Desert willow","CHLI2",{"$f":"IF(Graphs!A171=\"\",\"\",Graphs!A171)","v":""},null,null,null,{"$f":"Graphs!E172","v":""},{"$f":"Graphs!F172","v":""},{"$f":"Graphs!K172","v":""},{"$f":"Graphs!L172","v":""}]
[null,"SPARTINA GRACILIS","SPGR","Alkali cordgrass",null,"DAIN","DANTHONIA INTERMEDIA","Timber oatgrass",null,null,"Dewey sedge","CADE9",{"$f":"IF(Graphs!A172=\"\",\"\",Graphs!A172)","v":""},null,null,null,{"$f":"Graphs!E173","v":""},{"$f":"Graphs!F173","v":""},{"$f":"Graphs!K173","v":""},{"$f":"Graphs!L173","v":""}]
[null,"SPARTINA PECTINATA","SPPE","Prairie cordgrass",null,"DECE","DESCHAMPSIA CESPITOSA","Tufted hairgrass",null,null,"Dewystem willow","SAIR",{"$f":"IF(Graphs!A173=\"\",\"\",Graphs!A173)","v":""},null,null,null,{"$f":"Graphs!E174","v":""},{"$f":"Graphs!F174","v":""},{"$f":"Graphs!K174","v":""},{"$f":"Graphs!L174","v":""}]
[null,"SPOROBOLUS AIROIDES","SPAI","Alkali sacaton",null,"DEGL3","DELPHINIUM GLAUCUM ","Mountain larkspur",null,null,"Diamondleaf willow","SAPL2",{"$f":"IF(Graphs!A174=\"\",\"\",Graphs!A174)","v":""},null,null,null,{"$f":"Graphs!E175","v":""},{"$f":"Graphs!F175","v":""},{"$f":"Graphs!K175","v":""},{"$f":"Graphs!L175","v":""}]
[null,"SPOROBOLUS WRIGHTII","SPWR2","Big sacaton",null,"DISP","DISTICHLIS SPICATA","Inland saltgrass",null,null,"Different-nerved sedge","CAHE8",{"$f":"IF(Graphs!A175=\"\",\"\",Graphs!A175)","v":""},null,null,null,{"$f":"Graphs!E176","v":""},{"$f":"Graphs!F176","v":""},{"$f":"Graphs!K176","v":""},{"$f":"Graphs!L176","v":""}]
[null,"STIPA COLUMBIANA","STCO3","Columbia needlegrass (ACNE9)",null,"ECMU2","ECHINOCHLOA MURICATA","Rough barnyardgrass",null,null,"dotted smartweed","POPU5",{"$f":"IF(Graphs!A176=\"\",\"\",Graphs!A176)","v":""},null,null,null,{"$f":"Graphs!E177","v":""},{"$f":"Graphs!F177","v":""},{"$f":"Graphs!K177","v":""},{"$f":"Graphs!L177","v":""}]
[null,"STIPA SPP","STIPA","Needlegrass species",null,"ECPR","ECLIPTA PROSTRATA ","False daisy",null,null,"Douglas fir","PSME",{"$f":"IF(Graphs!A177=\"\",\"\",Graphs!A177)","v":""},null,null,null,{"$f":"Graphs!E178","v":""},{"$f":"Graphs!F178","v":""},{"$f":"Graphs!K178","v":""},{"$f":"Graphs!L178","v":""}]
[null,"UPLAND GRASS","UG","Upland grass",null,"ELAC","ELEOCHARIS ACICULARIS","Needle spikerush",null,null,"Douglas' knotweed","PODO4",{"$f":"IF(Graphs!A178=\"\",\"\",Graphs!A178)","v":""},null,null,null,{"$f":"Graphs!E179","v":""},{"$f":"Graphs!F179","v":""},{"$f":"Graphs!K179","v":""},{"$f":"Graphs!L179","v":""}]
[null,null,null,null,null,"ELAN","ELAEAGNUS ANGUSTIFOLIA","Russian olive",null,null,"Douglas' sedge","CADO2",{"$f":"IF(Graphs!A179=\"\",\"\",Graphs!A179)","v":""},null,null,null,{"$f":"Graphs!E180","v":""},{"$f":"Graphs!F180","v":""},{"$f":"Graphs!K180","v":""},{"$f":"Graphs!L180","v":""}]
["FORBS","ACHILLEA MILLEFOLIUM ","ACMI2","Common yarrow",null,"ELCA4","ELYMUS CANADENSIS","Canada wildrye",null,null,"Douglas Spirea","SPDO",{"$f":"IF(Graphs!A180=\"\",\"\",Graphs!A180)","v":""},null,null,null,{"$f":"Graphs!E181","v":""},{"$f":"Graphs!F181","v":""},{"$f":"Graphs!K181","v":""},{"$f":"Graphs!L181","v":""}]
[null,"ACONITUM COLUMBIANUM ","ACCO4","Columbian monkshood",null,"ELCI2","ELYMUS CINEREUS","Basin Wildrye (LECI4)",null,null,"Drummond's willow","SADR",{"$f":"IF(Graphs!A181=\"\",\"\",Graphs!A181)","v":""},null,null,null,{"$f":"Graphs!E182","v":""},{"$f":"Graphs!F182","v":""},{"$f":"Graphs!K182","v":""},{"$f":"Graphs!L182","v":""}]
[null,"ACTAEA RUBRA ","ACRU2","Baneberry",null,"ELCO","ELAEAGNUS COMMUTATA","Silverberry",null,null,"Dudley rush","JUDU2",{"$f":"IF(Graphs!A182=\"\",\"\",Graphs!A182)","v":""},null,null,null,{"$f":"Graphs!E183","v":""},{"$f":"Graphs!F183","v":""},{"$f":"Graphs!K183","v":""},{"$f":"Graphs!L183","v":""}]
[null,"AGASTACHE FOENICULUM ","AGFO","Blue giant hyssop",null,"ELEOC","ELEOCHARIS SPECIES","Spikerush",null,null,"Dune willow","SAHO",{"$f":"IF(Graphs!A183=\"\",\"\",Graphs!A183)","v":""},null,null,null,{"$f":"Graphs!E184","v":""},{"$f":"Graphs!F184","v":""},{"$f":"Graphs!K184","v":""},{"$f":"Graphs!L184","v":""}]
[null,"AGASTACHE URTICIFOLIA  ","AGUR","Needleleaf giant hyssop",null,"ELER","ELEOCHARIS ERYTHROPODA","Bald spikerush",null,null,"Dwarf bilberry","VACE",{"$f":"IF(Graphs!A184=\"\",\"\",Graphs!A184)","v":""},null,null,null,{"$f":"Graphs!E185","v":""},{"$f":"Graphs!F185","v":""},{"$f":"Graphs!K185","v":""},{"$f":"Graphs!L185","v":""}]
[null,"AGRIMONIA GRYPOSEPALA ","AGGR2","Tall hairy agrimony",null,"ELMA8","ELYHORDEUM MACOUNII","Macoun’s barley",null,null,"Dwarf spikerush","ELPA5",{"$f":"IF(Graphs!A185=\"\",\"\",Graphs!A185)","v":""},null,null,null,{"$f":"Graphs!E186","v":""},{"$f":"Graphs!F186","v":""},{"$f":"Graphs!K186","v":""},{"$f":"Graphs!L186","v":""}]
[null,"AGRIMONIA STRIATA ","AGST","Roadside agrimony",null,"ELPA3","ELEOCHARIS PALUSTRIS","Common spikerush",null,null,"Dwarf wild indigo","AMNA",{"$f":"IF(Graphs!A186=\"\",\"\",Graphs!A186)","v":""},null,null,null,{"$f":"Graphs!E187","v":""},{"$f":"Graphs!F187","v":""},{"$f":"Graphs!K187","v":""},{"$f":"Graphs!L187","v":""}]
[null,"AMBROSIA ARTEMISIIFOLIA ","AMAR2","Common ragweed",null,"ELPA5","ELEOCHARIS PARVULA","Dwarf spikerush",null,null,"Eastern cottonwood","PODE3",{"$f":"IF(Graphs!A187=\"\",\"\",Graphs!A187)","v":""},null,null,null,{"$f":"Graphs!E188","v":""},{"$f":"Graphs!F188","v":""},{"$f":"Graphs!K188","v":""},{"$f":"Graphs!L188","v":""}]
[null,"AMBROSIA PSILSTACHYA ","AMPS","Cuman ragweed",null,"ELPA6","ELEOCHARIS PAUCIFLORA","Fewflowered spikerush (ELQU2)",null,null,"Elephanthead lousewort","PEGR2",{"$f":"IF(Graphs!A188=\"\",\"\",Graphs!A188)","v":""},null,null,null,{"$f":"Graphs!E189","v":""},{"$f":"Graphs!F189","v":""},{"$f":"Graphs!K189","v":""},{"$f":"Graphs!L189","v":""}]
[null,"AMBROSIA TRIFIDA ","AMTR","Great ragweed",null,"ELQU2","ELEOCHARIS QUINQUEFLORA","Fewflowered spikerush (ELPA6)",null,null,"Elk Thistle","CISC2",{"$f":"IF(Graphs!A189=\"\",\"\",Graphs!A189)","v":""},null,null,null,{"$f":"Graphs!E190","v":""},{"$f":"Graphs!F190","v":""},{"$f":"Graphs!K190","v":""},{"$f":"Graphs!L190","v":""}]
[null,"ANEMOPSIS CALIFORNICA ","ANCA10","Yerba mansa",null,"ELRE4","ELYMUS REPENS","Quackgrass (AGRE2)",null,null,"Emory's baccharis","BAEM",{"$f":"IF(Graphs!A190=\"\",\"\",Graphs!A190)","v":""},null,null,null,{"$f":"Graphs!E191","v":""},{"$f":"Graphs!F191","v":""},{"$f":"Graphs!K191","v":""},{"$f":"Graphs!L191","v":""}]
[null,"ANGELICA KINGII ","ANKI","King's angelica",null,"ELRO2","ELEOCHARIS ROSTELLATA","Beaked spikerush",null,null,"Engelmann spruce","PIEN",{"$f":"IF(Graphs!A191=\"\",\"\",Graphs!A191)","v":""},null,null,null,{"$f":"Graphs!E192","v":""},{"$f":"Graphs!F192","v":""},{"$f":"Graphs!K192","v":""},{"$f":"Graphs!L192","v":""}]
[null,"ANTENNARIA ROSEA ","ANRO2","Rosy pussytoes",null,"ELTR3","ELYMUS TRITICOIDES","Beardless wildrye (LETR5)",null,null,"European bur-reed","SPEM2",{"$f":"IF(Graphs!A192=\"\",\"\",Graphs!A192)","v":""},null,null,null,{"$f":"Graphs!E193","v":""},{"$f":"Graphs!F193","v":""},{"$f":"Graphs!K193","v":""},{"$f":"Graphs!L193","v":""}]
[null,"APOCYNUM CANNABINUM ","APCA","Indianhemp",null,"ELTR7","ELYMUS TRACHYCAULUS","Slender wheatgrass",null,null,"European privet","LIVU",{"$f":"IF(Graphs!A193=\"\",\"\",Graphs!A193)","v":""},null,null,null,{"$f":"Graphs!E194","v":""},{"$f":"Graphs!F194","v":""},{"$f":"Graphs!K194","v":""},{"$f":"Graphs!L194","v":""}]
[null,"AQUILEGIA FORMOSA ","AQFO","Western columbine",null,"EPAN2","EPILOBIUM ANGUSTIFOLIUM ","Fireweed (CHAN9)",null,null,"False daisy","ECPR",{"$f":"IF(Graphs!A194=\"\",\"\",Graphs!A194)","v":""},null,null,null,{"$f":"Graphs!E195","v":""},{"$f":"Graphs!F195","v":""},{"$f":"Graphs!K195","v":""},{"$f":"Graphs!L195","v":""}]
[null,"ARCTIUM MINUS ","ARMI2","Common burdock",null,"EPCI","EPILOBIUM CILIATUM ","Fringed willowherb",null,null,"False Indigo","AMFR",{"$f":"IF(Graphs!A195=\"\",\"\",Graphs!A195)","v":""},null,null,null,{"$f":"Graphs!E196","v":""},{"$f":"Graphs!F196","v":""},{"$f":"Graphs!K196","v":""},{"$f":"Graphs!L196","v":""}]
[null,"ARCTIUM SPP ","ARCTI","Burdock species",null,"EQAR","EQUISETUM ARVENSE ","Field horsetail",null,null,"False mountain willow","SAPS",{"$f":"IF(Graphs!A196=\"\",\"\",Graphs!A196)","v":""},null,null,null,{"$f":"Graphs!E197","v":""},{"$f":"Graphs!F197","v":""},{"$f":"Graphs!K197","v":""},{"$f":"Graphs!L197","v":""}]
[null,"ARGENTINA ANSERINA ","ARAN7","Silverweed cinquefoil (POAN5)",null,"EQFL","EQUISETUM FLUVIATILE ","Water horsetail",null,null,"False solomon's seal (SMST)","MAST4",{"$f":"IF(Graphs!A197=\"\",\"\",Graphs!A197)","v":""},null,null,null,{"$f":"Graphs!E198","v":""},{"$f":"Graphs!F198","v":""},{"$f":"Graphs!K198","v":""},{"$f":"Graphs!L198","v":""}]
[null,"ARNICA CHAMISSONIS ","ARCH3","Chamisso arnica",null,"EQHY","EQUISETUM HYEMALE ","Scouringrush horsetail",null,null,"Farr willow","SAFA",{"$f":"IF(Graphs!A198=\"\",\"\",Graphs!A198)","v":""},null,null,null,{"$f":"Graphs!E199","v":""},{"$f":"Graphs!F199","v":""},{"$f":"Graphs!K199","v":""},{"$f":"Graphs!L199","v":""}]
[null,"ARNICA CORDIFOLIA ","ARCO9","Heartleaf arnica",null,"EQLA","EQUISETUM LAEVIGATUM ","smooth horsetail",null,null,"Fendler meadow-rue","THFE",{"$f":"IF(Graphs!A198=\"\",\"\",Graphs!A198)","v":""}]
[null,"ARTEMISIA LUDOVICIANA ","ARLU","White sagebrush",null,"EQSY","EQUISETUM SYLVATICUM ","Woodland horsetail",null,null,"Fewflowered spikerush (ELPA6)","ELQU2",{"$f":"IF(Graphs!A200=\"\",\"\",Graphs!A200)","v":""}]
[null,"ASTER CHILENSIS ","ASCH2","Western Aster (SYCH4)",null,"EQUIS","EQUISETUM SPP.","Horsetail",null,null,"Fewflowered spikerush (ELQU2)","ELPA6",{"$f":"IF(Graphs!A201=\"\",\"\",Graphs!A201)","v":""}]
[null,"ASTER FOLIACEUS","ASFO","Leafy aster (SYFO2)",null,"EQVA","EQUISETUM VARIEGATUM ","Variegated horsetail",null,null,"Field horsetail","EQAR",{"$f":"IF(Graphs!A202=\"\",\"\",Graphs!A202)","v":""}]
[null,"ASTER HESPERIUS ","ASHE","Marsh aster (SYLA6)",null,"ERCO6","ERIGERON COULTERI  ","Large mountain fleabane",null,null,"Figwort species","SCROP",{"$f":"IF(Graphs!A203=\"\",\"\",Graphs!A203)","v":""}]
[null,"ASTER INTEGRIFOLIUS ","ASIN3","Thickstem Aster (EUIN9)",null,"ERIGE2","ERIGERON SPP ","Fleabane species",null,null,"Fireweed (CHAN9)","EPAN2",{"$f":"IF(Graphs!A204=\"\",\"\",Graphs!A204)","v":""}]
[null,"ASTER OCCIDENTALIS ","ASOC","Western mountain aster (SYST)",null,"ERNA10","ERICAMERIA NAUSEOSA","Rubber rabbitbrush (CHNA2)",null,null,"Fireweed (EPAN2)","CHAN9",{"$f":"IF(Graphs!A205=\"\",\"\",Graphs!A205)","v":""}]
[null,"ASTER INTEGRIFOLIUS ","ASIN3","Thickstem Aster (EUIN9)",null,"ERST3","ERIGERON STRIGOSUS ","Prairie (daisy) fleabane",null,null,"Five-stamen saltcedar","TACH2",{"$f":"IF(Graphs!A206=\"\",\"\",Graphs!A206)","v":""}]
[null,"ASTER OCCIDENTALIS ","ASOC","Western mountain aster (SYST)",null,"EUES","EUPHORBIA ESULA ","Leafy spurge",null,null,"Fleabane species","ERIGE2",{"$f":"IF(Graphs!A207=\"\",\"\",Graphs!A207)","v":""}]
[null,"ASTER SPP. ","ASTER","Aster",null,"EUIN9","EURYBIA INTEGRIFOLIA ","Thickstem Aster (ASIN3)",null,null,"Fourwing saltbrush","ATCA2",{"$f":"IF(Graphs!A208=\"\",\"\",Graphs!A208)","v":""}]
[null,"ASTRAGALUS TENELLUS ","ASTE5","Pulse milkvetch",null,"EUMA12","EUPATORIADELPHUS MACULATUS ","Spotted joe pye weed (EUMA9)",null,null,"Fowl bluegrass","POPA2",{"$f":"IF(Graphs!A209=\"\",\"\",Graphs!A209)","v":""}]
[null,"BASIA SCOPARIA ","BASC5","Burning bush (KOSC)",null,"EUMA9","EUTROCHIUM MACULATUM ","Spotted joe pye weed (EUMA12)",null,null,"Fowl mannagrass","GLST",{"$f":"IF(Graphs!A210=\"\",\"\",Graphs!A210)","v":""}]
[null,"BERULA ERECTA ","BEER","Cut-leaf water parsnip",null,"EUME17","EURYBIA MERITA ","Subalpine aster",null,null,"Fox sedge","CAVU2"]
[null,"CALTHA LEPTOSEPALA ","CALE4","White marsh marigold",null,"EURYB","EURYBIA Spp. ","Aster Spp.",null,null,"Foxtail","ALOPE"]
[null,"CAMASSIA CUSICKII ","CACU2","Cusick's camas",null,"FERU2","FESTUCA RUBRA","Red Fescue",null,null,"Foxtail barley","HOJU"]
[null,"CAMASSIA QUAMISH ","CAQU2","Common camas",null,"FRLA","FRAXINUS LATIFOLIA ","Oregon ash",null,null,"Foxtail muhly","MUAN"]
[null,"CARDUUS NUTANS ","CANU4","Nodding plumeless thistle (Musk thistle)",null,"FRPE","FRAXINUS PENNSYLVANICA ","Green Ash",null,null,"Foxtail sedge","CAAL8"]
[null,"CENTAUREA STOEBE ","CEST8","Spotted knapweed",null,"FRVE2","FRAXINUS VELUTINA ","Velvet ash",null,null,"Fragrant sumac","RHAR4"]
[null,"CERASTIUM ARVENSE ","CEAR4","Prairie chickweed",null,"FRVI","FRAGARIA VIRGINIANA ","Virginia strawberry",null,null,"Fremont Cottonwood","POFR2"]
[null,"CHAMERION ANGUSTIFOLIUM ","CHAN9","Fireweed (EPAN2)",null,"GABO2","GALIUM BOREALE ","Northern bedstraw",null,null,"Fringed loosestrife","LYCI"]
[null,"CICUTA DOUGLASII ","CIDO","Western water hemlock",null,"GALIU","GALIUM SPP ","Bedstraw",null,null,"Fringed willowherb","EPCI"]
[null,"CICUTA MACULATA ","CIMA2","Common water hemlock",null,"GATR2","GALIUM TRIFIDUM ","Threepetal bedstraw",null,null,"Frogbit buttercup","RAHY"]
[null,"CIRSIUM ARVENSE ","CIAR4","Canada thistle",null,"GEMA4","GEUM MACROPHYLLUM ","Largeleaf avens",null,null,"Fuzzyspike wildrye (Downy ryegrass)","LEIN6"]
[null,"CIRSIUM CANESCENS ","CICA11","Prairie thistle",null,"GERI","GERANIUM RICHARDSONII ","Richardson's geranium",null,null,"Geyer's willow","SAGE2"]
[null,"CIRSIUM SCARIOSUM ","CISC2","Elk Thistle",null,"GETR","GEUM TRIFLORUM ","Old man's whiskers",null,null,"Giant bur-reed","SPEU"]
[null,"COMARUM PALUSTRE ","COPA28","Purple marshlocks (POPA14)",null,"GEUM","GEUM SPP ","Avens species",null,null,"Giant goldenrod","SOGI"]
[null,"CONIUM MACULATUM ","COMA2","Poison hemlock",null,"GEVI2","GERANIUM  VISCOSISSIUM ","Sticky geranium",null,null,"Giant reed","ARDO4"]
[null,"CORNUS CANADENSIS ","COCA13","Bunchberry dogwood",null,"GLBO","GLYCERIA BOREALIS","Small floating mannagrass",null,null,"Golden Currant, Buffalo Currant (RIOD)","RIAU"]
[null,"CYMOPTERUS ACAULIS ","CYAC","Plains spring parsley",null,"GLGR","GLYCERIA GRANDIS","American mannagrass",null,null,"Golden sedge","CAAU3"]
[null,"CYNOGLOSSUM OFFICINALE ","CYOF","Houndstongue",null,"GLLE3","GLYCYRRHIZA LEPIDOTA ","American licorice",null,null,"Gooding's willow","SAGO"]
[null,"CYPRIPEDIUM PARVIFLORUM ","CYPA19","Yellow ladyslipper",null,"GLMA","GLAUX MARITIMA ","Sea milkwort",null,null,"Gray sedge","CACA11"]
[null,"DELPHINIUM GLAUCUM ","DEGL3","Mountain larkspur",null,"GLST","GLYCERIA STRIATA","Fowl mannagrass",null,null,"Greasewood","SAVE4"]
[null,"ECLIPTA PROSTRATA ","ECPR","False daisy",null,"GLYCE","GLYCERIA SPECIES","Mannagrass",null,null,"Great ragweed","AMTR"]
[null,"EPILOBIUM ANGUSTIFOLIUM ","EPAN2","Fireweed (CHAN9)",null,"HAFL2","HACKELIA FLORIBUNDA ","Many flowered stickseed",null,null,"Green alder (ALSI3)","ALVI5"]
[null,"EPILOBIUM CILIATUM ","EPCI","Fringed willowherb",null,"HECU3","HELIOTROPIUM CURASSAVICUM ","Salt heliotrope",null,null,"Green Ash","FRPE"]
[null,"EQUISETUM ARVENSE ","EQAR","Field horsetail",null,"HEHO5","HELENIUM HOOPESII ","Orange sneezeweed (HYHO)",null,null,"Grouse whortleberry","VASC"]
[null,"EQUISETUM FLUVIATILE ","EQFL","Water horsetail",null,"HELA4","HERACLEUM LANATUM ","Cow parsnip (HEMA80)",null,null,"Hairlike sedge","CACA12"]
[null,"EQUISETUM HYEMALE ","EQHY","Scouringrush horsetail",null,"HEMA2","HELIANTHUS MAXIMILIANI ","Maximilian sunflower (HELA4)",null,null,"Hairy hedgenettle","STPI6"]
[null,"EQUISETUM LAEVIGATUM ","EQLA","smooth horsetail",null,"HEMA80","HERACLEUM MAXIMUM ","Cow parsnip (HELA4)",null,null,"Hardstem bulrush (SCAC)","SCAC3"]
[null,"EQUISETUM SPP.","EQUIS","Horsetail",null,"HERI","HEUCHERA RICHARDSONII ","Richardson's alumroot",null,null,"Hardstem bulrush (SCAC3)","SCAC"]
[null,"EQUISETUM SYLVATICUM ","EQSY","Woodland horsetail",null,"HOBR2","HORDEUM BRACHYANTHERUM","Meadow barley",null,null,"Hayden's sedge","CAHA7"]
[null,"EQUISETUM VARIEGATUM ","EQVA","Variegated horsetail",null,"HOJU","HORDEUM JUBATUM","Foxtail barley",null,null,"Heartleaf arnica","ARCO9"]
[null,"ERIGERON COULTERI  ","ERCO6","Large mountain fleabane",null,"HYHO","HYMENOXYS HOOPESII ","Owl's-claw (HEHO5)",null,null,"Heavy Sedge","CAGR4"]
[null,"ERIGERON SPP ","ERIGE2","Fleabane species",null,"IMCA","IMPATIENS CAPENSIS ","Jewelweed",null,null,"High mountain cinquefoil","POFL3"]
[null,"ERIGERON STRIGOSUS ","ERST3","Prairie (daisy) fleabane",null,"IRMI","IRIS MISSOURIENSIS ","Rocky Mountain iris",null,null,"Honey mesquite","PRGL2"]
[null,"EUPATORIADELPHUS MACULATUS ","EUMA12","Spotted joe pye weed (EUMA9)",null,"JUAR2","JUNCUS ARCTICUS","Artic rush (JUBA)",null,null,"Honeysuckle","LONIC"]
[null,"EUPHORBIA ESULA ","EUES","Leafy spurge",null,"JUBA","JUNCUS BALTICUS","Baltic rush (JUAR2)",null,null,"Hooker's evening primrose","OEEL"]
[null,"EURYBIA INTEGRIFOLIA ","EUIN9","Thickstem Aster (ASIN3)",null,"JUBU","JUNCUS BUFONIUS","Toad Rush",null,null,"Hophornbeam","OSVI"]
[null,"EURYBIA MERITA ","EUME17","Subalpine aster",null,"JUCO6","JUNIPERUS COMMUNIS","Common juniper",null,null,"Horsetail","EQUIS"]
[null,"EURYBIA Spp. ","EURYB","Aster Spp.",null,"JUDU2","JUNCUS DUDLEYI","Dudley rush",null,null,"Houndstongue","CYOF"]
[null,"EUTROCHIUM MACULATUM ","EUMA9","Spotted joe pye weed (EUMA12)",null,"JUEF","JUNCUS EFFUSUS","Common rush",null,null,"Idaho gooseberry (RIIR)","RIOX"]
[null,"FRAGARIA VIRGINIANA ","FRVI","Virginia strawberry",null,"JUEN","JUNCUS ENSIFOLIUS","Swordleaf rush",null,null,"Idaho gooseberry (RIOX)","RIIR"]
[null,"GALIUM BOREALE ","GABO2","Northern bedstraw",null,"JUIN2","JUNCUS INTERIOR","Inland rush",null,null,"Indian grass","SONU2"]
[null,"GALIUM SPP ","GALIU","Bedstraw",null,"JULO","JUNCUS LONGISTYLIS","Longstyle rush",null,null,"Indian plum","OECE"]
[null,"GALIUM TRIFIDUM ","GATR2","Threepetal bedstraw",null,"JUMA","JUGLANS MAJOR ","Arizona walnut",null,null,"Indianhemp","APCA"]
[null,"GERANIUM  VISCOSISSIUM ","GEVI2","Sticky geranium",null,"JUME4","JUNCUS MEXICANUS","Mexican rush",null,null,"Inland rush","JUIN2"]
[null,"GERANIUM RICHARDSONII ","GERI","Richardson's geranium",null,"JUNCU","JUNCUS SPECIES","Rush species",null,null,"Inland saltgrass","DISP"]
[null,"GEUM MACROPHYLLUM ","GEMA4","Largeleaf avens",null,"JUNE","JUNCUS NEVADENSIS","Sierra rush",null,null,"Inland sedge","CAIN11"]
[null,"GEUM SPP ","GEUM","Avens species",null,"JUNO2","JUNCUS NODOSUS","Knotted rush",null,null,"Iodine Bush","ALOC2"]
[null,"GEUM TRIFLORUM ","GETR","Old man's whiskers",null,"JUOC","JUNIPERUS OCCIDENTALIS ","Western juniper",null,null,"Jepson willow","SAJE"]
[null,"GLAUX MARITIMA ","GLMA","Sea milkwort",null,"JUOR","JUNCUS ORTHOPHYLLUS","Straightleaf rush",null,null,"Jewelweed","IMCA"]
[null,"GLYCYRRHIZA LEPIDOTA ","GLLE3","American licorice",null,"JUOS","JUNIPERUS OSTEOSPERMA","Utah juniper",null,null,"Kellogg's knotweed","POPO4"]
[null,"HACKELIA FLORIBUNDA ","HAFL2","Many flowered stickseed",null,"JUSC2","JUNIPERUS SCOPULORUM ","Rocky Mountain juniper",null,null,"Kentucky bluegrass","POPR"]
[null,"HELENIUM HOOPESII ","HEHO5","Orange sneezeweed (HYHO)",null,"JUTE","JUNCUS TENUIS","Poverty rush",null,null,"King's angelica","ANKI"]
[null,"HELIANTHUS MAXIMILIANI ","HEMA2","Maximilian sunflower (HELA4)",null,"JUTO","JUNCUS TORREYI","Torrey rush",null,null,"Kirk's violet","VIAD"]
[null,"HELIOTROPIUM CURASSAVICUM ","HECU3","Salt heliotrope",null,"KAMI","KALMIA MICROPHYLLA","Bog Laurel",null,null,"Knotgrass","PADI6"]
[null,"HERACLEUM LANATUM ","HELA4","Cow parsnip (HEMA80)",null,"KOSC","KOCHIA SCOPARIA ","Kockia or Burning bush (BASC5)",null,null,"Knotted rush","JUNO2"]
[null,"HERACLEUM MAXIMUM ","HEMA80","Cow parsnip (HELA4)",null,"LAOC","LARIX OCCIDENTALIS ","Western larch",null,null,"Kockia or Burning bush (BASC5)","KOSC"]
[null,"HEUCHERA RICHARDSONII ","HERI","Richardson's alumroot",null,"LASE","LACTUCA SERRIOLA ","Prickly Lettuce",null,null,"Lambstongue groundsel","SEIN2"]
[null,"HYMENOXYS HOOPESII ","HYHO","Owl's-claw (HEHO5)",null,"LECI4","LEYMUS CINEREUS","Basin Wildrye (ELCI2)",null,null,"Large mountain fleabane","ERCO6"]
[null,"IMPATIENS CAPENSIS ","IMCA","Jewelweed",null,"LEGL","LEDUM GLANDULOSUM","Trapper's Tea",null,null,"Largeleaf avens","GEMA4"]
[null,"IRIS MISSOURIENSIS ","IRMI","Rocky Mountain iris",null,"LEIN6","LEYMUS INNOVATUS","Fuzzyspike wildrye (Downy ryegrass)",null,null,"Leafy aster (SYFO2)","ASFO"]
[null,"KOCHIA SCOPARIA ","KOSC","Kockia or Burning bush (BASC5)",null,"LEOR","LEERSIA ORYZOIDES","Rice cutgrass",null,null,"Leafy spurge","EUES"]
[null,"LACTUCA SERRIOLA ","LASE","Prickly Lettuce",null,"LETR5","LEYMUS TRITICOIDES","Beardless wildrye (ELTR3)",null,null,"Lemmon's alkaligrass","PULE"]
[null,"LINNAEA BOREALIS ","LIBO3","Twinflower",null,"LIBO3","LINNAEA BOREALIS ","Twinflower",null,null,"Lemon's willow","SALE"]
[null,"LOBELIA CARDINALIS ","LOCA2","Cardinal flower",null,"LIVU","LIGUSTRUM VALGARE","European privet",null,null,"Lewis' mock orange","PHLE4"]
[null,"LYCOPUS AMERICANUS ","LYAM","American water horehound",null,"LOCA2","LOBELIA CARDINALIS ","Cardinal flower",null,null,"Lewis' monkey flower","MILE2"]
[null,"LYSIMACHIA CILIATA ","LYCI","Fringed loosestrife",null,"LOIN5","LONICERA INVOLUCRATA","Black Twinberry",null,null,"Lindley's aster","SYCI"]
[null,"LYTHRUM CALIFORNICUM ","LYCA4","California loosestrife",null,"LONIC","LONICERA SPP.","Honeysuckle",null,null,"Little sand violet","VISO"]
[null,"LYTHRUM SALICARIA ","LYSA2","Purple loosestrife",null,"LOUT2","LONICERA UTAHENSIS","Utah Honeysuckle",null,null,"Littleleaf buttercup","RAAB"]
[null,"MAIANTHEMUM STELLATUM ","MAST4","False solomon's seal (SMST)",null,"LYAM","LYCOPUS AMERICANUS ","American water horehound",null,null,"Lodgepole pine","PICO"]
[null,"MEDICAGO LUPULINA ","MELU","Black medick",null,"LYCA4","LYTHRUM CALIFORNICUM ","California loosestrife",null,null,"Longstalk clover","TRLO"]
[null,"MELILOTUS ALBUS ","MEAL2","Sweetclover (MEOF)",null,"LYCI","LYSIMACHIA CILIATA ","Fringed loosestrife",null,null,"Longstalk starwort","STLO2"]
[null,"MELILOTUS OFFICINALIS ","MEOF","Sweetclover (Yellow and white) (MEAL2)",null,"LYSA2","LYTHRUM SALICARIA ","Purple loosestrife",null,null,"Longstyle rush","JULO"]
[null,"MENTHA ARVENSIS ","MEAR4","Wild mint",null,"MAFU","MALUS FUSCA","Oregon crab apple",null,null,"MacKenzie's willow","SAPR3"]
[null,"MENYANTHES TRIFOLIATA ","METR3","Buckbean",null,"MARE11","MAHONIA REPENS","Oregon grape",null,null,"Macoun’s barley","ELMA8"]
[null,"MERTENSIA CILIATA ","MECI3","Streamside bluebells",null,"MAST4","MAIANTHEMUM STELLATUM ","False solomon's seal (SMST)",null,null,"Macoun's buttercup","RAMA2"]
[null,"MESIC FORB EARLY ","MFE","Mesic forb early seral",null,"MEAL2","MELILOTUS ALBUS ","Sweetclover (MEOF)",null,null,"Mallow ninebark","PHMA5"]
[null,"MESIC FORB LATE ","MFL","Mesic forb late seral",null,"MEAR4","MENTHA ARVENSIS ","Wild mint",null,null,"Mannagrass","GLYCE"]
[null,"MESIC FORB MID-SERAL","MFM","Mesic for mid-seral",null,"MECI3","MERTENSIA CILIATA ","Streamside bluebells",null,null,"Many flowered stickseed","HAFL2"]
[null,"MIMULUS CARDINALIS ","MICA3","Scarlet monkeyflower",null,"MELU","MEDICAGO LUPULINA ","Black medick",null,null,"Maple spp.","ACER"]
[null,"MIMULUS GUTTATUS ","MIGU","Seep monkeyflower",null,"MEOF","MELILOTUS OFFICINALIS ","Sweetclover (Yellow and white) (MEAL2)",null,null,"Marsh arrowgrass","TRPA28"]
[null,"MIMULUS LEWISII ","MILE2","Lewis' monkeyflower",null,"METR3","MENYANTHES TRIFOLIATA ","Buckbean",null,null,"Marsh aster (SYLA6)","ASHE"]
[null,"MIMULUS MOSCHATUS ","MIMO2","Muskflower",null,"MFE","MESIC FORB EARLY ","Mesic forb early seral",null,null,"Marsh muhly","MURA"]
[null,"MIMULUS PRIMULOIDES ","MIPR","Primrose monkeyflower",null,"MFL","MESIC FORB LATE ","Mesic forb late seral",null,null,"Marsh skullcap","SCGA"]
[null,"MONARDA FISTULOSA ","MOFI","Wild bergamot",null,"MFM","MESIC FORB MID-SERAL","Mesic for mid-seral",null,null,"Maryland sanicle","SAMA2"]
[null,"MONTIA CHAMISSOI ","MOCH","Miner's lettuce",null,"MG","MESIC GRASS","Mesic grass",null,null,"Mat muhly","MURI"]
[null,"NASTURTIUM OFFICINALE ","NAOF","Watercress (RONA2)",null,"MICA3","MIMULUS CARDINALIS ","Scarlet monkeyflower",null,null,"Maximilian sunflower (HELA4)","HEMA2"]
[null,"OENOTHERA ELATA ","OEEL","Hooker's evening primrose",null,"MIGU","MIMULUS GUTTATUS ","Seep monkeyflower",null,null,"Meadow barley","HOBR2"]
[null,"OENOTHERA FLAVA ","OEFL","Yellow evening primrose",null,"MILE2","MIMULUS LEWISII ","Lewis' monkeyflower",null,null,"Meadow Foxtail","ALPR3"]
[null,"OLIGONEURON RIGIDUM ","OLRI","Rigid goldenrod",null,"MIMO2","MIMULUS MOSCHATUS ","Muskflower",null,null,"Meadow willow","SAPE5"]
[null,"ONOPORDUM ACANTHIUM ","ONAC","Scotch thistle",null,"MIPR","MIMULUS PRIMULOIDES ","Primrose monkeyflower",null,null,"Mesic forb mid-seral","MFM"]
[null,"OXALIS SPP ","OXALI","Woodsorrel species",null,"MOCH","MONTIA CHAMISSOI ","Miner's lettuce",null,null,"Mesic forb early seral","MFE"]
[null,"PEDICULARIS GROENLANDICA ","PEGR2","Elephanthead lousewort",null,"MOFI","MONARDA FISTULOSA ","Wild bergamot",null,null,"Mesic forb late seral","MFL"]
[null,"PENSTEMON RYDBERGII ","PERY","Rydberg's meadow penstemon",null,"MS","MESIC SHRUB","Mesic shrub",null,null,"Mesic grass","MG"]
[null,"PLANTAGO ERIOPODA ","PLER","Alkali plantain",null,"MUAN","MUHLENBERGIA ANDINA","Foxtail muhly",null,null,"Mesic shrub","MS"]
[null,"PLANTAGO MAJOR ","PLMA2","Common plantain",null,"MUAS","MUHLENBERGIA ASPERIFOLIA","Alkali muhly",null,null,"Mexican rush","JUME4"]
[null,"PLATANTHERA AQUILONIS ","PLAQ2","Northern green orchid",null,"MUCU3","MUHLENBERGIA CUSPIDATE","Plains muhly",null,null,"Miner's lettuce","MOCH"]
[null,"POGONIA OPHIOGLOSSOIDES ","POOP","Snakemouth Orchid",null,"MUFI2","MUHLENBERGIA FILIFOLIS","Slender muhly",null,null,"Missouri willow","SAER"]
[null,"POLEMONIUM OCCIDENTALE ","POOC2","Western polemonium",null,"MURA","MUHLENBERGIA RACEMOSA","Marsh muhly",null,null,"Mountain Alder","ALIN2"]
[null,"POLYGONUM AMPHIBIUM ","POAM8","Western smartweek",null,"MURI","MUHLENBERGIA RICHARDSONIS","Mat muhly",null,null,"Mountain ash","SOSC2"]
[null,"POLYGONUM AVICULARE ","POAV","prostate knotweed",null,"MURI2","MUHLENBERGIA RIGENS","Deergrass",null,null,"Mountain brome","BRMA4"]
[null,"POLYGONUM BISTORTOIDES ","POBI6","American bistort",null,"NAOF","NASTURTIUM OFFICINALE ","Watercress (RONA2)",null,null,"Mountain carpet clover","TRMO2"]
[null,"POLYGONUM DOUGLASII ","PODO4","Douglas' knotweed",null,"OECE","OEMLERIA CERASIFORMIS","Indian plum",null,null,"Mountain goldenbanner","THMO6"]
[null,"POLYGONUM LAPATHIFOLIUM ","POLA4","Curlytop knotweed",null,"OEEL","OENOTHERA ELATA ","Hooker's evening primrose",null,null,"Mountain larkspur","DEGL3"]
[null,"POLYGONUM PENSYLVANICUM ","POPE2","Pennsylvania smartweed",null,"OEFL","OENOTHERA FLAVA ","Yellow evening primrose",null,null,"Mountain ninebark","PHMO4"]
[null,"POLYGONUM PERSICARIA ","POPE3","Spotted ladysthumb",null,"OLRI","OLIGONEURON RIGIDUM ","Rigid goldenrod",null,null,"Mountain sedge","CASC12"]
[null,"POLYGONUM POLYGALOIDES ","POPO4","Kellogg's knotweed",null,"ONAC","ONOPORDUM ACANTHIUM ","Scotch thistle",null,null,"Mountain snowberry","SYOR2"]
[null,"POLYGONUM PUNCTATUM ","POPU5","dotted smartweed",null,"OSVI","OSTRYA VIRGINIANA","Hophornbeam",null,null,"Mountain willow","SAEA"]
[null,"POTENTILLA ANSERINA ","POAN5","Silverweed cinquefoil (ARAN7)",null,"OXALI","OXALIS SPP ","Woodsorrel species",null,null,"Mud sedge","CALI7"]
[null,"POTENTILLA FLABELLIFOLIA ","POFL3","High mountain cinquefoil",null,"PACA6","PANICUM CAPILLARE","Witchgrass",null,null,"Muskflower","MIMO2"]
[null,"POTENTILLA GRACILIS ","POGR9","Slender cinquefoil",null,"PADI3","PASPALUM DILATATUM","Dallisgrass",null,null,"Nannyberry","VILE"]
[null,"POTENTILLA PENSYLVANICA ","POPE8","Pennsylvania cinquefoil",null,"PADI6","PASPALUM DISTICHUM","Knotgrass",null,null,"Narrowleaf cattail","TYAN"]
[null,"PTERIDIUM AQUILINUM ","PTAQ","Western brackenfern",null,"PAOB","PANICUM OBTUSUM","Vine mesquite",null,null,"Narrow-leaf cottonwood","POAN3"]
[null,"RANUNCULUS ABORTIVUS ","RAAB","Littleleaf buttercup",null,"PASM","PASCOPYRUM SMITHII","Western Wheatgrass (AGSM)",null,null,"Narrowleaf willow","SAEX"]
[null,"RANUNCULUS ALISMIFOLIUS ","RAAL","Plantain buttercup",null,"PAVI2","PANICUM VIRGATUM","Switchgrass",null,null,"Nebraska sedge","CANE2"]
[null,"RANUNCULUS AQUATILIS ","RAAQ","White water crowfoot",null,"PEGR2","PEDICULARIS GROENLANDICA ","Elephanthead lousewort",null,null,"Needle spikerush","ELAC"]
[null,"RANUNCULUS HYDROCHAROIDES ","RAHY","Frogbit buttercup",null,"PERY","PENSTEMON RYDBERGII ","Rydberg's meadow penstemon",null,null,"Needlegrass (STIPA)","ACHNA"]
[null,"RANUNCULUS MACOUNII ","RAMA2","Macoun's buttercup",null,"PHAR3","PHALARIS ARUNDINACEAE","Reed canarygrass",null,null,"Needlegrass species","STIPA"]
[null,"RANUNCULUS SPP. ","RANUN","Buttercup",null,"PHAU7","PHRAGMITES AUSTRALIS","Common reedgrass (PHCO15)",null,null,"Needleleaf giant hyssop","AGUR"]
[null,"RORIPPA NASTURTIUM-AQUATICUM","RONA2","Watercress (NAOF)",null,"PHCA11","PHYSOCARPUS CAPITATUS","Pacific ninebark",null,null,"Nevada bluegrass (POSE)","PONE3"]
[null,"RUDBECKIA HIRTA ","RUHI2","Blackeyed susan",null,"PHCO15","PHRAGMITES COMUNIS","Common reedgrass (PHAU7)",null,null,"Nevada bulrush","SCNE"]
[null,"RUDBECKIA LACINIATA ","RULA3","Cutleaf coneflower",null,"PHLE4","PHILADELPHUS LEWISII","Lewis' mock orange",null,null,"Nodding plumeless thistle (Musk thistle)","CANU4"]
[null,"RUDBECKIA OCCIDENTALIS ","RUOC2","Coneflower/Blackhead",null,"PHMA5","PHYSOCARPUS MALVACEUS","Mallow ninebark",null,null,"Nootka rose","RONU"]
[null,"RUMEX CRISPUS ","RUCR","Curly dock",null,"PHMO4","PHYSOCARPUS MONOGYNUS","Mountain ninebark",null,null,"Northern bedstraw","GABO2"]
[null,"SAGITTARIA CUNEATA ","SACU","Arumleaf arrowhead",null,"PHPR3","PHLEUM PRETENSE","Timothy",null,null,"Northern black currant","RIHU"]
[null,"SANGUISORBA CANADENSIS ","SACA14","Canadian burnet",null,"PICEA","PICEA SPP. ","Spruce",null,null,"Northern green orchid","PLAQ2"]
[null,"SANGUISORBA SITCHENSIS ","SASI10","Alaskan burnet",null,"PICO","PINUS CONTORTA ","Lodgepole pine",null,null,"Northern hawthorn","CRCH"]
[null,"SANICULA MARILANDICA ","SAMA2","Maryland sanicle",null,"PIEN","PICEA ENGELMANNII ","Engelmann spruce",null,null,"Northwest sandbar willow","SASE3"]
[null,"SAXIFRAGA ODONTOLOMA ","SAOD2","Brook saxifrage",null,"PIGL","PICEA GLAUCA ","White spruce",null,null,"Northwest territory sedge (Beaked sedge)","CAUT"]
[null,"SCROPHULARIA SPP ","SCROP","Figwort species",null,"PIMO3","PINUS MONTICOLA ","Western white pine",null,null,"Nuttall's alkaligrass","PUNU2"]
[null,"SCUTELLARIA GALERICULATA ","SCGA","Marsh skullcap",null,"PIPO","PINUS PONDEROSA ","Ponderosa pine",null,null,"Old man's whiskers","GETR"]
[null,"SENECIO HYDROPHILUS ","SEHY2","Water ragwort",null,"PIPU","PICEA PUNGENS ","Blue spruce",null,null,"Orange sneezeweed (HYHO)","HEHO5"]
[null,"SENECIO INTEGERRIMUS ","SEIN2","Lambstongue groundsel",null,"PLAQ2","PLATANTHERA AQUILONIS ","Northern green orchid",null,null,"Orchardgrass","DAGL"]
[null,"SENECIO SERRA ","SESE2","Tall ragwort",null,"PLER","PLANTAGO ERIOPODA ","Alkali plantain",null,null,"Oregon ash","FRLA"]
[null,"SENECIO TRIANGULARIS ","SETR","Arrowleaf ragwort",null,"PLMA2","PLANTAGO MAJOR ","Common plantain",null,null,"Oregon checkerbloom","SIOR"]
[null,"SIDALCEA OREGANA ","SIOR","Oregon checkerbloom",null,"PLMU3","PLURAPHIS MUTICA","Tobossa grass",null,null,"Oregon crab apple","MAFU"]
[null,"SOLANUM DULCAMARA ","SODU","Climbing nightshade",null,"PLSE","PLACHEA SERICEA","Arrowweed",null,null,"Oregon grape","MARE11"]
[null,"SOLIDAGO CANADENSIS ","SOCA6","Canada goldenrod",null,"PLWR2","PLATANUS WRIGHTII ","Arizona Sycamore",null,null,"Owl's-claw (HEHO5)","HYHO"]
[null,"SOLIDAGO GIGANTEA ","SOGI","Giant goldenrod",null,"POA","POA SPP","Bluegrass species",null,null,"Pacific aster (ASCH2)","SYCH4"]
[null,"SONCHUS ASPER ","SOAS","Spiny sowthistle",null,"POAM8","POLYGONUM AMPHIBIUM ","Western smartweek",null,null,"Pacific ninebark","PHCA11"]
[null,"SPARGANIUM EMERSUM ","SPEM2","European bur-reed",null,"POAN3","POPULUS ANGUSTIFOLIA ","Narrow-leaf cottonwood",null,null,"Panicled bulrush","SCMI2"]
[null,"SPARGANIUM EURYCARPUM ","SPEU","Giant bur-reed",null,"POAN5","POTENTILLA ANSERINA ","Silverweed cinquefoil (ARAN7)",null,null,"Paper birch","BEPA"]
[null,"STACHYS PILOSA ","STPI6","Hairy hedgenettle",null,"POAR3","POA ARIDA","Plains bluegrass",null,null,"Peachleaf willow","SAAM2"]
[null,"STELLARIA LONGIPES ","STLO2","Longstalk starwort",null,"POAV","POLYGONUM AVICULARE ","prostate knotweed",null,null,"Pennsylvania cinquefoil","POPE8"]
[null,"SYMPHYOTRICHUM ASCENDENS ","SYAS3","Western Aster",null,"POBA2","POPULUS BALSAMIFERA ","Black cottonwood (POTR15)",null,null,"Pennsylvania smartweed","POPE2"]
[null,"SYMPHYOTRICHUM CHILENSE ","SYCH4","Pacific aster (ASCH2)",null,"POBI6","POLYGONUM BISTORTOIDES ","American bistort",null,null,"Pioneer violet","VIGL"]
[null,"SYMPHYOTRICHUM CILIOLATUM ","SYCI","Lindley's aster",null,"POCO","POA COMPRESSA","Canada bluegrass",null,null,"Plains bluegrass","POAR3"]
[null,"SYMPHYOTRICHUM ERICOIDES ","SYER","White heath aster",null,"POCU3","POA CUSICKII","Cusick bluegrass",null,null,"Plains muhly","MUCU3"]
[null,"SYMPHYOTRICHUM FOLIACEUM ","SYFO2","Alpine leafybract aster (ASFO)",null,"PODE3","POPULUS DELTOIDES ","Eastern cottonwood",null,null,"Plains spring parsley","CYAC"]
[null,"SYMPHYOTRICHUM LANCEOLATUM ","SYLA6","White panicle aster (ASHE)",null,"PODO4","POLYGONUM DOUGLASII ","Douglas' knotweed",null,null,"Plantain buttercup","RAAL"]
[null,"SYMPHYOTRICHUM OBLONGIFOLIUM ","SYOB","Aromatic aster",null,"POFL3","POTENTILLA FLABELLIFOLIA ","High mountain cinquefoil",null,null,"Plum species","PRUNU"]
[null,"SYMPHYOTRICHUM SPATHULATUM ","SYSP","Western mountain aster (ASOC)",null,"POFR2","POPULUS FREMONTII ","Fremont Cottonwood",null,null,"Poison hemlock","COMA2"]
[null,"SYMPHYOTRICHUM Spp. ","SYMPH4","Aster Spp. (ASTER)",null,"POFR4","POTENTILLA FRUTICOSA","Shrubby cinquefoil (DAFR6)",null,null,"Ponderosa pine","PIPO"]
[null,"TANACETUM VULGARE ","TAVU","Common tansy",null,"POGR9","POTENTILLA GRACILIS ","Slender cinquefoil",null,null,"Poverty rush","JUTE"]
[null,"TARAXACUM OFFICINALE ","TAOF","Common Dandelion",null,"POLA4","POLYGONUM LAPATHIFOLIUM ","Curlytop knotweed",null,null,"Prairie (daisy) fleabane","ERST3"]
[null,"THALICTRUM DASYCARPUM ","THDA","Purple meadow-rue",null,"POMO5","POLYPOGON MONSPELIENSIS","Annual rabbitsfoot grass",null,null,"Prairie chickweed","CEAR4"]
[null,"THALICTRUM FENDLERI ","THFE","Fendler meadow-rue",null,"PONE3","POA NEVADENSIS","Nevada bluegrass (POSE)",null,null,"Prairie cordgrass","SPPE"]
[null,"THALICTRUM VENULOSUM ","THVE","Veiny meadow-rue",null,"POOC2","POLEMONIUM OCCIDENTALE ","Western polemonium",null,null,"Prairie rose","ROAR3"]
[null,"THERMOPSIS MONTANA  ","THMO6","Mountain goldenbanner",null,"POOP","POGONIA OPHIOGLOSSOIDES ","Snakemouth Orchid",null,null,"Prairie sedge","CAPR6"]
[null,"TRIFOLIUM LONGIPES ","TRLO","Longstalk clover",null,"POPA2","POA PALUSTRIS","Fowl bluegrass",null,null,"Prairie thistle","CICA11"]
[null,"TRIFOLIUM MONANTHUM ","TRMO2","Mountain carpet clover",null,"POPE2","POLYGONUM PENSYLVANICUM ","Pennsylvania smartweed",null,null,"Prickly Lettuce","LASE"]
[null,"TRIFOLIUM PRATENSE ","TRPR2","Red clover",null,"POPE3","POLYGONUM PERSICARIA ","Spotted ladysthumb",null,null,"Prickly rose","ROAC"]
[null,"TRIFOLIUM REPENS ","TRRE3","White clover",null,"POPE8","POTENTILLA PENSYLVANICA ","Pennsylvania cinquefoil",null,null,"Primrose monkeyflower","MIPR"]
[null,"TRIFOLIUM SPP. ","TRIFO","Clover Spp.",null,"POPO4","POLYGONUM POLYGALOIDES ","Kellogg's knotweed",null,null,"prostate knotweed","POAV"]
[null,"TRIFOLIUM WORMSKJOLDII ","TRWO","Cows clover",null,"POPR","POA PRATENSIS","Kentucky bluegrass",null,null,"Pulse milkvetch","ASTE5"]
[null,"TRIGLOCHIN MARITIMA ","TRMA20","Seaside arrowgrass",null,"POPU5","POLYGONUM PUNCTATUM ","dotted smartweed",null,null,"Purple loosestrife","LYSA2"]
[null,"TRIGLOCHIN PALUSTRE","TRPA28","Marsh arrowgrass",null,"POPUL","POPULUS SPP. ","Cottonwood",null,null,"Purple marshlocks (POPA14)","COPA28"]
[null,"TYPHA ANGUSTIFOLIA ","TYAN","Narrowleaf cattail",null,"POSE","POA SECUNDA","Sandberg bluegrass (PONE3)",null,null,"Purple meadow-rue","THDA"]
[null,"TYPHA DOMINGENSIS ","TYDO","Southern cattail",null,"POTR15","POPULUS TRICOCARPA ","Black cottonwood (POBA2)",null,null,"Pussy willow","SADI"]
[null,"TYPHA LATIFOLIA ","TYLA","Broadleaf Cattail",null,"POTR5","POPULUS TREMULOIDES ","Quaking aspen",null,null,"Quackgrass (AGRE2)","ELRE4"]
[null,"TYPHA SPP ","TYPHA","Cattail species",null,"POVI9","POLYPOGON VIRIDIS","Beardless Rabbitsfoot grass",null,null,"Quackgrass (ELRE2)","AGRE2"]
[null,"UPLAND FORB ","UF","Upland forb",null,"PRAM","PRUNUS AMERICANA","American plum",null,null,"Quaking aspen","POTR5"]
[null,"URTICA DIOICA ","URDI","Stinging nettle",null,"PRAN2","PRUNUS ANDERSONII","Desert peach",null,null,"Quill sedge","CATE3"]
[null,"VERATRUM CALIFORNICUM ","VECA2","California false hellebore",null,"PREM","PRUNUS EMARGINATA","Bitter cherry",null,null,"Red alder","ALRU2"]
[null,"VERBENA HASTATA ","VEHA2","Swamp verbena",null,"PRGL2","PROSOPIS GLANDULOSA","Honey mesquite",null,null,"Red clover","TRPR2"]
[null,"VERONICA AMERICANA ","VEAM2","American speedwell",null,"PRPU","PROSOPIS PUBESCENS","Screwbean mesquite",null,null,"Red Elderberry","SARA2"]
[null,"VERONICA ANAGALLIS-AQUATICA","VEAN2","Water speedwell",null,"PRUNU","PRUNUS SPP","Plum species",null,null,"Red Fescue","FERU2"]
[null,"VERONICA SPP. ","VERON","Speedwell",null,"PRVE","PROSOPIS VELUTINA","Velvet mesquite",null,null,"Red osier dogwood (COSE16)","COST4"]
[null,"VICIA AMERICANA ","VIAM","American vetch",null,"PRVI","PRUNUS VIRGINIA","Chokecherry",null,null,"Red osier dogwood (COST4)","COSE16"]
[null,"VIOLA ADUNCA ","VIAD","Kirk's violet",null,"PSME","PSEUDOTSUGA MENZIESII ","Douglas fir",null,null,"Red Willow","SALA3"]
[null,"VIOLA CANADENSIS ","VICA4","Canada violet",null,"PTAQ","PTERIDIUM AQUILINUM ","Western brackenfern",null,null,"Redtop","AGGI2"]
[null,"VIOLA GLABELLA ","VIGL","Pioneer violet",null,"PULE","PUCCINELLIA LEMMONII","Lemmon's alkaligrass",null,null,"Reed canarygrass","PHAR3"]
[null,"VIOLA MACLOSKEYI ","VIMA2","Small white violet",null,"PUNU2","PUCCINELLIA NUTTALLIANA","Nuttall's alkaligrass",null,null,"Resin birch","BEGL"]
[null,"VIOLA SORORIA ","VISO","Little sand violet",null,"QUMA2","QUERCUS MACROCARPA","Bur oak",null,null,"Rhizomatous sedge","CAREXRH"]
[null,"VIOLA SPP ","VIOLA","Violet species",null,"RAAB","RANUNCULUS ABORTIVUS ","Littleleaf buttercup",null,null,"Rhizomatous willow","SALIXRH"]
[null,"ZANTHIUM STRUMARIUM ","XAST","Rough cocklebur",null,"RAAL","RANUNCULUS ALISMIFOLIUS ","Plantain buttercup",null,null,"Rice cutgrass","LEOR"]
[null,null,null,null,null,"RAAQ","RANUNCULUS AQUATILIS ","White water crowfoot",null,null,"Richardson's alumroot","HERI"]
[null,null,null,null,null,"RAHY","RANUNCULUS HYDROCHAROIDES ","Frogbit buttercup",null,null,"Richardson's geranium","GERI"]
["SHRUBS","ACER CIRCINATUM","ACCI","Vine maple",null,"RAMA2","RANUNCULUS MACOUNII ","Macoun's buttercup",null,null,"Rigid goldenrod","OLRI"]
[null,"ACACIA CONSTRICTA","ACCO2","Whitethorn acacia",null,"RANUN","RANUNCULUS SPP. ","Buttercup",null,null,"Roadside agrimony","AGST"]
[null,"ACACIA GREGGII","ACGR","Catclaw acacia",null,"RHAL","RHAMNUS ALNIFOLIA","Alderleaf buckthorn",null,null,"Rocky Mountain iris","IRMI"]
[null,"ACER GLABRUM","ACGL","Rocky Mountain Maple",null,"RHAR4","RHUS AROMATICA","Fragrant sumac",null,null,"Rocky Mountain juniper","JUSC2"]
[null,"ACER GRANDIDENTATUM","ACGR3","Big tooth maple",null,"RHCA3","RHAMNUS CATHARTICA","Common buckthorn",null,null,"Rocky Mountain Maple","ACGL"]
[null,"ACER SPP.","ACER","Maple spp.",null,"RHTR","RHUS TRILOBATA","Skunkbush sumac",null,null,"Rocky Mountain sedge","CASA10"]
[null,"ALLENROLFEA OCCICENTALIS","ALOC2","Iodine Bush",null,"RIAM2","RIBES AMERICANUM","American black currant",null,null,"Rose species","ROSA5"]
[null,"ALNUS INCANA","ALIN2","Mountain Alder",null,"RIAU","RIBES AUREUM","Golden Currant, Buffalo Currant (RIOD)",null,null,"Rosy pussytoes","ANRO2"]
[null,"ALNUS SINUATA","ALSI3","Sitka alder (ALVI5)",null,"RIBES","RIBES SPP","Currant",null,null,"Rough barnyardgrass","ECMU2"]
[null,"ALNUS VIRIDIS","ALVI5","Green alder (ALSI3)",null,"RICE","RIBES CEREUM","Wax currant",null,null,"Rough Bentgrass","AGSC5"]
[null,"AMELANCHIER ALNIFOLIA","AMAL2","Serviceberry",null,"RIHU","RIBES HUDSONIANUM","Northern black currant",null,null,"Rough cocklebur","XAST"]
[null,"AMORPHA FRUTICOSA","AMFR","False Indigo",null,"RIIN2","RIBES INERME","Whitestem gooseberry",null,null,"Round leafed hawthorn","CRSU5"]
[null,"AMORPHA NANA","AMNA","Dwarf wild indigo",null,"RIIR","RIBES IRRIGUUM","Idaho gooseberry (RIOX)",null,null,"Rubber rabbitbrush (CHNA2)","ERNA10"]
[null,"ARCTOSTAPHYLOS UVA-URSI","ARUV","Bearberry",null,"RIOD","RIBES ODORATUM","Buffalo currant (RIAU)",null,null,"Rubber rabbitbrush (ERNA10)","CHNA2"]
[null,"ARTEMISIA CANA","ARCA13","Silver sagebrush",null,"RIOX","RIBES OXYACANTHOIDES","Idaho gooseberry (RIIR)",null,null,"Rush species","JUNCU"]
[null,"ARTEMISIA TRIDENTATA","ARTR2","Basin big sagebrush",null,"RIVI3","RIBES VISCOSISSIMUM","Sticky Currant",null,null,"Russian olive","ELAN"]
[null,"ATRIPLEX CONESCENS","ATCA2","Fourwing saltbrush",null,"RK",null,"Embedded rock",null,null,"Rydberg's meadow penstemon","PERY"]
[null,"ATRIPLEX LENTIFORMIS","ATLE","Big saltbrush",null,"ROAC","ROSA ACICULARIS","Prickly rose",null,null,"Sageleaf willow","SACA4"]
[null,"BACCHARIS EMORYI","BAEM","Emory's baccharis",null,"ROAR3","ROSA ARKANSANA","Prairie rose",null,null,"Salmonberry","RUSP"]
[null,"BACCHARIS SALICIFOLIA","BASA4","Willow Baccharis",null,"RONA2","RORIPPA NASTURTIUM-AQUATICUM","Watercress (NAOF)",null,null,"Salt heliotrope","HECU3"]
[null,"BETULA GLANDULOSA","BEGL","Resin birch",null,"RONU","ROSA NUTKANA","Nootka rose",null,null,"Saltcedar","TARA"]
[null,"BETULA OCCIDENTALIS","BEOC2","Water birch",null,"ROPI2","ROSA PISOCARPA","Cluster Rose",null,null,"Sandbar willow","SAIN3"]
[null,"BETULA PUMULA","BEPU4","Bog Birch",null,"ROSA5","ROSA SPP","Rose species",null,null,"Sandberg bluegrass (PONE3)","POSE"]
[null,"CEANOTHUS SPP","CEANO","Ceanothus species",null,"ROWO","ROSA WOODSII","Woods' rose",null,null,"Sartwell's sedge","CASA8"]
[null,"CELTIS LAEVIGATA","CELA","Sugarberry",null,"RUBUS","RUBUS SPP","Blackberry species",null,null,"Scarlet monkey flower","MICA3"]
[null,"CEPHALANTHUS OCCIDENTALIS","CEOC2","Common buttonbush",null,"RUCR","RUMEX CRISPUS ","Curly dock",null,null,"Scotch thistle","ONAC"]
[null,"CHILOPSIS LINEARIS","CHLI2","Desert willow",null,"RUHI2","RUDBECKIA HIRTA ","Blackeyed susan",null,null,"Scouler willow","SASC"]
[null,"CHLORACANTHA SPINOSA","CHSP11","Spiny chloracantha",null,"RUID","RUBUS IDAEUS","American red raspberry",null,null,"Scouringrush horsetail","EQHY"]
[null,"CHRYSOTHAMNUS NAUSEOSUS","CHNA2","Rubber rabbitbrush (ERNA10)",null,"RULA3","RUDBECKIA LACINIATA ","Cutleaf coneflower",null,null,"Screwbean mesquite","PRPU"]
[null,"CHRYSOTHAMNUS VISCIDIFLORUS","CHVI8","Yellow rabbitbrush",null,"RUOC2","RUDBECKIA OCCIDENTALIS ","Coneflower/Blackhead",null,null,"Sea milkwort","GLMA"]
[null,"CLEMATIS LIGUSTIFOLIA","CLLI2","White Clematis",null,"RUPA","RUBUS PARVIFLORUS","Thimbleberry",null,null,"Seaside arrowgrass","TRMA20"]
[null,"CORNUS CANADENSIS ","COCA13","Bunchberry dogwood",null,"RUSP","RUBUS SPECTABILIS","Salmonberry",null,null,"Sedge","CAREX"]
[null,"CORNUS SERICEA","COSE16","Red osier dogwood (COST4)",null,"SAAL2","SALIX ALBA ","White willow",null,null,"Seep monkey flower","MIGU"]
[null,"CORNUS STOLONIFERA","COST4","Red osier dogwood (COSE16)",null,"SAAM2","SALIX AMYGDALOIDES","Peachleaf willow",null,null,"Serviceberry","AMAL2"]
[null,"CORYLUS CORNUTA","COCO6","Beaked hazelnut",null,"SAAR14","SALIX ARIZONICA","Arizona willow",null,null,"Sheldon's sedge","CASH"]
[null,"CRATAEGUS CHRYSOCARPA","CRCH","Northern hawthorn",null,"SAAR27","SALIX ARCTICA","Arctic willow",null,null,"Shining willow (SALA5)","SALU"]
[null,"CRATAEGUS DOUGLASII","CRDO2","Black hawthorn",null,"SABA3","SALIX BARCLAYI","Barclay's willow",null,null,"Short-awned foxtail","ALAE"]
[null,"CRATAEGUS SUCCULANTA","CRSU5","Round leafed hawthorn",null,"SABE2","SALIX BEBBIANA","Bebb willow",null,null,"Short-beaked sedge","CASI2"]
[null,"CYLINDROPUNTIA DAVISII","CYDA4","Thistle cholla",null,"SABO","SALIX BONPLANDIANA ","Bonpland willow",null,null,"Shrubby cinquefoil (DAFR6)","POFR4"]
[null,"DASIPHORA FRUTICOSA","DAFR6","Shrubby cinquefoil (POFR4)",null,"SABO2","SALIX BOOTHII","Booth's willow",null,null,"Shrubby cinquefoil (POFR4)","DAFR6"]
[null,"ELAEAGNUS ANGUSTIFOLIA","ELAN","Russian olive",null,"SABR","SALIX BRACHYCARPA","Barren-ground willow",null,null,"Sierra rush","JUNE"]
[null,"ELAEAGNUS COMMUTATA","ELCO","Silverberry",null,"SACA14","SANGUISORBA CANADENSIS ","Canadian burnet",null,null,"Sierra willow","SAOR"]
[null,"ERICAMERIA NAUSEOSA","ERNA10","Rubber rabbitbrush (CHNA2)",null,"SACA4","SALIX CANDIDA","Sageleaf willow",null,null,"Silver buffaloberry","SHAR"]
[null,"JUNIPERUS COMMUNIS","JUCO6","Common juniper",null,"SACO2","SALIX COMMUTATA","Undergreen willow",null,null,"Silver sagebrush","ARCA13"]
[null,"JUNIPERUS OSTEOSPERMA","JUOS","Utah juniper",null,"SACU","SAGITTARIA CUNEATA ","Arumleaf arrowhead",null,null,"Silverberry","ELCO"]
[null,"KALMIA MICROPHYLLA","KAMI","Bog Laurel",null,"SADI","SALIX DISCOLOR","Pussy willow",null,null,"Silverweed cinquefoil (ARAN7)","POAN5"]
[null,"LEDUM GLANDULOSUM","LEGL","Trapper's Tea",null,"SADR","SALIX DRUMMONDIANA","Drummond's willow",null,null,"Silverweed cinquefoil (POAN5)","ARAN7"]
[null,"LIGUSTRUM VALGARE","LIVU","European privet",null,"SAEA","SALIX EASTWOODII","Mountain willow",null,null,"Sitka alder (ALVI5)","ALSI3"]
[null,"LONICERA INVOLUCRATA","LOIN5","Black Twinberry",null,"SAER","SALIX ERIOCEPHALA","Missouri willow",null,null,"Sitka willow","SASI2"]
[null,"LONICERA SPP.","LONIC","Honeysuckle",null,"SAEX","SALIX EXIGUA","Narrowleaf willow",null,null,"Skunkbush sumac","RHTR"]
[null,"LONICERA UTAHENSIS","LOUT2","Utah Honeysuckle",null,"SAFA","SALIX FARRIAE","Farr willow",null,null,"Slender cinquefoil","POGR9"]
[null,"MAHONIA REPENS","MARE11","Oregon grape",null,"SAGE2","SALIX GEYERIANA","Geyer's willow",null,null,"Slender muhly","MUFI2"]
[null,"MALUS FUSCA","MAFU","Oregon crab apple",null,"SAGO","SALIX GOODDINGII","Gooding's willow",null,null,"Slender wheatgrass","ELTR7"]
[null,"MESIC SHRUB","MS","Mesic shrub",null,"SAHO","SALIX HOOKERIANA","Dune willow",null,null,"Slenderbeak sedge","CAAT3"]
[null,"OEMLERIA CERASIFORMIS","OECE","Indian plum",null,"SAIN3","SALIX INTERIOR","Sandbar willow",null,null,"Slimstem reedgrass","CAST36"]
[null,"OSTRYA VIRGINIANA","OSVI","Hophornbeam",null,"SAIR","SALIX IRRORATA","Dewystem willow",null,null,"Small floating mannagrass","GLBO"]
[null,"PHILADELPHUS LEWISII","PHLE4","Lewis' mock orange",null,"SAJE","SALIX JEPSONII","Jepson willow",null,null,"Small white violet","VIMA2"]
[null,"PHYSOCARPUS CAPITATUS","PHCA11","Pacific ninebark",null,"SALA3","SALIX LAEVIGATA","Red Willow",null,null,"Smallflower tamarisk","TAPA4"]
[null,"PHYSOCARPUS MALVACEUS","PHMA5","Mallow ninebark",null,"SALA5","SALIX LASIANDRA","Whiplash willow (SALU)",null,null,"Small-winged sedge","CAMI7"]
[null,"PHYSOCARPUS MONOGYNUS","PHMO4","Mountain ninebark",null,"SALA6","SALIX LASIOLEPIS","Arroyo willow",null,null,"Smooth brome","BRIN2"]
[null,"PLACHEA SERICEA","PLSE","Arrowweed",null,"SALE","SALIX LEMMONII","Lemon's willow",null,null,"smooth horsetail","EQLA"]
[null,"POTENTILLA FRUTICOSA","POFR4","Shrubby cinquefoil (DAFR6)",null,"SALIX","SALIX SPP.","Willow",null,null,"Snakemouth Orchid","POOP"]
[null,"PROSOPIS GLANDULOSA","PRGL2","Honey mesquite",null,"SALIXCL","SALIX SPP CLUMPED","Clumped willow",null,null,"Snowberry","SYMPH"]
[null,"PROSOPIS PUBESCENS","PRPU","Screwbean mesquite",null,"SALIXRH","SALIX SPP RHIZOMATOUS","Rhizomatous willow",null,null,"Softleaf sedge","CADI6"]
[null,"PROSOPIS VELUTINA","PRVE","Velvet mesquite",null,"SALU","SALIX LUCIDA","Shining willow (SALA5)",null,null,"Softstem bulrush (SCTA2)","SCVA"]
[null,"PRUNUS AMERICANA","PRAM","American plum",null,"SALU2","SALIX LUTEA","Yellow willow",null,null,"Softstem bulrush (SCVA)","SCTA2"]
[null,"PRUNUS ANDERSONII","PRAN2","Desert peach",null,"SAMA2","SANICULA MARILANDICA ","Maryland sanicle",null,null,"Southern cattail","TYDO"]
[null,"PRUNUS EMARGINATA","PREM","Bitter cherry",null,"SAMO2","SALIX MONTICOLA","Mountain willow",null,null,"Speedwell","VERON"]
[null,"PRUNUS SPP","PRUNU","Plum species",null,"SANI4","SAMBUCUS NIGRA","Black Elderberry",null,null,"Spikerush","ELEOC"]
[null,"PRUNUS VIRGINIA","PRVI","Chokecherry",null,"SAOD2","SAXIFRAGA ODONTOLOMA ","Brook saxifrage",null,null,"Spiny chloracantha","CHSP11"]
[null,"QUERCUS MACROCARPA","QUMA2","Bur oak",null,"SAOR","SALIX ORESTERA","Sierra willow",null,null,"Spiny sowthistle","SOAS"]
[null,"RHAMNUS ALNIFOLIA","RHAL","Alderleaf buckthorn",null,"SAPE5","SALIX PETIOLARIS","meadow willow",null,null,"Spotted joe pye weed (EUMA12)","EUMA9"]
[null,"RHAMNUS CATHARTICA","RHCA3","Common buckthorn",null,"SAPL2","SALIX PLANIFOLIA","Diamondleaf willow",null,null,"Spotted joe pye weed (EUMA9)","EUMA12"]
[null,"RHUS AROMATICA","RHAR4","Fragrant sumac",null,"SAPR3","SALIX PROLIXA","MacKenzie's willow",null,null,"Spotted knapweed","CEST8"]
[null,"RHUS TRILOBATA","RHTR","Skunkbush sumac",null,"SAPS","SALIX PSEUDO-MONTICOLA","False mountain willow",null,null,"Spotted ladysthumb","POPE3"]
[null,"RIBES AMERICANUM","RIAM2","American black currant",null,"SARA2","SAMBUCUS RACEMOSA","Red Elderberry",null,null,"Spruce","PICEA"]
[null,"RIBES AUREUM","RIAU","Golden Currant, Buffalo Currant (RIOD)",null,"SASA4","SAPINDUS SAPONARIA","Wingleaf soapberry",null,null,"Sticky Currant","RIVI3"]
[null,"RIBES CEREUM","RICE","Wax currant",null,"SASC","SALIX SCOULERIANA","Scouler willow",null,null,"Sticky geranium","GEVI2"]
[null,"RIBES HUDSONIANUM","RIHU","Northern black currant",null,"SASE2","SALIX SERISSIMA","Autumn willow",null,null,"Stinging nettle","URDI"]
[null,"RIBES INERME","RIIN2","Whitestem gooseberry",null,"SASE3","SALIX SESSILIFOLIA","Northwest sandbar willow",null,null,"Straightleaf rush","JUOR"]
[null,"RIBES IRRIGUUM","RIIR","Idaho gooseberry (RIOX)",null,"SASI10","SANGUISORBA SITCHENSIS ","Alaskan burnet",null,null,"Streamside bluebells","MECI3"]
[null,"RIBES ODORATUM","RIOD","Buffalo currant (RIAU)",null,"SASI2","SALIX SITCHENSIS","Sitka willow",null,null,"Subalpine aster","EUME17"]
[null,"RIBES OXYACANTHOIDES","RIOX","Idaho gooseberry (RIIR)",null,"SATA","SALIX TAXIFOLIA ","Yewleaf willow",null,null,"Sugarberry","CELA"]
[null,"RIBES SPP","RIBES","Currant",null,"SATW","SALIX TWEEDYI","Tweedy's willow",null,null,"Swamp verbena","VEHA2"]
[null,"RIBES VISCOSISSIMUM","RIVI3","Sticky Currant",null,"SAVE4","SARCOBATUS VERMICULATUS","Greasewood",null,null,"Sweetclover (MEOF)","MEAL2"]
[null,"ROSA ACICULARIS","ROAC","Prickly rose",null,"SAWO","SALIX WOLFII","Wolf's willow",null,null,"Sweetclover (Yellow and white) (MEAL2)","MEOF"]
[null,"ROSA ARKANSANA","ROAR3","Prairie rose",null,"SCAC","SCIRPUS ACUTUS","Hardstem bulrush (SCAC3)",null,null,"Switchgrass","PAVI2"]
[null,"ROSA NUTKANA","RONU","Nootka rose",null,"SCAC3","SCHOENOPLECTUS ACUTUS","Hardstem bulrush (SCAC)",null,null,"Swordleaf rush","JUEN"]
[null,"ROSA PISOCARPA","ROPI2","Cluster Rose",null,"SCAM2","SCIRPUS AMERICANUS","Chairmaker's bulrush (SCAM6)",null,null,"Tall hairy agrimony","AGGR2"]
[null,"ROSA SPP","ROSA5","Rose species",null,"SCAM6","SCHOENOPLECTUS AMERICANUS","Chairmaker's bulrush (SCAM2)",null,null,"Tall ragwort","SESE2"]
[null,"ROSA WOODSII","ROWO","Woods' rose",null,"SCAT4","SCIRPUS ATROCINCTUS","Blackgirdle bulrush",null,null,"Tapered leaf flatsedge","CYAC2"]
[null,"RUBUS IDAEUS","RUID","American red raspberry",null,"SCCO","SCIRPUS CONGDONII","Condon's bulrush",null,null,"Thickstem Aster (ASIN3)","EUIN9"]
[null,"RUBUS PARVIFLORUS","RUPA","Thimbleberry",null,"SCCY","SCIRPUS CYPERINUS","Woolgrass",null,null,"Thickstem Aster (EUIN9)","ASIN3"]
[null,"RUBUS SPECTABILIS","RUSP","Salmonberry",null,"SCFE","SCOLOCHLOA FESTUCACEA","Common rivergrass",null,null,"Thimbleberry","RUPA"]
[null,"RUBUS SPP","RUBUS","Blackberry species",null,"SCGA","SCUTELLARIA GALERICULATA ","Marsh skullcap",null,null,"Thinleaf huckleberry","VAME"]
[null,"SALIX AMYGDALOIDES","SAAM2","Peachleaf willow",null,"SCHOE6","SCHOENOPLECTUS Spp.","Bulrush species",null,null,"Thistle cholla","CYDA4"]
[null,"SALIX ARCTICA","SAAR27","Arctic willow",null,"SCIRP","SCIRPUS SPP","Bulrush species",null,null,"Threepetal bedstraw","GATR2"]
[null,"SALIX ARIZONICA","SAAR14","Arizona willow",null,"SCMA","SCIRPUS MARITIMUS","Cosmopolitan bulrush (SCMA8)",null,null,"Timber oatgrass","DAIN"]
[null,"SALIX BARCLAYI","SABA3","Barclay's willow",null,"SCMA8","SCHOENOPLECTUS MARITIMUS","Cosmopolitan bulrush (SCMA)",null,null,"Timothy","PHPR3"]
[null,"SALIX BEBBIANA","SABE2","Bebb willow",null,"SCMI2","SCIRPUS MICROCARPUS","Panicled bulrush",null,null,"Toad Rush","JUBU"]
[null,"SALIX BOOTHII","SABO2","Booth's willow",null,"SCNE","SCIRPUS NEVADENSIS","Nevada bulrush",null,null,"Tobossa grass","PLMU3"]
[null,"SALIX BRACHYCARPA","SABR","Barren-ground willow",null,"SCPA8","SCIRPUS PALLIDUS","Cloaked bulrush",null,null,"Torrey rush","JUTO"]
[null,"SALIX CANDIDA","SACA4","Sageleaf willow",null,"SCPU10","SCHOENOPLECTUS PUNGENS","Common Threesquare bulrush (SCPU3)",null,null,"Trapper's Tea","LEGL"]
[null,"SALIX COMMUTATA","SACO2","Undergreen willow",null,"SCPU3","SCIRPUS PUNGENS","Common Threesquare bulrush (SCPU10)",null,null,"Tufted (clumped) sedge","CAREXTU"]
[null,"SALIX DISCOLOR","SADI","Pussy willow",null,"SCROP","SCROPHULARIA SPP ","Figwort species",null,null,"Tufted hairgrass","DECE"]
[null,"SALIX DRUMMONDIANA","SADR","Drummond's willow",null,"SCTA2","SCHOENOPLECTUS TABERNAEMONTANI","Softstem bulrush (SCVA)",null,null,"Tufted sedge","CALE8"]
[null,"SALIX EASTWOODII","SAEA","Mountain willow",null,"SCVA","SCIRPUS VALIDUS","Softstem bulrush (SCTA2)",null,null,"Tweedy's willow","SATW"]
[null,"SALIX ERIOCEPHALA","SAER","Missouri willow",null,"SEHY2","SENECIO HYDROPHILUS ","Water ragwort",null,null,"Twinflower","LIBO3"]
[null,"SALIX EXIGUA","SAEX","Narrowleaf willow",null,"SEIN2","SENECIO INTEGERRIMUS ","Lambstongue groundsel",null,null,"Undergreen willow","SACO2"]
[null,"SALIX FARRIAE","SAFA","Farr willow",null,"SESE2","SENECIO SERRA ","Tall ragwort",null,null,"Upland forb","UF"]
[null,"SALIX GEYERIANA","SAGE2","Geyer's willow",null,"SETR","SENECIO TRIANGULARIS ","Arrowleaf ragwort",null,null,"Upland grass","UG"]
[null,"SALIX GOODDINGII","SAGO","Gooding's willow",null,"SHAR","SHEPHERDIA ARGENTEA","Silver buffaloberry",null,null,"Upland shrub","US"]
[null,"SALIX HOOKERIANA","SAHO","Dune willow",null,"SIOR","SIDALCEA OREGANA ","Oregon checkerbloom",null,null,"Utah Honeysuckle","LOUT2"]
[null,"SALIX INTERIOR","SAIN3","Sandbar willow",null,"SOAS","SONCHUS ASPER ","Spiny sowthistle",null,null,"Utah juniper","JUOS"]
[null,"SALIX IRRORATA","SAIR","Dewystem willow",null,"SOCA6","SOLIDAGO CANADENSIS ","Canada goldenrod",null,null,"Variegated horsetail","EQVA"]
[null,"SALIX JEPSONII","SAJE","Jepson willow",null,"SODU","SOLANUM DULCAMARA ","Climbing nightshade",null,null,"Veiny meadow-rue","THVE"]
[null,"SALIX LAEVIGATA","SALA3","Red Willow",null,"SOGI","SOLIDAGO GIGANTEA ","Giant goldenrod",null,null,"Velvet ash","FRVE2"]
[null,"SALIX LASIANDRA","SALA5","Whiplash willow (SALU)",null,"SONU2","SORGHASTRUM NUTANS","Indian grass",null,null,"Velvet mesquite","PRVE"]
[null,"SALIX LASIOLEPIS","SALA6","Arroyo willow",null,"SOSC2","SORBUS SCOPULINA","Mountain ash",null,null,"Vine mesquite","PAOB"]
[null,"SALIX LEMMONII","SALE","Lemon's willow",null,"SPAI","SPOROBOLUS AIROIDES","Alkali sacaton",null,null,"Violet species","VIOLA"]
[null,"SALIX LUCIDA","SALU","Shining willow (SALA5)",null,"SPBE2","SPIRAEA BETULIFOLIA","White spirea",null,null,"Virginia strawberry","FRVI"]
[null,"SALIX LUTEA","SALU2","Yellow willow",null,"SPDO","SPIRAEA DOUGLASII","Douglas Spirea",null,null,"Water birch","BEOC2"]
[null,"SALIX MONTICOLA","SAMO2","Mountain willow",null,"SPEM2","SPARGANIUM EMERSUM ","European bur-reed",null,null,"Water Foxtail","ALGE2"]
[null,"SALIX ORESTERA","SAOR","Sierra willow",null,"SPEU","SPARGANIUM EURYCARPUM ","Giant bur-reed",null,null,"Water horsetail","EQFL"]
[null,"SALIX PETIOLARIS","SAPE5","meadow willow",null,"SPGR","SPARTINA GRACILIS","Alkali cordgrass",null,null,"Water ragwort","SEHY2"]
[null,"SALIX PLANIFOLIA","SAPL2","Diamondleaf willow",null,"SPPE","SPARTINA PECTINATA","Prairie cordgrass",null,null,"Water sedge","CAAQ"]
[null,"SALIX PROLIXA","SAPR3","MacKenzie's willow",null,"SPWR2","SPOROBOLUS WRIGHTII","Big sacaton",null,null,"Water speedwell","VEAN2"]
[null,"SALIX PSEUDO-MONTICOLA","SAPS","False mountain willow",null,"STCO3","STIPA COLUMBIANA","Columbia needlegrass (ACNE9)",null,null,"Water whorlgrass","CAAQ3"]
[null,"SALIX SCOULERIANA","SASC","Scouler willow",null,"STIPA","STIPA SPP","Needlegrass species",null,null,"Watercress (NAOF)","RONA2"]
[null,"SALIX SERISSIMA","SASE2","Autumn willow",null,"STLO2","STELLARIA LONGIPES ","Longstalk starwort",null,null,"Watercress (RONA2)","NAOF"]
[null,"SALIX SESSILIFOLIA","SASE3","Northwest sandbar willow",null,"STPI6","STACHYS PILOSA ","Hairy hedgenettle",null,null,"Wax currant","RICE"]
[null,"SALIX SITCHENSIS","SASI2","Sitka willow",null,"SYAL","SYMPHORICARPOS ALBUS","Common snowberry",null,null,"Western Aster","SYAS3"]
[null,"SALIX SPP CLUMPED","SALIXCL","Clumped willow",null,"SYAS3","SYMPHYOTRICHUM ASCENDENS ","Western Aster",null,null,"Western Aster (SYCH4)","ASCH2"]
[null,"SALIX SPP RHIZOMATOUS","SALIXRH","Rhizomatous willow",null,"SYCH4","SYMPHYOTRICHUM CHILENSE ","Pacific aster (ASCH2)",null,null,"Western brackenfern","PTAQ"]
[null,"SALIX SPP.","SALIX","Willow",null,"SYCI","SYMPHYOTRICHUM CILIOLATUM ","Lindley's aster",null,null,"Western columbine","AQFO"]
[null,"SALIX TWEEDYI","SATW","Tweedy's willow",null,"SYER","SYMPHYOTRICHUM ERICOIDES ","White heath aster",null,null,"Western hemlock","TSHE"]
[null,"SALIX WOLFII","SAWO","Wolf's willow",null,"SYFO2","SYMPHYOTRICHUM FOLIACEUM ","Alpine leafybract aster (ASFO)",null,null,"Western juniper","JUOC"]
[null,"SAMBUCUS NIGRA","SANI4","Black Elderberry",null,"SYLA6","SYMPHYOTRICHUM LANCEOLATUM ","White panicle aster (ASHE)",null,null,"Western larch","LAOC"]
[null,"SAMBUCUS RACEMOSA","SARA2","Red Elderberry",null,"SYMPH","SYMPHORICARPUS SPP.","Snowberry",null,null,"Western mountain aster (ASOC)","SYSP"]
[null,"SAPINDUS SAPONARIA","SASA4","Wingleaf soapberry",null,"SYMPH4","SYMPHYOTRICHUM Spp. ","Aster Spp. (ASTER)",null,null,"Western mountain aster (SYST)","ASOC"]
[null,"SARCOBATUS VERMICULATUS","SAVE4","Greasewood",null,"SYOB","SYMPHYOTRICHUM OBLONGIFOLIUM ","Aromatic aster",null,null,"Western poison ivy","TORY"]
[null,"SHEPHERDIA ARGENTEA","SHAR","Silver buffaloberry",null,"SYOC","SYMPHORICARPOS OCCIDENTALIS","Western snowberry",null,null,"Western polemonium","POOC2"]
[null,"SORBUS SCOPULINA","SOSC2","Mountain ash",null,"SYOR2","SYMPHORICARPOS OREOPHILUS","Mountain snowberry",null,null,"Western red cedar","THPL"]
[null,"SPIRAEA BETULIFOLIA","SPBE2","White spirea",null,"SYSP","SYMPHYOTRICHUM SPATHULATUM ","Western mountain aster (ASOC)",null,null,"Western smartweek","POAM8"]
[null,"SPIRAEA DOUGLASII","SPDO","Douglas Spirea",null,"TACH2","TAMARIX CHINENSIS","Five-stamen saltcedar",null,null,"Western snowberry","SYOC"]
[null,"SYMPHORICARPOS ALBUS","SYAL","Common snowberry",null,"TAOF","TARAXACUM OFFICINALE ","Common Dandelion",null,null,"Western water hemlock","CIDO"]
[null,"SYMPHORICARPOS OCCIDENTALIS","SYOC","Western snowberry",null,"TAPA4","TAMARIX PARVIFLORA","Smallflower tamarisk",null,null,"Western Wheatgrass (AGSM)","PASM"]
[null,"SYMPHORICARPOS OREOPHILUS","SYOR2","Mountain snowberry",null,"TARA","TAMARIX RAMOSISSIMA","Saltcedar",null,null,"Western Wheatgrass (PASM)","AGSM"]
[null,"SYMPHORICARPUS SPP.","SYMPH","Snowberry",null,"TAVU","TANACETUM VULGARE ","Common tansy",null,null,"Western white pine","PIMO3"]
[null,"TAMARIX CHINENSIS","TACH2","Five-stamen saltcedar",null,"THDA","THALICTRUM DASYCARPUM ","Purple meadow-rue",null,null,"Wheat sedge","CAAT2"]
[null,"TAMARIX PARVIFLORA","TAPA4","Smallflower tamarisk",null,"THFE","THALICTRUM FENDLERI ","Fendler meadow-rue",null,null,"Whiplash willow (SALU)","SALA5"]
[null,"TAMARIX RAMOSISSIMA","TARA","Saltcedar",null,"THMO6","THERMOPSIS MONTANA  ","Mountain goldenbanner",null,null,"White alder","ALRH2"]
[null,"TOXICODENDRON RYDBERGII","TORY","Western poison ivy",null,"THPL","THUJA PLICATA ","Western red cedar",null,null,"White Clematis","CLLI2"]
[null,"UPLAND SHRUB","US","Upland shrub",null,"THVE","THALICTRUM VENULOSUM ","Veiny meadow-rue",null,null,"White clover","TRRE3"]
[null,"VACCINIUM CESPITOSUM","VACE","Dwarf bilberry",null,"TORY","TOXICODENDRON RYDBERGII","Western poison ivy",null,null,"White heath aster","SYER"]
[null,"VACCINIUM MEMBRANACEUM","VAME","Thinleaf huckleberry",null,"TRIFO","TRIFOLIUM SPP. ","Clover Spp.",null,null,"White marsh marigold","CALE4"]
[null,"VACCINIUM SCOPARIUM","VASC","Grouse whortleberry",null,"TRLO","TRIFOLIUM LONGIPES ","Longstalk clover",null,null,"White panicle aster (ASHE)","SYLA6"]
[null,"VACCINIUM SPP.","VACA","Blueberry",null,"TRMA20","TRIGLOCHIN MARITIMA ","Seaside arrowgrass",null,null,"White sagebrush","ARLU"]
[null,"VACCINIUM ULIGINOSUM","VAUL","Bog blueberry",null,"TRMO2","TRIFOLIUM MONANTHUM ","Mountain carpet clover",null,null,"White spirea","SPBE2"]
[null,"VIBURNUM LENTAGO","VILE","Nannyberry",null,"TRPA28","TRIGLOCHIN PALUSTRE","Marsh arrowgrass",null,null,"White spruce","PIGL"]
[null,null,null,null,null,"TRPR2","TRIFOLIUM PRATENSE ","Red clover",null,null,"White water crowfoot","RAAQ"]
[null,null,null,null,null,"TRRE3","TRIFOLIUM REPENS ","White clover",null,null,"White willow","SAAL2"]
["TREES","ABIES GRANDIS ","ABGR","Grand fir",null,"TRWO","TRIFOLIUM WORMSKJOLDII ","Cows clover",null,null,"Whitestem gooseberry","RIIN2"]
[null,"ABIES LASIOCARPA ","ABLA","Subalpine fir",null,"TSHE","TSUGA HETEROPHYLLA ","Western hemlock",null,null,"Wild bergamot","MOFI"]
[null,"ACER CIRCINATUM ","ACCI","Vine maple",null,"TYAN","TYPHA ANGUSTIFOLIA ","Narrowleaf cattail",null,null,"Wild mint","MEAR4"]
[null,"ACER GLABRUM ","ACGL","Rocky Mountain Maple",null,"TYDO","TYPHA DOMINGENSIS ","Southern cattail",null,null,"Willow","SALIX"]
[null,"ACER GRANDIDENTATUM ","ACGR3","Big tooth maple",null,"TYLA","TYPHA LATIFOLIA ","Broadleaf Cattail",null,null,"Willow Baccharis","BASA4"]
[null,"ACER MACROPHYLLUM ","ACMA3","Big leaf maple",null,"TYPHA","TYPHA SPP ","Cattail species",null,null,"Wingleaf soapberry","SASA4"]
[null,"ACER NEGUNDO","ACNE2","Boxelder",null,"UF","UPLAND FORB ","Upland forb",null,null,"Witchgrass","PACA6"]
[null,"ACER SPP. ","ACER","Maple spp.",null,"UG","UPLAND GRASS","Upland grass",null,null,"Wolf's willow","SAWO"]
[null,"ALNUS INCANA ","ALIN2","Mountain Alder",null,"ULAM","ULMUS AMERICANA ","American Elm",null,null,"Woodland horsetail","EQSY"]
[null,"ALNUS OBLONGIFOLIA ","ALOB2","Arizona alder",null,"URDI","URTICA DIOICA ","Stinging nettle",null,null,"Woods' rose","ROWO"]
[null,"ALNUS RHOBIFOLIA ","ALRH2","White alder",null,"US","UPLAND SHRUB","Upland shrub",null,null,"Woodsorrel species","OXALI"]
[null,"ALNUS RUBRA ","ALRU2","Red alder",null,"VACA","VACCINIUM SPP.","Blueberry",null,null,"Woolgrass","SCCY"]
[null,"ALNUS SINUATA ","ALSI3","Sitka alder (ALVI5)",null,"VACE","VACCINIUM CESPITOSUM","Dwarf bilberry",null,null,"Wooly sedge (CALA11)","CAPE42"]
[null,"ALNUS VIRIDIS ","ALVI5","Green alder (ALSI3)",null,"VAME","VACCINIUM MEMBRANACEUM","Thinleaf huckleberry",null,null,"Wooly sedge (CAPE42)","CALA30"]
[null,"BETULA GLANDULOSA ","BEGL","Resin birch",null,"VASC","VACCINIUM SCOPARIUM","Grouse whortleberry",null,null,"Wooly-fruit sedge","CALA11"]
[null,"BETULA OCCIDENTALIS ","BEOC2","Water birch",null,"VAUL","VACCINIUM ULIGINOSUM","Bog blueberry",null,null,"Yellow evening primrose","OEFL"]
[null,"BETULA PAPYRIFERA ","BEPA","Paper birch",null,"VEAM2","VERONICA AMERICANA ","American speedwell",null,null,"Yellow ladyslipper","CYPA19"]
[null,"CELTIS LAEVIGATA ","CELA","Sugarberry",null,"VEAN2","VERONICA ANAGALLIS-AQUATICA","Water speedwell",null,null,"Yellow rabbitbrush","CHVI8"]
[null,"CORYLUS CORNUTA ","COCO6","Beaked hazelnut",null,"VECA2","VERATRUM CALIFORNICUM ","California false hellebore",null,null,"Yellow willow","SALU2"]
[null,"CRATAEGUS CHRYSOCARPA ","CRCH","Northern hawthorn",null,"VEHA2","VERBENA HASTATA ","Swamp verbena",null,null,"Yerba mansa","ANCA10"]
[null,"CRATAEGUS DOUGLASII ","CRDO2","Black hawthorn",null,"VERON","VERONICA SPP. ","Speedwell",null,null,"Yewleaf willow","SATA"]
[null,"CRATAEGUS SUCCULANTA ","CRSU5","Round leafed hawthorn",null,"VIAD","VIOLA ADUNCA ","Kirk's violet"]
[null,"ELAEAGNUS ANGUSTIFOLIA ","ELAN","Russian olive",null,"VIAM","VICIA AMERICANA ","American vetch"]
[null,"FRAXINUS LATIFOLIA ","FRLA","Oregon ash",null,"VICA4","VIOLA CANADENSIS ","Canada violet"]
[null,"FRAXINUS PENNSYLVANICA ","FRPE","Green Ash",null,"VIGL","VIOLA GLABELLA ","Pioneer violet"]
[null,"FRAXINUS VELUTINA ","FRVE2","Velvet ash",null,"VILE","VIBURNUM LENTAGO","Nannyberry"]
[null,"JUGLANS MAJOR ","JUMA","Arizona walnut",null,"VIMA2","VIOLA MACLOSKEYI ","Small white violet"]
[null,"JUNIPERUS OCCIDENTALIS ","JUOC","Western juniper",null,"VIOLA","VIOLA SPP ","Violet species"]
[null,"JUNIPERUS OSTEOSPERMA ","JUOS","Utah juniper",null,"VISO","VIOLA SORORIA ","Little sand violet"]
[null,"JUNIPERUS SCOPULORUM ","JUSC2","Rocky Mountain juniper",null,"WD",null,"Anchored wood"]
[null,"LARIX OCCIDENTALIS ","LAOC","Western larch",null,"XAST","ZANTHIUM STRUMARIUM ","Rough cocklebur"]
[null,"MALUS FUSCA ","MAFU","Oregon crab apple"]
[null,"OEMLERIA CERASIFORMIS ","OECE","Indian plum"]
[null,"OSTRYA VIRGINIANA ","OSVI","Hophornbeam"]
[null,"PICEA ENGELMANNII ","PIEN","Engelmann spruce"]
[null,"PICEA GLAUCA ","PIGL","White spruce"]
[null,"PICEA PUNGENS ","PIPU","Blue spruce"]
[null,"PICEA SPP. ","PICEA","Spruce"]
[null,"PINUS CONTORTA ","PICO","Lodgepole pine"]
[null,"PINUS MONTICOLA ","PIMO3","Western white pine"]
[null,"PINUS PONDEROSA ","PIPO","Ponderosa pine"]
[null,"PLATANUS WRIGHTII ","PLWR2","Arizona Sycamore"]
[null,"POPULUS ANGUSTIFOLIA ","POAN3","Narrow-leaf cottonwood"]
[null,"POPULUS BALSAMIFERA ","POBA2","Black cottonwood (POTR15)"]
[null,"POPULUS DELTOIDES ","PODE3","Eastern cottonwood"]
[null,"POPULUS FREMONTII ","POFR2","Fremont Cottonwood"]
[null,"POPULUS SPP. ","POPUL","Cottonwood"]
[null,"POPULUS TREMULOIDES ","POTR5","Quaking aspen"]
[null,"POPULUS TRICOCARPA ","POTR15","Black cottonwood (POBA2)"]
[null,"PROSOPIS GLANDULOSA ","PRGL2","Honey mesquite"]
[null,"PROSOPIS PUBESCENS ","PRPU","Screwbean mesquite"]
[null,"PROSOPIS VELUTINA ","PRVE","Velet mesquite"]
[null,"PRUNUS AMERICANA ","PRAM","American plum"]
[null,"PRUNUS EMARGINATA ","PREM","Bitter cherry"]
[null,"PRUNUS SPP ","PRUNU","Plum species"]
[null,"PRUNUS VIRGINIA ","PRVI","Chokecherry"]
[null,"PSEUDOTSUGA MENZIESII ","PSME","Douglas fir"]
[null,"QUERCUS MACROCARPA ","QUMA2","Bur oak"]
[null,"RHAMNUS ALNIFOLIA ","RHAL","Alderleaf buckthorn"]
[null,"RHAMNUS CATHARTICA ","RHCA3","Common buckthorn"]
[null,"SALIX ALBA ","SAAL2","White willow"]
[null,"SALIX AMYGDALOIDES ","SAAM2","Peachleaf willow"]
[null,"SALIX BARCLAYI ","SABA3","Barclay's willow"]
[null,"SALIX BEBBIANA ","SABE2","Bebb willow"]
[null,"SALIX BONPLANDIANA ","SABO","Bonpland willow"]
[null,"SALIX DISCOLOR ","SADI","Pussy willow"]
[null,"SALIX GEYERIANA ","SAGE2","Geyer's willow"]
[null,"SALIX GOODDINGII ","SAGO","Gooding's willow"]
[null,"SALIX HOOKERIANA ","SAHO","Dune willow"]
[null,"SALIX LASIANDRA ","SALA5","Whiplash willow (SALU)"]
[null,"SALIX LASIOLEPIS ","SALA6","Arroyo willow"]
[null,"SALIX LUCIDA ","SALU","Shining willow (SALA5)"]
[null,"SALIX LUTEA ","SALU2","Yellow willow"]
[null,"SALIX MONTICOLA ","SAMO2","Mountain willow"]
[null,"SALIX PETIOLARIS ","SAPE5","meadow willow"]
[null,"SALIX PLANIFOLIA ","SAPL2","Diamondleaf willow"]
[null,"SALIX PROLIXA  ","SAPR3","MacKenzie's willow"]
[null,"SALIX SCOULERIANA ","SASC","Scouler willow"]
[null,"SALIX SERISSIMA ","SASE2","Autumn willow"]
[null,"SALIX SESSILIFOLIA ","SASE3","Northwest sandbar willow"]
[null,"SALIX SITCHENSIS ","SASI2","Sitka willow"]
[null,"SALIX SPP CLUMPED ","SALIXCL","Clumped willow"]
[null,"SALIX SPP RHIZOMATOUS ","SALIXRH","Rhizomatous willow"]
[null,"SALIX SPP. ","SALIX","Willow"]
[null,"SALIX TAXIFOLIA ","SATA","Yewleaf willow"]
[null,"SAPINDUS SAPONARIA ","SASA4","Wingleaf soapberry"]
[null,"SORBUS SCOPULINA ","SOSC2","Mountain ash"]
[null,"TAMARIX CHINENSIS ","TACH2","Five-stamen saltcedar"]
[null,"TAMARIX PARVIFLORA ","TAPA4","Smallflower tamarisk"]
[null,"TAMARIX RAMOSISSIMA ","TARA","Saltcedar"]
[null,"THUJA PLICATA ","THPL","Western red cedar"]
[null,"TSUGA HETEROPHYLLA ","TSHE","Western hemlock"]
[null,"ULMUS AMERICANA ","ULAM","American Elm"]
["OTHER","Embedded Rock (>15 cm)  and or Bedrock","RK"]
[null,"Anchored wood at least 15cm in diameter","WD"]

{"sheet":"KeySP","index":8,"n_rows":202,"n_cols":7,"rows_kept":202,"cut":false,"hidden":false,"merged":[]}
["POSSIBLE STUBBLE HEIGHT KEY SPECIES LIST",null,null,"POSSIBLE KEY WOODY PLANTS for WOODY USE",null,null,"KEY SPECIES FOR WOODY RIPARIAN SPECIES AGE CLASS"]
["  ",null,null," "]
["AGGI2",null,null,"ACNE2",null,null,"ACCI"]
["AGRE2",null,null,"ALIN2",null,null,"ACCO2"]
["AGROS2",null,null,"ALOB2",null,null,"ACGL"]
["AGSC5",null,null,"ALOC2",null,null,"ACMA3"]
["AGSM",null,null,"AMFR",null,null,"ACNE2"]
["AGST2",null,null,"BAEM",null,null,"ALIN2"]
["ALAE",null,null,"BASA",null,null,"ALOB2"]
["ALAR",null,null,"BASA4",null,null,"ALOC2"]
["ALGE2",null,null,"BEOC2",null,null,"ALRH2"]
["ALOPE",null,null,"CEOC2",null,null,"ALRU2"]
["ALPR3",null,null,"COSE16",null,null,"ALSI3"]
["ARDO4",null,null,"COST4",null,null,"ALVI5"]
["BESY",null,null,"FRPE",null,null,"AMFR"]
["CAAQ",null,null,"PHCA11",null,null,"ATLE"]
["CAAQ3",null,null,"PLSE",null,null,"BAEM"]
["CAAT2",null,null,"PLWR2",null,null,"BASA"]
["CAAT3",null,null,"POAN3",null,null,"BASA4"]
["CAAU3",null,null,"POFR2",null,null,"BEGL"]
["CABO2",null,null,"SAAL2",null,null,"BEOC2"]
["CABR10",null,null,"SAAM2",null,null,"BEPA"]
["CACA11",null,null,"SAAR14",null,null,"BEPU4"]
["CACA12",null,null,"SABE2",null,null,"BEPU4"]
["CACA4",null,null,"SABO",null,null,"CEANO"]
["CACU4",null,null,"SABO2",null,null,"CELA"]
["CADE9",null,null,"SABR",null,null,"CEOC2"]
["CADI6",null,null,"SADR",null,null,"CHSP11"]
["CADO2",null,null,"SAER",null,null,"CLLI2"]
["CAGR4",null,null,"SAEX",null,null,"COSE16"]
["CAHA5",null,null,"SAGE2",null,null,"COST4"]
["CAHE8",null,null,"SAGO",null,null,"CRDO2"]
["CAHY4",null,null,"SAIR",null,null,"CRSU5"]
["CAIN11",null,null,"SALA3",null,null,"DAFR6"]
["CALA30",null,null,"SALA5",null,null,"ELAN"]
["CALE10",null,null,"SALA6",null,null,"ELCO"]
["CALE24",null,null,"SALIX",null,null,"FRLA"]
["CALE8",null,null,"SALIXCL",null,null,"FRPE"]
["CALI7",null,null,"SALU",null,null,"FRVE2"]
["CAMI7",null,null,"SALU2",null,null,"JUMA"]
["CANE2",null,null,"SAMO2",null,null,"KAMI"]
["CAPE42",null,null,"SAPL2",null,null,"LEGL"]
["CAPE7",null,null,"SATA",null,null,"LOIN5"]
["CAPR5",null,null,"SAWO",null,null,"LONIC"]
["CAREX",null,null,"TAPA4",null,null,"LOUT2"]
["CAREXRH",null,null,"TARA",null,null,"MAFU"]
["CAREXTU",null,null,"VAUL",null,null,"MS"]
["CASC12",null,null,"VAUL",null,null,"PHCA11"]
["CASI2",null,null,null,null,null,"PHLE4"]
["CASP35",null,null,null,null,null,"PHMA5"]
["CAST36",null,null,null,null,null,"PICEA"]
["CAST5",null,null,null,null,null,"PIPU"]
["CASU6",null,null,null,null,null,"PLSE"]
["CATE3",null,null,null,null,null,"PLWR2"]
["CATH",null,null,null,null,null,"POAN3"]
["CAUL",null,null,null,null,null,"POBA2"]
["CAUT",null,null,null,null,null,"PODE3"]
["CAVA3",null,null,null,null,null,"POFR2"]
["CAVE6",null,null,null,null,null,"POFR4"]
["CAVU2",null,null,null,null,null,"POPUL"]
["CYAC2",null,null,null,null,null,"POTR15"]
["DECE",null,null,null,null,null,"PRPU"]
["DISP",null,null,null,null,null,"PRVI"]
["ECMU2",null,null,null,null,null,"RHAL"]
["ELAC",null,null,null,null,null,"RHCA3"]
["ELCA4",null,null,null,null,null,"RIAM2"]
["ELCI2",null,null,null,null,null,"RIAU"]
["ELEOC",null,null,null,null,null,"RIBES"]
["ELMA8",null,null,null,null,null,"RIHU"]
["ELPA3",null,null,null,null,null,"RIIN2"]
["ELPA5",null,null,null,null,null,"RIIR"]
["ELPA6",null,null,null,null,null,"RIOD"]
["ELQU2",null,null,null,null,null,"RIOX"]
["ELRE4",null,null,null,null,null,"RIVI3"]
["ELRO2",null,null,null,null,null,"ROPI2"]
["ELTR3",null,null,null,null,null,"RUPA"]
["FERU2",null,null,null,null,null,"RUSP"]
["GLBO",null,null,null,null,null,"SAAL2"]
["GLGR",null,null,null,null,null,"SAAM2"]
["GLST",null,null,null,null,null,"SAAR14"]
["GLYCE",null,null,null,null,null,"SAAR27"]
["HOBR2",null,null,null,null,null,"SABA3"]
["HOJU",null,null,null,null,null,"SABE2"]
["JUAC",null,null,null,null,null,"SABO"]
["JUAC2",null,null,null,null,null,"SABO2"]
["JUAR2",null,null,null,null,null,"SABR"]
["JUAR4",null,null,null,null,null,"SACA4"]
["JUBA",null,null,null,null,null,"SACO2"]
["JUBU",null,null,null,null,null,"SADI"]
["JUCO2",null,null,null,null,null,"SADR"]
["JUDR",null,null,null,null,null,"SAER"]
["JUDU2",null,null,null,null,null,"SAEX"]
["JUEF",null,null,null,null,null,"SAFA"]
["JUEN",null,null,null,null,null,"SAGE2"]
["JUIN2",null,null,null,null,null,"SAGO"]
["JULO",null,null,null,null,null,"SAHO"]
["JUMA3",null,null,null,null,null,"SAIN3"]
["JUME3",null,null,null,null,null,"SAIR"]
["JUME4",null,null,null,null,null,"SAJE"]
["JUNCU",null,null,null,null,null,"SALA3"]
["JUNE",null,null,null,null,null,"SALA5"]
["JUNO2",null,null,null,null,null,"SALA6"]
["JUSA",null,null,null,null,null,"SALE"]
["JUTE",null,null,null,null,null,"SALIX"]
["JUTO",null,null,null,null,null,"SALIXCL"]
["JUTR",null,null,null,null,null,"SALIXRH"]
["JUXI",null,null,null,null,null,"SALU"]
["LECI4",null,null,null,null,null,"SALU2"]
["LEOR",null,null,null,null,null,"SAMO2"]
["LETR5",null,null,null,null,null,"SANI4"]
["MG",null,null,null,null,null,"SAOR"]
["MUAN",null,null,null,null,null,"SAPE5"]
["MUAS",null,null,null,null,null,"SAPL2"]
["MUCU3",null,null,null,null,null,"SAPR3"]
["MUFI2",null,null,null,null,null,"SAPS"]
["MURA",null,null,null,null,null,"SASC"]
["MURI",null,null,null,null,null,"SASE2"]
["MURI2",null,null,null,null,null,"SASE3"]
["PACA6",null,null,null,null,null,"SASI2"]
["PADI3",null,null,null,null,null,"SATA"]
["PADI6",null,null,null,null,null,"SATW"]
["PANIC",null,null,null,null,null,"SAVE4"]
["PASM",null,null,null,null,null,"SAWO"]
["PAVI2",null,null,null,null,null,"SPDO"]
["PHAR3",null,null,null,null,null,"SYMPH"]
["PHCO15",null,null,null,null,null,"SYOC"]
["PLMU3",null,null,null,null,null,"TACH2"]
["POA",null,null,null,null,null,"TAMAR2"]
["POAR3",null,null,null,null,null,"TAPA4"]
["POMO5",null,null,null,null,null,"TARA"]
["POPA2",null,null,null,null,null,"ULAM"]
["POPR",null,null,null,null,null,"VACE"]
["POVI9",null,null,null,null,null,"VAUL"]
["PUNU2",null,null,null,null,null,"VILE"]
["SCAC"]
["SCAC3"]
["SCAM2"]
["SCAM6"]
["SCHOE6"]
["SCIRP"]
["SCMA"]
["SCMA8"]
["SCMI2"]
["SCPA8"]
["SCPU10"]
["SCPU3"]
["SCTA2"]
["SCVA"]
["SPAI"]
["SPGR",null,null," "]
["SPPE",null,null," "]
["SPWR2",null,null," "]
[null,null,null," "]
[null,null,null," "]
[null,null,null," "]
[null,null,null," "]
[null,null,null," "]
[null,null,null," "]
[null,null,null," "]
[null,null,null," "]
[null,null,null," "]
[null,null,null," "]
[null,null,null," "]
[null,null,null," "]
[null,null,null," "]
[null,null,null," "]
[null,null,null," "]
[null,null,null," "]
[null,null,null," "]
[null,null,null," "]
[null,null,null," "]
[null,null,null," "]
[null,null,null," "]
[null,null,null," "]
[null,null,null," "]
[null,null,null," "]
[null,null,null," "]
[null,null,null," "]
[null,null,null," "]
[null,null,null," "]
[" ",null,null," "]
[" ",null,null," "]
[" ",null,null," "]
[" ",null,null," "]
[" ",null,null," "]
[" ",null,null," "]
[" ",null,null," "]
[" ",null,null," "]
[" ",null,null," "]
[" ",null,null," "]
[" ",null,null," "]
[" ",null,null," "]
[" ",null,null," "]
[" ",null,null," "]
[" ",null,null," "]
[" ",null,null," "]
[" ",null,null," "]
[" ",null,null," ",null,null," "]
[" ",null,null," ",null,null," "]
[" ",null,null," ",null,null," "]
[" ",null,null," ",null,null," "]
[" ",null,null," ",null,null," "]

{"sheet":"Spatial","index":9,"n_rows":155,"n_cols":29,"rows_kept":155,"cut":false,"hidden":false,"merged":[[0,24,0,25],[0,12,0,13],[0,18,0,19],[20,0,31,5]]}
[null,null,null,null,null,null,{"$f":"\"DMA: \"&Header!C10","v":"DMA: "},null,"Mean =",{"$f":"AVERAGE(H:H)","v":20},null,null,{"$f":"\"DMA: \"&Header!I10","v":"DMA: "},null,"Mean =",{"$f":"AVERAGE(N:N)","v":{"$error":"#DIV/0!"}},null,null,{"$f":"\"DMA: \"&Header!O10","v":"DMA: "},null,"Mean =",{"$f":"AVERAGE(T:T)","v":{"$error":"#DIV/0!"}},null,null,{"$f":"\"DMA: \"&Header!U10","v":"DMA: "},null,"Mean =",{"$f":"AVERAGE(Z:Z)","v":{"$error":"#DIV/0!"}}]
[null,null,"Run spatial analysis",null,null,null,"INDICATOR:",null,"Adjacent sample points","Every other sample point","Every third sample point",null,"INDICATOR:",null,"Adjacent plots","Every other plot","Every third plot",null,"INDICATOR:",null,"Adjacent plots","Every other plot","Every third plot",null,"INDICATOR:",null,"Adjacent plots","Every other plot","Every third plot"]
[null,null,null,null,null,null,"Bank alteration (%)","CORRELATION",{"$f":"CORREL($H7:$H101,I7:I101)","v":{"$error":"#DIV/0!"}},{"$f":"CORREL($H8:$H101,J8:J101)","v":{"$error":"#DIV/0!"}},{"$f":"CORREL($H9:$H101,K9:K101)","v":{"$error":"#DIV/0!"}},null,{"$f":"\"Stubble Height \"&\"(\"&Header!F17&\")\"","v":"Stubble Height (In)"},"CORRELATION",{"$f":"CORREL($N8:$N101,O8:O101)","v":{"$error":"#DIV/0!"}},{"$f":"CORREL($N8:$N101,P8:P101)","v":{"$error":"#DIV/0!"}},{"$f":"CORREL($N9:$N101,Q9:Q101)","v":{"$error":"#DIV/0!"}},null,"GGW (m)","CORRELATION",{"$f":"CORREL($T7:$T101,U7:U101)","v":{"$error":"#DIV/0!"}},{"$f":"CORREL($T8:$T101,V8:V101)","v":{"$error":"#DIV/0!"}},{"$f":"CORREL($T9:$T101,W9:W101)","v":{"$error":"#DIV/0!"}},null,"Woody use (%)","CORRELATION",{"$f":"CORREL($Z7:$Z101,AA7:AA101)","v":{"$error":"#DIV/0!"}},{"$f":"CORREL($Z8:$Z101,AB8:AB101)","v":{"$error":"#DIV/0!"}},{"$f":"CORREL($Z9:$Z101,AC9:AC101)","v":{"$error":"#DIV/0!"}}]
["CORRELATION COEFFICIENTS  ( r)",null,null,null,null,null,null,"N",{"$f":"COUNT(I7:I101)","v":1},{"$f":"COUNT(J8:J101)","v":1},{"$f":"COUNT(K9:K101)","v":1},null,null,"N",{"$f":"COUNT(O7:O101)","v":0},{"$f":"COUNT(P8:P101)","v":0},{"$f":"COUNT(Q9:Q101)","v":0},null,null,"N",{"$f":"COUNT(U7:U101)","v":0},{"$f":"COUNT(V8:V101)","v":0},{"$f":"COUNT(W9:W101)","v":0},null,null,"N",{"$f":"COUNT(AA7:AA101)","v":0},{"$f":"COUNT(AB8:AB101)","v":0},{"$f":"COUNT(AC9:AC101)","v":0}]
[null,null,null,null,null,null,"Plot","Data",{"$f":"$G3","v":"Bank alteration (%)"},{"$f":"$G3","v":"Bank alteration (%)"},{"$f":"$G3","v":"Bank alteration (%)"},null,"Plot","Data",{"$f":"$G3","v":"Bank alteration (%)"},{"$f":"$G3","v":"Bank alteration (%)"},{"$f":"$G3","v":"Bank alteration (%)"},null,"Plot","Data",{"$f":"$G3","v":"Bank alteration (%)"},{"$f":"$G3","v":"Bank alteration (%)"},{"$f":"$G3","v":"Bank alteration (%)"},null,"Plot","Data",{"$f":"$G3","v":"Bank alteration (%)"},{"$f":"$G3","v":"Bank alteration (%)"},{"$f":"$G3","v":"Bank alteration (%)"}]
["Indicator","Adjacent","Every other","Every third","Sample points (N)",null,1,20,null,null,null,null,1,"",null,null,null,null,1,null,null,null,null,null,1,""]
["Bk Alter",{"$f":"I3","v":{"$error":"#DIV/0!"}},{"$f":"J3","v":{"$error":"#DIV/0!"}},{"$f":"K3","v":{"$error":"#DIV/0!"}},{"$f":"I4","v":1},null,2,"",{"$f":"IF(H6=\"\",\"\",H6)","v":20},null,null,null,2,"",{"$f":"IF(N6=\"\",\"\",N6)","v":""},null,null,null,2,null,{"$f":"IF(T6=\"\",\"\",T6)","v":""},null,null,null,2,"",{"$f":"IF(Z6=\"\",\"\",Z6)","v":""}]
["St Ht",{"$f":"O3","v":{"$error":"#DIV/0!"}},{"$f":"P3","v":{"$error":"#DIV/0!"}},{"$f":"Q3","v":{"$error":"#DIV/0!"}},{"$f":"O4","v":0},null,3,"",{"$f":"IF(H7=\"\",\"\",H7)","v":""},{"$f":"IF(H6=\"\",\"\",H6)","v":20},null,null,3,"",{"$f":"IF(N7=\"\",\"\",N7)","v":""},{"$f":"IF(N6=\"\",\"\",N6)","v":""},null,null,3,null,{"$f":"IF(T7=\"\",\"\",T7)","v":""},{"$f":"IF(T6=\"\",\"\",T6)","v":""},null,null,3,"",{"$f":"IF(Z7=\"\",\"\",Z7)","v":""},{"$f":"IF(Z6=\"\",\"\",Z6)","v":""}]
[null,null,null,null,null,null,4,"","",{"$f":"IF(H7=\"\",\"\",H7)","v":""},{"$f":"IF(H6=\"\",\"\",H6)","v":20},null,4,"","",{"$f":"IF(N7=\"\",\"\",N7)","v":""},{"$f":"IF(N6=\"\",\"\",N6)","v":""},null,4,null,"",{"$f":"IF(T7=\"\",\"\",T7)","v":""},{"$f":"IF(T6=\"\",\"\",T6)","v":""},null,4,"","",{"$f":"IF(Z7=\"\",\"\",Z7)","v":""},{"$f":"IF(Z6=\"\",\"\",Z6)","v":""}]
["Wdy use",{"$f":"AA3","v":{"$error":"#DIV/0!"}},{"$f":"AB3","v":{"$error":"#DIV/0!"}},{"$f":"AC3","v":{"$error":"#DIV/0!"}},{"$f":"AA4","v":0},null,5,"","","",{"$f":"IF(H7=\"\",\"\",H7)","v":""},null,5,"","","",{"$f":"IF(N7=\"\",\"\",N7)","v":""},null,5,null,"","",{"$f":"IF(T7=\"\",\"\",T7)","v":""},null,5,"","","",{"$f":"IF(Z7=\"\",\"\",Z7)","v":""}]
["Signifiance test using the t score (adjacent plots ):",null,null,null,null,null,6,"","","","",null,6,"","","","",null,6,null,"","","",null,6,"","","",""]
[null,"Bk Alter","St Ht",null,"Wdy use",null,7,"","","","",null,7,"","","","",null,7,null,"","","",null,7,"","","",""]
["t score",{"$f":"B7*SQRT(I4-2)/SQRT(1-B7^2)","v":{"$error":"#DIV/0!"}},{"$f":"B8*SQRT(J4-2)/SQRT(1-B8^2)","v":{"$error":"#DIV/0!"}},null,{"$f":"ABS(B10*SQRT(I4-2)/SQRT(1-B10^2))","v":{"$error":"#DIV/0!"}},null,8,"","","","",null,8,"","","","",null,8,null,"","","",null,8,"","","",""]
["p value",{"$f":"_xlfn.T.DIST.2T(ABS(B13),I4-2)","v":{"$error":"#DIV/0!"}},{"$f":"_xlfn.T.DIST.2T(ABS(C13),J4-2)","v":{"$error":"#DIV/0!"}},null,{"$f":"_xlfn.T.DIST.2T(ABS(E13),I4-2)","v":{"$error":"#DIV/0!"}},null,9,"","","","",null,9,"","","","",null,9,null,"","","",null,9,"","","",""]
["signficant?",{"$f":"IF(B14<0.05,\"Y\",\"N\")","v":{"$error":"#DIV/0!"}},{"$f":"IF(C14<0.05,\"Y\",\"N\")","v":{"$error":"#DIV/0!"}},null,{"$f":"IF(E14<0.05,\"Y\",\"N\")","v":{"$error":"#DIV/0!"}},null,10,"","","","",null,10,"","","","",null,10,null,"","","",null,10,"","","",""]
[null,null,null,null,null,null,11,"","","","",null,11,"","","","",null,11,null,"","","",null,11,"","","",""]
["Reference:   ","https://www.ecologycenter.us/vegetation-ecology/correlograms-morans-i.html",null,null,null,null,12,"","","","",null,12,"","","","",null,12,null,"","","",null,12,"","","",""]
[null,null,null,null,null,null,13,"","","","",null,13,"","","","",null,13,null,"","","",null,13,"","","",""]
[null,null,null,null,null,null,14,"","","","",null,14,"","","","",null,14,null,"","","",null,14,"","","",""]
["INSTRUCTIONS:",null,null,null,null,null,15,"","","","",null,15,"","","","",null,15,null,"","","",null,15,"","","",""]
["If there is an indication of spatial autocorrelation (Significant?=Y) in one or more of the indicators, the user has two options:  1).  Continue sampling at the current sample spacing and address autocorrelation issues after completing the survey (i.e., use every other sample point  for the questioned indicator(s) or treat the entire DMA as one sample); or 2). Increase the sample  spacing to reduce the potential for spatial dependence for the indicator(s) in question.  This latter approach may be preferable if several indicators are showing spatial autocorrelation. ",null,null,null,null,null,16,"","","","",null,16,"","","","",null,16,null,"","","",null,16,"","","",""]
[null,null,null,null,null,null,17,"","","","",null,17,"","","","",null,17,null,"","","",null,17,"","","",""]
[null,null,null,null,null,null,18,"","","","",null,18,"","","","",null,18,null,"","","",null,18,"","","",""]
[null,null,null,null,null,null,19,"","","","",null,19,"","","","",null,19,null,"","","",null,19,"","","",""]
[null,null,null,null,null,null,20,"","","","",null,20,"","","","",null,20,null,"","","",null,20,"","","",""]
[null,null,null,null,null,null,21,"","","","",null,21,"","","","",null,21,null,"","","",null,21,"","","",""]
[null,null,null,null,null,null,22,"","","","",null,22,"","","","",null,22,null,"","","",null,22,"","","",""]
[null,null,null,null,null,null,23,"","","","",null,23,"","","","",null,23,null,"","","",null,23,"","","",""]
[null,null,null,null,null,null,24,"","","","",null,24,"","","","",null,24,null,"","","",null,24,"","","",""]
[null,null,null,null,null,null,25,"","","","",null,25,"","","","",null,25,null,"","","",null,25,"","","",""]
[null,null,null,null,null,null,26,"","","","",null,26,"","","","",null,26,null,"","","",null,26,"","","",""]
[null,null,null,null,null,null,27,"","","","",null,27,"","","","",null,27,null,"","","",null,27,"","","",""]
[null,null,null,null,null,null,28,"","","","",null,28,"","","","",null,28,null,"","","",null,28,"","","",""]
[null,null,null,null,null,null,29,"","","","",null,29,"","","","",null,29,null,"","","",null,29,"","","",""]
[null,null,null,null,null,null,30,"","","","",null,30,"","","","",null,30,null,"","","",null,30,"","","",""]
[null,null,null,null,null,null,31,"","","","",null,31,"","","","",null,31,null,"","","",null,31,"","","",""]
[null,null,null,null,null,null,32,"","","","",null,32,"","","","",null,32,null,"","","",null,32,"","","",""]
[null,null,null,null,null,null,33,"","","","",null,33,"","","","",null,33,null,"","","",null,33,"","","",""]
[null,null,null,null,null,null,34,"","","","",null,34,"","","","",null,34,null,"","","",null,34,"","","",""]
[null,null,null,null,null,null,35,"","","","",null,35,"","","","",null,35,null,"","","",null,35,"","","",""]
[null,null,null,null,null,null,36,"","","","",null,36,"","","","",null,36,null,"","","",null,36,"","","",""]
[null,null,null,null,null,null,37,"","","","",null,37,"","","","",null,37,null,"","","",null,37,"","","",""]
[null,null,null,null,null,null,38,"","","","",null,38,"","","","",null,38,null,"","","",null,38,"","","",""]
[null,null,null,null,null,null,39,"","","","",null,39,"","","","",null,39,null,"","","",null,39,"","","",""]
[null,null,null,null,null,null,40,"","","","",null,40,"","","","",null,40,null,"","","",null,40,"","","",""]
[null,null,null,null,null,null,41,"","","","",null,41,"","","","",null,41,null,"","","",null,41,"","","",""]
[null,null,null,null,null,null,42,"","","","",null,42,"","","","",null,42,null,"","","",null,42,"","","",""]
[null,null,null,null,null,null,43,"","","","",null,43,"","","","",null,43,null,"","","",null,43,"","","",""]
[null,null,null,null,null,null,44,"","","","",null,44,"","","","",null,44,null,"","","",null,44,"","","",""]
[null,null,null,null,null,null,45,"","","","",null,45,"","","","",null,45,null,"","","",null,45,"","","",""]
[null,null,null,null,null,null,46,"","","","",null,46,"","","","",null,46,null,"","","",null,46,"","","",""]
[null,null,null,null,null,null,47,"","","","",null,47,"","","","",null,47,null,"","","",null,47,"","","",""]
[null,null,null,null,null,null,48,"","","","",null,48,"","","","",null,48,null,"","","",null,48,"","","",""]
[null,null,null,null,null,null,49,"","","","",null,49,"","","","",null,49,null,"","","",null,49,"","","",""]
[null,null,null,null,null,null,50,"","","","",null,50,"","","","",null,50,null,"","","",null,50,"","","",""]
[null,null,null,null,null,null,51,"","","","",null,51,"","","","",null,51,null,"","","",null,51,"","","",""]
[null,null,null,null,null,null,52,"","","","",null,52,"","","","",null,52,null,"","","",null,52,"","","",""]
[null,null,null,null,null,null,53,"","","","",null,53,"","","","",null,53,null,"","","",null,53,"","","",""]
[null,null,null,null,null,null,54,"","","","",null,54,"","","","",null,54,null,"","","",null,54,"","","",""]
[null,null,null,null,null,null,55,"","","","",null,55,"","","","",null,55,null,"","","",null,55,"","","",""]
[null,null,null,null,null,null,56,"","","","",null,56,"","","","",null,56,null,"","","",null,56,"","","",""]
[null,null,null,null,null,null,57,"","","","",null,57,"","","","",null,57,null,"","","",null,57,"","","",""]
[null,null,null,null,null,null,58,"","","","",null,58,"","","","",null,58,null,"","","",null,58,"","","",""]
[null,null,null,null,null,null,59,"","","","",null,59,"","","","",null,59,null,"","","",null,59,"","","",""]
[null,null,null,null,null,null,60,"","","","",null,60,"","","","",null,60,null,"","","",null,60,"","","",""]
[null,null,null,null,null,null,61,"","","","",null,61,"","","","",null,61,null,"","","",null,61,"","","",""]
[null,null,null,null,null,null,62,"","","","",null,62,"","","","",null,62,null,"","","",null,62,"","","",""]
[null,null,null,null,null,null,63,"","","","",null,63,"","","","",null,63,null,"","","",null,63,"","","",""]
[null,null,null,null,null,null,64,"","","","",null,64,"","","","",null,64,null,"","","",null,64,"","","",""]
[null,null,null,null,null,null,65,"","","","",null,65,"","","","",null,65,null,"","","",null,65,"","","",""]
[null,null,null,null,null,null,66,"","","","",null,66,"","","","",null,66,null,"","","",null,66,"","","",""]
[null,null,null,null,null,null,67,"",{"$f":"IF(H71=\"\",\"\",H71)","v":""},"","",null,67,"",{"$f":"IF(N71=\"\",\"\",N71)","v":""},"","",null,67,null,{"$f":"IF(T71=\"\",\"\",T71)","v":""},"","",null,67,"",{"$f":"IF(Z71=\"\",\"\",Z71)","v":""},"",""]
[null,null,null,null,null,null,68,"","",{"$f":"IF(H71=\"\",\"\",H71)","v":""},"",null,68,"","",{"$f":"IF(N71=\"\",\"\",N71)","v":""},"",null,68,null,"",{"$f":"IF(T71=\"\",\"\",T71)","v":""},"",null,68,"","",{"$f":"IF(Z71=\"\",\"\",Z71)","v":""},""]
[null,null,null,null,null,null,69,"","","",{"$f":"IF(H71=\"\",\"\",H71)","v":""},null,69,"","","",{"$f":"IF(N71=\"\",\"\",N71)","v":""},null,69,null,"","",{"$f":"IF(T71=\"\",\"\",T71)","v":""},null,69,"","","",{"$f":"IF(Z71=\"\",\"\",Z71)","v":""}]
[null,null,null,null,null,null,70,"","","","",null,70,"","","","",null,70,null,"","","",null,70,"","","",""]
[null,null,null,null,null,null,71,"","","","",null,71,"","","","",null,71,null,"","","",null,71,"","","",""]
[null,null,null,null,null,null,72,"","","","",null,72,"","","","",null,72,null,"","","",null,72,"","","",""]
[null,null,null,null,null,null,73,"","","","",null,73,"","","","",null,73,null,"","","",null,73,"","","",""]
[null,null,null,null,null,null,74,"","","","",null,74,"","","","",null,74,null,"","","",null,74,"","","",""]
[null,null,null,null,null,null,75,"","","","",null,75,"","","","",null,75,null,"","","",null,75,"","","",""]
[null,null,null,null,null,null,76,"","","","",null,76,"","","","",null,76,null,"","","",null,76,"","","",""]
[null,null,null,null,null,null,77,"","","","",null,77,"","","","",null,77,null,"","","",null,77,"","","",""]
[null,null,null,null,null,null,78,"","","","",null,78,"","","","",null,78,null,"","","",null,78,"","","",""]
[null,null,null,null,null,null,79,"","","","",null,79,"","","","",null,79,null,"","","",null,79,"","","",""]
[null,null,null,null,null,null,80,"","","","",null,80,"","","","",null,80,null,"","","",null,80,"","","",""]
[null,null,null,null,null,null,81,"","","","",null,81,"","","","",null,81,null,"","","",null,81,"","","",""]
[null,null,null,null,null,null,82,"","","","",null,82,"","","","",null,82,null,"","","",null,82,"","","",""]
[null,null,null,null,null,null,83,"","","","",null,83,"","","","",null,83,null,"","","",null,83,"","","",""]
[null,null,null,null,null,null,84,"","","","",null,84,"","","","",null,84,null,"","","",null,84,"","","",""]
[null,null,null,null,null,null,85,"","","","",null,85,"","","","",null,85,null,"","","",null,85,"","","",""]
[null,null,null,null,null,null,86,"","","","",null,86,"","","","",null,86,null,"","","",null,86,"","","",""]
[null,null,null,null,null,null,87,"","","","",null,87,"","","","",null,87,null,"","","",null,87,"","","",""]
[null,null,null,null,null,null,88,"","","","",null,88,"","","","",null,88,null,"","","",null,88,"","","",""]
[null,null,null,null,null,null,89,"","","","",null,89,"","","","",null,89,null,"","","",null,89,"","","",""]
[null,null,null,null,null,null,90,"","","","",null,90,"","","","",null,90,null,"","","",null,90,"","","",""]
[null,null,null,null,null,null,91,"","","","",null,91,"","","","",null,91,null,"","","",null,91,"","","",""]
[null,null,null,null,null,null,92,"","","","",null,92,"","","","",null,92,null,"","","",null,92,"","","",""]
[null,null,null,null,null,null,93,"","","","",null,93,"","","","",null,93,null,"","","",null,93,"","","",""]
[null,null,null,null,null,null,94,"","","","",null,94,"","","","",null,94,null,"","","",null,94,"","","",""]
[null,null,null,null,null,null,95,"","","","",null,95,"","","","",null,95,null,"","","",null,95,"","","",""]
[null,null,null,null,null,null,96,"","",{"$f":"IF(H99=\"\",\"\",H99)","v":""},"",null,96,"","",{"$f":"IF(N99=\"\",\"\",N99)","v":""},"",null,96,null,"",{"$f":"IF(T99=\"\",\"\",T99)","v":""},"",null,96,"","",{"$f":"IF(Z99=\"\",\"\",Z99)","v":""},""]
[null,null,null,null,null,null,null,"",null,null,null,null,null,"",null,null,null,null,null,null,null,null,null,null,null,""]
[null,null,null,null,null,null,null,"",null,null,null,null,null,"",null,null,null,null,null,null,null,null,null,null,null,""]
[null,null,null,null,null,null,null,"",null,null,null,null,null,"",null,null,null,null,null,null,null,null,null,null,null,""]
[null,null,null,null,null,null,null,"",null,null,null,null,null,"",null,null,null,null,null,null,null,null,null,null,null,""]
[null,null,null,null,null,null,null,"",null,null,null,null,null,"",null,null,null,null,null,null,null,null,null,null,null,""]
[null,null,null,null,null,null,null,"",null,null,null,null,null,"",null,null,null,null,null,null,null,null,null,null,null,""]
[null,null,null,null,null,null,null,"",null,null,null,null,null,"",null,null,null,null,null,null,null,null,null,null,null,""]
[null,null,null,null,null,null,null,"",null,null,null,null,null,"",null,null,null,null,null,null,null,null,null,null,null,""]
[null,null,null,null,null,null,null,"",null,null,null,null,null,"",null,null,null,null,null,null,null,null,null,null,null,""]
[null,null,null,null,null,null,null,"",null,null,null,null,null,"",null,null,null,null,null,null,null,null,null,null,null,""]
[null,null,null,null,null,null,null,"",null,null,null,null,null,"",null,null,null,null,null,null,null,null,null,null,null,""]
[null,null,null,null,null,null,null,"",null,null,null,null,null,"",null,null,null,null,null,null,null,null,null,null,null,""]
[null,null,null,null,null,null,null,"",null,null,null,null,null,"",null,null,null,null,null,null,null,null,null,null,null,""]
[null,null,null,null,null,null,null,"",null,null,null,null,null,"",null,null,null,null,null,null,null,null,null,null,null,""]
[null,null,null,null,null,null,null,"",null,null,null,null,null,"",null,null,null,null,null,null,null,null,null,null,null,""]
[null,null,null,null,null,null,null,"",null,null,null,null,null,"",null,null,null,null,null,null,null,null,null,null,null,""]
[null,null,null,null,null,null,null,"",null,null,null,null,null,"",null,null,null,null,null,null,null,null,null,null,null,""]
[null,null,null,null,null,null,null,"",null,null,null,null,null,"",null,null,null,null,null,null,null,null,null,null,null,""]
[null,null,null,null,null,null,null,"",null,null,null,null,null,"",null,null,null,null,null,null,null,null,null,null,null,""]
[null,null,null,null,null,null,null,"",null,null,null,null,null,"",null,null,null,null,null,null,null,null,null,null,null,""]
[null,null,null,null,null,null,null,"",null,null,null,null,null,"",null,null,null,null,null,null,null,null,null,null,null,""]
[null,null,null,null,null,null,null,"",null,null,null,null,null,"",null,null,null,null,null,null,null,null,null,null,null,""]
[null,null,null,null,null,null,null,"",null,null,null,null,null,"",null,null,null,null,null,null,null,null,null,null,null,""]
[null,null,null,null,null,null,null,"",null,null,null,null,null,"",null,null,null,null,null,null,null,null,null,null,null,""]
[null,null,null,null,null,null,null,"",null,null,null,null,null,"",null,null,null,null,null,null,null,null,null,null,null,""]
[null,null,null,null,null,null,null,"",null,null,null,null,null,"",null,null,null,null,null,null,null,null,null,null,null,""]
[null,null,null,null,null,null,null,"",null,null,null,null,null,"",null,null,null,null,null,null,null,null,null,null,null,""]
[null,null,null,null,null,null,null,"",null,null,null,null,null,"",null,null,null,null,null,null,null,null,null,null,null,""]
[null,null,null,null,null,null,null,"",null,null,null,null,null,"",null,null,null,null,null,null,null,null,null,null,null,""]
[null,null,null,null,null,null,null,"",null,null,null,null,null,"",null,null,null,null,null,null,null,null,null,null,null,""]
[null,null,null,null,null,null,null,"",null,null,null,null,null,"",null,null,null,null,null,null,null,null,null,null,null,""]
[null,null,null,null,null,null,null,"",null,null,null,null,null,"",null,null,null,null,null,null,null,null,null,null,null,""]
[null,null,null,null,null,null,null,"",null,null,null,null,null,"",null,null,null,null,null,null,null,null,null,null,null,""]
[null,null,null,null,null,null,null,"",null,null,null,null,null,"",null,null,null,null,null,null,null,null,null,null,null,""]
[null,null,null,null,null,null,null,"",null,null,null,null,null,"",null,null,null,null,null,null,null,null,null,null,null,""]
[null,null,null,null,null,null,null,"",null,null,null,null,null,"",null,null,null,null,null,null,null,null,null,null,null,""]
[null,null,null,null,null,null,null,"",null,null,null,null,null,"",null,null,null,null,null,null,null,null,null,null,null,""]
[null,null,null,null,null,null,null,"",null,null,null,null,null,"",null,null,null,null,null,null,null,null,null,null,null,""]
[null,null,null,null,null,null,null,"",null,null,null,null,null,"",null,null,null,null,null,null,null,null,null,null,null,""]
[null,null,null,null,null,null,null,"",null,null,null,null,null,"",null,null,null,null,null,null,null,null,null,null,null,""]
[null,null,null,null,null,null,null,"",null,null,null,null,null,"",null,null,null,null,null,null,null,null,null,null,null,""]
[null,null,null,null,null,null,null,"",null,null,null,null,null,"",null,null,null,null,null,null,null,null,null,null,null,""]
[null,null,null,null,null,null,null,"",null,null,null,null,null,"",null,null,null,null,null,null,null,null,null,null,null,""]
[null,null,null,null,null,null,null,"",null,null,null,null,null,"",null,null,null,null,null,null,null,null,null,null,null,""]
[null,null,null,null,null,null,null,"",null,null,null,null,null,"",null,null,null,null,null,null,null,null,null,null,null,""]
[null,null,null,null,null,null,null,"",null,null,null,null,null,"",null,null,null,null,null,null,null,null,null,null,null,""]
[null,null,null,null,null,null,null,"",null,null,null,null,null,"",null,null,null,null,null,null,null,null,null,null,null,""]
[null,null,null,null,null,null,null,"",null,null,null,null,null,"",null,null,null,null,null,null,null,null,null,null,null,""]
[null,null,null,null,null,null,null,"",null,null,null,null,null,"",null,null,null,null,null,null,null,null,null,null,null,""]
[null,null,null,null,null,null,null,"",null,null,null,null,null,"",null,null,null,null,null,null,null,null,null,null,null,""]
[null,null,null,null,null,null,null,"",null,null,null,null,null,"",null,null,null,null,null,null,null,null,null,null,null,""]
[null,null,null,null,null,null,null,"",null,null,null,null,null,"",null,null,null,null,null,null,null,null,null,null,null,""]
[null,null,null,null,null,null,null,"",null,null,null,null,null,"",null,null,null,null,null,null,null,null,null,null,null,""]
[null,null,null,null,null,null,null,"",null,null,null,null,null,"",null,null,null,null,null,null,null,null,null,null,null,""]