{"text_format":"1","workbook":"xlsx","n_sheets":11,"sheets":["Instructions","Header","DMA","Substr","Thal","Comments","Graphs","Codes","Calcs","PLANTS","KeySP"],"not_rendered":{"charts":4,"images":2,"macros":1,"external_links":0,"defined_names":14,"comments":0,"pivot_tables":0},"unopened":[],"bounds":{"document_bytes":16777216,"sheet_cells":100000,"rows_first":2000,"rows_last":500,"rows_between":2000,"halvings":0,"cell_chars":16384,"cell_head_chars":4096},"cells_cut":0,"cells_raw":0,"read":"whole","date_system":"1900"}

{"sheet":"Instructions","index":0,"n_rows":74,"n_cols":7,"rows_kept":74,"cut":false,"hidden":false,"merged":[[71,0,71,1],[73,0,73,1]]}
["Using the Data Entry Module for Western Mountains and Valleys",null,null,null,"PLANT DATA MACROS",null," DATA CORRECTION MACROS"]
[null,null,null,null,"       CLICK TO RUN THE MACRO"]
["PURPOSE:  ",null,null,null,null,null,"1. CORRECT PLANT CODES"]
[null,"This module is designed for data entry using a Tablet or other machine that",null,null,"IMPORT plant list from previous data"]
[null,"supports the full version of Microsoft EXCEL.  "]
[null,"The advantages of using this module for data entry are many.  Here you can",null,null,null,null,"2. CHECK FOR ERRORS (Red circles)"]
[null,"import plant lists from previous data which are then used to populate the drop-",null,null,"GENERATE PLANT LIST (in Graphs worksheet)"]
[null,"downs in the DMA sheet, and data entry cells are expanded upon selection."]
[null,null,null,null,null,null,"3. CORRECT PLANT COMPOSITION"]
["MASTER COPY: Maintain a master copy ",null,null,null,"LINK to USDA Plants Database"]
[" ","Make a master copy of this module for use at other DMAs.   "]
[" "," "]
["MIGRATE THESE DATA TO THE \"DATA ANALYSIS MODULE\"",null,null,null,null,null," 4. CORRECT WOODY PLANT HEIGHTS"]
[" "]
[null,"You can run macros to correct data and generate plant lists here."]
[null,"For analysis, upload these entry data, using Macros in"]
[null,"the Data Analysis Module, to obtain comprehensive results."]
["PLANT LISTS",null,null,null,"Go to \"PLANTS\" to build plant list and key species lists for the site"]
[null,"IMPORTANT:  The drop-downs for plants in the DMA spreadsheet are generated",null,null,"OR"]
[null,"from the plant list and key species list you build in the PLANTS spreadsheet.",null,null,"Click on the Macro above \"Import plant "]
["WORKSHEETS IN THE DATA ANALYSIS MODULE",null,null,null,"list from previous data\" to populate automatically"]
[null,"\"Header\" :  Contains descriptive information about the designated monitoring area (DMA). "]
[null," \"DMA\":  Raw data form for plants, bank stability/cover/alteration, GGW, and livestock use indicators."]
[null,"\"Substr\":  Raw data for substrate collected in the field. Contains frequency distributions for the data"]
[null,"\"Thal\":  Raw data for residual pool depth and pool frequency."]
[null,"\"Comments\":  DMA and/or Plot-by-plot notes and other information"]
[null,"\"Graphs\":  Contains a table of plants with associated statistics and graphs.  Includes fequency distribution graphs."]
[null,"\"Codes\":  Displays metric summary codes such as for \"Ecological Status\"."]
[null,"\"Calcs\":  Summarizes arithmetic operations in the workbook."]
[null,"\"PLANTS\":  Master plant list used to analyze greenline vegetation, including codes."]
[null,"\"KeySP\":  Master list of Key Species for subble height and woody age class and browse."]
[]
[]
["ENTERING DATA INTO THE MODULE"]
[null,"1. This module is designed for direct data entry into worksheet tables."]
[null,"2. You must populate cells in the \"Header\" worksheet for complete display of all metrics in the Data_summary worksheet "]
[null,"3.  Species codes in the drop-downs are derived from columns N, O, and P of the PLANTS worksheet"]
[]
[null,"IMPORTANT NOTE:  When entering data into one of the data forms (Header, DMA, Substr, Thal) DO NOT insert or delete"]
[" ","cells, rows, or columns to protect the integrity of the module structure.  You can \"Copy\" and \"Clear\" cells and blocks of cells  "]
[null,"to move data.   You can also edit the contents of individual cells."]
[]
[]
["MACROS"]
[null,"Generate Plant List:  Always run this macro to generate the plant lists and statistics in the \"Graphs\" worksheet"]
[null,"Link to USDA Plants Database:  Select this to automatically open the USDA plants database on the WEB"]
[null,"Correct Plant Codes:  Always run this macro to check the validity of plant codes entered by the observer"]
[null,"Check for Errors (Data Validation): Always run this check.  Red circles are drawn around errors in data entry"]
[null,"Correct Plant Composition:  allows a close examination of plant composition to assure that each plot totals 100% (or 200% if woody plants present)"]
[null,"Correct Woody Plant Heights:  assures that plant heights are associated only with woody plants"]
[]
["PLANTS"]
[null,"The two worksheets, \"PLANTS\" and \"KeySP\" are designed to facilitate user' changes to the master plant lists."]
[null,"These sheet are not locked, so be careful while making changes that sections are not deleted or lost."]
[null,"You can add or change plant codes, change plant ratings, and re-sort the data."]
[null,"To sort the data:   "]
[null,"  1.  Place the cursor in the cell immediately below \"Species\" in the PLANTS worksheet    "]
[null,"  2.  Select - \"Data\" - then \"Sort\" in the drop-down menu"]
[]
["UNLOCKING LOCKED SHEETS"]
[null,"Select \"format\" in the toolbar at the top of the screen. Then select Unprotect"]
[null,"When unlocking, be careful not to replace or erase equations. "]
[" "]
["Methods"]
["Burton, T.A., S.J. Smith, and E.R. Cowley. 2011. Riparian area management: Multiple"]
["indicator monitoring (MIM) of stream channels and streamside vegetation. Technical"]
["Reference 1737-23. BLM/OC/ST-10/003+1737. U.S. Department of the Interior,"]
["Bureau of Land Management, National Operations Center, Denver, CO. 155 pp."]
[]
["Available on-line at:"]
[]
["http://www.rmsmim.com     "]
["or"]
["https://www.blm.gov/documents/national-office/blm-library/technical-reference/multiple-indicator-monitoring-mim-stream"]

{"sheet":"Header","index":1,"n_rows":110,"n_cols":23,"rows_kept":110,"cut":false,"hidden":false,"merged":[[39,0,39,4]]}
["HEADER FORM ",null,null,"For sample size: * ","GGW","Stubble Ht","Substrate","Alteration","Woody Use","Woody Height",null,null,null,null,null,"Substrate","Alteration","woody use",null,"GGW","St Ht","Woody Ht"]
[null,"Allotment:",null,"Margin of error:",{"$f":"DMA!K513","v":0.32},{"$f":"DMA!J513","v":0.93},0.15,{"$f":"DMA!E513","v":6.2E-2},5.73,0.15,null,null,null,null,"zae",{"$f":"IF($E3=0.8,1.28,IF($E3=0.85,1.49,IF(E3=0.9,1.64,IF(E3=0.95,1.96,IF(E3=0.99,2.58,1)))))","v":1.96},{"$f":"P2","v":1.96},{"$f":"P2","v":1.96},null,{"$f":"P2","v":1.96},{"$f":"Q2","v":1.96},{"$f":"P2","v":1.96}]
[null,"Forest/District:",null,"Confidence level:",0.95,"*See below for an explanation of this table.",null,null,null,null,null,null,null,null,"s",{"$f":"Substr!O9","v":{"$error":"#DIV/0!"}},{"$f":"DMA!E506","v":{"$error":"#DIV/0!"}},{"$f":"STDEV(DMA!S$5:S$504)","v":{"$error":"#DIV/0!"}},null,{"$f":"STDEV(DMA!K5:K504)","v":{"$error":"#DIV/0!"}},{"$f":"STDEV(DMA!J5:J504)","v":{"$error":"#DIV/0!"}},{"$f":"STDEV(DMA!D5:D504)","v":{"$error":"#DIV/0!"}}]
[null,"RD/FO:",null,null,null,null,null,null,null,null,null,null,null,null,"B",{"$f":"G2*AVERAGE(Substr!B5:K37)","v":{"$error":"#DIV/0!"}},{"$f":"H2*DMA!E505","v":{"$error":"#DIV/0!"}},{"$f":"I2*AVERAGE(DMA!S$5:S$504)","v":{"$error":"#DIV/0!"}},null,{"$f":"E2*AVERAGE(DMA!K5:K504)","v":{"$error":"#DIV/0!"}},{"$f":"F2*AVERAGE(DMA!J5:J504)","v":{"$error":"#DIV/0!"}},{"$f":"J2*AVERAGE(DMA!D5:D504)","v":{"$error":"#DIV/0!"}},"INT"]
[null,"Observer(s):",null,"Random number for starting pace set",null,null,null,null,null,null,null,null,null,null,null,null,null,null,null,null,null,null,"DS"]
[null,"Plot spacing (m)",2.5,{"$f":"RAND()*10","v":8.8097421467166512},"(Enter data in any open cell to re-calculate)",null,null,"[click ","HERE"]
[null,"Starting Distance (m)",2,{"$f":"C6*C7","v":5},"(plot interval)",null,"        ","           to convert feet to meters]"]
["DESIGNATED MONITORING AREA:",null,null,null,"    Downstream Marker",null,"       Upstream  Marker",null,"  Reference Marker"]
["DMA ID","PASTURE NAME","STREAM","DATE","Latitude","Longitude","Latitude","Longitude","Latitude","Longitude"]
[]
["DMA NAME and/or Description:",null,null,"(mm/dd/yyyy)","UTM Northing","UTM Easting","UTM Northing","UTM Easting","UTM zone:","Datum"]
[]
[null,null,null,null,"*Are hydric woody plants supposed to be present at this site (y/n)?"]
[null,null,null,null,"*Are there any hydric woody plants present (y/n)?"]
[null,null,null,null,"*Are all age classes of hydric woody plants present (y/n)?"]
[null,null,null,null,null,null,"Slope","Substrate"]
[" ",null,null,null,"Units used to record Stubble Height  (I - Inches, CM = Centimeters):","I","Class**","Class**","Predicted from \"Substr\""]
[" ",null,null,null,"6th Field HUC:",null,null,null,{"$f":"IF(Substr!O5=\"\",\"\",IF(Substr!O5<2.01,\"silt_clay_sand\",IF(Substr!O5>264,\"boulder\",IF(Substr!O5>63.5,\"cobble\",IF(Substr!O5>2,\"gravel\")))))","v":{"$error":"#NUM!"}}]
["* - Required for calculating Ecological Status (see \"Codes\" worksheet (column A for instructions)"]
[null,"Slope class:  less than .5%,   .5 to 2%,   2 to 4%,  >4%, and >10%"]
[null,"Substrate class:  bd(boulder), cb(cobble), gr(gravel), cons(consolidated sand/silt/clay), nonc(nonconsolidated sand/silt/clay)"]
[]
["DMA Selection Rationale"]
[]
["Y,   N, or NA","CRITERIA FOR REPRESENTATIVE DMA",null,null,null,null,null,null,"Photo log","File Name"]
[null,"1.  Was the riparian complex selected by an ID Team?",null,null,null,null,null,null,"Lower Up"]
[null,"2.  Is the DMA in a complex that represents and is accessible to the management activity?",null,null,null,null,null,null,"Lower Across"]
[null,"3.  Is the DMA randomly located in the riparian complex most sensitive to management?  ",null,null,null,null,null,null,"Upper Down"]
[null,"4.  Is the DMA sensitive to disturbance (not armored)?",null,null,null,null,null,null,"Upper Across"]
[null,"5.  Will the DMA site respond to management?"]
[null,"6.  If stream is over 4% gradient, does it have a well developed floodplain?"]
[null,"7.  Is the DMA located outside of a livestock concentration area?  "]
[null,"8.  Is the DMA free from the influence of compounding activities?"]
[null,null,null,null,null,null,null,null,null,null,null,null,null,null,null,null,null,null,null," "]
[null,"Is it a CRITICAL DMA?",null,null,null,null,null,null,null,null,null,null,null,null,null,null,null,0.6,2,"<.5","nonc","Y","I"]
[null,null,null,null,null,null,null,null,null,null,null,null,null,null,null,null,null,0.65,3,"<2","cons","N","CM"]
[null,"Is it a REFERENCE DMA?",null,null,null,null,null,null,null,null,null,null,null,null,null,null,null,0.7,4,"2-4","bd","NA"]
[null,null,null,null,null,null,null,null,null,null,null,null,null,null,null,null,null,0.75,5,">4","cb"]
["NARRATIVE",null,null,null,null,null,null,null,null,null,null,null,null,null,null,null,null,0.8,6,">10","gr"]
[]
[]
[]
["SATELLITE PHOTO OR SKETCH OF DMA"]
[]
[]
[]
[]
[]
[]
[]
[]
[]
[]
[]
[]
[]
[]
[]
[]
[]
[]
[]
[]
[]
[]
[]
[]
[]
[]
[]
[]
[]
[]
[]
["*Sample Size - using \"Margin of error\" and \"Confidence\""]
["The desired sample size for any variable can be estimated while collecting field data using the following equation:"]
["n = (Zæ)2(s)2/(B)"]
["Where:"]
[]
["n = The sample size estimate."]
["Zæ = The standard normal coefficient from the table below."]
["s =The standard deviation."]
["B = The desired precision level (margin of error) expressed as half of the maximum acceptable confidence interval width. "]
["and expressed as a percent or proportion of the mean."]
[]
["Standard Normal Coefficients:"]
["Confid-ence level","Alpha (æ) level","(Zæ)"]
[0.8,0.2,1.28]
[0.85,0.15,1.49]
[0.9,0.1,1.64]
[0.95,0.05,1.96]
[0.99,0.01,2.58]
[]
["The desired precision (B) level (or margin of error) defaults provided in this module (cells e2 to i2)"]
["are set so as to not exceed one-half the Confidence interval levels for individual"]
["metrics derived from field testing of the indicator,  and as shown on table F7 in the MIM Technical"]
["Reference 1737-23.   For example, the confidence interval in table F7 for GGW is +-.32 meter around the mean,"]
["or a total length of .64 meter.   Thus half the confidence interval is .32 meter."]
[]
["Using the above equation, Sample sizes are estimated for the site using the default margin of error for"]
["the \"desired precision level\", the values in the above table as applied to the \"Confidence level\","]
["and the standard deviation from the data collected in this sample.  Thus as samples are collected, the"]
["Standard deviation is constantly changing and refining the predicted population size."]
[]
["Normally, one would not have a good justification for modifying the \"Margin of Error\", thus these cells are locked."]
["The user can vary the \"Confidence Level\" if fewer samples are desired or necessary given the variability on-site."]
["Thus, the user has the option of accepting a wider confidence interval (lower precision) when sample sizes become excessive."]
[null,null,null,null,null,null,null,null,null,null,null,null,null,null,null,null,null,null,null,"Enter feet here"]
["** - Required for calculating Ecological Status (see \"Codes\" and “Calcs” tabs [greenline ecological status rating] for instructions).",null,null,null,null,null,null,null,null,null,null,null,null,null,null,null,null,null,null,8.25,null,{"$f":"IF(T109=\"\",\"\",CONVERT(T109,\"ft\",\"m\"))","v":2.5146000000000002},"Meters"]
[null,null,null,null,null,null,null,null,null,null,null,null,null,null,null,null,null,null,null,null,null,"Return"]

{"sheet":"DMA","index":2,"n_rows":689,"n_cols":131,"rows_kept":689,"cut":false,"hidden":false,"merged":[[1,5,1,7]]}
[null,null,"Greenline Composition",null," ","             Streambanks ",null,null,"      Stubble Height",null,"           Width",null," ",null,"Woody Species Age Class",null,null,"   Woody Species Use"]
["Plot #","Species Rock/Wood","Composition","Woody Species height class","Streambank Alteration","Streambank Stability",null,null,"Species","Height","GGW","BFW (optional)","Species","Seedling","Young","Mature","Rhizom-atous*"," Species","Use %","Distance    ",null,"Streambank Stability",null,null,null,"Woody Use",null,null,null,null,null,"Woody Regen",null,null,null,null,null,null,null,null,"Greenline Composition",null,null,null,null,null,null,null,null," ",null,null,null,null,null,null,null,null,null,null,null,null,null,null,null,null,null,null,null,null,null,null,"Stubble Height",null,null,null,"Max stubble ht","Species",null,null," ",null,null,null,null,null,null,null,null,null,null,null,null,null,null,null,null,null,null,null,null,null,null,null,null,null,null,null,null,null,null,null,null,null,null,null,null,"Greenline composition plot weighted"]
[null,"(Code)","(%)","1= 0 - .5 m,    2= .5 - 1 m,    3 = 1 - 2 m,    4 = 2 - 4 m,     5 = 4 - 8 m,    6 > 8 m","(0 to 5)","  E=      Erosional        D= Depositional","  C= Covered    U= Uncovered","F = Fracture,    S = Slump,     SL = Slough,     E = Eroding,    A = Absent","(Code)",{"$f":"IF(Header!F17=\"I\",\"Inches\",\"Centi-meters\")","v":"Inches"},"(meters)","(meters)","(Code)","(number rooted in plot)","(number rooted in plot)","(number rooted in plot)","(1 if present, else blank)","(Code)","(Percent)","(Meters)","GGW  ft to meters","(Calculated automatically, do not record data in this block)",null,null,null,null,null,null,null,null,null,null,null,null,null,null,null,null,null,null,null,null,null,null,null,"Woody",null,"Hydric","Hydric herbaceous",null,"Forbs",null,null,null,"Wetland","Wetland",null,null,null," ",null,"Streambank Stability",null,null,null,"Summary ",null,null,"Streambank Alteration Summary",null,null,null,"Key","Count","Sum","Mean",{"$f":"MAX(BV5:BV204)","v":0},{"$f":"IF(SUM(J5:J504)>0,INDEX(BU5:BV204,MATCH(BY3,BV5:BV204,0),1),\"\")","v":{"$error":"#DIV/0!"}},null,null,null,null,null,"Forest Cover ",null,null,"Forbs","Hydric","Woody","Hydric Herb",null,null,null,null,"VEGETATION VALUES",null,null,null,null,null,null,null,null,null,null,null,null,null,null,null,"Data Validation",null,null,"Woody Age Classes - standard deviation",null,null,null,null,null,"Wetland",null,null,"LISTS"]
["SAMPLE SIZE NEEDED:",null,null,{"$f":"IF(ISERROR((Header!V2*Header!V3/Header!J2)^2),52,(Header!V2*Header!V3/Header!J2)^2)","v":52},{"$f":"IF(ISERROR((Header!Q2*Header!Q3/Header!H2)^2),80,(Header!Q2*Header!Q3/Header!H2)^2)","v":80}," "," ",null,null,{"$f":"IF(ISERROR((Header!U2*DMA!J506/Header!F2)^2),50,(Header!U2*Header!U3/Header!F2)^2)","v":50},{"$f":"IF(ISERROR((Header!T2*DMA!K506/Header!E2)^2),80,(Header!T2*Header!T3/Header!E2)^2)","v":80},null,null,null,null,null," ",null,{"$f":"IF(ISERROR((Header!R2*Header!R3/Header!I2)^2),52,(Header!R2*Header!R3/Header!I2)^2)","v":52},null,"Conversion ft to m","Depositional","Erosional","Streambank Stability Class","Code","Species","%use","Count","Sum",null," ","Species","Seedling","Young","Mature",null," ",null,null,null,"Specie","Winward Stability Rating","Composition","Tree ht","Woody?","Comp%","Hydric?","Comp%","Herb?","Comp%","Forb?","Comp%","Veg Comp",null,"Rating","Weighted",null,"Stability","Successional Status","SS Rating",null,"Numeric Rating","Cover","Stability",null,"% covered","% stable"," ","Transformed",null,null,null," ",null,"Height","Height","Dom Key Spec",null,"Woody Code",null,null,"Veg Biomass"," ","Forest cover",null,null,"#","#","#","#","Woody use",null,"Cover","Constancy","Code","Stab Rating","Wet rating","WR Dom","WR Sub","WR","ERI Dom","ERI Sub","ERI","Woody Cover Index",null,null,"STAB ","WET","SS",null,"type","cover","stab","Species","Seedling","Young","Mature","Composition","Veg Comp","Weighted","Stability","Plot","Composition","Woody Species height class","Streambank Alteration","Stubble height","GGW & BFW","Rhizom","Woody age class","Woody use","Height Class"]
[1,null,null,null,null,null,null,null,null,null,null,null,null,null,null,null,null,null,null,{"$f":"IF(A5=\"\",\"\",Header!C$7*Header!C$6)","v":5},{"$f":"IF(K5=\"\",\"\",K5*12/39)","v":""},{"$f":"IF(F5=\"\",\"\",IF(ISNUMBER(SEARCH(F5,\"d\")),IF(ISNUMBER(SEARCH(G5,\"c\")),\"CS\",IF(ISNUMBER(SEARCH(G5,\"u\")),\"UU\")),\"\"))","v":""},{"$f":"IF(F5=\"\",\"\",IF(ISNUMBER(SEARCH(F5,\"e\")),IF(ISNUMBER(SEARCH(G5,\"c\")),IF(ISNUMBER(SEARCH(H5,\"a\")),\"CS\",\"CU\"),IF(ISNUMBER(SEARCH(H5,\"a\")),\"US\",\"UU\")),\"\"))","v":""},{"$f":"IF(V5=\"\",W5,V5)","v":""},{"$f":"IF($X5=\"cs\",1,IF($X5=\"cu\",2,IF($X5=\"us\",3,IF($X5=\"uu\",4,\"\"))))","v":""},{"$f":"IF(KeySP!$D2=\"\",\"\",KeySP!$D2)","v":" "},{"$f":"IF(AB5>0,AC5/AB5*0.01,\"\")","v":""},{"$f":"COUNTIF(R$5:R$502,Z5)","v":0},{"$f":"IF(Z5=\"\",\"\",SUMIF($R$5:$R$502,\"*\"&Z5&\"*\",S$5:S$502))","v":0},null,null,{"$f":"IF(KeySP!$D2=\"\",\"\",KeySP!$D2)","v":" "},{"$f":"SUMIF($M$5:M$502,$AF5,N$5:N$502)","v":0},{"$f":"SUMIF($M$5:M$502,$AF5,O$5:O$502)","v":0},{"$f":"SUMIF($M$5:M$502,$AF5,P$5:P$502)","v":0},null,{"$f":"IF(AG5>0,$AF5,\"\")","v":""},{"$f":"IF(AH5>0,$AF5,\"\")","v":""},{"$f":"IF(AI5>0,$AF5,\"\")","v":""},{"$f":"IF(AJ5>0,$AF5,\"\")","v":""},{"$f":"IF(PLANTS!A3=\"\",\"\",PLANTS!A3)","v":" IGNORE"},{"$f":"CR5","v":0},{"$f":"IF(AO5=\"\",\"\",IF(COUNTIF($B$5:$B$504,$AO5)=0,\"\",SUMIF($B$5:$B$504,$AO5,$C$5:$C$504)))","v":""},{"$f":"SUMIF(B$5:B$504,AO5,D$5:D$504)","v":0},{"$f":"IF(PLANTS!C3=\"\",\"\",PLANTS!C3)","v":""},{"$f":"IF($AQ5=\"\",\"\",IF($AQ5>0,IF(AS5=\"y\",COUNTIF(B$5:B$504,AO5)/AP$605,\"\"),\"\"))","v":""},{"$f":"IF(PLANTS!D3=\"\",\"\",PLANTS!D3)","v":""},{"$f":"IF($AQ5=\"\",\"\",IF($AQ5>0,IF(AU5=\"y\",COUNTIF($B$5:$B$504,$AO5)/$AP$605,\"\"),\"\"))","v":""},{"$f":"IF(PLANTS!E3=\"\",\"\",PLANTS!E3)","v":""},{"$f":"IF(AU5=\"y\",IF(AW5=\"y\",AV5,\"\"),\"\")","v":""},{"$f":"IF(PLANTS!F3=\"\",\"\",PLANTS!F3)","v":""},{"$f":"IF($AQ5=\"\",\"\",IF($AQ5>0,IF(AY5=\"y\",COUNTIF($B$5:$B$504,$AO5)/$AP$605,\"\"),\"\"))","v":""},{"$f":"IF(AQ5<>\"\",AQ5/AQ$604,0)","v":0},null,{"$f":"CS5","v":0},{"$f":"IF(AQ5<>\"\",BA5*$BC5,\"\")","v":""},50,{"$f":"(BA5*$AP5)","v":0},{"$f":"IF(DE5=\"A\",PLANTS!H3,DE5)","v":0},0,null,{"$f":"IF($X5=\"cs\",1,IF($X5=\"fb\",1,IF($X5=\"cu\",2,IF($X5=\"us\",3,IF($X5=\"uu\",4,\"\")))))","v":""},{"$f":"IF(Y5=\"\",\"\",IF(Y5<3,\"c\",IF(Y5>2,\"u\",\"\")))","v":""},{"$f":"IF(Y5=\"\",\"\",IF(Y5=1,\"s\",IF(Y5=3,\"s\",IF(Y5=2,\"u\",IF(Y5=4,\"u\",\"\")))))","v":""},{"$f":"IF(BJ5=0,\"\",BJ5)","v":""},{"$f":"COUNTIF(BK5:BK503,\"c\")/(498-$BL$504)","v":{"$error":"#DIV/0!"}},{"$f":"COUNTIF(BL5:BL503,\"s\")/(498-$BL$504)","v":{"$error":"#DIV/0!"}}," ",{"$f":"IF(E5<>\"\",E5+1,\"\")","v":""},{"$f":"IF(E5=\"\",\"\",(E5+1)/5)","v":""},null,null,{"$f":"IF(KeySP!A2=\"\",\"\",KeySP!A2)","v":"  "},{"$f":"COUNTIF(I$5:I$504,BU5)","v":0},{"$f":"SUMIF(I$5:I$504,BU5,J$5:J$504)","v":0},{"$f":"IF(BW5>0,BW5/BV5,\"\")","v":""},{"$f":"IF(I5=BZ$3,J5,\"\")","v":{"$error":"#DIV/0!"}},null,{"$f":"IF(SUM(N5:Q5)=0,\"\",SUM(N5:Q5))","v":""},null," ",{"$f":"IF(D5+J5<1,\"\",1)","v":""},null,{"$f":"IF(D5=6,1,\"\")","v":""},{"$f":"IF(CF5<>\"\",C5,\"\")","v":""},{"$f":"IF(AR5>0,IF($CF5=\"y\",AR5/$AQ$604,\"\"),\"\")","v":""},{"$f":"IF(AY5=\"\",\"\",COUNTIF(B$5:B$503,AO5))","v":""},{"$f":"IF(AU5=\"\",\"\",COUNTIF(B$5:B$503,AO5))","v":""},{"$f":"IF(AS5=\"\",\"\",COUNTIF(B$5:B$503,AO5))","v":""},{"$f":"IF(AU5=\"\",\"\",IF(AW5=\"\",\"\",COUNTIF(B$5:B$503,AO5)))","v":""},{"$f":"IF(Q5=\"\",\"\",COUNTIF($AO$5:$AO$688,Q5))","v":""},null,{"$f":"IF(CQ5=\"\",\"\",IF(COUNTIF($B$5:$B$503,$CQ5)=0,\"\",SUMIF(B$5:B$503,CQ5,C$5:C$503)/COUNTIF($B$5:$B$503,$CQ5)))","v":""},{"$f":"IF(CQ5=\"\",\"\",IF(COUNTIF(B$5:B$503,CQ5)=0,\"\",COUNTIF(B$5:B$503,CQ5)/COUNTA(B$5:B$503)))","v":""},{"$f":"AO5","v":" IGNORE"},{"$f":"IF(DC5=\"a\",PLANTS!I3,DMA!DC5)","v":0},{"$f":"IF(DD5=\"a\",PLANTS!G3,DMA!DD5)","v":0},{"$f":"IF($B5>\"0\",LOOKUP($B5,$CQ$5:$CQ$414,$CS$5:$CS$414),\"\")","v":""},{"$f":"IF($C5>\"0\",LOOKUP($C5,$CQ$5:$CQ$414,$CS$5:$CS$414),\"\")","v":""},{"$f":"IF(CT5=\"\",\"\",IF(CU5=\"\",CT5,(CT5*2+CU5)/3))","v":""},{"$f":"IF($B5>\"0\",LOOKUP($B5,$CQ$5:$CQ$414,$CR$5:$CR$414),\"\")","v":""},{"$f":"IF($C5>\"0\",LOOKUP($C5,$CQ$5:$CQ$414,$CR$5:$CR$414),\"\")","v":""},{"$f":"IF(CW5=\"\",\"\",IF(CX5=\"\",CW5,(CW5*2+CX5)/3))","v":""},{"$f":"IF($B5>\"0\",LOOKUP($B5,$CQ$5:$CQ$414,$BH$5:$BH$414),\"\")","v":""},null,null,{"$f":"PLANTS!I3","v":0},{"$f":"PLANTS!G3","v":0},{"$f":"PLANTS!H3","v":0},null,null,null,null,{"$f":"IF(M5=\"\",\"\",M5)","v":""},{"$f":"IF(DMA!DJ5=\"\",\"\",(DMA!N5-SUMIF(Graphs!$O$13:$O$199,DMA!$DJ5,Graphs!$V$13:$V$199))^2)","v":""},{"$f":"IF(DMA!DK5=\"\",\"\",(DMA!O5-SUMIF(Graphs!$O$13:$O$199,DMA!$DJ5,Graphs!$V$13:$V$199))^2)","v":""},{"$f":"IF(DMA!DL5=\"\",\"\",(DMA!P5-SUMIF(Graphs!$O$13:$O$199,DMA!$DJ5,Graphs!$V$13:$V$199))^2)","v":""},{"$f":"IF(AO5=\"\",\"\",IF(COUNTIF($B$5:$B$504,$AO5)=0,\"\",SUMIF($B$5:$B$504,$AO5,$C$5:$C$504)*COUNTIF(B$5:B$504,AO5)))","v":""},{"$f":"IF(DN5<>\"\",DN5/DN$604,0)","v":0},{"$f":"IF($AQ5<>\"\",$DO5*$BC5,\"\")","v":""},{"$f":"(DO5*$AP5)","v":0},1,5,1,0,1,0.5,null,1,10]
[null,null,null,null,null,null,null,null,null,null,null,null,null,null,null,null,null,null,null,{"$f":"IF(A6=\"\",\"\",(Header!C$7*Header!C$6)*A6)","v":""},"",{"$f":"IF(F6=\"\",\"\",IF(ISNUMBER(SEARCH(F6,\"d\")),IF(ISNUMBER(SEARCH(G6,\"c\")),\"CS\",IF(ISNUMBER(SEARCH(G6,\"u\")),\"UU\")),\"\"))","v":""},{"$f":"IF(F6=\"\",\"\",IF(ISNUMBER(SEARCH(F6,\"e\")),IF(ISNUMBER(SEARCH(G6,\"c\")),IF(ISNUMBER(SEARCH(H6,\"a\")),\"CS\",\"CU\"),IF(ISNUMBER(SEARCH(H6,\"a\")),\"US\",\"UU\")),\"\"))","v":""},{"$f":"IF(V6=\"\",W6,V6)","v":""},{"$f":"IF($X6=\"cs\",1,IF($X6=\"cu\",2,IF($X6=\"us\",3,IF($X6=\"uu\",4,\"\"))))","v":""},{"$f":"IF(KeySP!D3=\"\",\"\",KeySP!D3)","v":"ACNE2"},"",{"$f":"COUNTIF(R$5:R$502,Z6)","v":0},0,null,null,{"$f":"IF(KeySP!$D3=\"\",\"\",KeySP!$D3)","v":"ACNE2"},{"$f":"SUMIF($M$5:M$502,$AF6,N$5:N$502)","v":0},{"$f":"SUMIF($M$5:M$502,$AF6,O$5:O$502)","v":0},{"$f":"SUMIF($M$5:M$502,$AF6,P$5:P$502)","v":0},null,"","","","",{"$f":"IF(PLANTS!A4=\"\",\"\",PLANTS!A4)","v":" QUIT"},{"$f":"CR6","v":0},{"$f":"IF(AO6=\"\",\"\",IF(COUNTIF(B$5:B$504,AO6)=0,\"\",SUMIF(B$5:B$504,AO6,C$5:C$504)))","v":""},0,{"$f":"IF(PLANTS!C4=\"\",\"\",PLANTS!C4)","v":""},"",{"$f":"IF(PLANTS!D4=\"\",\"\",PLANTS!D4)","v":""},"",{"$f":"IF(PLANTS!E4=\"\",\"\",PLANTS!E4)","v":""},{"$f":"IF(AU6=\"y\",IF(AW6=\"y\",AV6,\"\"),\"\")","v":""},{"$f":"IF(PLANTS!F4=\"\",\"\",PLANTS!F4)","v":""},"",0,null,{"$f":"CS6","v":0},{"$f":"IF(AQ6<>\"\",BA6*$BC6,\"\")","v":""},null,{"$f":"(BA6*AP6)","v":0},{"$f":"IF(DE6=\"A\",PLANTS!H4,DE6)","v":0},0,null,{"$f":"IF($X6=\"cs\",1,IF($X6=\"fb\",1,IF($X6=\"cu\",2,IF($X6=\"us\",3,IF($X6=\"uu\",4,\"\")))))","v":""},{"$f":"IF(Y6=\"\",\"\",IF(Y6<3,\"c\",IF(Y6>2,\"u\",\"\")))","v":""},{"$f":"IF(Y6=\"\",\"\",IF(Y6=1,\"s\",IF(Y6=3,\"s\",IF(Y6=2,\"u\",IF(Y6=4,\"u\",\"\")))))","v":""},{"$f":"IF(BJ6=0,\"\",BJ6)","v":""},null,null,null,{"$f":"IF(E6<>\"\",E6+1,\"\")","v":""},{"$f":"IF(E6=\"\",\"\",(E6+1)/5)","v":""},null,null,{"$f":"IF(KeySP!A3=\"\",\"\",KeySP!A3)","v":"AGGI2"},0,0,"",{"$error":"#DIV/0!"},null,{"$f":"IF(SUM(N6:Q6)=0,\"\",SUM(N6:Q6))","v":""},null," ",{"$f":"IF(D6+J6<1,\"\",1)","v":""},null,{"$f":"IF(D6=6,1,\"\")","v":""},{"$f":"IF(CF6<>\"\",C6,\"\")","v":""},{"$f":"IF(AR6>0,IF($CF6=\"y\",AR6/$AQ$604,\"\"),\"\")","v":""},{"$f":"IF(AY6=\"\",\"\",COUNTIF(B$5:B$503,AO6))","v":""},{"$f":"IF(AU6=\"\",\"\",COUNTIF(B$5:B$503,AO6))","v":""},{"$f":"IF(AS6=\"\",\"\",COUNTIF(B$5:B$503,AO6))","v":""},{"$f":"IF(AU6=\"\",\"\",IF(AW6=\"\",\"\",COUNTIF(B$5:B$503,AO6)))","v":""},{"$f":"IF(Q6=\"\",\"\",COUNTIF($AO$5:$AO$688,Q6))","v":""},null,{"$f":"IF(CQ6=\"\",\"\",IF(COUNTIF($B$5:$B$503,$CQ6)=0,\"\",SUMIF(B$5:B$503,CQ6,C$5:C$503)/COUNTIF($B$5:$B$503,$CQ6)))","v":""},{"$f":"IF(CQ6=\"\",\"\",IF(COUNTIF(B$5:B$503,CQ6)=0,\"\",COUNTIF(B$5:B$503,CQ6)/COUNTA(B$5:B$503)))","v":""},{"$f":"AO6","v":" QUIT"},{"$f":"IF(DC6=\"a\",PLANTS!I4,DMA!DC6)","v":0},{"$f":"IF(DD6=\"a\",PLANTS!G4,DMA!DD6)","v":0},"","",{"$f":"IF(CT6=\"\",\"\",IF(CU6=\"\",CT6,(CT6*2+CU6)/3))","v":""},"","",{"$f":"IF(CW6=\"\",\"\",IF(CX6=\"\",CW6,(CW6*2+CX6)/3))","v":""},"",null,null,{"$f":"PLANTS!I4","v":0},{"$f":"PLANTS!G4","v":0},{"$f":"PLANTS!H4","v":0},null,null,null,null,{"$f":"IF(M6=\"\",\"\",M6)","v":""},{"$f":"IF(DMA!DJ6=\"\",\"\",(DMA!N6-SUMIF(Graphs!$O$13:$O$199,DMA!$DJ6,Graphs!$V$13:$V$199))^2)","v":""},{"$f":"IF(DMA!DK6=\"\",\"\",(DMA!O6-SUMIF(Graphs!$O$13:$O$199,DMA!$DJ6,Graphs!$V$13:$V$199))^2)","v":""},{"$f":"IF(DMA!DL6=\"\",\"\",(DMA!P6-SUMIF(Graphs!$O$13:$O$199,DMA!$DJ6,Graphs!$V$13:$V$199))^2)","v":""},"",0,{"$f":"IF($AQ6<>\"\",$DO6*$BC6,\"\")","v":""},{"$f":"(DO6*$AP6)","v":0},2,10,2,1,2,0.6,1,2,30]
[null,null,null,null,null,null,null,null,null,null,null,null,null,null,null,null,null,null,null,{"$f":"IF(A7=\"\",\"\",(Header!C$7*Header!C$6)*A7)","v":""},"","","","","",{"$f":"IF(KeySP!D4=\"\",\"\",KeySP!D4)","v":"ALIN2"},"",0,0,null,null,{"$f":"IF(KeySP!$D4=\"\",\"\",KeySP!$D4)","v":"ALIN2"},{"$f":"SUMIF($M$5:M$502,$AF7,N$5:N$502)","v":0},{"$f":"SUMIF($M$5:M$502,$AF7,O$5:O$502)","v":0},{"$f":"SUMIF($M$5:M$502,$AF7,P$5:P$502)","v":0},null,"","","","",{"$f":"IF(PLANTS!A5=\"\",\"\",PLANTS!A5)","v":"ACCI"},5,"",0,{"$f":"IF(PLANTS!C5=\"\",\"\",PLANTS!C5)","v":"y"},"",{"$f":"IF(PLANTS!D5=\"\",\"\",PLANTS!D5)","v":""},"",{"$f":"IF(PLANTS!E5=\"\",\"\",PLANTS!E5)","v":""},"",{"$f":"IF(PLANTS!F5=\"\",\"\",PLANTS!F5)","v":""},"",0,null,50,"",null,0,{"$f":"IF(DE7=\"A\",PLANTS!H5,DE7)","v":"E"},{"$f":"IF(BG7=\"l\",80,IF(BG7=\"m\",50,IF(BG7=\"E\",20)))","v":20},null,"","","","",null,null,null,"","",null,null,{"$f":"IF(KeySP!A4=\"\",\"\",KeySP!A4)","v":"AGRE2"},0,0,"",{"$error":"#DIV/0!"},null,"",null," ","",null,"","","","","",0,"","",null,"","","ACCI",{"$f":"IF(DC7=\"a\",PLANTS!I5,DMA!DC7)","v":5},{"$f":"IF(DD7=\"a\",PLANTS!G5,DMA!DD7)","v":50},"","",{"$f":"IF(CT7=\"\",\"\",IF(CU7=\"\",CT7,(CT7*2+CU7)/3))","v":""},"","","","",null,null,{"$f":"PLANTS!I5","v":5},{"$f":"PLANTS!G5","v":50},{"$f":"PLANTS!H5","v":"E"},null,null,null,null,"",{"$f":"IF(DMA!DJ7=\"\",\"\",(DMA!N7-SUMIF(Graphs!$O$13:$O$199,DMA!$DJ7,Graphs!$V$13:$V$199))^2)","v":""},{"$f":"IF(DMA!DK7=\"\",\"\",(DMA!O7-SUMIF(Graphs!$O$13:$O$199,DMA!$DJ7,Graphs!$V$13:$V$199))^2)","v":""},{"$f":"IF(DMA!DL7=\"\",\"\",(DMA!P7-SUMIF(Graphs!$O$13:$O$199,DMA!$DJ7,Graphs!$V$13:$V$199))^2)","v":""},"",0,"",0,3,15,3,2,3,0.7,null,3,50]
[null,null,null,null,null,null,null,null,null,null,null,null,null,null,null,null,null,null,null,{"$f":"IF(A8=\"\",\"\",(Header!C$7*Header!C$6)*A8)","v":""},"","","","","",{"$f":"IF(KeySP!D5=\"\",\"\",KeySP!D5)","v":"ALOB2"},"",0,0,null,null,{"$f":"IF(KeySP!$D5=\"\",\"\",KeySP!$D5)","v":"ALOB2"},{"$f":"SUMIF($M$5:M$502,$AF8,N$5:N$502)","v":0},{"$f":"SUMIF($M$5:M$502,$AF8,O$5:O$502)","v":0},{"$f":"SUMIF($M$5:M$502,$AF8,P$5:P$502)","v":0},null,"","","","",{"$f":"IF(PLANTS!A6=\"\",\"\",PLANTS!A6)","v":"ACCO2"},5,"",0,{"$f":"IF(PLANTS!C6=\"\",\"\",PLANTS!C6)","v":"y"},"",{"$f":"IF(PLANTS!D6=\"\",\"\",PLANTS!D6)","v":""},"",{"$f":"IF(PLANTS!E6=\"\",\"\",PLANTS!E6)","v":""},"",{"$f":"IF(PLANTS!F6=\"\",\"\",PLANTS!F6)","v":""},"",0,null,50,"",null,0,{"$f":"IF(DE8=\"A\",PLANTS!H6,DE8)","v":"M"},{"$f":"IF(BG8=\"l\",80,IF(BG8=\"m\",50,IF(BG8=\"E\",20)))","v":50},null,"","","","",null,null,null,"","",null,null,{"$f":"IF(KeySP!A5=\"\",\"\",KeySP!A5)","v":"AGSC5"},0,0,"",{"$error":"#DIV/0!"},null,"",null," ","",null,"","","","","",0,"","",null,"","","ACCO2",{"$f":"IF(DC8=\"a\",PLANTS!I6,DMA!DC8)","v":5},{"$f":"IF(DD8=\"a\",PLANTS!G6,DMA!DD8)","v":50},"","","","","","","",null,null,{"$f":"PLANTS!I6","v":5},{"$f":"PLANTS!G6","v":50},{"$f":"PLANTS!H6","v":"M"},null,"E","C","F","",{"$f":"IF(DMA!DJ8=\"\",\"\",(DMA!N8-SUMIF(Graphs!$O$13:$O$199,DMA!$DJ8,Graphs!$V$13:$V$199))^2)","v":""},{"$f":"IF(DMA!DK8=\"\",\"\",(DMA!O8-SUMIF(Graphs!$O$13:$O$199,DMA!$DJ8,Graphs!$V$13:$V$199))^2)","v":""},{"$f":"IF(DMA!DL8=\"\",\"\",(DMA!P8-SUMIF(Graphs!$O$13:$O$199,DMA!$DJ8,Graphs!$V$13:$V$199))^2)","v":""},"",0,"",0,4,20,4,3,4,0.8,null,4,70]
[null,null,null,null,null,null,null,null,null,null,null,null,null,null,null,null,null,null,null,{"$f":"IF(A9=\"\",\"\",(Header!C$7*Header!C$6)*A9)","v":""},"","","","","",{"$f":"IF(KeySP!D6=\"\",\"\",KeySP!D6)","v":"ALOC2"},"",0,0,null,null,{"$f":"IF(KeySP!$D6=\"\",\"\",KeySP!$D6)","v":"ALOC2"},{"$f":"SUMIF($M$5:M$502,$AF9,N$5:N$502)","v":0},{"$f":"SUMIF($M$5:M$502,$AF9,O$5:O$502)","v":0},{"$f":"SUMIF($M$5:M$502,$AF9,P$5:P$502)","v":0},null,"","","","",{"$f":"IF(PLANTS!A7=\"\",\"\",PLANTS!A7)","v":"ACCO4"},5,"",0,{"$f":"IF(PLANTS!C7=\"\",\"\",PLANTS!C7)","v":""},"",{"$f":"IF(PLANTS!D7=\"\",\"\",PLANTS!D7)","v":""},"",{"$f":"IF(PLANTS!E7=\"\",\"\",PLANTS!E7)","v":"y"},"",{"$f":"IF(PLANTS!F7=\"\",\"\",PLANTS!F7)","v":"y"},"",0,null,75,"",null,0,{"$f":"IF(DE9=\"A\",PLANTS!H7,DE9)","v":"L"},80,null,"","","","",null,null,null,"","",null,null,{"$f":"IF(KeySP!A6=\"\",\"\",KeySP!A6)","v":"AGSM"},0,0,"",{"$error":"#DIV/0!"},null,"",null," ","",null,"","","",0,"","","","",null,"","","ACCO4",{"$f":"IF(DC9=\"a\",PLANTS!I7,DMA!DC9)","v":5},{"$f":"IF(DD9=\"a\",PLANTS!G7,DMA!DD9)","v":75},"","","","","","","",null,null,{"$f":"PLANTS!I7","v":5},{"$f":"PLANTS!G7","v":75},{"$f":"PLANTS!H7","v":"L"},null,"D","U","SL","",{"$f":"IF(DMA!DJ9=\"\",\"\",(DMA!N9-SUMIF(Graphs!$O$13:$O$199,DMA!$DJ9,Graphs!$V$13:$V$199))^2)","v":""},{"$f":"IF(DMA!DK9=\"\",\"\",(DMA!O9-SUMIF(Graphs!$O$13:$O$199,DMA!$DJ9,Graphs!$V$13:$V$199))^2)","v":""},{"$f":"IF(DMA!DL9=\"\",\"\",(DMA!P9-SUMIF(Graphs!$O$13:$O$199,DMA!$DJ9,Graphs!$V$13:$V$199))^2)","v":""},"",0,"",0,5,25,5,4,5,0.9,null,5,90]
[null,null,null,null,null,null,null,null,null,null,null,null,null,null,null,null,null,null,null,{"$f":"IF(A10=\"\",\"\",(Header!C$7*Header!C$6)*A10)","v":""},"","","","","",{"$f":"IF(KeySP!D7=\"\",\"\",KeySP!D7)","v":"ALVI5"},"",0,0,null,null,{"$f":"IF(KeySP!$D7=\"\",\"\",KeySP!$D7)","v":"ALVI5"},{"$f":"SUMIF($M$5:M$502,$AF10,N$5:N$502)","v":0},{"$f":"SUMIF($M$5:M$502,$AF10,O$5:O$502)","v":0},{"$f":"SUMIF($M$5:M$502,$AF10,P$5:P$502)","v":0},null,"","","","",{"$f":"IF(PLANTS!A8=\"\",\"\",PLANTS!A8)","v":"ACER"},5,"",0,{"$f":"IF(PLANTS!C8=\"\",\"\",PLANTS!C8)","v":"y"},"",{"$f":"IF(PLANTS!D8=\"\",\"\",PLANTS!D8)","v":""},"",{"$f":"IF(PLANTS!E8=\"\",\"\",PLANTS!E8)","v":""},"",{"$f":"IF(PLANTS!F8=\"\",\"\",PLANTS!F8)","v":""},"",0,null,25,"",null,0,{"$f":"IF(DE10=\"A\",PLANTS!H8,DE10)","v":"M"},50,null,"","","","",null,null,null,"","",null,null,{"$f":"IF(KeySP!A7=\"\",\"\",KeySP!A7)","v":"AGST2"},0,0,"",{"$error":"#DIV/0!"},null,"",null," ","",null,"","","","","",0,"","",null,"","","ACER",{"$f":"IF(DC10=\"a\",PLANTS!I8,DMA!DC10)","v":5},{"$f":"IF(DD10=\"a\",PLANTS!G8,DMA!DD10)","v":25},"","","","","","","",null,null,{"$f":"PLANTS!I8","v":5},{"$f":"PLANTS!G8","v":25},{"$f":"PLANTS!H8","v":"M"},null,null,null,"S","",{"$f":"IF(DMA!DJ10=\"\",\"\",(DMA!N10-SUMIF(Graphs!$O$13:$O$199,DMA!$DJ10,Graphs!$V$13:$V$199))^2)","v":""},{"$f":"IF(DMA!DK10=\"\",\"\",(DMA!O10-SUMIF(Graphs!$O$13:$O$199,DMA!$DJ10,Graphs!$V$13:$V$199))^2)","v":""},{"$f":"IF(DMA!DL10=\"\",\"\",(DMA!P10-SUMIF(Graphs!$O$13:$O$199,DMA!$DJ10,Graphs!$V$13:$V$199))^2)","v":""},"",0,"",0,6,30,null,5,6,1,null,6]
[null,null,null,null,null,null,null,null,null,null,null,null,null,null,null,null,null,null,null,{"$f":"IF(A11=\"\",\"\",(Header!C$7*Header!C$6)*A11)","v":""},"","","","","",{"$f":"IF(KeySP!D8=\"\",\"\",KeySP!D8)","v":"AMFR"},"",0,0,null,null,{"$f":"IF(KeySP!$D8=\"\",\"\",KeySP!$D8)","v":"AMFR"},{"$f":"SUMIF($M$5:M$502,$AF11,N$5:N$502)","v":0},{"$f":"SUMIF($M$5:M$502,$AF11,O$5:O$502)","v":0},{"$f":"SUMIF($M$5:M$502,$AF11,P$5:P$502)","v":0},null,"","","","",{"$f":"IF(PLANTS!A9=\"\",\"\",PLANTS!A9)","v":"ACGL"},5,"",0,{"$f":"IF(PLANTS!C9=\"\",\"\",PLANTS!C9)","v":"y"},"",{"$f":"IF(PLANTS!D9=\"\",\"\",PLANTS!D9)","v":""},"",{"$f":"IF(PLANTS!E9=\"\",\"\",PLANTS!E9)","v":""},"",{"$f":"IF(PLANTS!F9=\"\",\"\",PLANTS!F9)","v":""},"",0,null,50,"",null,0,{"$f":"IF(DE11=\"A\",PLANTS!H9,DE11)","v":"M"},50,null,"","","","",null,null,null,"","",null,null,{"$f":"IF(KeySP!A8=\"\",\"\",KeySP!A8)","v":"ALAE"},0,0,"",{"$error":"#DIV/0!"},null,"",null," ","",null,"","","","","",0,"","",null,"","","ACGL",{"$f":"IF(DC11=\"a\",PLANTS!I9,DMA!DC11)","v":5},{"$f":"IF(DD11=\"a\",PLANTS!G9,DMA!DD11)","v":50},"","","","","","","",null,null,{"$f":"PLANTS!I9","v":5},{"$f":"PLANTS!G9","v":50},{"$f":"PLANTS!H9","v":"M"},null,null,null,"E","",{"$f":"IF(DMA!DJ11=\"\",\"\",(DMA!N11-SUMIF(Graphs!$O$13:$O$199,DMA!$DJ11,Graphs!$V$13:$V$199))^2)","v":""},{"$f":"IF(DMA!DK11=\"\",\"\",(DMA!O11-SUMIF(Graphs!$O$13:$O$199,DMA!$DJ11,Graphs!$V$13:$V$199))^2)","v":""},{"$f":"IF(DMA!DL11=\"\",\"\",(DMA!P11-SUMIF(Graphs!$O$13:$O$199,DMA!$DJ11,Graphs!$V$13:$V$199))^2)","v":""},"",0,"",0,7,35,null,null,7,1.1000000000000001,null,7]
[null,null,null,null,null,null,null,null,null,null,null,null,null,null,null,null,null,null,null,{"$f":"IF(A12=\"\",\"\",(Header!C$7*Header!C$6)*A12)","v":""},"","","","","",{"$f":"IF(KeySP!D9=\"\",\"\",KeySP!D9)","v":"BAEM"},"",0,0,null,null,{"$f":"IF(KeySP!$D9=\"\",\"\",KeySP!$D9)","v":"BAEM"},{"$f":"SUMIF($M$5:M$502,$AF12,N$5:N$502)","v":0},{"$f":"SUMIF($M$5:M$502,$AF12,O$5:O$502)","v":0},{"$f":"SUMIF($M$5:M$502,$AF12,P$5:P$502)","v":0},null,"","","","",{"$f":"IF(PLANTS!A10=\"\",\"\",PLANTS!A10)","v":"ACGR"},5,"",0,{"$f":"IF(PLANTS!C10=\"\",\"\",PLANTS!C10)","v":"y"},"",{"$f":"IF(PLANTS!D10=\"\",\"\",PLANTS!D10)","v":""},"",{"$f":"IF(PLANTS!E10=\"\",\"\",PLANTS!E10)","v":""},"",{"$f":"IF(PLANTS!F10=\"\",\"\",PLANTS!F10)","v":""},"",0,null,25,"",null,0,{"$f":"IF(DE12=\"A\",PLANTS!H10,DE12)","v":"E"},20,null,"","","","",null,null,null,"","",null,null,{"$f":"IF(KeySP!A9=\"\",\"\",KeySP!A9)","v":"ALAR"},0,0,"",{"$error":"#DIV/0!"},null,"",null," ","",null,"","","","","",0,"","",null,"","","ACGR",{"$f":"IF(DC12=\"a\",PLANTS!I10,DMA!DC12)","v":5},{"$f":"IF(DD12=\"a\",PLANTS!G10,DMA!DD12)","v":25},"","","","","","","",null,null,{"$f":"PLANTS!I10","v":5},{"$f":"PLANTS!G10","v":25},{"$f":"PLANTS!H10","v":"E"},null,null,null,"A","",{"$f":"IF(DMA!DJ12=\"\",\"\",(DMA!N12-SUMIF(Graphs!$O$13:$O$199,DMA!$DJ12,Graphs!$V$13:$V$199))^2)","v":""},{"$f":"IF(DMA!DK12=\"\",\"\",(DMA!O12-SUMIF(Graphs!$O$13:$O$199,DMA!$DJ12,Graphs!$V$13:$V$199))^2)","v":""},{"$f":"IF(DMA!DL12=\"\",\"\",(DMA!P12-SUMIF(Graphs!$O$13:$O$199,DMA!$DJ12,Graphs!$V$13:$V$199))^2)","v":""},"",0,"",0,8,40,null,null,8,1.2,null,8]
[null,null,null,null,null,null,null,null,null,null,null,null,null,null,null,null,null,null,null,{"$f":"IF(A13=\"\",\"\",(Header!C$7*Header!C$6)*A13)","v":""},"","","","","",{"$f":"IF(KeySP!D10=\"\",\"\",KeySP!D10)","v":"BASA4"},"",0,0,null,null,{"$f":"IF(KeySP!$D10=\"\",\"\",KeySP!$D10)","v":"BASA4"},{"$f":"SUMIF($M$5:M$502,$AF13,N$5:N$502)","v":0},{"$f":"SUMIF($M$5:M$502,$AF13,O$5:O$502)","v":0},{"$f":"SUMIF($M$5:M$502,$AF13,P$5:P$502)","v":0},null,"","","","",{"$f":"IF(PLANTS!A11=\"\",\"\",PLANTS!A11)","v":"ACGR3"},5,"",0,{"$f":"IF(PLANTS!C11=\"\",\"\",PLANTS!C11)","v":"y"},"",{"$f":"IF(PLANTS!D11=\"\",\"\",PLANTS!D11)","v":""},"",{"$f":"IF(PLANTS!E11=\"\",\"\",PLANTS!E11)","v":""},"",{"$f":"IF(PLANTS!F11=\"\",\"\",PLANTS!F11)","v":""},"",0,null,25,"",null,0,{"$f":"IF(DE13=\"A\",PLANTS!H11,DE13)","v":"L"},80,null,"","","","",null,null,null,"","",null,null,{"$f":"IF(KeySP!A10=\"\",\"\",KeySP!A10)","v":"ALGE2"},0,0,"",{"$error":"#DIV/0!"},null,"",null," ","",null,"","","","","",0,"","",null,"","","ACGR3",{"$f":"IF(DC13=\"a\",PLANTS!I11,DMA!DC13)","v":5},{"$f":"IF(DD13=\"a\",PLANTS!G11,DMA!DD13)","v":25},"","","","","","","",null,null,{"$f":"PLANTS!I11","v":5},{"$f":"PLANTS!G11","v":25},{"$f":"PLANTS!H11","v":"L"},null,null,null,null,"",{"$f":"IF(DMA!DJ13=\"\",\"\",(DMA!N13-SUMIF(Graphs!$O$13:$O$199,DMA!$DJ13,Graphs!$V$13:$V$199))^2)","v":""},{"$f":"IF(DMA!DK13=\"\",\"\",(DMA!O13-SUMIF(Graphs!$O$13:$O$199,DMA!$DJ13,Graphs!$V$13:$V$199))^2)","v":""},{"$f":"IF(DMA!DL13=\"\",\"\",(DMA!P13-SUMIF(Graphs!$O$13:$O$199,DMA!$DJ13,Graphs!$V$13:$V$199))^2)","v":""},"",0,"",0,9,45,null,null,9,1.3,null,9]
[null,null,null,null,null,null,null,null,null,null,null,null,null,null,null,null,null,null,null,{"$f":"IF(A14=\"\",\"\",(Header!C$7*Header!C$6)*A14)","v":""},"","","","","",{"$f":"IF(KeySP!D11=\"\",\"\",KeySP!D11)","v":"BEGL"},"",0,0,null,null,{"$f":"IF(KeySP!$D11=\"\",\"\",KeySP!$D11)","v":"BEGL"},{"$f":"SUMIF($M$5:M$502,$AF14,N$5:N$502)","v":0},{"$f":"SUMIF($M$5:M$502,$AF14,O$5:O$502)","v":0},{"$f":"SUMIF($M$5:M$502,$AF14,P$5:P$502)","v":0},null,"","","","",{"$f":"IF(PLANTS!A12=\"\",\"\",PLANTS!A12)","v":"ACHNA"},2,"",0,{"$f":"IF(PLANTS!C12=\"\",\"\",PLANTS!C12)","v":""},"",{"$f":"IF(PLANTS!D12=\"\",\"\",PLANTS!D12)","v":""},"",{"$f":"IF(PLANTS!E12=\"\",\"\",PLANTS!E12)","v":"y"},"",{"$f":"IF(PLANTS!F12=\"\",\"\",PLANTS!F12)","v":""},"",0,null,25,"",null,0,{"$f":"IF(DE14=\"A\",PLANTS!H12,DE14)","v":"E"},20,null,"","","","",null,null,null,"","",null,null,{"$f":"IF(KeySP!A11=\"\",\"\",KeySP!A11)","v":"ALOPE"},0,0,"",{"$error":"#DIV/0!"},null,"",null," ","",null,"","","","","","","","",null,"","","ACHNA",{"$f":"IF(DC14=\"a\",PLANTS!I12,DMA!DC14)","v":2},{"$f":"IF(DD14=\"a\",PLANTS!G12,DMA!DD14)","v":25},"","","","","","","",null,null,{"$f":"PLANTS!I12","v":2},{"$f":"PLANTS!G12","v":25},{"$f":"PLANTS!H12","v":"E"},null,null,null,null,"",{"$f":"IF(DMA!DJ14=\"\",\"\",(DMA!N14-SUMIF(Graphs!$O$13:$O$199,DMA!$DJ14,Graphs!$V$13:$V$199))^2)","v":""},{"$f":"IF(DMA!DK14=\"\",\"\",(DMA!O14-SUMIF(Graphs!$O$13:$O$199,DMA!$DJ14,Graphs!$V$13:$V$199))^2)","v":""},{"$f":"IF(DMA!DL14=\"\",\"\",(DMA!P14-SUMIF(Graphs!$O$13:$O$199,DMA!$DJ14,Graphs!$V$13:$V$199))^2)","v":""},"",0,"",0,10,50,null,null,10,1.4,null,10]
[null,null,null,null,null,null,null,null,null,null,null,null,null,null,null,null,null,null,null,{"$f":"IF(A15=\"\",\"\",(Header!C$7*Header!C$6)*A15)","v":""},"","","","","",{"$f":"IF(KeySP!D12=\"\",\"\",KeySP!D12)","v":"BEOC2"},"",0,0,null,null,{"$f":"IF(KeySP!$D12=\"\",\"\",KeySP!$D12)","v":"BEOC2"},{"$f":"SUMIF($M$5:M$502,$AF15,N$5:N$502)","v":0},{"$f":"SUMIF($M$5:M$502,$AF15,O$5:O$502)","v":0},{"$f":"SUMIF($M$5:M$502,$AF15,P$5:P$502)","v":0},null,"","","","",{"$f":"IF(PLANTS!A13=\"\",\"\",PLANTS!A13)","v":"ACMA3"},5,"",0,{"$f":"IF(PLANTS!C13=\"\",\"\",PLANTS!C13)","v":"y"},"",{"$f":"IF(PLANTS!D13=\"\",\"\",PLANTS!D13)","v":""},"",{"$f":"IF(PLANTS!E13=\"\",\"\",PLANTS!E13)","v":""},"",{"$f":"IF(PLANTS!F13=\"\",\"\",PLANTS!F13)","v":""},"",0,null,50,"",null,0,{"$f":"IF(DE15=\"A\",PLANTS!H13,DE15)","v":"M"},50,null,"","","","",null,null,null,"","",null,null,{"$f":"IF(KeySP!A12=\"\",\"\",KeySP!A12)","v":"ALPR3"},0,0,"",{"$error":"#DIV/0!"},null,"",null," ","",null,"","","","","",0,"","",null,"","","ACMA3",{"$f":"IF(DC15=\"a\",PLANTS!I13,DMA!DC15)","v":5},{"$f":"IF(DD15=\"a\",PLANTS!G13,DMA!DD15)","v":50},"","","","","","","",null,null,{"$f":"PLANTS!I13","v":5},{"$f":"PLANTS!G13","v":50},{"$f":"PLANTS!H13","v":"M"},null,"Woody Use Classes",null,null,"",{"$f":"IF(DMA!DJ15=\"\",\"\",(DMA!N15-SUMIF(Graphs!$O$13:$O$199,DMA!$DJ15,Graphs!$V$13:$V$199))^2)","v":""},{"$f":"IF(DMA!DK15=\"\",\"\",(DMA!O15-SUMIF(Graphs!$O$13:$O$199,DMA!$DJ15,Graphs!$V$13:$V$199))^2)","v":""},{"$f":"IF(DMA!DL15=\"\",\"\",(DMA!P15-SUMIF(Graphs!$O$13:$O$199,DMA!$DJ15,Graphs!$V$13:$V$199))^2)","v":""},"",0,"",0,11,55,null,null,11,1.5,null,11]
[null,null,null,null,null,null,null,null,null,null,null,null,null,null,null,null,null,null,null,{"$f":"IF(A16=\"\",\"\",(Header!C$7*Header!C$6)*A16)","v":""},"","","","","",{"$f":"IF(KeySP!D13=\"\",\"\",KeySP!D13)","v":"BEPU4"},"",0,0,null,null,{"$f":"IF(KeySP!$D13=\"\",\"\",KeySP!$D13)","v":"BEPU4"},{"$f":"SUMIF($M$5:M$502,$AF16,N$5:N$502)","v":0},{"$f":"SUMIF($M$5:M$502,$AF16,O$5:O$502)","v":0},{"$f":"SUMIF($M$5:M$502,$AF16,P$5:P$502)","v":0},null,"","","","",{"$f":"IF(PLANTS!A14=\"\",\"\",PLANTS!A14)","v":"ACMI2"},2,"",0,{"$f":"IF(PLANTS!C14=\"\",\"\",PLANTS!C14)","v":""},"",{"$f":"IF(PLANTS!D14=\"\",\"\",PLANTS!D14)","v":""},"",{"$f":"IF(PLANTS!E14=\"\",\"\",PLANTS!E14)","v":"y"},"",{"$f":"IF(PLANTS!F14=\"\",\"\",PLANTS!F14)","v":"y"},"",0,null,25,"",null,0,{"$f":"IF(DE16=\"A\",PLANTS!H14,DE16)","v":"E"},20,null,"","","","",null,null,null,"","",null,null,{"$f":"IF(KeySP!A13=\"\",\"\",KeySP!A13)","v":"ARDO4"},0,0,"",{"$error":"#DIV/0!"},null,"",null," ","",null,"","","",0,"","","","",null,"","","ACMI2",{"$f":"IF(DC16=\"a\",PLANTS!I14,DMA!DC16)","v":2},{"$f":"IF(DD16=\"a\",PLANTS!G14,DMA!DD16)","v":25},"","","","","","","",null,null,{"$f":"PLANTS!I14","v":2},{"$f":"PLANTS!G14","v":25},{"$f":"PLANTS!H14","v":"E"},null,10,null,null,"",{"$f":"IF(DMA!DJ16=\"\",\"\",(DMA!N16-SUMIF(Graphs!$O$13:$O$199,DMA!$DJ16,Graphs!$V$13:$V$199))^2)","v":""},{"$f":"IF(DMA!DK16=\"\",\"\",(DMA!O16-SUMIF(Graphs!$O$13:$O$199,DMA!$DJ16,Graphs!$V$13:$V$199))^2)","v":""},{"$f":"IF(DMA!DL16=\"\",\"\",(DMA!P16-SUMIF(Graphs!$O$13:$O$199,DMA!$DJ16,Graphs!$V$13:$V$199))^2)","v":""},"",0,"",0,12,60,null,null,12,1.6,null,12]
[null,null,null,null,null,null,null,null,null,null,null,null,null,null,null,null,null,null,null,{"$f":"IF(A17=\"\",\"\",(Header!C$7*Header!C$6)*A17)","v":""},"","","","","",{"$f":"IF(KeySP!D14=\"\",\"\",KeySP!D14)","v":"CEOC2"},"",0,0,null,null,{"$f":"IF(KeySP!$D14=\"\",\"\",KeySP!$D14)","v":"CEOC2"},{"$f":"SUMIF($M$5:M$502,$AF17,N$5:N$502)","v":0},{"$f":"SUMIF($M$5:M$502,$AF17,O$5:O$502)","v":0},{"$f":"SUMIF($M$5:M$502,$AF17,P$5:P$502)","v":0},null,"","","","",{"$f":"IF(PLANTS!A15=\"\",\"\",PLANTS!A15)","v":"ACNE2"},8.5,"",0,{"$f":"IF(PLANTS!C15=\"\",\"\",PLANTS!C15)","v":"y"},"",{"$f":"IF(PLANTS!D15=\"\",\"\",PLANTS!D15)","v":"y"},"",{"$f":"IF(PLANTS!E15=\"\",\"\",PLANTS!E15)","v":""},"",{"$f":"IF(PLANTS!F15=\"\",\"\",PLANTS!F15)","v":""},"",0,null,75,"",null,0,{"$f":"IF(DE17=\"A\",PLANTS!H15,DE17)","v":"L"},80,null,"","","","",null,null,null,"","",null,null,{"$f":"IF(KeySP!A14=\"\",\"\",KeySP!A14)","v":"BESY"},0,0,"",{"$error":"#DIV/0!"},null,"",null," ","",null,"","","","",0,0,"","",null,"","","ACNE2",{"$f":"IF(DC17=\"a\",PLANTS!I15,DMA!DC17)","v":8.5},{"$f":"IF(DD17=\"a\",PLANTS!G15,DMA!DD17)","v":75},"","","","","","","",null,null,{"$f":"PLANTS!I15","v":8.5},{"$f":"PLANTS!G15","v":75},{"$f":"PLANTS!H15","v":"L"},null,30,null,null,"",{"$f":"IF(DMA!DJ17=\"\",\"\",(DMA!N17-SUMIF(Graphs!$O$13:$O$199,DMA!$DJ17,Graphs!$V$13:$V$199))^2)","v":""},{"$f":"IF(DMA!DK17=\"\",\"\",(DMA!O17-SUMIF(Graphs!$O$13:$O$199,DMA!$DJ17,Graphs!$V$13:$V$199))^2)","v":""},{"$f":"IF(DMA!DL17=\"\",\"\",(DMA!P17-SUMIF(Graphs!$O$13:$O$199,DMA!$DJ17,Graphs!$V$13:$V$199))^2)","v":""},"",0,"",0,13,65,null,null,13,1.7,null,13,null,1]
[null,null,null,null,null,null,null,null,null,null,null,null,null,null,null,null,null,null,null,{"$f":"IF(A18=\"\",\"\",(Header!C$7*Header!C$6)*A18)","v":""},"","","","","",{"$f":"IF(KeySP!D15=\"\",\"\",KeySP!D15)","v":"COSE16"},"",0,0,null,null,{"$f":"IF(KeySP!$D15=\"\",\"\",KeySP!$D15)","v":"COSE16"},{"$f":"SUMIF($M$5:M$502,$AF18,N$5:N$502)","v":0},{"$f":"SUMIF($M$5:M$502,$AF18,O$5:O$502)","v":0},{"$f":"SUMIF($M$5:M$502,$AF18,P$5:P$502)","v":0},null,"","","","",{"$f":"IF(PLANTS!A16=\"\",\"\",PLANTS!A16)","v":"ACNE9"},2,"",0,{"$f":"IF(PLANTS!C16=\"\",\"\",PLANTS!C16)","v":""},"",{"$f":"IF(PLANTS!D16=\"\",\"\",PLANTS!D16)","v":""},"",{"$f":"IF(PLANTS!E16=\"\",\"\",PLANTS!E16)","v":"y"},"",{"$f":"IF(PLANTS!F16=\"\",\"\",PLANTS!F16)","v":""},"",0,null,25,"",null,0,{"$f":"IF(DE18=\"A\",PLANTS!H16,DE18)","v":"E"},20,null,"","","","",null,null,null,"","",null,null,{"$f":"IF(KeySP!A15=\"\",\"\",KeySP!A15)","v":"CAAM10"},0,0,"",{"$error":"#DIV/0!"},null,"",null," ","",null,"","","","","","","","",null,"","","ACNE9",{"$f":"IF(DC18=\"a\",PLANTS!I16,DMA!DC18)","v":2},{"$f":"IF(DD18=\"a\",PLANTS!G16,DMA!DD18)","v":25},"","","","","","","",null,null,{"$f":"PLANTS!I16","v":2},{"$f":"PLANTS!G16","v":25},{"$f":"PLANTS!H16","v":"E"},null,50,null,null,"",{"$f":"IF(DMA!DJ18=\"\",\"\",(DMA!N18-SUMIF(Graphs!$O$13:$O$199,DMA!$DJ18,Graphs!$V$13:$V$199))^2)","v":""},{"$f":"IF(DMA!DK18=\"\",\"\",(DMA!O18-SUMIF(Graphs!$O$13:$O$199,DMA!$DJ18,Graphs!$V$13:$V$199))^2)","v":""},{"$f":"IF(DMA!DL18=\"\",\"\",(DMA!P18-SUMIF(Graphs!$O$13:$O$199,DMA!$DJ18,Graphs!$V$13:$V$199))^2)","v":""},"",0,"",0,14,70,null,null,14,1.8,null,14,null,2]
[null,null,null,null,null,null,null,null,null,null,null,null,null,null,null,null,null,null,null,{"$f":"IF(A19=\"\",\"\",(Header!C$7*Header!C$6)*A19)","v":""},"","","","","",{"$f":"IF(KeySP!D16=\"\",\"\",KeySP!D16)","v":"COST4"},"",0,0,null,null,{"$f":"IF(KeySP!$D16=\"\",\"\",KeySP!$D16)","v":"COST4"},{"$f":"SUMIF($M$5:M$502,$AF19,N$5:N$502)","v":0},{"$f":"SUMIF($M$5:M$502,$AF19,O$5:O$502)","v":0},{"$f":"SUMIF($M$5:M$502,$AF19,P$5:P$502)","v":0},null,"","","","",{"$f":"IF(PLANTS!A17=\"\",\"\",PLANTS!A17)","v":"ACRU2"},2,"",0,{"$f":"IF(PLANTS!C17=\"\",\"\",PLANTS!C17)","v":""},"",{"$f":"IF(PLANTS!D17=\"\",\"\",PLANTS!D17)","v":""},"",{"$f":"IF(PLANTS!E17=\"\",\"\",PLANTS!E17)","v":"y"},"",{"$f":"IF(PLANTS!F17=\"\",\"\",PLANTS!F17)","v":"y"},"",0,null,50,"",null,0,{"$f":"IF(DE19=\"A\",PLANTS!H17,DE19)","v":"E"},20,null,"","","","",null,null,null,"","",null,null,{"$f":"IF(KeySP!A16=\"\",\"\",KeySP!A16)","v":"CAAQ"},0,0,"",{"$error":"#DIV/0!"},null,"",null," ","",null,"","","",0,"","","","",null,"","","ACRU2",{"$f":"IF(DC19=\"a\",PLANTS!I17,DMA!DC19)","v":2},{"$f":"IF(DD19=\"a\",PLANTS!G17,DMA!DD19)","v":50},"","","","","","","",null,null,{"$f":"PLANTS!I17","v":2},{"$f":"PLANTS!G17","v":50},{"$f":"PLANTS!H17","v":"E"},null,70,null,null,"",{"$f":"IF(DMA!DJ19=\"\",\"\",(DMA!N19-SUMIF(Graphs!$O$13:$O$199,DMA!$DJ19,Graphs!$V$13:$V$199))^2)","v":""},{"$f":"IF(DMA!DK19=\"\",\"\",(DMA!O19-SUMIF(Graphs!$O$13:$O$199,DMA!$DJ19,Graphs!$V$13:$V$199))^2)","v":""},{"$f":"IF(DMA!DL19=\"\",\"\",(DMA!P19-SUMIF(Graphs!$O$13:$O$199,DMA!$DJ19,Graphs!$V$13:$V$199))^2)","v":""},"",0,"",0,15,75,null,null,15,1.9,null,15,null,3]
[null,null,null,null,null,null,null,null,null,null,null,null,null,null,null,null,null,null,null,{"$f":"IF(A20=\"\",\"\",(Header!C$7*Header!C$6)*A20)","v":""},"","","","","",{"$f":"IF(KeySP!D17=\"\",\"\",KeySP!D17)","v":"FRLA"},"",0,0,null,{"$f":"IF(AC20>0,Z20,\"\")","v":""},{"$f":"IF(KeySP!$D17=\"\",\"\",KeySP!$D17)","v":"FRLA"},{"$f":"SUMIF($M$5:M$502,$AF20,N$5:N$502)","v":0},{"$f":"SUMIF($M$5:M$502,$AF20,O$5:O$502)","v":0},{"$f":"SUMIF($M$5:M$502,$AF20,P$5:P$502)","v":0},null,"","","","",{"$f":"IF(PLANTS!A18=\"\",\"\",PLANTS!A18)","v":"AGFO"},5,"",0,{"$f":"IF(PLANTS!C18=\"\",\"\",PLANTS!C18)","v":""},"",{"$f":"IF(PLANTS!D18=\"\",\"\",PLANTS!D18)","v":""},"",{"$f":"IF(PLANTS!E18=\"\",\"\",PLANTS!E18)","v":"y"},"",{"$f":"IF(PLANTS!F18=\"\",\"\",PLANTS!F18)","v":"y"},"",0,null,0,"",null,0,{"$f":"IF(DE20=\"A\",PLANTS!H18,DE20)","v":"M"},50,null,"","","","",null,null,null,"","",null,null,{"$f":"IF(KeySP!A17=\"\",\"\",KeySP!A17)","v":"CAAQ3"},0,0,"",{"$error":"#DIV/0!"},null,"",null," ","",null,"","","",0,"","","","",null,"","","AGFO",{"$f":"IF(DC20=\"a\",PLANTS!I18,DMA!DC20)","v":5},{"$f":"IF(DD20=\"a\",PLANTS!G18,DMA!DD20)","v":0},"","","","","","","",null,null,{"$f":"PLANTS!I18","v":5},{"$f":"PLANTS!G18","v":0},{"$f":"PLANTS!H18","v":"M"},null,90,null,null,"",{"$f":"IF(DMA!DJ20=\"\",\"\",(DMA!N20-SUMIF(Graphs!$O$13:$O$199,DMA!$DJ20,Graphs!$V$13:$V$199))^2)","v":""},{"$f":"IF(DMA!DK20=\"\",\"\",(DMA!O20-SUMIF(Graphs!$O$13:$O$199,DMA!$DJ20,Graphs!$V$13:$V$199))^2)","v":""},{"$f":"IF(DMA!DL20=\"\",\"\",(DMA!P20-SUMIF(Graphs!$O$13:$O$199,DMA!$DJ20,Graphs!$V$13:$V$199))^2)","v":""},"",0,"",0,16,80,null,null,16,2,null,16,null,4]
[null,null,null,null,null,null,null,null,null,null,null,null,null,null,null,null,null,null,null,{"$f":"IF(A21=\"\",\"\",(Header!C$7*Header!C$6)*A21)","v":""},"","","","","",{"$f":"IF(KeySP!D18=\"\",\"\",KeySP!D18)","v":"FRPE"},"",0,0,null,null,{"$f":"IF(KeySP!$D18=\"\",\"\",KeySP!$D18)","v":"FRPE"},{"$f":"SUMIF($M$5:M$502,$AF21,N$5:N$502)","v":0},{"$f":"SUMIF($M$5:M$502,$AF21,O$5:O$502)","v":0},{"$f":"SUMIF($M$5:M$502,$AF21,P$5:P$502)","v":0},null,"","","","",{"$f":"IF(PLANTS!A19=\"\",\"\",PLANTS!A19)","v":"AGGI2"},2,"",0,{"$f":"IF(PLANTS!C19=\"\",\"\",PLANTS!C19)","v":""},"",{"$f":"IF(PLANTS!D19=\"\",\"\",PLANTS!D19)","v":"y"},"",{"$f":"IF(PLANTS!E19=\"\",\"\",PLANTS!E19)","v":"y"},"",{"$f":"IF(PLANTS!F19=\"\",\"\",PLANTS!F19)","v":""},"",0,null,75,"",null,0,{"$f":"IF(DE21=\"A\",PLANTS!H19,DE21)","v":"E"},20,null,"","","","",null,null,null,"","",null," ",{"$f":"IF(KeySP!A18=\"\",\"\",KeySP!A18)","v":"CAAT2"},0,0,"",{"$error":"#DIV/0!"},null,"",null," ","",null,"","","","",0,"",0,"",null,"","","AGGI2",{"$f":"IF(DC21=\"a\",PLANTS!I19,DMA!DC21)","v":2},{"$f":"IF(DD21=\"a\",PLANTS!G19,DMA!DD21)","v":75},"","","","","","","",null,null,{"$f":"PLANTS!I19","v":2},{"$f":"PLANTS!G19","v":75},{"$f":"PLANTS!H19","v":"E"},null,null,null,null,"",{"$f":"IF(DMA!DJ21=\"\",\"\",(DMA!N21-SUMIF(Graphs!$O$13:$O$199,DMA!$DJ21,Graphs!$V$13:$V$199))^2)","v":""},{"$f":"IF(DMA!DK21=\"\",\"\",(DMA!O21-SUMIF(Graphs!$O$13:$O$199,DMA!$DJ21,Graphs!$V$13:$V$199))^2)","v":""},{"$f":"IF(DMA!DL21=\"\",\"\",(DMA!P21-SUMIF(Graphs!$O$13:$O$199,DMA!$DJ21,Graphs!$V$13:$V$199))^2)","v":""},"",0,"",0,17,85,null,null,17,2.1,null,17,null,5]
[null,null,null,null,null,null,null,null,null,null,null,null,null,null,null,null,null,null,null,{"$f":"IF(A22=\"\",\"\",(Header!C$7*Header!C$6)*A22)","v":""},"","","","","",{"$f":"IF(KeySP!D19=\"\",\"\",KeySP!D19)","v":"KAMI"},"",0,0,null,null,{"$f":"IF(KeySP!$D19=\"\",\"\",KeySP!$D19)","v":"KAMI"},{"$f":"SUMIF($M$5:M$502,$AF22,N$5:N$502)","v":0},{"$f":"SUMIF($M$5:M$502,$AF22,O$5:O$502)","v":0},{"$f":"SUMIF($M$5:M$502,$AF22,P$5:P$502)","v":0},null,"","","","",{"$f":"IF(PLANTS!A20=\"\",\"\",PLANTS!A20)","v":"AGGR2"},5,"",0,{"$f":"IF(PLANTS!C20=\"\",\"\",PLANTS!C20)","v":""},"",{"$f":"IF(PLANTS!D20=\"\",\"\",PLANTS!D20)","v":"y"},"",{"$f":"IF(PLANTS!E20=\"\",\"\",PLANTS!E20)","v":"y"},"",{"$f":"IF(PLANTS!F20=\"\",\"\",PLANTS!F20)","v":"y"},"",0,null,50,"",null,0,{"$f":"IF(DE22=\"A\",PLANTS!H20,DE22)","v":"M"},50,null,"","","","",null,null,null,"","",null,null,{"$f":"IF(KeySP!A19=\"\",\"\",KeySP!A19)","v":"CAAT3"},0,0,"",{"$error":"#DIV/0!"},null,"",null," ","",null,"","","",0,0,"",0,"",null,"","","AGGR2",{"$f":"IF(DC22=\"a\",PLANTS!I20,DMA!DC22)","v":5},{"$f":"IF(DD22=\"a\",PLANTS!G20,DMA!DD22)","v":50},"","","","","","","",null,null,{"$f":"PLANTS!I20","v":5},{"$f":"PLANTS!G20","v":50},{"$f":"PLANTS!H20","v":"M"},null,null,null,null,"",{"$f":"IF(DMA!DJ22=\"\",\"\",(DMA!N22-SUMIF(Graphs!$O$13:$O$199,DMA!$DJ22,Graphs!$V$13:$V$199))^2)","v":""},{"$f":"IF(DMA!DK22=\"\",\"\",(DMA!O22-SUMIF(Graphs!$O$13:$O$199,DMA!$DJ22,Graphs!$V$13:$V$199))^2)","v":""},{"$f":"IF(DMA!DL22=\"\",\"\",(DMA!P22-SUMIF(Graphs!$O$13:$O$199,DMA!$DJ22,Graphs!$V$13:$V$199))^2)","v":""},"",0,"",0,18,90,null,null,18,2.2000000000000002,null,18,null,6]
[null,null,null,null,null,null,null,null,null,null,null,null,null,null,null,null,null,null,null,{"$f":"IF(A23=\"\",\"\",(Header!C$7*Header!C$6)*A23)","v":""},"","","","","",{"$f":"IF(KeySP!D20=\"\",\"\",KeySP!D20)","v":"LEGL"},"",0,0,null,null,{"$f":"IF(KeySP!$D20=\"\",\"\",KeySP!$D20)","v":"LEGL"},{"$f":"SUMIF($M$5:M$502,$AF23,N$5:N$502)","v":0},{"$f":"SUMIF($M$5:M$502,$AF23,O$5:O$502)","v":0},{"$f":"SUMIF($M$5:M$502,$AF23,P$5:P$502)","v":0},null,"","","","",{"$f":"IF(PLANTS!A21=\"\",\"\",PLANTS!A21)","v":"AGRE2"},2,"",0,{"$f":"IF(PLANTS!C21=\"\",\"\",PLANTS!C21)","v":""},"",{"$f":"IF(PLANTS!D21=\"\",\"\",PLANTS!D21)","v":""},"",{"$f":"IF(PLANTS!E21=\"\",\"\",PLANTS!E21)","v":"y"},"",{"$f":"IF(PLANTS!F21=\"\",\"\",PLANTS!F21)","v":""},"",0,null,50,"",null,0,{"$f":"IF(DE23=\"A\",PLANTS!H21,DE23)","v":"E"},20,null,"","","","",null,null,null,"","",null,null,{"$f":"IF(KeySP!A20=\"\",\"\",KeySP!A20)","v":"CAAU3"},0,0,"",{"$error":"#DIV/0!"},null,"",null," ","",null,"","","","","","","","",null,"","","AGRE2",{"$f":"IF(DC23=\"a\",PLANTS!I21,DMA!DC23)","v":2},{"$f":"IF(DD23=\"a\",PLANTS!G21,DMA!DD23)","v":50},"","","","","","","",null,null,{"$f":"PLANTS!I21","v":2},{"$f":"PLANTS!G21","v":50},{"$f":"PLANTS!H21","v":"E"},null,null,null,null,"",{"$f":"IF(DMA!DJ23=\"\",\"\",(DMA!N23-SUMIF(Graphs!$O$13:$O$199,DMA!$DJ23,Graphs!$V$13:$V$199))^2)","v":""},{"$f":"IF(DMA!DK23=\"\",\"\",(DMA!O23-SUMIF(Graphs!$O$13:$O$199,DMA!$DJ23,Graphs!$V$13:$V$199))^2)","v":""},{"$f":"IF(DMA!DL23=\"\",\"\",(DMA!P23-SUMIF(Graphs!$O$13:$O$199,DMA!$DJ23,Graphs!$V$13:$V$199))^2)","v":""},"",0,"",0,19,95,null,null,19,2.2999999999999998,null,19]
[null,null,null,null,null,null,null,null,null,null,null,null,null,null,null,null,null,null,null,{"$f":"IF(A24=\"\",\"\",(Header!C$7*Header!C$6)*A24)","v":""},"","","","","",{"$f":"IF(KeySP!D21=\"\",\"\",KeySP!D21)","v":"PHCA11"},"",0,0,null,null,{"$f":"IF(KeySP!$D21=\"\",\"\",KeySP!$D21)","v":"PHCA11"},{"$f":"SUMIF($M$5:M$502,$AF24,N$5:N$502)","v":0},{"$f":"SUMIF($M$5:M$502,$AF24,O$5:O$502)","v":0},{"$f":"SUMIF($M$5:M$502,$AF24,P$5:P$502)","v":0},null,"","","","",{"$f":"IF(PLANTS!A22=\"\",\"\",PLANTS!A22)","v":"AGSC5"},2,"",0,{"$f":"IF(PLANTS!C22=\"\",\"\",PLANTS!C22)","v":""},"",{"$f":"IF(PLANTS!D22=\"\",\"\",PLANTS!D22)","v":""},"",{"$f":"IF(PLANTS!E22=\"\",\"\",PLANTS!E22)","v":"y"},"",{"$f":"IF(PLANTS!F22=\"\",\"\",PLANTS!F22)","v":""},"",0,null,50,"",null,0,{"$f":"IF(DE24=\"A\",PLANTS!H22,DE24)","v":"E"},20,null,"","","","",null,null,null,"","",null,null,{"$f":"IF(KeySP!A21=\"\",\"\",KeySP!A21)","v":"CABO2"},0,0,"",{"$error":"#DIV/0!"},null,"",null," ","",null,"","","","","","","","",null,"","","AGSC5",{"$f":"IF(DC24=\"a\",PLANTS!I22,DMA!DC24)","v":2},{"$f":"IF(DD24=\"a\",PLANTS!G22,DMA!DD24)","v":50},"","","","","","","",null,null,{"$f":"PLANTS!I22","v":2},{"$f":"PLANTS!G22","v":50},{"$f":"PLANTS!H22","v":"E"},null,null,null,null,"",{"$f":"IF(DMA!DJ24=\"\",\"\",(DMA!N24-SUMIF(Graphs!$O$13:$O$199,DMA!$DJ24,Graphs!$V$13:$V$199))^2)","v":""},{"$f":"IF(DMA!DK24=\"\",\"\",(DMA!O24-SUMIF(Graphs!$O$13:$O$199,DMA!$DJ24,Graphs!$V$13:$V$199))^2)","v":""},{"$f":"IF(DMA!DL24=\"\",\"\",(DMA!P24-SUMIF(Graphs!$O$13:$O$199,DMA!$DJ24,Graphs!$V$13:$V$199))^2)","v":""},"",0,"",0,20,100,null,null,20,2.4,null,20]
[null,null,null,null,null,null,null,null,null,null,null,null,null,null,null,null,null,null,null,{"$f":"IF(A25=\"\",\"\",(Header!C$7*Header!C$6)*A25)","v":""},"","","","","",{"$f":"IF(KeySP!D22=\"\",\"\",KeySP!D22)","v":"PHMA5"},"",0,0,null,null,{"$f":"IF(KeySP!$D22=\"\",\"\",KeySP!$D22)","v":"PHMA5"},{"$f":"SUMIF($M$5:M$502,$AF25,N$5:N$502)","v":0},{"$f":"SUMIF($M$5:M$502,$AF25,O$5:O$502)","v":0},{"$f":"SUMIF($M$5:M$502,$AF25,P$5:P$502)","v":0},null,"","","","",{"$f":"IF(PLANTS!A23=\"\",\"\",PLANTS!A23)","v":"AGSM"},5,"",0,{"$f":"IF(PLANTS!C23=\"\",\"\",PLANTS!C23)","v":""},"",{"$f":"IF(PLANTS!D23=\"\",\"\",PLANTS!D23)","v":""},"",{"$f":"IF(PLANTS!E23=\"\",\"\",PLANTS!E23)","v":"y"},"",{"$f":"IF(PLANTS!F23=\"\",\"\",PLANTS!F23)","v":""},"",0,null,50,"",null,0,{"$f":"IF(DE25=\"A\",PLANTS!H23,DE25)","v":"M"},50,null,"","","","",null,null,null,"","",null,null,{"$f":"IF(KeySP!A22=\"\",\"\",KeySP!A22)","v":"CABR10"},0,0,"",{"$error":"#DIV/0!"},null,"",null," ","",null,"","","","","","","","",null,"","","AGSM",{"$f":"IF(DC25=\"a\",PLANTS!I23,DMA!DC25)","v":5},{"$f":"IF(DD25=\"a\",PLANTS!G23,DMA!DD25)","v":50},"","","","","","","",null,null,{"$f":"PLANTS!I23","v":5},{"$f":"PLANTS!G23","v":50},{"$f":"PLANTS!H23","v":"M"},null,null,null,null,"",{"$f":"IF(DMA!DJ25=\"\",\"\",(DMA!N25-SUMIF(Graphs!$O$13:$O$199,DMA!$DJ25,Graphs!$V$13:$V$199))^2)","v":""},{"$f":"IF(DMA!DK25=\"\",\"\",(DMA!O25-SUMIF(Graphs!$O$13:$O$199,DMA!$DJ25,Graphs!$V$13:$V$199))^2)","v":""},{"$f":"IF(DMA!DL25=\"\",\"\",(DMA!P25-SUMIF(Graphs!$O$13:$O$199,DMA!$DJ25,Graphs!$V$13:$V$199))^2)","v":""},"",0,"",0,21,null,null,null,21,2.5,null,21]
[null,null,null,null,null,null,null,null,null,null,null,null,null,null,null,null,null,null,null,{"$f":"IF(A26=\"\",\"\",(Header!C$7*Header!C$6)*A26)","v":""},"","","","","",{"$f":"IF(KeySP!D23=\"\",\"\",KeySP!D23)","v":"PLSE"},"",0,0,null,null,{"$f":"IF(KeySP!$D23=\"\",\"\",KeySP!$D23)","v":"PLSE"},{"$f":"SUMIF($M$5:M$502,$AF26,N$5:N$502)","v":0},{"$f":"SUMIF($M$5:M$502,$AF26,O$5:O$502)","v":0},{"$f":"SUMIF($M$5:M$502,$AF26,P$5:P$502)","v":0},null,"","","","",{"$f":"IF(PLANTS!A24=\"\",\"\",PLANTS!A24)","v":"AGST"},8.5,"",0,{"$f":"IF(PLANTS!C24=\"\",\"\",PLANTS!C24)","v":""},"",{"$f":"IF(PLANTS!D24=\"\",\"\",PLANTS!D24)","v":""},"",{"$f":"IF(PLANTS!E24=\"\",\"\",PLANTS!E24)","v":"y"},"",{"$f":"IF(PLANTS!F24=\"\",\"\",PLANTS!F24)","v":"y"},"",0,null,25,"",null,0,{"$f":"IF(DE26=\"A\",PLANTS!H24,DE26)","v":"M"},50,null,"","","","",null,null,null,"","",null,null,{"$f":"IF(KeySP!A23=\"\",\"\",KeySP!A23)","v":"CACA11"},0,0,"",{"$error":"#DIV/0!"},null,"",null," ","",null,"","","",0,"","","","",null,"","","AGST",{"$f":"IF(DC26=\"a\",PLANTS!I24,DMA!DC26)","v":8.5},{"$f":"IF(DD26=\"a\",PLANTS!G24,DMA!DD26)","v":25},"","","","","","","",null,null,{"$f":"PLANTS!I24","v":8.5},{"$f":"PLANTS!G24","v":25},{"$f":"PLANTS!H24","v":"M"},null,null,null,null,"",{"$f":"IF(DMA!DJ26=\"\",\"\",(DMA!N26-SUMIF(Graphs!$O$13:$O$199,DMA!$DJ26,Graphs!$V$13:$V$199))^2)","v":""},{"$f":"IF(DMA!DK26=\"\",\"\",(DMA!O26-SUMIF(Graphs!$O$13:$O$199,DMA!$DJ26,Graphs!$V$13:$V$199))^2)","v":""},{"$f":"IF(DMA!DL26=\"\",\"\",(DMA!P26-SUMIF(Graphs!$O$13:$O$199,DMA!$DJ26,Graphs!$V$13:$V$199))^2)","v":""},"",0,"",0,22,null,null,null,22,2.6,null,22]
[null,null,null,null,null,null,null,null,null,null,null,null,null,null,null,null,null,null,null,{"$f":"IF(A27=\"\",\"\",(Header!C$7*Header!C$6)*A27)","v":""},"","","","","",{"$f":"IF(KeySP!D24=\"\",\"\",KeySP!D24)","v":"PLWR2"},"",0,0,null,null,{"$f":"IF(KeySP!$D24=\"\",\"\",KeySP!$D24)","v":"PLWR2"},{"$f":"SUMIF($M$5:M$502,$AF27,N$5:N$502)","v":0},{"$f":"SUMIF($M$5:M$502,$AF27,O$5:O$502)","v":0},{"$f":"SUMIF($M$5:M$502,$AF27,P$5:P$502)","v":0},null,"","","","",{"$f":"IF(PLANTS!A25=\"\",\"\",PLANTS!A25)","v":"AGST2"},2,"",0,{"$f":"IF(PLANTS!C25=\"\",\"\",PLANTS!C25)","v":""},"",{"$f":"IF(PLANTS!D25=\"\",\"\",PLANTS!D25)","v":"y"},"",{"$f":"IF(PLANTS!E25=\"\",\"\",PLANTS!E25)","v":"y"},"",{"$f":"IF(PLANTS!F25=\"\",\"\",PLANTS!F25)","v":""},"",0,null,75,"",null,0,{"$f":"IF(DE27=\"A\",PLANTS!H25,DE27)","v":"E"},20,null,"","","","",null,null,null,"","",null,null,{"$f":"IF(KeySP!A24=\"\",\"\",KeySP!A24)","v":"CACA12"},0,0,"",{"$error":"#DIV/0!"},null,"",null," ","",null,"","","","",0,"",0,"",null,"","","AGST2",{"$f":"IF(DC27=\"a\",PLANTS!I25,DMA!DC27)","v":2},{"$f":"IF(DD27=\"a\",PLANTS!G25,DMA!DD27)","v":75},"","","","","","","",null,null,{"$f":"PLANTS!I25","v":2},{"$f":"PLANTS!G25","v":75},{"$f":"PLANTS!H25","v":"E"},null,null,null,null,"",{"$f":"IF(DMA!DJ27=\"\",\"\",(DMA!N27-SUMIF(Graphs!$O$13:$O$199,DMA!$DJ27,Graphs!$V$13:$V$199))^2)","v":""},{"$f":"IF(DMA!DK27=\"\",\"\",(DMA!O27-SUMIF(Graphs!$O$13:$O$199,DMA!$DJ27,Graphs!$V$13:$V$199))^2)","v":""},{"$f":"IF(DMA!DL27=\"\",\"\",(DMA!P27-SUMIF(Graphs!$O$13:$O$199,DMA!$DJ27,Graphs!$V$13:$V$199))^2)","v":""},"",0,"",0,23,null,null,null,23,2.7,null,23]
[null,null,null,null,null,null,null,null,null,null,null,null,null,null,null,null,null,null,null,{"$f":"IF(A28=\"\",\"\",(Header!C$7*Header!C$6)*A28)","v":""},"","","","","",{"$f":"IF(KeySP!D25=\"\",\"\",KeySP!D25)","v":"POAN3"},"",0,0,null,null,{"$f":"IF(KeySP!$D25=\"\",\"\",KeySP!$D25)","v":"POAN3"},{"$f":"SUMIF($M$5:M$502,$AF28,N$5:N$502)","v":0},{"$f":"SUMIF($M$5:M$502,$AF28,O$5:O$502)","v":0},{"$f":"SUMIF($M$5:M$502,$AF28,P$5:P$502)","v":0},null,"","","","",{"$f":"IF(PLANTS!A26=\"\",\"\",PLANTS!A26)","v":"AGUR"},2,"",0,{"$f":"IF(PLANTS!C26=\"\",\"\",PLANTS!C26)","v":""},"",{"$f":"IF(PLANTS!D26=\"\",\"\",PLANTS!D26)","v":""},"",{"$f":"IF(PLANTS!E26=\"\",\"\",PLANTS!E26)","v":"y"},"",{"$f":"IF(PLANTS!F26=\"\",\"\",PLANTS!F26)","v":"y"},"",0,null,25,"",null,0,{"$f":"IF(DE28=\"A\",PLANTS!H26,DE28)","v":"E"},20,null,"","","","",null,null,null,"","",null,null,{"$f":"IF(KeySP!A25=\"\",\"\",KeySP!A25)","v":"CACA4"},0,0,"",{"$error":"#DIV/0!"},null,"",null," ","",null,"","","",0,"","","","",null,"","","AGUR",{"$f":"IF(DC28=\"a\",PLANTS!I26,DMA!DC28)","v":2},{"$f":"IF(DD28=\"a\",PLANTS!G26,DMA!DD28)","v":25},"","","","","","","",null,null,{"$f":"PLANTS!I26","v":2},{"$f":"PLANTS!G26","v":25},{"$f":"PLANTS!H26","v":"E"},null,null,null,null,"",{"$f":"IF(DMA!DJ28=\"\",\"\",(DMA!N28-SUMIF(Graphs!$O$13:$O$199,DMA!$DJ28,Graphs!$V$13:$V$199))^2)","v":""},{"$f":"IF(DMA!DK28=\"\",\"\",(DMA!O28-SUMIF(Graphs!$O$13:$O$199,DMA!$DJ28,Graphs!$V$13:$V$199))^2)","v":""},{"$f":"IF(DMA!DL28=\"\",\"\",(DMA!P28-SUMIF(Graphs!$O$13:$O$199,DMA!$DJ28,Graphs!$V$13:$V$199))^2)","v":""},"",0,"",0,24,null,null,null,24,2.8,null,24]
[null,null,null,null,null,null,null,null,null,null,null,null,null,null,null,null,null,null,null,{"$f":"IF(A29=\"\",\"\",(Header!C$7*Header!C$6)*A29)","v":""},"","","","","",{"$f":"IF(KeySP!D26=\"\",\"\",KeySP!D26)","v":"POFR2"},"",0,0,null,null,{"$f":"IF(KeySP!$D26=\"\",\"\",KeySP!$D26)","v":"POFR2"},{"$f":"SUMIF($M$5:M$502,$AF29,N$5:N$502)","v":0},{"$f":"SUMIF($M$5:M$502,$AF29,O$5:O$502)","v":0},{"$f":"SUMIF($M$5:M$502,$AF29,P$5:P$502)","v":0},null,"","","","",{"$f":"IF(PLANTS!A27=\"\",\"\",PLANTS!A27)","v":"ALAE"},2,"",0,{"$f":"IF(PLANTS!C27=\"\",\"\",PLANTS!C27)","v":""},"",{"$f":"IF(PLANTS!D27=\"\",\"\",PLANTS!D27)","v":"y"},"",{"$f":"IF(PLANTS!E27=\"\",\"\",PLANTS!E27)","v":"y"},"",{"$f":"IF(PLANTS!F27=\"\",\"\",PLANTS!F27)","v":""},"",0,null,100,"",null,0,{"$f":"IF(DE29=\"A\",PLANTS!H27,DE29)","v":"E"},20,null,"","","","",null,null,null,"","",null,null,{"$f":"IF(KeySP!A26=\"\",\"\",KeySP!A26)","v":"CACU4"},0,0,"",{"$error":"#DIV/0!"},null,"",null," ","",null,"","","","",0,"",0,"",null,"","","ALAE",{"$f":"IF(DC29=\"a\",PLANTS!I27,DMA!DC29)","v":2},{"$f":"IF(DD29=\"a\",PLANTS!G27,DMA!DD29)","v":100},"","","","","","","",null,null,{"$f":"PLANTS!I27","v":2},{"$f":"PLANTS!G27","v":100},{"$f":"PLANTS!H27","v":"E"},null,null,null,null,"",{"$f":"IF(DMA!DJ29=\"\",\"\",(DMA!N29-SUMIF(Graphs!$O$13:$O$199,DMA!$DJ29,Graphs!$V$13:$V$199))^2)","v":""},{"$f":"IF(DMA!DK29=\"\",\"\",(DMA!O29-SUMIF(Graphs!$O$13:$O$199,DMA!$DJ29,Graphs!$V$13:$V$199))^2)","v":""},{"$f":"IF(DMA!DL29=\"\",\"\",(DMA!P29-SUMIF(Graphs!$O$13:$O$199,DMA!$DJ29,Graphs!$V$13:$V$199))^2)","v":""},"",0,"",0,25,null,null,null,25,2.9,null,25]
[null,null,null,null,null,null,null,null,null,null,null,null,null,null,null,null,null,null,null,{"$f":"IF(A30=\"\",\"\",(Header!C$7*Header!C$6)*A30)","v":""},"","","","","",{"$f":"IF(KeySP!D27=\"\",\"\",KeySP!D27)","v":"RHAL"},"",0,0,null,null,{"$f":"IF(KeySP!$D27=\"\",\"\",KeySP!$D27)","v":"RHAL"},{"$f":"SUMIF($M$5:M$502,$AF30,N$5:N$502)","v":0},{"$f":"SUMIF($M$5:M$502,$AF30,O$5:O$502)","v":0},{"$f":"SUMIF($M$5:M$502,$AF30,P$5:P$502)","v":0},null,"","","","",{"$f":"IF(PLANTS!A28=\"\",\"\",PLANTS!A28)","v":"ALAR"},2,"",0,{"$f":"IF(PLANTS!C28=\"\",\"\",PLANTS!C28)","v":""},"",{"$f":"IF(PLANTS!D28=\"\",\"\",PLANTS!D28)","v":"y"},"",{"$f":"IF(PLANTS!E28=\"\",\"\",PLANTS!E28)","v":"y"},"",{"$f":"IF(PLANTS!F28=\"\",\"\",PLANTS!F28)","v":""},"",0,null,100,"",null,0,{"$f":"IF(DE30=\"A\",PLANTS!H28,DE30)","v":"E"},20,null,"","","","",null,null,null,"","",null,null,{"$f":"IF(KeySP!A27=\"\",\"\",KeySP!A27)","v":"CADI6"},0,0,"",{"$error":"#DIV/0!"},null,"",null," ","",null,"","","","",0,"",0,"",null,"","","ALAR",{"$f":"IF(DC30=\"a\",PLANTS!I28,DMA!DC30)","v":2},{"$f":"IF(DD30=\"a\",PLANTS!G28,DMA!DD30)","v":100},"","","","","","","",null,null,{"$f":"PLANTS!I28","v":2},{"$f":"PLANTS!G28","v":100},{"$f":"PLANTS!H28","v":"E"},null,null,null,null,"",{"$f":"IF(DMA!DJ30=\"\",\"\",(DMA!N30-SUMIF(Graphs!$O$13:$O$199,DMA!$DJ30,Graphs!$V$13:$V$199))^2)","v":""},{"$f":"IF(DMA!DK30=\"\",\"\",(DMA!O30-SUMIF(Graphs!$O$13:$O$199,DMA!$DJ30,Graphs!$V$13:$V$199))^2)","v":""},{"$f":"IF(DMA!DL30=\"\",\"\",(DMA!P30-SUMIF(Graphs!$O$13:$O$199,DMA!$DJ30,Graphs!$V$13:$V$199))^2)","v":""},"",0,"",0,26,null,null,null,26,3,null,26]
[null,null,null,null,null,null,null,null,null,null,null,null,null,null,null,null,null,null,null,{"$f":"IF(A31=\"\",\"\",(Header!C$7*Header!C$6)*A31)","v":""},"","","","","",{"$f":"IF(KeySP!D28=\"\",\"\",KeySP!D28)","v":"RIHU"},"",0,0,null,{"$f":"IF(AC31>0,Z31,\"\")","v":""},{"$f":"IF(KeySP!$D28=\"\",\"\",KeySP!$D28)","v":"RIHU"},{"$f":"SUMIF($M$5:M$502,$AF31,N$5:N$502)","v":0},{"$f":"SUMIF($M$5:M$502,$AF31,O$5:O$502)","v":0},{"$f":"SUMIF($M$5:M$502,$AF31,P$5:P$502)","v":0},null,"","","","",{"$f":"IF(PLANTS!A29=\"\",\"\",PLANTS!A29)","v":"ALGE2"},2,"",0,{"$f":"IF(PLANTS!C29=\"\",\"\",PLANTS!C29)","v":""},"",{"$f":"IF(PLANTS!D29=\"\",\"\",PLANTS!D29)","v":"y"},"",{"$f":"IF(PLANTS!E29=\"\",\"\",PLANTS!E29)","v":"y"},"",{"$f":"IF(PLANTS!F29=\"\",\"\",PLANTS!F29)","v":""},"",0,null,100,"",null,0,{"$f":"IF(DE31=\"A\",PLANTS!H29,DE31)","v":"E"},20,null,"","","","",null,null,null,"","",null,null,{"$f":"IF(KeySP!A28=\"\",\"\",KeySP!A28)","v":"CADO2"},0,0,"",{"$error":"#DIV/0!"},null,"",null," ","",null,"","","","",0,"",0,"",null,"","","ALGE2",{"$f":"IF(DC31=\"a\",PLANTS!I29,DMA!DC31)","v":2},{"$f":"IF(DD31=\"a\",PLANTS!G29,DMA!DD31)","v":100},"","","","","","","",null,null,{"$f":"PLANTS!I29","v":2},{"$f":"PLANTS!G29","v":100},{"$f":"PLANTS!H29","v":"E"},null,null,null,null,"",{"$f":"IF(DMA!DJ31=\"\",\"\",(DMA!N31-SUMIF(Graphs!$O$13:$O$199,DMA!$DJ31,Graphs!$V$13:$V$199))^2)","v":""},{"$f":"IF(DMA!DK31=\"\",\"\",(DMA!O31-SUMIF(Graphs!$O$13:$O$199,DMA!$DJ31,Graphs!$V$13:$V$199))^2)","v":""},{"$f":"IF(DMA!DL31=\"\",\"\",(DMA!P31-SUMIF(Graphs!$O$13:$O$199,DMA!$DJ31,Graphs!$V$13:$V$199))^2)","v":""},"",0,"",0,27,null,null,null,27,3.1,null,27]
[null,null,null,null,null,null,null,null,null,null,null,null,null,null,null,null,null,null,null,{"$f":"IF(A32=\"\",\"\",(Header!C$7*Header!C$6)*A32)","v":""},"","","","","",{"$f":"IF(KeySP!D29=\"\",\"\",KeySP!D29)","v":"SAAL2"},"",0,0,null,null,{"$f":"IF(KeySP!$D29=\"\",\"\",KeySP!$D29)","v":"SAAL2"},{"$f":"SUMIF($M$5:M$502,$AF32,N$5:N$502)","v":0},{"$f":"SUMIF($M$5:M$502,$AF32,O$5:O$502)","v":0},{"$f":"SUMIF($M$5:M$502,$AF32,P$5:P$502)","v":0},null,"","","","",{"$f":"IF(PLANTS!A30=\"\",\"\",PLANTS!A30)","v":"ALIN2"},8.5,"",0,{"$f":"IF(PLANTS!C30=\"\",\"\",PLANTS!C30)","v":"y"},"",{"$f":"IF(PLANTS!D30=\"\",\"\",PLANTS!D30)","v":"y"},"",{"$f":"IF(PLANTS!E30=\"\",\"\",PLANTS!E30)","v":""},"",{"$f":"IF(PLANTS!F30=\"\",\"\",PLANTS!F30)","v":""},"",0,null,75,"",null,0,{"$f":"IF(DE32=\"A\",PLANTS!H30,DE32)","v":"L"},80,null,"","","","",null,null,null,"","",null,null,{"$f":"IF(KeySP!A29=\"\",\"\",KeySP!A29)","v":"CAGR4"},0,0,"",{"$error":"#DIV/0!"},null,"",null," ","",null,"","","","",0,0,"","",null,"","","ALIN2",{"$f":"IF(DC32=\"a\",PLANTS!I30,DMA!DC32)","v":8.5},{"$f":"IF(DD32=\"a\",PLANTS!G30,DMA!DD32)","v":75},"","","","","","","",null,null,{"$f":"PLANTS!I30","v":8.5},{"$f":"PLANTS!G30","v":75},{"$f":"PLANTS!H30","v":"L"},null,null,null,null,"",{"$f":"IF(DMA!DJ32=\"\",\"\",(DMA!N32-SUMIF(Graphs!$O$13:$O$199,DMA!$DJ32,Graphs!$V$13:$V$199))^2)","v":""},{"$f":"IF(DMA!DK32=\"\",\"\",(DMA!O32-SUMIF(Graphs!$O$13:$O$199,DMA!$DJ32,Graphs!$V$13:$V$199))^2)","v":""},{"$f":"IF(DMA!DL32=\"\",\"\",(DMA!P32-SUMIF(Graphs!$O$13:$O$199,DMA!$DJ32,Graphs!$V$13:$V$199))^2)","v":""},"",0,"",0,28,null,null,null,28,3.2,null,28]
[null,null,null,null,null,null,null,null,null,null,null,null,null,null,null,null,null,null,null,{"$f":"IF(A33=\"\",\"\",(Header!C$7*Header!C$6)*A33)","v":""},"","","","","",{"$f":"IF(KeySP!D30=\"\",\"\",KeySP!D30)","v":"SAAM2"},"",0,0,null,null,{"$f":"IF(KeySP!$D30=\"\",\"\",KeySP!$D30)","v":"SAAM2"},{"$f":"SUMIF($M$5:M$502,$AF33,N$5:N$502)","v":0},{"$f":"SUMIF($M$5:M$502,$AF33,O$5:O$502)","v":0},{"$f":"SUMIF($M$5:M$502,$AF33,P$5:P$502)","v":0},null,"","","","",{"$f":"IF(PLANTS!A31=\"\",\"\",PLANTS!A31)","v":"ALOB2"},8.5,"",0,{"$f":"IF(PLANTS!C31=\"\",\"\",PLANTS!C31)","v":"y"},"",{"$f":"IF(PLANTS!D31=\"\",\"\",PLANTS!D31)","v":"y"},"",{"$f":"IF(PLANTS!E31=\"\",\"\",PLANTS!E31)","v":""},"",{"$f":"IF(PLANTS!F31=\"\",\"\",PLANTS!F31)","v":""},"",0,null,75,"",null,0,{"$f":"IF(DE33=\"A\",PLANTS!H31,DE33)","v":"L"},80,null,"","","","",null,null,null,"","",null,null,{"$f":"IF(KeySP!A30=\"\",\"\",KeySP!A30)","v":"CAHA5"},0,0,"",{"$error":"#DIV/0!"},null,"",null," ","",null,"","","","",0,0,"","",null,"","","ALOB2",{"$f":"IF(DC33=\"a\",PLANTS!I31,DMA!DC33)","v":8.5},{"$f":"IF(DD33=\"a\",PLANTS!G31,DMA!DD33)","v":75},"","","","","","","",null,null,{"$f":"PLANTS!I31","v":8.5},{"$f":"PLANTS!G31","v":75},{"$f":"PLANTS!H31","v":"L"},null,null,null,null,"",{"$f":"IF(DMA!DJ33=\"\",\"\",(DMA!N33-SUMIF(Graphs!$O$13:$O$199,DMA!$DJ33,Graphs!$V$13:$V$199))^2)","v":""},{"$f":"IF(DMA!DK33=\"\",\"\",(DMA!O33-SUMIF(Graphs!$O$13:$O$199,DMA!$DJ33,Graphs!$V$13:$V$199))^2)","v":""},{"$f":"IF(DMA!DL33=\"\",\"\",(DMA!P33-SUMIF(Graphs!$O$13:$O$199,DMA!$DJ33,Graphs!$V$13:$V$199))^2)","v":""},"",0,"",0,29,null,null,null,29,3.3,null,29]
[null,null,null,null,null,null,null,null,null,null,null,null,null,null,null,null,null,null,null,{"$f":"IF(A34=\"\",\"\",(Header!C$7*Header!C$6)*A34)","v":""},"","","","","",{"$f":"IF(KeySP!D31=\"\",\"\",KeySP!D31)","v":"SABE2"},"",0,0,null,null,{"$f":"IF(KeySP!$D31=\"\",\"\",KeySP!$D31)","v":"SABE2"},{"$f":"SUMIF($M$5:M$502,$AF34,N$5:N$502)","v":0},{"$f":"SUMIF($M$5:M$502,$AF34,O$5:O$502)","v":0},{"$f":"SUMIF($M$5:M$502,$AF34,P$5:P$502)","v":0},null,"","","","",{"$f":"IF(PLANTS!A32=\"\",\"\",PLANTS!A32)","v":"ALOC2"},5,"",0,{"$f":"IF(PLANTS!C32=\"\",\"\",PLANTS!C32)","v":"y"},"",{"$f":"IF(PLANTS!D32=\"\",\"\",PLANTS!D32)","v":"y"},"",{"$f":"IF(PLANTS!E32=\"\",\"\",PLANTS!E32)","v":""},"",{"$f":"IF(PLANTS!F32=\"\",\"\",PLANTS!F32)","v":""},"",0,null,75,"",null,0,{"$f":"IF(DE34=\"A\",PLANTS!H32,DE34)","v":"M"},50,null,"","","","",null,null,null,"","",null,null,{"$f":"IF(KeySP!A31=\"\",\"\",KeySP!A31)","v":"CAHE8"},0,0,"",{"$error":"#DIV/0!"},null,"",null," ","",null,"","","","",0,0,"","",null,"","","ALOC2",{"$f":"IF(DC34=\"a\",PLANTS!I32,DMA!DC34)","v":5},{"$f":"IF(DD34=\"a\",PLANTS!G32,DMA!DD34)","v":75},"","","","","","","",null,null,{"$f":"PLANTS!I32","v":5},{"$f":"PLANTS!G32","v":75},{"$f":"PLANTS!H32","v":"M"},null,null,null,null,"",{"$f":"IF(DMA!DJ34=\"\",\"\",(DMA!N34-SUMIF(Graphs!$O$13:$O$199,DMA!$DJ34,Graphs!$V$13:$V$199))^2)","v":""},{"$f":"IF(DMA!DK34=\"\",\"\",(DMA!O34-SUMIF(Graphs!$O$13:$O$199,DMA!$DJ34,Graphs!$V$13:$V$199))^2)","v":""},{"$f":"IF(DMA!DL34=\"\",\"\",(DMA!P34-SUMIF(Graphs!$O$13:$O$199,DMA!$DJ34,Graphs!$V$13:$V$199))^2)","v":""},"",0,"",0,30,null,null,null,30,3.4,null,30]
[null,null,null,null,null,null,null,null,null,null,null,null,null,null,null,null,null,null,null,{"$f":"IF(A35=\"\",\"\",(Header!C$7*Header!C$6)*A35)","v":""},"","","","","",{"$f":"IF(KeySP!D32=\"\",\"\",KeySP!D32)","v":"SABO"},"",0,0,null,null,{"$f":"IF(KeySP!$D32=\"\",\"\",KeySP!$D32)","v":"SABO"},{"$f":"SUMIF($M$5:M$502,$AF35,N$5:N$502)","v":0},{"$f":"SUMIF($M$5:M$502,$AF35,O$5:O$502)","v":0},{"$f":"SUMIF($M$5:M$502,$AF35,P$5:P$502)","v":0},null,"","","","",{"$f":"IF(PLANTS!A33=\"\",\"\",PLANTS!A33)","v":"ALOPE"},2,"",0,{"$f":"IF(PLANTS!C33=\"\",\"\",PLANTS!C33)","v":""},"",{"$f":"IF(PLANTS!D33=\"\",\"\",PLANTS!D33)","v":""},"",{"$f":"IF(PLANTS!E33=\"\",\"\",PLANTS!E33)","v":"y"},"",{"$f":"IF(PLANTS!F33=\"\",\"\",PLANTS!F33)","v":""},"",0,null,75,"",null,0,{"$f":"IF(DE35=\"A\",PLANTS!H33,DE35)","v":"E"},20,null,"","","","",null,null,null,"","",null,null,{"$f":"IF(KeySP!A32=\"\",\"\",KeySP!A32)","v":"CAHY4"},{"$f":"IF(BU35=\"\",\"\",COUNTIF(I$5:I$504,BU35))","v":0},0,{"$f":"IF(BW35>0,BW35/BV35,\"\")","v":""},{"$error":"#DIV/0!"},null,"",null," ","",null,"","","","","","","","",null,"","","ALOPE",{"$f":"IF(DC35=\"a\",PLANTS!I33,DMA!DC35)","v":2},{"$f":"IF(DD35=\"a\",PLANTS!G33,DMA!DD35)","v":75},"","","","","","","",null,null,{"$f":"PLANTS!I33","v":2},{"$f":"PLANTS!G33","v":75},{"$f":"PLANTS!H33","v":"E"},null,null,null,null,"",{"$f":"IF(DMA!DJ35=\"\",\"\",(DMA!N35-SUMIF(Graphs!$O$13:$O$199,DMA!$DJ35,Graphs!$V$13:$V$199))^2)","v":""},{"$f":"IF(DMA!DK35=\"\",\"\",(DMA!O35-SUMIF(Graphs!$O$13:$O$199,DMA!$DJ35,Graphs!$V$13:$V$199))^2)","v":""},{"$f":"IF(DMA!DL35=\"\",\"\",(DMA!P35-SUMIF(Graphs!$O$13:$O$199,DMA!$DJ35,Graphs!$V$13:$V$199))^2)","v":""},"",0,"",0,31,null,null,null,31,3.5,null,31]
[null,null,null,null,null,null,null,null,null,null,null,null,null,null,null,null,null,null,null,{"$f":"IF(A36=\"\",\"\",(Header!C$7*Header!C$6)*A36)","v":""},"","","","","",{"$f":"IF(KeySP!D33=\"\",\"\",KeySP!D33)","v":"SABO2"},"",0,0,null,null,{"$f":"IF(KeySP!$D33=\"\",\"\",KeySP!$D33)","v":"SABO2"},{"$f":"SUMIF($M$5:M$502,$AF36,N$5:N$502)","v":0},{"$f":"SUMIF($M$5:M$502,$AF36,O$5:O$502)","v":0},{"$f":"SUMIF($M$5:M$502,$AF36,P$5:P$502)","v":0},null,"","","","",{"$f":"IF(PLANTS!A34=\"\",\"\",PLANTS!A34)","v":"ALPR3"},5,"",0,{"$f":"IF(PLANTS!C34=\"\",\"\",PLANTS!C34)","v":""},"",{"$f":"IF(PLANTS!D34=\"\",\"\",PLANTS!D34)","v":"y"},"",{"$f":"IF(PLANTS!E34=\"\",\"\",PLANTS!E34)","v":"y"},"",{"$f":"IF(PLANTS!F34=\"\",\"\",PLANTS!F34)","v":""},"",0,null,75,"",null,0,{"$f":"IF(DE36=\"A\",PLANTS!H34,DE36)","v":"E"},20,null,"","","","",null,null,null,"","",null,null,{"$f":"IF(KeySP!A33=\"\",\"\",KeySP!A33)","v":"CAIN11"},0,0,{"$f":"IF(BW36>0,BW36/BV36,\"\")","v":""},{"$error":"#DIV/0!"},null,"",null," ","",null,"","","","",0,"",0,"",null,"","","ALPR3",{"$f":"IF(DC36=\"a\",PLANTS!I34,DMA!DC36)","v":5},{"$f":"IF(DD36=\"a\",PLANTS!G34,DMA!DD36)","v":75},"","","","","","","",null,null,{"$f":"PLANTS!I34","v":5},{"$f":"PLANTS!G34","v":75},{"$f":"PLANTS!H34","v":"E"},null,null,null,null,"",{"$f":"IF(DMA!DJ36=\"\",\"\",(DMA!N36-SUMIF(Graphs!$O$13:$O$199,DMA!$DJ36,Graphs!$V$13:$V$199))^2)","v":""},{"$f":"IF(DMA!DK36=\"\",\"\",(DMA!O36-SUMIF(Graphs!$O$13:$O$199,DMA!$DJ36,Graphs!$V$13:$V$199))^2)","v":""},{"$f":"IF(DMA!DL36=\"\",\"\",(DMA!P36-SUMIF(Graphs!$O$13:$O$199,DMA!$DJ36,Graphs!$V$13:$V$199))^2)","v":""},"",0,"",0,32,null,null,null,32,3.6,null,32]
[null,null,null,null,null,null,null,null,null,null,null,null,null,null,null,null,null,null,null,{"$f":"IF(A37=\"\",\"\",(Header!C$7*Header!C$6)*A37)","v":""},"","","","","",{"$f":"IF(KeySP!D34=\"\",\"\",KeySP!D34)","v":"SACA4"},"",0,0,null,null,{"$f":"IF(KeySP!$D34=\"\",\"\",KeySP!$D34)","v":"SACA4"},{"$f":"SUMIF($M$5:M$502,$AF37,N$5:N$502)","v":0},{"$f":"SUMIF($M$5:M$502,$AF37,O$5:O$502)","v":0},{"$f":"SUMIF($M$5:M$502,$AF37,P$5:P$502)","v":0},null,"","","","",{"$f":"IF(PLANTS!A35=\"\",\"\",PLANTS!A35)","v":"ALVI5"},8.5,"",0,{"$f":"IF(PLANTS!C35=\"\",\"\",PLANTS!C35)","v":"y"},"",{"$f":"IF(PLANTS!D35=\"\",\"\",PLANTS!D35)","v":"y"},"",{"$f":"IF(PLANTS!E35=\"\",\"\",PLANTS!E35)","v":""},"",{"$f":"IF(PLANTS!F35=\"\",\"\",PLANTS!F35)","v":""},"",0,null,75,"",null,0,{"$f":"IF(DE37=\"A\",PLANTS!H35,DE37)","v":"L"},80,null,"","","","",null,null,null,"","",null,null,{"$f":"IF(KeySP!A34=\"\",\"\",KeySP!A34)","v":"CALA11"},0,{"$f":"SUMIF(I$5:I$504,BU37,J$5:J$504)","v":0},{"$f":"IF(BW37>0,BW37/BV37,\"\")","v":""},{"$f":"IF(I37=BZ$3,J37,\"\")","v":{"$error":"#DIV/0!"}},null,"",null," ","",null,"","","","",0,0,"","",null,"","","ALVI5",{"$f":"IF(DC37=\"a\",PLANTS!I35,DMA!DC37)","v":8.5},{"$f":"IF(DD37=\"a\",PLANTS!G35,DMA!DD37)","v":75},"","","","","","","",null,null,{"$f":"PLANTS!I35","v":8.5},{"$f":"PLANTS!G35","v":75},{"$f":"PLANTS!H35","v":"L"},null,null,null,null,"",{"$f":"IF(DMA!DJ37=\"\",\"\",(DMA!N37-SUMIF(Graphs!$O$13:$O$199,DMA!$DJ37,Graphs!$V$13:$V$199))^2)","v":""},{"$f":"IF(DMA!DK37=\"\",\"\",(DMA!O37-SUMIF(Graphs!$O$13:$O$199,DMA!$DJ37,Graphs!$V$13:$V$199))^2)","v":""},{"$f":"IF(DMA!DL37=\"\",\"\",(DMA!P37-SUMIF(Graphs!$O$13:$O$199,DMA!$DJ37,Graphs!$V$13:$V$199))^2)","v":""},"",0,"",0,33,null,null,null,33,3.7,null,33]
[null,null,null,null,null,null,null,null,null,null,null,null,null,null,null,null,null,null,null,{"$f":"IF(A38=\"\",\"\",(Header!C$7*Header!C$6)*A38)","v":""},"","","","","",{"$f":"IF(KeySP!D35=\"\",\"\",KeySP!D35)","v":"SADR"},{"$f":"IF(AB38>0,AC38/AB38*0.01,\"\")","v":""},0,0,null,null,{"$f":"IF(KeySP!$D35=\"\",\"\",KeySP!$D35)","v":"SADR"},{"$f":"SUMIF($M$5:M$502,$AF38,N$5:N$502)","v":0},{"$f":"SUMIF($M$5:M$502,$AF38,O$5:O$502)","v":0},{"$f":"SUMIF($M$5:M$502,$AF38,P$5:P$502)","v":0},null,{"$f":"IF(AG38>0,$AF38,\"\")","v":""},{"$f":"IF(AH38>0,$AF38,\"\")","v":""},{"$f":"IF(AI38>0,$AF38,\"\")","v":""},{"$f":"IF(AJ38>0,$AF38,\"\")","v":""},{"$f":"IF(PLANTS!A36=\"\",\"\",PLANTS!A36)","v":"AMAL2"},5,"",0,{"$f":"IF(PLANTS!C36=\"\",\"\",PLANTS!C36)","v":"y"},"",{"$f":"IF(PLANTS!D36=\"\",\"\",PLANTS!D36)","v":""},"",{"$f":"IF(PLANTS!E36=\"\",\"\",PLANTS!E36)","v":""},"",{"$f":"IF(PLANTS!F36=\"\",\"\",PLANTS!F36)","v":""},"",0,null,25,"",null,0,{"$f":"IF(DE38=\"A\",PLANTS!H36,DE38)","v":"M"},50,null,"","","","",null,null,null,"","",null,null,{"$f":"IF(KeySP!A35=\"\",\"\",KeySP!A35)","v":"CALA30"},0,0,{"$f":"IF(BW38>0,BW38/BV38,\"\")","v":""},{"$error":"#DIV/0!"},null,"",null," ","",null,"","","","","",0,"","",null,"","","AMAL2",{"$f":"IF(DC38=\"a\",PLANTS!I36,DMA!DC38)","v":5},{"$f":"IF(DD38=\"a\",PLANTS!G36,DMA!DD38)","v":25},"","","","","","","",null,null,{"$f":"PLANTS!I36","v":5},{"$f":"PLANTS!G36","v":25},{"$f":"PLANTS!H36","v":"M"},null,null,null,null,"",{"$f":"IF(DMA!DJ38=\"\",\"\",(DMA!N38-SUMIF(Graphs!$O$13:$O$199,DMA!$DJ38,Graphs!$V$13:$V$199))^2)","v":""},{"$f":"IF(DMA!DK38=\"\",\"\",(DMA!O38-SUMIF(Graphs!$O$13:$O$199,DMA!$DJ38,Graphs!$V$13:$V$199))^2)","v":""},{"$f":"IF(DMA!DL38=\"\",\"\",(DMA!P38-SUMIF(Graphs!$O$13:$O$199,DMA!$DJ38,Graphs!$V$13:$V$199))^2)","v":""},"",0,"",0,34,null,null,null,34,3.8,null,34]
[null,null,null,null,null,null,null,null,null,null,null,null,null,null,null,null,null,null,null,{"$f":"IF(A39=\"\",\"\",(Header!C$7*Header!C$6)*A39)","v":""},"","","","","",{"$f":"IF(KeySP!D36=\"\",\"\",KeySP!D36)","v":"SAEX"},"",0,0,null,null,{"$f":"IF(KeySP!$D36=\"\",\"\",KeySP!$D36)","v":"SAEX"},{"$f":"SUMIF($M$5:M$502,$AF39,N$5:N$502)","v":0},{"$f":"SUMIF($M$5:M$502,$AF39,O$5:O$502)","v":0},{"$f":"SUMIF($M$5:M$502,$AF39,P$5:P$502)","v":0},null,"","","","",{"$f":"IF(PLANTS!A37=\"\",\"\",PLANTS!A37)","v":"AMFR"},5,"",0,{"$f":"IF(PLANTS!C37=\"\",\"\",PLANTS!C37)","v":"y"},"",{"$f":"IF(PLANTS!D37=\"\",\"\",PLANTS!D37)","v":"y"},"",{"$f":"IF(PLANTS!E37=\"\",\"\",PLANTS!E37)","v":""},"",{"$f":"IF(PLANTS!F37=\"\",\"\",PLANTS!F37)","v":""},"",0,null,75,"",null,0,{"$f":"IF(DE39=\"A\",PLANTS!H37,DE39)","v":"M"},50,null,"","","",""," "," ",null,"","",null,null,{"$f":"IF(KeySP!A36=\"\",\"\",KeySP!A36)","v":"CALE10"},0,0,{"$f":"IF(BW39>0,BW39/BV39,\"\")","v":""},{"$error":"#DIV/0!"},null,"",null," ","",null,"","","","",0,0,"","",null,"","","AMFR",{"$f":"IF(DC39=\"a\",PLANTS!I37,DMA!DC39)","v":5},{"$f":"IF(DD39=\"a\",PLANTS!G37,DMA!DD39)","v":75},"","",{"$f":"IF(CT39=\"\",\"\",IF(CU39=\"\",CT39,(CT39*2+CU39)/3))","v":""},"","","","",null,null,{"$f":"PLANTS!I37","v":5},{"$f":"PLANTS!G37","v":75},{"$f":"PLANTS!H37","v":"M"},null,null,null,null,"",{"$f":"IF(DMA!DJ39=\"\",\"\",(DMA!N39-SUMIF(Graphs!$O$13:$O$199,DMA!$DJ39,Graphs!$V$13:$V$199))^2)","v":""},{"$f":"IF(DMA!DK39=\"\",\"\",(DMA!O39-SUMIF(Graphs!$O$13:$O$199,DMA!$DJ39,Graphs!$V$13:$V$199))^2)","v":""},{"$f":"IF(DMA!DL39=\"\",\"\",(DMA!P39-SUMIF(Graphs!$O$13:$O$199,DMA!$DJ39,Graphs!$V$13:$V$199))^2)","v":""},"",0,"",0,35,null,null,null,35,3.9,null,35]
[null,null,null,null,null,null,null,null,null,null,null,null,null,null,null,null,null,null,null,{"$f":"IF(A40=\"\",\"\",(Header!C$7*Header!C$6)*A40)","v":""},"","","","","",{"$f":"IF(KeySP!D37=\"\",\"\",KeySP!D37)","v":"SAGE2"},"",0,0,null,null,{"$f":"IF(KeySP!$D37=\"\",\"\",KeySP!$D37)","v":"SAGE2"},{"$f":"SUMIF($M$5:M$502,$AF40,N$5:N$502)","v":0},{"$f":"SUMIF($M$5:M$502,$AF40,O$5:O$502)","v":0},{"$f":"SUMIF($M$5:M$502,$AF40,P$5:P$502)","v":0},null,"","","","",{"$f":"IF(PLANTS!A38=\"\",\"\",PLANTS!A38)","v":"AMNA"},5,"",0,{"$f":"IF(PLANTS!C38=\"\",\"\",PLANTS!C38)","v":"y"},"",{"$f":"IF(PLANTS!D38=\"\",\"\",PLANTS!D38)","v":""},"",{"$f":"IF(PLANTS!E38=\"\",\"\",PLANTS!E38)","v":""},"",{"$f":"IF(PLANTS!F38=\"\",\"\",PLANTS!F38)","v":""},"",0,null,25,"",null,0,{"$f":"IF(DE40=\"A\",PLANTS!H38,DE40)","v":"E"},20,null,"","","",""," "," ",null,"","",null,null,{"$f":"IF(KeySP!A37=\"\",\"\",KeySP!A37)","v":"CALE24"},0,0,"",{"$error":"#DIV/0!"},null,"",null," ","",null,"","","","","",0,"","",null,"","","AMNA",{"$f":"IF(DC40=\"a\",PLANTS!I38,DMA!DC40)","v":5},{"$f":"IF(DD40=\"a\",PLANTS!G38,DMA!DD40)","v":25},"","","","","","","",null,null,{"$f":"PLANTS!I38","v":5},{"$f":"PLANTS!G38","v":25},{"$f":"PLANTS!H38","v":"E"},null,null,null,null,"",{"$f":"IF(DMA!DJ40=\"\",\"\",(DMA!N40-SUMIF(Graphs!$O$13:$O$199,DMA!$DJ40,Graphs!$V$13:$V$199))^2)","v":""},{"$f":"IF(DMA!DK40=\"\",\"\",(DMA!O40-SUMIF(Graphs!$O$13:$O$199,DMA!$DJ40,Graphs!$V$13:$V$199))^2)","v":""},{"$f":"IF(DMA!DL40=\"\",\"\",(DMA!P40-SUMIF(Graphs!$O$13:$O$199,DMA!$DJ40,Graphs!$V$13:$V$199))^2)","v":""},"",0,"",0,36,null,null,null,36,4,null,36]
[null,null,null,null,null,null,null,null,null,null,null,null,null,null,null,null,null,null,null,{"$f":"IF(A41=\"\",\"\",(Header!C$7*Header!C$6)*A41)","v":""},"","","","","",{"$f":"IF(KeySP!D38=\"\",\"\",KeySP!D38)","v":"SAGO"},"",0,0,null,null,{"$f":"IF(KeySP!$D38=\"\",\"\",KeySP!$D38)","v":"SAGO"},{"$f":"SUMIF($M$5:M$502,$AF41,N$5:N$502)","v":0},{"$f":"SUMIF($M$5:M$502,$AF41,O$5:O$502)","v":0},{"$f":"SUMIF($M$5:M$502,$AF41,P$5:P$502)","v":0},null,"","","","",{"$f":"IF(PLANTS!A39=\"\",\"\",PLANTS!A39)","v":"ANCA10"},5,"",0,{"$f":"IF(PLANTS!C39=\"\",\"\",PLANTS!C39)","v":""},"",{"$f":"IF(PLANTS!D39=\"\",\"\",PLANTS!D39)","v":"y"},"",{"$f":"IF(PLANTS!E39=\"\",\"\",PLANTS!E39)","v":"y"},"",{"$f":"IF(PLANTS!F39=\"\",\"\",PLANTS!F39)","v":"y"},"",0,null,100,"",null,0,{"$f":"IF(DE41=\"A\",PLANTS!H39,DE41)","v":"M"},50,null,"","","",""," "," ",null,"","",null,null,{"$f":"IF(KeySP!A38=\"\",\"\",KeySP!A38)","v":"CALE8"},0,0,"",{"$error":"#DIV/0!"},null,"",null," ","",null,"","","",0,0,"",0,"",null,"","","ANCA10",{"$f":"IF(DC41=\"a\",PLANTS!I39,DMA!DC41)","v":5},{"$f":"IF(DD41=\"a\",PLANTS!G39,DMA!DD41)","v":100},"","","","","","","",null,null,{"$f":"PLANTS!I39","v":5},{"$f":"PLANTS!G39","v":100},{"$f":"PLANTS!H39","v":"M"},null,null,null,null,"",{"$f":"IF(DMA!DJ41=\"\",\"\",(DMA!N41-SUMIF(Graphs!$O$13:$O$199,DMA!$DJ41,Graphs!$V$13:$V$199))^2)","v":""},{"$f":"IF(DMA!DK41=\"\",\"\",(DMA!O41-SUMIF(Graphs!$O$13:$O$199,DMA!$DJ41,Graphs!$V$13:$V$199))^2)","v":""},{"$f":"IF(DMA!DL41=\"\",\"\",(DMA!P41-SUMIF(Graphs!$O$13:$O$199,DMA!$DJ41,Graphs!$V$13:$V$199))^2)","v":""},"",0,"",0,37,null,null,null,37,4.0999999999999996,null,37]
[null,null,null,null,null,null,null,null,null,null,null,null,null,null,null,null,null,null,null,{"$f":"IF(A42=\"\",\"\",(Header!C$7*Header!C$6)*A42)","v":""},"","","","","",{"$f":"IF(KeySP!D39=\"\",\"\",KeySP!D39)","v":"SAIR"},"",0,0,null,null,{"$f":"IF(KeySP!$D39=\"\",\"\",KeySP!$D39)","v":"SAIR"},{"$f":"SUMIF($M$5:M$502,$AF42,N$5:N$502)","v":0},{"$f":"SUMIF($M$5:M$502,$AF42,O$5:O$502)","v":0},{"$f":"SUMIF($M$5:M$502,$AF42,P$5:P$502)","v":0},null,"","","","",{"$f":"IF(PLANTS!A40=\"\",\"\",PLANTS!A40)","v":"ANGE"},2,"",0,{"$f":"IF(PLANTS!C40=\"\",\"\",PLANTS!C40)","v":""},"",{"$f":"IF(PLANTS!D40=\"\",\"\",PLANTS!D40)","v":""},"",{"$f":"IF(PLANTS!E40=\"\",\"\",PLANTS!E40)","v":"y"},"",{"$f":"IF(PLANTS!F40=\"\",\"\",PLANTS!F40)","v":""},"",0,null,25,"",null,0,{"$f":"IF(DE42=\"A\",PLANTS!H40,DE42)","v":"E"},20,null,"","","","",null,null,null,"","",null,null,{"$f":"IF(KeySP!A39=\"\",\"\",KeySP!A39)","v":"CALI7"},0,0,"",{"$error":"#DIV/0!"},null,"",null," ","",null,"","","","","","","","",null,"","","ANGE",{"$f":"IF(DC42=\"a\",PLANTS!I40,DMA!DC42)","v":2},{"$f":"IF(DD42=\"a\",PLANTS!G40,DMA!DD42)","v":25},"","","","","","","",null,null,{"$f":"PLANTS!I40","v":2},{"$f":"PLANTS!G40","v":25},{"$f":"PLANTS!H40","v":"E"},null,null,null,null,"",{"$f":"IF(DMA!DJ42=\"\",\"\",(DMA!N42-SUMIF(Graphs!$O$13:$O$199,DMA!$DJ42,Graphs!$V$13:$V$199))^2)","v":""},{"$f":"IF(DMA!DK42=\"\",\"\",(DMA!O42-SUMIF(Graphs!$O$13:$O$199,DMA!$DJ42,Graphs!$V$13:$V$199))^2)","v":""},{"$f":"IF(DMA!DL42=\"\",\"\",(DMA!P42-SUMIF(Graphs!$O$13:$O$199,DMA!$DJ42,Graphs!$V$13:$V$199))^2)","v":""},"",0,"",0,38,null,null,null,38,4.2,null,38]
[null,null,null,null,null,null,null,null,null,null,null,null,null,null,null,null,null,null,null,{"$f":"IF(A43=\"\",\"\",(Header!C$7*Header!C$6)*A43)","v":""},"","","","","",{"$f":"IF(KeySP!D40=\"\",\"\",KeySP!D40)","v":"SAJE"},"",0,0,null,null,{"$f":"IF(KeySP!$D40=\"\",\"\",KeySP!$D40)","v":"SAJE"},{"$f":"SUMIF($M$5:M$502,$AF43,N$5:N$502)","v":0},{"$f":"SUMIF($M$5:M$502,$AF43,O$5:O$502)","v":0},{"$f":"SUMIF($M$5:M$502,$AF43,P$5:P$502)","v":0},null,"","","","",{"$f":"IF(PLANTS!A41=\"\",\"\",PLANTS!A41)","v":"ANKI"},5,"",0,{"$f":"IF(PLANTS!C41=\"\",\"\",PLANTS!C41)","v":""},"",{"$f":"IF(PLANTS!D41=\"\",\"\",PLANTS!D41)","v":"y"},"",{"$f":"IF(PLANTS!E41=\"\",\"\",PLANTS!E41)","v":"y"},"",{"$f":"IF(PLANTS!F41=\"\",\"\",PLANTS!F41)","v":"y"},"",0,null,75,"",null,0,{"$f":"IF(DE43=\"A\",PLANTS!H41,DE43)","v":"M"},50,null,"","","","",null,null,null,"","",null,null,{"$f":"IF(KeySP!A40=\"\",\"\",KeySP!A40)","v":"CAMI7"},0,0,"",{"$error":"#DIV/0!"},null,"",null," ","",null,"","","",0,0,"",0,"",null,"","","ANKI",{"$f":"IF(DC43=\"a\",PLANTS!I41,DMA!DC43)","v":5},{"$f":"IF(DD43=\"a\",PLANTS!G41,DMA!DD43)","v":75},"","","","","","","",null,null,{"$f":"PLANTS!I41","v":5},{"$f":"PLANTS!G41","v":75},{"$f":"PLANTS!H41","v":"M"},null,null,null,null,"",{"$f":"IF(DMA!DJ43=\"\",\"\",(DMA!N43-SUMIF(Graphs!$O$13:$O$199,DMA!$DJ43,Graphs!$V$13:$V$199))^2)","v":""},{"$f":"IF(DMA!DK43=\"\",\"\",(DMA!O43-SUMIF(Graphs!$O$13:$O$199,DMA!$DJ43,Graphs!$V$13:$V$199))^2)","v":""},{"$f":"IF(DMA!DL43=\"\",\"\",(DMA!P43-SUMIF(Graphs!$O$13:$O$199,DMA!$DJ43,Graphs!$V$13:$V$199))^2)","v":""},"",0,"",0,39,null,null,null,39,4.3,null,39]
[null,null,null,null,null,null,null,null,null,null,null,null,null,null,null,null,null,null,null,{"$f":"IF(A44=\"\",\"\",(Header!C$7*Header!C$6)*A44)","v":""},"","","","","",{"$f":"IF(KeySP!D41=\"\",\"\",KeySP!D41)","v":"SALA3"},"",0,0,null,null,{"$f":"IF(KeySP!$D41=\"\",\"\",KeySP!$D41)","v":"SALA3"},{"$f":"SUMIF($M$5:M$502,$AF44,N$5:N$502)","v":0},{"$f":"SUMIF($M$5:M$502,$AF44,O$5:O$502)","v":0},{"$f":"SUMIF($M$5:M$502,$AF44,P$5:P$502)","v":0},null,"","","","",{"$f":"IF(PLANTS!A42=\"\",\"\",PLANTS!A42)","v":"ANRO2"},2,"",0,{"$f":"IF(PLANTS!C42=\"\",\"\",PLANTS!C42)","v":""},"",{"$f":"IF(PLANTS!D42=\"\",\"\",PLANTS!D42)","v":""},"",{"$f":"IF(PLANTS!E42=\"\",\"\",PLANTS!E42)","v":"y"},"",{"$f":"IF(PLANTS!F42=\"\",\"\",PLANTS!F42)","v":"y"},"",0,null,25,"",null,0,{"$f":"IF(DE44=\"A\",PLANTS!H42,DE44)","v":"E"},20,null,"","","","",null,null,null,"","",null,null,{"$f":"IF(KeySP!A41=\"\",\"\",KeySP!A41)","v":"CANE2"},0,0,"",{"$error":"#DIV/0!"},null,"",null," ","",null,"","","",0,"","","","",null,"","","ANRO2",{"$f":"IF(DC44=\"a\",PLANTS!I42,DMA!DC44)","v":2},{"$f":"IF(DD44=\"a\",PLANTS!G42,DMA!DD44)","v":25},"","","","","","","",null,null,{"$f":"PLANTS!I42","v":2},{"$f":"PLANTS!G42","v":25},{"$f":"PLANTS!H42","v":"E"},null,null,null,null,"",{"$f":"IF(DMA!DJ44=\"\",\"\",(DMA!N44-SUMIF(Graphs!$O$13:$O$199,DMA!$DJ44,Graphs!$V$13:$V$199))^2)","v":""},{"$f":"IF(DMA!DK44=\"\",\"\",(DMA!O44-SUMIF(Graphs!$O$13:$O$199,DMA!$DJ44,Graphs!$V$13:$V$199))^2)","v":""},{"$f":"IF(DMA!DL44=\"\",\"\",(DMA!P44-SUMIF(Graphs!$O$13:$O$199,DMA!$DJ44,Graphs!$V$13:$V$199))^2)","v":""},"",0,"",0,40,null,null,null,40,4.4000000000000004,null,40]
[null,null,null,null,null,null,null,null,null,null,null,null,null,null,null,null,null,null,null,{"$f":"IF(A45=\"\",\"\",(Header!C$7*Header!C$6)*A45)","v":""},"","","","","",{"$f":"IF(KeySP!D42=\"\",\"\",KeySP!D42)","v":"SALA5"},"",0,0,null,null,{"$f":"IF(KeySP!$D42=\"\",\"\",KeySP!$D42)","v":"SALA5"},{"$f":"SUMIF($M$5:M$502,$AF45,N$5:N$502)","v":0},{"$f":"SUMIF($M$5:M$502,$AF45,O$5:O$502)","v":0},{"$f":"SUMIF($M$5:M$502,$AF45,P$5:P$502)","v":0},null,"","","","",{"$f":"IF(PLANTS!A43=\"\",\"\",PLANTS!A43)","v":"ANTHO"},2,"",0,{"$f":"IF(PLANTS!C43=\"\",\"\",PLANTS!C43)","v":""},"",{"$f":"IF(PLANTS!D43=\"\",\"\",PLANTS!D43)","v":"y"},"",{"$f":"IF(PLANTS!E43=\"\",\"\",PLANTS!E43)","v":""},"",{"$f":"IF(PLANTS!F43=\"\",\"\",PLANTS!F43)","v":""},"",0,null,100,"",null,0,{"$f":"IF(DE45=\"A\",PLANTS!H43,DE45)","v":"L"},80,null,"","","","",null,null,null,"","",null,null,{"$f":"IF(KeySP!A42=\"\",\"\",KeySP!A42)","v":"CAPE42"},0,0,"",{"$error":"#DIV/0!"},null,"",null," ","",null,"","","","",0,"","","",null,"","","ANTHO",{"$f":"IF(DC45=\"a\",PLANTS!I43,DMA!DC45)","v":2},{"$f":"IF(DD45=\"a\",PLANTS!G43,DMA!DD45)","v":100},"","","","","","","",null,null,{"$f":"PLANTS!I43","v":2},{"$f":"PLANTS!G43","v":100},{"$f":"PLANTS!H43","v":"L"},null,null,null,null,"",{"$f":"IF(DMA!DJ45=\"\",\"\",(DMA!N45-SUMIF(Graphs!$O$13:$O$199,DMA!$DJ45,Graphs!$V$13:$V$199))^2)","v":""},{"$f":"IF(DMA!DK45=\"\",\"\",(DMA!O45-SUMIF(Graphs!$O$13:$O$199,DMA!$DJ45,Graphs!$V$13:$V$199))^2)","v":""},{"$f":"IF(DMA!DL45=\"\",\"\",(DMA!P45-SUMIF(Graphs!$O$13:$O$199,DMA!$DJ45,Graphs!$V$13:$V$199))^2)","v":""},"",0,"",0,41,null,null,null,41,4.5,null,41]
[null,null,null,null,null,null,null,null,null,null,null,null,null,null,null,null,null,null,null,{"$f":"IF(A46=\"\",\"\",(Header!C$7*Header!C$6)*A46)","v":""},"","","","","",{"$f":"IF(KeySP!D43=\"\",\"\",KeySP!D43)","v":"SALA6"},"",0,0,null,null,{"$f":"IF(KeySP!$D43=\"\",\"\",KeySP!$D43)","v":"SALA6"},{"$f":"SUMIF($M$5:M$502,$AF46,N$5:N$502)","v":0},{"$f":"SUMIF($M$5:M$502,$AF46,O$5:O$502)","v":0},{"$f":"SUMIF($M$5:M$502,$AF46,P$5:P$502)","v":0},null,"","","","",{"$f":"IF(PLANTS!A44=\"\",\"\",PLANTS!A44)","v":"APCA"},2,"",0,{"$f":"IF(PLANTS!C44=\"\",\"\",PLANTS!C44)","v":""},"",{"$f":"IF(PLANTS!D44=\"\",\"\",PLANTS!D44)","v":""},"",{"$f":"IF(PLANTS!E44=\"\",\"\",PLANTS!E44)","v":"y"},"",{"$f":"IF(PLANTS!F44=\"\",\"\",PLANTS!F44)","v":"y"},"",0,null,50,"",null,0,{"$f":"IF(DE46=\"A\",PLANTS!H44,DE46)","v":"E"},20,null,"","","","",null,null,null,"","",null,null,{"$f":"IF(KeySP!A43=\"\",\"\",KeySP!A43)","v":"CAPE7"},0,0,"",{"$error":"#DIV/0!"},null,"",null," ","",null,"","","",0,"","","","",null,"","","APCA",{"$f":"IF(DC46=\"a\",PLANTS!I44,DMA!DC46)","v":2},{"$f":"IF(DD46=\"a\",PLANTS!G44,DMA!DD46)","v":50},"","","","","","","",null,null,{"$f":"PLANTS!I44","v":2},{"$f":"PLANTS!G44","v":50},{"$f":"PLANTS!H44","v":"E"},null,null,null,null,"",{"$f":"IF(DMA!DJ46=\"\",\"\",(DMA!N46-SUMIF(Graphs!$O$13:$O$199,DMA!$DJ46,Graphs!$V$13:$V$199))^2)","v":""},{"$f":"IF(DMA!DK46=\"\",\"\",(DMA!O46-SUMIF(Graphs!$O$13:$O$199,DMA!$DJ46,Graphs!$V$13:$V$199))^2)","v":""},{"$f":"IF(DMA!DL46=\"\",\"\",(DMA!P46-SUMIF(Graphs!$O$13:$O$199,DMA!$DJ46,Graphs!$V$13:$V$199))^2)","v":""},"",0,"",0,42,null,null,null,42,4.5999999999999996,null,42]
[null,null,null,null,null,null,null,null,null,null,null,null,null,null,null,null,null,null,null,{"$f":"IF(A47=\"\",\"\",(Header!C$7*Header!C$6)*A47)","v":""},"","","","","",{"$f":"IF(KeySP!D44=\"\",\"\",KeySP!D44)","v":"SALE"},"",0,0,null,null,{"$f":"IF(KeySP!$D44=\"\",\"\",KeySP!$D44)","v":"SALE"},{"$f":"SUMIF($M$5:M$502,$AF47,N$5:N$502)","v":0},{"$f":"SUMIF($M$5:M$502,$AF47,O$5:O$502)","v":0},{"$f":"SUMIF($M$5:M$502,$AF47,P$5:P$502)","v":0},null,"","","","",{"$f":"IF(PLANTS!A45=\"\",\"\",PLANTS!A45)","v":"AQFO"},2,"",0,{"$f":"IF(PLANTS!C45=\"\",\"\",PLANTS!C45)","v":""},"",{"$f":"IF(PLANTS!D45=\"\",\"\",PLANTS!D45)","v":""},"",{"$f":"IF(PLANTS!E45=\"\",\"\",PLANTS!E45)","v":"y"},"",{"$f":"IF(PLANTS!F45=\"\",\"\",PLANTS!F45)","v":"y"},"",0,null,50,"",null,0,{"$f":"IF(DE47=\"A\",PLANTS!H45,DE47)","v":"E"},20,null,"","","","",null,null,null,"","",null,null,{"$f":"IF(KeySP!A44=\"\",\"\",KeySP!A44)","v":"CAPR5"},0,0,"",{"$error":"#DIV/0!"},null,"",null," ","",null,"","","",0,"","","","",null,"","","AQFO",{"$f":"IF(DC47=\"a\",PLANTS!I45,DMA!DC47)","v":2},{"$f":"IF(DD47=\"a\",PLANTS!G45,DMA!DD47)","v":50},"","","","","","","",null,null,{"$f":"PLANTS!I45","v":2},{"$f":"PLANTS!G45","v":50},{"$f":"PLANTS!H45","v":"E"},null,null,null,null,"",{"$f":"IF(DMA!DJ47=\"\",\"\",(DMA!N47-SUMIF(Graphs!$O$13:$O$199,DMA!$DJ47,Graphs!$V$13:$V$199))^2)","v":""},{"$f":"IF(DMA!DK47=\"\",\"\",(DMA!O47-SUMIF(Graphs!$O$13:$O$199,DMA!$DJ47,Graphs!$V$13:$V$199))^2)","v":""},{"$f":"IF(DMA!DL47=\"\",\"\",(DMA!P47-SUMIF(Graphs!$O$13:$O$199,DMA!$DJ47,Graphs!$V$13:$V$199))^2)","v":""},"",0,"",0,43,null,null,null,43,4.7,null,43]
[null,null,null,null,null,null,null,null,null,null,null,null,null,null,null,null,null,null,null,{"$f":"IF(A48=\"\",\"\",(Header!C$7*Header!C$6)*A48)","v":""},"","","","","",{"$f":"IF(KeySP!D45=\"\",\"\",KeySP!D45)","v":"SALIX"},"",0,0,null,null,{"$f":"IF(KeySP!$D45=\"\",\"\",KeySP!$D45)","v":"SALIX"},{"$f":"SUMIF($M$5:M$502,$AF48,N$5:N$502)","v":0},{"$f":"SUMIF($M$5:M$502,$AF48,O$5:O$502)","v":0},{"$f":"SUMIF($M$5:M$502,$AF48,P$5:P$502)","v":0},null,"","","","",{"$f":"IF(PLANTS!A46=\"\",\"\",PLANTS!A46)","v":"ARAN7"},2,"",0,{"$f":"IF(PLANTS!C46=\"\",\"\",PLANTS!C46)","v":""},"",{"$f":"IF(PLANTS!D46=\"\",\"\",PLANTS!D46)","v":"y"},"",{"$f":"IF(PLANTS!E46=\"\",\"\",PLANTS!E46)","v":"y"},"",{"$f":"IF(PLANTS!F46=\"\",\"\",PLANTS!F46)","v":"y"},"",0,null,100,"",null,0,{"$f":"IF(DE48=\"A\",PLANTS!H46,DE48)","v":"E"},20,null,"","","","",null,null,null,"","",null,null,{"$f":"IF(KeySP!A45=\"\",\"\",KeySP!A45)","v":"CAREX"},0,0,"",{"$error":"#DIV/0!"},null,"",null," ","",null,"","","",0,0,"",0,"",null,"","","ARAN7",{"$f":"IF(DC48=\"a\",PLANTS!I46,DMA!DC48)","v":2},{"$f":"IF(DD48=\"a\",PLANTS!G46,DMA!DD48)","v":100},"","","","","","","",null,null,{"$f":"PLANTS!I46","v":2},{"$f":"PLANTS!G46","v":100},{"$f":"PLANTS!H46","v":"E"},null,null,null,null,"",{"$f":"IF(DMA!DJ48=\"\",\"\",(DMA!N48-SUMIF(Graphs!$O$13:$O$199,DMA!$DJ48,Graphs!$V$13:$V$199))^2)","v":""},{"$f":"IF(DMA!DK48=\"\",\"\",(DMA!O48-SUMIF(Graphs!$O$13:$O$199,DMA!$DJ48,Graphs!$V$13:$V$199))^2)","v":""},{"$f":"IF(DMA!DL48=\"\",\"\",(DMA!P48-SUMIF(Graphs!$O$13:$O$199,DMA!$DJ48,Graphs!$V$13:$V$199))^2)","v":""},"",0,"",0,44,null,null,null,44,4.8,null,44]
[null,null,null,null,null,null,null,null,null,null,null,null,null,null,null,null,null,null,null,{"$f":"IF(A49=\"\",\"\",(Header!C$7*Header!C$6)*A49)","v":""},"","","","","",{"$f":"IF(KeySP!D46=\"\",\"\",KeySP!D46)","v":"SALIXCL"},"",0,0,null,null,{"$f":"IF(KeySP!$D46=\"\",\"\",KeySP!$D46)","v":"SALIXCL"},{"$f":"SUMIF($M$5:M$502,$AF49,N$5:N$502)","v":0},{"$f":"SUMIF($M$5:M$502,$AF49,O$5:O$502)","v":0},{"$f":"SUMIF($M$5:M$502,$AF49,P$5:P$502)","v":0},null,"","","","",{"$f":"IF(PLANTS!A47=\"\",\"\",PLANTS!A47)","v":"ARCA13"},2,"",0,{"$f":"IF(PLANTS!C47=\"\",\"\",PLANTS!C47)","v":"y"},"",{"$f":"IF(PLANTS!D47=\"\",\"\",PLANTS!D47)","v":""},"",{"$f":"IF(PLANTS!E47=\"\",\"\",PLANTS!E47)","v":""},"",{"$f":"IF(PLANTS!F47=\"\",\"\",PLANTS!F47)","v":""},"",0,null,25,"",null,0,{"$f":"IF(DE49=\"A\",PLANTS!H47,DE49)","v":"M"},50,null,"","","","",null,null,null,"","",null,null,{"$f":"IF(KeySP!A46=\"\",\"\",KeySP!A46)","v":"CAREXRH"},0,0,"",{"$error":"#DIV/0!"},null,"",null," ","",null,"","","","","",0,"","",null,"","","ARCA13",{"$f":"IF(DC49=\"a\",PLANTS!I47,DMA!DC49)","v":2},{"$f":"IF(DD49=\"a\",PLANTS!G47,DMA!DD49)","v":25},"","","","","","","",null,null,{"$f":"PLANTS!I47","v":2},{"$f":"PLANTS!G47","v":25},{"$f":"PLANTS!H47","v":"M"},null,null,null,null,"",{"$f":"IF(DMA!DJ49=\"\",\"\",(DMA!N49-SUMIF(Graphs!$O$13:$O$199,DMA!$DJ49,Graphs!$V$13:$V$199))^2)","v":""},{"$f":"IF(DMA!DK49=\"\",\"\",(DMA!O49-SUMIF(Graphs!$O$13:$O$199,DMA!$DJ49,Graphs!$V$13:$V$199))^2)","v":""},{"$f":"IF(DMA!DL49=\"\",\"\",(DMA!P49-SUMIF(Graphs!$O$13:$O$199,DMA!$DJ49,Graphs!$V$13:$V$199))^2)","v":""},"",0,"",0,45,null,null,null,45,4.9000000000000004,null,45]
[null,null,null,null,null,null,null,null,null,null,null,null,null,null,null,null,null,null,null,{"$f":"IF(A50=\"\",\"\",(Header!C$7*Header!C$6)*A50)","v":""},"","","","","",{"$f":"IF(KeySP!D47=\"\",\"\",KeySP!D47)","v":"SALU"},"",0,0,null,null,{"$f":"IF(KeySP!$D47=\"\",\"\",KeySP!$D47)","v":"SALU"},{"$f":"SUMIF($M$5:M$502,$AF50,N$5:N$502)","v":0},{"$f":"SUMIF($M$5:M$502,$AF50,O$5:O$502)","v":0},{"$f":"SUMIF($M$5:M$502,$AF50,P$5:P$502)","v":0},null,"","","","",{"$f":"IF(PLANTS!A48=\"\",\"\",PLANTS!A48)","v":"ARCH3"},5,"",0,{"$f":"IF(PLANTS!C48=\"\",\"\",PLANTS!C48)","v":""},"",{"$f":"IF(PLANTS!D48=\"\",\"\",PLANTS!D48)","v":"y"},"",{"$f":"IF(PLANTS!E48=\"\",\"\",PLANTS!E48)","v":"y"},"",{"$f":"IF(PLANTS!F48=\"\",\"\",PLANTS!F48)","v":"y"},"",0,null,75,"",null,0,{"$f":"IF(DE50=\"A\",PLANTS!H48,DE50)","v":"M"},50,null,"","","","",null,null,null,"","",null,null,{"$f":"IF(KeySP!A47=\"\",\"\",KeySP!A47)","v":"CAREXTU"},0,0,"",{"$error":"#DIV/0!"},null,"",null," ","",null,"","","",0,0,"",0,"",null,"","","ARCH3",{"$f":"IF(DC50=\"a\",PLANTS!I48,DMA!DC50)","v":5},{"$f":"IF(DD50=\"a\",PLANTS!G48,DMA!DD50)","v":75},"","","","","","","",null,null,{"$f":"PLANTS!I48","v":5},{"$f":"PLANTS!G48","v":75},{"$f":"PLANTS!H48","v":"M"},null,null,null,null,"",{"$f":"IF(DMA!DJ50=\"\",\"\",(DMA!N50-SUMIF(Graphs!$O$13:$O$199,DMA!$DJ50,Graphs!$V$13:$V$199))^2)","v":""},{"$f":"IF(DMA!DK50=\"\",\"\",(DMA!O50-SUMIF(Graphs!$O$13:$O$199,DMA!$DJ50,Graphs!$V$13:$V$199))^2)","v":""},{"$f":"IF(DMA!DL50=\"\",\"\",(DMA!P50-SUMIF(Graphs!$O$13:$O$199,DMA!$DJ50,Graphs!$V$13:$V$199))^2)","v":""},"",0,"",0,46,null,null,null,46,5,null,46]
[null,null,null,null,null,null,null,null,null,null,null,null,null,null,null,null,null,null,null,{"$f":"IF(A51=\"\",\"\",(Header!C$7*Header!C$6)*A51)","v":""},"","","","","",{"$f":"IF(KeySP!D48=\"\",\"\",KeySP!D48)","v":"SALU2"},"",0,0,null,null,{"$f":"IF(KeySP!$D48=\"\",\"\",KeySP!$D48)","v":"SALU2"},{"$f":"SUMIF($M$5:M$502,$AF51,N$5:N$502)","v":0},{"$f":"SUMIF($M$5:M$502,$AF51,O$5:O$502)","v":0},{"$f":"SUMIF($M$5:M$502,$AF51,P$5:P$502)","v":0},null,"","","","",{"$f":"IF(PLANTS!A49=\"\",\"\",PLANTS!A49)","v":"ARCO9"},2,"",0,{"$f":"IF(PLANTS!C49=\"\",\"\",PLANTS!C49)","v":""},"",{"$f":"IF(PLANTS!D49=\"\",\"\",PLANTS!D49)","v":""},"",{"$f":"IF(PLANTS!E49=\"\",\"\",PLANTS!E49)","v":"y"},"",{"$f":"IF(PLANTS!F49=\"\",\"\",PLANTS!F49)","v":"y"},"",0,null,25,"",null,0,{"$f":"IF(DE51=\"A\",PLANTS!H49,DE51)","v":"M"},50,null,"","","","",null,null,null,"","",null,null,{"$f":"IF(KeySP!A48=\"\",\"\",KeySP!A48)","v":"CARO6"},0,0,"",{"$error":"#DIV/0!"},null,"",null," ","",null,"","","",0,"","","","",null,"","","ARCO9",{"$f":"IF(DC51=\"a\",PLANTS!I49,DMA!DC51)","v":2},{"$f":"IF(DD51=\"a\",PLANTS!G49,DMA!DD51)","v":25},"","","","","","","",null,null,{"$f":"PLANTS!I49","v":2},{"$f":"PLANTS!G49","v":25},{"$f":"PLANTS!H49","v":"M"},null,null,null,null,"",{"$f":"IF(DMA!DJ51=\"\",\"\",(DMA!N51-SUMIF(Graphs!$O$13:$O$199,DMA!$DJ51,Graphs!$V$13:$V$199))^2)","v":""},{"$f":"IF(DMA!DK51=\"\",\"\",(DMA!O51-SUMIF(Graphs!$O$13:$O$199,DMA!$DJ51,Graphs!$V$13:$V$199))^2)","v":""},{"$f":"IF(DMA!DL51=\"\",\"\",(DMA!P51-SUMIF(Graphs!$O$13:$O$199,DMA!$DJ51,Graphs!$V$13:$V$199))^2)","v":""},"",0,"",0,47,null,null,null,47,5.0999999999999996,null,47]
[null,null,null,null,null,null,null,null,null,null,null,null,null,null,null,null,null,null,null,{"$f":"IF(A52=\"\",\"\",(Header!C$7*Header!C$6)*A52)","v":""},"","","","","",{"$f":"IF(KeySP!D49=\"\",\"\",KeySP!D49)","v":"SAMO2"},"",0,0,null,null,{"$f":"IF(KeySP!$D49=\"\",\"\",KeySP!$D49)","v":"SAMO2"},{"$f":"SUMIF($M$5:M$502,$AF52,N$5:N$502)","v":0},{"$f":"SUMIF($M$5:M$502,$AF52,O$5:O$502)","v":0},{"$f":"SUMIF($M$5:M$502,$AF52,P$5:P$502)","v":0},null,"","","","",{"$f":"IF(PLANTS!A50=\"\",\"\",PLANTS!A50)","v":"ARCTI"},2,"",0,{"$f":"IF(PLANTS!C50=\"\",\"\",PLANTS!C50)","v":""},"",{"$f":"IF(PLANTS!D50=\"\",\"\",PLANTS!D50)","v":""},"",{"$f":"IF(PLANTS!E50=\"\",\"\",PLANTS!E50)","v":"y"},"",{"$f":"IF(PLANTS!F50=\"\",\"\",PLANTS!F50)","v":"y"},"",0,null,0,"",null,0,{"$f":"IF(DE52=\"A\",PLANTS!H50,DE52)","v":"M"},50,null,"","","","",null,null,null,"","",null,null,{"$f":"IF(KeySP!A49=\"\",\"\",KeySP!A49)","v":"CASA10"},0,0,"",{"$error":"#DIV/0!"},null,"",null," ","",null,"","","",0,"","","","",null,"","","ARCTI",{"$f":"IF(DC52=\"a\",PLANTS!I50,DMA!DC52)","v":2},{"$f":"IF(DD52=\"a\",PLANTS!G50,DMA!DD52)","v":0},"","","","","","","",null,null,{"$f":"PLANTS!I50","v":2},{"$f":"PLANTS!G50","v":0},{"$f":"PLANTS!H50","v":"M"},null,null,null,null,"",{"$f":"IF(DMA!DJ52=\"\",\"\",(DMA!N52-SUMIF(Graphs!$O$13:$O$199,DMA!$DJ52,Graphs!$V$13:$V$199))^2)","v":""},{"$f":"IF(DMA!DK52=\"\",\"\",(DMA!O52-SUMIF(Graphs!$O$13:$O$199,DMA!$DJ52,Graphs!$V$13:$V$199))^2)","v":""},{"$f":"IF(DMA!DL52=\"\",\"\",(DMA!P52-SUMIF(Graphs!$O$13:$O$199,DMA!$DJ52,Graphs!$V$13:$V$199))^2)","v":""},"",0,"",0,48,null,null,null,48,5.2,null,48]
[null,null,null,null,null,null,null,null,null,null,null,null,null,null,null,null,null,null,null,{"$f":"IF(A53=\"\",\"\",(Header!C$7*Header!C$6)*A53)","v":""},"","","","","",{"$f":"IF(KeySP!D50=\"\",\"\",KeySP!D50)","v":"SAPL2"},"",0,0,null,null,{"$f":"IF(KeySP!$D50=\"\",\"\",KeySP!$D50)","v":"SAPL2"},{"$f":"SUMIF($M$5:M$502,$AF53,N$5:N$502)","v":0},{"$f":"SUMIF($M$5:M$502,$AF53,O$5:O$502)","v":0},{"$f":"SUMIF($M$5:M$502,$AF53,P$5:P$502)","v":0},null,"","","","",{"$f":"IF(PLANTS!A51=\"\",\"\",PLANTS!A51)","v":"ARDO4"},8.5,"",0,{"$f":"IF(PLANTS!C51=\"\",\"\",PLANTS!C51)","v":""},"",{"$f":"IF(PLANTS!D51=\"\",\"\",PLANTS!D51)","v":"y"},"",{"$f":"IF(PLANTS!E51=\"\",\"\",PLANTS!E51)","v":"y"},"",{"$f":"IF(PLANTS!F51=\"\",\"\",PLANTS!F51)","v":""},"",0,null,75,"",null,0,{"$f":"IF(DE53=\"A\",PLANTS!H51,DE53)","v":"E"},20,null,"","","","",null,null,null,"","",null,null,{"$f":"IF(KeySP!A50=\"\",\"\",KeySP!A50)","v":"CASA8"},0,0,"",{"$error":"#DIV/0!"},null,"",null," ","",null,"","","","",0,"",0,"",null,"","","ARDO4",{"$f":"IF(DC53=\"a\",PLANTS!I51,DMA!DC53)","v":8.5},{"$f":"IF(DD53=\"a\",PLANTS!G51,DMA!DD53)","v":75},"","","","","","","",null,null,{"$f":"PLANTS!I51","v":8.5},{"$f":"PLANTS!G51","v":75},{"$f":"PLANTS!H51","v":"E"},null,null,null,null,"",{"$f":"IF(DMA!DJ53=\"\",\"\",(DMA!N53-SUMIF(Graphs!$O$13:$O$199,DMA!$DJ53,Graphs!$V$13:$V$199))^2)","v":""},{"$f":"IF(DMA!DK53=\"\",\"\",(DMA!O53-SUMIF(Graphs!$O$13:$O$199,DMA!$DJ53,Graphs!$V$13:$V$199))^2)","v":""},{"$f":"IF(DMA!DL53=\"\",\"\",(DMA!P53-SUMIF(Graphs!$O$13:$O$199,DMA!$DJ53,Graphs!$V$13:$V$199))^2)","v":""},"",0,"",0,49,null,null,null,49,5.3,null,49]
[null,null,null,null,null,null,null,null,null,null,null,null,null,null,null,null,null,null,null,{"$f":"IF(A54=\"\",\"\",(Header!C$7*Header!C$6)*A54)","v":""},"","","","","",{"$f":"IF(KeySP!D51=\"\",\"\",KeySP!D51)","v":"SAPR3"},"",0,0,null,null,{"$f":"IF(KeySP!$D51=\"\",\"\",KeySP!$D51)","v":"SAPR3"},{"$f":"SUMIF($M$5:M$502,$AF54,N$5:N$502)","v":0},{"$f":"SUMIF($M$5:M$502,$AF54,O$5:O$502)","v":0},{"$f":"SUMIF($M$5:M$502,$AF54,P$5:P$502)","v":0},null,"","","","",{"$f":"IF(PLANTS!A52=\"\",\"\",PLANTS!A52)","v":"ARLU"},2,"",0,{"$f":"IF(PLANTS!C52=\"\",\"\",PLANTS!C52)","v":""},"",{"$f":"IF(PLANTS!D52=\"\",\"\",PLANTS!D52)","v":""},"",{"$f":"IF(PLANTS!E52=\"\",\"\",PLANTS!E52)","v":"y"},"",{"$f":"IF(PLANTS!F52=\"\",\"\",PLANTS!F52)","v":"y"},"",0,null,25,"",null,0,{"$f":"IF(DE54=\"A\",PLANTS!H52,DE54)","v":"E"},20,null,"","","","",null,null,null,"","",null,null,{"$f":"IF(KeySP!A51=\"\",\"\",KeySP!A51)","v":"CASA9"},0,0,"",{"$error":"#DIV/0!"},null,"",null," ","",null,"","","",0,"","","","",null,"","","ARLU",{"$f":"IF(DC54=\"a\",PLANTS!I52,DMA!DC54)","v":2},{"$f":"IF(DD54=\"a\",PLANTS!G52,DMA!DD54)","v":25},"","","","","","","",null,null,{"$f":"PLANTS!I52","v":2},{"$f":"PLANTS!G52","v":25},{"$f":"PLANTS!H52","v":"E"},null,null,null,null,"",{"$f":"IF(DMA!DJ54=\"\",\"\",(DMA!N54-SUMIF(Graphs!$O$13:$O$199,DMA!$DJ54,Graphs!$V$13:$V$199))^2)","v":""},{"$f":"IF(DMA!DK54=\"\",\"\",(DMA!O54-SUMIF(Graphs!$O$13:$O$199,DMA!$DJ54,Graphs!$V$13:$V$199))^2)","v":""},{"$f":"IF(DMA!DL54=\"\",\"\",(DMA!P54-SUMIF(Graphs!$O$13:$O$199,DMA!$DJ54,Graphs!$V$13:$V$199))^2)","v":""},"",0,"",0,50,null,null,null,50,5.4,null,50]
[null,null,null,null,null,null,null,null,null,null,null,null,null,null,null,null,null,null,null,{"$f":"IF(A55=\"\",\"\",(Header!C$7*Header!C$6)*A55)","v":""},"","","","","",{"$f":"IF(KeySP!D52=\"\",\"\",KeySP!D52)","v":"SAPS"},"",0,0,null,null,{"$f":"IF(KeySP!$D52=\"\",\"\",KeySP!$D52)","v":"SAPS"},{"$f":"SUMIF($M$5:M$502,$AF55,N$5:N$502)","v":0},{"$f":"SUMIF($M$5:M$502,$AF55,O$5:O$502)","v":0},{"$f":"SUMIF($M$5:M$502,$AF55,P$5:P$502)","v":0},null,"","","","",{"$f":"IF(PLANTS!A53=\"\",\"\",PLANTS!A53)","v":"ARMI2"},2,"",0,{"$f":"IF(PLANTS!C53=\"\",\"\",PLANTS!C53)","v":""},"",{"$f":"IF(PLANTS!D53=\"\",\"\",PLANTS!D53)","v":""},"",{"$f":"IF(PLANTS!E53=\"\",\"\",PLANTS!E53)","v":"y"},"",{"$f":"IF(PLANTS!F53=\"\",\"\",PLANTS!F53)","v":"y"},"",0,null,25,"",null,0,{"$f":"IF(DE55=\"A\",PLANTS!H53,DE55)","v":"E"},20,null,"","","","",null,null,null,"","",null,null,{"$f":"IF(KeySP!A52=\"\",\"\",KeySP!A52)","v":"CASC12"},0,0,"",{"$error":"#DIV/0!"},null,"",null," ","",null,"","","",0,"","","","",null,"","","ARMI2",{"$f":"IF(DC55=\"a\",PLANTS!I53,DMA!DC55)","v":2},{"$f":"IF(DD55=\"a\",PLANTS!G53,DMA!DD55)","v":25},"","","","","","","",null,null,{"$f":"PLANTS!I53","v":2},{"$f":"PLANTS!G53","v":25},{"$f":"PLANTS!H53","v":"E"},null,null,null,null,"",{"$f":"IF(DMA!DJ55=\"\",\"\",(DMA!N55-SUMIF(Graphs!$O$13:$O$199,DMA!$DJ55,Graphs!$V$13:$V$199))^2)","v":""},{"$f":"IF(DMA!DK55=\"\",\"\",(DMA!O55-SUMIF(Graphs!$O$13:$O$199,DMA!$DJ55,Graphs!$V$13:$V$199))^2)","v":""},{"$f":"IF(DMA!DL55=\"\",\"\",(DMA!P55-SUMIF(Graphs!$O$13:$O$199,DMA!$DJ55,Graphs!$V$13:$V$199))^2)","v":""},"",0,"",0,51,null,null,null,51,5.5]
[null,null,null,null,null,null,null,null,null,null,null,null,null,null,null,null,null,null,null,{"$f":"IF(A56=\"\",\"\",(Header!C$7*Header!C$6)*A56)","v":""},"","","","","",{"$f":"IF(KeySP!D53=\"\",\"\",KeySP!D53)","v":"SASI2"},"",0,0,null,null,{"$f":"IF(KeySP!$D53=\"\",\"\",KeySP!$D53)","v":"SASI2"},{"$f":"SUMIF($M$5:M$502,$AF56,N$5:N$502)","v":0},{"$f":"SUMIF($M$5:M$502,$AF56,O$5:O$502)","v":0},{"$f":"SUMIF($M$5:M$502,$AF56,P$5:P$502)","v":0},null,"","","","",{"$f":"IF(PLANTS!A54=\"\",\"\",PLANTS!A54)","v":"ARTR2"},2,"",0,{"$f":"IF(PLANTS!C54=\"\",\"\",PLANTS!C54)","v":"y"},"",{"$f":"IF(PLANTS!D54=\"\",\"\",PLANTS!D54)","v":""},"",{"$f":"IF(PLANTS!E54=\"\",\"\",PLANTS!E54)","v":""},"",{"$f":"IF(PLANTS!F54=\"\",\"\",PLANTS!F54)","v":""},"",0,null,0,"",null,0,{"$f":"IF(DE56=\"A\",PLANTS!H54,DE56)","v":"E"},20,null,"","","","",null,null,null,"","",null,null,{"$f":"IF(KeySP!A53=\"\",\"\",KeySP!A53)","v":"CASH"},0,0,"",{"$error":"#DIV/0!"},null,"",null," ","",null,"","","","","",0,"","",null,"","","ARTR2",{"$f":"IF(DC56=\"a\",PLANTS!I54,DMA!DC56)","v":2},{"$f":"IF(DD56=\"a\",PLANTS!G54,DMA!DD56)","v":0},"","","","","","","",null,null,{"$f":"PLANTS!I54","v":2},{"$f":"PLANTS!G54","v":0},{"$f":"PLANTS!H54","v":"E"},null,null,null,null,"",{"$f":"IF(DMA!DJ56=\"\",\"\",(DMA!N56-SUMIF(Graphs!$O$13:$O$199,DMA!$DJ56,Graphs!$V$13:$V$199))^2)","v":""},{"$f":"IF(DMA!DK56=\"\",\"\",(DMA!O56-SUMIF(Graphs!$O$13:$O$199,DMA!$DJ56,Graphs!$V$13:$V$199))^2)","v":""},{"$f":"IF(DMA!DL56=\"\",\"\",(DMA!P56-SUMIF(Graphs!$O$13:$O$199,DMA!$DJ56,Graphs!$V$13:$V$199))^2)","v":""},"",0,"",0,52,null,null,null,52,5.6]
[null,null,null,null,null,null,null,null,null,null,null,null,null,null,null,null,null,null,null,{"$f":"IF(A57=\"\",\"\",(Header!C$7*Header!C$6)*A57)","v":""},"","","","","",{"$f":"IF(KeySP!D54=\"\",\"\",KeySP!D54)","v":"SATA"},"",0,0,null,null,{"$f":"IF(KeySP!$D54=\"\",\"\",KeySP!$D54)","v":"SATA"},{"$f":"SUMIF($M$5:M$502,$AF57,N$5:N$502)","v":0},{"$f":"SUMIF($M$5:M$502,$AF57,O$5:O$502)","v":0},{"$f":"SUMIF($M$5:M$502,$AF57,P$5:P$502)","v":0},null,"","","","",{"$f":"IF(PLANTS!A55=\"\",\"\",PLANTS!A55)","v":"ARUV"},2,"",0,{"$f":"IF(PLANTS!C55=\"\",\"\",PLANTS!C55)","v":"y"},"",{"$f":"IF(PLANTS!D55=\"\",\"\",PLANTS!D55)","v":""},"",{"$f":"IF(PLANTS!E55=\"\",\"\",PLANTS!E55)","v":""},"",{"$f":"IF(PLANTS!F55=\"\",\"\",PLANTS!F55)","v":""},"",0,null,25,"",null,0,{"$f":"IF(DE57=\"A\",PLANTS!H55,DE57)","v":"E"},20,null,"","","","",null,null,null,"","",null,null,{"$f":"IF(KeySP!A54=\"\",\"\",KeySP!A54)","v":"CASI2"},0,0,"",{"$error":"#DIV/0!"},null,"",null," ","",null,"","","","","",0,"","",null,"","","ARUV",{"$f":"IF(DC57=\"a\",PLANTS!I55,DMA!DC57)","v":2},{"$f":"IF(DD57=\"a\",PLANTS!G55,DMA!DD57)","v":25},"","","","","","","",null,null,{"$f":"PLANTS!I55","v":2},{"$f":"PLANTS!G55","v":25},{"$f":"PLANTS!H55","v":"E"},null,null,null,null,"",{"$f":"IF(DMA!DJ57=\"\",\"\",(DMA!N57-SUMIF(Graphs!$O$13:$O$199,DMA!$DJ57,Graphs!$V$13:$V$199))^2)","v":""},{"$f":"IF(DMA!DK57=\"\",\"\",(DMA!O57-SUMIF(Graphs!$O$13:$O$199,DMA!$DJ57,Graphs!$V$13:$V$199))^2)","v":""},{"$f":"IF(DMA!DL57=\"\",\"\",(DMA!P57-SUMIF(Graphs!$O$13:$O$199,DMA!$DJ57,Graphs!$V$13:$V$199))^2)","v":""},"",0,"",0,53,null,null,null,53,5.7]
[null,null,null,null,null,null,null,null,null,null,null,null,null,null,null,null,null,null,null,{"$f":"IF(A58=\"\",\"\",(Header!C$7*Header!C$6)*A58)","v":""},"","","","","",{"$f":"IF(KeySP!D55=\"\",\"\",KeySP!D55)","v":"SATW"},"",0,0,null,null,{"$f":"IF(KeySP!$D55=\"\",\"\",KeySP!$D55)","v":"SATW"},{"$f":"SUMIF($M$5:M$502,$AF58,N$5:N$502)","v":0},{"$f":"SUMIF($M$5:M$502,$AF58,O$5:O$502)","v":0},{"$f":"SUMIF($M$5:M$502,$AF58,P$5:P$502)","v":0},null,"","","","",{"$f":"IF(PLANTS!A56=\"\",\"\",PLANTS!A56)","v":"ASCH2"},2,"",0,{"$f":"IF(PLANTS!C56=\"\",\"\",PLANTS!C56)","v":""},"",{"$f":"IF(PLANTS!D56=\"\",\"\",PLANTS!D56)","v":""},"",{"$f":"IF(PLANTS!E56=\"\",\"\",PLANTS!E56)","v":"y"},"",{"$f":"IF(PLANTS!F56=\"\",\"\",PLANTS!F56)","v":"y"},"",0,null,50,"",null,0,{"$f":"IF(DE58=\"A\",PLANTS!H56,DE58)","v":"M"},50,null,"","","","",null,null,null,"","",null,null,{"$f":"IF(KeySP!A55=\"\",\"\",KeySP!A55)","v":"CASP35"},0,0,"",{"$error":"#DIV/0!"},null,"",null," ","",null,"","","",0,"","","","",null,"","","ASCH2",{"$f":"IF(DC58=\"a\",PLANTS!I56,DMA!DC58)","v":2},{"$f":"IF(DD58=\"a\",PLANTS!G56,DMA!DD58)","v":50},"","","","","","","",null,null,{"$f":"PLANTS!I56","v":2},{"$f":"PLANTS!G56","v":50},{"$f":"PLANTS!H56","v":"M"},null,null,null,null,"",{"$f":"IF(DMA!DJ58=\"\",\"\",(DMA!N58-SUMIF(Graphs!$O$13:$O$199,DMA!$DJ58,Graphs!$V$13:$V$199))^2)","v":""},{"$f":"IF(DMA!DK58=\"\",\"\",(DMA!O58-SUMIF(Graphs!$O$13:$O$199,DMA!$DJ58,Graphs!$V$13:$V$199))^2)","v":""},{"$f":"IF(DMA!DL58=\"\",\"\",(DMA!P58-SUMIF(Graphs!$O$13:$O$199,DMA!$DJ58,Graphs!$V$13:$V$199))^2)","v":""},"",0,"",0,54,null,null,null,54,5.8]
[null,null,null,null,null,null,null,null,null,null,null,null,null,null,null,null,null,null,null,{"$f":"IF(A59=\"\",\"\",(Header!C$7*Header!C$6)*A59)","v":""},"","","","","",{"$f":"IF(KeySP!D56=\"\",\"\",KeySP!D56)","v":"SAWO"},"",0,0,null,null,{"$f":"IF(KeySP!$D56=\"\",\"\",KeySP!$D56)","v":"SAWO"},{"$f":"SUMIF($M$5:M$502,$AF59,N$5:N$502)","v":0},{"$f":"SUMIF($M$5:M$502,$AF59,O$5:O$502)","v":0},{"$f":"SUMIF($M$5:M$502,$AF59,P$5:P$502)","v":0},null,"","","","",{"$f":"IF(PLANTS!A57=\"\",\"\",PLANTS!A57)","v":"ASFO"},2,"",0,{"$f":"IF(PLANTS!C57=\"\",\"\",PLANTS!C57)","v":""},"",{"$f":"IF(PLANTS!D57=\"\",\"\",PLANTS!D57)","v":""},"",{"$f":"IF(PLANTS!E57=\"\",\"\",PLANTS!E57)","v":"y"},"",{"$f":"IF(PLANTS!F57=\"\",\"\",PLANTS!F57)","v":"y"},"",0,null,0,"",null,0,{"$f":"IF(DE59=\"A\",PLANTS!H57,DE59)","v":"E"},20,null,"","","","",null,null,null,"","",null,null,{"$f":"IF(KeySP!A56=\"\",\"\",KeySP!A56)","v":"CAST36"},0,0,"",{"$error":"#DIV/0!"},null,"",null," ","",null,"","","",0,"","","","",null,"","","ASFO",{"$f":"IF(DC59=\"a\",PLANTS!I57,DMA!DC59)","v":2},{"$f":"IF(DD59=\"a\",PLANTS!G57,DMA!DD59)","v":0},"","","","","","","",null,null,{"$f":"PLANTS!I57","v":2},{"$f":"PLANTS!G57","v":0},{"$f":"PLANTS!H57","v":"E"},null,null,null,null,"",{"$f":"IF(DMA!DJ59=\"\",\"\",(DMA!N59-SUMIF(Graphs!$O$13:$O$199,DMA!$DJ59,Graphs!$V$13:$V$199))^2)","v":""},{"$f":"IF(DMA!DK59=\"\",\"\",(DMA!O59-SUMIF(Graphs!$O$13:$O$199,DMA!$DJ59,Graphs!$V$13:$V$199))^2)","v":""},{"$f":"IF(DMA!DL59=\"\",\"\",(DMA!P59-SUMIF(Graphs!$O$13:$O$199,DMA!$DJ59,Graphs!$V$13:$V$199))^2)","v":""},"",0,"",0,55,null,null,null,55,5.9]
[null,null,null,null,null,null,null,null,null,null,null,null,null,null,null,null,null,null,null,{"$f":"IF(A60=\"\",\"\",(Header!C$7*Header!C$6)*A60)","v":""},"","","","","",{"$f":"IF(KeySP!D57=\"\",\"\",KeySP!D57)","v":"SPDO"},"",0,0,null,null,{"$f":"IF(KeySP!$D57=\"\",\"\",KeySP!$D57)","v":"SPDO"},{"$f":"SUMIF($M$5:M$502,$AF60,N$5:N$502)","v":0},{"$f":"SUMIF($M$5:M$502,$AF60,O$5:O$502)","v":0},{"$f":"SUMIF($M$5:M$502,$AF60,P$5:P$502)","v":0},null,"","","","",{"$f":"IF(PLANTS!A58=\"\",\"\",PLANTS!A58)","v":"ASHE"},5,"",0,{"$f":"IF(PLANTS!C58=\"\",\"\",PLANTS!C58)","v":""},"",{"$f":"IF(PLANTS!D58=\"\",\"\",PLANTS!D58)","v":"y"},"",{"$f":"IF(PLANTS!E58=\"\",\"\",PLANTS!E58)","v":"y"},"",{"$f":"IF(PLANTS!F58=\"\",\"\",PLANTS!F58)","v":"y"},"",0,null,100,"",null,0,{"$f":"IF(DE60=\"A\",PLANTS!H58,DE60)","v":"L"},80,null,"","","","",null,null,null,"","",null,null,{"$f":"IF(KeySP!A57=\"\",\"\",KeySP!A57)","v":"CAST5"},0,0,"",{"$error":"#DIV/0!"},null,"",null," ","",null,"","","",0,0,"",0,"",null,"","","ASHE",{"$f":"IF(DC60=\"a\",PLANTS!I58,DMA!DC60)","v":5},{"$f":"IF(DD60=\"a\",PLANTS!G58,DMA!DD60)","v":100},"","","","","","","",null,null,{"$f":"PLANTS!I58","v":5},{"$f":"PLANTS!G58","v":100},{"$f":"PLANTS!H58","v":"L"},null,null,null,null,"",{"$f":"IF(DMA!DJ60=\"\",\"\",(DMA!N60-SUMIF(Graphs!$O$13:$O$199,DMA!$DJ60,Graphs!$V$13:$V$199))^2)","v":""},{"$f":"IF(DMA!DK60=\"\",\"\",(DMA!O60-SUMIF(Graphs!$O$13:$O$199,DMA!$DJ60,Graphs!$V$13:$V$199))^2)","v":""},{"$f":"IF(DMA!DL60=\"\",\"\",(DMA!P60-SUMIF(Graphs!$O$13:$O$199,DMA!$DJ60,Graphs!$V$13:$V$199))^2)","v":""},"",0,"",0,56,null,null,null,56,6]
[null,null,null,null,null,null,null,null,null,null,null,null,null,null,null,null,null,null,null,{"$f":"IF(A61=\"\",\"\",(Header!C$7*Header!C$6)*A61)","v":""},"","","","","",{"$f":"IF(KeySP!D58=\"\",\"\",KeySP!D58)","v":"TAPA4"},"",0,0,null,null,{"$f":"IF(KeySP!$D58=\"\",\"\",KeySP!$D58)","v":"TAPA4"},{"$f":"SUMIF($M$5:M$502,$AF61,N$5:N$502)","v":0},{"$f":"SUMIF($M$5:M$502,$AF61,O$5:O$502)","v":0},{"$f":"SUMIF($M$5:M$502,$AF61,P$5:P$502)","v":0},null,"","","","",{"$f":"IF(PLANTS!A59=\"\",\"\",PLANTS!A59)","v":"ASIN3"},2,"",0,{"$f":"IF(PLANTS!C59=\"\",\"\",PLANTS!C59)","v":""},"",{"$f":"IF(PLANTS!D59=\"\",\"\",PLANTS!D59)","v":""},"",{"$f":"IF(PLANTS!E59=\"\",\"\",PLANTS!E59)","v":"y"},"",{"$f":"IF(PLANTS!F59=\"\",\"\",PLANTS!F59)","v":"y"},"",0,null,25,"",null,0,{"$f":"IF(DE61=\"A\",PLANTS!H59,DE61)","v":"E"},20,null,"","","","",null,null,null,"","",null,null,{"$f":"IF(KeySP!A58=\"\",\"\",KeySP!A58)","v":"CASU6"},0,0,{"$f":"IF(BW61>0,BW61/BV61,\"\")","v":""},{"$error":"#DIV/0!"},null,"",null," ","",null,"","","",0,"","","","",null,"","","ASIN3",{"$f":"IF(DC61=\"a\",PLANTS!I59,DMA!DC61)","v":2},{"$f":"IF(DD61=\"a\",PLANTS!G59,DMA!DD61)","v":25},"","","","","","","",null,null,{"$f":"PLANTS!I59","v":2},{"$f":"PLANTS!G59","v":25},{"$f":"PLANTS!H59","v":"E"},null,null,null,null,"",{"$f":"IF(DMA!DJ61=\"\",\"\",(DMA!N61-SUMIF(Graphs!$O$13:$O$199,DMA!$DJ61,Graphs!$V$13:$V$199))^2)","v":""},{"$f":"IF(DMA!DK61=\"\",\"\",(DMA!O61-SUMIF(Graphs!$O$13:$O$199,DMA!$DJ61,Graphs!$V$13:$V$199))^2)","v":""},{"$f":"IF(DMA!DL61=\"\",\"\",(DMA!P61-SUMIF(Graphs!$O$13:$O$199,DMA!$DJ61,Graphs!$V$13:$V$199))^2)","v":""},"",0,"",0,57,null,null,null,57,6.1]
[null,null,null,null,null,null,null,null,null,null,null,null,null,null,null,null,null,null,null,{"$f":"IF(A62=\"\",\"\",(Header!C$7*Header!C$6)*A62)","v":""},"","","","","",{"$f":"IF(KeySP!D59=\"\",\"\",KeySP!D59)","v":"TARA"},"",0,0,null,null,{"$f":"IF(KeySP!$D59=\"\",\"\",KeySP!$D59)","v":"TARA"},{"$f":"SUMIF($M$5:M$502,$AF62,N$5:N$502)","v":0},{"$f":"SUMIF($M$5:M$502,$AF62,O$5:O$502)","v":0},{"$f":"SUMIF($M$5:M$502,$AF62,P$5:P$502)","v":0},null,"","","","",{"$f":"IF(PLANTS!A60=\"\",\"\",PLANTS!A60)","v":"ASOC"},2,"",0,{"$f":"IF(PLANTS!C60=\"\",\"\",PLANTS!C60)","v":""},"",{"$f":"IF(PLANTS!D60=\"\",\"\",PLANTS!D60)","v":""},"",{"$f":"IF(PLANTS!E60=\"\",\"\",PLANTS!E60)","v":"y"},"",{"$f":"IF(PLANTS!F60=\"\",\"\",PLANTS!F60)","v":"y"},"",0,null,50,"",null,0,{"$f":"IF(DE62=\"A\",PLANTS!H60,DE62)","v":"E"},20,null,"","","","",null,null,null,"","",null,null,{"$f":"IF(KeySP!A59=\"\",\"\",KeySP!A59)","v":"CATE3"},0,0,"",{"$error":"#DIV/0!"},null,"",null," ","",null,"","","",0,"","","","",null,"","","ASOC",{"$f":"IF(DC62=\"a\",PLANTS!I60,DMA!DC62)","v":2},{"$f":"IF(DD62=\"a\",PLANTS!G60,DMA!DD62)","v":50},"","","","","","","",null,null,{"$f":"PLANTS!I60","v":2},{"$f":"PLANTS!G60","v":50},{"$f":"PLANTS!H60","v":"E"},null,null,null,null,"",{"$f":"IF(DMA!DJ62=\"\",\"\",(DMA!N62-SUMIF(Graphs!$O$13:$O$199,DMA!$DJ62,Graphs!$V$13:$V$199))^2)","v":""},{"$f":"IF(DMA!DK62=\"\",\"\",(DMA!O62-SUMIF(Graphs!$O$13:$O$199,DMA!$DJ62,Graphs!$V$13:$V$199))^2)","v":""},{"$f":"IF(DMA!DL62=\"\",\"\",(DMA!P62-SUMIF(Graphs!$O$13:$O$199,DMA!$DJ62,Graphs!$V$13:$V$199))^2)","v":""},"",0,"",0,58,null,null,null,58,6.2]
[null,null,null,null,null,null,null,null,null,null,null,null,null,null,null,null,null,null,null,{"$f":"IF(A63=\"\",\"\",(Header!C$7*Header!C$6)*A63)","v":""},"","","","","",{"$f":"IF(KeySP!D60=\"\",\"\",KeySP!D60)","v":""},{"$error":"#VALUE!"},498,"",null,null,{"$f":"IF(KeySP!$D60=\"\",\"\",KeySP!$D60)","v":""},{"$f":"SUMIF($M$5:M$502,$AF63,N$5:N$502)","v":0},{"$f":"SUMIF($M$5:M$502,$AF63,O$5:O$502)","v":0},{"$f":"SUMIF($M$5:M$502,$AF63,P$5:P$502)","v":0},null,"","","","",{"$f":"IF(PLANTS!A61=\"\",\"\",PLANTS!A61)","v":"ASTER"},2,"",0,{"$f":"IF(PLANTS!C61=\"\",\"\",PLANTS!C61)","v":""},"",{"$f":"IF(PLANTS!D61=\"\",\"\",PLANTS!D61)","v":""},"",{"$f":"IF(PLANTS!E61=\"\",\"\",PLANTS!E61)","v":"y"},"",{"$f":"IF(PLANTS!F61=\"\",\"\",PLANTS!F61)","v":"y"},"",0,null,25,"",null,0,{"$f":"IF(DE63=\"A\",PLANTS!H61,DE63)","v":"E"},20,null,"","","","",null,null,null,"","",null,null,{"$f":"IF(KeySP!A60=\"\",\"\",KeySP!A60)","v":"CATH"},0,0,"",{"$error":"#DIV/0!"},null,"",null," ","",null,"","","",0,"","","","",null,"","","ASTER",{"$f":"IF(DC63=\"a\",PLANTS!I61,DMA!DC63)","v":2},{"$f":"IF(DD63=\"a\",PLANTS!G61,DMA!DD63)","v":25},"","","","","","","",null,null,{"$f":"PLANTS!I61","v":2},{"$f":"PLANTS!G61","v":25},{"$f":"PLANTS!H61","v":"E"},null,null,null,null,"",{"$f":"IF(DMA!DJ63=\"\",\"\",(DMA!N63-SUMIF(Graphs!$O$13:$O$199,DMA!$DJ63,Graphs!$V$13:$V$199))^2)","v":""},{"$f":"IF(DMA!DK63=\"\",\"\",(DMA!O63-SUMIF(Graphs!$O$13:$O$199,DMA!$DJ63,Graphs!$V$13:$V$199))^2)","v":""},{"$f":"IF(DMA!DL63=\"\",\"\",(DMA!P63-SUMIF(Graphs!$O$13:$O$199,DMA!$DJ63,Graphs!$V$13:$V$199))^2)","v":""},"",0,"",0,59,null,null,null,59,6.3]
[null,null,null,null,null,null,null,null,null,null,null,null,null,null,null,null,null,null,null,{"$f":"IF(A64=\"\",\"\",(Header!C$7*Header!C$6)*A64)","v":""},"","","","","",{"$f":"IF(KeySP!D61=\"\",\"\",KeySP!D61)","v":""},{"$error":"#VALUE!"},498,"",null,null,{"$f":"IF(KeySP!$D61=\"\",\"\",KeySP!$D61)","v":""},{"$f":"SUMIF($M$5:M$502,$AF64,N$5:N$502)","v":0},{"$f":"SUMIF($M$5:M$502,$AF64,O$5:O$502)","v":0},{"$f":"SUMIF($M$5:M$502,$AF64,P$5:P$502)","v":0},null,"","","","",{"$f":"IF(PLANTS!A62=\"\",\"\",PLANTS!A62)","v":"ASTRA"},2,"",0,{"$f":"IF(PLANTS!C62=\"\",\"\",PLANTS!C62)","v":""},"",{"$f":"IF(PLANTS!D62=\"\",\"\",PLANTS!D62)","v":""},"",{"$f":"IF(PLANTS!E62=\"\",\"\",PLANTS!E62)","v":"y"},"",{"$f":"IF(PLANTS!F62=\"\",\"\",PLANTS!F62)","v":"y"},"",0,null,25,"",null,0,{"$f":"IF(DE64=\"A\",PLANTS!H62,DE64)","v":"E"},20,null,"","","","",null,null,null,"","",null,null,{"$f":"IF(KeySP!A61=\"\",\"\",KeySP!A61)","v":"CAUL"},0,0,"",{"$error":"#DIV/0!"},null,"",null," ","",null,"","","",0,"","","","",null,"","","ASTRA",{"$f":"IF(DC64=\"a\",PLANTS!I62,DMA!DC64)","v":2},{"$f":"IF(DD64=\"a\",PLANTS!G62,DMA!DD64)","v":25},"","","","","","","",null,null,{"$f":"PLANTS!I62","v":2},{"$f":"PLANTS!G62","v":25},{"$f":"PLANTS!H62","v":"E"},null,null,null,null,"",{"$f":"IF(DMA!DJ64=\"\",\"\",(DMA!N64-SUMIF(Graphs!$O$13:$O$199,DMA!$DJ64,Graphs!$V$13:$V$199))^2)","v":""},{"$f":"IF(DMA!DK64=\"\",\"\",(DMA!O64-SUMIF(Graphs!$O$13:$O$199,DMA!$DJ64,Graphs!$V$13:$V$199))^2)","v":""},{"$f":"IF(DMA!DL64=\"\",\"\",(DMA!P64-SUMIF(Graphs!$O$13:$O$199,DMA!$DJ64,Graphs!$V$13:$V$199))^2)","v":""},"",0,"",0,60,null,null,null,60,6.4]
[null,null,null,null,null,null,null,null,null,null,null,null,null,null,null,null,null,null,null,{"$f":"IF(A65=\"\",\"\",(Header!C$7*Header!C$6)*A65)","v":""},"","","","","",{"$f":"IF(KeySP!D62=\"\",\"\",KeySP!D62)","v":""},{"$error":"#VALUE!"},498,"",null,null,{"$f":"IF(KeySP!$D62=\"\",\"\",KeySP!$D62)","v":""},{"$f":"SUMIF($M$5:M$502,$AF65,N$5:N$502)","v":0},{"$f":"SUMIF($M$5:M$502,$AF65,O$5:O$502)","v":0},{"$f":"SUMIF($M$5:M$502,$AF65,P$5:P$502)","v":0},null,"","","","",{"$f":"IF(PLANTS!A63=\"\",\"\",PLANTS!A63)","v":"ATCA2"},2,"",0,{"$f":"IF(PLANTS!C63=\"\",\"\",PLANTS!C63)","v":"y"},"",{"$f":"IF(PLANTS!D63=\"\",\"\",PLANTS!D63)","v":""},"",{"$f":"IF(PLANTS!E63=\"\",\"\",PLANTS!E63)","v":""},"",{"$f":"IF(PLANTS!F63=\"\",\"\",PLANTS!F63)","v":""},"",0,null,25,"",null,0,{"$f":"IF(DE65=\"A\",PLANTS!H63,DE65)","v":"E"},20,null,"","","","",null,null,null,"","",null,null,{"$f":"IF(KeySP!A62=\"\",\"\",KeySP!A62)","v":"CAUT"},0,0,"",{"$error":"#DIV/0!"},null,"",null," ","",null,"","","","","",0,"","",null,"","","ATCA2",{"$f":"IF(DC65=\"a\",PLANTS!I63,DMA!DC65)","v":2},{"$f":"IF(DD65=\"a\",PLANTS!G63,DMA!DD65)","v":25},"","","","","","","",null,null,{"$f":"PLANTS!I63","v":2},{"$f":"PLANTS!G63","v":25},{"$f":"PLANTS!H63","v":"E"},null,null,null,null,"",{"$f":"IF(DMA!DJ65=\"\",\"\",(DMA!N65-SUMIF(Graphs!$O$13:$O$199,DMA!$DJ65,Graphs!$V$13:$V$199))^2)","v":""},{"$f":"IF(DMA!DK65=\"\",\"\",(DMA!O65-SUMIF(Graphs!$O$13:$O$199,DMA!$DJ65,Graphs!$V$13:$V$199))^2)","v":""},{"$f":"IF(DMA!DL65=\"\",\"\",(DMA!P65-SUMIF(Graphs!$O$13:$O$199,DMA!$DJ65,Graphs!$V$13:$V$199))^2)","v":""},"",0,"",0,61,null,null,null,61,6.5]
[null,null,null,null,null,null,null,null,null,null,null,null,null,null,null,null,null,null,null,{"$f":"IF(A66=\"\",\"\",(Header!C$7*Header!C$6)*A66)","v":""},"","","","","",{"$f":"IF(KeySP!D63=\"\",\"\",KeySP!D63)","v":""},{"$error":"#VALUE!"},498,"",null,null,{"$f":"IF(KeySP!$D63=\"\",\"\",KeySP!$D63)","v":""},{"$f":"SUMIF($M$5:M$502,$AF66,N$5:N$502)","v":0},{"$f":"SUMIF($M$5:M$502,$AF66,O$5:O$502)","v":0},{"$f":"SUMIF($M$5:M$502,$AF66,P$5:P$502)","v":0},null,"","","","",{"$f":"IF(PLANTS!A64=\"\",\"\",PLANTS!A64)","v":"ATLE"},5,"",0,{"$f":"IF(PLANTS!C64=\"\",\"\",PLANTS!C64)","v":"y"},"",{"$f":"IF(PLANTS!D64=\"\",\"\",PLANTS!D64)","v":""},"",{"$f":"IF(PLANTS!E64=\"\",\"\",PLANTS!E64)","v":""},"",{"$f":"IF(PLANTS!F64=\"\",\"\",PLANTS!F64)","v":""},"",0,null,50,"",null,0,{"$f":"IF(DE66=\"A\",PLANTS!H64,DE66)","v":"M"},50,null,"","","","",null,null,null,"","",null,null,{"$f":"IF(KeySP!A63=\"\",\"\",KeySP!A63)","v":"CAVA3"},0,0,"",{"$error":"#DIV/0!"},null,"",null," ","",null,"","","","","",0,"","",null,"","","ATLE",{"$f":"IF(DC66=\"a\",PLANTS!I64,DMA!DC66)","v":5},{"$f":"IF(DD66=\"a\",PLANTS!G64,DMA!DD66)","v":50},"","","","","","","",null,null,{"$f":"PLANTS!I64","v":5},{"$f":"PLANTS!G64","v":50},{"$f":"PLANTS!H64","v":"M"},null,null,null,null,"",{"$f":"IF(DMA!DJ66=\"\",\"\",(DMA!N66-SUMIF(Graphs!$O$13:$O$199,DMA!$DJ66,Graphs!$V$13:$V$199))^2)","v":""},{"$f":"IF(DMA!DK66=\"\",\"\",(DMA!O66-SUMIF(Graphs!$O$13:$O$199,DMA!$DJ66,Graphs!$V$13:$V$199))^2)","v":""},{"$f":"IF(DMA!DL66=\"\",\"\",(DMA!P66-SUMIF(Graphs!$O$13:$O$199,DMA!$DJ66,Graphs!$V$13:$V$199))^2)","v":""},"",0,"",0,62,null,null,null,62,6.6]
[null,null,null,null,null,null,null,null,null,null,null,null,null,null,null,null,null,null,null,{"$f":"IF(A67=\"\",\"\",(Header!C$7*Header!C$6)*A67)","v":""},"","","","","",{"$f":"IF(KeySP!D64=\"\",\"\",KeySP!D64)","v":""},{"$error":"#VALUE!"},498,"",null,null,{"$f":"IF(KeySP!$D64=\"\",\"\",KeySP!$D64)","v":""},{"$f":"SUMIF($M$5:M$502,$AF67,N$5:N$502)","v":0},{"$f":"SUMIF($M$5:M$502,$AF67,O$5:O$502)","v":0},{"$f":"SUMIF($M$5:M$502,$AF67,P$5:P$502)","v":0},null,"","","","",{"$f":"IF(PLANTS!A65=\"\",\"\",PLANTS!A65)","v":"BAEM"},8.5,"",0,{"$f":"IF(PLANTS!C65=\"\",\"\",PLANTS!C65)","v":"y"},"",{"$f":"IF(PLANTS!D65=\"\",\"\",PLANTS!D65)","v":"y"},"",{"$f":"IF(PLANTS!E65=\"\",\"\",PLANTS!E65)","v":""},"",{"$f":"IF(PLANTS!F65=\"\",\"\",PLANTS!F65)","v":""},"",0,null,75,"",null,0,{"$f":"IF(DE67=\"A\",PLANTS!H65,DE67)","v":"L"},80,null,"","","","",null,null,null,"","",null,null,{"$f":"IF(KeySP!A64=\"\",\"\",KeySP!A64)","v":"CAVE6"},{"$f":"IF(BU67=\"\",\"\",COUNTIF(I$5:I$504,BU67))","v":0},0,"",{"$error":"#DIV/0!"},null,"",null," ","",null,"","","","",0,0,"","",null,"","","BAEM",{"$f":"IF(DC67=\"a\",PLANTS!I65,DMA!DC67)","v":8.5},{"$f":"IF(DD67=\"a\",PLANTS!G65,DMA!DD67)","v":75},"","","","","","","",null,null,{"$f":"PLANTS!I65","v":8.5},{"$f":"PLANTS!G65","v":75},{"$f":"PLANTS!H65","v":"L"},null,null,null,null,"",{"$f":"IF(DMA!DJ67=\"\",\"\",(DMA!N67-SUMIF(Graphs!$O$13:$O$199,DMA!$DJ67,Graphs!$V$13:$V$199))^2)","v":""},{"$f":"IF(DMA!DK67=\"\",\"\",(DMA!O67-SUMIF(Graphs!$O$13:$O$199,DMA!$DJ67,Graphs!$V$13:$V$199))^2)","v":""},{"$f":"IF(DMA!DL67=\"\",\"\",(DMA!P67-SUMIF(Graphs!$O$13:$O$199,DMA!$DJ67,Graphs!$V$13:$V$199))^2)","v":""},"",0,"",0,63,null,null,null,63,6.7]
[null,null,null,null,null,null,null,null,null,null,null,null,null,null,null,null,null,null,null,{"$f":"IF(A68=\"\",\"\",(Header!C$7*Header!C$6)*A68)","v":""},"","","","","",{"$f":"IF(KeySP!D65=\"\",\"\",KeySP!D65)","v":""},{"$error":"#VALUE!"},498,"",null,null,{"$f":"IF(KeySP!$D65=\"\",\"\",KeySP!$D65)","v":""},{"$f":"SUMIF($M$5:M$502,$AF68,N$5:N$502)","v":0},{"$f":"SUMIF($M$5:M$502,$AF68,O$5:O$502)","v":0},{"$f":"SUMIF($M$5:M$502,$AF68,P$5:P$502)","v":0},null,"","","","",{"$f":"IF(PLANTS!A66=\"\",\"\",PLANTS!A66)","v":"BASA4"},8.5,"",0,{"$f":"IF(PLANTS!C66=\"\",\"\",PLANTS!C66)","v":"y"},"",{"$f":"IF(PLANTS!D66=\"\",\"\",PLANTS!D66)","v":"y"},"",{"$f":"IF(PLANTS!E66=\"\",\"\",PLANTS!E66)","v":""},"",{"$f":"IF(PLANTS!F66=\"\",\"\",PLANTS!F66)","v":""},"",0,null,75,"",null,0,{"$f":"IF(DE68=\"A\",PLANTS!H66,DE68)","v":"L"},80,null,"","","","",null,null,null,"","",null,null,{"$f":"IF(KeySP!A65=\"\",\"\",KeySP!A65)","v":"CAVU2"},0,0,"",{"$error":"#DIV/0!"},null,"",null," ","",null,"","","","",0,0,"","",null,"","","BASA4",{"$f":"IF(DC68=\"a\",PLANTS!I66,DMA!DC68)","v":8.5},{"$f":"IF(DD68=\"a\",PLANTS!G66,DMA!DD68)","v":75},"","","","","","","",null,null,{"$f":"PLANTS!I66","v":8.5},{"$f":"PLANTS!G66","v":75},{"$f":"PLANTS!H66","v":"L"},null,null,null,null,"",{"$f":"IF(DMA!DJ68=\"\",\"\",(DMA!N68-SUMIF(Graphs!$O$13:$O$199,DMA!$DJ68,Graphs!$V$13:$V$199))^2)","v":""},{"$f":"IF(DMA!DK68=\"\",\"\",(DMA!O68-SUMIF(Graphs!$O$13:$O$199,DMA!$DJ68,Graphs!$V$13:$V$199))^2)","v":""},{"$f":"IF(DMA!DL68=\"\",\"\",(DMA!P68-SUMIF(Graphs!$O$13:$O$199,DMA!$DJ68,Graphs!$V$13:$V$199))^2)","v":""},"",0,"",0,64,null,null,null,64,6.8]
[null,null,null,null,null,null,null,null,null,null,null,null,null,null,null,null,null,null,null,{"$f":"IF(A69=\"\",\"\",(Header!C$7*Header!C$6)*A69)","v":""},{"$f":"IF(K69=\"\",\"\",K69*12/39)","v":""},"","","","",{"$f":"IF(KeySP!D66=\"\",\"\",KeySP!D66)","v":""},{"$error":"#VALUE!"},498,{"$f":"IF(Z69=\"\",\"\",SUMIF($R$5:$R$502,\"*\"&Z69&\"*\",S$5:S$502))","v":""},null,null,{"$f":"IF(KeySP!$D66=\"\",\"\",KeySP!$D66)","v":""},{"$f":"SUMIF($M$5:M$502,$AF69,N$5:N$502)","v":0},{"$f":"SUMIF($M$5:M$502,$AF69,O$5:O$502)","v":0},{"$f":"SUMIF($M$5:M$502,$AF69,P$5:P$502)","v":0},null,"","","","",{"$f":"IF(PLANTS!A67=\"\",\"\",PLANTS!A67)","v":"BASC5"},2,"",{"$f":"SUMIF(B$5:B$504,AO69,D$5:D$504)","v":0},{"$f":"IF(PLANTS!C67=\"\",\"\",PLANTS!C67)","v":""},{"$f":"IF($AQ69=\"\",\"\",IF($AQ69>0,IF(AS69=\"y\",COUNTIF(B$5:B$504,AO69)/AP$605,\"\"),\"\"))","v":""},{"$f":"IF(PLANTS!D67=\"\",\"\",PLANTS!D67)","v":""},{"$f":"IF($AQ69=\"\",\"\",IF($AQ69>0,IF(AU69=\"y\",COUNTIF($B$5:$B$504,$AO69)/$AP$605,\"\"),\"\"))","v":""},{"$f":"IF(PLANTS!E67=\"\",\"\",PLANTS!E67)","v":"y"},"",{"$f":"IF(PLANTS!F67=\"\",\"\",PLANTS!F67)","v":"y"},{"$f":"IF($AQ69=\"\",\"\",IF($AQ69>0,IF(AY69=\"y\",COUNTIF($B$5:$B$504,$AO69)/$AP$605,\"\"),\"\"))","v":""},{"$f":"IF(AQ69<>\"\",AQ69/AQ$604,0)","v":0},null,50,"",null,0,{"$f":"IF(DE69=\"A\",PLANTS!H67,DE69)","v":"E"},20,null,"","","","",null,null,null,"","",null,null,{"$f":"IF(KeySP!A66=\"\",\"\",KeySP!A66)","v":"CYAC2"},0,{"$f":"SUMIF(I$5:I$504,BU69,J$5:J$504)","v":0},"",{"$f":"IF(I69=BZ$3,J69,\"\")","v":{"$error":"#DIV/0!"}},null,"",null," ","",null,"","","",0,"","","","",null,"","","BASC5",{"$f":"IF(DC69=\"a\",PLANTS!I67,DMA!DC69)","v":2},{"$f":"IF(DD69=\"a\",PLANTS!G67,DMA!DD69)","v":50},{"$f":"IF($B69>\"0\",LOOKUP($B69,$CQ$5:$CQ$414,$CS$5:$CS$414),\"\")","v":""},{"$f":"IF($C69>\"0\",LOOKUP($C69,$CQ$5:$CQ$414,$CS$5:$CS$414),\"\")","v":""},"",{"$f":"IF($B69>\"0\",LOOKUP($B69,$CQ$5:$CQ$414,$CR$5:$CR$414),\"\")","v":""},{"$f":"IF($C69>\"0\",LOOKUP($C69,$CQ$5:$CQ$414,$CR$5:$CR$414),\"\")","v":""},"",{"$f":"IF($B69>\"0\",LOOKUP($B69,$CQ$5:$CQ$414,$BH$5:$BH$414),\"\")","v":""},null,null,{"$f":"PLANTS!I67","v":2},{"$f":"PLANTS!G67","v":50},{"$f":"PLANTS!H67","v":"E"},null,null,null,null,"",{"$f":"IF(DMA!DJ69=\"\",\"\",(DMA!N69-SUMIF(Graphs!$O$13:$O$199,DMA!$DJ69,Graphs!$V$13:$V$199))^2)","v":""},{"$f":"IF(DMA!DK69=\"\",\"\",(DMA!O69-SUMIF(Graphs!$O$13:$O$199,DMA!$DJ69,Graphs!$V$13:$V$199))^2)","v":""},{"$f":"IF(DMA!DL69=\"\",\"\",(DMA!P69-SUMIF(Graphs!$O$13:$O$199,DMA!$DJ69,Graphs!$V$13:$V$199))^2)","v":""},{"$f":"IF(AO69=\"\",\"\",IF(COUNTIF($B$5:$B$504,$AO69)=0,\"\",SUMIF($B$5:$B$504,$AO69,$C$5:$C$504)*COUNTIF(B$5:B$504,AO69)))","v":""},{"$f":"IF(DN69<>\"\",DN69/DN$604,0)","v":0},"",0,65,null,null,null,65,6.9]
[null,null,null,null,null,null,null,null,null,null,null,null,null,null,null,null,null,null,null,{"$f":"IF(A70=\"\",\"\",(Header!C$7*Header!C$6)*A70)","v":""},"",{"$f":"IF(F70=\"\",\"\",IF(ISNUMBER(SEARCH(F70,\"d\")),IF(ISNUMBER(SEARCH(G70,\"c\")),\"CS\",IF(ISNUMBER(SEARCH(G70,\"u\")),\"UU\")),\"\"))","v":""},{"$f":"IF(F70=\"\",\"\",IF(ISNUMBER(SEARCH(F70,\"e\")),IF(ISNUMBER(SEARCH(G70,\"c\")),IF(ISNUMBER(SEARCH(H70,\"a\")),\"CS\",\"CU\"),IF(ISNUMBER(SEARCH(H70,\"a\")),\"US\",\"UU\")),\"\"))","v":""},{"$f":"IF(V70=\"\",W70,V70)","v":""},{"$f":"IF($X70=\"cs\",1,IF($X70=\"cu\",2,IF($X70=\"us\",3,IF($X70=\"uu\",4,\"\"))))","v":""},{"$f":"IF(KeySP!D67=\"\",\"\",KeySP!D67)","v":""},{"$f":"IF(AB70>0,AC70/AB70*0.01,\"\")","v":{"$error":"#VALUE!"}},{"$f":"COUNTIF(R$5:R$502,Z70)","v":498},"",null,null,{"$f":"IF(KeySP!$D67=\"\",\"\",KeySP!$D67)","v":""},{"$f":"SUMIF($M$5:M$502,$AF70,N$5:N$502)","v":0},{"$f":"SUMIF($M$5:M$502,$AF70,O$5:O$502)","v":0},{"$f":"SUMIF($M$5:M$502,$AF70,P$5:P$502)","v":0},null,"","","","",{"$f":"IF(PLANTS!A68=\"\",\"\",PLANTS!A68)","v":"BEER"},{"$f":"CR70","v":5},{"$f":"IF(AO70=\"\",\"\",IF(COUNTIF(B$5:B$504,AO70)=0,\"\",SUMIF(B$5:B$504,AO70,C$5:C$504)))","v":""},0,{"$f":"IF(PLANTS!C68=\"\",\"\",PLANTS!C68)","v":""},"",{"$f":"IF(PLANTS!D68=\"\",\"\",PLANTS!D68)","v":"y"},"",{"$f":"IF(PLANTS!E68=\"\",\"\",PLANTS!E68)","v":"y"},"",{"$f":"IF(PLANTS!F68=\"\",\"\",PLANTS!F68)","v":"y"},"",0,null,{"$f":"CS70","v":100},{"$f":"IF(AQ70<>\"\",BA70*$BC70,\"\")","v":""},null,{"$f":"(BA70*AP70)","v":0},{"$f":"IF(DE70=\"A\",PLANTS!H68,DE70)","v":"L"},80,null,{"$f":"IF($X70=\"cs\",1,IF($X70=\"fb\",1,IF($X70=\"cu\",2,IF($X70=\"us\",3,IF($X70=\"uu\",4,\"\")))))","v":""},{"$f":"IF(Y70=\"\",\"\",IF(Y70<3,\"c\",IF(Y70>2,\"u\",\"\")))","v":""},{"$f":"IF(Y70=\"\",\"\",IF(Y70=1,\"s\",IF(Y70=3,\"s\",IF(Y70=2,\"u\",IF(Y70=4,\"u\",\"\")))))","v":""},{"$f":"IF(BJ70=0,\"\",BJ70)","v":""},null,null,null,{"$f":"IF(E70<>\"\",E70+1,\"\")","v":""},{"$f":"IF(E70=\"\",\"\",(E70+1)/5)","v":""},null,null,{"$f":"IF(KeySP!A67=\"\",\"\",KeySP!A67)","v":"DECE"},0,0,"",{"$error":"#DIV/0!"},null,{"$f":"IF(SUM(N70:Q70)=0,\"\",SUM(N70:Q70))","v":""},null," ",{"$f":"IF(D70+J70<1,\"\",1)","v":""},null,{"$f":"IF(D70=6,1,\"\")","v":""},{"$f":"IF(CF70<>\"\",C70,\"\")","v":""},{"$f":"IF(AR70>0,IF($CF70=\"y\",AR70/$AQ$604,\"\"),\"\")","v":""},{"$f":"IF(AY70=\"\",\"\",COUNTIF(B$5:B$503,AO70))","v":0},{"$f":"IF(AU70=\"\",\"\",COUNTIF(B$5:B$503,AO70))","v":0},{"$f":"IF(AS70=\"\",\"\",COUNTIF(B$5:B$503,AO70))","v":""},{"$f":"IF(AU70=\"\",\"\",IF(AW70=\"\",\"\",COUNTIF(B$5:B$503,AO70)))","v":0},{"$f":"IF(Q70=\"\",\"\",COUNTIF($AO$5:$AO$688,Q70))","v":""},null,{"$f":"IF(CQ70=\"\",\"\",IF(COUNTIF($B$5:$B$503,$CQ70)=0,\"\",SUMIF(B$5:B$503,CQ70,C$5:C$503)/COUNTIF($B$5:$B$503,$CQ70)))","v":""},{"$f":"IF(CQ70=\"\",\"\",IF(COUNTIF(B$5:B$503,CQ70)=0,\"\",COUNTIF(B$5:B$503,CQ70)/COUNTA(B$5:B$503)))","v":""},{"$f":"AO70","v":"BEER"},{"$f":"IF(DC70=\"a\",PLANTS!I68,DMA!DC70)","v":5},{"$f":"IF(DD70=\"a\",PLANTS!G68,DMA!DD70)","v":100},"","","","","",{"$f":"IF(CW70=\"\",\"\",IF(CX70=\"\",CW70,(CW70*2+CX70)/3))","v":""},"",null,null,{"$f":"PLANTS!I68","v":5},{"$f":"PLANTS!G68","v":100},{"$f":"PLANTS!H68","v":"L"},null,null,null,null,{"$f":"IF(M70=\"\",\"\",M70)","v":""},{"$f":"IF(DMA!DJ70=\"\",\"\",(DMA!N70-SUMIF(Graphs!$O$13:$O$199,DMA!$DJ70,Graphs!$V$13:$V$199))^2)","v":""},{"$f":"IF(DMA!DK70=\"\",\"\",(DMA!O70-SUMIF(Graphs!$O$13:$O$199,DMA!$DJ70,Graphs!$V$13:$V$199))^2)","v":""},{"$f":"IF(DMA!DL70=\"\",\"\",(DMA!P70-SUMIF(Graphs!$O$13:$O$199,DMA!$DJ70,Graphs!$V$13:$V$199))^2)","v":""},"",0,{"$f":"IF($AQ70<>\"\",$DO70*$BC70,\"\")","v":""},{"$f":"(DO70*$AP70)","v":0},66,null,null,null,66,7]
[null,null,null,null,null,null,null,null,null,null,null,null,null,null,null,null,null,null,null,{"$f":"IF(A71=\"\",\"\",(Header!C$7*Header!C$6)*A71)","v":""},"","","","","",{"$f":"IF(KeySP!D68=\"\",\"\",KeySP!D68)","v":""},{"$f":"IF(AB71>0,AC71/AB71*0.01,\"\")","v":{"$error":"#VALUE!"}},498,"",null,null,{"$f":"IF(KeySP!$D68=\"\",\"\",KeySP!$D68)","v":""},{"$f":"SUMIF($M$5:M$502,$AF71,N$5:N$502)","v":0},{"$f":"SUMIF($M$5:M$502,$AF71,O$5:O$502)","v":0},{"$f":"SUMIF($M$5:M$502,$AF71,P$5:P$502)","v":0},null,"","","","",{"$f":"IF(PLANTS!A69=\"\",\"\",PLANTS!A69)","v":"BEGL"},8.5,"",0,{"$f":"IF(PLANTS!C69=\"\",\"\",PLANTS!C69)","v":"y"},"",{"$f":"IF(PLANTS!D69=\"\",\"\",PLANTS!D69)","v":"y"},"",{"$f":"IF(PLANTS!E69=\"\",\"\",PLANTS!E69)","v":""},{"$f":"IF(AU71=\"y\",IF(AW71=\"y\",AV71,\"\"),\"\")","v":""},{"$f":"IF(PLANTS!F69=\"\",\"\",PLANTS!F69)","v":""},"",0,null,100,"",null,0,{"$f":"IF(DE71=\"A\",PLANTS!H69,DE71)","v":"L"},80,null,"","","","",null,null,null,"","",null,null,{"$f":"IF(KeySP!A68=\"\",\"\",KeySP!A68)","v":"DISP"},0,0,"",{"$error":"#DIV/0!"},null,"",null," ","",null,"","","","",0,0,"","",null,"","","BEGL",{"$f":"IF(DC71=\"a\",PLANTS!I69,DMA!DC71)","v":8.5},{"$f":"IF(DD71=\"a\",PLANTS!G69,DMA!DD71)","v":100},"","",{"$f":"IF(CT71=\"\",\"\",IF(CU71=\"\",CT71,(CT71*2+CU71)/3))","v":""},"","","","",null,null,{"$f":"PLANTS!I69","v":8.5},{"$f":"PLANTS!G69","v":100},{"$f":"PLANTS!H69","v":"L"},null,null,null,null,"",{"$f":"IF(DMA!DJ71=\"\",\"\",(DMA!N71-SUMIF(Graphs!$O$13:$O$199,DMA!$DJ71,Graphs!$V$13:$V$199))^2)","v":""},{"$f":"IF(DMA!DK71=\"\",\"\",(DMA!O71-SUMIF(Graphs!$O$13:$O$199,DMA!$DJ71,Graphs!$V$13:$V$199))^2)","v":""},{"$f":"IF(DMA!DL71=\"\",\"\",(DMA!P71-SUMIF(Graphs!$O$13:$O$199,DMA!$DJ71,Graphs!$V$13:$V$199))^2)","v":""},"",0,"",0,67,null,null,null,67,7.1]
[null,null,null,null,null,null,null,null,null,null,null,null,null,null,null,null,null,null,null,{"$f":"IF(A72=\"\",\"\",(Header!C$7*Header!C$6)*A72)","v":""},"","","","","",{"$f":"IF(KeySP!D69=\"\",\"\",KeySP!D69)","v":""},{"$f":"IF(AB72>0,AC72/AB72*0.01,\"\")","v":{"$error":"#VALUE!"}},498,"",null,null,{"$f":"IF(KeySP!$D69=\"\",\"\",KeySP!$D69)","v":""},{"$f":"SUMIF($M$5:M$502,$AF72,N$5:N$502)","v":0},{"$f":"SUMIF($M$5:M$502,$AF72,O$5:O$502)","v":0},{"$f":"SUMIF($M$5:M$502,$AF72,P$5:P$502)","v":0},null,"","","","",{"$f":"IF(PLANTS!A70=\"\",\"\",PLANTS!A70)","v":"BEOC2"},8.5,"",0,{"$f":"IF(PLANTS!C70=\"\",\"\",PLANTS!C70)","v":"y"},"",{"$f":"IF(PLANTS!D70=\"\",\"\",PLANTS!D70)","v":"y"},"",{"$f":"IF(PLANTS!E70=\"\",\"\",PLANTS!E70)","v":""},"",{"$f":"IF(PLANTS!F70=\"\",\"\",PLANTS!F70)","v":""},"",0,null,75,"",null,0,{"$f":"IF(DE72=\"A\",PLANTS!H70,DE72)","v":"L"},{"$f":"IF(BG72=\"l\",80,IF(BG72=\"m\",50,IF(BG72=\"E\",20)))","v":80},null,"","","","",null,null,null,"","",null,null,{"$f":"IF(KeySP!A69=\"\",\"\",KeySP!A69)","v":"ECMU2"},0,0,"",{"$error":"#DIV/0!"},null,"",null," ","",null,"","","","",0,0,"","",null,"","","BEOC2",{"$f":"IF(DC72=\"a\",PLANTS!I70,DMA!DC72)","v":8.5},{"$f":"IF(DD72=\"a\",PLANTS!G70,DMA!DD72)","v":75},"","","","","","","",null,null,{"$f":"PLANTS!I70","v":8.5},{"$f":"PLANTS!G70","v":75},{"$f":"PLANTS!H70","v":"L"},null,null,null,null,"",{"$f":"IF(DMA!DJ72=\"\",\"\",(DMA!N72-SUMIF(Graphs!$O$13:$O$199,DMA!$DJ72,Graphs!$V$13:$V$199))^2)","v":""},{"$f":"IF(DMA!DK72=\"\",\"\",(DMA!O72-SUMIF(Graphs!$O$13:$O$199,DMA!$DJ72,Graphs!$V$13:$V$199))^2)","v":""},{"$f":"IF(DMA!DL72=\"\",\"\",(DMA!P72-SUMIF(Graphs!$O$13:$O$199,DMA!$DJ72,Graphs!$V$13:$V$199))^2)","v":""},"",0,"",0,68,null,null,null,68,7.2]
[null,null,null,null,null,null,null,null,null,null,null,null,null,null,null,null,null,null,null,{"$f":"IF(A73=\"\",\"\",(Header!C$7*Header!C$6)*A73)","v":""},"","","","","",{"$f":"IF(KeySP!D70=\"\",\"\",KeySP!D70)","v":""},{"$f":"IF(AB73>0,AC73/AB73*0.01,\"\")","v":{"$error":"#VALUE!"}},498,"",null,null,{"$f":"IF(KeySP!$D70=\"\",\"\",KeySP!$D70)","v":""},{"$f":"SUMIF($M$5:M$502,$AF73,N$5:N$502)","v":0},{"$f":"SUMIF($M$5:M$502,$AF73,O$5:O$502)","v":0},{"$f":"SUMIF($M$5:M$502,$AF73,P$5:P$502)","v":0},null,null,null,null,null,{"$f":"IF(PLANTS!A71=\"\",\"\",PLANTS!A71)","v":"BEPA"},5,"",0,{"$f":"IF(PLANTS!C71=\"\",\"\",PLANTS!C71)","v":"y"},"",{"$f":"IF(PLANTS!D71=\"\",\"\",PLANTS!D71)","v":""},"",{"$f":"IF(PLANTS!E71=\"\",\"\",PLANTS!E71)","v":""},"",{"$f":"IF(PLANTS!F71=\"\",\"\",PLANTS!F71)","v":""},"",0,null,50,"",null,0,{"$f":"IF(DE73=\"A\",PLANTS!H71,DE73)","v":"M"},50,null,"","","","",null,null,null,"","",null,null,{"$f":"IF(KeySP!A70=\"\",\"\",KeySP!A70)","v":"ELAC"},0,0,"",{"$error":"#DIV/0!"},null,"",null," ","",null,"","","","","",0,"","",null,"","","BEPA",{"$f":"IF(DC73=\"a\",PLANTS!I71,DMA!DC73)","v":5},{"$f":"IF(DD73=\"a\",PLANTS!G71,DMA!DD73)","v":50},"","","","","","","",null,null,{"$f":"PLANTS!I71","v":5},{"$f":"PLANTS!G71","v":50},{"$f":"PLANTS!H71","v":"M"},null,null,null,null,"",{"$f":"IF(DMA!DJ73=\"\",\"\",(DMA!N73-SUMIF(Graphs!$O$13:$O$199,DMA!$DJ73,Graphs!$V$13:$V$199))^2)","v":""},{"$f":"IF(DMA!DK73=\"\",\"\",(DMA!O73-SUMIF(Graphs!$O$13:$O$199,DMA!$DJ73,Graphs!$V$13:$V$199))^2)","v":""},{"$f":"IF(DMA!DL73=\"\",\"\",(DMA!P73-SUMIF(Graphs!$O$13:$O$199,DMA!$DJ73,Graphs!$V$13:$V$199))^2)","v":""},"",0,"",0,69,null,null,null,69,7.3]
[null,null,null,null,null,null,null,null,null,null,null,null,null,null,null,null,null,null,null,{"$f":"IF(A74=\"\",\"\",(Header!C$7*Header!C$6)*A74)","v":""},"","","","","",{"$f":"IF(KeySP!D71=\"\",\"\",KeySP!D71)","v":""},{"$f":"IF(AB74>0,AC74/AB74*0.01,\"\")","v":{"$error":"#VALUE!"}},498,"",null,null,{"$f":"IF(KeySP!$D71=\"\",\"\",KeySP!$D71)","v":""},{"$f":"SUMIF($M$5:M$502,$AF74,N$5:N$502)","v":0},{"$f":"SUMIF($M$5:M$502,$AF74,O$5:O$502)","v":0},{"$f":"SUMIF($M$5:M$502,$AF74,P$5:P$502)","v":0},null,null,null,null,null,{"$f":"IF(PLANTS!A72=\"\",\"\",PLANTS!A72)","v":"BEPU4"},8.5,"",0,{"$f":"IF(PLANTS!C72=\"\",\"\",PLANTS!C72)","v":"y"},"",{"$f":"IF(PLANTS!D72=\"\",\"\",PLANTS!D72)","v":"y"},"",{"$f":"IF(PLANTS!E72=\"\",\"\",PLANTS!E72)","v":""},"",{"$f":"IF(PLANTS!F72=\"\",\"\",PLANTS!F72)","v":""},"",0,null,100,"",null,0,{"$f":"IF(DE74=\"A\",PLANTS!H72,DE74)","v":"L"},80,null,"","","","",null,null,null,"","",null,null,{"$f":"IF(KeySP!A71=\"\",\"\",KeySP!A71)","v":"ELCA4"},0,0,"",{"$error":"#DIV/0!"},null,"",null," ","",null,"","","","",0,0,"","",null,"","","BEPU4",{"$f":"IF(DC74=\"a\",PLANTS!I72,DMA!DC74)","v":8.5},{"$f":"IF(DD74=\"a\",PLANTS!G72,DMA!DD74)","v":100},"","","","","","","",null,null,{"$f":"PLANTS!I72","v":8.5},{"$f":"PLANTS!G72","v":100},{"$f":"PLANTS!H72","v":"L"},null,null,null,null,"",{"$f":"IF(DMA!DJ74=\"\",\"\",(DMA!N74-SUMIF(Graphs!$O$13:$O$199,DMA!$DJ74,Graphs!$V$13:$V$199))^2)","v":""},{"$f":"IF(DMA!DK74=\"\",\"\",(DMA!O74-SUMIF(Graphs!$O$13:$O$199,DMA!$DJ74,Graphs!$V$13:$V$199))^2)","v":""},{"$f":"IF(DMA!DL74=\"\",\"\",(DMA!P74-SUMIF(Graphs!$O$13:$O$199,DMA!$DJ74,Graphs!$V$13:$V$199))^2)","v":""},"",0,"",0,70,null,null,null,70,7.4]
[null,null,null,null,null,null,null,null,null,null,null,null,null,null,null,null,null,null,null,{"$f":"IF(A75=\"\",\"\",(Header!C$7*Header!C$6)*A75)","v":""},"","","","","",{"$f":"IF(KeySP!D72=\"\",\"\",KeySP!D72)","v":""},{"$error":"#VALUE!"},498,"",null,null,{"$f":"IF(KeySP!$D72=\"\",\"\",KeySP!$D72)","v":""},{"$f":"SUMIF($M$5:M$502,$AF75,N$5:N$502)","v":0},{"$f":"SUMIF($M$5:M$502,$AF75,O$5:O$502)","v":0},{"$f":"SUMIF($M$5:M$502,$AF75,P$5:P$502)","v":0},null,null,null,null,null,{"$f":"IF(PLANTS!A73=\"\",\"\",PLANTS!A73)","v":"BESY"},2,"",0,{"$f":"IF(PLANTS!C73=\"\",\"\",PLANTS!C73)","v":""},"",{"$f":"IF(PLANTS!D73=\"\",\"\",PLANTS!D73)","v":"y"},"",{"$f":"IF(PLANTS!E73=\"\",\"\",PLANTS!E73)","v":"y"},"",{"$f":"IF(PLANTS!F73=\"\",\"\",PLANTS!F73)","v":""},"",0,null,100,"",null,0,{"$f":"IF(DE75=\"A\",PLANTS!H73,DE75)","v":"E"},20,null,"","","","",null,null,null,"","",null,null,{"$f":"IF(KeySP!A72=\"\",\"\",KeySP!A72)","v":"ELCI2"},0,0,"",{"$error":"#DIV/0!"},null,"",null," ","",null,"","","","",0,"",0,"",null,"","","BESY",{"$f":"IF(DC75=\"a\",PLANTS!I73,DMA!DC75)","v":2},{"$f":"IF(DD75=\"a\",PLANTS!G73,DMA!DD75)","v":100},"","","","","","","",null,null,{"$f":"PLANTS!I73","v":2},{"$f":"PLANTS!G73","v":100},{"$f":"PLANTS!H73","v":"E"},null,null,null,null,"",{"$f":"IF(DMA!DJ75=\"\",\"\",(DMA!N75-SUMIF(Graphs!$O$13:$O$199,DMA!$DJ75,Graphs!$V$13:$V$199))^2)","v":""},{"$f":"IF(DMA!DK75=\"\",\"\",(DMA!O75-SUMIF(Graphs!$O$13:$O$199,DMA!$DJ75,Graphs!$V$13:$V$199))^2)","v":""},{"$f":"IF(DMA!DL75=\"\",\"\",(DMA!P75-SUMIF(Graphs!$O$13:$O$199,DMA!$DJ75,Graphs!$V$13:$V$199))^2)","v":""},"",0,"",0,71,null,null,null,71,7.5]
[null,null,null,null,null,null,null,null,null,null,null,null,null,null,null,null,null,null,null,{"$f":"IF(A76=\"\",\"\",(Header!C$7*Header!C$6)*A76)","v":""},"","","","","",{"$f":"IF(KeySP!D73=\"\",\"\",KeySP!D73)","v":""},{"$error":"#VALUE!"},498,"",null,null,{"$f":"IF(KeySP!$D73=\"\",\"\",KeySP!$D73)","v":""},{"$f":"SUMIF($M$5:M$502,$AF76,N$5:N$502)","v":0},{"$f":"SUMIF($M$5:M$502,$AF76,O$5:O$502)","v":0},{"$f":"SUMIF($M$5:M$502,$AF76,P$5:P$502)","v":0},null,null,null,null,null,{"$f":"IF(PLANTS!A74=\"\",\"\",PLANTS!A74)","v":"BOBA3"},5,"",0,{"$f":"IF(PLANTS!C74=\"\",\"\",PLANTS!C74)","v":""},"",{"$f":"IF(PLANTS!D74=\"\",\"\",PLANTS!D74)","v":""},"",{"$f":"IF(PLANTS!E74=\"\",\"\",PLANTS!E74)","v":0},"",{"$f":"IF(PLANTS!F74=\"\",\"\",PLANTS!F74)","v":""},"",0,null,0,"",null,0,{"$f":"IF(DE76=\"A\",PLANTS!H74,DE76)","v":"M"},50,null,"","","","",null,null,null,"","",null,null,{"$f":"IF(KeySP!A73=\"\",\"\",KeySP!A73)","v":"ELEOC"},0,0,"",{"$error":"#DIV/0!"},null,"",null," ","",null,"","","","","","","","",null,"","","BOBA3",{"$f":"IF(DC76=\"a\",PLANTS!I74,DMA!DC76)","v":5},{"$f":"IF(DD76=\"a\",PLANTS!G74,DMA!DD76)","v":0},"","","","","","","",null,null,{"$f":"PLANTS!I74","v":5},{"$f":"PLANTS!G74","v":0},{"$f":"PLANTS!H74","v":"M"},null,null,null,null,"",{"$f":"IF(DMA!DJ76=\"\",\"\",(DMA!N76-SUMIF(Graphs!$O$13:$O$199,DMA!$DJ76,Graphs!$V$13:$V$199))^2)","v":""},{"$f":"IF(DMA!DK76=\"\",\"\",(DMA!O76-SUMIF(Graphs!$O$13:$O$199,DMA!$DJ76,Graphs!$V$13:$V$199))^2)","v":""},{"$f":"IF(DMA!DL76=\"\",\"\",(DMA!P76-SUMIF(Graphs!$O$13:$O$199,DMA!$DJ76,Graphs!$V$13:$V$199))^2)","v":""},"",0,"",0,72,null,null,null,72,7.6]
[null,null,null,null,null,null,null,null,null,null,null,null,null,null,null,null,null,null,null,{"$f":"IF(A77=\"\",\"\",(Header!C$7*Header!C$6)*A77)","v":""},"","","","","",{"$f":"IF(KeySP!D74=\"\",\"\",KeySP!D74)","v":""},{"$error":"#VALUE!"},498,"",null,null,{"$f":"IF(KeySP!$D74=\"\",\"\",KeySP!$D74)","v":""},{"$f":"SUMIF($M$5:M$502,$AF77,N$5:N$502)","v":0},{"$f":"SUMIF($M$5:M$502,$AF77,O$5:O$502)","v":0},{"$f":"SUMIF($M$5:M$502,$AF77,P$5:P$502)","v":0},null,null,null,null,null,{"$f":"IF(PLANTS!A75=\"\",\"\",PLANTS!A75)","v":"BRIN2"},2,"",0,{"$f":"IF(PLANTS!C75=\"\",\"\",PLANTS!C75)","v":""},"",{"$f":"IF(PLANTS!D75=\"\",\"\",PLANTS!D75)","v":""},"",{"$f":"IF(PLANTS!E75=\"\",\"\",PLANTS!E75)","v":"y"},"",{"$f":"IF(PLANTS!F75=\"\",\"\",PLANTS!F75)","v":""},"",0,null,25,"",null,0,{"$f":"IF(DE77=\"A\",PLANTS!H75,DE77)","v":"E"},20,null,"","","","",null,null,null,"","",null,null,{"$f":"IF(KeySP!A74=\"\",\"\",KeySP!A74)","v":"ELPA3"},0,0,"",{"$error":"#DIV/0!"},null,"",null," ","",null,"","","","","","","","",null,"","","BRIN2",{"$f":"IF(DC77=\"a\",PLANTS!I75,DMA!DC77)","v":2},{"$f":"IF(DD77=\"a\",PLANTS!G75,DMA!DD77)","v":25},"","","","","","","",null,null,{"$f":"PLANTS!I75","v":2},{"$f":"PLANTS!G75","v":25},{"$f":"PLANTS!H75","v":"E"},null,null,null,null,"",{"$f":"IF(DMA!DJ77=\"\",\"\",(DMA!N77-SUMIF(Graphs!$O$13:$O$199,DMA!$DJ77,Graphs!$V$13:$V$199))^2)","v":""},{"$f":"IF(DMA!DK77=\"\",\"\",(DMA!O77-SUMIF(Graphs!$O$13:$O$199,DMA!$DJ77,Graphs!$V$13:$V$199))^2)","v":""},{"$f":"IF(DMA!DL77=\"\",\"\",(DMA!P77-SUMIF(Graphs!$O$13:$O$199,DMA!$DJ77,Graphs!$V$13:$V$199))^2)","v":""},"",0,"",0,73,null,null,null,null,7.7]
[null,null,null,null,null,null,null,null,null,null,null,null,null,null,null,null,null,null,null,{"$f":"IF(A78=\"\",\"\",(Header!C$7*Header!C$6)*A78)","v":""},"","","","","",{"$f":"IF(KeySP!D75=\"\",\"\",KeySP!D75)","v":""},{"$error":"#VALUE!"},498,"",null,null,{"$f":"IF(KeySP!$D75=\"\",\"\",KeySP!$D75)","v":""},{"$f":"SUMIF($M$5:M$502,$AF78,N$5:N$502)","v":0},{"$f":"SUMIF($M$5:M$502,$AF78,O$5:O$502)","v":0},{"$f":"SUMIF($M$5:M$502,$AF78,P$5:P$502)","v":0},null,null,null,null,null,{"$f":"IF(PLANTS!A76=\"\",\"\",PLANTS!A76)","v":"BRMA4"},2,"",0,{"$f":"IF(PLANTS!C76=\"\",\"\",PLANTS!C76)","v":""},"",{"$f":"IF(PLANTS!D76=\"\",\"\",PLANTS!D76)","v":""},"",{"$f":"IF(PLANTS!E76=\"\",\"\",PLANTS!E76)","v":"y"},"",{"$f":"IF(PLANTS!F76=\"\",\"\",PLANTS!F76)","v":""},"",0,null,25,"",null,0,{"$f":"IF(DE78=\"A\",PLANTS!H76,DE78)","v":"E"},20,null,"","","","",null,null,null,"","",null,null,{"$f":"IF(KeySP!A75=\"\",\"\",KeySP!A75)","v":"ELPA5"},0,0,"",{"$error":"#DIV/0!"},null,"",null," ","",null,"","","","","","","","",null,"","","BRMA4",{"$f":"IF(DC78=\"a\",PLANTS!I76,DMA!DC78)","v":2},{"$f":"IF(DD78=\"a\",PLANTS!G76,DMA!DD78)","v":25},"","","","","","","",null,null,{"$f":"PLANTS!I76","v":2},{"$f":"PLANTS!G76","v":25},{"$f":"PLANTS!H76","v":"E"},null,null,null,null,"",{"$f":"IF(DMA!DJ78=\"\",\"\",(DMA!N78-SUMIF(Graphs!$O$13:$O$199,DMA!$DJ78,Graphs!$V$13:$V$199))^2)","v":""},{"$f":"IF(DMA!DK78=\"\",\"\",(DMA!O78-SUMIF(Graphs!$O$13:$O$199,DMA!$DJ78,Graphs!$V$13:$V$199))^2)","v":""},{"$f":"IF(DMA!DL78=\"\",\"\",(DMA!P78-SUMIF(Graphs!$O$13:$O$199,DMA!$DJ78,Graphs!$V$13:$V$199))^2)","v":""},"",0,"",0,74,null,null,null,null,7.8]
[null,null,null,null,null,null,null,null,null,null,null,null,null,null,null,null,null,null,null,{"$f":"IF(A79=\"\",\"\",(Header!C$7*Header!C$6)*A79)","v":""},"","","","","",{"$f":"IF(KeySP!D76=\"\",\"\",KeySP!D76)","v":""},{"$error":"#VALUE!"},498,"",null,null,{"$f":"IF(KeySP!$D76=\"\",\"\",KeySP!$D76)","v":""},{"$f":"SUMIF($M$5:M$502,$AF79,N$5:N$502)","v":0},{"$f":"SUMIF($M$5:M$502,$AF79,O$5:O$502)","v":0},{"$f":"SUMIF($M$5:M$502,$AF79,P$5:P$502)","v":0},null,null,null,null,null,{"$f":"IF(PLANTS!A77=\"\",\"\",PLANTS!A77)","v":"CAAM10"},8.5,"",0,{"$f":"IF(PLANTS!C77=\"\",\"\",PLANTS!C77)","v":""},"",{"$f":"IF(PLANTS!D77=\"\",\"\",PLANTS!D77)","v":"y"},"",{"$f":"IF(PLANTS!E77=\"\",\"\",PLANTS!E77)","v":"y"},"",{"$f":"IF(PLANTS!F77=\"\",\"\",PLANTS!F77)","v":""},"",0,null,100,"",null,0,{"$f":"IF(DE79=\"A\",PLANTS!H77,DE79)","v":"L"},80,null,"","","","",null,null,null,"","",null,null,{"$f":"IF(KeySP!A76=\"\",\"\",KeySP!A76)","v":"ELPA6"},0,0,"",{"$error":"#DIV/0!"},null,"",null," ","",null,"","","","",0,"",0,"",null,"","","CAAM10",{"$f":"IF(DC79=\"a\",PLANTS!I77,DMA!DC79)","v":8.5},{"$f":"IF(DD79=\"a\",PLANTS!G77,DMA!DD79)","v":100},"","","","","","","",null,null,{"$f":"PLANTS!I77","v":8.5},{"$f":"PLANTS!G77","v":100},{"$f":"PLANTS!H77","v":"L"},null,null,null,null,"",{"$f":"IF(DMA!DJ79=\"\",\"\",(DMA!N79-SUMIF(Graphs!$O$13:$O$199,DMA!$DJ79,Graphs!$V$13:$V$199))^2)","v":""},{"$f":"IF(DMA!DK79=\"\",\"\",(DMA!O79-SUMIF(Graphs!$O$13:$O$199,DMA!$DJ79,Graphs!$V$13:$V$199))^2)","v":""},{"$f":"IF(DMA!DL79=\"\",\"\",(DMA!P79-SUMIF(Graphs!$O$13:$O$199,DMA!$DJ79,Graphs!$V$13:$V$199))^2)","v":""},"",0,"",0,75,null,null,null,null,7.9]
[null,null,null,null,null,null,null,null,null,null,null,null,null,null,null,null,null,null,null,{"$f":"IF(A80=\"\",\"\",(Header!C$7*Header!C$6)*A80)","v":""},"","","","","",{"$f":"IF(KeySP!D77=\"\",\"\",KeySP!D77)","v":""},{"$error":"#VALUE!"},498,"",null,null,{"$f":"IF(KeySP!$D77=\"\",\"\",KeySP!$D77)","v":""},{"$f":"SUMIF($M$5:M$502,$AF80,N$5:N$502)","v":0},{"$f":"SUMIF($M$5:M$502,$AF80,O$5:O$502)","v":0},{"$f":"SUMIF($M$5:M$502,$AF80,P$5:P$502)","v":0},null,null,null,null,null,{"$f":"IF(PLANTS!A78=\"\",\"\",PLANTS!A78)","v":"CAAQ"},8.5,"",0,{"$f":"IF(PLANTS!C78=\"\",\"\",PLANTS!C78)","v":""},"",{"$f":"IF(PLANTS!D78=\"\",\"\",PLANTS!D78)","v":"y"},"",{"$f":"IF(PLANTS!E78=\"\",\"\",PLANTS!E78)","v":"y"},"",{"$f":"IF(PLANTS!F78=\"\",\"\",PLANTS!F78)","v":""},"",0,null,100,"",null,0,{"$f":"IF(DE80=\"A\",PLANTS!H78,DE80)","v":"L"},80,null,"","","","",null,null,null,"","",null,null,{"$f":"IF(KeySP!A77=\"\",\"\",KeySP!A77)","v":"ELQU2"},0,0,"",{"$error":"#DIV/0!"},null,"",null," ","",null,"","","","",0,"",0,"",null,"","","CAAQ",{"$f":"IF(DC80=\"a\",PLANTS!I78,DMA!DC80)","v":8.5},{"$f":"IF(DD80=\"a\",PLANTS!G78,DMA!DD80)","v":100},"","","","","","","",null,null,{"$f":"PLANTS!I78","v":8.5},{"$f":"PLANTS!G78","v":100},{"$f":"PLANTS!H78","v":"L"},null,null,null,null,"",{"$f":"IF(DMA!DJ80=\"\",\"\",(DMA!N80-SUMIF(Graphs!$O$13:$O$199,DMA!$DJ80,Graphs!$V$13:$V$199))^2)","v":""},{"$f":"IF(DMA!DK80=\"\",\"\",(DMA!O80-SUMIF(Graphs!$O$13:$O$199,DMA!$DJ80,Graphs!$V$13:$V$199))^2)","v":""},{"$f":"IF(DMA!DL80=\"\",\"\",(DMA!P80-SUMIF(Graphs!$O$13:$O$199,DMA!$DJ80,Graphs!$V$13:$V$199))^2)","v":""},"",0,"",0,76,null,null,null,null,8]
[null,null,null,null,null,null,null,null,null,null,null,null,null,null,null,null,null,null,null,{"$f":"IF(A81=\"\",\"\",(Header!C$7*Header!C$6)*A81)","v":""},"","","","","",{"$f":"IF(KeySP!D78=\"\",\"\",KeySP!D78)","v":""},{"$error":"#VALUE!"},498,"",null,null,{"$f":"IF(KeySP!$D78=\"\",\"\",KeySP!$D78)","v":""},{"$f":"SUMIF($M$5:M$502,$AF81,N$5:N$502)","v":0},{"$f":"SUMIF($M$5:M$502,$AF81,O$5:O$502)","v":0},{"$f":"SUMIF($M$5:M$502,$AF81,P$5:P$502)","v":0},null,null,null,null,null,{"$f":"IF(PLANTS!A79=\"\",\"\",PLANTS!A79)","v":"CAAQ3"},2,"",0,{"$f":"IF(PLANTS!C79=\"\",\"\",PLANTS!C79)","v":""},"",{"$f":"IF(PLANTS!D79=\"\",\"\",PLANTS!D79)","v":"y"},"",{"$f":"IF(PLANTS!E79=\"\",\"\",PLANTS!E79)","v":"y"},"",{"$f":"IF(PLANTS!F79=\"\",\"\",PLANTS!F79)","v":""},"",0,null,100,"",null,0,{"$f":"IF(DE81=\"A\",PLANTS!H79,DE81)","v":"E"},20,null,"","","","",null,null,null,"","",null,null,{"$f":"IF(KeySP!A78=\"\",\"\",KeySP!A78)","v":"ELRE4"},0,0,"",{"$error":"#DIV/0!"},null,"",null," ","",null,"","","","",0,"",0,"",null,"","","CAAQ3",{"$f":"IF(DC81=\"a\",PLANTS!I79,DMA!DC81)","v":2},{"$f":"IF(DD81=\"a\",PLANTS!G79,DMA!DD81)","v":100},"","","","","","","",null,null,{"$f":"PLANTS!I79","v":2},{"$f":"PLANTS!G79","v":100},{"$f":"PLANTS!H79","v":"E"},null,null,null,null,"",{"$f":"IF(DMA!DJ81=\"\",\"\",(DMA!N81-SUMIF(Graphs!$O$13:$O$199,DMA!$DJ81,Graphs!$V$13:$V$199))^2)","v":""},{"$f":"IF(DMA!DK81=\"\",\"\",(DMA!O81-SUMIF(Graphs!$O$13:$O$199,DMA!$DJ81,Graphs!$V$13:$V$199))^2)","v":""},{"$f":"IF(DMA!DL81=\"\",\"\",(DMA!P81-SUMIF(Graphs!$O$13:$O$199,DMA!$DJ81,Graphs!$V$13:$V$199))^2)","v":""},"",0,"",0,77,null,null,null,null,8.1]
[null,null,null,null,null,null,null,null,null,null,null,null,null,null,null,null,null,null,null,{"$f":"IF(A82=\"\",\"\",(Header!C$7*Header!C$6)*A82)","v":""},"","","","","",{"$f":"IF(KeySP!D79=\"\",\"\",KeySP!D79)","v":""},{"$error":"#VALUE!"},498,"",null,null,{"$f":"IF(KeySP!$D79=\"\",\"\",KeySP!$D79)","v":""},{"$f":"SUMIF($M$5:M$502,$AF82,N$5:N$502)","v":0},{"$f":"SUMIF($M$5:M$502,$AF82,O$5:O$502)","v":0},{"$f":"SUMIF($M$5:M$502,$AF82,P$5:P$502)","v":0},null,null,null,null,null,{"$f":"IF(PLANTS!A80=\"\",\"\",PLANTS!A80)","v":"CAAT2"},8.5,"",0,{"$f":"IF(PLANTS!C80=\"\",\"\",PLANTS!C80)","v":""},"",{"$f":"IF(PLANTS!D80=\"\",\"\",PLANTS!D80)","v":"y"},"",{"$f":"IF(PLANTS!E80=\"\",\"\",PLANTS!E80)","v":"y"},"",{"$f":"IF(PLANTS!F80=\"\",\"\",PLANTS!F80)","v":""},"",0,null,100,"",null,0,{"$f":"IF(DE82=\"A\",PLANTS!H80,DE82)","v":"L"},80,null,"","","","",null,null,null,"","",null,null,{"$f":"IF(KeySP!A79=\"\",\"\",KeySP!A79)","v":"ELRO2"},0,0,"",{"$error":"#DIV/0!"},null,"",null," ","",null,"","","","",0,"",0,"",null,"","","CAAT2",{"$f":"IF(DC82=\"a\",PLANTS!I80,DMA!DC82)","v":8.5},{"$f":"IF(DD82=\"a\",PLANTS!G80,DMA!DD82)","v":100},"","","","","","","",null,null,{"$f":"PLANTS!I80","v":8.5},{"$f":"PLANTS!G80","v":100},{"$f":"PLANTS!H80","v":"L"},null,null,null,null,"",{"$f":"IF(DMA!DJ82=\"\",\"\",(DMA!N82-SUMIF(Graphs!$O$13:$O$199,DMA!$DJ82,Graphs!$V$13:$V$199))^2)","v":""},{"$f":"IF(DMA!DK82=\"\",\"\",(DMA!O82-SUMIF(Graphs!$O$13:$O$199,DMA!$DJ82,Graphs!$V$13:$V$199))^2)","v":""},{"$f":"IF(DMA!DL82=\"\",\"\",(DMA!P82-SUMIF(Graphs!$O$13:$O$199,DMA!$DJ82,Graphs!$V$13:$V$199))^2)","v":""},"",0,"",0,78,null,null,null,null,8.1999999999999993]
[null,null,null,null,null,null,null,null,null,null,null,null,null,null,null,null,null,null,null,{"$f":"IF(A83=\"\",\"\",(Header!C$7*Header!C$6)*A83)","v":""},"","","","","",{"$f":"IF(KeySP!D80=\"\",\"\",KeySP!D80)","v":""},{"$error":"#VALUE!"},498,"",null,null,{"$f":"IF(KeySP!$D80=\"\",\"\",KeySP!$D80)","v":""},{"$f":"SUMIF($M$5:M$502,$AF83,N$5:N$502)","v":0},{"$f":"SUMIF($M$5:M$502,$AF83,O$5:O$502)","v":0},{"$f":"SUMIF($M$5:M$502,$AF83,P$5:P$502)","v":0},null,null,null,null,null,{"$f":"IF(PLANTS!A81=\"\",\"\",PLANTS!A81)","v":"CAAT3"},2,"",0,{"$f":"IF(PLANTS!C81=\"\",\"\",PLANTS!C81)","v":""},"",{"$f":"IF(PLANTS!D81=\"\",\"\",PLANTS!D81)","v":"y"},"",{"$f":"IF(PLANTS!E81=\"\",\"\",PLANTS!E81)","v":"y"},"",{"$f":"IF(PLANTS!F81=\"\",\"\",PLANTS!F81)","v":""},"",0,null,75,"",null,0,{"$f":"IF(DE83=\"A\",PLANTS!H81,DE83)","v":"L"},80,null,"","","","",null,null,null,"","",null,null,{"$f":"IF(KeySP!A80=\"\",\"\",KeySP!A80)","v":"ELTR3"},0,0,"",{"$error":"#DIV/0!"},null,"",null," ","",null,"","","","",0,"",0,"",null,"","","CAAT3",{"$f":"IF(DC83=\"a\",PLANTS!I81,DMA!DC83)","v":2},{"$f":"IF(DD83=\"a\",PLANTS!G81,DMA!DD83)","v":75},"","","","","","","",null,null,{"$f":"PLANTS!I81","v":2},{"$f":"PLANTS!G81","v":75},{"$f":"PLANTS!H81","v":"L"},null,null,null,null,"",{"$f":"IF(DMA!DJ83=\"\",\"\",(DMA!N83-SUMIF(Graphs!$O$13:$O$199,DMA!$DJ83,Graphs!$V$13:$V$199))^2)","v":""},{"$f":"IF(DMA!DK83=\"\",\"\",(DMA!O83-SUMIF(Graphs!$O$13:$O$199,DMA!$DJ83,Graphs!$V$13:$V$199))^2)","v":""},{"$f":"IF(DMA!DL83=\"\",\"\",(DMA!P83-SUMIF(Graphs!$O$13:$O$199,DMA!$DJ83,Graphs!$V$13:$V$199))^2)","v":""},"",0,"",0,79,null,null,null,null,8.3000000000000007]
[null,null,null,null,null,null,null,null,null,null,null,null,null,null,null,null,null,null,null,{"$f":"IF(A84=\"\",\"\",(Header!C$7*Header!C$6)*A84)","v":""},"","","","","",{"$f":"IF(KeySP!D81=\"\",\"\",KeySP!D81)","v":""},{"$error":"#VALUE!"},498,"",null,null,{"$f":"IF(KeySP!$D81=\"\",\"\",KeySP!$D81)","v":""},{"$f":"SUMIF($M$5:M$502,$AF84,N$5:N$502)","v":0},{"$f":"SUMIF($M$5:M$502,$AF84,O$5:O$502)","v":0},{"$f":"SUMIF($M$5:M$502,$AF84,P$5:P$502)","v":0},null,null,null,null,null,{"$f":"IF(PLANTS!A82=\"\",\"\",PLANTS!A82)","v":"CAAU3"},5,"",0,{"$f":"IF(PLANTS!C82=\"\",\"\",PLANTS!C82)","v":""},"",{"$f":"IF(PLANTS!D82=\"\",\"\",PLANTS!D82)","v":"y"},"",{"$f":"IF(PLANTS!E82=\"\",\"\",PLANTS!E82)","v":"y"},"",{"$f":"IF(PLANTS!F82=\"\",\"\",PLANTS!F82)","v":""},"",0,null,100,"",null,0,{"$f":"IF(DE84=\"A\",PLANTS!H82,DE84)","v":"M"},50,null,"","","","",null,null,null,"","",null,null,{"$f":"IF(KeySP!A81=\"\",\"\",KeySP!A81)","v":"FERU2"},0,0,"",{"$error":"#DIV/0!"},null,"",null," ","",null,"","","","",0,"",0,"",null,"","","CAAU3",{"$f":"IF(DC84=\"a\",PLANTS!I82,DMA!DC84)","v":5},{"$f":"IF(DD84=\"a\",PLANTS!G82,DMA!DD84)","v":100},"","","","","","","",null,null,{"$f":"PLANTS!I82","v":5},{"$f":"PLANTS!G82","v":100},{"$f":"PLANTS!H82","v":"M"},null,null,null,null,"",{"$f":"IF(DMA!DJ84=\"\",\"\",(DMA!N84-SUMIF(Graphs!$O$13:$O$199,DMA!$DJ84,Graphs!$V$13:$V$199))^2)","v":""},{"$f":"IF(DMA!DK84=\"\",\"\",(DMA!O84-SUMIF(Graphs!$O$13:$O$199,DMA!$DJ84,Graphs!$V$13:$V$199))^2)","v":""},{"$f":"IF(DMA!DL84=\"\",\"\",(DMA!P84-SUMIF(Graphs!$O$13:$O$199,DMA!$DJ84,Graphs!$V$13:$V$199))^2)","v":""},"",0,"",0,80,null,null,null,null,8.4]
[null,null,null,null,null,null,null,null,null,null,null,null,null,null,null,null,null,null,null,{"$f":"IF(A85=\"\",\"\",(Header!C$7*Header!C$6)*A85)","v":""},"","","","","",{"$f":"IF(KeySP!D82=\"\",\"\",KeySP!D82)","v":""},{"$error":"#VALUE!"},498,"",null,null,{"$f":"IF(KeySP!$D82=\"\",\"\",KeySP!$D82)","v":""},{"$f":"SUMIF($M$5:M$502,$AF85,N$5:N$502)","v":0},{"$f":"SUMIF($M$5:M$502,$AF85,O$5:O$502)","v":0},{"$f":"SUMIF($M$5:M$502,$AF85,P$5:P$502)","v":0},null,null,null,null,null,{"$f":"IF(PLANTS!A83=\"\",\"\",PLANTS!A83)","v":"CABE3"},2,"",0,{"$f":"IF(PLANTS!C83=\"\",\"\",PLANTS!C83)","v":""},"",{"$f":"IF(PLANTS!D83=\"\",\"\",PLANTS!D83)","v":""},"",{"$f":"IF(PLANTS!E83=\"\",\"\",PLANTS!E83)","v":"y"},"",{"$f":"IF(PLANTS!F83=\"\",\"\",PLANTS!F83)","v":""},"",0,null,25,"",null,0,{"$f":"IF(DE85=\"A\",PLANTS!H83,DE85)","v":"L"},80,null,"","","","",null,null,null,"","",null,null,{"$f":"IF(KeySP!A82=\"\",\"\",KeySP!A82)","v":"GLBO"},0,0,"",{"$error":"#DIV/0!"},null,"",null," ","",null,"","","","","","","","",null,"","","CABE3",{"$f":"IF(DC85=\"a\",PLANTS!I83,DMA!DC85)","v":2},{"$f":"IF(DD85=\"a\",PLANTS!G83,DMA!DD85)","v":25},"","","","","","","",null,null,{"$f":"PLANTS!I83","v":2},{"$f":"PLANTS!G83","v":25},{"$f":"PLANTS!H83","v":"L"},null,null,null,null,"",{"$f":"IF(DMA!DJ85=\"\",\"\",(DMA!N85-SUMIF(Graphs!$O$13:$O$199,DMA!$DJ85,Graphs!$V$13:$V$199))^2)","v":""},{"$f":"IF(DMA!DK85=\"\",\"\",(DMA!O85-SUMIF(Graphs!$O$13:$O$199,DMA!$DJ85,Graphs!$V$13:$V$199))^2)","v":""},{"$f":"IF(DMA!DL85=\"\",\"\",(DMA!P85-SUMIF(Graphs!$O$13:$O$199,DMA!$DJ85,Graphs!$V$13:$V$199))^2)","v":""},"",0,"",0,81,null,null,null,null,8.5]
[null,null,null,null,null,null,null,null,null,null,null,null,null,null,null,null,null,null,null,{"$f":"IF(A86=\"\",\"\",(Header!C$7*Header!C$6)*A86)","v":""},"","","","","",{"$f":"IF(KeySP!D83=\"\",\"\",KeySP!D83)","v":""},{"$error":"#VALUE!"},498,"",null,null,{"$f":"IF(KeySP!$D83=\"\",\"\",KeySP!$D83)","v":""},{"$f":"SUMIF($M$5:M$502,$AF86,N$5:N$502)","v":0},{"$f":"SUMIF($M$5:M$502,$AF86,O$5:O$502)","v":0},{"$f":"SUMIF($M$5:M$502,$AF86,P$5:P$502)","v":0},null,null,null,null,null,{"$f":"IF(PLANTS!A84=\"\",\"\",PLANTS!A84)","v":"CABO2"},2,"",0,{"$f":"IF(PLANTS!C84=\"\",\"\",PLANTS!C84)","v":""},"",{"$f":"IF(PLANTS!D84=\"\",\"\",PLANTS!D84)","v":""},"",{"$f":"IF(PLANTS!E84=\"\",\"\",PLANTS!E84)","v":"y"},"",{"$f":"IF(PLANTS!F84=\"\",\"\",PLANTS!F84)","v":""},"",0,null,50,"",null,0,{"$f":"IF(DE86=\"A\",PLANTS!H84,DE86)","v":"M"},50,null,"","","","",null,null,null,"","",null,null,{"$f":"IF(KeySP!A83=\"\",\"\",KeySP!A83)","v":"GLGR"},0,0,"",{"$error":"#DIV/0!"},null,"",null," ","",null,"","","","","","","","",null,"","","CABO2",{"$f":"IF(DC86=\"a\",PLANTS!I84,DMA!DC86)","v":2},{"$f":"IF(DD86=\"a\",PLANTS!G84,DMA!DD86)","v":50},"","","","","","","",null,null,{"$f":"PLANTS!I84","v":2},{"$f":"PLANTS!G84","v":50},{"$f":"PLANTS!H84","v":"M"},null,null,null,null,"",{"$f":"IF(DMA!DJ86=\"\",\"\",(DMA!N86-SUMIF(Graphs!$O$13:$O$199,DMA!$DJ86,Graphs!$V$13:$V$199))^2)","v":""},{"$f":"IF(DMA!DK86=\"\",\"\",(DMA!O86-SUMIF(Graphs!$O$13:$O$199,DMA!$DJ86,Graphs!$V$13:$V$199))^2)","v":""},{"$f":"IF(DMA!DL86=\"\",\"\",(DMA!P86-SUMIF(Graphs!$O$13:$O$199,DMA!$DJ86,Graphs!$V$13:$V$199))^2)","v":""},"",0,"",0,82,null,null,null,null,8.6]
[null,null,null,null,null,null,null,null,null,null,null,null,null,null,null,null,null,null,null,{"$f":"IF(A87=\"\",\"\",(Header!C$7*Header!C$6)*A87)","v":""},"","","","","",{"$f":"IF(KeySP!D84=\"\",\"\",KeySP!D84)","v":""},{"$error":"#VALUE!"},498,"",null,null,{"$f":"IF(KeySP!$D84=\"\",\"\",KeySP!$D84)","v":""},{"$f":"SUMIF($M$5:M$502,$AF87,N$5:N$502)","v":0},{"$f":"SUMIF($M$5:M$502,$AF87,O$5:O$502)","v":0},{"$f":"SUMIF($M$5:M$502,$AF87,P$5:P$502)","v":0},null,null,null,null,null,{"$f":"IF(PLANTS!A85=\"\",\"\",PLANTS!A85)","v":"CABR10"},2,"",0,{"$f":"IF(PLANTS!C85=\"\",\"\",PLANTS!C85)","v":""},"",{"$f":"IF(PLANTS!D85=\"\",\"\",PLANTS!D85)","v":""},"",{"$f":"IF(PLANTS!E85=\"\",\"\",PLANTS!E85)","v":"y"},"",{"$f":"IF(PLANTS!F85=\"\",\"\",PLANTS!F85)","v":""},"",0,null,50,"",null,0,{"$f":"IF(DE87=\"A\",PLANTS!H85,DE87)","v":"E"},20,null,"","","","",null,null,null,"","",null,null,{"$f":"IF(KeySP!A84=\"\",\"\",KeySP!A84)","v":"GLST"},0,0,"",{"$error":"#DIV/0!"},null,"",null," ","",null,"","","","","","","","",null,"","","CABR10",{"$f":"IF(DC87=\"a\",PLANTS!I85,DMA!DC87)","v":2},{"$f":"IF(DD87=\"a\",PLANTS!G85,DMA!DD87)","v":50},"","","","","","","",null,null,{"$f":"PLANTS!I85","v":2},{"$f":"PLANTS!G85","v":50},{"$f":"PLANTS!H85","v":"E"},null,null,null,null,"",{"$f":"IF(DMA!DJ87=\"\",\"\",(DMA!N87-SUMIF(Graphs!$O$13:$O$199,DMA!$DJ87,Graphs!$V$13:$V$199))^2)","v":""},{"$f":"IF(DMA!DK87=\"\",\"\",(DMA!O87-SUMIF(Graphs!$O$13:$O$199,DMA!$DJ87,Graphs!$V$13:$V$199))^2)","v":""},{"$f":"IF(DMA!DL87=\"\",\"\",(DMA!P87-SUMIF(Graphs!$O$13:$O$199,DMA!$DJ87,Graphs!$V$13:$V$199))^2)","v":""},"",0,"",0,83,null,null,null,null,8.6999999999999993]
[null,null,null,null,null,null,null,null,null,null,null,null,null,null,null,null,null,null,null,{"$f":"IF(A88=\"\",\"\",(Header!C$7*Header!C$6)*A88)","v":""},"","","","","",{"$f":"IF(KeySP!D85=\"\",\"\",KeySP!D85)","v":""},{"$error":"#VALUE!"},498,"",null,null,{"$f":"IF(KeySP!$D85=\"\",\"\",KeySP!$D85)","v":""},{"$f":"SUMIF($M$5:M$502,$AF88,N$5:N$502)","v":0},{"$f":"SUMIF($M$5:M$502,$AF88,O$5:O$502)","v":0},{"$f":"SUMIF($M$5:M$502,$AF88,P$5:P$502)","v":0},null,null,null,null,null,{"$f":"IF(PLANTS!A86=\"\",\"\",PLANTS!A86)","v":"CACA11"},2,"",0,{"$f":"IF(PLANTS!C86=\"\",\"\",PLANTS!C86)","v":""},"",{"$f":"IF(PLANTS!D86=\"\",\"\",PLANTS!D86)","v":"y"},"",{"$f":"IF(PLANTS!E86=\"\",\"\",PLANTS!E86)","v":"y"},"",{"$f":"IF(PLANTS!F86=\"\",\"\",PLANTS!F86)","v":""},"",0,null,100,"",null,0,{"$f":"IF(DE88=\"A\",PLANTS!H86,DE88)","v":"M"},50,null,"","","","",null,null,null,"","",null,null,{"$f":"IF(KeySP!A85=\"\",\"\",KeySP!A85)","v":"GLYCE"},0,0,"",{"$error":"#DIV/0!"},null,"",null," ","",null,"","","","",0,"",0,"",null,"","","CACA11",{"$f":"IF(DC88=\"a\",PLANTS!I86,DMA!DC88)","v":2},{"$f":"IF(DD88=\"a\",PLANTS!G86,DMA!DD88)","v":100},"","","","","","","",null,null,{"$f":"PLANTS!I86","v":2},{"$f":"PLANTS!G86","v":100},{"$f":"PLANTS!H86","v":"M"},null,null,null,null,"",{"$f":"IF(DMA!DJ88=\"\",\"\",(DMA!N88-SUMIF(Graphs!$O$13:$O$199,DMA!$DJ88,Graphs!$V$13:$V$199))^2)","v":""},{"$f":"IF(DMA!DK88=\"\",\"\",(DMA!O88-SUMIF(Graphs!$O$13:$O$199,DMA!$DJ88,Graphs!$V$13:$V$199))^2)","v":""},{"$f":"IF(DMA!DL88=\"\",\"\",(DMA!P88-SUMIF(Graphs!$O$13:$O$199,DMA!$DJ88,Graphs!$V$13:$V$199))^2)","v":""},"",0,"",0,84,null,null,null,null,8.8000000000000007]
[null,null,null,null,null,null,null,null,null,null,null,null,null,null,null,null,null,null,null,{"$f":"IF(A89=\"\",\"\",(Header!C$7*Header!C$6)*A89)","v":""},"","","","","",{"$f":"IF(KeySP!D86=\"\",\"\",KeySP!D86)","v":""},{"$error":"#VALUE!"},498,"",null,null,{"$f":"IF(KeySP!$D86=\"\",\"\",KeySP!$D86)","v":""},{"$f":"SUMIF($M$5:M$502,$AF89,N$5:N$502)","v":0},{"$f":"SUMIF($M$5:M$502,$AF89,O$5:O$502)","v":0},{"$f":"SUMIF($M$5:M$502,$AF89,P$5:P$502)","v":0},null,null,null,null,null,{"$f":"IF(PLANTS!A87=\"\",\"\",PLANTS!A87)","v":"CACA12"},2,"",0,{"$f":"IF(PLANTS!C87=\"\",\"\",PLANTS!C87)","v":""},"",{"$f":"IF(PLANTS!D87=\"\",\"\",PLANTS!D87)","v":"y"},"",{"$f":"IF(PLANTS!E87=\"\",\"\",PLANTS!E87)","v":"y"},"",{"$f":"IF(PLANTS!F87=\"\",\"\",PLANTS!F87)","v":""},"",0,null,75,"",null,0,{"$f":"IF(DE89=\"A\",PLANTS!H87,DE89)","v":"M"},50,null,"","","","",null,null,null,"","",null,null,{"$f":"IF(KeySP!A86=\"\",\"\",KeySP!A86)","v":"HOBR2"},0,0,"",{"$error":"#DIV/0!"},null,"",null," ","",null,"","","","",0,"",0,"",null,"","","CACA12",{"$f":"IF(DC89=\"a\",PLANTS!I87,DMA!DC89)","v":2},{"$f":"IF(DD89=\"a\",PLANTS!G87,DMA!DD89)","v":75},"","","","","","","",null,null,{"$f":"PLANTS!I87","v":2},{"$f":"PLANTS!G87","v":75},{"$f":"PLANTS!H87","v":"M"},null,null,null,null,"",{"$f":"IF(DMA!DJ89=\"\",\"\",(DMA!N89-SUMIF(Graphs!$O$13:$O$199,DMA!$DJ89,Graphs!$V$13:$V$199))^2)","v":""},{"$f":"IF(DMA!DK89=\"\",\"\",(DMA!O89-SUMIF(Graphs!$O$13:$O$199,DMA!$DJ89,Graphs!$V$13:$V$199))^2)","v":""},{"$f":"IF(DMA!DL89=\"\",\"\",(DMA!P89-SUMIF(Graphs!$O$13:$O$199,DMA!$DJ89,Graphs!$V$13:$V$199))^2)","v":""},"",0,"",0,85,null,null,null,null,8.9]
[null,null,null,null,null,null,null,null,null,null,null,null,null,null,null,null,null,null,null,{"$f":"IF(A90=\"\",\"\",(Header!C$7*Header!C$6)*A90)","v":""},"","","","","",{"$f":"IF(KeySP!D87=\"\",\"\",KeySP!D87)","v":""},{"$error":"#VALUE!"},498,"",null,null,{"$f":"IF(KeySP!$D87=\"\",\"\",KeySP!$D87)","v":""},{"$f":"SUMIF($M$5:M$502,$AF90,N$5:N$502)","v":0},{"$f":"SUMIF($M$5:M$502,$AF90,O$5:O$502)","v":0},{"$f":"SUMIF($M$5:M$502,$AF90,P$5:P$502)","v":0},null,null,null,null,null,{"$f":"IF(PLANTS!A88=\"\",\"\",PLANTS!A88)","v":"CACA4"},8.5,"",0,{"$f":"IF(PLANTS!C88=\"\",\"\",PLANTS!C88)","v":""},"",{"$f":"IF(PLANTS!D88=\"\",\"\",PLANTS!D88)","v":"y"},"",{"$f":"IF(PLANTS!E88=\"\",\"\",PLANTS!E88)","v":"y"},"",{"$f":"IF(PLANTS!F88=\"\",\"\",PLANTS!F88)","v":""},"",0,null,75,"",null,0,{"$f":"IF(DE90=\"A\",PLANTS!H88,DE90)","v":"L"},80,null,"","","","",null,null,null,"","",null,null,{"$f":"IF(KeySP!A87=\"\",\"\",KeySP!A87)","v":"HOJU"},0,0,"",{"$error":"#DIV/0!"},null,"",null," ","",null,"","","","",0,"",0,"",null,"","","CACA4",{"$f":"IF(DC90=\"a\",PLANTS!I88,DMA!DC90)","v":8.5},{"$f":"IF(DD90=\"a\",PLANTS!G88,DMA!DD90)","v":75},"","","","","","","",null,null,{"$f":"PLANTS!I88","v":8.5},{"$f":"PLANTS!G88","v":75},{"$f":"PLANTS!H88","v":"L"},null,null,null,null,"",{"$f":"IF(DMA!DJ90=\"\",\"\",(DMA!N90-SUMIF(Graphs!$O$13:$O$199,DMA!$DJ90,Graphs!$V$13:$V$199))^2)","v":""},{"$f":"IF(DMA!DK90=\"\",\"\",(DMA!O90-SUMIF(Graphs!$O$13:$O$199,DMA!$DJ90,Graphs!$V$13:$V$199))^2)","v":""},{"$f":"IF(DMA!DL90=\"\",\"\",(DMA!P90-SUMIF(Graphs!$O$13:$O$199,DMA!$DJ90,Graphs!$V$13:$V$199))^2)","v":""},"",0,"",0,86,null,null,null,null,9]
[null,null,null,null,null,null,null,null,null,null,null,null,null,null,null,null,null,null,null,{"$f":"IF(A91=\"\",\"\",(Header!C$7*Header!C$6)*A91)","v":""},"","","","","",{"$f":"IF(KeySP!D88=\"\",\"\",KeySP!D88)","v":""},{"$error":"#VALUE!"},498,"",null,null,{"$f":"IF(KeySP!$D88=\"\",\"\",KeySP!$D88)","v":""},{"$f":"SUMIF($M$5:M$502,$AF91,N$5:N$502)","v":0},{"$f":"SUMIF($M$5:M$502,$AF91,O$5:O$502)","v":0},{"$f":"SUMIF($M$5:M$502,$AF91,P$5:P$502)","v":0},null,null,null,null,null,{"$f":"IF(PLANTS!A89=\"\",\"\",PLANTS!A89)","v":"CACU2"},2,"",0,{"$f":"IF(PLANTS!C89=\"\",\"\",PLANTS!C89)","v":""},"",{"$f":"IF(PLANTS!D89=\"\",\"\",PLANTS!D89)","v":"y"},"",{"$f":"IF(PLANTS!E89=\"\",\"\",PLANTS!E89)","v":"y"},"",{"$f":"IF(PLANTS!F89=\"\",\"\",PLANTS!F89)","v":"y"},"",0,null,75,"",null,0,{"$f":"IF(DE91=\"A\",PLANTS!H89,DE91)","v":"M"},50,null,"","","","",null,null,null,"","",null,null,{"$f":"IF(KeySP!A88=\"\",\"\",KeySP!A88)","v":"JUAC"},0,0,"",{"$error":"#DIV/0!"},null,"",null," ","",null,"","","",0,0,"",0,"",null,"","","CACU2",{"$f":"IF(DC91=\"a\",PLANTS!I89,DMA!DC91)","v":2},{"$f":"IF(DD91=\"a\",PLANTS!G89,DMA!DD91)","v":75},"","","","","","","",null,null,{"$f":"PLANTS!I89","v":2},{"$f":"PLANTS!G89","v":75},{"$f":"PLANTS!H89","v":"M"},null,null,null,null,"",{"$f":"IF(DMA!DJ91=\"\",\"\",(DMA!N91-SUMIF(Graphs!$O$13:$O$199,DMA!$DJ91,Graphs!$V$13:$V$199))^2)","v":""},{"$f":"IF(DMA!DK91=\"\",\"\",(DMA!O91-SUMIF(Graphs!$O$13:$O$199,DMA!$DJ91,Graphs!$V$13:$V$199))^2)","v":""},{"$f":"IF(DMA!DL91=\"\",\"\",(DMA!P91-SUMIF(Graphs!$O$13:$O$199,DMA!$DJ91,Graphs!$V$13:$V$199))^2)","v":""},"",0,"",0,87,null,null,null,null,9.1]
[null,null,null,null,null,null,null,null,null,null,null,null,null,null,null,null,null,null,null,{"$f":"IF(A92=\"\",\"\",(Header!C$7*Header!C$6)*A92)","v":""},"","","","","",{"$f":"IF(KeySP!D89=\"\",\"\",KeySP!D89)","v":""},{"$error":"#VALUE!"},498,"",null,null,{"$f":"IF(KeySP!$D89=\"\",\"\",KeySP!$D89)","v":""},{"$f":"SUMIF($M$5:M$502,$AF92,N$5:N$502)","v":0},{"$f":"SUMIF($M$5:M$502,$AF92,O$5:O$502)","v":0},{"$f":"SUMIF($M$5:M$502,$AF92,P$5:P$502)","v":0},null,null,null,null,null,{"$f":"IF(PLANTS!A90=\"\",\"\",PLANTS!A90)","v":"CACU4"},2,"",0,{"$f":"IF(PLANTS!C90=\"\",\"\",PLANTS!C90)","v":""},"",{"$f":"IF(PLANTS!D90=\"\",\"\",PLANTS!D90)","v":"y"},"",{"$f":"IF(PLANTS!E90=\"\",\"\",PLANTS!E90)","v":"y"},"",{"$f":"IF(PLANTS!F90=\"\",\"\",PLANTS!F90)","v":""},"",0,null,75,"",null,0,{"$f":"IF(DE92=\"A\",PLANTS!H90,DE92)","v":"L"},80,null,"","","","",null,null,null,"","",null,null,{"$f":"IF(KeySP!A89=\"\",\"\",KeySP!A89)","v":"JUAC2"},0,0,"",{"$error":"#DIV/0!"},null,"",null," ","",null,"","","","",0,"",0,"",null,"","","CACU4",{"$f":"IF(DC92=\"a\",PLANTS!I90,DMA!DC92)","v":2},{"$f":"IF(DD92=\"a\",PLANTS!G90,DMA!DD92)","v":75},"","","","","","","",null,null,{"$f":"PLANTS!I90","v":2},{"$f":"PLANTS!G90","v":75},{"$f":"PLANTS!H90","v":"L"},null,null,null,null,"",{"$f":"IF(DMA!DJ92=\"\",\"\",(DMA!N92-SUMIF(Graphs!$O$13:$O$199,DMA!$DJ92,Graphs!$V$13:$V$199))^2)","v":""},{"$f":"IF(DMA!DK92=\"\",\"\",(DMA!O92-SUMIF(Graphs!$O$13:$O$199,DMA!$DJ92,Graphs!$V$13:$V$199))^2)","v":""},{"$f":"IF(DMA!DL92=\"\",\"\",(DMA!P92-SUMIF(Graphs!$O$13:$O$199,DMA!$DJ92,Graphs!$V$13:$V$199))^2)","v":""},"",0,"",0,88,null,null,null,null,9.1999999999999993]
[null,null,null,null,null,null,null,null,null,null,null,null,null,null,null,null,null,null,null,{"$f":"IF(A93=\"\",\"\",(Header!C$7*Header!C$6)*A93)","v":""},"","","","","",{"$f":"IF(KeySP!D90=\"\",\"\",KeySP!D90)","v":""},{"$error":"#VALUE!"},498,"",null,null,{"$f":"IF(KeySP!$D90=\"\",\"\",KeySP!$D90)","v":""},{"$f":"SUMIF($M$5:M$502,$AF93,N$5:N$502)","v":0},{"$f":"SUMIF($M$5:M$502,$AF93,O$5:O$502)","v":0},{"$f":"SUMIF($M$5:M$502,$AF93,P$5:P$502)","v":0},null,null,null,null,null,{"$f":"IF(PLANTS!A91=\"\",\"\",PLANTS!A91)","v":"CADE9"},2,"",0,{"$f":"IF(PLANTS!C91=\"\",\"\",PLANTS!C91)","v":""},"",{"$f":"IF(PLANTS!D91=\"\",\"\",PLANTS!D91)","v":"y"},"",{"$f":"IF(PLANTS!E91=\"\",\"\",PLANTS!E91)","v":"y"},"",{"$f":"IF(PLANTS!F91=\"\",\"\",PLANTS!F91)","v":""},"",0,null,25,"",null,0,{"$f":"IF(DE93=\"A\",PLANTS!H91,DE93)","v":"M"},50,null,"","","","",null,null,null,"","",null,null,{"$f":"IF(KeySP!A90=\"\",\"\",KeySP!A90)","v":"JUAR2"},0,0,"",{"$error":"#DIV/0!"},null,"",null," ","",null,"","","","",0,"",0,"",null,"","","CADE9",{"$f":"IF(DC93=\"a\",PLANTS!I91,DMA!DC93)","v":2},{"$f":"IF(DD93=\"a\",PLANTS!G91,DMA!DD93)","v":25},"","","","","","","",null,null,{"$f":"PLANTS!I91","v":2},{"$f":"PLANTS!G91","v":25},{"$f":"PLANTS!H91","v":"M"},null,null,null,null,"",{"$f":"IF(DMA!DJ93=\"\",\"\",(DMA!N93-SUMIF(Graphs!$O$13:$O$199,DMA!$DJ93,Graphs!$V$13:$V$199))^2)","v":""},{"$f":"IF(DMA!DK93=\"\",\"\",(DMA!O93-SUMIF(Graphs!$O$13:$O$199,DMA!$DJ93,Graphs!$V$13:$V$199))^2)","v":""},{"$f":"IF(DMA!DL93=\"\",\"\",(DMA!P93-SUMIF(Graphs!$O$13:$O$199,DMA!$DJ93,Graphs!$V$13:$V$199))^2)","v":""},"",0,"",0,89,null,null,null,null,9.3000000000000007]
[null,null,null,null,null,null,null,null,null,null,null,null,null,null,null,null,null,null,null,{"$f":"IF(A94=\"\",\"\",(Header!C$7*Header!C$6)*A94)","v":""},"","","","","",{"$f":"IF(KeySP!D91=\"\",\"\",KeySP!D91)","v":""},{"$error":"#VALUE!"},498,"",null,null,{"$f":"IF(KeySP!$D91=\"\",\"\",KeySP!$D91)","v":""},{"$f":"SUMIF($M$5:M$502,$AF94,N$5:N$502)","v":0},{"$f":"SUMIF($M$5:M$502,$AF94,O$5:O$502)","v":0},{"$f":"SUMIF($M$5:M$502,$AF94,P$5:P$502)","v":0},null,null,null,null,null,{"$f":"IF(PLANTS!A92=\"\",\"\",PLANTS!A92)","v":"CADI6"},5,"",0,{"$f":"IF(PLANTS!C92=\"\",\"\",PLANTS!C92)","v":""},"",{"$f":"IF(PLANTS!D92=\"\",\"\",PLANTS!D92)","v":"y"},"",{"$f":"IF(PLANTS!E92=\"\",\"\",PLANTS!E92)","v":"y"},"",{"$f":"IF(PLANTS!F92=\"\",\"\",PLANTS!F92)","v":""},"",0,null,100,"",null,0,{"$f":"IF(DE94=\"A\",PLANTS!H92,DE94)","v":"L"},80,null,"","","","",null,null,null,"","",null,null,{"$f":"IF(KeySP!A91=\"\",\"\",KeySP!A91)","v":"JUAR4"},0,0,"",{"$error":"#DIV/0!"},null,"",null," ","",null,"","","","",0,"",0,"",null,"","","CADI6",{"$f":"IF(DC94=\"a\",PLANTS!I92,DMA!DC94)","v":5},{"$f":"IF(DD94=\"a\",PLANTS!G92,DMA!DD94)","v":100},"","","","","","","",null,null,{"$f":"PLANTS!I92","v":5},{"$f":"PLANTS!G92","v":100},{"$f":"PLANTS!H92","v":"L"},null,null,null,null,"",{"$f":"IF(DMA!DJ94=\"\",\"\",(DMA!N94-SUMIF(Graphs!$O$13:$O$199,DMA!$DJ94,Graphs!$V$13:$V$199))^2)","v":""},{"$f":"IF(DMA!DK94=\"\",\"\",(DMA!O94-SUMIF(Graphs!$O$13:$O$199,DMA!$DJ94,Graphs!$V$13:$V$199))^2)","v":""},{"$f":"IF(DMA!DL94=\"\",\"\",(DMA!P94-SUMIF(Graphs!$O$13:$O$199,DMA!$DJ94,Graphs!$V$13:$V$199))^2)","v":""},"",0,"",0,90,null,null,null,null,9.4]
[null,null,null,null,null,null,null,null,null,null,null,null,null,null,null,null,null,null,null,{"$f":"IF(A95=\"\",\"\",(Header!C$7*Header!C$6)*A95)","v":""},"","","","","",{"$f":"IF(KeySP!D92=\"\",\"\",KeySP!D92)","v":""},{"$error":"#VALUE!"},498,"",null,null,{"$f":"IF(KeySP!$D92=\"\",\"\",KeySP!$D92)","v":""},{"$f":"SUMIF($M$5:M$502,$AF95,N$5:N$502)","v":0},{"$f":"SUMIF($M$5:M$502,$AF95,O$5:O$502)","v":0},{"$f":"SUMIF($M$5:M$502,$AF95,P$5:P$502)","v":0},null,null,null,null,null,{"$f":"IF(PLANTS!A93=\"\",\"\",PLANTS!A93)","v":"CADO2"},2,"",0,{"$f":"IF(PLANTS!C93=\"\",\"\",PLANTS!C93)","v":""},"",{"$f":"IF(PLANTS!D93=\"\",\"\",PLANTS!D93)","v":""},"",{"$f":"IF(PLANTS!E93=\"\",\"\",PLANTS!E93)","v":"y"},"",{"$f":"IF(PLANTS!F93=\"\",\"\",PLANTS!F93)","v":""},"",0,null,50,"",null,0,{"$f":"IF(DE95=\"A\",PLANTS!H93,DE95)","v":"M"},50,null,"","","","",null,null,null,"","",null,null,{"$f":"IF(KeySP!A92=\"\",\"\",KeySP!A92)","v":"JUBA"},0,0,"",{"$error":"#DIV/0!"},null,"",null," ","",null,"","","","","","","","",null,"","","CADO2",{"$f":"IF(DC95=\"a\",PLANTS!I93,DMA!DC95)","v":2},{"$f":"IF(DD95=\"a\",PLANTS!G93,DMA!DD95)","v":50},"","","","","","","",null,null,{"$f":"PLANTS!I93","v":2},{"$f":"PLANTS!G93","v":50},{"$f":"PLANTS!H93","v":"M"},null,null,null,null,"",{"$f":"IF(DMA!DJ95=\"\",\"\",(DMA!N95-SUMIF(Graphs!$O$13:$O$199,DMA!$DJ95,Graphs!$V$13:$V$199))^2)","v":""},{"$f":"IF(DMA!DK95=\"\",\"\",(DMA!O95-SUMIF(Graphs!$O$13:$O$199,DMA!$DJ95,Graphs!$V$13:$V$199))^2)","v":""},{"$f":"IF(DMA!DL95=\"\",\"\",(DMA!P95-SUMIF(Graphs!$O$13:$O$199,DMA!$DJ95,Graphs!$V$13:$V$199))^2)","v":""},"",0,"",0,91,null,null,null,null,9.5]
[null,null,null,null,null,null,null,null,null,null,null,null,null,null,null,null,null,null,null,{"$f":"IF(A96=\"\",\"\",(Header!C$7*Header!C$6)*A96)","v":""},"","","","","",{"$f":"IF(KeySP!D93=\"\",\"\",KeySP!D93)","v":""},{"$error":"#VALUE!"},498,"",null,null,{"$f":"IF(KeySP!$D93=\"\",\"\",KeySP!$D93)","v":""},{"$f":"SUMIF($M$5:M$502,$AF96,N$5:N$502)","v":0},{"$f":"SUMIF($M$5:M$502,$AF96,O$5:O$502)","v":0},{"$f":"SUMIF($M$5:M$502,$AF96,P$5:P$502)","v":0},null,null,null,null,null,{"$f":"IF(PLANTS!A94=\"\",\"\",PLANTS!A94)","v":"CADU6"},5,"",0,{"$f":"IF(PLANTS!C94=\"\",\"\",PLANTS!C94)","v":""},"",{"$f":"IF(PLANTS!D94=\"\",\"\",PLANTS!D94)","v":""},"",{"$f":"IF(PLANTS!E94=\"\",\"\",PLANTS!E94)","v":"y"},"",{"$f":"IF(PLANTS!F94=\"\",\"\",PLANTS!F94)","v":""},"",0,null,25,"",null,0,{"$f":"IF(DE96=\"A\",PLANTS!H94,DE96)","v":"E"},20,null,"","","","",null,null,null,"","",null,null,{"$f":"IF(KeySP!A93=\"\",\"\",KeySP!A93)","v":"JUBU"},0,0,"",{"$error":"#DIV/0!"},null,"",null," ","",null,"","","","","","","","",null,"","","CADU6",{"$f":"IF(DC96=\"a\",PLANTS!I94,DMA!DC96)","v":5},{"$f":"IF(DD96=\"a\",PLANTS!G94,DMA!DD96)","v":25},"","","","","","","",null,null,{"$f":"PLANTS!I94","v":5},{"$f":"PLANTS!G94","v":25},{"$f":"PLANTS!H94","v":"E"},null,null,null,null,"",{"$f":"IF(DMA!DJ96=\"\",\"\",(DMA!N96-SUMIF(Graphs!$O$13:$O$199,DMA!$DJ96,Graphs!$V$13:$V$199))^2)","v":""},{"$f":"IF(DMA!DK96=\"\",\"\",(DMA!O96-SUMIF(Graphs!$O$13:$O$199,DMA!$DJ96,Graphs!$V$13:$V$199))^2)","v":""},{"$f":"IF(DMA!DL96=\"\",\"\",(DMA!P96-SUMIF(Graphs!$O$13:$O$199,DMA!$DJ96,Graphs!$V$13:$V$199))^2)","v":""},"",0,"",0,92,null,null,null,null,9.6]
[null,null,null,null,null,null,null,null,null,null,null,null,null,null,null,null,null,null,null,{"$f":"IF(A97=\"\",\"\",(Header!C$7*Header!C$6)*A97)","v":""},"","","","","",{"$f":"IF(KeySP!D94=\"\",\"\",KeySP!D94)","v":""},{"$error":"#VALUE!"},498,"",null,null,{"$f":"IF(KeySP!$D94=\"\",\"\",KeySP!$D94)","v":""},{"$f":"SUMIF($M$5:M$502,$AF97,N$5:N$502)","v":0},{"$f":"SUMIF($M$5:M$502,$AF97,O$5:O$502)","v":0},{"$f":"SUMIF($M$5:M$502,$AF97,P$5:P$502)","v":0},null,null,null,null,null,{"$f":"IF(PLANTS!A95=\"\",\"\",PLANTS!A95)","v":"CAFI"},2,"",0,{"$f":"IF(PLANTS!C95=\"\",\"\",PLANTS!C95)","v":""},"",{"$f":"IF(PLANTS!D95=\"\",\"\",PLANTS!D95)","v":""},"",{"$f":"IF(PLANTS!E95=\"\",\"\",PLANTS!E95)","v":""},"",{"$f":"IF(PLANTS!F95=\"\",\"\",PLANTS!F95)","v":""},"",0,null,0,"",null,0,{"$f":"IF(DE97=\"A\",PLANTS!H95,DE97)","v":"E"},20,null,"","","","",null,null,null,"","",null,null,{"$f":"IF(KeySP!A94=\"\",\"\",KeySP!A94)","v":"JUCO2"},0,0,"",{"$error":"#DIV/0!"},null,"",null," ","",null,"","","","","","","","",null,"","","CAFI",{"$f":"IF(DC97=\"a\",PLANTS!I95,DMA!DC97)","v":2},{"$f":"IF(DD97=\"a\",PLANTS!G95,DMA!DD97)","v":0},"","","","","","","",null,null,{"$f":"PLANTS!I95","v":2},{"$f":"PLANTS!G95","v":0},{"$f":"PLANTS!H95","v":"E"},null,null,null,null,"",{"$f":"IF(DMA!DJ97=\"\",\"\",(DMA!N97-SUMIF(Graphs!$O$13:$O$199,DMA!$DJ97,Graphs!$V$13:$V$199))^2)","v":""},{"$f":"IF(DMA!DK97=\"\",\"\",(DMA!O97-SUMIF(Graphs!$O$13:$O$199,DMA!$DJ97,Graphs!$V$13:$V$199))^2)","v":""},{"$f":"IF(DMA!DL97=\"\",\"\",(DMA!P97-SUMIF(Graphs!$O$13:$O$199,DMA!$DJ97,Graphs!$V$13:$V$199))^2)","v":""},"",0,"",0,93,null,null,null,null,9.6999999999999993]
[null,null,null,null,null,null,null,null,null,null,null,null,null,null,null,null,null,null,null,{"$f":"IF(A98=\"\",\"\",(Header!C$7*Header!C$6)*A98)","v":""},"","","","","",{"$f":"IF(KeySP!D95=\"\",\"\",KeySP!D95)","v":""},{"$error":"#VALUE!"},498,"",null,null,{"$f":"IF(KeySP!$D95=\"\",\"\",KeySP!$D95)","v":""},{"$f":"SUMIF($M$5:M$502,$AF98,N$5:N$502)","v":0},{"$f":"SUMIF($M$5:M$502,$AF98,O$5:O$502)","v":0},{"$f":"SUMIF($M$5:M$502,$AF98,P$5:P$502)","v":0},null,null,null,null,null,{"$f":"IF(PLANTS!A96=\"\",\"\",PLANTS!A96)","v":"CAGE"},2,"",0,{"$f":"IF(PLANTS!C96=\"\",\"\",PLANTS!C96)","v":""},"",{"$f":"IF(PLANTS!D96=\"\",\"\",PLANTS!D96)","v":""},"",{"$f":"IF(PLANTS!E96=\"\",\"\",PLANTS!E96)","v":"y"},"",{"$f":"IF(PLANTS!F96=\"\",\"\",PLANTS!F96)","v":""},"",0,null,25,"",null,0,{"$f":"IF(DE98=\"A\",PLANTS!H96,DE98)","v":"M"},50,null,"","","","",null,null,null,"","",null,null,{"$f":"IF(KeySP!A95=\"\",\"\",KeySP!A95)","v":"JUDR"},0,0,"",{"$error":"#DIV/0!"},null,"",null," ","",null,"","","","","","","","",null,"","","CAGE",{"$f":"IF(DC98=\"a\",PLANTS!I96,DMA!DC98)","v":2},{"$f":"IF(DD98=\"a\",PLANTS!G96,DMA!DD98)","v":25},"","","","","","","",null,null,{"$f":"PLANTS!I96","v":2},{"$f":"PLANTS!G96","v":25},{"$f":"PLANTS!H96","v":"M"},null,null,null,null,"",{"$f":"IF(DMA!DJ98=\"\",\"\",(DMA!N98-SUMIF(Graphs!$O$13:$O$199,DMA!$DJ98,Graphs!$V$13:$V$199))^2)","v":""},{"$f":"IF(DMA!DK98=\"\",\"\",(DMA!O98-SUMIF(Graphs!$O$13:$O$199,DMA!$DJ98,Graphs!$V$13:$V$199))^2)","v":""},{"$f":"IF(DMA!DL98=\"\",\"\",(DMA!P98-SUMIF(Graphs!$O$13:$O$199,DMA!$DJ98,Graphs!$V$13:$V$199))^2)","v":""},"",0,"",0,94,null,null,null,null,9.8000000000000007]
[null,null,null,null,null,null,null,null,null,null,null,null,null,null,null,null,null,null,null,{"$f":"IF(A99=\"\",\"\",(Header!C$7*Header!C$6)*A99)","v":""},"","","","","",{"$f":"IF(KeySP!D96=\"\",\"\",KeySP!D96)","v":""},{"$error":"#VALUE!"},498,"",null,null,{"$f":"IF(KeySP!$D96=\"\",\"\",KeySP!$D96)","v":""},{"$f":"SUMIF($M$5:M$502,$AF99,N$5:N$502)","v":0},{"$f":"SUMIF($M$5:M$502,$AF99,O$5:O$502)","v":0},{"$f":"SUMIF($M$5:M$502,$AF99,P$5:P$502)","v":0},null,null,null,null,null,{"$f":"IF(PLANTS!A97=\"\",\"\",PLANTS!A97)","v":"CAGR4"},2,"",0,{"$f":"IF(PLANTS!C97=\"\",\"\",PLANTS!C97)","v":""},"",{"$f":"IF(PLANTS!D97=\"\",\"\",PLANTS!D97)","v":"y"},"",{"$f":"IF(PLANTS!E97=\"\",\"\",PLANTS!E97)","v":"y"},"",{"$f":"IF(PLANTS!F97=\"\",\"\",PLANTS!F97)","v":""},"",0,null,75,"",null,0,{"$f":"IF(DE99=\"A\",PLANTS!H97,DE99)","v":"M"},50,null,"","","","",null,null,null,"","",null,null,{"$f":"IF(KeySP!A96=\"\",\"\",KeySP!A96)","v":"JUDU2"},{"$f":"IF(BU99=\"\",\"\",COUNTIF(I$5:I$504,BU99))","v":0},0,"",{"$error":"#DIV/0!"},null,"",null," ","",null,"","","","",0,"",0,"",null,"","","CAGR4",{"$f":"IF(DC99=\"a\",PLANTS!I97,DMA!DC99)","v":2},{"$f":"IF(DD99=\"a\",PLANTS!G97,DMA!DD99)","v":75},"","","","","","","",null,null,{"$f":"PLANTS!I97","v":2},{"$f":"PLANTS!G97","v":75},{"$f":"PLANTS!H97","v":"M"},null,null,null,null,"",{"$f":"IF(DMA!DJ99=\"\",\"\",(DMA!N99-SUMIF(Graphs!$O$13:$O$199,DMA!$DJ99,Graphs!$V$13:$V$199))^2)","v":""},{"$f":"IF(DMA!DK99=\"\",\"\",(DMA!O99-SUMIF(Graphs!$O$13:$O$199,DMA!$DJ99,Graphs!$V$13:$V$199))^2)","v":""},{"$f":"IF(DMA!DL99=\"\",\"\",(DMA!P99-SUMIF(Graphs!$O$13:$O$199,DMA!$DJ99,Graphs!$V$13:$V$199))^2)","v":""},"",0,"",0,95,null,null,null,null,9.9]
[null,null,null,null,null,null,null,null,null,null,null,null,null,null,null,null,null,null,null,{"$f":"IF(A100=\"\",\"\",(Header!C$7*Header!C$6)*A100)","v":""},"","","","","",{"$f":"IF(KeySP!D97=\"\",\"\",KeySP!D97)","v":""},{"$error":"#VALUE!"},498,"",null,null,{"$f":"IF(KeySP!$D97=\"\",\"\",KeySP!$D97)","v":""},{"$f":"SUMIF($M$5:M$502,$AF100,N$5:N$502)","v":0},{"$f":"SUMIF($M$5:M$502,$AF100,O$5:O$502)","v":0},{"$f":"SUMIF($M$5:M$502,$AF100,P$5:P$502)","v":0},null,null,null,null,null,{"$f":"IF(PLANTS!A98=\"\",\"\",PLANTS!A98)","v":"CAHA5"},2,"",0,{"$f":"IF(PLANTS!C98=\"\",\"\",PLANTS!C98)","v":""},"",{"$f":"IF(PLANTS!D98=\"\",\"\",PLANTS!D98)","v":"y"},"",{"$f":"IF(PLANTS!E98=\"\",\"\",PLANTS!E98)","v":"y"},"",{"$f":"IF(PLANTS!F98=\"\",\"\",PLANTS!F98)","v":""},"",0,null,75,"",null,0,{"$f":"IF(DE100=\"A\",PLANTS!H98,DE100)","v":"M"},50,null,"","","","",null,null,null,"","",null,null,{"$f":"IF(KeySP!A97=\"\",\"\",KeySP!A97)","v":"JUEF"},0,0,"",{"$error":"#DIV/0!"},null,"",null," ","",null,"","","","",0,"",0,"",null,"","","CAHA5",{"$f":"IF(DC100=\"a\",PLANTS!I98,DMA!DC100)","v":2},{"$f":"IF(DD100=\"a\",PLANTS!G98,DMA!DD100)","v":75},"","","","","","","",null,null,{"$f":"PLANTS!I98","v":2},{"$f":"PLANTS!G98","v":75},{"$f":"PLANTS!H98","v":"M"},null,null,null,null,"",{"$f":"IF(DMA!DJ100=\"\",\"\",(DMA!N100-SUMIF(Graphs!$O$13:$O$199,DMA!$DJ100,Graphs!$V$13:$V$199))^2)","v":""},{"$f":"IF(DMA!DK100=\"\",\"\",(DMA!O100-SUMIF(Graphs!$O$13:$O$199,DMA!$DJ100,Graphs!$V$13:$V$199))^2)","v":""},{"$f":"IF(DMA!DL100=\"\",\"\",(DMA!P100-SUMIF(Graphs!$O$13:$O$199,DMA!$DJ100,Graphs!$V$13:$V$199))^2)","v":""},"",0,"",0,96,null,null,null,null,10]
[null,null,null,null,null,null,null,null,null,null,null,null,null,null,null,null,null,null,null,{"$f":"IF(A101=\"\",\"\",(Header!C$7*Header!C$6)*A101)","v":""},"","","","","",{"$f":"IF(KeySP!D98=\"\",\"\",KeySP!D98)","v":""},{"$error":"#VALUE!"},498,"",null,null,{"$f":"IF(KeySP!$D98=\"\",\"\",KeySP!$D98)","v":""},{"$f":"SUMIF($M$5:M$502,$AF101,N$5:N$502)","v":0},{"$f":"SUMIF($M$5:M$502,$AF101,O$5:O$502)","v":0},{"$f":"SUMIF($M$5:M$502,$AF101,P$5:P$502)","v":0},null,null,null,null,null,{"$f":"IF(PLANTS!A99=\"\",\"\",PLANTS!A99)","v":"CAHE8"},2,"",0,{"$f":"IF(PLANTS!C99=\"\",\"\",PLANTS!C99)","v":""},"",{"$f":"IF(PLANTS!D99=\"\",\"\",PLANTS!D99)","v":""},"",{"$f":"IF(PLANTS!E99=\"\",\"\",PLANTS!E99)","v":"y"},"",{"$f":"IF(PLANTS!F99=\"\",\"\",PLANTS!F99)","v":""},"",0,null,50,"",null,0,{"$f":"IF(DE101=\"A\",PLANTS!H99,DE101)","v":"M"},50,null,"","","","",null,null,null,"","",null,null,{"$f":"IF(KeySP!A98=\"\",\"\",KeySP!A98)","v":"JUEN"},0,{"$f":"SUMIF(I$5:I$504,BU101,J$5:J$504)","v":0},"",{"$f":"IF(I101=BZ$3,J101,\"\")","v":{"$error":"#DIV/0!"}},null,"",null," ","",null,"","","","","","","","",null,"","","CAHE8",{"$f":"IF(DC101=\"a\",PLANTS!I99,DMA!DC101)","v":2},{"$f":"IF(DD101=\"a\",PLANTS!G99,DMA!DD101)","v":50},"","","","","","","",null,null,{"$f":"PLANTS!I99","v":2},{"$f":"PLANTS!G99","v":50},{"$f":"PLANTS!H99","v":"M"},null,null,null,null,"",{"$f":"IF(DMA!DJ101=\"\",\"\",(DMA!N101-SUMIF(Graphs!$O$13:$O$199,DMA!$DJ101,Graphs!$V$13:$V$199))^2)","v":""},{"$f":"IF(DMA!DK101=\"\",\"\",(DMA!O101-SUMIF(Graphs!$O$13:$O$199,DMA!$DJ101,Graphs!$V$13:$V$199))^2)","v":""},{"$f":"IF(DMA!DL101=\"\",\"\",(DMA!P101-SUMIF(Graphs!$O$13:$O$199,DMA!$DJ101,Graphs!$V$13:$V$199))^2)","v":""},"",0,"",0,97,null,null,null,null,10.1]
[null,null,null,null,null,null,null,null,null,null,null,null,null,null,null,null,null,null,null,{"$f":"IF(A102=\"\",\"\",(Header!C$7*Header!C$6)*A102)","v":""},"","","","","",{"$f":"IF(KeySP!D99=\"\",\"\",KeySP!D99)","v":""},{"$error":"#VALUE!"},498,"",null,null,{"$f":"IF(KeySP!$D99=\"\",\"\",KeySP!$D99)","v":""},{"$f":"SUMIF($M$5:M$502,$AF102,N$5:N$502)","v":0},{"$f":"SUMIF($M$5:M$502,$AF102,O$5:O$502)","v":0},{"$f":"SUMIF($M$5:M$502,$AF102,P$5:P$502)","v":0},null,null," ",null,null,{"$f":"IF(PLANTS!A100=\"\",\"\",PLANTS!A100)","v":"CAHY4"},5,"",0,{"$f":"IF(PLANTS!C100=\"\",\"\",PLANTS!C100)","v":""},"",{"$f":"IF(PLANTS!D100=\"\",\"\",PLANTS!D100)","v":"y"},"",{"$f":"IF(PLANTS!E100=\"\",\"\",PLANTS!E100)","v":"y"},"",{"$f":"IF(PLANTS!F100=\"\",\"\",PLANTS!F100)","v":""},"",0,null,100,"",null,0,{"$f":"IF(DE102=\"A\",PLANTS!H100,DE102)","v":"L"},80,null,"","","","",null,null,null,"","",null,null,{"$f":"IF(KeySP!A99=\"\",\"\",KeySP!A99)","v":"JUIN2"},0,0,"",{"$error":"#DIV/0!"},null,"",null," ","",null,"","","","",0,"",0,"",null,"","","CAHY4",{"$f":"IF(DC102=\"a\",PLANTS!I100,DMA!DC102)","v":5},{"$f":"IF(DD102=\"a\",PLANTS!G100,DMA!DD102)","v":100},"","","","","","","",null,null,{"$f":"PLANTS!I100","v":5},{"$f":"PLANTS!G100","v":100},{"$f":"PLANTS!H100","v":"L"},null,null,null,null,"",{"$f":"IF(DMA!DJ102=\"\",\"\",(DMA!N102-SUMIF(Graphs!$O$13:$O$199,DMA!$DJ102,Graphs!$V$13:$V$199))^2)","v":""},{"$f":"IF(DMA!DK102=\"\",\"\",(DMA!O102-SUMIF(Graphs!$O$13:$O$199,DMA!$DJ102,Graphs!$V$13:$V$199))^2)","v":""},{"$f":"IF(DMA!DL102=\"\",\"\",(DMA!P102-SUMIF(Graphs!$O$13:$O$199,DMA!$DJ102,Graphs!$V$13:$V$199))^2)","v":""},"",0,"",0,98,null,null,null,null,10.199999999999999]
[null,null,null,null,null,null,null,null,null,null,null,null,null,null,null,null,null,null,null,{"$f":"IF(A103=\"\",\"\",(Header!C$7*Header!C$6)*A103)","v":""},"","","","","",{"$f":"IF(KeySP!D100=\"\",\"\",KeySP!D100)","v":""},{"$error":"#VALUE!"},498,"",null,null,{"$f":"IF(KeySP!$D100=\"\",\"\",KeySP!$D100)","v":""},{"$f":"SUMIF($M$5:M$502,$AF103,N$5:N$502)","v":0},{"$f":"SUMIF($M$5:M$502,$AF103,O$5:O$502)","v":0},{"$f":"SUMIF($M$5:M$502,$AF103,P$5:P$502)","v":0},null,null,null,null,null,{"$f":"IF(PLANTS!A101=\"\",\"\",PLANTS!A101)","v":"CAIN11"},2,"",0,{"$f":"IF(PLANTS!C101=\"\",\"\",PLANTS!C101)","v":""},"",{"$f":"IF(PLANTS!D101=\"\",\"\",PLANTS!D101)","v":"y"},"",{"$f":"IF(PLANTS!E101=\"\",\"\",PLANTS!E101)","v":"y"},"",{"$f":"IF(PLANTS!F101=\"\",\"\",PLANTS!F101)","v":""},"",0,null,100,"",null,0,{"$f":"IF(DE103=\"A\",PLANTS!H101,DE103)","v":"M"},50,null,"","","","",null,null,null,"","",null,null,{"$f":"IF(KeySP!A100=\"\",\"\",KeySP!A100)","v":"JULO"},0,0,"",{"$error":"#DIV/0!"},null,"",null," ","",null,"","","","",0,"",0,"",null,"","","CAIN11",{"$f":"IF(DC103=\"a\",PLANTS!I101,DMA!DC103)","v":2},{"$f":"IF(DD103=\"a\",PLANTS!G101,DMA!DD103)","v":100},"","",{"$f":"IF(CT103=\"\",\"\",IF(CU103=\"\",CT103,(CT103*2+CU103)/3))","v":""},"","","","",null,null,{"$f":"PLANTS!I101","v":2},{"$f":"PLANTS!G101","v":100},{"$f":"PLANTS!H101","v":"M"},null,null,null,null,"",{"$f":"IF(DMA!DJ103=\"\",\"\",(DMA!N103-SUMIF(Graphs!$O$13:$O$199,DMA!$DJ103,Graphs!$V$13:$V$199))^2)","v":""},{"$f":"IF(DMA!DK103=\"\",\"\",(DMA!O103-SUMIF(Graphs!$O$13:$O$199,DMA!$DJ103,Graphs!$V$13:$V$199))^2)","v":""},{"$f":"IF(DMA!DL103=\"\",\"\",(DMA!P103-SUMIF(Graphs!$O$13:$O$199,DMA!$DJ103,Graphs!$V$13:$V$199))^2)","v":""},"",0,"",0,99,null,null,null,null,10.3]
[null,null,null,null,null,null,null,null,null,null,null,null,null,null,null,null,null,null,null,{"$f":"IF(A104=\"\",\"\",(Header!C$7*Header!C$6)*A104)","v":""},"","","","","",{"$f":"IF(KeySP!D101=\"\",\"\",KeySP!D101)","v":""},{"$error":"#VALUE!"},498,"",null,null,{"$f":"IF(KeySP!$D101=\"\",\"\",KeySP!$D101)","v":""},{"$f":"SUMIF($M$5:M$502,$AF104,N$5:N$502)","v":0},{"$f":"SUMIF($M$5:M$502,$AF104,O$5:O$502)","v":0},{"$f":"SUMIF($M$5:M$502,$AF104,P$5:P$502)","v":0},null,null,null,null,null,{"$f":"IF(PLANTS!A102=\"\",\"\",PLANTS!A102)","v":"CALA11"},5,"",0,{"$f":"IF(PLANTS!C102=\"\",\"\",PLANTS!C102)","v":""},"",{"$f":"IF(PLANTS!D102=\"\",\"\",PLANTS!D102)","v":"y"},"",{"$f":"IF(PLANTS!E102=\"\",\"\",PLANTS!E102)","v":"y"},"",{"$f":"IF(PLANTS!F102=\"\",\"\",PLANTS!F102)","v":""},"",0,null,100,"",null,0,{"$f":"IF(DE104=\"A\",PLANTS!H102,DE104)","v":"L"},80,null,"","","","",null,null,null,"","",null,null,{"$f":"IF(KeySP!A101=\"\",\"\",KeySP!A101)","v":"JUMA3"},0,0,"",{"$error":"#DIV/0!"},null,"",null," ","",null,"","","","",0,"",0,"",null,"","","CALA11",{"$f":"IF(DC104=\"a\",PLANTS!I102,DMA!DC104)","v":5},{"$f":"IF(DD104=\"a\",PLANTS!G102,DMA!DD104)","v":100},"","","","","","","",null,null,{"$f":"PLANTS!I102","v":5},{"$f":"PLANTS!G102","v":100},{"$f":"PLANTS!H102","v":"L"},null,null,null,null,"",{"$f":"IF(DMA!DJ104=\"\",\"\",(DMA!N104-SUMIF(Graphs!$O$13:$O$199,DMA!$DJ104,Graphs!$V$13:$V$199))^2)","v":""},{"$f":"IF(DMA!DK104=\"\",\"\",(DMA!O104-SUMIF(Graphs!$O$13:$O$199,DMA!$DJ104,Graphs!$V$13:$V$199))^2)","v":""},{"$f":"IF(DMA!DL104=\"\",\"\",(DMA!P104-SUMIF(Graphs!$O$13:$O$199,DMA!$DJ104,Graphs!$V$13:$V$199))^2)","v":""},"",0,"",0,100,null,null,null,null,10.4]
[null,null,null,null,null,null,null,null,null,null,null,null,null,null,null,null,null,null,null,{"$f":"IF(A105=\"\",\"\",(Header!C$7*Header!C$6)*A105)","v":""},"","","","","",{"$f":"IF(KeySP!D102=\"\",\"\",KeySP!D102)","v":""},{"$error":"#VALUE!"},498,"",null,null,{"$f":"IF(KeySP!$D102=\"\",\"\",KeySP!$D102)","v":""},{"$f":"SUMIF($M$5:M$502,$AF105,N$5:N$502)","v":0},{"$f":"SUMIF($M$5:M$502,$AF105,O$5:O$502)","v":0},{"$f":"SUMIF($M$5:M$502,$AF105,P$5:P$502)","v":0},null,null,null,null,null,{"$f":"IF(PLANTS!A103=\"\",\"\",PLANTS!A103)","v":"CALA30"},8.5,"",0,{"$f":"IF(PLANTS!C103=\"\",\"\",PLANTS!C103)","v":""},"",{"$f":"IF(PLANTS!D103=\"\",\"\",PLANTS!D103)","v":"y"},"",{"$f":"IF(PLANTS!E103=\"\",\"\",PLANTS!E103)","v":"y"},"",{"$f":"IF(PLANTS!F103=\"\",\"\",PLANTS!F103)","v":""},"",0,null,100,"",null,0,{"$f":"IF(DE105=\"A\",PLANTS!H103,DE105)","v":"L"},80,null,"","","","",null,null,null,"","",null,null,{"$f":"IF(KeySP!A102=\"\",\"\",KeySP!A102)","v":"JUME3"},0,0,"",{"$error":"#DIV/0!"},null,"",null," ","",null,"","","","",0,"",0,"",null,"","","CALA30",{"$f":"IF(DC105=\"a\",PLANTS!I103,DMA!DC105)","v":8.5},{"$f":"IF(DD105=\"a\",PLANTS!G103,DMA!DD105)","v":100},"","","","","","","",null,null,{"$f":"PLANTS!I103","v":8.5},{"$f":"PLANTS!G103","v":100},{"$f":"PLANTS!H103","v":"L"},null,null,null,null,"",{"$f":"IF(DMA!DJ105=\"\",\"\",(DMA!N105-SUMIF(Graphs!$O$13:$O$199,DMA!$DJ105,Graphs!$V$13:$V$199))^2)","v":""},{"$f":"IF(DMA!DK105=\"\",\"\",(DMA!O105-SUMIF(Graphs!$O$13:$O$199,DMA!$DJ105,Graphs!$V$13:$V$199))^2)","v":""},{"$f":"IF(DMA!DL105=\"\",\"\",(DMA!P105-SUMIF(Graphs!$O$13:$O$199,DMA!$DJ105,Graphs!$V$13:$V$199))^2)","v":""},"",0,"",0,101,null,null,null,null,10.5]
[null,null,null,null,null,null,null,null,null,null,null,null,null,null,null,null,null,null,null,{"$f":"IF(A106=\"\",\"\",(Header!C$7*Header!C$6)*A106)","v":""},"","","","","",{"$f":"IF(KeySP!D103=\"\",\"\",KeySP!D103)","v":""},{"$error":"#VALUE!"},498,"",null,null,{"$f":"IF(KeySP!$D103=\"\",\"\",KeySP!$D103)","v":""},{"$f":"SUMIF($M$5:M$502,$AF106,N$5:N$502)","v":0},{"$f":"SUMIF($M$5:M$502,$AF106,O$5:O$502)","v":0},{"$f":"SUMIF($M$5:M$502,$AF106,P$5:P$502)","v":0},null,null,null,null,null,{"$f":"IF(PLANTS!A104=\"\",\"\",PLANTS!A104)","v":"CALE10"},5,"",0,{"$f":"IF(PLANTS!C104=\"\",\"\",PLANTS!C104)","v":""},"",{"$f":"IF(PLANTS!D104=\"\",\"\",PLANTS!D104)","v":"y"},"",{"$f":"IF(PLANTS!E104=\"\",\"\",PLANTS!E104)","v":"y"},"",{"$f":"IF(PLANTS!F104=\"\",\"\",PLANTS!F104)","v":""},"",0,null,100,"",null,0,{"$f":"IF(DE106=\"A\",PLANTS!H104,DE106)","v":"M"},50,null,"","","","",null,null,null,"","",null,null,{"$f":"IF(KeySP!A103=\"\",\"\",KeySP!A103)","v":"JUME4"},0,0,"",{"$error":"#DIV/0!"},null,"",null," ","",null,"","","","",0,"",0,"",null,"","","CALE10",{"$f":"IF(DC106=\"a\",PLANTS!I104,DMA!DC106)","v":5},{"$f":"IF(DD106=\"a\",PLANTS!G104,DMA!DD106)","v":100},"","","","","","","",null,null,{"$f":"PLANTS!I104","v":5},{"$f":"PLANTS!G104","v":100},{"$f":"PLANTS!H104","v":"M"},null,null,null,null,"",{"$f":"IF(DMA!DJ106=\"\",\"\",(DMA!N106-SUMIF(Graphs!$O$13:$O$199,DMA!$DJ106,Graphs!$V$13:$V$199))^2)","v":""},{"$f":"IF(DMA!DK106=\"\",\"\",(DMA!O106-SUMIF(Graphs!$O$13:$O$199,DMA!$DJ106,Graphs!$V$13:$V$199))^2)","v":""},{"$f":"IF(DMA!DL106=\"\",\"\",(DMA!P106-SUMIF(Graphs!$O$13:$O$199,DMA!$DJ106,Graphs!$V$13:$V$199))^2)","v":""},"",0,"",0,102,null,null,null,null,10.6]
[null,null,null,null,null,null,null,null,null,null,null,null,null,null,null,null,null,null,null,{"$f":"IF(A107=\"\",\"\",(Header!C$7*Header!C$6)*A107)","v":""},"","","","","",{"$f":"IF(KeySP!D104=\"\",\"\",KeySP!D104)","v":""},{"$error":"#VALUE!"},498,"",null,null,{"$f":"IF(KeySP!$D104=\"\",\"\",KeySP!$D104)","v":""},{"$f":"SUMIF($M$5:M$502,$AF107,N$5:N$502)","v":0},{"$f":"SUMIF($M$5:M$502,$AF107,O$5:O$502)","v":0},{"$f":"SUMIF($M$5:M$502,$AF107,P$5:P$502)","v":0},null,null,null,null,null,{"$f":"IF(PLANTS!A105=\"\",\"\",PLANTS!A105)","v":"CALE24"},2,"",0,{"$f":"IF(PLANTS!C105=\"\",\"\",PLANTS!C105)","v":""},"",{"$f":"IF(PLANTS!D105=\"\",\"\",PLANTS!D105)","v":""},"",{"$f":"IF(PLANTS!E105=\"\",\"\",PLANTS!E105)","v":"y"},"",{"$f":"IF(PLANTS!F105=\"\",\"\",PLANTS!F105)","v":""},"",0,null,50,"",null,0,{"$f":"IF(DE107=\"A\",PLANTS!H105,DE107)","v":"M"},50,null,"","","","",null,null,null,"","",null,null,{"$f":"IF(KeySP!A104=\"\",\"\",KeySP!A104)","v":"JUNCU"},0,0,"",{"$error":"#DIV/0!"},null,"",null," ","",null,"","","","","","","","",null,"","","CALE24",{"$f":"IF(DC107=\"a\",PLANTS!I105,DMA!DC107)","v":2},{"$f":"IF(DD107=\"a\",PLANTS!G105,DMA!DD107)","v":50},"","","","","","","",null,null,{"$f":"PLANTS!I105","v":2},{"$f":"PLANTS!G105","v":50},{"$f":"PLANTS!H105","v":"M"},null,null,null,null,"",{"$f":"IF(DMA!DJ107=\"\",\"\",(DMA!N107-SUMIF(Graphs!$O$13:$O$199,DMA!$DJ107,Graphs!$V$13:$V$199))^2)","v":""},{"$f":"IF(DMA!DK107=\"\",\"\",(DMA!O107-SUMIF(Graphs!$O$13:$O$199,DMA!$DJ107,Graphs!$V$13:$V$199))^2)","v":""},{"$f":"IF(DMA!DL107=\"\",\"\",(DMA!P107-SUMIF(Graphs!$O$13:$O$199,DMA!$DJ107,Graphs!$V$13:$V$199))^2)","v":""},"",0,"",0,103,null,null,null,null,10.7]
[null,null,null,null,null,null,null,null,null,null,null,null,null,null,null,null,null,null,null,{"$f":"IF(A108=\"\",\"\",(Header!C$7*Header!C$6)*A108)","v":""},"","","","","",{"$f":"IF(KeySP!D105=\"\",\"\",KeySP!D105)","v":""},{"$error":"#VALUE!"},498,"",null,null,{"$f":"IF(KeySP!$D105=\"\",\"\",KeySP!$D105)","v":""},{"$f":"SUMIF($M$5:M$502,$AF108,N$5:N$502)","v":0},{"$f":"SUMIF($M$5:M$502,$AF108,O$5:O$502)","v":0},{"$f":"SUMIF($M$5:M$502,$AF108,P$5:P$502)","v":0},null,null,null,null,null,{"$f":"IF(PLANTS!A106=\"\",\"\",PLANTS!A106)","v":"CALE4"},2,"",0,{"$f":"IF(PLANTS!C106=\"\",\"\",PLANTS!C106)","v":""},"",{"$f":"IF(PLANTS!D106=\"\",\"\",PLANTS!D106)","v":"y"},"",{"$f":"IF(PLANTS!E106=\"\",\"\",PLANTS!E106)","v":"y"},"",{"$f":"IF(PLANTS!F106=\"\",\"\",PLANTS!F106)","v":"y"},"",0,null,100,"",null,0,{"$f":"IF(DE108=\"A\",PLANTS!H106,DE108)","v":"L"},80,null,"","","","",null,null,null,"","",null,null,{"$f":"IF(KeySP!A105=\"\",\"\",KeySP!A105)","v":"JUNE"},0,0,"",{"$error":"#DIV/0!"},null,"",null," ","",null,"","","",0,0,"",0,"",null,"","","CALE4",{"$f":"IF(DC108=\"a\",PLANTS!I106,DMA!DC108)","v":2},{"$f":"IF(DD108=\"a\",PLANTS!G106,DMA!DD108)","v":100},"","","","","","","",null,null,{"$f":"PLANTS!I106","v":2},{"$f":"PLANTS!G106","v":100},{"$f":"PLANTS!H106","v":"L"},null,null,null,null,"",{"$f":"IF(DMA!DJ108=\"\",\"\",(DMA!N108-SUMIF(Graphs!$O$13:$O$199,DMA!$DJ108,Graphs!$V$13:$V$199))^2)","v":""},{"$f":"IF(DMA!DK108=\"\",\"\",(DMA!O108-SUMIF(Graphs!$O$13:$O$199,DMA!$DJ108,Graphs!$V$13:$V$199))^2)","v":""},{"$f":"IF(DMA!DL108=\"\",\"\",(DMA!P108-SUMIF(Graphs!$O$13:$O$199,DMA!$DJ108,Graphs!$V$13:$V$199))^2)","v":""},"",0,"",0,104,null,null,null,null,10.8]
[null,null,null,null,null,null,null,null,null,null,null,null,null,null,null,null,null,null,null,{"$f":"IF(A109=\"\",\"\",(Header!C$7*Header!C$6)*A109)","v":""},"","","","","",{"$f":"IF(KeySP!D106=\"\",\"\",KeySP!D106)","v":""},{"$error":"#VALUE!"},498,"",null,null,{"$f":"IF(KeySP!$D106=\"\",\"\",KeySP!$D106)","v":""},{"$f":"SUMIF($M$5:M$502,$AF109,N$5:N$502)","v":0},{"$f":"SUMIF($M$5:M$502,$AF109,O$5:O$502)","v":0},{"$f":"SUMIF($M$5:M$502,$AF109,P$5:P$502)","v":0},null,null,null,null,null,{"$f":"IF(PLANTS!A107=\"\",\"\",PLANTS!A107)","v":"CALE8"},2,"",0,{"$f":"IF(PLANTS!C107=\"\",\"\",PLANTS!C107)","v":""},"",{"$f":"IF(PLANTS!D107=\"\",\"\",PLANTS!D107)","v":"y"},"",{"$f":"IF(PLANTS!E107=\"\",\"\",PLANTS!E107)","v":"y"},"",{"$f":"IF(PLANTS!F107=\"\",\"\",PLANTS!F107)","v":""},"",0,null,100,"",null,0,{"$f":"IF(DE109=\"A\",PLANTS!H107,DE109)","v":"L"},80,null,"","","","",null,null,null,"","",null,null,{"$f":"IF(KeySP!A106=\"\",\"\",KeySP!A106)","v":"JUNO2"},0,0,"",{"$error":"#DIV/0!"},null,"",null," ","",null,"","","","",0,"",0,"",null,"","","CALE8",{"$f":"IF(DC109=\"a\",PLANTS!I107,DMA!DC109)","v":2},{"$f":"IF(DD109=\"a\",PLANTS!G107,DMA!DD109)","v":100},"","","","","","","",null,null,{"$f":"PLANTS!I107","v":2},{"$f":"PLANTS!G107","v":100},{"$f":"PLANTS!H107","v":"L"},null,null,null,null,"",{"$f":"IF(DMA!DJ109=\"\",\"\",(DMA!N109-SUMIF(Graphs!$O$13:$O$199,DMA!$DJ109,Graphs!$V$13:$V$199))^2)","v":""},{"$f":"IF(DMA!DK109=\"\",\"\",(DMA!O109-SUMIF(Graphs!$O$13:$O$199,DMA!$DJ109,Graphs!$V$13:$V$199))^2)","v":""},{"$f":"IF(DMA!DL109=\"\",\"\",(DMA!P109-SUMIF(Graphs!$O$13:$O$199,DMA!$DJ109,Graphs!$V$13:$V$199))^2)","v":""},"",0,"",0,105,null,null,null,null,10.9]
[null,null,null,null,null,null,null,null,null,null,null,null,null,null,null,null,null,null,null,{"$f":"IF(A110=\"\",\"\",(Header!C$7*Header!C$6)*A110)","v":""},"","","","","",{"$f":"IF(KeySP!D107=\"\",\"\",KeySP!D107)","v":""},{"$error":"#VALUE!"},498,"",null,null,{"$f":"IF(KeySP!$D107=\"\",\"\",KeySP!$D107)","v":""},{"$f":"SUMIF($M$5:M$502,$AF110,N$5:N$502)","v":0},{"$f":"SUMIF($M$5:M$502,$AF110,O$5:O$502)","v":0},{"$f":"SUMIF($M$5:M$502,$AF110,P$5:P$502)","v":0},null,null,null,null,null,{"$f":"IF(PLANTS!A108=\"\",\"\",PLANTS!A108)","v":"CALI7"},5,"",0,{"$f":"IF(PLANTS!C108=\"\",\"\",PLANTS!C108)","v":""},"",{"$f":"IF(PLANTS!D108=\"\",\"\",PLANTS!D108)","v":"y"},"",{"$f":"IF(PLANTS!E108=\"\",\"\",PLANTS!E108)","v":"y"},"",{"$f":"IF(PLANTS!F108=\"\",\"\",PLANTS!F108)","v":""},"",0,null,100,"",null,0,{"$f":"IF(DE110=\"A\",PLANTS!H108,DE110)","v":"L"},80,null,"","","","",null,null,null,"","",null,null,{"$f":"IF(KeySP!A107=\"\",\"\",KeySP!A107)","v":"JUOR"},0,0,"",{"$error":"#DIV/0!"},null,"",null," ","",null,"","","","",0,"",0,"",null,"","","CALI7",{"$f":"IF(DC110=\"a\",PLANTS!I108,DMA!DC110)","v":5},{"$f":"IF(DD110=\"a\",PLANTS!G108,DMA!DD110)","v":100},"","","","","","","",null,null,{"$f":"PLANTS!I108","v":5},{"$f":"PLANTS!G108","v":100},{"$f":"PLANTS!H108","v":"L"},null,null,null,null,"",{"$f":"IF(DMA!DJ110=\"\",\"\",(DMA!N110-SUMIF(Graphs!$O$13:$O$199,DMA!$DJ110,Graphs!$V$13:$V$199))^2)","v":""},{"$f":"IF(DMA!DK110=\"\",\"\",(DMA!O110-SUMIF(Graphs!$O$13:$O$199,DMA!$DJ110,Graphs!$V$13:$V$199))^2)","v":""},{"$f":"IF(DMA!DL110=\"\",\"\",(DMA!P110-SUMIF(Graphs!$O$13:$O$199,DMA!$DJ110,Graphs!$V$13:$V$199))^2)","v":""},"",0,"",0,106,null,null,null,null,11]
[null,null,null,null,null,null,null,null,null,null,null,null,null,null,null,null,null,null,null,{"$f":"IF(A111=\"\",\"\",(Header!C$7*Header!C$6)*A111)","v":""},"","","","","",{"$f":"IF(KeySP!D108=\"\",\"\",KeySP!D108)","v":""},{"$error":"#VALUE!"},498,"",null,null,{"$f":"IF(KeySP!$D108=\"\",\"\",KeySP!$D108)","v":""},{"$f":"SUMIF($M$5:M$502,$AF111,N$5:N$502)","v":0},{"$f":"SUMIF($M$5:M$502,$AF111,O$5:O$502)","v":0},{"$f":"SUMIF($M$5:M$502,$AF111,P$5:P$502)","v":0},null,null,null,null,null,{"$f":"IF(PLANTS!A109=\"\",\"\",PLANTS!A109)","v":"CAMI7"},5,"",0,{"$f":"IF(PLANTS!C109=\"\",\"\",PLANTS!C109)","v":""},"",{"$f":"IF(PLANTS!D109=\"\",\"\",PLANTS!D109)","v":""},"",{"$f":"IF(PLANTS!E109=\"\",\"\",PLANTS!E109)","v":"y"},"",{"$f":"IF(PLANTS!F109=\"\",\"\",PLANTS!F109)","v":""},"",0,null,50,"",null,0,{"$f":"IF(DE111=\"A\",PLANTS!H109,DE111)","v":"M"},50,null,"","","","",null,null,null,"","",null,null,{"$f":"IF(KeySP!A108=\"\",\"\",KeySP!A108)","v":"JUSA"},0,0,"",{"$error":"#DIV/0!"},null,"",null," ","",null,"","","","","","","","",null,"","","CAMI7",{"$f":"IF(DC111=\"a\",PLANTS!I109,DMA!DC111)","v":5},{"$f":"IF(DD111=\"a\",PLANTS!G109,DMA!DD111)","v":50},"","","","","","","",null,null,{"$f":"PLANTS!I109","v":5},{"$f":"PLANTS!G109","v":50},{"$f":"PLANTS!H109","v":"M"},null,null,null,null,"",{"$f":"IF(DMA!DJ111=\"\",\"\",(DMA!N111-SUMIF(Graphs!$O$13:$O$199,DMA!$DJ111,Graphs!$V$13:$V$199))^2)","v":""},{"$f":"IF(DMA!DK111=\"\",\"\",(DMA!O111-SUMIF(Graphs!$O$13:$O$199,DMA!$DJ111,Graphs!$V$13:$V$199))^2)","v":""},{"$f":"IF(DMA!DL111=\"\",\"\",(DMA!P111-SUMIF(Graphs!$O$13:$O$199,DMA!$DJ111,Graphs!$V$13:$V$199))^2)","v":""},"",0,"",0,107,null,null,null,null,11.1]
[null,null,null,null,null,null,null,null,null,null,null,null,null,null,null,null,null,null,null,{"$f":"IF(A112=\"\",\"\",(Header!C$7*Header!C$6)*A112)","v":""},"","","","","",{"$f":"IF(KeySP!D109=\"\",\"\",KeySP!D109)","v":""},{"$error":"#VALUE!"},498,"",null,null,{"$f":"IF(KeySP!$D109=\"\",\"\",KeySP!$D109)","v":""},{"$f":"SUMIF($M$5:M$502,$AF112,N$5:N$502)","v":0},{"$f":"SUMIF($M$5:M$502,$AF112,O$5:O$502)","v":0},{"$f":"SUMIF($M$5:M$502,$AF112,P$5:P$502)","v":0},null,null,null,null,null,{"$f":"IF(PLANTS!A110=\"\",\"\",PLANTS!A110)","v":"CANE2"},8.5,"",0,{"$f":"IF(PLANTS!C110=\"\",\"\",PLANTS!C110)","v":""},"",{"$f":"IF(PLANTS!D110=\"\",\"\",PLANTS!D110)","v":"y"},"",{"$f":"IF(PLANTS!E110=\"\",\"\",PLANTS!E110)","v":"y"},"",{"$f":"IF(PLANTS!F110=\"\",\"\",PLANTS!F110)","v":""},"",0,null,100,"",null,0,{"$f":"IF(DE112=\"A\",PLANTS!H110,DE112)","v":"L"},80,null,"","","","",null,null,null,"","",null,null,{"$f":"IF(KeySP!A109=\"\",\"\",KeySP!A109)","v":"JUTE"},0,0,"",{"$error":"#DIV/0!"},null,"",null," ","",null,"","","","",0,"",0,"",null,"","","CANE2",{"$f":"IF(DC112=\"a\",PLANTS!I110,DMA!DC112)","v":8.5},{"$f":"IF(DD112=\"a\",PLANTS!G110,DMA!DD112)","v":100},"","","","","","","",null,null,{"$f":"PLANTS!I110","v":8.5},{"$f":"PLANTS!G110","v":100},{"$f":"PLANTS!H110","v":"L"},null,null,null,null,"",{"$f":"IF(DMA!DJ112=\"\",\"\",(DMA!N112-SUMIF(Graphs!$O$13:$O$199,DMA!$DJ112,Graphs!$V$13:$V$199))^2)","v":""},{"$f":"IF(DMA!DK112=\"\",\"\",(DMA!O112-SUMIF(Graphs!$O$13:$O$199,DMA!$DJ112,Graphs!$V$13:$V$199))^2)","v":""},{"$f":"IF(DMA!DL112=\"\",\"\",(DMA!P112-SUMIF(Graphs!$O$13:$O$199,DMA!$DJ112,Graphs!$V$13:$V$199))^2)","v":""},"",0,"",0,108,null,null,null,null,11.2]
[null,null,null,null,null,null,null,null,null,null,null,null,null,null,null,null,null,null,null,{"$f":"IF(A113=\"\",\"\",(Header!C$7*Header!C$6)*A113)","v":""},"","","","","",{"$f":"IF(KeySP!D110=\"\",\"\",KeySP!D110)","v":""},{"$error":"#VALUE!"},498,"",null,null,{"$f":"IF(KeySP!$D110=\"\",\"\",KeySP!$D110)","v":""},{"$f":"SUMIF($M$5:M$502,$AF113,N$5:N$502)","v":0},{"$f":"SUMIF($M$5:M$502,$AF113,O$5:O$502)","v":0},{"$f":"SUMIF($M$5:M$502,$AF113,P$5:P$502)","v":0},null,null,null,null,null,{"$f":"IF(PLANTS!A111=\"\",\"\",PLANTS!A111)","v":"CANU4"},2,"",0,{"$f":"IF(PLANTS!C111=\"\",\"\",PLANTS!C111)","v":""},"",{"$f":"IF(PLANTS!D111=\"\",\"\",PLANTS!D111)","v":""},"",{"$f":"IF(PLANTS!E111=\"\",\"\",PLANTS!E111)","v":"y"},"",{"$f":"IF(PLANTS!F111=\"\",\"\",PLANTS!F111)","v":"y"},"",0,null,25,"",null,0,{"$f":"IF(DE113=\"A\",PLANTS!H111,DE113)","v":"E"},20,null,"","","","",null,null,null,"","",null,null,{"$f":"IF(KeySP!A110=\"\",\"\",KeySP!A110)","v":"JUTO"},0,0,"",{"$error":"#DIV/0!"},null,"",null," ","",null,"","","",0,"","","","",null,"","","CANU4",{"$f":"IF(DC113=\"a\",PLANTS!I111,DMA!DC113)","v":2},{"$f":"IF(DD113=\"a\",PLANTS!G111,DMA!DD113)","v":25},"","","","","","","",null,null,{"$f":"PLANTS!I111","v":2},{"$f":"PLANTS!G111","v":25},{"$f":"PLANTS!H111","v":"E"},null,null,null,null,"",{"$f":"IF(DMA!DJ113=\"\",\"\",(DMA!N113-SUMIF(Graphs!$O$13:$O$199,DMA!$DJ113,Graphs!$V$13:$V$199))^2)","v":""},{"$f":"IF(DMA!DK113=\"\",\"\",(DMA!O113-SUMIF(Graphs!$O$13:$O$199,DMA!$DJ113,Graphs!$V$13:$V$199))^2)","v":""},{"$f":"IF(DMA!DL113=\"\",\"\",(DMA!P113-SUMIF(Graphs!$O$13:$O$199,DMA!$DJ113,Graphs!$V$13:$V$199))^2)","v":""},"",0,"",0,109,null,null,null,null,11.3]
[null,null,null,null,null,null,null,null,null,null,null,null,null,null,null,null,null,null,null,{"$f":"IF(A114=\"\",\"\",(Header!C$7*Header!C$6)*A114)","v":""},"","","","","",{"$f":"IF(KeySP!D111=\"\",\"\",KeySP!D111)","v":""},{"$error":"#VALUE!"},498,"",null,null,{"$f":"IF(KeySP!$D111=\"\",\"\",KeySP!$D111)","v":""},{"$f":"SUMIF($M$5:M$502,$AF114,N$5:N$502)","v":0},{"$f":"SUMIF($M$5:M$502,$AF114,O$5:O$502)","v":0},{"$f":"SUMIF($M$5:M$502,$AF114,P$5:P$502)","v":0},null,null,null,null,null,{"$f":"IF(PLANTS!A112=\"\",\"\",PLANTS!A112)","v":"CAPE42"},8.5,"",0,{"$f":"IF(PLANTS!C112=\"\",\"\",PLANTS!C112)","v":""},"",{"$f":"IF(PLANTS!D112=\"\",\"\",PLANTS!D112)","v":"y"},"",{"$f":"IF(PLANTS!E112=\"\",\"\",PLANTS!E112)","v":"y"},"",{"$f":"IF(PLANTS!F112=\"\",\"\",PLANTS!F112)","v":""},"",0,null,100,"",null,0,{"$f":"IF(DE114=\"A\",PLANTS!H112,DE114)","v":"L"},80,null,"","","","",null,null,null,"","",null,null,{"$f":"IF(KeySP!A111=\"\",\"\",KeySP!A111)","v":"JUTR"},0,0,"",{"$error":"#DIV/0!"},null,"",null," ","",null,"","","","",0,"",0,"",null,"","","CAPE42",{"$f":"IF(DC114=\"a\",PLANTS!I112,DMA!DC114)","v":8.5},{"$f":"IF(DD114=\"a\",PLANTS!G112,DMA!DD114)","v":100},"","","","","","","",null,null,{"$f":"PLANTS!I112","v":8.5},{"$f":"PLANTS!G112","v":100},{"$f":"PLANTS!H112","v":"L"},null,null,null,null,"",{"$f":"IF(DMA!DJ114=\"\",\"\",(DMA!N114-SUMIF(Graphs!$O$13:$O$199,DMA!$DJ114,Graphs!$V$13:$V$199))^2)","v":""},{"$f":"IF(DMA!DK114=\"\",\"\",(DMA!O114-SUMIF(Graphs!$O$13:$O$199,DMA!$DJ114,Graphs!$V$13:$V$199))^2)","v":""},{"$f":"IF(DMA!DL114=\"\",\"\",(DMA!P114-SUMIF(Graphs!$O$13:$O$199,DMA!$DJ114,Graphs!$V$13:$V$199))^2)","v":""},"",0,"",0,110,null,null,null,null,11.4]
[null,null,null,null,null,null,null,null,null,null,null,null,null,null,null,null,null,null,null,{"$f":"IF(A115=\"\",\"\",(Header!C$7*Header!C$6)*A115)","v":""},"","","","","",{"$f":"IF(KeySP!D112=\"\",\"\",KeySP!D112)","v":""},{"$error":"#VALUE!"},498,"",null,null,{"$f":"IF(KeySP!$D112=\"\",\"\",KeySP!$D112)","v":""},{"$f":"SUMIF($M$5:M$502,$AF115,N$5:N$502)","v":0},{"$f":"SUMIF($M$5:M$502,$AF115,O$5:O$502)","v":0},{"$f":"SUMIF($M$5:M$502,$AF115,P$5:P$502)","v":0},null,null,null,null,null,{"$f":"IF(PLANTS!A113=\"\",\"\",PLANTS!A113)","v":"CAPE7"},2,"",0,{"$f":"IF(PLANTS!C113=\"\",\"\",PLANTS!C113)","v":""},"",{"$f":"IF(PLANTS!D113=\"\",\"\",PLANTS!D113)","v":""},"",{"$f":"IF(PLANTS!E113=\"\",\"\",PLANTS!E113)","v":"y"},"",{"$f":"IF(PLANTS!F113=\"\",\"\",PLANTS!F113)","v":""},"",0,null,50,"",null,0,{"$f":"IF(DE115=\"A\",PLANTS!H113,DE115)","v":"M"},50,null,"","","","",null,null,null,"","",null,null,{"$f":"IF(KeySP!A112=\"\",\"\",KeySP!A112)","v":"JUXI"},0,0,"",{"$error":"#DIV/0!"},null,"",null," ","",null,"","","","","","","","",null,"","","CAPE7",{"$f":"IF(DC115=\"a\",PLANTS!I113,DMA!DC115)","v":2},{"$f":"IF(DD115=\"a\",PLANTS!G113,DMA!DD115)","v":50},"","","","","","","",null,null,{"$f":"PLANTS!I113","v":2},{"$f":"PLANTS!G113","v":50},{"$f":"PLANTS!H113","v":"M"},null,null,null,null,"",{"$f":"IF(DMA!DJ115=\"\",\"\",(DMA!N115-SUMIF(Graphs!$O$13:$O$199,DMA!$DJ115,Graphs!$V$13:$V$199))^2)","v":""},{"$f":"IF(DMA!DK115=\"\",\"\",(DMA!O115-SUMIF(Graphs!$O$13:$O$199,DMA!$DJ115,Graphs!$V$13:$V$199))^2)","v":""},{"$f":"IF(DMA!DL115=\"\",\"\",(DMA!P115-SUMIF(Graphs!$O$13:$O$199,DMA!$DJ115,Graphs!$V$13:$V$199))^2)","v":""},"",0,"",0,111,null,null,null,null,11.5]
[null,null,null,null,null,null,null,null,null,null,null,null,null,null,null,null,null,null,null,{"$f":"IF(A116=\"\",\"\",(Header!C$7*Header!C$6)*A116)","v":""},"","","","","",{"$f":"IF(KeySP!D113=\"\",\"\",KeySP!D113)","v":""},{"$error":"#VALUE!"},498,"",null,null,{"$f":"IF(KeySP!$D113=\"\",\"\",KeySP!$D113)","v":""},{"$f":"SUMIF($M$5:M$502,$AF116,N$5:N$502)","v":0},{"$f":"SUMIF($M$5:M$502,$AF116,O$5:O$502)","v":0},{"$f":"SUMIF($M$5:M$502,$AF116,P$5:P$502)","v":0},null,null,null,null,null,{"$f":"IF(PLANTS!A114=\"\",\"\",PLANTS!A114)","v":"CAPR5"},8.5,"",0,{"$f":"IF(PLANTS!C114=\"\",\"\",PLANTS!C114)","v":""},"",{"$f":"IF(PLANTS!D114=\"\",\"\",PLANTS!D114)","v":"y"},"",{"$f":"IF(PLANTS!E114=\"\",\"\",PLANTS!E114)","v":"y"},"",{"$f":"IF(PLANTS!F114=\"\",\"\",PLANTS!F114)","v":""},"",0,null,75,"",null,0,{"$f":"IF(DE116=\"A\",PLANTS!H114,DE116)","v":"L"},80,null,"","","","",null,null,null,"","",null,null,{"$f":"IF(KeySP!A113=\"\",\"\",KeySP!A113)","v":"LECI4"},0,0,"",{"$f":"IF(I116=BZ$3,J116,\"\")","v":{"$error":"#DIV/0!"}},null,"",null," ","",null,"","","","",0,"",0,"",null,"","","CAPR5",{"$f":"IF(DC116=\"a\",PLANTS!I114,DMA!DC116)","v":8.5},{"$f":"IF(DD116=\"a\",PLANTS!G114,DMA!DD116)","v":75},"","","","","","","",null,null,{"$f":"PLANTS!I114","v":8.5},{"$f":"PLANTS!G114","v":75},{"$f":"PLANTS!H114","v":"L"},null,null,null,null,"",{"$f":"IF(DMA!DJ116=\"\",\"\",(DMA!N116-SUMIF(Graphs!$O$13:$O$199,DMA!$DJ116,Graphs!$V$13:$V$199))^2)","v":""},{"$f":"IF(DMA!DK116=\"\",\"\",(DMA!O116-SUMIF(Graphs!$O$13:$O$199,DMA!$DJ116,Graphs!$V$13:$V$199))^2)","v":""},{"$f":"IF(DMA!DL116=\"\",\"\",(DMA!P116-SUMIF(Graphs!$O$13:$O$199,DMA!$DJ116,Graphs!$V$13:$V$199))^2)","v":""},"",0,"",0,112,null,null,null,null,11.6]
[null,null,null,null,null,null,null,null,null,null,null,null,null,null,null,null,null,null,null,{"$f":"IF(A117=\"\",\"\",(Header!C$7*Header!C$6)*A117)","v":""},"","","","","",{"$f":"IF(KeySP!D114=\"\",\"\",KeySP!D114)","v":""},{"$error":"#VALUE!"},498,"",null,null,{"$f":"IF(KeySP!$D114=\"\",\"\",KeySP!$D114)","v":""},{"$f":"SUMIF($M$5:M$502,$AF117,N$5:N$502)","v":0},{"$f":"SUMIF($M$5:M$502,$AF117,O$5:O$502)","v":0},{"$f":"SUMIF($M$5:M$502,$AF117,P$5:P$502)","v":0},null,null,null,null,null,{"$f":"IF(PLANTS!A115=\"\",\"\",PLANTS!A115)","v":"CAQU2"},5,"",0,{"$f":"IF(PLANTS!C115=\"\",\"\",PLANTS!C115)","v":""},"",{"$f":"IF(PLANTS!D115=\"\",\"\",PLANTS!D115)","v":"y"},"",{"$f":"IF(PLANTS!E115=\"\",\"\",PLANTS!E115)","v":"y"},"",{"$f":"IF(PLANTS!F115=\"\",\"\",PLANTS!F115)","v":"y"},"",0,null,75,"",null,0,{"$f":"IF(DE117=\"A\",PLANTS!H115,DE117)","v":"M"},50,null,"","","","",null,null,null,"","",null,null,{"$f":"IF(KeySP!A114=\"\",\"\",KeySP!A114)","v":"LEIN6"},0,0,"",{"$error":"#DIV/0!"},null,"",null," ","",null,"","","",0,0,"",0,"",null,"","","CAQU2",{"$f":"IF(DC117=\"a\",PLANTS!I115,DMA!DC117)","v":5},{"$f":"IF(DD117=\"a\",PLANTS!G115,DMA!DD117)","v":75},"","","","","","","",null,null,{"$f":"PLANTS!I115","v":5},{"$f":"PLANTS!G115","v":75},{"$f":"PLANTS!H115","v":"M"},null,null,null,null,"",{"$f":"IF(DMA!DJ117=\"\",\"\",(DMA!N117-SUMIF(Graphs!$O$13:$O$199,DMA!$DJ117,Graphs!$V$13:$V$199))^2)","v":""},{"$f":"IF(DMA!DK117=\"\",\"\",(DMA!O117-SUMIF(Graphs!$O$13:$O$199,DMA!$DJ117,Graphs!$V$13:$V$199))^2)","v":""},{"$f":"IF(DMA!DL117=\"\",\"\",(DMA!P117-SUMIF(Graphs!$O$13:$O$199,DMA!$DJ117,Graphs!$V$13:$V$199))^2)","v":""},"",0,"",0,113,null,null,null,null,11.7]
[null,null,null,null,null,null,null,null,null,null,null,null,null,null,null,null,null,null,null,{"$f":"IF(A118=\"\",\"\",(Header!C$7*Header!C$6)*A118)","v":""},"","","","","",{"$f":"IF(KeySP!D115=\"\",\"\",KeySP!D115)","v":""},{"$error":"#VALUE!"},{"$f":"COUNTIF(R$5:R$503,Z118)","v":499},"",null,null,{"$f":"IF(KeySP!$D115=\"\",\"\",KeySP!$D115)","v":""},{"$f":"SUMIF($M$5:M$502,$AF118,N$5:N$502)","v":0},{"$f":"SUMIF($M$5:M$502,$AF118,O$5:O$502)","v":0},{"$f":"SUMIF($M$5:M$502,$AF118,P$5:P$502)","v":0},null,null,null,null,null,{"$f":"IF(PLANTS!A116=\"\",\"\",PLANTS!A116)","v":"CAREX"},5,"",0,{"$f":"IF(PLANTS!C116=\"\",\"\",PLANTS!C116)","v":""},"",{"$f":"IF(PLANTS!D116=\"\",\"\",PLANTS!D116)","v":"y"},"",{"$f":"IF(PLANTS!E116=\"\",\"\",PLANTS!E116)","v":"y"},"",{"$f":"IF(PLANTS!F116=\"\",\"\",PLANTS!F116)","v":""},"",0,null,75,"",null,0,{"$f":"IF(DE118=\"A\",PLANTS!H116,DE118)","v":"M"},50,null,"","","","",null,null,null,"","",null,null,{"$f":"IF(KeySP!A115=\"\",\"\",KeySP!A115)","v":"LEOR"},0,0,"",{"$error":"#DIV/0!"},null,"",null," ","",null,"","","","",0,"",0,"",null,"","","CAREX",{"$f":"IF(DC118=\"a\",PLANTS!I116,DMA!DC118)","v":5},{"$f":"IF(DD118=\"a\",PLANTS!G116,DMA!DD118)","v":75},"","","","","","","",null,null,{"$f":"PLANTS!I116","v":5},{"$f":"PLANTS!G116","v":75},{"$f":"PLANTS!H116","v":"M"},null,null,null,null,"",{"$f":"IF(DMA!DJ118=\"\",\"\",(DMA!N118-SUMIF(Graphs!$O$13:$O$199,DMA!$DJ118,Graphs!$V$13:$V$199))^2)","v":""},{"$f":"IF(DMA!DK118=\"\",\"\",(DMA!O118-SUMIF(Graphs!$O$13:$O$199,DMA!$DJ118,Graphs!$V$13:$V$199))^2)","v":""},{"$f":"IF(DMA!DL118=\"\",\"\",(DMA!P118-SUMIF(Graphs!$O$13:$O$199,DMA!$DJ118,Graphs!$V$13:$V$199))^2)","v":""},"",0,"",0,114,null,null,null,null,11.8]
[null,null,null,null,null,null,null,null,null,null,null,null,null,null,null,null,null,null,null,{"$f":"IF(A119=\"\",\"\",(Header!C$7*Header!C$6)*A119)","v":""},"","","","","",{"$f":"IF(KeySP!D116=\"\",\"\",KeySP!D116)","v":""},{"$error":"#VALUE!"},499,"",null,null,{"$f":"IF(KeySP!$D116=\"\",\"\",KeySP!$D116)","v":""},{"$f":"SUMIF($M$5:M$502,$AF119,N$5:N$502)","v":0},{"$f":"SUMIF($M$5:M$502,$AF119,O$5:O$502)","v":0},{"$f":"SUMIF($M$5:M$502,$AF119,P$5:P$502)","v":0},null,null,null,null,null,{"$f":"IF(PLANTS!A117=\"\",\"\",PLANTS!A117)","v":"CAREXRH"},8.5,"",0,{"$f":"IF(PLANTS!C117=\"\",\"\",PLANTS!C117)","v":""},"",{"$f":"IF(PLANTS!D117=\"\",\"\",PLANTS!D117)","v":"y"},"",{"$f":"IF(PLANTS!E117=\"\",\"\",PLANTS!E117)","v":"y"},"",{"$f":"IF(PLANTS!F117=\"\",\"\",PLANTS!F117)","v":""},"",0,null,100,"",null,0,{"$f":"IF(DE119=\"A\",PLANTS!H117,DE119)","v":"L"},80,null,"","","","",null,null,null,"","",null,null,{"$f":"IF(KeySP!A116=\"\",\"\",KeySP!A116)","v":"LETR5"},0,0,"",{"$error":"#DIV/0!"},null,"",null," ","",null,"","","","",0,"",0,"",null,"","","CAREXRH",{"$f":"IF(DC119=\"a\",PLANTS!I117,DMA!DC119)","v":8.5},{"$f":"IF(DD119=\"a\",PLANTS!G117,DMA!DD119)","v":100},"","","","","","","",null,null,{"$f":"PLANTS!I117","v":8.5},{"$f":"PLANTS!G117","v":100},{"$f":"PLANTS!H117","v":"L"},null,null,null,null,"",{"$f":"IF(DMA!DJ119=\"\",\"\",(DMA!N119-SUMIF(Graphs!$O$13:$O$199,DMA!$DJ119,Graphs!$V$13:$V$199))^2)","v":""},{"$f":"IF(DMA!DK119=\"\",\"\",(DMA!O119-SUMIF(Graphs!$O$13:$O$199,DMA!$DJ119,Graphs!$V$13:$V$199))^2)","v":""},{"$f":"IF(DMA!DL119=\"\",\"\",(DMA!P119-SUMIF(Graphs!$O$13:$O$199,DMA!$DJ119,Graphs!$V$13:$V$199))^2)","v":""},"",0,"",0,115,null,null,null,null,11.9]
[null,null,null,null,null,null,null,null,null,null,null,null,null,null,null,null,null,null,null,{"$f":"IF(A120=\"\",\"\",(Header!C$7*Header!C$6)*A120)","v":""},"","","","","",{"$f":"IF(KeySP!D117=\"\",\"\",KeySP!D117)","v":""},{"$error":"#VALUE!"},499,"",null,null,{"$f":"IF(KeySP!$D117=\"\",\"\",KeySP!$D117)","v":""},{"$f":"SUMIF($M$5:M$502,$AF120,N$5:N$502)","v":0},{"$f":"SUMIF($M$5:M$502,$AF120,O$5:O$502)","v":0},{"$f":"SUMIF($M$5:M$502,$AF120,P$5:P$502)","v":0},null,null,null,null,null,{"$f":"IF(PLANTS!A118=\"\",\"\",PLANTS!A118)","v":"CAREXTU"},2,"",0,{"$f":"IF(PLANTS!C118=\"\",\"\",PLANTS!C118)","v":""},"",{"$f":"IF(PLANTS!D118=\"\",\"\",PLANTS!D118)","v":"y"},"",{"$f":"IF(PLANTS!E118=\"\",\"\",PLANTS!E118)","v":"y"},"",{"$f":"IF(PLANTS!F118=\"\",\"\",PLANTS!F118)","v":""},"",0,null,75,"",null,0,{"$f":"IF(DE120=\"A\",PLANTS!H118,DE120)","v":"M"},50,null,"","","","",null,null,null,"","",null,null,{"$f":"IF(KeySP!A117=\"\",\"\",KeySP!A117)","v":"MG"},0,0,"",{"$error":"#DIV/0!"},null,"",null," ","",null,"","","","",0,"",0,"",null,"","","CAREXTU",{"$f":"IF(DC120=\"a\",PLANTS!I118,DMA!DC120)","v":2},{"$f":"IF(DD120=\"a\",PLANTS!G118,DMA!DD120)","v":75},"","","","","","","",null,null,{"$f":"PLANTS!I118","v":2},{"$f":"PLANTS!G118","v":75},{"$f":"PLANTS!H118","v":"M"},null,null,null,null,"",{"$f":"IF(DMA!DJ120=\"\",\"\",(DMA!N120-SUMIF(Graphs!$O$13:$O$199,DMA!$DJ120,Graphs!$V$13:$V$199))^2)","v":""},{"$f":"IF(DMA!DK120=\"\",\"\",(DMA!O120-SUMIF(Graphs!$O$13:$O$199,DMA!$DJ120,Graphs!$V$13:$V$199))^2)","v":""},{"$f":"IF(DMA!DL120=\"\",\"\",(DMA!P120-SUMIF(Graphs!$O$13:$O$199,DMA!$DJ120,Graphs!$V$13:$V$199))^2)","v":""},"",0,"",0,116,null,null,null,null,12]
[null,null,null,null,null,null,null,null,null,null,null,null,null,null,null,null,null,null,null,{"$f":"IF(A121=\"\",\"\",(Header!C$7*Header!C$6)*A121)","v":""},"","","","","",{"$f":"IF(KeySP!D118=\"\",\"\",KeySP!D118)","v":""},{"$error":"#VALUE!"},499,"",null,null,{"$f":"IF(KeySP!$D118=\"\",\"\",KeySP!$D118)","v":""},{"$f":"SUMIF($M$5:M$502,$AF121,N$5:N$502)","v":0},{"$f":"SUMIF($M$5:M$502,$AF121,O$5:O$502)","v":0},{"$f":"SUMIF($M$5:M$502,$AF121,P$5:P$502)","v":0},null,null,null,null,null,{"$f":"IF(PLANTS!A119=\"\",\"\",PLANTS!A119)","v":"CARO6"},8.5,"",0,{"$f":"IF(PLANTS!C119=\"\",\"\",PLANTS!C119)","v":""},"",{"$f":"IF(PLANTS!D119=\"\",\"\",PLANTS!D119)","v":"y"},"",{"$f":"IF(PLANTS!E119=\"\",\"\",PLANTS!E119)","v":"y"},"",{"$f":"IF(PLANTS!F119=\"\",\"\",PLANTS!F119)","v":""},"",0,null,100,"",null,0,{"$f":"IF(DE121=\"A\",PLANTS!H119,DE121)","v":"L"},80,null,"","","","",null,null,null,"","",null,null,{"$f":"IF(KeySP!A118=\"\",\"\",KeySP!A118)","v":"MUAN"},0,0,"",{"$error":"#DIV/0!"},null,"",null," ","",null,"","","","",0,"",0,"",null,"","","CARO6",{"$f":"IF(DC121=\"a\",PLANTS!I119,DMA!DC121)","v":8.5},{"$f":"IF(DD121=\"a\",PLANTS!G119,DMA!DD121)","v":100},"","","","","","","",null,null,{"$f":"PLANTS!I119","v":8.5},{"$f":"PLANTS!G119","v":100},{"$f":"PLANTS!H119","v":"L"},null,null,null,null,"",{"$f":"IF(DMA!DJ121=\"\",\"\",(DMA!N121-SUMIF(Graphs!$O$13:$O$199,DMA!$DJ121,Graphs!$V$13:$V$199))^2)","v":""},{"$f":"IF(DMA!DK121=\"\",\"\",(DMA!O121-SUMIF(Graphs!$O$13:$O$199,DMA!$DJ121,Graphs!$V$13:$V$199))^2)","v":""},{"$f":"IF(DMA!DL121=\"\",\"\",(DMA!P121-SUMIF(Graphs!$O$13:$O$199,DMA!$DJ121,Graphs!$V$13:$V$199))^2)","v":""},"",0,"",0,117,null,null,null,null,12.1]
[null,null,null,null,null,null,null,null,null,null,null,null,null,null,null,null,null,null,null,{"$f":"IF(A122=\"\",\"\",(Header!C$7*Header!C$6)*A122)","v":""},"","","","","",{"$f":"IF(KeySP!D119=\"\",\"\",KeySP!D119)","v":""},{"$error":"#VALUE!"},499,"",null,null,{"$f":"IF(KeySP!$D119=\"\",\"\",KeySP!$D119)","v":""},{"$f":"SUMIF($M$5:M$502,$AF122,N$5:N$502)","v":0},{"$f":"SUMIF($M$5:M$502,$AF122,O$5:O$502)","v":0},{"$f":"SUMIF($M$5:M$502,$AF122,P$5:P$502)","v":0},null,null,null,null,null,{"$f":"IF(PLANTS!A120=\"\",\"\",PLANTS!A120)","v":"CASA10"},8.5,"",0,{"$f":"IF(PLANTS!C120=\"\",\"\",PLANTS!C120)","v":""},"",{"$f":"IF(PLANTS!D120=\"\",\"\",PLANTS!D120)","v":"y"},"",{"$f":"IF(PLANTS!E120=\"\",\"\",PLANTS!E120)","v":"y"},"",{"$f":"IF(PLANTS!F120=\"\",\"\",PLANTS!F120)","v":""},"",0,null,100,"",null,0,{"$f":"IF(DE122=\"A\",PLANTS!H120,DE122)","v":"L"},80,null,"","","","",null,null,null,"","",null,null,{"$f":"IF(KeySP!A119=\"\",\"\",KeySP!A119)","v":"MUAS"},0,0,"",{"$error":"#DIV/0!"},null,"",null," ","",null,"","","","",0,"",0,"",null,"","","CASA10",{"$f":"IF(DC122=\"a\",PLANTS!I120,DMA!DC122)","v":8.5},{"$f":"IF(DD122=\"a\",PLANTS!G120,DMA!DD122)","v":100},"","","","","","","",null,null,{"$f":"PLANTS!I120","v":8.5},{"$f":"PLANTS!G120","v":100},{"$f":"PLANTS!H120","v":"L"},null,null,null,null,"",{"$f":"IF(DMA!DJ122=\"\",\"\",(DMA!N122-SUMIF(Graphs!$O$13:$O$199,DMA!$DJ122,Graphs!$V$13:$V$199))^2)","v":""},{"$f":"IF(DMA!DK122=\"\",\"\",(DMA!O122-SUMIF(Graphs!$O$13:$O$199,DMA!$DJ122,Graphs!$V$13:$V$199))^2)","v":""},{"$f":"IF(DMA!DL122=\"\",\"\",(DMA!P122-SUMIF(Graphs!$O$13:$O$199,DMA!$DJ122,Graphs!$V$13:$V$199))^2)","v":""},"",0,"",0,118,null,null,null,null,12.2]
[null,null,null,null,null,null,null,null,null,null,null,null,null,null,null,null,null,null,null,{"$f":"IF(A123=\"\",\"\",(Header!C$7*Header!C$6)*A123)","v":""},"","","","","",{"$f":"IF(KeySP!D120=\"\",\"\",KeySP!D120)","v":""},{"$error":"#VALUE!"},499,"",null,null,{"$f":"IF(KeySP!$D120=\"\",\"\",KeySP!$D120)","v":""},{"$f":"SUMIF($M$5:M$502,$AF123,N$5:N$502)","v":0},{"$f":"SUMIF($M$5:M$502,$AF123,O$5:O$502)","v":0},{"$f":"SUMIF($M$5:M$502,$AF123,P$5:P$502)","v":0},null,null,null,null,null,{"$f":"IF(PLANTS!A121=\"\",\"\",PLANTS!A121)","v":"CASA8"},8.5,"",0,{"$f":"IF(PLANTS!C121=\"\",\"\",PLANTS!C121)","v":""},"",{"$f":"IF(PLANTS!D121=\"\",\"\",PLANTS!D121)","v":"y"},"",{"$f":"IF(PLANTS!E121=\"\",\"\",PLANTS!E121)","v":"y"},"",{"$f":"IF(PLANTS!F121=\"\",\"\",PLANTS!F121)","v":""},"",0,null,100,"",null,0,{"$f":"IF(DE123=\"A\",PLANTS!H121,DE123)","v":"L"},80,null,"","","","",null,null,null,"","",null,null,{"$f":"IF(KeySP!A120=\"\",\"\",KeySP!A120)","v":"MUCU3"},0,0,"",{"$error":"#DIV/0!"},null,"",null," ","",null,"","","","",0,"",0,"",null,"","","CASA8",{"$f":"IF(DC123=\"a\",PLANTS!I121,DMA!DC123)","v":8.5},{"$f":"IF(DD123=\"a\",PLANTS!G121,DMA!DD123)","v":100},"","","","","","","",null,null,{"$f":"PLANTS!I121","v":8.5},{"$f":"PLANTS!G121","v":100},{"$f":"PLANTS!H121","v":"L"},null,null,null,null,"",{"$f":"IF(DMA!DJ123=\"\",\"\",(DMA!N123-SUMIF(Graphs!$O$13:$O$199,DMA!$DJ123,Graphs!$V$13:$V$199))^2)","v":""},{"$f":"IF(DMA!DK123=\"\",\"\",(DMA!O123-SUMIF(Graphs!$O$13:$O$199,DMA!$DJ123,Graphs!$V$13:$V$199))^2)","v":""},{"$f":"IF(DMA!DL123=\"\",\"\",(DMA!P123-SUMIF(Graphs!$O$13:$O$199,DMA!$DJ123,Graphs!$V$13:$V$199))^2)","v":""},"",0,"",0,119,null,null,null,null,12.3]
[null,null,null,null,null,null,null,null,null,null,null,null,null,null,null,null,null,null,null,{"$f":"IF(A124=\"\",\"\",(Header!C$7*Header!C$6)*A124)","v":""},"","","","","",{"$f":"IF(KeySP!D121=\"\",\"\",KeySP!D121)","v":""},{"$error":"#VALUE!"},499,"",null,null,{"$f":"IF(KeySP!$D121=\"\",\"\",KeySP!$D121)","v":""},{"$f":"SUMIF($M$5:M$502,$AF124,N$5:N$502)","v":0},{"$f":"SUMIF($M$5:M$502,$AF124,O$5:O$502)","v":0},{"$f":"SUMIF($M$5:M$502,$AF124,P$5:P$502)","v":0},null,null,null,null,null,{"$f":"IF(PLANTS!A122=\"\",\"\",PLANTS!A122)","v":"CASA9"},2,"",0,{"$f":"IF(PLANTS!C122=\"\",\"\",PLANTS!C122)","v":""},"",{"$f":"IF(PLANTS!D122=\"\",\"\",PLANTS!D122)","v":""},"",{"$f":"IF(PLANTS!E122=\"\",\"\",PLANTS!E122)","v":"y"},"",{"$f":"IF(PLANTS!F122=\"\",\"\",PLANTS!F122)","v":""},"",0,null,50,"",null,0,{"$f":"IF(DE124=\"A\",PLANTS!H122,DE124)","v":"E"},20,null,"","","","",null,null,null,"","",null,null,{"$f":"IF(KeySP!A121=\"\",\"\",KeySP!A121)","v":"MUFI2"},0,0,"",{"$error":"#DIV/0!"},null,"",null," ","",null,"","","","","","","","",null,"","","CASA9",{"$f":"IF(DC124=\"a\",PLANTS!I122,DMA!DC124)","v":2},{"$f":"IF(DD124=\"a\",PLANTS!G122,DMA!DD124)","v":50},"","","","","","","",null,null,{"$f":"PLANTS!I122","v":2},{"$f":"PLANTS!G122","v":50},{"$f":"PLANTS!H122","v":"E"},null,null,null,null,"",{"$f":"IF(DMA!DJ124=\"\",\"\",(DMA!N124-SUMIF(Graphs!$O$13:$O$199,DMA!$DJ124,Graphs!$V$13:$V$199))^2)","v":""},{"$f":"IF(DMA!DK124=\"\",\"\",(DMA!O124-SUMIF(Graphs!$O$13:$O$199,DMA!$DJ124,Graphs!$V$13:$V$199))^2)","v":""},{"$f":"IF(DMA!DL124=\"\",\"\",(DMA!P124-SUMIF(Graphs!$O$13:$O$199,DMA!$DJ124,Graphs!$V$13:$V$199))^2)","v":""},"",0,"",0,120,null,null,null,null,12.4]
[null,null,null,null,null,null,null,null,null,null,null,null,null,null,null,null,null,null,null,{"$f":"IF(A125=\"\",\"\",(Header!C$7*Header!C$6)*A125)","v":""},"","","","","",{"$f":"IF(KeySP!D122=\"\",\"\",KeySP!D122)","v":""},{"$f":"IF(Z125=\"\",\"\",IF(AB125>0,AC125/AB125*0.01,\"\"))","v":""},{"$f":"IF(Z125=\"\",\"\",COUNTIF(R$5:R$503,\"*\"&Z125&\"*\"))","v":""},"",null,null,{"$f":"IF(KeySP!$D122=\"\",\"\",KeySP!$D122)","v":""},{"$f":"SUMIF($M$5:M$502,$AF125,N$5:N$502)","v":0},{"$f":"SUMIF($M$5:M$502,$AF125,O$5:O$502)","v":0},{"$f":"SUMIF($M$5:M$502,$AF125,P$5:P$502)","v":0},null,null,null,null,null,{"$f":"IF(PLANTS!A123=\"\",\"\",PLANTS!A123)","v":"CASC12"},8.5,"",0,{"$f":"IF(PLANTS!C123=\"\",\"\",PLANTS!C123)","v":""},"",{"$f":"IF(PLANTS!D123=\"\",\"\",PLANTS!D123)","v":"y"},"",{"$f":"IF(PLANTS!E123=\"\",\"\",PLANTS!E123)","v":"y"},"",{"$f":"IF(PLANTS!F123=\"\",\"\",PLANTS!F123)","v":""},"",0,null,75,"",null,0,{"$f":"IF(DE125=\"A\",PLANTS!H123,DE125)","v":"L"},80,null,"","","","",null,null,null,"","",null,null,{"$f":"IF(KeySP!A122=\"\",\"\",KeySP!A122)","v":"MURA"},0,0,{"$f":"IF(BW125>0,BW125/BV125,\"\")","v":""},{"$error":"#DIV/0!"},null,"",null," ","",null,"","","","",0,"",0,"",null,"","","CASC12",{"$f":"IF(DC125=\"a\",PLANTS!I123,DMA!DC125)","v":8.5},{"$f":"IF(DD125=\"a\",PLANTS!G123,DMA!DD125)","v":75},"","","","","","","",null,null,{"$f":"PLANTS!I123","v":8.5},{"$f":"PLANTS!G123","v":75},{"$f":"PLANTS!H123","v":"L"},null,null,null,null,"",{"$f":"IF(DMA!DJ125=\"\",\"\",(DMA!N125-SUMIF(Graphs!$O$13:$O$199,DMA!$DJ125,Graphs!$V$13:$V$199))^2)","v":""},{"$f":"IF(DMA!DK125=\"\",\"\",(DMA!O125-SUMIF(Graphs!$O$13:$O$199,DMA!$DJ125,Graphs!$V$13:$V$199))^2)","v":""},{"$f":"IF(DMA!DL125=\"\",\"\",(DMA!P125-SUMIF(Graphs!$O$13:$O$199,DMA!$DJ125,Graphs!$V$13:$V$199))^2)","v":""},"",0,"",0,121,null,null,null,null,12.5]
[null,null,null,null,null,null,null,null,null,null,null,null,null,null,null,null,null,null,null,{"$f":"IF(A126=\"\",\"\",(Header!C$7*Header!C$6)*A126)","v":""},"","","","","",{"$f":"IF(KeySP!D123=\"\",\"\",KeySP!D123)","v":""},{"$f":"IF(Z126=\"\",\"\",IF(AB126>0,AC126/AB126*0.01,\"\"))","v":""},{"$f":"IF(Z126=\"\",\"\",COUNTIF(R$5:R$502,\"*\"&Z126&\"*\"))","v":""},"",null,null,{"$f":"IF(KeySP!$D123=\"\",\"\",KeySP!$D123)","v":""},{"$f":"SUMIF($M$5:M$502,$AF126,N$5:N$502)","v":0},{"$f":"SUMIF($M$5:M$502,$AF126,O$5:O$502)","v":0},{"$f":"SUMIF($M$5:M$502,$AF126,P$5:P$502)","v":0},null,null,null,null,null,{"$f":"IF(PLANTS!A124=\"\",\"\",PLANTS!A124)","v":"CASH"},8.5,"",0,{"$f":"IF(PLANTS!C124=\"\",\"\",PLANTS!C124)","v":""},"",{"$f":"IF(PLANTS!D124=\"\",\"\",PLANTS!D124)","v":"y"},"",{"$f":"IF(PLANTS!E124=\"\",\"\",PLANTS!E124)","v":"y"},"",{"$f":"IF(PLANTS!F124=\"\",\"\",PLANTS!F124)","v":""},"",0,null,100,"",null,0,{"$f":"IF(DE126=\"A\",PLANTS!H124,DE126)","v":"L"},80,null,"","","","",null,null,null,"","",null,null,{"$f":"IF(KeySP!A123=\"\",\"\",KeySP!A123)","v":"MURI"},0,0,"",{"$error":"#DIV/0!"},null,"",null," ","",null,"","","","",0,"",0,"",null,"","","CASH",{"$f":"IF(DC126=\"a\",PLANTS!I124,DMA!DC126)","v":8.5},{"$f":"IF(DD126=\"a\",PLANTS!G124,DMA!DD126)","v":100},"","","","","","","",null,null,{"$f":"PLANTS!I124","v":8.5},{"$f":"PLANTS!G124","v":100},{"$f":"PLANTS!H124","v":"L"},null,null,null,null,"",{"$f":"IF(DMA!DJ126=\"\",\"\",(DMA!N126-SUMIF(Graphs!$O$13:$O$199,DMA!$DJ126,Graphs!$V$13:$V$199))^2)","v":""},{"$f":"IF(DMA!DK126=\"\",\"\",(DMA!O126-SUMIF(Graphs!$O$13:$O$199,DMA!$DJ126,Graphs!$V$13:$V$199))^2)","v":""},{"$f":"IF(DMA!DL126=\"\",\"\",(DMA!P126-SUMIF(Graphs!$O$13:$O$199,DMA!$DJ126,Graphs!$V$13:$V$199))^2)","v":""},"",0,"",0,122,null,null,null,null,12.6]
[null,null,null,null,null,null,null,null,null,null,null,null,null,null,null,null,null,null,null,{"$f":"IF(A127=\"\",\"\",(Header!C$7*Header!C$6)*A127)","v":""},"","","","","",{"$f":"IF(KeySP!D124=\"\",\"\",KeySP!D124)","v":""},"","","",null,null,{"$f":"IF(KeySP!$D124=\"\",\"\",KeySP!$D124)","v":""},{"$f":"SUMIF($M$5:M$502,$AF127,N$5:N$502)","v":0},{"$f":"SUMIF($M$5:M$502,$AF127,O$5:O$502)","v":0},{"$f":"SUMIF($M$5:M$502,$AF127,P$5:P$502)","v":0},null,null,null,null,null,{"$f":"IF(PLANTS!A125=\"\",\"\",PLANTS!A125)","v":"CASI2"},8.5,"",0,{"$f":"IF(PLANTS!C125=\"\",\"\",PLANTS!C125)","v":""},"",{"$f":"IF(PLANTS!D125=\"\",\"\",PLANTS!D125)","v":"y"},"",{"$f":"IF(PLANTS!E125=\"\",\"\",PLANTS!E125)","v":"y"},"",{"$f":"IF(PLANTS!F125=\"\",\"\",PLANTS!F125)","v":""},"",0,null,100,"",null,0,{"$f":"IF(DE127=\"A\",PLANTS!H125,DE127)","v":"L"},80,null,"","","","",null,null,null,"","",null,null,{"$f":"IF(KeySP!A124=\"\",\"\",KeySP!A124)","v":"MURI2"},0,0,"",{"$error":"#DIV/0!"},null,"",null," ","",null,"","","","",0,"",0,"",null,"","","CASI2",{"$f":"IF(DC127=\"a\",PLANTS!I125,DMA!DC127)","v":8.5},{"$f":"IF(DD127=\"a\",PLANTS!G125,DMA!DD127)","v":100},"","","","","","","",null,null,{"$f":"PLANTS!I125","v":8.5},{"$f":"PLANTS!G125","v":100},{"$f":"PLANTS!H125","v":"L"},null,null,null,null,"",{"$f":"IF(DMA!DJ127=\"\",\"\",(DMA!N127-SUMIF(Graphs!$O$13:$O$199,DMA!$DJ127,Graphs!$V$13:$V$199))^2)","v":""},{"$f":"IF(DMA!DK127=\"\",\"\",(DMA!O127-SUMIF(Graphs!$O$13:$O$199,DMA!$DJ127,Graphs!$V$13:$V$199))^2)","v":""},{"$f":"IF(DMA!DL127=\"\",\"\",(DMA!P127-SUMIF(Graphs!$O$13:$O$199,DMA!$DJ127,Graphs!$V$13:$V$199))^2)","v":""},"",0,"",0,123,null,null,null,null,12.7]
[null,null,null,null,null,null,null,null,null,null,null,null,null,null,null,null,null,null,null,{"$f":"IF(A128=\"\",\"\",(Header!C$7*Header!C$6)*A128)","v":""},"","","","","",{"$f":"IF(KeySP!D125=\"\",\"\",KeySP!D125)","v":""},"","","",null,null,{"$f":"IF(KeySP!$D125=\"\",\"\",KeySP!$D125)","v":""},{"$f":"SUMIF($M$5:M$502,$AF128,N$5:N$502)","v":0},{"$f":"SUMIF($M$5:M$502,$AF128,O$5:O$502)","v":0},{"$f":"SUMIF($M$5:M$502,$AF128,P$5:P$502)","v":0},null,null,null,null,null,{"$f":"IF(PLANTS!A126=\"\",\"\",PLANTS!A126)","v":"CASP35"},2,"",0,{"$f":"IF(PLANTS!C126=\"\",\"\",PLANTS!C126)","v":""},"",{"$f":"IF(PLANTS!D126=\"\",\"\",PLANTS!D126)","v":"y"},"",{"$f":"IF(PLANTS!E126=\"\",\"\",PLANTS!E126)","v":"y"},"",{"$f":"IF(PLANTS!F126=\"\",\"\",PLANTS!F126)","v":""},"",0,null,100,"",null,0,{"$f":"IF(DE128=\"A\",PLANTS!H126,DE128)","v":"L"},80,null,"","","","",null,null,null,"","",null,null,{"$f":"IF(KeySP!A125=\"\",\"\",KeySP!A125)","v":"PADI3"},0,0,"",{"$error":"#DIV/0!"},null,"",null," ","",null,"","","","",0,"",0,"",null,"","","CASP35",{"$f":"IF(DC128=\"a\",PLANTS!I126,DMA!DC128)","v":2},{"$f":"IF(DD128=\"a\",PLANTS!G126,DMA!DD128)","v":100},"","","","","","","",null,null,{"$f":"PLANTS!I126","v":2},{"$f":"PLANTS!G126","v":100},{"$f":"PLANTS!H126","v":"L"},null,null,null,null,"",{"$f":"IF(DMA!DJ128=\"\",\"\",(DMA!N128-SUMIF(Graphs!$O$13:$O$199,DMA!$DJ128,Graphs!$V$13:$V$199))^2)","v":""},{"$f":"IF(DMA!DK128=\"\",\"\",(DMA!O128-SUMIF(Graphs!$O$13:$O$199,DMA!$DJ128,Graphs!$V$13:$V$199))^2)","v":""},{"$f":"IF(DMA!DL128=\"\",\"\",(DMA!P128-SUMIF(Graphs!$O$13:$O$199,DMA!$DJ128,Graphs!$V$13:$V$199))^2)","v":""},"",0,"",0,124,null,null,null,null,12.8]
[null,null,null,null,null,null,null,null,null,null,null,null,null,null,null,null,null,null,null,{"$f":"IF(A129=\"\",\"\",(Header!C$7*Header!C$6)*A129)","v":""},"","","","","",{"$f":"IF(KeySP!D126=\"\",\"\",KeySP!D126)","v":""},"","","",null,null,{"$f":"IF(KeySP!$D126=\"\",\"\",KeySP!$D126)","v":""},{"$f":"SUMIF($M$5:M$502,$AF129,N$5:N$502)","v":0},{"$f":"SUMIF($M$5:M$502,$AF129,O$5:O$502)","v":0},{"$f":"SUMIF($M$5:M$502,$AF129,P$5:P$502)","v":0},null,null,null,null,null,{"$f":"IF(PLANTS!A127=\"\",\"\",PLANTS!A127)","v":"CAST36"},2,"",0,{"$f":"IF(PLANTS!C127=\"\",\"\",PLANTS!C127)","v":""},"",{"$f":"IF(PLANTS!D127=\"\",\"\",PLANTS!D127)","v":"y"},"",{"$f":"IF(PLANTS!E127=\"\",\"\",PLANTS!E127)","v":"y"},"",{"$f":"IF(PLANTS!F127=\"\",\"\",PLANTS!F127)","v":""},"",0,null,75,"",null,0,{"$f":"IF(DE129=\"A\",PLANTS!H127,DE129)","v":"M"},50,null,"","","","",null,null,null,"","",null,null,{"$f":"IF(KeySP!A126=\"\",\"\",KeySP!A126)","v":"PADI6"},0,0,"",{"$error":"#DIV/0!"},null,"",null," ","",null,"","","","",0,"",0,"",null,"","","CAST36",{"$f":"IF(DC129=\"a\",PLANTS!I127,DMA!DC129)","v":2},{"$f":"IF(DD129=\"a\",PLANTS!G127,DMA!DD129)","v":75},"","","","","","","",null,null,{"$f":"PLANTS!I127","v":2},{"$f":"PLANTS!G127","v":75},{"$f":"PLANTS!H127","v":"M"},null,null,null,null,"",{"$f":"IF(DMA!DJ129=\"\",\"\",(DMA!N129-SUMIF(Graphs!$O$13:$O$199,DMA!$DJ129,Graphs!$V$13:$V$199))^2)","v":""},{"$f":"IF(DMA!DK129=\"\",\"\",(DMA!O129-SUMIF(Graphs!$O$13:$O$199,DMA!$DJ129,Graphs!$V$13:$V$199))^2)","v":""},{"$f":"IF(DMA!DL129=\"\",\"\",(DMA!P129-SUMIF(Graphs!$O$13:$O$199,DMA!$DJ129,Graphs!$V$13:$V$199))^2)","v":""},"",0,"",0,125,null,null,null,null,12.9]
[null,null,null,null,null,null,null,null,null,null,null,null,null,null,null,null,null,null,null,{"$f":"IF(A130=\"\",\"\",(Header!C$7*Header!C$6)*A130)","v":""},"","","","","",{"$f":"IF(KeySP!D127=\"\",\"\",KeySP!D127)","v":""},"","","",null,null,{"$f":"IF(KeySP!$D127=\"\",\"\",KeySP!$D127)","v":""},{"$f":"SUMIF($M$5:M$502,$AF130,N$5:N$502)","v":0},{"$f":"SUMIF($M$5:M$502,$AF130,O$5:O$502)","v":0},{"$f":"SUMIF($M$5:M$502,$AF130,P$5:P$502)","v":0},null,null,null,null,null,{"$f":"IF(PLANTS!A128=\"\",\"\",PLANTS!A128)","v":"CAST5"},2,"",0,{"$f":"IF(PLANTS!C128=\"\",\"\",PLANTS!C128)","v":""},"",{"$f":"IF(PLANTS!D128=\"\",\"\",PLANTS!D128)","v":"y"},"",{"$f":"IF(PLANTS!E128=\"\",\"\",PLANTS!E128)","v":"y"},"",{"$f":"IF(PLANTS!F128=\"\",\"\",PLANTS!F128)","v":""},"",0,null,100,"",null,0,{"$f":"IF(DE130=\"A\",PLANTS!H128,DE130)","v":"M"},50,null,"","","","",null,null,null,"","",null,null,{"$f":"IF(KeySP!A127=\"\",\"\",KeySP!A127)","v":"PASM"},0,0,"",{"$error":"#DIV/0!"},null,"",null," ","",null,"","","","",0,"",0,"",null,"","","CAST5",{"$f":"IF(DC130=\"a\",PLANTS!I128,DMA!DC130)","v":2},{"$f":"IF(DD130=\"a\",PLANTS!G128,DMA!DD130)","v":100},"","","","","","","",null,null,{"$f":"PLANTS!I128","v":2},{"$f":"PLANTS!G128","v":100},{"$f":"PLANTS!H128","v":"M"},null,null,null,null,"",{"$f":"IF(DMA!DJ130=\"\",\"\",(DMA!N130-SUMIF(Graphs!$O$13:$O$199,DMA!$DJ130,Graphs!$V$13:$V$199))^2)","v":""},{"$f":"IF(DMA!DK130=\"\",\"\",(DMA!O130-SUMIF(Graphs!$O$13:$O$199,DMA!$DJ130,Graphs!$V$13:$V$199))^2)","v":""},{"$f":"IF(DMA!DL130=\"\",\"\",(DMA!P130-SUMIF(Graphs!$O$13:$O$199,DMA!$DJ130,Graphs!$V$13:$V$199))^2)","v":""},"",0,"",0,126,null,null,null,null,13]
[null,null,null,null,null,null,null,null,null,null,null,null,null,null,null,null,null,null,null,{"$f":"IF(A131=\"\",\"\",(Header!C$7*Header!C$6)*A131)","v":""},"","","","","",{"$f":"IF(KeySP!D128=\"\",\"\",KeySP!D128)","v":""},"","","",null,null,{"$f":"IF(KeySP!$D128=\"\",\"\",KeySP!$D128)","v":""},{"$f":"SUMIF($M$5:M$502,$AF131,N$5:N$502)","v":0},{"$f":"SUMIF($M$5:M$502,$AF131,O$5:O$502)","v":0},{"$f":"SUMIF($M$5:M$502,$AF131,P$5:P$502)","v":0},null,null,null,null,null,{"$f":"IF(PLANTS!A129=\"\",\"\",PLANTS!A129)","v":"CASU6"},2,"",0,{"$f":"IF(PLANTS!C129=\"\",\"\",PLANTS!C129)","v":""},"",{"$f":"IF(PLANTS!D129=\"\",\"\",PLANTS!D129)","v":""},"",{"$f":"IF(PLANTS!E129=\"\",\"\",PLANTS!E129)","v":"y"},"",{"$f":"IF(PLANTS!F129=\"\",\"\",PLANTS!F129)","v":""},"",0,null,50,"",null,0,{"$f":"IF(DE131=\"A\",PLANTS!H129,DE131)","v":"M"},50,null,"","","","",null,null,null,"","",null,null,{"$f":"IF(KeySP!A128=\"\",\"\",KeySP!A128)","v":"PAVI2"},{"$f":"IF(BU131=\"\",\"\",COUNTIF(I$5:I$504,BU131))","v":0},0,"",{"$error":"#DIV/0!"},null,"",null," ","",null,"","","","","","","","",null,"","","CASU6",{"$f":"IF(DC131=\"a\",PLANTS!I129,DMA!DC131)","v":2},{"$f":"IF(DD131=\"a\",PLANTS!G129,DMA!DD131)","v":50},"","","","","","","",null,null,{"$f":"PLANTS!I129","v":2},{"$f":"PLANTS!G129","v":50},{"$f":"PLANTS!H129","v":"M"},null,null,null,null,"",{"$f":"IF(DMA!DJ131=\"\",\"\",(DMA!N131-SUMIF(Graphs!$O$13:$O$199,DMA!$DJ131,Graphs!$V$13:$V$199))^2)","v":""},{"$f":"IF(DMA!DK131=\"\",\"\",(DMA!O131-SUMIF(Graphs!$O$13:$O$199,DMA!$DJ131,Graphs!$V$13:$V$199))^2)","v":""},{"$f":"IF(DMA!DL131=\"\",\"\",(DMA!P131-SUMIF(Graphs!$O$13:$O$199,DMA!$DJ131,Graphs!$V$13:$V$199))^2)","v":""},"",0,"",0,127,null,null,null,null,13.1]
[null,null,null,null,null,null,null,null,null,null,null,null,null,null,null,null,null,null,null,{"$f":"IF(A132=\"\",\"\",(Header!C$7*Header!C$6)*A132)","v":""},"","","","","",{"$f":"IF(KeySP!D129=\"\",\"\",KeySP!D129)","v":""},"","","",null,null,{"$f":"IF(KeySP!$D129=\"\",\"\",KeySP!$D129)","v":""},{"$f":"SUMIF($M$5:M$502,$AF132,N$5:N$502)","v":0},{"$f":"SUMIF($M$5:M$502,$AF132,O$5:O$502)","v":0},{"$f":"SUMIF($M$5:M$502,$AF132,P$5:P$502)","v":0},null,null,null,null,null,{"$f":"IF(PLANTS!A130=\"\",\"\",PLANTS!A130)","v":"CATE3"},2,"",0,{"$f":"IF(PLANTS!C130=\"\",\"\",PLANTS!C130)","v":""},"",{"$f":"IF(PLANTS!D130=\"\",\"\",PLANTS!D130)","v":"y"},"",{"$f":"IF(PLANTS!E130=\"\",\"\",PLANTS!E130)","v":"y"},"",{"$f":"IF(PLANTS!F130=\"\",\"\",PLANTS!F130)","v":""},"",0,null,75,"",null,0,{"$f":"IF(DE132=\"A\",PLANTS!H130,DE132)","v":"M"},50,null,"","","","",null,null,null,"","",null,null,{"$f":"IF(KeySP!A129=\"\",\"\",KeySP!A129)","v":"PHAR3"},0,0,"",{"$error":"#DIV/0!"},null,"",null," ","",null,"","","","",0,"",0,"",null,"","","CATE3",{"$f":"IF(DC132=\"a\",PLANTS!I130,DMA!DC132)","v":2},{"$f":"IF(DD132=\"a\",PLANTS!G130,DMA!DD132)","v":75},"","","","","","","",null,null,{"$f":"PLANTS!I130","v":2},{"$f":"PLANTS!G130","v":75},{"$f":"PLANTS!H130","v":"M"},null,null,null,null,"",{"$f":"IF(DMA!DJ132=\"\",\"\",(DMA!N132-SUMIF(Graphs!$O$13:$O$199,DMA!$DJ132,Graphs!$V$13:$V$199))^2)","v":""},{"$f":"IF(DMA!DK132=\"\",\"\",(DMA!O132-SUMIF(Graphs!$O$13:$O$199,DMA!$DJ132,Graphs!$V$13:$V$199))^2)","v":""},{"$f":"IF(DMA!DL132=\"\",\"\",(DMA!P132-SUMIF(Graphs!$O$13:$O$199,DMA!$DJ132,Graphs!$V$13:$V$199))^2)","v":""},"",0,"",0,128,null,null,null,null,13.2]
[null,null,null,null,null,null,null,null,null,null,null,null,null,null,null,null,null,null,null,{"$f":"IF(A133=\"\",\"\",(Header!C$7*Header!C$6)*A133)","v":""},{"$f":"IF(K133=\"\",\"\",K133*12/39)","v":""},"","","","",{"$f":"IF(KeySP!D130=\"\",\"\",KeySP!D130)","v":""},"",{"$f":"IF(Z133=\"\",\"\",COUNTIF(R$5:R$502,\"*\"&Z133&\"*\"))","v":""},{"$f":"IF(Z133=\"\",\"\",SUMIF($R$5:$R$502,\"*\"&Z133&\"*\",S$5:S$502))","v":""},null,null,{"$f":"IF(KeySP!$D130=\"\",\"\",KeySP!$D130)","v":""},{"$f":"SUMIF($M$5:M$502,$AF133,N$5:N$502)","v":0},{"$f":"SUMIF($M$5:M$502,$AF133,O$5:O$502)","v":0},{"$f":"SUMIF($M$5:M$502,$AF133,P$5:P$502)","v":0},null,null,null,null,null,{"$f":"IF(PLANTS!A131=\"\",\"\",PLANTS!A131)","v":"CATH"},2,"",{"$f":"SUMIF(B$5:B$504,AO133,D$5:D$504)","v":0},{"$f":"IF(PLANTS!C131=\"\",\"\",PLANTS!C131)","v":""},{"$f":"IF($AQ133=\"\",\"\",IF($AQ133>0,IF(AS133=\"y\",COUNTIF(B$5:B$504,AO133)/AP$605,\"\"),\"\"))","v":""},{"$f":"IF(PLANTS!D131=\"\",\"\",PLANTS!D131)","v":""},{"$f":"IF($AQ133=\"\",\"\",IF($AQ133>0,IF(AU133=\"y\",COUNTIF($B$5:$B$504,$AO133)/$AP$605,\"\"),\"\"))","v":""},{"$f":"IF(PLANTS!E131=\"\",\"\",PLANTS!E131)","v":"y"},"",{"$f":"IF(PLANTS!F131=\"\",\"\",PLANTS!F131)","v":""},{"$f":"IF($AQ133=\"\",\"\",IF($AQ133>0,IF(AY133=\"y\",COUNTIF($B$5:$B$504,$AO133)/$AP$605,\"\"),\"\"))","v":""},{"$f":"IF(AQ133<>\"\",AQ133/AQ$604,0)","v":0},null,50,"",null,0,{"$f":"IF(DE133=\"A\",PLANTS!H131,DE133)","v":"M"},50,null,"","","","",null,null,null,"","",null,null,{"$f":"IF(KeySP!A130=\"\",\"\",KeySP!A130)","v":"PHAU7"},0,{"$f":"SUMIF(I$5:I$504,BU133,J$5:J$504)","v":0},"",{"$error":"#DIV/0!"},null,"",null," ","",null,"","","","","","","","",null,"","","CATH",{"$f":"IF(DC133=\"a\",PLANTS!I131,DMA!DC133)","v":2},{"$f":"IF(DD133=\"a\",PLANTS!G131,DMA!DD133)","v":50},{"$f":"IF($B133>\"0\",LOOKUP($B133,$CQ$5:$CQ$414,$CS$5:$CS$414),\"\")","v":""},{"$f":"IF($C133>\"0\",LOOKUP($C133,$CQ$5:$CQ$414,$CS$5:$CS$414),\"\")","v":""},"",{"$f":"IF($B133>\"0\",LOOKUP($B133,$CQ$5:$CQ$414,$CR$5:$CR$414),\"\")","v":""},{"$f":"IF($C133>\"0\",LOOKUP($C133,$CQ$5:$CQ$414,$CR$5:$CR$414),\"\")","v":""},"",{"$f":"IF($B133>\"0\",LOOKUP($B133,$CQ$5:$CQ$414,$BH$5:$BH$414),\"\")","v":""},null,null,{"$f":"PLANTS!I131","v":2},{"$f":"PLANTS!G131","v":50},{"$f":"PLANTS!H131","v":"M"},null,null,null,null,"",{"$f":"IF(DMA!DJ133=\"\",\"\",(DMA!N133-SUMIF(Graphs!$O$13:$O$199,DMA!$DJ133,Graphs!$V$13:$V$199))^2)","v":""},{"$f":"IF(DMA!DK133=\"\",\"\",(DMA!O133-SUMIF(Graphs!$O$13:$O$199,DMA!$DJ133,Graphs!$V$13:$V$199))^2)","v":""},{"$f":"IF(DMA!DL133=\"\",\"\",(DMA!P133-SUMIF(Graphs!$O$13:$O$199,DMA!$DJ133,Graphs!$V$13:$V$199))^2)","v":""},{"$f":"IF(AO133=\"\",\"\",IF(COUNTIF($B$5:$B$504,$AO133)=0,\"\",SUMIF($B$5:$B$504,$AO133,$C$5:$C$504)*COUNTIF(B$5:B$504,AO133)))","v":""},{"$f":"IF(DN133<>\"\",DN133/DN$604,0)","v":0},"",0,129,null,null,null,null,13.3]
[null,null,null,null,null,null,null,null,null,null,null,null,null,null,null,null,null,null,null,{"$f":"IF(A134=\"\",\"\",(Header!C$7*Header!C$6)*A134)","v":""},"",{"$f":"IF(F134=\"\",\"\",IF(ISNUMBER(SEARCH(F134,\"d\")),IF(ISNUMBER(SEARCH(G134,\"c\")),\"CS\",IF(ISNUMBER(SEARCH(G134,\"u\")),\"UU\")),\"\"))","v":""},{"$f":"IF(F134=\"\",\"\",IF(ISNUMBER(SEARCH(F134,\"e\")),IF(ISNUMBER(SEARCH(G134,\"c\")),IF(ISNUMBER(SEARCH(H134,\"a\")),\"CS\",\"CU\"),IF(ISNUMBER(SEARCH(H134,\"a\")),\"US\",\"UU\")),\"\"))","v":""},{"$f":"IF(V134=\"\",W134,V134)","v":""},{"$f":"IF($X134=\"cs\",1,IF($X134=\"cu\",2,IF($X134=\"us\",3,IF($X134=\"uu\",4,\"\"))))","v":""},{"$f":"IF(KeySP!D131=\"\",\"\",KeySP!D131)","v":""},"","","",null,null,{"$f":"IF(KeySP!$D131=\"\",\"\",KeySP!$D131)","v":""},{"$f":"SUMIF($M$5:M$502,$AF134,N$5:N$502)","v":0},{"$f":"SUMIF($M$5:M$502,$AF134,O$5:O$502)","v":0},{"$f":"SUMIF($M$5:M$502,$AF134,P$5:P$502)","v":0},null,null,null,null,null,{"$f":"IF(PLANTS!A132=\"\",\"\",PLANTS!A132)","v":"CAUL"},{"$f":"CR134","v":8.5},{"$f":"IF(AO134=\"\",\"\",IF(COUNTIF(B$5:B$504,AO134)=0,\"\",SUMIF(B$5:B$504,AO134,C$5:C$504)))","v":""},0,{"$f":"IF(PLANTS!C132=\"\",\"\",PLANTS!C132)","v":""},"",{"$f":"IF(PLANTS!D132=\"\",\"\",PLANTS!D132)","v":"y"},"",{"$f":"IF(PLANTS!E132=\"\",\"\",PLANTS!E132)","v":"y"},"",{"$f":"IF(PLANTS!F132=\"\",\"\",PLANTS!F132)","v":""},"",0,null,{"$f":"CS134","v":100},{"$f":"IF(AQ134<>\"\",BA134*$BC134,\"\")","v":""},null,{"$f":"(BA134*AP134)","v":0},{"$f":"IF(DE134=\"A\",PLANTS!H132,DE134)","v":"L"},80,null,{"$f":"IF($X134=\"cs\",1,IF($X134=\"fb\",1,IF($X134=\"cu\",2,IF($X134=\"us\",3,IF($X134=\"uu\",4,\"\")))))","v":""},{"$f":"IF(Y134=\"\",\"\",IF(Y134<3,\"c\",IF(Y134>2,\"u\",\"\")))","v":""},{"$f":"IF(Y134=\"\",\"\",IF(Y134=1,\"s\",IF(Y134=3,\"s\",IF(Y134=2,\"u\",IF(Y134=4,\"u\",\"\")))))","v":""},{"$f":"IF(BJ134=0,\"\",BJ134)","v":""},null,null,null,{"$f":"IF(E134<>\"\",E134+1,\"\")","v":""},{"$f":"IF(E134=\"\",\"\",(E134+1)/5)","v":""},null,null,{"$f":"IF(KeySP!A131=\"\",\"\",KeySP!A131)","v":"PHCO15"},0,0,"",{"$error":"#DIV/0!"},null,{"$f":"IF(SUM(N134:Q134)=0,\"\",SUM(N134:Q134))","v":""},null," ",{"$f":"IF(D134+J134<1,\"\",1)","v":""},null,{"$f":"IF(D134=6,1,\"\")","v":""},{"$f":"IF(CF134<>\"\",C134,\"\")","v":""},{"$f":"IF(AR134>0,IF($CF134=\"y\",AR134/$AQ$604,\"\"),\"\")","v":""},{"$f":"IF(AY134=\"\",\"\",COUNTIF(B$5:B$503,AO134))","v":""},{"$f":"IF(AU134=\"\",\"\",COUNTIF(B$5:B$503,AO134))","v":0},{"$f":"IF(AS134=\"\",\"\",COUNTIF(B$5:B$503,AO134))","v":""},{"$f":"IF(AU134=\"\",\"\",IF(AW134=\"\",\"\",COUNTIF(B$5:B$503,AO134)))","v":0},{"$f":"IF(Q134=\"\",\"\",COUNTIF($AO$5:$AO$688,Q134))","v":""},null,{"$f":"IF(CQ134=\"\",\"\",IF(COUNTIF($B$5:$B$503,$CQ134)=0,\"\",SUMIF(B$5:B$503,CQ134,C$5:C$503)/COUNTIF($B$5:$B$503,$CQ134)))","v":""},{"$f":"IF(CQ134=\"\",\"\",IF(COUNTIF(B$5:B$503,CQ134)=0,\"\",COUNTIF(B$5:B$503,CQ134)/COUNTA(B$5:B$503)))","v":""},{"$f":"AO134","v":"CAUL"},{"$f":"IF(DC134=\"a\",PLANTS!I132,DMA!DC134)","v":8.5},{"$f":"IF(DD134=\"a\",PLANTS!G132,DMA!DD134)","v":100},"","","","","",{"$f":"IF(CW134=\"\",\"\",IF(CX134=\"\",CW134,(CW134*2+CX134)/3))","v":""},"",null,null,{"$f":"PLANTS!I132","v":8.5},{"$f":"PLANTS!G132","v":100},{"$f":"PLANTS!H132","v":"L"},null,null,null,null,{"$f":"IF(M134=\"\",\"\",M134)","v":""},{"$f":"IF(DMA!DJ134=\"\",\"\",(DMA!N134-SUMIF(Graphs!$O$13:$O$199,DMA!$DJ134,Graphs!$V$13:$V$199))^2)","v":""},{"$f":"IF(DMA!DK134=\"\",\"\",(DMA!O134-SUMIF(Graphs!$O$13:$O$199,DMA!$DJ134,Graphs!$V$13:$V$199))^2)","v":""},{"$f":"IF(DMA!DL134=\"\",\"\",(DMA!P134-SUMIF(Graphs!$O$13:$O$199,DMA!$DJ134,Graphs!$V$13:$V$199))^2)","v":""},"",0,{"$f":"IF($AQ134<>\"\",$DO134*$BC134,\"\")","v":""},{"$f":"(DO134*$AP134)","v":0},130,null,null,null,null,13.4]
[null,null,null,null,null,null,null,null,null,null,null,null,null,null,null,null,null,null,null,{"$f":"IF(A135=\"\",\"\",(Header!C$7*Header!C$6)*A135)","v":""},"","","","","",{"$f":"IF(KeySP!D132=\"\",\"\",KeySP!D132)","v":""},"","","",null,null,{"$f":"IF(KeySP!$D132=\"\",\"\",KeySP!$D132)","v":""},{"$f":"SUMIF($M$5:M$502,$AF135,N$5:N$502)","v":0},{"$f":"SUMIF($M$5:M$502,$AF135,O$5:O$502)","v":0},{"$f":"SUMIF($M$5:M$502,$AF135,P$5:P$502)","v":0},null,null,null,null,null,{"$f":"IF(PLANTS!A133=\"\",\"\",PLANTS!A133)","v":"CAUT"},8.5,"",0,{"$f":"IF(PLANTS!C133=\"\",\"\",PLANTS!C133)","v":""},"",{"$f":"IF(PLANTS!D133=\"\",\"\",PLANTS!D133)","v":"y"},"",{"$f":"IF(PLANTS!E133=\"\",\"\",PLANTS!E133)","v":"y"},{"$f":"IF(AU135=\"y\",IF(AW135=\"y\",AV135,\"\"),\"\")","v":""},{"$f":"IF(PLANTS!F133=\"\",\"\",PLANTS!F133)","v":""},"",0,null,100,"",null,0,{"$f":"IF(DE135=\"A\",PLANTS!H133,DE135)","v":"L"},80,null,"","","","",null,null,null,"","",null,null,{"$f":"IF(KeySP!A132=\"\",\"\",KeySP!A132)","v":"PLMU3"},0,0,"",{"$error":"#DIV/0!"},null,"",null," ","",null,"","","","",0,"",0,"",null,"","","CAUT",{"$f":"IF(DC135=\"a\",PLANTS!I133,DMA!DC135)","v":8.5},{"$f":"IF(DD135=\"a\",PLANTS!G133,DMA!DD135)","v":100},"","",{"$f":"IF(CT135=\"\",\"\",IF(CU135=\"\",CT135,(CT135*2+CU135)/3))","v":""},"","","","",null,null,{"$f":"PLANTS!I133","v":8.5},{"$f":"PLANTS!G133","v":100},{"$f":"PLANTS!H133","v":"L"},null,null,null,null,"",{"$f":"IF(DMA!DJ135=\"\",\"\",(DMA!N135-SUMIF(Graphs!$O$13:$O$199,DMA!$DJ135,Graphs!$V$13:$V$199))^2)","v":""},{"$f":"IF(DMA!DK135=\"\",\"\",(DMA!O135-SUMIF(Graphs!$O$13:$O$199,DMA!$DJ135,Graphs!$V$13:$V$199))^2)","v":""},{"$f":"IF(DMA!DL135=\"\",\"\",(DMA!P135-SUMIF(Graphs!$O$13:$O$199,DMA!$DJ135,Graphs!$V$13:$V$199))^2)","v":""},"",0,"",0,131,null,null,null,null,13.5]
[null,null,null,null,null,null,null,null,null,null,null,null,null,null,null,null,null,null,null,{"$f":"IF(A136=\"\",\"\",(Header!C$7*Header!C$6)*A136)","v":""},"","","","","",{"$f":"IF(KeySP!D133=\"\",\"\",KeySP!D133)","v":""},"","","",null,null,{"$f":"IF(KeySP!$D133=\"\",\"\",KeySP!$D133)","v":""},{"$f":"SUMIF($M$5:M$502,$AF136,N$5:N$502)","v":0},{"$f":"SUMIF($M$5:M$502,$AF136,O$5:O$502)","v":0},{"$f":"SUMIF($M$5:M$502,$AF136,P$5:P$502)","v":0},null,null,null,null,null,{"$f":"IF(PLANTS!A134=\"\",\"\",PLANTS!A134)","v":"CAVA3"},2,"",0,{"$f":"IF(PLANTS!C134=\"\",\"\",PLANTS!C134)","v":""},"",{"$f":"IF(PLANTS!D134=\"\",\"\",PLANTS!D134)","v":""},"",{"$f":"IF(PLANTS!E134=\"\",\"\",PLANTS!E134)","v":"y"},"",{"$f":"IF(PLANTS!F134=\"\",\"\",PLANTS!F134)","v":""},"",0,null,50,"",null,0,{"$f":"IF(DE136=\"A\",PLANTS!H134,DE136)","v":"M"},{"$f":"IF(BG136=\"l\",80,IF(BG136=\"m\",50,IF(BG136=\"E\",20)))","v":50},null,"","","","",null,null,null,"","",null,null,{"$f":"IF(KeySP!A133=\"\",\"\",KeySP!A133)","v":"POA"},0,0,"",{"$error":"#DIV/0!"},null,"",null," ","",null,"","","","","","","","",null,"","","CAVA3",{"$f":"IF(DC136=\"a\",PLANTS!I134,DMA!DC136)","v":2},{"$f":"IF(DD136=\"a\",PLANTS!G134,DMA!DD136)","v":50},"","","","","","","",null,null,{"$f":"PLANTS!I134","v":2},{"$f":"PLANTS!G134","v":50},{"$f":"PLANTS!H134","v":"M"},null,null,null,null,"",{"$f":"IF(DMA!DJ136=\"\",\"\",(DMA!N136-SUMIF(Graphs!$O$13:$O$199,DMA!$DJ136,Graphs!$V$13:$V$199))^2)","v":""},{"$f":"IF(DMA!DK136=\"\",\"\",(DMA!O136-SUMIF(Graphs!$O$13:$O$199,DMA!$DJ136,Graphs!$V$13:$V$199))^2)","v":""},{"$f":"IF(DMA!DL136=\"\",\"\",(DMA!P136-SUMIF(Graphs!$O$13:$O$199,DMA!$DJ136,Graphs!$V$13:$V$199))^2)","v":""},"",0,"",0,132,null,null,null,null,13.6]
[null,null,null,null,null,null,null,null,null,null,null,null,null,null,null,null,null,null,null,{"$f":"IF(A137=\"\",\"\",(Header!C$7*Header!C$6)*A137)","v":""},"","","","","",{"$f":"IF(KeySP!D134=\"\",\"\",KeySP!D134)","v":""},"","","",null,null,{"$f":"IF(KeySP!$D134=\"\",\"\",KeySP!$D134)","v":""},{"$f":"SUMIF($M$5:M$502,$AF137,N$5:N$502)","v":0},{"$f":"SUMIF($M$5:M$502,$AF137,O$5:O$502)","v":0},{"$f":"SUMIF($M$5:M$502,$AF137,P$5:P$502)","v":0},null,null,null,null,null,{"$f":"IF(PLANTS!A135=\"\",\"\",PLANTS!A135)","v":"CAVE6"},8.5,"",0,{"$f":"IF(PLANTS!C135=\"\",\"\",PLANTS!C135)","v":""},"",{"$f":"IF(PLANTS!D135=\"\",\"\",PLANTS!D135)","v":"y"},"",{"$f":"IF(PLANTS!E135=\"\",\"\",PLANTS!E135)","v":"y"},"",{"$f":"IF(PLANTS!F135=\"\",\"\",PLANTS!F135)","v":""},"",0,null,100,"",null,0,{"$f":"IF(DE137=\"A\",PLANTS!H135,DE137)","v":"L"},80,null,"","","","",null,null,null,"","",null,null,{"$f":"IF(KeySP!A134=\"\",\"\",KeySP!A134)","v":"POMO5"},0,0,"",{"$error":"#DIV/0!"},null,"",null," ","",null,"","","","",0,"",0,"",null,"","","CAVE6",{"$f":"IF(DC137=\"a\",PLANTS!I135,DMA!DC137)","v":8.5},{"$f":"IF(DD137=\"a\",PLANTS!G135,DMA!DD137)","v":100},"","","","","","","",null,null,{"$f":"PLANTS!I135","v":8.5},{"$f":"PLANTS!G135","v":100},{"$f":"PLANTS!H135","v":"L"},null,null,null,null,"",{"$f":"IF(DMA!DJ137=\"\",\"\",(DMA!N137-SUMIF(Graphs!$O$13:$O$199,DMA!$DJ137,Graphs!$V$13:$V$199))^2)","v":""},{"$f":"IF(DMA!DK137=\"\",\"\",(DMA!O137-SUMIF(Graphs!$O$13:$O$199,DMA!$DJ137,Graphs!$V$13:$V$199))^2)","v":""},{"$f":"IF(DMA!DL137=\"\",\"\",(DMA!P137-SUMIF(Graphs!$O$13:$O$199,DMA!$DJ137,Graphs!$V$13:$V$199))^2)","v":""},"",0,"",0,133,null,null,null,null,13.7]
[null,null,null,null,null,null,null,null,null,null,null,null,null,null,null,null,null,null,null,{"$f":"IF(A138=\"\",\"\",(Header!C$7*Header!C$6)*A138)","v":""},"","","","","",{"$f":"IF(KeySP!D135=\"\",\"\",KeySP!D135)","v":""},"","","",null,null,{"$f":"IF(KeySP!$D135=\"\",\"\",KeySP!$D135)","v":""},{"$f":"SUMIF($M$5:M$502,$AF138,N$5:N$502)","v":0},{"$f":"SUMIF($M$5:M$502,$AF138,O$5:O$502)","v":0},{"$f":"SUMIF($M$5:M$502,$AF138,P$5:P$502)","v":0},null,null,null,null,null,{"$f":"IF(PLANTS!A136=\"\",\"\",PLANTS!A136)","v":"CAVU2"},5,"",0,{"$f":"IF(PLANTS!C136=\"\",\"\",PLANTS!C136)","v":""},"",{"$f":"IF(PLANTS!D136=\"\",\"\",PLANTS!D136)","v":"y"},"",{"$f":"IF(PLANTS!E136=\"\",\"\",PLANTS!E136)","v":"y"},"",{"$f":"IF(PLANTS!F136=\"\",\"\",PLANTS!F136)","v":""},"",0,null,100,"",null,0,{"$f":"IF(DE138=\"A\",PLANTS!H136,DE138)","v":"M"},50,null,"","","","",null,null,null,"","",null,null,{"$f":"IF(KeySP!A135=\"\",\"\",KeySP!A135)","v":"POPA2"},0,0,{"$f":"IF(BW138>0,BW138/BV138,\"\")","v":""},{"$error":"#DIV/0!"},null,"",null," ","",null,"","","","",0,"",0,"",null,"","","CAVU2",{"$f":"IF(DC138=\"a\",PLANTS!I136,DMA!DC138)","v":5},{"$f":"IF(DD138=\"a\",PLANTS!G136,DMA!DD138)","v":100},"","","","","","","",null,null,{"$f":"PLANTS!I136","v":5},{"$f":"PLANTS!G136","v":100},{"$f":"PLANTS!H136","v":"M"},null,null,null,null,"",{"$f":"IF(DMA!DJ138=\"\",\"\",(DMA!N138-SUMIF(Graphs!$O$13:$O$199,DMA!$DJ138,Graphs!$V$13:$V$199))^2)","v":""},{"$f":"IF(DMA!DK138=\"\",\"\",(DMA!O138-SUMIF(Graphs!$O$13:$O$199,DMA!$DJ138,Graphs!$V$13:$V$199))^2)","v":""},{"$f":"IF(DMA!DL138=\"\",\"\",(DMA!P138-SUMIF(Graphs!$O$13:$O$199,DMA!$DJ138,Graphs!$V$13:$V$199))^2)","v":""},"",0,"",0,134,null,null,null,null,13.8]
[null,null,null,null,null,null,null,null,null,null,null,null,null,null,null,null,null,null,null,{"$f":"IF(A139=\"\",\"\",(Header!C$7*Header!C$6)*A139)","v":""},"","","","","",{"$f":"IF(KeySP!D136=\"\",\"\",KeySP!D136)","v":""},"",{"$f":"IF(Z139=\"\",\"\",COUNTIF(R$5:R$502,\"*\"&Z139&\"*\"))","v":""},{"$f":"IF(Z139=\"\",\"\",SUMIF($R$5:$R$502,\"*\"&Z139&\"*\",S$5:S$502))","v":""},null,null,{"$f":"IF(KeySP!$D136=\"\",\"\",KeySP!$D136)","v":""},{"$f":"SUMIF($M$5:M$502,$AF139,N$5:N$502)","v":0},{"$f":"SUMIF($M$5:M$502,$AF139,O$5:O$502)","v":0},{"$f":"SUMIF($M$5:M$502,$AF139,P$5:P$502)","v":0},null,null,null,null,null,{"$f":"IF(PLANTS!A137=\"\",\"\",PLANTS!A137)","v":"CAWO"},2,"",0,{"$f":"IF(PLANTS!C137=\"\",\"\",PLANTS!C137)","v":""},"",{"$f":"IF(PLANTS!D137=\"\",\"\",PLANTS!D137)","v":""},"",{"$f":"IF(PLANTS!E137=\"\",\"\",PLANTS!E137)","v":"y"},"",{"$f":"IF(PLANTS!F137=\"\",\"\",PLANTS!F137)","v":""},"",0,null,25,"",null,0,{"$f":"IF(DE139=\"A\",PLANTS!H137,DE139)","v":"M"},50,null,"","","","",null,null,null,"","",null,null,{"$f":"IF(KeySP!A136=\"\",\"\",KeySP!A136)","v":"POPR"},0,0,"",{"$error":"#DIV/0!"},null,"",null," ","",null,"","","","","","","","",null,"","","CAWO",{"$f":"IF(DC139=\"a\",PLANTS!I137,DMA!DC139)","v":2},{"$f":"IF(DD139=\"a\",PLANTS!G137,DMA!DD139)","v":25},"","","","","","","",null,null,{"$f":"PLANTS!I137","v":2},{"$f":"PLANTS!G137","v":25},{"$f":"PLANTS!H137","v":"M"},null,null,null,null,"",{"$f":"IF(DMA!DJ139=\"\",\"\",(DMA!N139-SUMIF(Graphs!$O$13:$O$199,DMA!$DJ139,Graphs!$V$13:$V$199))^2)","v":""},{"$f":"IF(DMA!DK139=\"\",\"\",(DMA!O139-SUMIF(Graphs!$O$13:$O$199,DMA!$DJ139,Graphs!$V$13:$V$199))^2)","v":""},{"$f":"IF(DMA!DL139=\"\",\"\",(DMA!P139-SUMIF(Graphs!$O$13:$O$199,DMA!$DJ139,Graphs!$V$13:$V$199))^2)","v":""},"",0,"",0,135,null,null,null,null,13.9]
[null,null,null,null,null,null,null,null,null,null,null,null,null,null,null,null,null,null,null,{"$f":"IF(A140=\"\",\"\",(Header!C$7*Header!C$6)*A140)","v":""},"","","","","",{"$f":"IF(KeySP!D137=\"\",\"\",KeySP!D137)","v":""},"","","",null,null,{"$f":"IF(KeySP!$D137=\"\",\"\",KeySP!$D137)","v":""},{"$f":"SUMIF($M$5:M$502,$AF140,N$5:N$502)","v":0},{"$f":"SUMIF($M$5:M$502,$AF140,O$5:O$502)","v":0},{"$f":"SUMIF($M$5:M$502,$AF140,P$5:P$502)","v":0},null,null,null,null,null,{"$f":"IF(PLANTS!A138=\"\",\"\",PLANTS!A138)","v":"CEANO"},5,"",0,{"$f":"IF(PLANTS!C138=\"\",\"\",PLANTS!C138)","v":"y"},"",{"$f":"IF(PLANTS!D138=\"\",\"\",PLANTS!D138)","v":""},"",{"$f":"IF(PLANTS!E138=\"\",\"\",PLANTS!E138)","v":""},"",{"$f":"IF(PLANTS!F138=\"\",\"\",PLANTS!F138)","v":""},"",0,null,50,"",null,0,{"$f":"IF(DE140=\"A\",PLANTS!H138,DE140)","v":"M"},50,null,"","","","",null,null,null,"","",null,null,{"$f":"IF(KeySP!A137=\"\",\"\",KeySP!A137)","v":"POVI9"},0,0,"",{"$error":"#DIV/0!"},null,"",null," ","",null,"","","","","",0,"","",null,"","","CEANO",{"$f":"IF(DC140=\"a\",PLANTS!I138,DMA!DC140)","v":5},{"$f":"IF(DD140=\"a\",PLANTS!G138,DMA!DD140)","v":50},"","","","","","","",null,null,{"$f":"PLANTS!I138","v":5},{"$f":"PLANTS!G138","v":50},{"$f":"PLANTS!H138","v":"M"},null,null,null,null,"",{"$f":"IF(DMA!DJ140=\"\",\"\",(DMA!N140-SUMIF(Graphs!$O$13:$O$199,DMA!$DJ140,Graphs!$V$13:$V$199))^2)","v":""},{"$f":"IF(DMA!DK140=\"\",\"\",(DMA!O140-SUMIF(Graphs!$O$13:$O$199,DMA!$DJ140,Graphs!$V$13:$V$199))^2)","v":""},{"$f":"IF(DMA!DL140=\"\",\"\",(DMA!P140-SUMIF(Graphs!$O$13:$O$199,DMA!$DJ140,Graphs!$V$13:$V$199))^2)","v":""},"",0,"",0,136,null,null,null,null,14]
[null,null,null,null,null,null,null,null,null,null,null,null,null,null,null,null,null,null,null,{"$f":"IF(A141=\"\",\"\",(Header!C$7*Header!C$6)*A141)","v":""},"","","","","",{"$f":"IF(KeySP!D138=\"\",\"\",KeySP!D138)","v":""},"","","",null,null,{"$f":"IF(KeySP!$D138=\"\",\"\",KeySP!$D138)","v":""},{"$f":"SUMIF($M$5:M$502,$AF141,N$5:N$502)","v":0},{"$f":"SUMIF($M$5:M$502,$AF141,O$5:O$502)","v":0},{"$f":"SUMIF($M$5:M$502,$AF141,P$5:P$502)","v":0},null,null,null,null,null,{"$f":"IF(PLANTS!A139=\"\",\"\",PLANTS!A139)","v":"CEAR4"},2,"",0,{"$f":"IF(PLANTS!C139=\"\",\"\",PLANTS!C139)","v":""},"",{"$f":"IF(PLANTS!D139=\"\",\"\",PLANTS!D139)","v":""},"",{"$f":"IF(PLANTS!E139=\"\",\"\",PLANTS!E139)","v":"y"},"",{"$f":"IF(PLANTS!F139=\"\",\"\",PLANTS!F139)","v":"y"},"",0,null,25,"",null,0,{"$f":"IF(DE141=\"A\",PLANTS!H139,DE141)","v":"E"},20,null,"","","","",null,null,null,"","",null,null,{"$f":"IF(KeySP!A138=\"\",\"\",KeySP!A138)","v":"PULE"},0,0,"",{"$error":"#DIV/0!"},null,"",null," ","",null,"","","",0,"","","","",null,"","","CEAR4",{"$f":"IF(DC141=\"a\",PLANTS!I139,DMA!DC141)","v":2},{"$f":"IF(DD141=\"a\",PLANTS!G139,DMA!DD141)","v":25},"","","","","","","",null,null,{"$f":"PLANTS!I139","v":2},{"$f":"PLANTS!G139","v":25},{"$f":"PLANTS!H139","v":"E"},null,null,null,null,"",{"$f":"IF(DMA!DJ141=\"\",\"\",(DMA!N141-SUMIF(Graphs!$O$13:$O$199,DMA!$DJ141,Graphs!$V$13:$V$199))^2)","v":""},{"$f":"IF(DMA!DK141=\"\",\"\",(DMA!O141-SUMIF(Graphs!$O$13:$O$199,DMA!$DJ141,Graphs!$V$13:$V$199))^2)","v":""},{"$f":"IF(DMA!DL141=\"\",\"\",(DMA!P141-SUMIF(Graphs!$O$13:$O$199,DMA!$DJ141,Graphs!$V$13:$V$199))^2)","v":""},"",0,"",0,137,null,null,null,null,14.1]
[null,null,null,null,null,null,null,null,null,null,null,null,null,null,null,null,null,null,null,{"$f":"IF(A142=\"\",\"\",(Header!C$7*Header!C$6)*A142)","v":""},"","","","","",{"$f":"IF(KeySP!D139=\"\",\"\",KeySP!D139)","v":""},"","","",null,null,{"$f":"IF(KeySP!$D139=\"\",\"\",KeySP!$D139)","v":""},{"$f":"SUMIF($M$5:M$502,$AF142,N$5:N$502)","v":0},{"$f":"SUMIF($M$5:M$502,$AF142,O$5:O$502)","v":0},{"$f":"SUMIF($M$5:M$502,$AF142,P$5:P$502)","v":0},null,null,null,null,null,{"$f":"IF(PLANTS!A140=\"\",\"\",PLANTS!A140)","v":"CELA"},5,"",0,{"$f":"IF(PLANTS!C140=\"\",\"\",PLANTS!C140)","v":"y"},"",{"$f":"IF(PLANTS!D140=\"\",\"\",PLANTS!D140)","v":""},"",{"$f":"IF(PLANTS!E140=\"\",\"\",PLANTS!E140)","v":""},"",{"$f":"IF(PLANTS!F140=\"\",\"\",PLANTS!F140)","v":""},"",0,null,50,"",null,0,{"$f":"IF(DE142=\"A\",PLANTS!H140,DE142)","v":"L"},80,null,"","","","",null,null,null,"","",null,null,{"$f":"IF(KeySP!A139=\"\",\"\",KeySP!A139)","v":"PUNU2"},0,0,"",{"$error":"#DIV/0!"},null,"",null," ","",null,"","","","","",0,"","",null,"","","CELA",{"$f":"IF(DC142=\"a\",PLANTS!I140,DMA!DC142)","v":5},{"$f":"IF(DD142=\"a\",PLANTS!G140,DMA!DD142)","v":50},"","","","","","","",null,null,{"$f":"PLANTS!I140","v":5},{"$f":"PLANTS!G140","v":50},{"$f":"PLANTS!H140","v":"L"},null,null,null,null,"",{"$f":"IF(DMA!DJ142=\"\",\"\",(DMA!N142-SUMIF(Graphs!$O$13:$O$199,DMA!$DJ142,Graphs!$V$13:$V$199))^2)","v":""},{"$f":"IF(DMA!DK142=\"\",\"\",(DMA!O142-SUMIF(Graphs!$O$13:$O$199,DMA!$DJ142,Graphs!$V$13:$V$199))^2)","v":""},{"$f":"IF(DMA!DL142=\"\",\"\",(DMA!P142-SUMIF(Graphs!$O$13:$O$199,DMA!$DJ142,Graphs!$V$13:$V$199))^2)","v":""},"",0,"",0,138,null,null,null,null,14.2]
[null,null,null,null,null,null,null,null,null,null,null,null,null,null,null,null,null,null,null,{"$f":"IF(A143=\"\",\"\",(Header!C$7*Header!C$6)*A143)","v":""},"","","","","",{"$f":"IF(KeySP!D140=\"\",\"\",KeySP!D140)","v":""},"","","",null,null,{"$f":"IF(KeySP!$D140=\"\",\"\",KeySP!$D140)","v":""},{"$f":"SUMIF($M$5:M$502,$AF143,N$5:N$502)","v":0},{"$f":"SUMIF($M$5:M$502,$AF143,O$5:O$502)","v":0},{"$f":"SUMIF($M$5:M$502,$AF143,P$5:P$502)","v":0},null,null,null,null,null,{"$f":"IF(PLANTS!A141=\"\",\"\",PLANTS!A141)","v":"CEMA4"},2,"",0,{"$f":"IF(PLANTS!C141=\"\",\"\",PLANTS!C141)","v":""},"",{"$f":"IF(PLANTS!D141=\"\",\"\",PLANTS!D141)","v":""},"",{"$f":"IF(PLANTS!E141=\"\",\"\",PLANTS!E141)","v":"y"},"",{"$f":"IF(PLANTS!F141=\"\",\"\",PLANTS!F141)","v":"y"},"",0,null,0,"",null,0,{"$f":"IF(DE143=\"A\",PLANTS!H141,DE143)","v":"E"},20,null,"","","","",null,null,null,"","",null,null,{"$f":"IF(KeySP!A140=\"\",\"\",KeySP!A140)","v":"SCAC"},0,0,"",{"$error":"#DIV/0!"},null,"",null," ","",null,"","","",0,"","","","",null,"","","CEMA4",{"$f":"IF(DC143=\"a\",PLANTS!I141,DMA!DC143)","v":2},{"$f":"IF(DD143=\"a\",PLANTS!G141,DMA!DD143)","v":0},"","","","","","","",null,null,{"$f":"PLANTS!I141","v":2},{"$f":"PLANTS!G141","v":0},{"$f":"PLANTS!H141","v":"E"},null,null,null,null,"",{"$f":"IF(DMA!DJ143=\"\",\"\",(DMA!N143-SUMIF(Graphs!$O$13:$O$199,DMA!$DJ143,Graphs!$V$13:$V$199))^2)","v":""},{"$f":"IF(DMA!DK143=\"\",\"\",(DMA!O143-SUMIF(Graphs!$O$13:$O$199,DMA!$DJ143,Graphs!$V$13:$V$199))^2)","v":""},{"$f":"IF(DMA!DL143=\"\",\"\",(DMA!P143-SUMIF(Graphs!$O$13:$O$199,DMA!$DJ143,Graphs!$V$13:$V$199))^2)","v":""},"",0,"",0,139,null,null,null,null,14.3]
[null,null,null,null,null,null,null,null,null,null,null,null,null,null,null,null,null,null,null,{"$f":"IF(A144=\"\",\"\",(Header!C$7*Header!C$6)*A144)","v":""},"","","","","",{"$f":"IF(KeySP!D141=\"\",\"\",KeySP!D141)","v":""},"","","",null,null,{"$f":"IF(KeySP!$D141=\"\",\"\",KeySP!$D141)","v":""},{"$f":"SUMIF($M$5:M$502,$AF144,N$5:N$502)","v":0},{"$f":"SUMIF($M$5:M$502,$AF144,O$5:O$502)","v":0},{"$f":"SUMIF($M$5:M$502,$AF144,P$5:P$502)","v":0},null,null,null,null,null,{"$f":"IF(PLANTS!A142=\"\",\"\",PLANTS!A142)","v":"CEOC2"},8.5,"",0,{"$f":"IF(PLANTS!C142=\"\",\"\",PLANTS!C142)","v":"y"},"",{"$f":"IF(PLANTS!D142=\"\",\"\",PLANTS!D142)","v":"y"},"",{"$f":"IF(PLANTS!E142=\"\",\"\",PLANTS!E142)","v":""},"",{"$f":"IF(PLANTS!F142=\"\",\"\",PLANTS!F142)","v":""},"",0,null,100,"",null,0,{"$f":"IF(DE144=\"A\",PLANTS!H142,DE144)","v":"L"},80,null,"","","","",null,null,null,"","",null,null,{"$f":"IF(KeySP!A141=\"\",\"\",KeySP!A141)","v":"SCAC3"},0,0,"",{"$error":"#DIV/0!"},null,"",null," ","",null,"","","","",0,0,"","",null,"","","CEOC2",{"$f":"IF(DC144=\"a\",PLANTS!I142,DMA!DC144)","v":8.5},{"$f":"IF(DD144=\"a\",PLANTS!G142,DMA!DD144)","v":100},"","","","","","","",null,null,{"$f":"PLANTS!I142","v":8.5},{"$f":"PLANTS!G142","v":100},{"$f":"PLANTS!H142","v":"L"},null,null,null,null,"",{"$f":"IF(DMA!DJ144=\"\",\"\",(DMA!N144-SUMIF(Graphs!$O$13:$O$199,DMA!$DJ144,Graphs!$V$13:$V$199))^2)","v":""},{"$f":"IF(DMA!DK144=\"\",\"\",(DMA!O144-SUMIF(Graphs!$O$13:$O$199,DMA!$DJ144,Graphs!$V$13:$V$199))^2)","v":""},{"$f":"IF(DMA!DL144=\"\",\"\",(DMA!P144-SUMIF(Graphs!$O$13:$O$199,DMA!$DJ144,Graphs!$V$13:$V$199))^2)","v":""},"",0,"",0,140,null,null,null,null,14.4]
[null,null,null,null,null,null,null,null,null,null,null,null,null,null,null,null,null,null,null,{"$f":"IF(A145=\"\",\"\",(Header!C$7*Header!C$6)*A145)","v":""},"","","","","",{"$f":"IF(KeySP!D142=\"\",\"\",KeySP!D142)","v":""},"","","",null,null,{"$f":"IF(KeySP!$D142=\"\",\"\",KeySP!$D142)","v":""},{"$f":"SUMIF($M$5:M$502,$AF145,N$5:N$502)","v":0},{"$f":"SUMIF($M$5:M$502,$AF145,O$5:O$502)","v":0},{"$f":"SUMIF($M$5:M$502,$AF145,P$5:P$502)","v":0},null,null,null,null,null,{"$f":"IF(PLANTS!A143=\"\",\"\",PLANTS!A143)","v":"CEST8"},2,"",0,{"$f":"IF(PLANTS!C143=\"\",\"\",PLANTS!C143)","v":""},"",{"$f":"IF(PLANTS!D143=\"\",\"\",PLANTS!D143)","v":""},"",{"$f":"IF(PLANTS!E143=\"\",\"\",PLANTS!E143)","v":"y"},"",{"$f":"IF(PLANTS!F143=\"\",\"\",PLANTS!F143)","v":"y"},"",0,null,0,"",null,0,{"$f":"IF(DE145=\"A\",PLANTS!H143,DE145)","v":"E"},20,null,"","","","",null,null,null,"","",null,null,{"$f":"IF(KeySP!A142=\"\",\"\",KeySP!A142)","v":"SCAM2"},0,0,"",{"$error":"#DIV/0!"},null,"",null," ","",null,"","","",0,"","","","",null,"","","CEST8",{"$f":"IF(DC145=\"a\",PLANTS!I143,DMA!DC145)","v":2},{"$f":"IF(DD145=\"a\",PLANTS!G143,DMA!DD145)","v":0},"","","","","","","",null,null,{"$f":"PLANTS!I143","v":2},{"$f":"PLANTS!G143","v":0},{"$f":"PLANTS!H143","v":"E"},null,null,null,null,"",{"$f":"IF(DMA!DJ145=\"\",\"\",(DMA!N145-SUMIF(Graphs!$O$13:$O$199,DMA!$DJ145,Graphs!$V$13:$V$199))^2)","v":""},{"$f":"IF(DMA!DK145=\"\",\"\",(DMA!O145-SUMIF(Graphs!$O$13:$O$199,DMA!$DJ145,Graphs!$V$13:$V$199))^2)","v":""},{"$f":"IF(DMA!DL145=\"\",\"\",(DMA!P145-SUMIF(Graphs!$O$13:$O$199,DMA!$DJ145,Graphs!$V$13:$V$199))^2)","v":""},"",0,"",0,141,null,null,null,null,14.5]
[null,null,null,null,null,null,null,null,null,null,null,null,null,null,null,null,null,null,null,{"$f":"IF(A146=\"\",\"\",(Header!C$7*Header!C$6)*A146)","v":""},"","","","","",{"$f":"IF(KeySP!D143=\"\",\"\",KeySP!D143)","v":""},{"$f":"IF(Z146=\"\",\"\",IF(AB146>0,AC146/AB146*0.01,\"\"))","v":""},"","",null,null,{"$f":"IF(KeySP!$D143=\"\",\"\",KeySP!$D143)","v":""},{"$f":"SUMIF($M$5:M$502,$AF146,N$5:N$502)","v":0},{"$f":"SUMIF($M$5:M$502,$AF146,O$5:O$502)","v":0},{"$f":"SUMIF($M$5:M$502,$AF146,P$5:P$502)","v":0},null,null,null,null,null,{"$f":"IF(PLANTS!A144=\"\",\"\",PLANTS!A144)","v":"CHAN9"},5,"",0,{"$f":"IF(PLANTS!C144=\"\",\"\",PLANTS!C144)","v":""},"",{"$f":"IF(PLANTS!D144=\"\",\"\",PLANTS!D144)","v":""},"",{"$f":"IF(PLANTS!E144=\"\",\"\",PLANTS!E144)","v":"y"},"",{"$f":"IF(PLANTS!F144=\"\",\"\",PLANTS!F144)","v":"y"},"",0,null,25,"",null,0,{"$f":"IF(DE146=\"A\",PLANTS!H144,DE146)","v":"M"},50,null,"","","","",null,null,null,"","",null,null,{"$f":"IF(KeySP!A143=\"\",\"\",KeySP!A143)","v":"SCAM6"},0,0,"",{"$error":"#DIV/0!"},null,"",null," ","",null,"","","",0,"","","","",null,"","","CHAN9",{"$f":"IF(DC146=\"a\",PLANTS!I144,DMA!DC146)","v":5},{"$f":"IF(DD146=\"a\",PLANTS!G144,DMA!DD146)","v":25},"","","","","","","",null,null,{"$f":"PLANTS!I144","v":5},{"$f":"PLANTS!G144","v":25},{"$f":"PLANTS!H144","v":"M"},null,null,null,null,"",{"$f":"IF(DMA!DJ146=\"\",\"\",(DMA!N146-SUMIF(Graphs!$O$13:$O$199,DMA!$DJ146,Graphs!$V$13:$V$199))^2)","v":""},{"$f":"IF(DMA!DK146=\"\",\"\",(DMA!O146-SUMIF(Graphs!$O$13:$O$199,DMA!$DJ146,Graphs!$V$13:$V$199))^2)","v":""},{"$f":"IF(DMA!DL146=\"\",\"\",(DMA!P146-SUMIF(Graphs!$O$13:$O$199,DMA!$DJ146,Graphs!$V$13:$V$199))^2)","v":""},"",0,"",0,142,null,null,null,null,14.6]
[null,null,null,null,null,null,null,null,null,null,null,null,null,null,null,null,null,null,null,{"$f":"IF(A147=\"\",\"\",(Header!C$7*Header!C$6)*A147)","v":""},"","","","","",{"$f":"IF(KeySP!D144=\"\",\"\",KeySP!D144)","v":""},"","","",null,null,{"$f":"IF(KeySP!$D144=\"\",\"\",KeySP!$D144)","v":""},{"$f":"SUMIF($M$5:M$502,$AF147,N$5:N$502)","v":0},{"$f":"SUMIF($M$5:M$502,$AF147,O$5:O$502)","v":0},{"$f":"SUMIF($M$5:M$502,$AF147,P$5:P$502)","v":0},null,null,null,null,null,{"$f":"IF(PLANTS!A145=\"\",\"\",PLANTS!A145)","v":"CHLI2"},5,"",0,{"$f":"IF(PLANTS!C145=\"\",\"\",PLANTS!C145)","v":"y"},"",{"$f":"IF(PLANTS!D145=\"\",\"\",PLANTS!D145)","v":""},"",{"$f":"IF(PLANTS!E145=\"\",\"\",PLANTS!E145)","v":""},"",{"$f":"IF(PLANTS!F145=\"\",\"\",PLANTS!F145)","v":""},"",0,null,25,"",null,0,{"$f":"IF(DE147=\"A\",PLANTS!H145,DE147)","v":"E"},20,null,"","","","",null,null,null,"","",null,null,{"$f":"IF(KeySP!A144=\"\",\"\",KeySP!A144)","v":"SCAT4"},0,0,"",{"$error":"#DIV/0!"},null,"",null," ","",null,"","","","","",0,"","",null,"","","CHLI2",{"$f":"IF(DC147=\"a\",PLANTS!I145,DMA!DC147)","v":5},{"$f":"IF(DD147=\"a\",PLANTS!G145,DMA!DD147)","v":25},"","","","","","","",null,null,{"$f":"PLANTS!I145","v":5},{"$f":"PLANTS!G145","v":25},{"$f":"PLANTS!H145","v":"E"},null,null,null,null,"",{"$f":"IF(DMA!DJ147=\"\",\"\",(DMA!N147-SUMIF(Graphs!$O$13:$O$199,DMA!$DJ147,Graphs!$V$13:$V$199))^2)","v":""},{"$f":"IF(DMA!DK147=\"\",\"\",(DMA!O147-SUMIF(Graphs!$O$13:$O$199,DMA!$DJ147,Graphs!$V$13:$V$199))^2)","v":""},{"$f":"IF(DMA!DL147=\"\",\"\",(DMA!P147-SUMIF(Graphs!$O$13:$O$199,DMA!$DJ147,Graphs!$V$13:$V$199))^2)","v":""},"",0,"",0,143,null,null,null,null,14.7]
[null,null,null,null,null,null,null,null,null,null,null,null,null,null,null,null,null,null,null,{"$f":"IF(A148=\"\",\"\",(Header!C$7*Header!C$6)*A148)","v":""},"","","","","",{"$f":"IF(KeySP!D145=\"\",\"\",KeySP!D145)","v":""},"","","",null,null,{"$f":"IF(KeySP!$D145=\"\",\"\",KeySP!$D145)","v":""},{"$f":"SUMIF($M$5:M$502,$AF148,N$5:N$502)","v":0},{"$f":"SUMIF($M$5:M$502,$AF148,O$5:O$502)","v":0},{"$f":"SUMIF($M$5:M$502,$AF148,P$5:P$502)","v":0},null,null,null,null,null,{"$f":"IF(PLANTS!A146=\"\",\"\",PLANTS!A146)","v":"CHNA2"},2,"",0,{"$f":"IF(PLANTS!C146=\"\",\"\",PLANTS!C146)","v":"y"},"",{"$f":"IF(PLANTS!D146=\"\",\"\",PLANTS!D146)","v":""},"",{"$f":"IF(PLANTS!E146=\"\",\"\",PLANTS!E146)","v":""},"",{"$f":"IF(PLANTS!F146=\"\",\"\",PLANTS!F146)","v":""},"",0,null,25,"",null,0,{"$f":"IF(DE148=\"A\",PLANTS!H146,DE148)","v":"E"},20,null,"","","","",null,null,null,"","",null,null,{"$f":"IF(KeySP!A145=\"\",\"\",KeySP!A145)","v":"SCCO"},0,0,"",{"$error":"#DIV/0!"},null,"",null," ","",null,"","","","","",0,"","",null,"","","CHNA2",{"$f":"IF(DC148=\"a\",PLANTS!I146,DMA!DC148)","v":2},{"$f":"IF(DD148=\"a\",PLANTS!G146,DMA!DD148)","v":25},"","","","","","","",null,null,{"$f":"PLANTS!I146","v":2},{"$f":"PLANTS!G146","v":25},{"$f":"PLANTS!H146","v":"E"},null,null,null,null,"",{"$f":"IF(DMA!DJ148=\"\",\"\",(DMA!N148-SUMIF(Graphs!$O$13:$O$199,DMA!$DJ148,Graphs!$V$13:$V$199))^2)","v":""},{"$f":"IF(DMA!DK148=\"\",\"\",(DMA!O148-SUMIF(Graphs!$O$13:$O$199,DMA!$DJ148,Graphs!$V$13:$V$199))^2)","v":""},{"$f":"IF(DMA!DL148=\"\",\"\",(DMA!P148-SUMIF(Graphs!$O$13:$O$199,DMA!$DJ148,Graphs!$V$13:$V$199))^2)","v":""},"",0,"",0,144,null,null,null,null,14.8]
[null,null,null,null,null,null,null,null,null,null,null,null,null,null,null,null,null,null,null,{"$f":"IF(A149=\"\",\"\",(Header!C$7*Header!C$6)*A149)","v":""},"","","","","",{"$f":"IF(KeySP!D146=\"\",\"\",KeySP!D146)","v":""},"","","",null,null,{"$f":"IF(KeySP!$D146=\"\",\"\",KeySP!$D146)","v":""},{"$f":"SUMIF($M$5:M$502,$AF149,N$5:N$502)","v":0},{"$f":"SUMIF($M$5:M$502,$AF149,O$5:O$502)","v":0},{"$f":"SUMIF($M$5:M$502,$AF149,P$5:P$502)","v":0},null,null,null,null,null,{"$f":"IF(PLANTS!A147=\"\",\"\",PLANTS!A147)","v":"CHSP11"},2,"",0,{"$f":"IF(PLANTS!C147=\"\",\"\",PLANTS!C147)","v":"y"},"",{"$f":"IF(PLANTS!D147=\"\",\"\",PLANTS!D147)","v":""},"",{"$f":"IF(PLANTS!E147=\"\",\"\",PLANTS!E147)","v":""},"",{"$f":"IF(PLANTS!F147=\"\",\"\",PLANTS!F147)","v":""},"",0,null,50,"",null,0,{"$f":"IF(DE149=\"A\",PLANTS!H147,DE149)","v":"E"},20,null,"","","","",null,null,null,"","",null,null,{"$f":"IF(KeySP!A146=\"\",\"\",KeySP!A146)","v":"SCCY"},0,0,"",{"$error":"#DIV/0!"},null,"",null," ","",null,"","","","","",0,"","",null,"","","CHSP11",{"$f":"IF(DC149=\"a\",PLANTS!I147,DMA!DC149)","v":2},{"$f":"IF(DD149=\"a\",PLANTS!G147,DMA!DD149)","v":50},"","","","","","","",null,null,{"$f":"PLANTS!I147","v":2},{"$f":"PLANTS!G147","v":50},{"$f":"PLANTS!H147","v":"E"},null,null,null,null,"",{"$f":"IF(DMA!DJ149=\"\",\"\",(DMA!N149-SUMIF(Graphs!$O$13:$O$199,DMA!$DJ149,Graphs!$V$13:$V$199))^2)","v":""},{"$f":"IF(DMA!DK149=\"\",\"\",(DMA!O149-SUMIF(Graphs!$O$13:$O$199,DMA!$DJ149,Graphs!$V$13:$V$199))^2)","v":""},{"$f":"IF(DMA!DL149=\"\",\"\",(DMA!P149-SUMIF(Graphs!$O$13:$O$199,DMA!$DJ149,Graphs!$V$13:$V$199))^2)","v":""},"",0,"",0,145,null,null,null,null,14.9]
[null,null,null,null,null,null,null,null,null,null,null,null,null,null,null,null,null,null,null,{"$f":"IF(A150=\"\",\"\",(Header!C$7*Header!C$6)*A150)","v":""},"","","","","",{"$f":"IF(KeySP!D147=\"\",\"\",KeySP!D147)","v":""},"","","",null,null,{"$f":"IF(KeySP!$D147=\"\",\"\",KeySP!$D147)","v":""},{"$f":"SUMIF($M$5:M$502,$AF150,N$5:N$502)","v":0},{"$f":"SUMIF($M$5:M$502,$AF150,O$5:O$502)","v":0},{"$f":"SUMIF($M$5:M$502,$AF150,P$5:P$502)","v":0},null,null,null,null,null,{"$f":"IF(PLANTS!A148=\"\",\"\",PLANTS!A148)","v":"CHVI8"},2,"",0,{"$f":"IF(PLANTS!C148=\"\",\"\",PLANTS!C148)","v":"y"},"",{"$f":"IF(PLANTS!D148=\"\",\"\",PLANTS!D148)","v":""},"",{"$f":"IF(PLANTS!E148=\"\",\"\",PLANTS!E148)","v":""},"",{"$f":"IF(PLANTS!F148=\"\",\"\",PLANTS!F148)","v":""},"",0,null,0,"",null,0,{"$f":"IF(DE150=\"A\",PLANTS!H148,DE150)","v":"E"},20,null,"","","","",null,null,null,"","",null,null,{"$f":"IF(KeySP!A147=\"\",\"\",KeySP!A147)","v":"SCFE"},0,0,"",{"$error":"#DIV/0!"},null,"",null," ","",null,"","","","","",0,"","",null,"","","CHVI8",{"$f":"IF(DC150=\"a\",PLANTS!I148,DMA!DC150)","v":2},{"$f":"IF(DD150=\"a\",PLANTS!G148,DMA!DD150)","v":0},"","","","","","","",null,null,{"$f":"PLANTS!I148","v":2},{"$f":"PLANTS!G148","v":0},{"$f":"PLANTS!H148","v":"E"},null,null,null,null,"",{"$f":"IF(DMA!DJ150=\"\",\"\",(DMA!N150-SUMIF(Graphs!$O$13:$O$199,DMA!$DJ150,Graphs!$V$13:$V$199))^2)","v":""},{"$f":"IF(DMA!DK150=\"\",\"\",(DMA!O150-SUMIF(Graphs!$O$13:$O$199,DMA!$DJ150,Graphs!$V$13:$V$199))^2)","v":""},{"$f":"IF(DMA!DL150=\"\",\"\",(DMA!P150-SUMIF(Graphs!$O$13:$O$199,DMA!$DJ150,Graphs!$V$13:$V$199))^2)","v":""},"",0,"",0,146,null,null,null,null,15]
[null,null,null,null,null,null,null,null,null,null,null,null,null,null,null,null,null,null,null,{"$f":"IF(A151=\"\",\"\",(Header!C$7*Header!C$6)*A151)","v":""},"","","","","",{"$f":"IF(KeySP!D148=\"\",\"\",KeySP!D148)","v":""},"","","",null,null,{"$f":"IF(KeySP!$D148=\"\",\"\",KeySP!$D148)","v":""},{"$f":"SUMIF($M$5:M$502,$AF151,N$5:N$502)","v":0},{"$f":"SUMIF($M$5:M$502,$AF151,O$5:O$502)","v":0},{"$f":"SUMIF($M$5:M$502,$AF151,P$5:P$502)","v":0},null,null,null,null,null,{"$f":"IF(PLANTS!A149=\"\",\"\",PLANTS!A149)","v":"CIAR4"},2,"",0,{"$f":"IF(PLANTS!C149=\"\",\"\",PLANTS!C149)","v":""},"",{"$f":"IF(PLANTS!D149=\"\",\"\",PLANTS!D149)","v":""},"",{"$f":"IF(PLANTS!E149=\"\",\"\",PLANTS!E149)","v":"y"},"",{"$f":"IF(PLANTS!F149=\"\",\"\",PLANTS!F149)","v":"y"},"",0,null,25,"",null,0,{"$f":"IF(DE151=\"A\",PLANTS!H149,DE151)","v":"E"},20,null,"","","","",null,null,null,"","",null,null,{"$f":"IF(KeySP!A148=\"\",\"\",KeySP!A148)","v":"SCHOE6"},0,0,"",{"$error":"#DIV/0!"},null,"",null," ","",null,"","","",0,"","","","",null,"","","CIAR4",{"$f":"IF(DC151=\"a\",PLANTS!I149,DMA!DC151)","v":2},{"$f":"IF(DD151=\"a\",PLANTS!G149,DMA!DD151)","v":25},"","","","","","","",null,null,{"$f":"PLANTS!I149","v":2},{"$f":"PLANTS!G149","v":25},{"$f":"PLANTS!H149","v":"E"},null,null,null,null,"",{"$f":"IF(DMA!DJ151=\"\",\"\",(DMA!N151-SUMIF(Graphs!$O$13:$O$199,DMA!$DJ151,Graphs!$V$13:$V$199))^2)","v":""},{"$f":"IF(DMA!DK151=\"\",\"\",(DMA!O151-SUMIF(Graphs!$O$13:$O$199,DMA!$DJ151,Graphs!$V$13:$V$199))^2)","v":""},{"$f":"IF(DMA!DL151=\"\",\"\",(DMA!P151-SUMIF(Graphs!$O$13:$O$199,DMA!$DJ151,Graphs!$V$13:$V$199))^2)","v":""},"",0,"",0,147,null,null,null,null,15.1]
[null,null,null,null,null,null,null,null,null,null,null,null,null,null,null,null,null,null,null,{"$f":"IF(A152=\"\",\"\",(Header!C$7*Header!C$6)*A152)","v":""},"","","","","",{"$f":"IF(KeySP!D149=\"\",\"\",KeySP!D149)","v":""},"","","",null,null,{"$f":"IF(KeySP!$D149=\"\",\"\",KeySP!$D149)","v":""},{"$f":"SUMIF($M$5:M$502,$AF152,N$5:N$502)","v":0},{"$f":"SUMIF($M$5:M$502,$AF152,O$5:O$502)","v":0},{"$f":"SUMIF($M$5:M$502,$AF152,P$5:P$502)","v":0},null,null,null,null,null,{"$f":"IF(PLANTS!A150=\"\",\"\",PLANTS!A150)","v":"CICA11"},2,"",0,{"$f":"IF(PLANTS!C150=\"\",\"\",PLANTS!C150)","v":""},"",{"$f":"IF(PLANTS!D150=\"\",\"\",PLANTS!D150)","v":""},"",{"$f":"IF(PLANTS!E150=\"\",\"\",PLANTS!E150)","v":"y"},"",{"$f":"IF(PLANTS!F150=\"\",\"\",PLANTS!F150)","v":"y"},"",0,null,0,"",null,0,{"$f":"IF(DE152=\"A\",PLANTS!H150,DE152)","v":"E"},20,null,"","","","",null,null,null,"","",null,null,{"$f":"IF(KeySP!A149=\"\",\"\",KeySP!A149)","v":"SCIRP"},0,0,"",{"$error":"#DIV/0!"},null,"",null," ","",null,"","","",0,"","","","",null,"","","CICA11",{"$f":"IF(DC152=\"a\",PLANTS!I150,DMA!DC152)","v":2},{"$f":"IF(DD152=\"a\",PLANTS!G150,DMA!DD152)","v":0},"","","","","","","",null,null,{"$f":"PLANTS!I150","v":2},{"$f":"PLANTS!G150","v":0},{"$f":"PLANTS!H150","v":"E"},null,null,null,null,"",{"$f":"IF(DMA!DJ152=\"\",\"\",(DMA!N152-SUMIF(Graphs!$O$13:$O$199,DMA!$DJ152,Graphs!$V$13:$V$199))^2)","v":""},{"$f":"IF(DMA!DK152=\"\",\"\",(DMA!O152-SUMIF(Graphs!$O$13:$O$199,DMA!$DJ152,Graphs!$V$13:$V$199))^2)","v":""},{"$f":"IF(DMA!DL152=\"\",\"\",(DMA!P152-SUMIF(Graphs!$O$13:$O$199,DMA!$DJ152,Graphs!$V$13:$V$199))^2)","v":""},"",0,"",0,148,null,null,null,null,15.2]
[null,null,null,null,null,null,null,null,null,null,null,null,null,null,null,null,null,null,null,{"$f":"IF(A153=\"\",\"\",(Header!C$7*Header!C$6)*A153)","v":""},"","","","","",{"$f":"IF(KeySP!D150=\"\",\"\",KeySP!D150)","v":" "},"",0,0,null,null,{"$f":"IF(KeySP!$D150=\"\",\"\",KeySP!$D150)","v":" "},{"$f":"SUMIF($M$5:M$502,$AF153,N$5:N$502)","v":0},{"$f":"SUMIF($M$5:M$502,$AF153,O$5:O$502)","v":0},{"$f":"SUMIF($M$5:M$502,$AF153,P$5:P$502)","v":0},null,null,null,null,null,{"$f":"IF(PLANTS!A151=\"\",\"\",PLANTS!A151)","v":"CIDO"},5,"",0,{"$f":"IF(PLANTS!C151=\"\",\"\",PLANTS!C151)","v":""},"",{"$f":"IF(PLANTS!D151=\"\",\"\",PLANTS!D151)","v":"y"},"",{"$f":"IF(PLANTS!E151=\"\",\"\",PLANTS!E151)","v":"y"},"",{"$f":"IF(PLANTS!F151=\"\",\"\",PLANTS!F151)","v":"y"},"",0,null,100,"",null,0,{"$f":"IF(DE153=\"A\",PLANTS!H151,DE153)","v":"M"},50,null,"","","","",null,null,null,"","",null,null,{"$f":"IF(KeySP!A150=\"\",\"\",KeySP!A150)","v":"SCMA"},0,0,"",{"$error":"#DIV/0!"},null,"",null," ","",null,"","","",0,0,"",0,"",null,"","","CIDO",{"$f":"IF(DC153=\"a\",PLANTS!I151,DMA!DC153)","v":5},{"$f":"IF(DD153=\"a\",PLANTS!G151,DMA!DD153)","v":100},"","","","","","","",null,null,{"$f":"PLANTS!I151","v":5},{"$f":"PLANTS!G151","v":100},{"$f":"PLANTS!H151","v":"M"},null,null,null,null,"",{"$f":"IF(DMA!DJ153=\"\",\"\",(DMA!N153-SUMIF(Graphs!$O$13:$O$199,DMA!$DJ153,Graphs!$V$13:$V$199))^2)","v":""},{"$f":"IF(DMA!DK153=\"\",\"\",(DMA!O153-SUMIF(Graphs!$O$13:$O$199,DMA!$DJ153,Graphs!$V$13:$V$199))^2)","v":""},{"$f":"IF(DMA!DL153=\"\",\"\",(DMA!P153-SUMIF(Graphs!$O$13:$O$199,DMA!$DJ153,Graphs!$V$13:$V$199))^2)","v":""},"",0,"",0,149,null,null,null,null,15.3]
[null,null,null,null,null,null,null,null,null,null,null,null,null,null,null,null,null,null,null,{"$f":"IF(A154=\"\",\"\",(Header!C$7*Header!C$6)*A154)","v":""},"","","","","",{"$f":"IF(KeySP!D151=\"\",\"\",KeySP!D151)","v":" "},"",0,0,null,null,{"$f":"IF(KeySP!$D151=\"\",\"\",KeySP!$D151)","v":" "},{"$f":"SUMIF($M$5:M$502,$AF154,N$5:N$502)","v":0},{"$f":"SUMIF($M$5:M$502,$AF154,O$5:O$502)","v":0},{"$f":"SUMIF($M$5:M$502,$AF154,P$5:P$502)","v":0},null,null,null,null,null,{"$f":"IF(PLANTS!A152=\"\",\"\",PLANTS!A152)","v":"CIMA2"},2,"",0,{"$f":"IF(PLANTS!C152=\"\",\"\",PLANTS!C152)","v":""},"",{"$f":"IF(PLANTS!D152=\"\",\"\",PLANTS!D152)","v":"y"},"",{"$f":"IF(PLANTS!E152=\"\",\"\",PLANTS!E152)","v":"y"},"",{"$f":"IF(PLANTS!F152=\"\",\"\",PLANTS!F152)","v":"y"},"",0,null,100,"",null,0,{"$f":"IF(DE154=\"A\",PLANTS!H152,DE154)","v":"E"},20,null,"","","","",null,null,null,"","",null,null,{"$f":"IF(KeySP!A151=\"\",\"\",KeySP!A151)","v":"SCMA8"},0,0,"",{"$error":"#DIV/0!"},null,"",null," ","",null,"","","",0,0,"",0,"",null,"","","CIMA2",{"$f":"IF(DC154=\"a\",PLANTS!I152,DMA!DC154)","v":2},{"$f":"IF(DD154=\"a\",PLANTS!G152,DMA!DD154)","v":100},"","","","","","","",null,null,{"$f":"PLANTS!I152","v":2},{"$f":"PLANTS!G152","v":100},{"$f":"PLANTS!H152","v":"E"},null,null,null,null,"",{"$f":"IF(DMA!DJ154=\"\",\"\",(DMA!N154-SUMIF(Graphs!$O$13:$O$199,DMA!$DJ154,Graphs!$V$13:$V$199))^2)","v":""},{"$f":"IF(DMA!DK154=\"\",\"\",(DMA!O154-SUMIF(Graphs!$O$13:$O$199,DMA!$DJ154,Graphs!$V$13:$V$199))^2)","v":""},{"$f":"IF(DMA!DL154=\"\",\"\",(DMA!P154-SUMIF(Graphs!$O$13:$O$199,DMA!$DJ154,Graphs!$V$13:$V$199))^2)","v":""},"",0,"",0,150,null,null,null,null,15.4]
[null,null,null,null,null,null,null,null,null,null,null,null,null,null,null,null,null,null,null,{"$f":"IF(A155=\"\",\"\",(Header!C$7*Header!C$6)*A155)","v":""},"","","","","",{"$f":"IF(KeySP!D152=\"\",\"\",KeySP!D152)","v":" "},"",0,0,null,null,{"$f":"IF(KeySP!$D152=\"\",\"\",KeySP!$D152)","v":" "},{"$f":"SUMIF($M$5:M$502,$AF155,N$5:N$502)","v":0},{"$f":"SUMIF($M$5:M$502,$AF155,O$5:O$502)","v":0},{"$f":"SUMIF($M$5:M$502,$AF155,P$5:P$502)","v":0},null,null,null,null,null,{"$f":"IF(PLANTS!A153=\"\",\"\",PLANTS!A153)","v":"CISC2"},2,"",0,{"$f":"IF(PLANTS!C153=\"\",\"\",PLANTS!C153)","v":""},"",{"$f":"IF(PLANTS!D153=\"\",\"\",PLANTS!D153)","v":""},"",{"$f":"IF(PLANTS!E153=\"\",\"\",PLANTS!E153)","v":"y"},"",{"$f":"IF(PLANTS!F153=\"\",\"\",PLANTS!F153)","v":"y"},"",0,null,50,"",null,0,{"$f":"IF(DE155=\"A\",PLANTS!H153,DE155)","v":"E"},20,null,"","","","",null,null,null,"","",null,null,{"$f":"IF(KeySP!A152=\"\",\"\",KeySP!A152)","v":"SCMI2"},0,0,"",{"$error":"#DIV/0!"},null,"",null," ","",null,"","","",0,"","","","",null,"","","CISC2",{"$f":"IF(DC155=\"a\",PLANTS!I153,DMA!DC155)","v":2},{"$f":"IF(DD155=\"a\",PLANTS!G153,DMA!DD155)","v":50},"","","","","","","",null,null,{"$f":"PLANTS!I153","v":2},{"$f":"PLANTS!G153","v":50},{"$f":"PLANTS!H153","v":"E"},null,null,null,null,"",{"$f":"IF(DMA!DJ155=\"\",\"\",(DMA!N155-SUMIF(Graphs!$O$13:$O$199,DMA!$DJ155,Graphs!$V$13:$V$199))^2)","v":""},{"$f":"IF(DMA!DK155=\"\",\"\",(DMA!O155-SUMIF(Graphs!$O$13:$O$199,DMA!$DJ155,Graphs!$V$13:$V$199))^2)","v":""},{"$f":"IF(DMA!DL155=\"\",\"\",(DMA!P155-SUMIF(Graphs!$O$13:$O$199,DMA!$DJ155,Graphs!$V$13:$V$199))^2)","v":""},"",0,"",0,151,null,null,null,null,15.5]
[null,null,null,null,null,null,null,null,null,null,null,null,null,null,null,null,null,null,null,{"$f":"IF(A156=\"\",\"\",(Header!C$7*Header!C$6)*A156)","v":""},"","","","","",{"$f":"IF(KeySP!D153=\"\",\"\",KeySP!D153)","v":" "},"",0,0,null,null,{"$f":"IF(KeySP!$D153=\"\",\"\",KeySP!$D153)","v":" "},{"$f":"SUMIF($M$5:M$502,$AF156,N$5:N$502)","v":0},{"$f":"SUMIF($M$5:M$502,$AF156,O$5:O$502)","v":0},{"$f":"SUMIF($M$5:M$502,$AF156,P$5:P$502)","v":0},null,null,null,null,null,{"$f":"IF(PLANTS!A154=\"\",\"\",PLANTS!A154)","v":"CLLI2"},5,"",0,{"$f":"IF(PLANTS!C154=\"\",\"\",PLANTS!C154)","v":"y"},"",{"$f":"IF(PLANTS!D154=\"\",\"\",PLANTS!D154)","v":""},"",{"$f":"IF(PLANTS!E154=\"\",\"\",PLANTS!E154)","v":""},"",{"$f":"IF(PLANTS!F154=\"\",\"\",PLANTS!F154)","v":""},"",0,null,50,"",null,0,{"$f":"IF(DE156=\"A\",PLANTS!H154,DE156)","v":"E"},20,null,"","","","",null,null,null,"","",null,null,{"$f":"IF(KeySP!A153=\"\",\"\",KeySP!A153)","v":"SCNE"},0,0,"",{"$error":"#DIV/0!"},null,"",null," ","",null,"","","","","",0,"","",null,"","","CLLI2",{"$f":"IF(DC156=\"a\",PLANTS!I154,DMA!DC156)","v":5},{"$f":"IF(DD156=\"a\",PLANTS!G154,DMA!DD156)","v":50},"","","","","","","",null,null,{"$f":"PLANTS!I154","v":5},{"$f":"PLANTS!G154","v":50},{"$f":"PLANTS!H154","v":"E"},null,null,null,null,"",{"$f":"IF(DMA!DJ156=\"\",\"\",(DMA!N156-SUMIF(Graphs!$O$13:$O$199,DMA!$DJ156,Graphs!$V$13:$V$199))^2)","v":""},{"$f":"IF(DMA!DK156=\"\",\"\",(DMA!O156-SUMIF(Graphs!$O$13:$O$199,DMA!$DJ156,Graphs!$V$13:$V$199))^2)","v":""},{"$f":"IF(DMA!DL156=\"\",\"\",(DMA!P156-SUMIF(Graphs!$O$13:$O$199,DMA!$DJ156,Graphs!$V$13:$V$199))^2)","v":""},"",0,"",0,152,null,null,null,null,15.6]
[null,null,null,null,null,null,null,null,null,null,null,null,null,null,null,null,null,null,null,{"$f":"IF(A157=\"\",\"\",(Header!C$7*Header!C$6)*A157)","v":""},"","","","","",{"$f":"IF(KeySP!D154=\"\",\"\",KeySP!D154)","v":" "},"",0,0,null,null,{"$f":"IF(KeySP!$D154=\"\",\"\",KeySP!$D154)","v":" "},{"$f":"SUMIF($M$5:M$502,$AF157,N$5:N$502)","v":0},{"$f":"SUMIF($M$5:M$502,$AF157,O$5:O$502)","v":0},{"$f":"SUMIF($M$5:M$502,$AF157,P$5:P$502)","v":0},null,null,null,null,null,{"$f":"IF(PLANTS!A155=\"\",\"\",PLANTS!A155)","v":"CLPE"},2,"",0,{"$f":"IF(PLANTS!C155=\"\",\"\",PLANTS!C155)","v":""},"",{"$f":"IF(PLANTS!D155=\"\",\"\",PLANTS!D155)","v":""},"",{"$f":"IF(PLANTS!E155=\"\",\"\",PLANTS!E155)","v":"y"},"",{"$f":"IF(PLANTS!F155=\"\",\"\",PLANTS!F155)","v":"y"},"",0,null,50,"",null,0,{"$f":"IF(DE157=\"A\",PLANTS!H155,DE157)","v":"M"},50,null,"","","","",null,null,null,"","",null,null,{"$f":"IF(KeySP!A154=\"\",\"\",KeySP!A154)","v":"SCPA8"},0,0,"",{"$error":"#DIV/0!"},null,"",null," ","",null,"","","",0,"","","","",null,"","","CLPE",{"$f":"IF(DC157=\"a\",PLANTS!I155,DMA!DC157)","v":2},{"$f":"IF(DD157=\"a\",PLANTS!G155,DMA!DD157)","v":50},"","","","","","","",null,null,{"$f":"PLANTS!I155","v":2},{"$f":"PLANTS!G155","v":50},{"$f":"PLANTS!H155","v":"M"},null,null,null,null,"",{"$f":"IF(DMA!DJ157=\"\",\"\",(DMA!N157-SUMIF(Graphs!$O$13:$O$199,DMA!$DJ157,Graphs!$V$13:$V$199))^2)","v":""},{"$f":"IF(DMA!DK157=\"\",\"\",(DMA!O157-SUMIF(Graphs!$O$13:$O$199,DMA!$DJ157,Graphs!$V$13:$V$199))^2)","v":""},{"$f":"IF(DMA!DL157=\"\",\"\",(DMA!P157-SUMIF(Graphs!$O$13:$O$199,DMA!$DJ157,Graphs!$V$13:$V$199))^2)","v":""},"",0,"",0,153,null,null,null,null,15.7]
[null,null,null,null,null,null,null,null,null,null,null,null,null,null,null,null,null,null,null,{"$f":"IF(A158=\"\",\"\",(Header!C$7*Header!C$6)*A158)","v":""},"","","","","",{"$f":"IF(KeySP!D155=\"\",\"\",KeySP!D155)","v":" "},"",0,0,null,null,{"$f":"IF(KeySP!$D155=\"\",\"\",KeySP!$D155)","v":" "},{"$f":"SUMIF($M$5:M$502,$AF158,N$5:N$502)","v":0},{"$f":"SUMIF($M$5:M$502,$AF158,O$5:O$502)","v":0},{"$f":"SUMIF($M$5:M$502,$AF158,P$5:P$502)","v":0},null,null,null,null,null,{"$f":"IF(PLANTS!A156=\"\",\"\",PLANTS!A156)","v":"COCA13"},5,"",0,{"$f":"IF(PLANTS!C156=\"\",\"\",PLANTS!C156)","v":""},"",{"$f":"IF(PLANTS!D156=\"\",\"\",PLANTS!D156)","v":""},"",{"$f":"IF(PLANTS!E156=\"\",\"\",PLANTS!E156)","v":"y"},"",{"$f":"IF(PLANTS!F156=\"\",\"\",PLANTS!F156)","v":"y"},"",0,null,50,"",null,0,{"$f":"IF(DE158=\"A\",PLANTS!H156,DE158)","v":"M"},50,null,"","","","",null,null,null,"","",null,null,{"$f":"IF(KeySP!A155=\"\",\"\",KeySP!A155)","v":"SCPU10"},0,0,"",{"$error":"#DIV/0!"},null,"",null," ","",null,"","","",0,"","","","",null,"","","COCA13",{"$f":"IF(DC158=\"a\",PLANTS!I156,DMA!DC158)","v":5},{"$f":"IF(DD158=\"a\",PLANTS!G156,DMA!DD158)","v":50},"","","","","","","",null,null,{"$f":"PLANTS!I156","v":5},{"$f":"PLANTS!G156","v":50},{"$f":"PLANTS!H156","v":"M"},null,null,null,null,"",{"$f":"IF(DMA!DJ158=\"\",\"\",(DMA!N158-SUMIF(Graphs!$O$13:$O$199,DMA!$DJ158,Graphs!$V$13:$V$199))^2)","v":""},{"$f":"IF(DMA!DK158=\"\",\"\",(DMA!O158-SUMIF(Graphs!$O$13:$O$199,DMA!$DJ158,Graphs!$V$13:$V$199))^2)","v":""},{"$f":"IF(DMA!DL158=\"\",\"\",(DMA!P158-SUMIF(Graphs!$O$13:$O$199,DMA!$DJ158,Graphs!$V$13:$V$199))^2)","v":""},"",0,"",0,154,null,null,null,null,15.8]
[null,null,null,null,null,null,null,null,null,null,null,null,null,null,null,null,null,null,null,{"$f":"IF(A159=\"\",\"\",(Header!C$7*Header!C$6)*A159)","v":""},"","","","","",{"$f":"IF(KeySP!D156=\"\",\"\",KeySP!D156)","v":" "},"",0,0,null,null,{"$f":"IF(KeySP!$D156=\"\",\"\",KeySP!$D156)","v":" "},{"$f":"SUMIF($M$5:M$502,$AF159,N$5:N$502)","v":0},{"$f":"SUMIF($M$5:M$502,$AF159,O$5:O$502)","v":0},{"$f":"SUMIF($M$5:M$502,$AF159,P$5:P$502)","v":0},null,null,null,null,null,{"$f":"IF(PLANTS!A157=\"\",\"\",PLANTS!A157)","v":"COCO6"},5,"",0,{"$f":"IF(PLANTS!C157=\"\",\"\",PLANTS!C157)","v":"y"},"",{"$f":"IF(PLANTS!D157=\"\",\"\",PLANTS!D157)","v":""},"",{"$f":"IF(PLANTS!E157=\"\",\"\",PLANTS!E157)","v":""},"",{"$f":"IF(PLANTS!F157=\"\",\"\",PLANTS!F157)","v":""},"",0,null,25,"",null,0,{"$f":"IF(DE159=\"A\",PLANTS!H157,DE159)","v":"M"},50,null,"","","","",null,null,null,"","",null,null,{"$f":"IF(KeySP!A156=\"\",\"\",KeySP!A156)","v":"SCPU3"},0,0,"",{"$error":"#DIV/0!"},null,"",null," ","",null,"","","","","",0,"","",null,"","","COCO6",{"$f":"IF(DC159=\"a\",PLANTS!I157,DMA!DC159)","v":5},{"$f":"IF(DD159=\"a\",PLANTS!G157,DMA!DD159)","v":25},"","","","","","","",null,null,{"$f":"PLANTS!I157","v":5},{"$f":"PLANTS!G157","v":25},{"$f":"PLANTS!H157","v":"M"},null,null,null,null,"",{"$f":"IF(DMA!DJ159=\"\",\"\",(DMA!N159-SUMIF(Graphs!$O$13:$O$199,DMA!$DJ159,Graphs!$V$13:$V$199))^2)","v":""},{"$f":"IF(DMA!DK159=\"\",\"\",(DMA!O159-SUMIF(Graphs!$O$13:$O$199,DMA!$DJ159,Graphs!$V$13:$V$199))^2)","v":""},{"$f":"IF(DMA!DL159=\"\",\"\",(DMA!P159-SUMIF(Graphs!$O$13:$O$199,DMA!$DJ159,Graphs!$V$13:$V$199))^2)","v":""},"",0,"",0,155,null,null,null,null,15.9]
[null,null,null,null,null,null,null,null,null,null,null,null,null,null,null,null,null,null,null,{"$f":"IF(A160=\"\",\"\",(Header!C$7*Header!C$6)*A160)","v":""},"","","","","",{"$f":"IF(KeySP!D157=\"\",\"\",KeySP!D157)","v":" "},"",0,0,null,null,{"$f":"IF(KeySP!$D157=\"\",\"\",KeySP!$D157)","v":" "},{"$f":"SUMIF($M$5:M$502,$AF160,N$5:N$502)","v":0},{"$f":"SUMIF($M$5:M$502,$AF160,O$5:O$502)","v":0},{"$f":"SUMIF($M$5:M$502,$AF160,P$5:P$502)","v":0},null,null,null,null,null,{"$f":"IF(PLANTS!A158=\"\",\"\",PLANTS!A158)","v":"COMA2"},2,"",0,{"$f":"IF(PLANTS!C158=\"\",\"\",PLANTS!C158)","v":""},"",{"$f":"IF(PLANTS!D158=\"\",\"\",PLANTS!D158)","v":"y"},"",{"$f":"IF(PLANTS!E158=\"\",\"\",PLANTS!E158)","v":"y"},"",{"$f":"IF(PLANTS!F158=\"\",\"\",PLANTS!F158)","v":"y"},"",0,null,75,"",null,0,{"$f":"IF(DE160=\"A\",PLANTS!H158,DE160)","v":"E"},20,null,"","","","",null,null,null,"","",null,null,{"$f":"IF(KeySP!A157=\"\",\"\",KeySP!A157)","v":"SCTA2"},0,0,"",{"$error":"#DIV/0!"},null,"",null," ","",null,"","","",0,0,"",0,"",null,"","","COMA2",{"$f":"IF(DC160=\"a\",PLANTS!I158,DMA!DC160)","v":2},{"$f":"IF(DD160=\"a\",PLANTS!G158,DMA!DD160)","v":75},"","","","","","","",null,null,{"$f":"PLANTS!I158","v":2},{"$f":"PLANTS!G158","v":75},{"$f":"PLANTS!H158","v":"E"},null,null,null,null,"",{"$f":"IF(DMA!DJ160=\"\",\"\",(DMA!N160-SUMIF(Graphs!$O$13:$O$199,DMA!$DJ160,Graphs!$V$13:$V$199))^2)","v":""},{"$f":"IF(DMA!DK160=\"\",\"\",(DMA!O160-SUMIF(Graphs!$O$13:$O$199,DMA!$DJ160,Graphs!$V$13:$V$199))^2)","v":""},{"$f":"IF(DMA!DL160=\"\",\"\",(DMA!P160-SUMIF(Graphs!$O$13:$O$199,DMA!$DJ160,Graphs!$V$13:$V$199))^2)","v":""},"",0,"",0,156,null,null,null,null,16]
[null,null,null,null,null,null,null,null,null,null,null,null,null,null,null,null,null,null,null,{"$f":"IF(A161=\"\",\"\",(Header!C$7*Header!C$6)*A161)","v":""},"","","","","",{"$f":"IF(KeySP!D158=\"\",\"\",KeySP!D158)","v":" "},"",0,0,null,null,{"$f":"IF(KeySP!$D158=\"\",\"\",KeySP!$D158)","v":" "},{"$f":"SUMIF($M$5:M$502,$AF161,N$5:N$502)","v":0},{"$f":"SUMIF($M$5:M$502,$AF161,O$5:O$502)","v":0},{"$f":"SUMIF($M$5:M$502,$AF161,P$5:P$502)","v":0},null,null,null,null,null,{"$f":"IF(PLANTS!A159=\"\",\"\",PLANTS!A159)","v":"COPA28"},2,"",0,{"$f":"IF(PLANTS!C159=\"\",\"\",PLANTS!C159)","v":""},"",{"$f":"IF(PLANTS!D159=\"\",\"\",PLANTS!D159)","v":"y"},"",{"$f":"IF(PLANTS!E159=\"\",\"\",PLANTS!E159)","v":"y"},"",{"$f":"IF(PLANTS!F159=\"\",\"\",PLANTS!F159)","v":"y"},"",0,null,100,"",null,0,{"$f":"IF(DE161=\"A\",PLANTS!H159,DE161)","v":"M"},50,null,"","","","",null,null,null,"","",null,null,{"$f":"IF(KeySP!A158=\"\",\"\",KeySP!A158)","v":"SCVA"},0,0,"",{"$error":"#DIV/0!"},null,"",null," ","",null,"","","",0,0,"",0,"",null,"","","COPA28",{"$f":"IF(DC161=\"a\",PLANTS!I159,DMA!DC161)","v":2},{"$f":"IF(DD161=\"a\",PLANTS!G159,DMA!DD161)","v":100},"","","","","","","",null,null,{"$f":"PLANTS!I159","v":2},{"$f":"PLANTS!G159","v":100},{"$f":"PLANTS!H159","v":"M"},null,null,null,null,"",{"$f":"IF(DMA!DJ161=\"\",\"\",(DMA!N161-SUMIF(Graphs!$O$13:$O$199,DMA!$DJ161,Graphs!$V$13:$V$199))^2)","v":""},{"$f":"IF(DMA!DK161=\"\",\"\",(DMA!O161-SUMIF(Graphs!$O$13:$O$199,DMA!$DJ161,Graphs!$V$13:$V$199))^2)","v":""},{"$f":"IF(DMA!DL161=\"\",\"\",(DMA!P161-SUMIF(Graphs!$O$13:$O$199,DMA!$DJ161,Graphs!$V$13:$V$199))^2)","v":""},"",0,"",0,157,null,null,null,null,16.100000000000001]
[null,null,null,null,null,null,null,null,null,null,null,null,null,null,null,null,null,null,null,{"$f":"IF(A162=\"\",\"\",(Header!C$7*Header!C$6)*A162)","v":""},"","","","","",{"$f":"IF(KeySP!D159=\"\",\"\",KeySP!D159)","v":" "},"",0,0,null,null,{"$f":"IF(KeySP!$D159=\"\",\"\",KeySP!$D159)","v":" "},{"$f":"SUMIF($M$5:M$502,$AF162,N$5:N$502)","v":0},{"$f":"SUMIF($M$5:M$502,$AF162,O$5:O$502)","v":0},{"$f":"SUMIF($M$5:M$502,$AF162,P$5:P$502)","v":0},null,null,null,null,null,{"$f":"IF(PLANTS!A160=\"\",\"\",PLANTS!A160)","v":"COSE16"},8.5,"",0,{"$f":"IF(PLANTS!C160=\"\",\"\",PLANTS!C160)","v":"y"},"",{"$f":"IF(PLANTS!D160=\"\",\"\",PLANTS!D160)","v":"y"},"",{"$f":"IF(PLANTS!E160=\"\",\"\",PLANTS!E160)","v":""},"",{"$f":"IF(PLANTS!F160=\"\",\"\",PLANTS!F160)","v":""},"",0,null,75,"",null,0,{"$f":"IF(DE162=\"A\",PLANTS!H160,DE162)","v":"L"},80,null,"","","","",null,null,null,"","",null,null,{"$f":"IF(KeySP!A159=\"\",\"\",KeySP!A159)","v":"SPAI"},0,0,"",{"$error":"#DIV/0!"},null,"",null," ","",null,"","","","",0,0,"","",null,"","","COSE16",{"$f":"IF(DC162=\"a\",PLANTS!I160,DMA!DC162)","v":8.5},{"$f":"IF(DD162=\"a\",PLANTS!G160,DMA!DD162)","v":75},"","","","","","","",null,null,{"$f":"PLANTS!I160","v":8.5},{"$f":"PLANTS!G160","v":75},{"$f":"PLANTS!H160","v":"L"},null,null,null,null,"",{"$f":"IF(DMA!DJ162=\"\",\"\",(DMA!N162-SUMIF(Graphs!$O$13:$O$199,DMA!$DJ162,Graphs!$V$13:$V$199))^2)","v":""},{"$f":"IF(DMA!DK162=\"\",\"\",(DMA!O162-SUMIF(Graphs!$O$13:$O$199,DMA!$DJ162,Graphs!$V$13:$V$199))^2)","v":""},{"$f":"IF(DMA!DL162=\"\",\"\",(DMA!P162-SUMIF(Graphs!$O$13:$O$199,DMA!$DJ162,Graphs!$V$13:$V$199))^2)","v":""},"",0,"",0,158,null,null,null,null,16.2]
[null,null,null,null,null,null,null,null,null,null,null,null,null,null,null,null,null,null,null,{"$f":"IF(A163=\"\",\"\",(Header!C$7*Header!C$6)*A163)","v":""},"","","","","",{"$f":"IF(KeySP!D160=\"\",\"\",KeySP!D160)","v":" "},"",0,0,null,null,{"$f":"IF(KeySP!$D160=\"\",\"\",KeySP!$D160)","v":" "},{"$f":"SUMIF($M$5:M$502,$AF163,N$5:N$502)","v":0},{"$f":"SUMIF($M$5:M$502,$AF163,O$5:O$502)","v":0},{"$f":"SUMIF($M$5:M$502,$AF163,P$5:P$502)","v":0},null,null,null,null,null,{"$f":"IF(PLANTS!A161=\"\",\"\",PLANTS!A161)","v":"COST4"},8.5,"",0,{"$f":"IF(PLANTS!C161=\"\",\"\",PLANTS!C161)","v":"y"},"",{"$f":"IF(PLANTS!D161=\"\",\"\",PLANTS!D161)","v":"y"},"",{"$f":"IF(PLANTS!E161=\"\",\"\",PLANTS!E161)","v":""},"",{"$f":"IF(PLANTS!F161=\"\",\"\",PLANTS!F161)","v":""},"",0,null,75,"",null,0,{"$f":"IF(DE163=\"A\",PLANTS!H161,DE163)","v":"L"},80,null,"","","","",null,null,null,"","",null,null,{"$f":"IF(KeySP!A160=\"\",\"\",KeySP!A160)","v":"SPGR"},0,0,"",{"$error":"#DIV/0!"},null,"",null," ","",null,"","","","",0,0,"","",null,"","","COST4",{"$f":"IF(DC163=\"a\",PLANTS!I161,DMA!DC163)","v":8.5},{"$f":"IF(DD163=\"a\",PLANTS!G161,DMA!DD163)","v":75},"","","","","","","",null,null,{"$f":"PLANTS!I161","v":8.5},{"$f":"PLANTS!G161","v":75},{"$f":"PLANTS!H161","v":"L"},null,null,null,null,"",{"$f":"IF(DMA!DJ163=\"\",\"\",(DMA!N163-SUMIF(Graphs!$O$13:$O$199,DMA!$DJ163,Graphs!$V$13:$V$199))^2)","v":""},{"$f":"IF(DMA!DK163=\"\",\"\",(DMA!O163-SUMIF(Graphs!$O$13:$O$199,DMA!$DJ163,Graphs!$V$13:$V$199))^2)","v":""},{"$f":"IF(DMA!DL163=\"\",\"\",(DMA!P163-SUMIF(Graphs!$O$13:$O$199,DMA!$DJ163,Graphs!$V$13:$V$199))^2)","v":""},"",0,"",0,159,null,null,null,null,16.3]
[null,null,null,null,null,null,null,null,null,null,null,null,null,null,null,null,null,null,null,{"$f":"IF(A164=\"\",\"\",(Header!C$7*Header!C$6)*A164)","v":""},"","","","","",{"$f":"IF(KeySP!D161=\"\",\"\",KeySP!D161)","v":" "},"",0,0,null,null,{"$f":"IF(KeySP!$D161=\"\",\"\",KeySP!$D161)","v":" "},{"$f":"SUMIF($M$5:M$502,$AF164,N$5:N$502)","v":0},{"$f":"SUMIF($M$5:M$502,$AF164,O$5:O$502)","v":0},{"$f":"SUMIF($M$5:M$502,$AF164,P$5:P$502)","v":0},null,null,null,null,null,{"$f":"IF(PLANTS!A162=\"\",\"\",PLANTS!A162)","v":"CRAC2"},2,"",0,{"$f":"IF(PLANTS!C162=\"\",\"\",PLANTS!C162)","v":""},"",{"$f":"IF(PLANTS!D162=\"\",\"\",PLANTS!D162)","v":""},"",{"$f":"IF(PLANTS!E162=\"\",\"\",PLANTS!E162)","v":"y"},"",{"$f":"IF(PLANTS!F162=\"\",\"\",PLANTS!F162)","v":"y"},"",0,null,25,"",null,0,{"$f":"IF(DE164=\"A\",PLANTS!H162,DE164)","v":"L"},80,null,"","","","",null,null,null,"","",null,null,{"$f":"IF(KeySP!A161=\"\",\"\",KeySP!A161)","v":"SPPE"},0,0,"",{"$error":"#DIV/0!"},null,"",null," ","",null,"","","",0,"","","","",null,"","","CRAC2",{"$f":"IF(DC164=\"a\",PLANTS!I162,DMA!DC164)","v":2},{"$f":"IF(DD164=\"a\",PLANTS!G162,DMA!DD164)","v":25},"","","","","","","",null,null,{"$f":"PLANTS!I162","v":2},{"$f":"PLANTS!G162","v":25},{"$f":"PLANTS!H162","v":"L"},null,null,null,null,"",{"$f":"IF(DMA!DJ164=\"\",\"\",(DMA!N164-SUMIF(Graphs!$O$13:$O$199,DMA!$DJ164,Graphs!$V$13:$V$199))^2)","v":""},{"$f":"IF(DMA!DK164=\"\",\"\",(DMA!O164-SUMIF(Graphs!$O$13:$O$199,DMA!$DJ164,Graphs!$V$13:$V$199))^2)","v":""},{"$f":"IF(DMA!DL164=\"\",\"\",(DMA!P164-SUMIF(Graphs!$O$13:$O$199,DMA!$DJ164,Graphs!$V$13:$V$199))^2)","v":""},"",0,"",0,160,null,null,null,null,16.399999999999999]
[null,null,null,null,null,null,null,null,null,null,null,null,null,null,null,null,null,null,null,{"$f":"IF(A165=\"\",\"\",(Header!C$7*Header!C$6)*A165)","v":""},"","","","","",{"$f":"IF(KeySP!D162=\"\",\"\",KeySP!D162)","v":" "},"",0,0,null,null,{"$f":"IF(KeySP!$D162=\"\",\"\",KeySP!$D162)","v":" "},{"$f":"SUMIF($M$5:M$502,$AF165,N$5:N$502)","v":0},{"$f":"SUMIF($M$5:M$502,$AF165,O$5:O$502)","v":0},{"$f":"SUMIF($M$5:M$502,$AF165,P$5:P$502)","v":0},null,null,null,null,null,{"$f":"IF(PLANTS!A163=\"\",\"\",PLANTS!A163)","v":"CRCH"},5,"",0,{"$f":"IF(PLANTS!C163=\"\",\"\",PLANTS!C163)","v":"y"},"",{"$f":"IF(PLANTS!D163=\"\",\"\",PLANTS!D163)","v":""},"",{"$f":"IF(PLANTS!E163=\"\",\"\",PLANTS!E163)","v":""},"",{"$f":"IF(PLANTS!F163=\"\",\"\",PLANTS!F163)","v":""},"",0,null,25,"",null,0,{"$f":"IF(DE165=\"A\",PLANTS!H163,DE165)","v":"E"},20,null,"","","","",null,null,null,"","",null,null,{"$f":"IF(KeySP!A162=\"\",\"\",KeySP!A162)","v":"SPWR2"},0,0,"",{"$error":"#DIV/0!"},null,"",null," ","",null,"","","","","",0,"","",null,"","","CRCH",{"$f":"IF(DC165=\"a\",PLANTS!I163,DMA!DC165)","v":5},{"$f":"IF(DD165=\"a\",PLANTS!G163,DMA!DD165)","v":25},"","","","","","","",null,null,{"$f":"PLANTS!I163","v":5},{"$f":"PLANTS!G163","v":25},{"$f":"PLANTS!H163","v":"E"},null,null,null,null,"",{"$f":"IF(DMA!DJ165=\"\",\"\",(DMA!N165-SUMIF(Graphs!$O$13:$O$199,DMA!$DJ165,Graphs!$V$13:$V$199))^2)","v":""},{"$f":"IF(DMA!DK165=\"\",\"\",(DMA!O165-SUMIF(Graphs!$O$13:$O$199,DMA!$DJ165,Graphs!$V$13:$V$199))^2)","v":""},{"$f":"IF(DMA!DL165=\"\",\"\",(DMA!P165-SUMIF(Graphs!$O$13:$O$199,DMA!$DJ165,Graphs!$V$13:$V$199))^2)","v":""},"",0,"",0,161,null,null,null,null,16.5]
[null,null,null,null,null,null,null,null,null,null,null,null,null,null,null,null,null,null,null,{"$f":"IF(A166=\"\",\"\",(Header!C$7*Header!C$6)*A166)","v":""},"","","","","",{"$f":"IF(KeySP!D163=\"\",\"\",KeySP!D163)","v":" "},"",0,0,null,null,{"$f":"IF(KeySP!$D163=\"\",\"\",KeySP!$D163)","v":" "},{"$f":"SUMIF($M$5:M$502,$AF166,N$5:N$502)","v":0},{"$f":"SUMIF($M$5:M$502,$AF166,O$5:O$502)","v":0},{"$f":"SUMIF($M$5:M$502,$AF166,P$5:P$502)","v":0},null,null,null,null,null,{"$f":"IF(PLANTS!A164=\"\",\"\",PLANTS!A164)","v":"CRDO2"},8.5,"",0,{"$f":"IF(PLANTS!C164=\"\",\"\",PLANTS!C164)","v":"y"},"",{"$f":"IF(PLANTS!D164=\"\",\"\",PLANTS!D164)","v":""},"",{"$f":"IF(PLANTS!E164=\"\",\"\",PLANTS!E164)","v":""},"",{"$f":"IF(PLANTS!F164=\"\",\"\",PLANTS!F164)","v":""},"",0,null,50,"",null,0,{"$f":"IF(DE166=\"A\",PLANTS!H164,DE166)","v":"M"},50,null,"","","","",null,null,null,"","",null,null,{"$f":"IF(KeySP!A163=\"\",\"\",KeySP!A163)","v":""},"",{"$error":"#DIV/0!"},{"$error":"#DIV/0!"},{"$error":"#DIV/0!"},null,"",null," ","",null,"","","","","",0,"","",null,"","","CRDO2",{"$f":"IF(DC166=\"a\",PLANTS!I164,DMA!DC166)","v":8.5},{"$f":"IF(DD166=\"a\",PLANTS!G164,DMA!DD166)","v":50},"","","","","","","",null,null,{"$f":"PLANTS!I164","v":8.5},{"$f":"PLANTS!G164","v":50},{"$f":"PLANTS!H164","v":"M"},null,null,null,null,"",{"$f":"IF(DMA!DJ166=\"\",\"\",(DMA!N166-SUMIF(Graphs!$O$13:$O$199,DMA!$DJ166,Graphs!$V$13:$V$199))^2)","v":""},{"$f":"IF(DMA!DK166=\"\",\"\",(DMA!O166-SUMIF(Graphs!$O$13:$O$199,DMA!$DJ166,Graphs!$V$13:$V$199))^2)","v":""},{"$f":"IF(DMA!DL166=\"\",\"\",(DMA!P166-SUMIF(Graphs!$O$13:$O$199,DMA!$DJ166,Graphs!$V$13:$V$199))^2)","v":""},"",0,"",0,162,null,null,null,null,16.600000000000001]
[null,null,null,null,null,null,null,null,null,null,null,null,null,null,null,null,null,null,null,{"$f":"IF(A167=\"\",\"\",(Header!C$7*Header!C$6)*A167)","v":""},"","","","","",{"$f":"IF(KeySP!D164=\"\",\"\",KeySP!D164)","v":" "},"",0,0,null,null,{"$f":"IF(KeySP!$D164=\"\",\"\",KeySP!$D164)","v":" "},{"$f":"SUMIF($M$5:M$502,$AF167,N$5:N$502)","v":0},{"$f":"SUMIF($M$5:M$502,$AF167,O$5:O$502)","v":0},{"$f":"SUMIF($M$5:M$502,$AF167,P$5:P$502)","v":0},null,null,null,null,null,{"$f":"IF(PLANTS!A165=\"\",\"\",PLANTS!A165)","v":"CREPI"},2,"",0,{"$f":"IF(PLANTS!C165=\"\",\"\",PLANTS!C165)","v":""},"",{"$f":"IF(PLANTS!D165=\"\",\"\",PLANTS!D165)","v":""},"",{"$f":"IF(PLANTS!E165=\"\",\"\",PLANTS!E165)","v":"y"},"",{"$f":"IF(PLANTS!F165=\"\",\"\",PLANTS!F165)","v":"y"},"",0,null,25,"",null,0,{"$f":"IF(DE167=\"A\",PLANTS!H165,DE167)","v":"L"},80,null,"","","","",null,null,null,"","",null,null,{"$f":"IF(KeySP!A164=\"\",\"\",KeySP!A164)","v":""},"",{"$error":"#DIV/0!"},{"$error":"#DIV/0!"},{"$error":"#DIV/0!"},null,"",null," ","",null,"","","",0,"","","","",null,"","","CREPI",{"$f":"IF(DC167=\"a\",PLANTS!I165,DMA!DC167)","v":2},{"$f":"IF(DD167=\"a\",PLANTS!G165,DMA!DD167)","v":25},"","",{"$f":"IF(CT167=\"\",\"\",IF(CU167=\"\",CT167,(CT167*2+CU167)/3))","v":""},"","","","",null,null,{"$f":"PLANTS!I165","v":2},{"$f":"PLANTS!G165","v":25},{"$f":"PLANTS!H165","v":"L"},null,null,null,null,"",{"$f":"IF(DMA!DJ167=\"\",\"\",(DMA!N167-SUMIF(Graphs!$O$13:$O$199,DMA!$DJ167,Graphs!$V$13:$V$199))^2)","v":""},{"$f":"IF(DMA!DK167=\"\",\"\",(DMA!O167-SUMIF(Graphs!$O$13:$O$199,DMA!$DJ167,Graphs!$V$13:$V$199))^2)","v":""},{"$f":"IF(DMA!DL167=\"\",\"\",(DMA!P167-SUMIF(Graphs!$O$13:$O$199,DMA!$DJ167,Graphs!$V$13:$V$199))^2)","v":""},"",0,"",0,163,null,null,null,null,16.7]
[null,null,null,null,null,null,null,null,null,null,null,null,null,null,null,null,null,null,null,{"$f":"IF(A168=\"\",\"\",(Header!C$7*Header!C$6)*A168)","v":""},"","","","","",{"$f":"IF(KeySP!D165=\"\",\"\",KeySP!D165)","v":" "},"",0,0,null,null,{"$f":"IF(KeySP!$D165=\"\",\"\",KeySP!$D165)","v":" "},{"$f":"SUMIF($M$5:M$502,$AF168,N$5:N$502)","v":0},{"$f":"SUMIF($M$5:M$502,$AF168,O$5:O$502)","v":0},{"$f":"SUMIF($M$5:M$502,$AF168,P$5:P$502)","v":0},null,null,null,null,null,{"$f":"IF(PLANTS!A166=\"\",\"\",PLANTS!A166)","v":"CRSU5"},8.5,"",0,{"$f":"IF(PLANTS!C166=\"\",\"\",PLANTS!C166)","v":"y"},"",{"$f":"IF(PLANTS!D166=\"\",\"\",PLANTS!D166)","v":""},"",{"$f":"IF(PLANTS!E166=\"\",\"\",PLANTS!E166)","v":""},"",{"$f":"IF(PLANTS!F166=\"\",\"\",PLANTS!F166)","v":""},"",0,null,50,"",null,0,{"$f":"IF(DE168=\"A\",PLANTS!H166,DE168)","v":"M"},50,null,"","","","",null,null,null,"","",null,null,{"$f":"IF(KeySP!A165=\"\",\"\",KeySP!A165)","v":""},"",{"$error":"#DIV/0!"},{"$error":"#DIV/0!"},{"$error":"#DIV/0!"},null,"",null," ","",null,"","","","","",0,"","",null,"","","CRSU5",{"$f":"IF(DC168=\"a\",PLANTS!I166,DMA!DC168)","v":8.5},{"$f":"IF(DD168=\"a\",PLANTS!G166,DMA!DD168)","v":50},"","","","","","","",null,null,{"$f":"PLANTS!I166","v":8.5},{"$f":"PLANTS!G166","v":50},{"$f":"PLANTS!H166","v":"M"},null,null,null,null,"",{"$f":"IF(DMA!DJ168=\"\",\"\",(DMA!N168-SUMIF(Graphs!$O$13:$O$199,DMA!$DJ168,Graphs!$V$13:$V$199))^2)","v":""},{"$f":"IF(DMA!DK168=\"\",\"\",(DMA!O168-SUMIF(Graphs!$O$13:$O$199,DMA!$DJ168,Graphs!$V$13:$V$199))^2)","v":""},{"$f":"IF(DMA!DL168=\"\",\"\",(DMA!P168-SUMIF(Graphs!$O$13:$O$199,DMA!$DJ168,Graphs!$V$13:$V$199))^2)","v":""},"",0,"",0,164,null,null,null,null,16.8]
[null,null,null,null,null,null,null,null,null,null,null,null,null,null,null,null,null,null,null,{"$f":"IF(A169=\"\",\"\",(Header!C$7*Header!C$6)*A169)","v":""},"","","","","",{"$f":"IF(KeySP!D166=\"\",\"\",KeySP!D166)","v":" "},"",0,0,null,null,{"$f":"IF(KeySP!$D166=\"\",\"\",KeySP!$D166)","v":" "},{"$f":"SUMIF($M$5:M$502,$AF169,N$5:N$502)","v":0},{"$f":"SUMIF($M$5:M$502,$AF169,O$5:O$502)","v":0},{"$f":"SUMIF($M$5:M$502,$AF169,P$5:P$502)","v":0},null,null,null,null,null,{"$f":"IF(PLANTS!A167=\"\",\"\",PLANTS!A167)","v":"CYAC"},2,"",0,{"$f":"IF(PLANTS!C167=\"\",\"\",PLANTS!C167)","v":""},"",{"$f":"IF(PLANTS!D167=\"\",\"\",PLANTS!D167)","v":""},"",{"$f":"IF(PLANTS!E167=\"\",\"\",PLANTS!E167)","v":"y"},"",{"$f":"IF(PLANTS!F167=\"\",\"\",PLANTS!F167)","v":"y"},"",0,null,50,"",null,0,{"$f":"IF(DE169=\"A\",PLANTS!H167,DE169)","v":"E"},20,null,"","","","",null,null,null,"","",null,null,{"$f":"IF(KeySP!A166=\"\",\"\",KeySP!A166)","v":""},"",{"$error":"#DIV/0!"},{"$error":"#DIV/0!"},{"$error":"#DIV/0!"},null,"",null," ","",null,"","","",0,"","","","",null,"","","CYAC",{"$f":"IF(DC169=\"a\",PLANTS!I167,DMA!DC169)","v":2},{"$f":"IF(DD169=\"a\",PLANTS!G167,DMA!DD169)","v":50},"","","","","","","",null,null,{"$f":"PLANTS!I167","v":2},{"$f":"PLANTS!G167","v":50},{"$f":"PLANTS!H167","v":"E"},null,null,null,null,"",{"$f":"IF(DMA!DJ169=\"\",\"\",(DMA!N169-SUMIF(Graphs!$O$13:$O$199,DMA!$DJ169,Graphs!$V$13:$V$199))^2)","v":""},{"$f":"IF(DMA!DK169=\"\",\"\",(DMA!O169-SUMIF(Graphs!$O$13:$O$199,DMA!$DJ169,Graphs!$V$13:$V$199))^2)","v":""},{"$f":"IF(DMA!DL169=\"\",\"\",(DMA!P169-SUMIF(Graphs!$O$13:$O$199,DMA!$DJ169,Graphs!$V$13:$V$199))^2)","v":""},"",0,"",0,165,null,null,null,null,16.899999999999999]
[null,null,null,null,null,null,null,null,null,null,null,null,null,null,null,null,null,null,null,{"$f":"IF(A170=\"\",\"\",(Header!C$7*Header!C$6)*A170)","v":""},"","","","","",{"$f":"IF(KeySP!D167=\"\",\"\",KeySP!D167)","v":" "},"",0,0,null,null,{"$f":"IF(KeySP!$D167=\"\",\"\",KeySP!$D167)","v":" "},{"$f":"SUMIF($M$5:M$502,$AF170,N$5:N$502)","v":0},{"$f":"SUMIF($M$5:M$502,$AF170,O$5:O$502)","v":0},{"$f":"SUMIF($M$5:M$502,$AF170,P$5:P$502)","v":0},null,null,null,null,null,{"$f":"IF(PLANTS!A168=\"\",\"\",PLANTS!A168)","v":"CYAC2"},2,"",0,{"$f":"IF(PLANTS!C168=\"\",\"\",PLANTS!C168)","v":""},"",{"$f":"IF(PLANTS!D168=\"\",\"\",PLANTS!D168)","v":"y"},"",{"$f":"IF(PLANTS!E168=\"\",\"\",PLANTS!E168)","v":"y"},"",{"$f":"IF(PLANTS!F168=\"\",\"\",PLANTS!F168)","v":""},"",0,null,100,"",null,0,{"$f":"IF(DE170=\"A\",PLANTS!H168,DE170)","v":"E"},20,null,"","","","",null,null,null,"","",null,null,{"$f":"IF(KeySP!A167=\"\",\"\",KeySP!A167)","v":""},"",{"$error":"#DIV/0!"},{"$error":"#DIV/0!"},{"$error":"#DIV/0!"},null,"",null," ","",null,"","","","",0,"",0,"",null,"","","CYAC2",{"$f":"IF(DC170=\"a\",PLANTS!I168,DMA!DC170)","v":2},{"$f":"IF(DD170=\"a\",PLANTS!G168,DMA!DD170)","v":100},"","","","","","","",null,null,{"$f":"PLANTS!I168","v":2},{"$f":"PLANTS!G168","v":100},{"$f":"PLANTS!H168","v":"E"},null,null,null,null,"",{"$f":"IF(DMA!DJ170=\"\",\"\",(DMA!N170-SUMIF(Graphs!$O$13:$O$199,DMA!$DJ170,Graphs!$V$13:$V$199))^2)","v":""},{"$f":"IF(DMA!DK170=\"\",\"\",(DMA!O170-SUMIF(Graphs!$O$13:$O$199,DMA!$DJ170,Graphs!$V$13:$V$199))^2)","v":""},{"$f":"IF(DMA!DL170=\"\",\"\",(DMA!P170-SUMIF(Graphs!$O$13:$O$199,DMA!$DJ170,Graphs!$V$13:$V$199))^2)","v":""},"",0,"",0,166,null,null,null,null,17]
[null,null,null,null,null,null,null,null,null,null,null,null,null,null,null,null,null,null,null,{"$f":"IF(A171=\"\",\"\",(Header!C$7*Header!C$6)*A171)","v":""},"","","","","",{"$f":"IF(KeySP!D168=\"\",\"\",KeySP!D168)","v":" "},"",0,0,null,null,{"$f":"IF(KeySP!$D168=\"\",\"\",KeySP!$D168)","v":" "},{"$f":"SUMIF($M$5:M$502,$AF171,N$5:N$502)","v":0},{"$f":"SUMIF($M$5:M$502,$AF171,O$5:O$502)","v":0},{"$f":"SUMIF($M$5:M$502,$AF171,P$5:P$502)","v":0},null,null,null,null,null,{"$f":"IF(PLANTS!A169=\"\",\"\",PLANTS!A169)","v":"CYDA"},2,"",0,{"$f":"IF(PLANTS!C169=\"\",\"\",PLANTS!C169)","v":""},"",{"$f":"IF(PLANTS!D169=\"\",\"\",PLANTS!D169)","v":""},"",{"$f":"IF(PLANTS!E169=\"\",\"\",PLANTS!E169)","v":"y"},"",{"$f":"IF(PLANTS!F169=\"\",\"\",PLANTS!F169)","v":""},"",0,null,25,"",null,0,{"$f":"IF(DE171=\"A\",PLANTS!H169,DE171)","v":"E"},20,null,"","","","",null,null,null,"","",null,null,{"$f":"IF(KeySP!A168=\"\",\"\",KeySP!A168)","v":""},"",{"$error":"#DIV/0!"},{"$error":"#DIV/0!"},{"$error":"#DIV/0!"},null,"",null," ","",null,"","","","","","","","",null,"","","CYDA",{"$f":"IF(DC171=\"a\",PLANTS!I169,DMA!DC171)","v":2},{"$f":"IF(DD171=\"a\",PLANTS!G169,DMA!DD171)","v":25},"","","","","","","",null,null,{"$f":"PLANTS!I169","v":2},{"$f":"PLANTS!G169","v":25},{"$f":"PLANTS!H169","v":"E"},null,null,null,null,"",{"$f":"IF(DMA!DJ171=\"\",\"\",(DMA!N171-SUMIF(Graphs!$O$13:$O$199,DMA!$DJ171,Graphs!$V$13:$V$199))^2)","v":""},{"$f":"IF(DMA!DK171=\"\",\"\",(DMA!O171-SUMIF(Graphs!$O$13:$O$199,DMA!$DJ171,Graphs!$V$13:$V$199))^2)","v":""},{"$f":"IF(DMA!DL171=\"\",\"\",(DMA!P171-SUMIF(Graphs!$O$13:$O$199,DMA!$DJ171,Graphs!$V$13:$V$199))^2)","v":""},"",0,"",0,167,null,null,null,null,17.100000000000001]
[null,null,null,null,null,null,null,null,null,null,null,null,null,null,null,null,null,null,null,{"$f":"IF(A172=\"\",\"\",(Header!C$7*Header!C$6)*A172)","v":""},"","","","","",{"$f":"IF(KeySP!D169=\"\",\"\",KeySP!D169)","v":" "},"",0,0,null,null,{"$f":"IF(KeySP!$D169=\"\",\"\",KeySP!$D169)","v":" "},{"$f":"SUMIF($M$5:M$502,$AF172,N$5:N$502)","v":0},{"$f":"SUMIF($M$5:M$502,$AF172,O$5:O$502)","v":0},{"$f":"SUMIF($M$5:M$502,$AF172,P$5:P$502)","v":0},null,null,null,null,null,{"$f":"IF(PLANTS!A170=\"\",\"\",PLANTS!A170)","v":"CYDA4"},2,"",0,{"$f":"IF(PLANTS!C170=\"\",\"\",PLANTS!C170)","v":"y"},"",{"$f":"IF(PLANTS!D170=\"\",\"\",PLANTS!D170)","v":""},"",{"$f":"IF(PLANTS!E170=\"\",\"\",PLANTS!E170)","v":""},"",{"$f":"IF(PLANTS!F170=\"\",\"\",PLANTS!F170)","v":""},"",0,null,0,"",null,0,{"$f":"IF(DE172=\"A\",PLANTS!H170,DE172)","v":"E"},20,null,"","","","",null,null,null,"","",null,null,{"$f":"IF(KeySP!A169=\"\",\"\",KeySP!A169)","v":""},"",{"$error":"#DIV/0!"},{"$error":"#DIV/0!"},{"$error":"#DIV/0!"},null,"",null," ","",null,"","","","","",0,"","",null,"","","CYDA4",{"$f":"IF(DC172=\"a\",PLANTS!I170,DMA!DC172)","v":2},{"$f":"IF(DD172=\"a\",PLANTS!G170,DMA!DD172)","v":0},"","","","","","","",null,null,{"$f":"PLANTS!I170","v":2},{"$f":"PLANTS!G170","v":0},{"$f":"PLANTS!H170","v":"E"},null,null,null,null,"",{"$f":"IF(DMA!DJ172=\"\",\"\",(DMA!N172-SUMIF(Graphs!$O$13:$O$199,DMA!$DJ172,Graphs!$V$13:$V$199))^2)","v":""},{"$f":"IF(DMA!DK172=\"\",\"\",(DMA!O172-SUMIF(Graphs!$O$13:$O$199,DMA!$DJ172,Graphs!$V$13:$V$199))^2)","v":""},{"$f":"IF(DMA!DL172=\"\",\"\",(DMA!P172-SUMIF(Graphs!$O$13:$O$199,DMA!$DJ172,Graphs!$V$13:$V$199))^2)","v":""},"",0,"",0,168,null,null,null,null,17.2]
[null,null,null,null,null,null,null,null,null,null,null,null,null,null,null,null,null,null,null,{"$f":"IF(A173=\"\",\"\",(Header!C$7*Header!C$6)*A173)","v":""},"","","","","",{"$f":"IF(KeySP!D170=\"\",\"\",KeySP!D170)","v":" "},"",0,0,null,null,{"$f":"IF(KeySP!$D170=\"\",\"\",KeySP!$D170)","v":" "},{"$f":"SUMIF($M$5:M$502,$AF173,N$5:N$502)","v":0},{"$f":"SUMIF($M$5:M$502,$AF173,O$5:O$502)","v":0},{"$f":"SUMIF($M$5:M$502,$AF173,P$5:P$502)","v":0},null,null,null,null,null,{"$f":"IF(PLANTS!A171=\"\",\"\",PLANTS!A171)","v":"CYOF"},2,"",0,{"$f":"IF(PLANTS!C171=\"\",\"\",PLANTS!C171)","v":""},"",{"$f":"IF(PLANTS!D171=\"\",\"\",PLANTS!D171)","v":""},"",{"$f":"IF(PLANTS!E171=\"\",\"\",PLANTS!E171)","v":"y"},"",{"$f":"IF(PLANTS!F171=\"\",\"\",PLANTS!F171)","v":"y"},"",0,null,25,"",null,0,{"$f":"IF(DE173=\"A\",PLANTS!H171,DE173)","v":"E"},20,null,"","","","",null,null,null,"","",null,null,{"$f":"IF(KeySP!A170=\"\",\"\",KeySP!A170)","v":""},"",{"$error":"#DIV/0!"},{"$error":"#DIV/0!"},{"$error":"#DIV/0!"},null,"",null," ","",null,"","","",0,"","","","",null,"","","CYOF",{"$f":"IF(DC173=\"a\",PLANTS!I171,DMA!DC173)","v":2},{"$f":"IF(DD173=\"a\",PLANTS!G171,DMA!DD173)","v":25},"","","","","","","",null,null,{"$f":"PLANTS!I171","v":2},{"$f":"PLANTS!G171","v":25},{"$f":"PLANTS!H171","v":"E"},null,null,null,null,"",{"$f":"IF(DMA!DJ173=\"\",\"\",(DMA!N173-SUMIF(Graphs!$O$13:$O$199,DMA!$DJ173,Graphs!$V$13:$V$199))^2)","v":""},{"$f":"IF(DMA!DK173=\"\",\"\",(DMA!O173-SUMIF(Graphs!$O$13:$O$199,DMA!$DJ173,Graphs!$V$13:$V$199))^2)","v":""},{"$f":"IF(DMA!DL173=\"\",\"\",(DMA!P173-SUMIF(Graphs!$O$13:$O$199,DMA!$DJ173,Graphs!$V$13:$V$199))^2)","v":""},"",0,"",0,169,null,null,null,null,17.3]
[null,null,null,null,null,null,null,null,null,null,null,null,null,null,null,null,null,null,null,{"$f":"IF(A174=\"\",\"\",(Header!C$7*Header!C$6)*A174)","v":""},"","","","","",{"$f":"IF(KeySP!D171=\"\",\"\",KeySP!D171)","v":" "},"",0,0,null,null,{"$f":"IF(KeySP!$D171=\"\",\"\",KeySP!$D171)","v":" "},{"$f":"SUMIF($M$5:M$502,$AF174,N$5:N$502)","v":0},{"$f":"SUMIF($M$5:M$502,$AF174,O$5:O$502)","v":0},{"$f":"SUMIF($M$5:M$502,$AF174,P$5:P$502)","v":0},null,null,null,null,null,{"$f":"IF(PLANTS!A172=\"\",\"\",PLANTS!A172)","v":"CYPA19"},5,"",0,{"$f":"IF(PLANTS!C172=\"\",\"\",PLANTS!C172)","v":""},"",{"$f":"IF(PLANTS!D172=\"\",\"\",PLANTS!D172)","v":"y"},"",{"$f":"IF(PLANTS!E172=\"\",\"\",PLANTS!E172)","v":"y"},"",{"$f":"IF(PLANTS!F172=\"\",\"\",PLANTS!F172)","v":"y"},"",0,null,75,"",null,0,{"$f":"IF(DE174=\"A\",PLANTS!H172,DE174)","v":"E"},20,null,"","","","",null,null,null,"","",null,null,{"$f":"IF(KeySP!A171=\"\",\"\",KeySP!A171)","v":""},"",{"$error":"#DIV/0!"},{"$error":"#DIV/0!"},{"$error":"#DIV/0!"},null,"",null," ","",null,"","","",0,0,"",0,"",null,"","","CYPA19",{"$f":"IF(DC174=\"a\",PLANTS!I172,DMA!DC174)","v":5},{"$f":"IF(DD174=\"a\",PLANTS!G172,DMA!DD174)","v":75},"","","","","","","",null,null,{"$f":"PLANTS!I172","v":5},{"$f":"PLANTS!G172","v":75},{"$f":"PLANTS!H172","v":"E"},null,null,null,null,"",{"$f":"IF(DMA!DJ174=\"\",\"\",(DMA!N174-SUMIF(Graphs!$O$13:$O$199,DMA!$DJ174,Graphs!$V$13:$V$199))^2)","v":""},{"$f":"IF(DMA!DK174=\"\",\"\",(DMA!O174-SUMIF(Graphs!$O$13:$O$199,DMA!$DJ174,Graphs!$V$13:$V$199))^2)","v":""},{"$f":"IF(DMA!DL174=\"\",\"\",(DMA!P174-SUMIF(Graphs!$O$13:$O$199,DMA!$DJ174,Graphs!$V$13:$V$199))^2)","v":""},"",0,"",0,170,null,null,null,null,17.399999999999999]
[null,null,null,null,null,null,null,null,null,null,null,null,null,null,null,null,null,null,null,{"$f":"IF(A175=\"\",\"\",(Header!C$7*Header!C$6)*A175)","v":""},"","","","","",{"$f":"IF(KeySP!D172=\"\",\"\",KeySP!D172)","v":" "},"",0,0,null,null,{"$f":"IF(KeySP!$D172=\"\",\"\",KeySP!$D172)","v":" "},{"$f":"SUMIF($M$5:M$502,$AF175,N$5:N$502)","v":0},{"$f":"SUMIF($M$5:M$502,$AF175,O$5:O$502)","v":0},{"$f":"SUMIF($M$5:M$502,$AF175,P$5:P$502)","v":0},null,null,null,null,null,{"$f":"IF(PLANTS!A173=\"\",\"\",PLANTS!A173)","v":"DACA3"},2,"",0,{"$f":"IF(PLANTS!C173=\"\",\"\",PLANTS!C173)","v":""},"",{"$f":"IF(PLANTS!D173=\"\",\"\",PLANTS!D173)","v":""},"",{"$f":"IF(PLANTS!E173=\"\",\"\",PLANTS!E173)","v":"y"},"",{"$f":"IF(PLANTS!F173=\"\",\"\",PLANTS!F173)","v":""},"",0,null,25,"",null,0,{"$f":"IF(DE175=\"A\",PLANTS!H173,DE175)","v":"E"},20,null,"","","","",null,null,null,"","",null,null,{"$f":"IF(KeySP!A172=\"\",\"\",KeySP!A172)","v":""},"",{"$error":"#DIV/0!"},{"$error":"#DIV/0!"},{"$error":"#DIV/0!"},null,"",null," ","",null,"","","","","","","","",null,"","","DACA3",{"$f":"IF(DC175=\"a\",PLANTS!I173,DMA!DC175)","v":2},{"$f":"IF(DD175=\"a\",PLANTS!G173,DMA!DD175)","v":25},"","","","","","","",null,null,{"$f":"PLANTS!I173","v":2},{"$f":"PLANTS!G173","v":25},{"$f":"PLANTS!H173","v":"E"},null,null,null,null,"",{"$f":"IF(DMA!DJ175=\"\",\"\",(DMA!N175-SUMIF(Graphs!$O$13:$O$199,DMA!$DJ175,Graphs!$V$13:$V$199))^2)","v":""},{"$f":"IF(DMA!DK175=\"\",\"\",(DMA!O175-SUMIF(Graphs!$O$13:$O$199,DMA!$DJ175,Graphs!$V$13:$V$199))^2)","v":""},{"$f":"IF(DMA!DL175=\"\",\"\",(DMA!P175-SUMIF(Graphs!$O$13:$O$199,DMA!$DJ175,Graphs!$V$13:$V$199))^2)","v":""},"",0,"",0,171,null,null,null,null,17.5]
[null,null,null,null,null,null,null,null,null,null,null,null,null,null,null,null,null,null,null,{"$f":"IF(A176=\"\",\"\",(Header!C$7*Header!C$6)*A176)","v":""},"","","","","",{"$f":"IF(KeySP!D173=\"\",\"\",KeySP!D173)","v":" "},"",0,0,null,null,{"$f":"IF(KeySP!$D173=\"\",\"\",KeySP!$D173)","v":" "},{"$f":"SUMIF($M$5:M$502,$AF176,N$5:N$502)","v":0},{"$f":"SUMIF($M$5:M$502,$AF176,O$5:O$502)","v":0},{"$f":"SUMIF($M$5:M$502,$AF176,P$5:P$502)","v":0},null,null,null,null,null,{"$f":"IF(PLANTS!A174=\"\",\"\",PLANTS!A174)","v":"DAFR6"},5,"",0,{"$f":"IF(PLANTS!C174=\"\",\"\",PLANTS!C174)","v":"y"},"",{"$f":"IF(PLANTS!D174=\"\",\"\",PLANTS!D174)","v":""},"",{"$f":"IF(PLANTS!E174=\"\",\"\",PLANTS!E174)","v":""},"",{"$f":"IF(PLANTS!F174=\"\",\"\",PLANTS!F174)","v":""},"",0,null,50,"",null,0,{"$f":"IF(DE176=\"A\",PLANTS!H174,DE176)","v":"M"},50,null,"","","","",null,null,null,"","",null,null,{"$f":"IF(KeySP!A173=\"\",\"\",KeySP!A173)","v":""},"",{"$error":"#DIV/0!"},{"$error":"#DIV/0!"},{"$error":"#DIV/0!"},null,"",null," ","",null,"","","","","",0,"","",null,"","","DAFR6",{"$f":"IF(DC176=\"a\",PLANTS!I174,DMA!DC176)","v":5},{"$f":"IF(DD176=\"a\",PLANTS!G174,DMA!DD176)","v":50},"","","","","","","",null,null,{"$f":"PLANTS!I174","v":5},{"$f":"PLANTS!G174","v":50},{"$f":"PLANTS!H174","v":"M"},null,null,null,null,"",{"$f":"IF(DMA!DJ176=\"\",\"\",(DMA!N176-SUMIF(Graphs!$O$13:$O$199,DMA!$DJ176,Graphs!$V$13:$V$199))^2)","v":""},{"$f":"IF(DMA!DK176=\"\",\"\",(DMA!O176-SUMIF(Graphs!$O$13:$O$199,DMA!$DJ176,Graphs!$V$13:$V$199))^2)","v":""},{"$f":"IF(DMA!DL176=\"\",\"\",(DMA!P176-SUMIF(Graphs!$O$13:$O$199,DMA!$DJ176,Graphs!$V$13:$V$199))^2)","v":""},"",0,"",0,172,null,null,null,null,17.600000000000001]
[null,null,null,null,null,null,null,null,null,null,null,null,null,null,null,null,null,null,null,{"$f":"IF(A177=\"\",\"\",(Header!C$7*Header!C$6)*A177)","v":""},"","","","","",{"$f":"IF(KeySP!D174=\"\",\"\",KeySP!D174)","v":" "},"",0,0,null,null,{"$f":"IF(KeySP!$D174=\"\",\"\",KeySP!$D174)","v":" "},{"$f":"SUMIF($M$5:M$502,$AF177,N$5:N$502)","v":0},{"$f":"SUMIF($M$5:M$502,$AF177,O$5:O$502)","v":0},{"$f":"SUMIF($M$5:M$502,$AF177,P$5:P$502)","v":0},null,null,null,null,null,{"$f":"IF(PLANTS!A175=\"\",\"\",PLANTS!A175)","v":"DAGL"},2,"",0,{"$f":"IF(PLANTS!C175=\"\",\"\",PLANTS!C175)","v":""},"",{"$f":"IF(PLANTS!D175=\"\",\"\",PLANTS!D175)","v":""},"",{"$f":"IF(PLANTS!E175=\"\",\"\",PLANTS!E175)","v":"y"},"",{"$f":"IF(PLANTS!F175=\"\",\"\",PLANTS!F175)","v":""},"",0,null,25,"",null,0,{"$f":"IF(DE177=\"A\",PLANTS!H175,DE177)","v":"E"},20,null,"","","","",null,null,null,"","",null,null,{"$f":"IF(KeySP!A174=\"\",\"\",KeySP!A174)","v":""},"",{"$error":"#DIV/0!"},{"$error":"#DIV/0!"},{"$error":"#DIV/0!"},null,"",null," ","",null,"","","","","","","","",null,"","","DAGL",{"$f":"IF(DC177=\"a\",PLANTS!I175,DMA!DC177)","v":2},{"$f":"IF(DD177=\"a\",PLANTS!G175,DMA!DD177)","v":25},"","","","","","","",null,null,{"$f":"PLANTS!I175","v":2},{"$f":"PLANTS!G175","v":25},{"$f":"PLANTS!H175","v":"E"},null,null,null,null,"",{"$f":"IF(DMA!DJ177=\"\",\"\",(DMA!N177-SUMIF(Graphs!$O$13:$O$199,DMA!$DJ177,Graphs!$V$13:$V$199))^2)","v":""},{"$f":"IF(DMA!DK177=\"\",\"\",(DMA!O177-SUMIF(Graphs!$O$13:$O$199,DMA!$DJ177,Graphs!$V$13:$V$199))^2)","v":""},{"$f":"IF(DMA!DL177=\"\",\"\",(DMA!P177-SUMIF(Graphs!$O$13:$O$199,DMA!$DJ177,Graphs!$V$13:$V$199))^2)","v":""},"",0,"",0,173,null,null,null,null,17.7]
[null,null,null,null,null,null,null,null,null,null,null,null,null,null,null,null,null,null,null,{"$f":"IF(A178=\"\",\"\",(Header!C$7*Header!C$6)*A178)","v":""},"","","","","",{"$f":"IF(KeySP!D175=\"\",\"\",KeySP!D175)","v":" "},"",0,0,null,null,{"$f":"IF(KeySP!$D175=\"\",\"\",KeySP!$D175)","v":" "},{"$f":"SUMIF($M$5:M$502,$AF178,N$5:N$502)","v":0},{"$f":"SUMIF($M$5:M$502,$AF178,O$5:O$502)","v":0},{"$f":"SUMIF($M$5:M$502,$AF178,P$5:P$502)","v":0},null,null,null,null,null,{"$f":"IF(PLANTS!A176=\"\",\"\",PLANTS!A176)","v":"DAIN"},2,"",0,{"$f":"IF(PLANTS!C176=\"\",\"\",PLANTS!C176)","v":""},"",{"$f":"IF(PLANTS!D176=\"\",\"\",PLANTS!D176)","v":""},"",{"$f":"IF(PLANTS!E176=\"\",\"\",PLANTS!E176)","v":"y"},"",{"$f":"IF(PLANTS!F176=\"\",\"\",PLANTS!F176)","v":""},"",0,null,25,"",null,0,{"$f":"IF(DE178=\"A\",PLANTS!H176,DE178)","v":"M"},50,null,"","","","",null,null,null,"","",null,null,{"$f":"IF(KeySP!A175=\"\",\"\",KeySP!A175)","v":""},"",{"$error":"#DIV/0!"},{"$error":"#DIV/0!"},{"$error":"#DIV/0!"},null,"",null," ","",null,"","","","","","","","",null,"","","DAIN",{"$f":"IF(DC178=\"a\",PLANTS!I176,DMA!DC178)","v":2},{"$f":"IF(DD178=\"a\",PLANTS!G176,DMA!DD178)","v":25},"","","","","","","",null,null,{"$f":"PLANTS!I176","v":2},{"$f":"PLANTS!G176","v":25},{"$f":"PLANTS!H176","v":"M"},null,null,null,null,"",{"$f":"IF(DMA!DJ178=\"\",\"\",(DMA!N178-SUMIF(Graphs!$O$13:$O$199,DMA!$DJ178,Graphs!$V$13:$V$199))^2)","v":""},{"$f":"IF(DMA!DK178=\"\",\"\",(DMA!O178-SUMIF(Graphs!$O$13:$O$199,DMA!$DJ178,Graphs!$V$13:$V$199))^2)","v":""},{"$f":"IF(DMA!DL178=\"\",\"\",(DMA!P178-SUMIF(Graphs!$O$13:$O$199,DMA!$DJ178,Graphs!$V$13:$V$199))^2)","v":""},"",0,"",0,174,null,null,null,null,17.8]
[null,null,null,null,null,null,null,null,null,null,null,null,null,null,null,null,null,null,null,{"$f":"IF(A179=\"\",\"\",(Header!C$7*Header!C$6)*A179)","v":""},"","","","","",{"$f":"IF(KeySP!D176=\"\",\"\",KeySP!D176)","v":" "},"",0,0,null,null,{"$f":"IF(KeySP!$D176=\"\",\"\",KeySP!$D176)","v":" "},{"$f":"SUMIF($M$5:M$502,$AF179,N$5:N$502)","v":0},{"$f":"SUMIF($M$5:M$502,$AF179,O$5:O$502)","v":0},{"$f":"SUMIF($M$5:M$502,$AF179,P$5:P$502)","v":0},null,null,null,null,null,{"$f":"IF(PLANTS!A177=\"\",\"\",PLANTS!A177)","v":"DECE"},2,"",0,{"$f":"IF(PLANTS!C177=\"\",\"\",PLANTS!C177)","v":""},"",{"$f":"IF(PLANTS!D177=\"\",\"\",PLANTS!D177)","v":"y"},"",{"$f":"IF(PLANTS!E177=\"\",\"\",PLANTS!E177)","v":"y"},"",{"$f":"IF(PLANTS!F177=\"\",\"\",PLANTS!F177)","v":""},"",0,null,75,"",null,0,{"$f":"IF(DE179=\"A\",PLANTS!H177,DE179)","v":"M"},50,null,"","","","",null,null,null,"","",null,null,{"$f":"IF(KeySP!A176=\"\",\"\",KeySP!A176)","v":""},"",{"$error":"#DIV/0!"},{"$error":"#DIV/0!"},{"$error":"#DIV/0!"},null,"",null," ","",null,"","","","",0,"",0,"",null,"","","DECE",{"$f":"IF(DC179=\"a\",PLANTS!I177,DMA!DC179)","v":2},{"$f":"IF(DD179=\"a\",PLANTS!G177,DMA!DD179)","v":75},"","","","","","","",null,null,{"$f":"PLANTS!I177","v":2},{"$f":"PLANTS!G177","v":75},{"$f":"PLANTS!H177","v":"M"},null,null,null,null,"",{"$f":"IF(DMA!DJ179=\"\",\"\",(DMA!N179-SUMIF(Graphs!$O$13:$O$199,DMA!$DJ179,Graphs!$V$13:$V$199))^2)","v":""},{"$f":"IF(DMA!DK179=\"\",\"\",(DMA!O179-SUMIF(Graphs!$O$13:$O$199,DMA!$DJ179,Graphs!$V$13:$V$199))^2)","v":""},{"$f":"IF(DMA!DL179=\"\",\"\",(DMA!P179-SUMIF(Graphs!$O$13:$O$199,DMA!$DJ179,Graphs!$V$13:$V$199))^2)","v":""},"",0,"",0,175,null,null,null,null,17.899999999999999]
[null,null,null,null,null,null,null,null,null,null,null,null,null,null,null,null,null,null,null,{"$f":"IF(A180=\"\",\"\",(Header!C$7*Header!C$6)*A180)","v":""},"","","","","",{"$f":"IF(KeySP!D177=\"\",\"\",KeySP!D177)","v":" "},"",0,0,null,null,{"$f":"IF(KeySP!$D177=\"\",\"\",KeySP!$D177)","v":" "},{"$f":"SUMIF($M$5:M$502,$AF180,N$5:N$502)","v":0},{"$f":"SUMIF($M$5:M$502,$AF180,O$5:O$502)","v":0},{"$f":"SUMIF($M$5:M$502,$AF180,P$5:P$502)","v":0},null,null,null,null,null,{"$f":"IF(PLANTS!A178=\"\",\"\",PLANTS!A178)","v":"DEGL3"},5,"",0,{"$f":"IF(PLANTS!C178=\"\",\"\",PLANTS!C178)","v":""},"",{"$f":"IF(PLANTS!D178=\"\",\"\",PLANTS!D178)","v":"y"},"",{"$f":"IF(PLANTS!E178=\"\",\"\",PLANTS!E178)","v":"y"},"",{"$f":"IF(PLANTS!F178=\"\",\"\",PLANTS!F178)","v":"y"},"",0,null,75,"",null,0,{"$f":"IF(DE180=\"A\",PLANTS!H178,DE180)","v":"L"},80,null,"","","","",null,null,null,"","",null,null,{"$f":"IF(KeySP!A177=\"\",\"\",KeySP!A177)","v":""},"",{"$error":"#DIV/0!"},{"$error":"#DIV/0!"},{"$f":"IF(I180=BZ$3,J180,\"\")","v":{"$error":"#DIV/0!"}},null,"",null," ","",null,"","","",0,0,"",0,"",null,"","","DEGL3",{"$f":"IF(DC180=\"a\",PLANTS!I178,DMA!DC180)","v":5},{"$f":"IF(DD180=\"a\",PLANTS!G178,DMA!DD180)","v":75},"","","","","","","",null,null,{"$f":"PLANTS!I178","v":5},{"$f":"PLANTS!G178","v":75},{"$f":"PLANTS!H178","v":"L"},null,null,null,null,"",{"$f":"IF(DMA!DJ180=\"\",\"\",(DMA!N180-SUMIF(Graphs!$O$13:$O$199,DMA!$DJ180,Graphs!$V$13:$V$199))^2)","v":""},{"$f":"IF(DMA!DK180=\"\",\"\",(DMA!O180-SUMIF(Graphs!$O$13:$O$199,DMA!$DJ180,Graphs!$V$13:$V$199))^2)","v":""},{"$f":"IF(DMA!DL180=\"\",\"\",(DMA!P180-SUMIF(Graphs!$O$13:$O$199,DMA!$DJ180,Graphs!$V$13:$V$199))^2)","v":""},"",0,"",0,176,null,null,null,null,18]
[null,null,null,null,null,null,null,null,null,null,null,null,null,null,null,null,null,null,null,{"$f":"IF(A181=\"\",\"\",(Header!C$7*Header!C$6)*A181)","v":""},"","","","","",{"$f":"IF(KeySP!D178=\"\",\"\",KeySP!D178)","v":" "},"",0,0,null,null,{"$f":"IF(KeySP!$D178=\"\",\"\",KeySP!$D178)","v":" "},{"$f":"SUMIF($M$5:M$502,$AF181,N$5:N$502)","v":0},{"$f":"SUMIF($M$5:M$502,$AF181,O$5:O$502)","v":0},{"$f":"SUMIF($M$5:M$502,$AF181,P$5:P$502)","v":0},null,null,null,null,null,{"$f":"IF(PLANTS!A179=\"\",\"\",PLANTS!A179)","v":"DISP"},5,"",0,{"$f":"IF(PLANTS!C179=\"\",\"\",PLANTS!C179)","v":""},"",{"$f":"IF(PLANTS!D179=\"\",\"\",PLANTS!D179)","v":""},"",{"$f":"IF(PLANTS!E179=\"\",\"\",PLANTS!E179)","v":"y"},"",{"$f":"IF(PLANTS!F179=\"\",\"\",PLANTS!F179)","v":""},"",0,null,50,"",null,0,{"$f":"IF(DE181=\"A\",PLANTS!H179,DE181)","v":"M"},50,null,"","","","",null,null,null,"","",null,null,{"$f":"IF(KeySP!A178=\"\",\"\",KeySP!A178)","v":""},"",{"$error":"#DIV/0!"},{"$error":"#DIV/0!"},{"$error":"#DIV/0!"},null,"",null," ","",null,"","","","","","","","",null,"","","DISP",{"$f":"IF(DC181=\"a\",PLANTS!I179,DMA!DC181)","v":5},{"$f":"IF(DD181=\"a\",PLANTS!G179,DMA!DD181)","v":50},"","","","","","","",null,null,{"$f":"PLANTS!I179","v":5},{"$f":"PLANTS!G179","v":50},{"$f":"PLANTS!H179","v":"M"},null,null,null,null,"",{"$f":"IF(DMA!DJ181=\"\",\"\",(DMA!N181-SUMIF(Graphs!$O$13:$O$199,DMA!$DJ181,Graphs!$V$13:$V$199))^2)","v":""},{"$f":"IF(DMA!DK181=\"\",\"\",(DMA!O181-SUMIF(Graphs!$O$13:$O$199,DMA!$DJ181,Graphs!$V$13:$V$199))^2)","v":""},{"$f":"IF(DMA!DL181=\"\",\"\",(DMA!P181-SUMIF(Graphs!$O$13:$O$199,DMA!$DJ181,Graphs!$V$13:$V$199))^2)","v":""},"",0,"",0,177,null,null,null,null,18.100000000000001]
[null,null,null,null,null,null,null,null,null,null,null,null,null,null,null,null,null,null,null,{"$f":"IF(A182=\"\",\"\",(Header!C$7*Header!C$6)*A182)","v":""},"","","","","",{"$f":"IF(KeySP!D179=\"\",\"\",KeySP!D179)","v":" "},"",0,0,null,null,{"$f":"IF(KeySP!$D179=\"\",\"\",KeySP!$D179)","v":" "},{"$f":"SUMIF($M$5:M$502,$AF182,N$5:N$502)","v":0},{"$f":"SUMIF($M$5:M$502,$AF182,O$5:O$502)","v":0},{"$f":"SUMIF($M$5:M$502,$AF182,P$5:P$502)","v":0},null,null,null,null,null,{"$f":"IF(PLANTS!A180=\"\",\"\",PLANTS!A180)","v":"ECMU2"},2,"",0,{"$f":"IF(PLANTS!C180=\"\",\"\",PLANTS!C180)","v":""},"",{"$f":"IF(PLANTS!D180=\"\",\"\",PLANTS!D180)","v":"y"},"",{"$f":"IF(PLANTS!E180=\"\",\"\",PLANTS!E180)","v":"y"},"",{"$f":"IF(PLANTS!F180=\"\",\"\",PLANTS!F180)","v":""},"",0,null,75,"",null,0,{"$f":"IF(DE182=\"A\",PLANTS!H180,DE182)","v":"E"},20,null,"","","","",null,null,null,"","",null,null,{"$f":"IF(KeySP!A179=\"\",\"\",KeySP!A179)","v":""},"",{"$error":"#DIV/0!"},{"$error":"#DIV/0!"},{"$error":"#DIV/0!"},null,"",null," ","",null,"","","","",0,"",0,"",null,"","","ECMU2",{"$f":"IF(DC182=\"a\",PLANTS!I180,DMA!DC182)","v":2},{"$f":"IF(DD182=\"a\",PLANTS!G180,DMA!DD182)","v":75},"","","","","","","",null,null,{"$f":"PLANTS!I180","v":2},{"$f":"PLANTS!G180","v":75},{"$f":"PLANTS!H180","v":"E"},null,null,null,null,"",{"$f":"IF(DMA!DJ182=\"\",\"\",(DMA!N182-SUMIF(Graphs!$O$13:$O$199,DMA!$DJ182,Graphs!$V$13:$V$199))^2)","v":""},{"$f":"IF(DMA!DK182=\"\",\"\",(DMA!O182-SUMIF(Graphs!$O$13:$O$199,DMA!$DJ182,Graphs!$V$13:$V$199))^2)","v":""},{"$f":"IF(DMA!DL182=\"\",\"\",(DMA!P182-SUMIF(Graphs!$O$13:$O$199,DMA!$DJ182,Graphs!$V$13:$V$199))^2)","v":""},"",0,"",0,178,null,null,null,null,18.2]
[null,null,null,null,null,null,null,null,null,null,null,null,null,null,null,null,null,null,null,{"$f":"IF(A183=\"\",\"\",(Header!C$7*Header!C$6)*A183)","v":""},"","","","","",{"$f":"IF(KeySP!D180=\"\",\"\",KeySP!D180)","v":" "},"",0,0,null,null,{"$f":"IF(KeySP!$D180=\"\",\"\",KeySP!$D180)","v":" "},{"$f":"SUMIF($M$5:M$502,$AF183,N$5:N$502)","v":0},{"$f":"SUMIF($M$5:M$502,$AF183,O$5:O$502)","v":0},{"$f":"SUMIF($M$5:M$502,$AF183,P$5:P$502)","v":0},null,null,null,null,null,{"$f":"IF(PLANTS!A181=\"\",\"\",PLANTS!A181)","v":"ECPR"},2,"",0,{"$f":"IF(PLANTS!C181=\"\",\"\",PLANTS!C181)","v":""},"",{"$f":"IF(PLANTS!D181=\"\",\"\",PLANTS!D181)","v":""},"",{"$f":"IF(PLANTS!E181=\"\",\"\",PLANTS!E181)","v":"y"},"",{"$f":"IF(PLANTS!F181=\"\",\"\",PLANTS!F181)","v":"y"},"",0,null,50,"",null,0,{"$f":"IF(DE183=\"A\",PLANTS!H181,DE183)","v":"E"},20,null,"","","","",null,null,null,"","",null,null,{"$f":"IF(KeySP!A180=\"\",\"\",KeySP!A180)","v":""},"",{"$error":"#DIV/0!"},{"$error":"#DIV/0!"},{"$error":"#DIV/0!"},null,"",null," ","",null,"","","",0,"","","","",null,"","","ECPR",{"$f":"IF(DC183=\"a\",PLANTS!I181,DMA!DC183)","v":2},{"$f":"IF(DD183=\"a\",PLANTS!G181,DMA!DD183)","v":50},"","","","","","","",null,null,{"$f":"PLANTS!I181","v":2},{"$f":"PLANTS!G181","v":50},{"$f":"PLANTS!H181","v":"E"},null,null,null,null,"",{"$f":"IF(DMA!DJ183=\"\",\"\",(DMA!N183-SUMIF(Graphs!$O$13:$O$199,DMA!$DJ183,Graphs!$V$13:$V$199))^2)","v":""},{"$f":"IF(DMA!DK183=\"\",\"\",(DMA!O183-SUMIF(Graphs!$O$13:$O$199,DMA!$DJ183,Graphs!$V$13:$V$199))^2)","v":""},{"$f":"IF(DMA!DL183=\"\",\"\",(DMA!P183-SUMIF(Graphs!$O$13:$O$199,DMA!$DJ183,Graphs!$V$13:$V$199))^2)","v":""},"",0,"",0,179,null,null,null,null,18.3]
[null,null,null,null,null,null,null,null,null,null,null,null,null,null,null,null,null,null,null,{"$f":"IF(A184=\"\",\"\",(Header!C$7*Header!C$6)*A184)","v":""},"","","","","",{"$f":"IF(KeySP!D181=\"\",\"\",KeySP!D181)","v":" "},"",0,0,null,null,{"$f":"IF(KeySP!$D181=\"\",\"\",KeySP!$D181)","v":" "},{"$f":"SUMIF($M$5:M$502,$AF184,N$5:N$502)","v":0},{"$f":"SUMIF($M$5:M$502,$AF184,O$5:O$502)","v":0},{"$f":"SUMIF($M$5:M$502,$AF184,P$5:P$502)","v":0},null,null,null,null,null,{"$f":"IF(PLANTS!A182=\"\",\"\",PLANTS!A182)","v":"ELAC"},2,"",0,{"$f":"IF(PLANTS!C182=\"\",\"\",PLANTS!C182)","v":""},"",{"$f":"IF(PLANTS!D182=\"\",\"\",PLANTS!D182)","v":"y"},"",{"$f":"IF(PLANTS!E182=\"\",\"\",PLANTS!E182)","v":"y"},"",{"$f":"IF(PLANTS!F182=\"\",\"\",PLANTS!F182)","v":""},"",0,null,100,"",null,0,{"$f":"IF(DE184=\"A\",PLANTS!H182,DE184)","v":"E"},20,null,"","","","",null,null,null,"","",null,null,{"$f":"IF(KeySP!A181=\"\",\"\",KeySP!A181)","v":" "},0,0,"",{"$error":"#DIV/0!"},null,"",null," ","",null,"","","","",0,"",0,"",null,"","","ELAC",{"$f":"IF(DC184=\"a\",PLANTS!I182,DMA!DC184)","v":2},{"$f":"IF(DD184=\"a\",PLANTS!G182,DMA!DD184)","v":100},"","","","","","","",null,null,{"$f":"PLANTS!I182","v":2},{"$f":"PLANTS!G182","v":100},{"$f":"PLANTS!H182","v":"E"},null,null,null,null,"",{"$f":"IF(DMA!DJ184=\"\",\"\",(DMA!N184-SUMIF(Graphs!$O$13:$O$199,DMA!$DJ184,Graphs!$V$13:$V$199))^2)","v":""},{"$f":"IF(DMA!DK184=\"\",\"\",(DMA!O184-SUMIF(Graphs!$O$13:$O$199,DMA!$DJ184,Graphs!$V$13:$V$199))^2)","v":""},{"$f":"IF(DMA!DL184=\"\",\"\",(DMA!P184-SUMIF(Graphs!$O$13:$O$199,DMA!$DJ184,Graphs!$V$13:$V$199))^2)","v":""},"",0,"",0,180,null,null,null,null,18.399999999999999]
[null,null,null,null,null,null,null,null,null,null,null,null,null,null,null,null,null,null,null,{"$f":"IF(A185=\"\",\"\",(Header!C$7*Header!C$6)*A185)","v":""},"","","","","",{"$f":"IF(KeySP!D182=\"\",\"\",KeySP!D182)","v":" "},"",0,0,null,null,{"$f":"IF(KeySP!$D182=\"\",\"\",KeySP!$D182)","v":" "},{"$f":"SUMIF($M$5:M$502,$AF185,N$5:N$502)","v":0},{"$f":"SUMIF($M$5:M$502,$AF185,O$5:O$502)","v":0},{"$f":"SUMIF($M$5:M$502,$AF185,P$5:P$502)","v":0},null,null,null,null,null,{"$f":"IF(PLANTS!A183=\"\",\"\",PLANTS!A183)","v":"ELAN"},5,"",0,{"$f":"IF(PLANTS!C183=\"\",\"\",PLANTS!C183)","v":"y"},"",{"$f":"IF(PLANTS!D183=\"\",\"\",PLANTS!D183)","v":""},"",{"$f":"IF(PLANTS!E183=\"\",\"\",PLANTS!E183)","v":""},"",{"$f":"IF(PLANTS!F183=\"\",\"\",PLANTS!F183)","v":""},"",0,null,50,"",null,0,{"$f":"IF(DE185=\"A\",PLANTS!H183,DE185)","v":"E"},20,null,"","","","",null,null,null,"","",null,null,{"$f":"IF(KeySP!A182=\"\",\"\",KeySP!A182)","v":" "},0,0,"",{"$error":"#DIV/0!"},null,"",null," ","",null,"","","","","",0,"","",null,"","","ELAN",{"$f":"IF(DC185=\"a\",PLANTS!I183,DMA!DC185)","v":5},{"$f":"IF(DD185=\"a\",PLANTS!G183,DMA!DD185)","v":50},"","","","","","","",null,null,{"$f":"PLANTS!I183","v":5},{"$f":"PLANTS!G183","v":50},{"$f":"PLANTS!H183","v":"E"},null,null,null,null,"",{"$f":"IF(DMA!DJ185=\"\",\"\",(DMA!N185-SUMIF(Graphs!$O$13:$O$199,DMA!$DJ185,Graphs!$V$13:$V$199))^2)","v":""},{"$f":"IF(DMA!DK185=\"\",\"\",(DMA!O185-SUMIF(Graphs!$O$13:$O$199,DMA!$DJ185,Graphs!$V$13:$V$199))^2)","v":""},{"$f":"IF(DMA!DL185=\"\",\"\",(DMA!P185-SUMIF(Graphs!$O$13:$O$199,DMA!$DJ185,Graphs!$V$13:$V$199))^2)","v":""},"",0,"",0,181,null,null,null,null,18.5]
[null,null,null,null,null,null,null,null,null,null,null,null,null,null,null,null,null,null,null,{"$f":"IF(A186=\"\",\"\",(Header!C$7*Header!C$6)*A186)","v":""},"","","","","",{"$f":"IF(KeySP!D183=\"\",\"\",KeySP!D183)","v":" "},"",0,0,null,null,{"$f":"IF(KeySP!$D183=\"\",\"\",KeySP!$D183)","v":" "},{"$f":"SUMIF($M$5:M$502,$AF186,N$5:N$502)","v":0},{"$f":"SUMIF($M$5:M$502,$AF186,O$5:O$502)","v":0},{"$f":"SUMIF($M$5:M$502,$AF186,P$5:P$502)","v":0},null,null,null,null,null,{"$f":"IF(PLANTS!A184=\"\",\"\",PLANTS!A184)","v":"ELCA4"},2,"",0,{"$f":"IF(PLANTS!C184=\"\",\"\",PLANTS!C184)","v":""},"",{"$f":"IF(PLANTS!D184=\"\",\"\",PLANTS!D184)","v":""},"",{"$f":"IF(PLANTS!E184=\"\",\"\",PLANTS!E184)","v":"y"},"",{"$f":"IF(PLANTS!F184=\"\",\"\",PLANTS!F184)","v":""},"",0,null,50,"",null,0,{"$f":"IF(DE186=\"A\",PLANTS!H184,DE186)","v":"E"},20,null,"","","","",null,null,null,"","",null,null,{"$f":"IF(KeySP!A183=\"\",\"\",KeySP!A183)","v":" "},0,0,"",{"$error":"#DIV/0!"},null,"",null," ","",null,"","","","","","","","",null,"","","ELCA4",{"$f":"IF(DC186=\"a\",PLANTS!I184,DMA!DC186)","v":2},{"$f":"IF(DD186=\"a\",PLANTS!G184,DMA!DD186)","v":50},"","","","","","","",null,null,{"$f":"PLANTS!I184","v":2},{"$f":"PLANTS!G184","v":50},{"$f":"PLANTS!H184","v":"E"},null,null,null,null,"",{"$f":"IF(DMA!DJ186=\"\",\"\",(DMA!N186-SUMIF(Graphs!$O$13:$O$199,DMA!$DJ186,Graphs!$V$13:$V$199))^2)","v":""},{"$f":"IF(DMA!DK186=\"\",\"\",(DMA!O186-SUMIF(Graphs!$O$13:$O$199,DMA!$DJ186,Graphs!$V$13:$V$199))^2)","v":""},{"$f":"IF(DMA!DL186=\"\",\"\",(DMA!P186-SUMIF(Graphs!$O$13:$O$199,DMA!$DJ186,Graphs!$V$13:$V$199))^2)","v":""},"",0,"",0,182,null,null,null,null,18.600000000000001]
[null,null,null,null,null,null,null,null,null,null,null,null,null,null,null,null,null,null,null,{"$f":"IF(A187=\"\",\"\",(Header!C$7*Header!C$6)*A187)","v":""},"","","","","",{"$f":"IF(KeySP!D184=\"\",\"\",KeySP!D184)","v":" "},"",0,0,null,null,{"$f":"IF(KeySP!$D184=\"\",\"\",KeySP!$D184)","v":" "},{"$f":"SUMIF($M$5:M$502,$AF187,N$5:N$502)","v":0},{"$f":"SUMIF($M$5:M$502,$AF187,O$5:O$502)","v":0},{"$f":"SUMIF($M$5:M$502,$AF187,P$5:P$502)","v":0},null,null,null,null,null,{"$f":"IF(PLANTS!A185=\"\",\"\",PLANTS!A185)","v":"ELCI2"},8.5,"",0,{"$f":"IF(PLANTS!C185=\"\",\"\",PLANTS!C185)","v":""},"",{"$f":"IF(PLANTS!D185=\"\",\"\",PLANTS!D185)","v":""},"",{"$f":"IF(PLANTS!E185=\"\",\"\",PLANTS!E185)","v":"y"},"",{"$f":"IF(PLANTS!F185=\"\",\"\",PLANTS!F185)","v":""},"",0,null,50,"",null,0,{"$f":"IF(DE187=\"A\",PLANTS!H185,DE187)","v":"M"},50,null,"","","","",null,null,null,"","",null,null,{"$f":"IF(KeySP!A184=\"\",\"\",KeySP!A184)","v":" "},0,0,"",{"$error":"#DIV/0!"},null,"",null," ","",null,"","","","","","","","",null,"","","ELCI2",{"$f":"IF(DC187=\"a\",PLANTS!I185,DMA!DC187)","v":8.5},{"$f":"IF(DD187=\"a\",PLANTS!G185,DMA!DD187)","v":50},"","","","","","","",null,null,{"$f":"PLANTS!I185","v":8.5},{"$f":"PLANTS!G185","v":50},{"$f":"PLANTS!H185","v":"M"},null,null,null,null,"",{"$f":"IF(DMA!DJ187=\"\",\"\",(DMA!N187-SUMIF(Graphs!$O$13:$O$199,DMA!$DJ187,Graphs!$V$13:$V$199))^2)","v":""},{"$f":"IF(DMA!DK187=\"\",\"\",(DMA!O187-SUMIF(Graphs!$O$13:$O$199,DMA!$DJ187,Graphs!$V$13:$V$199))^2)","v":""},{"$f":"IF(DMA!DL187=\"\",\"\",(DMA!P187-SUMIF(Graphs!$O$13:$O$199,DMA!$DJ187,Graphs!$V$13:$V$199))^2)","v":""},"",0,"",0,183,null,null,null,null,18.7]
[null,null,null,null,null,null,null,null,null,null,null,null,null,null,null,null,null,null,null,{"$f":"IF(A188=\"\",\"\",(Header!C$7*Header!C$6)*A188)","v":""},"","","","","",{"$f":"IF(KeySP!D185=\"\",\"\",KeySP!D185)","v":" "},"",0,0,null,null,{"$f":"IF(KeySP!$D185=\"\",\"\",KeySP!$D185)","v":" "},{"$f":"SUMIF($M$5:M$502,$AF188,N$5:N$502)","v":0},{"$f":"SUMIF($M$5:M$502,$AF188,O$5:O$502)","v":0},{"$f":"SUMIF($M$5:M$502,$AF188,P$5:P$502)","v":0},null,null,null,null,null,{"$f":"IF(PLANTS!A186=\"\",\"\",PLANTS!A186)","v":"ELCO"},5,"",0,{"$f":"IF(PLANTS!C186=\"\",\"\",PLANTS!C186)","v":"y"},"",{"$f":"IF(PLANTS!D186=\"\",\"\",PLANTS!D186)","v":""},"",{"$f":"IF(PLANTS!E186=\"\",\"\",PLANTS!E186)","v":""},"",{"$f":"IF(PLANTS!F186=\"\",\"\",PLANTS!F186)","v":""},"",0,null,50,"",null,0,{"$f":"IF(DE188=\"A\",PLANTS!H186,DE188)","v":"M"},50,null,"","","","",null,null,null,"","",null,null,{"$f":"IF(KeySP!A185=\"\",\"\",KeySP!A185)","v":" "},0,0,"",{"$error":"#DIV/0!"},null,"",null," ","",null,"","","","","",0,"","",null,"","","ELCO",{"$f":"IF(DC188=\"a\",PLANTS!I186,DMA!DC188)","v":5},{"$f":"IF(DD188=\"a\",PLANTS!G186,DMA!DD188)","v":50},"","","","","","","",null,null,{"$f":"PLANTS!I186","v":5},{"$f":"PLANTS!G186","v":50},{"$f":"PLANTS!H186","v":"M"},null,null,null,null,"",{"$f":"IF(DMA!DJ188=\"\",\"\",(DMA!N188-SUMIF(Graphs!$O$13:$O$199,DMA!$DJ188,Graphs!$V$13:$V$199))^2)","v":""},{"$f":"IF(DMA!DK188=\"\",\"\",(DMA!O188-SUMIF(Graphs!$O$13:$O$199,DMA!$DJ188,Graphs!$V$13:$V$199))^2)","v":""},{"$f":"IF(DMA!DL188=\"\",\"\",(DMA!P188-SUMIF(Graphs!$O$13:$O$199,DMA!$DJ188,Graphs!$V$13:$V$199))^2)","v":""},"",0,"",0,184,null,null,null,null,18.8]
[null,null,null,null,null,null,null,null,null,null,null,null,null,null,null,null,null,null,null,{"$f":"IF(A189=\"\",\"\",(Header!C$7*Header!C$6)*A189)","v":""},"","","","","",{"$f":"IF(KeySP!D186=\"\",\"\",KeySP!D186)","v":" "},"",0,0,null,null,{"$f":"IF(KeySP!$D186=\"\",\"\",KeySP!$D186)","v":" "},{"$f":"SUMIF($M$5:M$502,$AF189,N$5:N$502)","v":0},{"$f":"SUMIF($M$5:M$502,$AF189,O$5:O$502)","v":0},{"$f":"SUMIF($M$5:M$502,$AF189,P$5:P$502)","v":0},null,null,null,null,null,{"$f":"IF(PLANTS!A187=\"\",\"\",PLANTS!A187)","v":"ELEOC"},5,"",0,{"$f":"IF(PLANTS!C187=\"\",\"\",PLANTS!C187)","v":""},"",{"$f":"IF(PLANTS!D187=\"\",\"\",PLANTS!D187)","v":"y"},"",{"$f":"IF(PLANTS!E187=\"\",\"\",PLANTS!E187)","v":"y"},"",{"$f":"IF(PLANTS!F187=\"\",\"\",PLANTS!F187)","v":""},"",0,null,75,"",null,0,{"$f":"IF(DE189=\"A\",PLANTS!H187,DE189)","v":"M"},50,null,"","","","",null,null,null,"","",null,null,{"$f":"IF(KeySP!A186=\"\",\"\",KeySP!A186)","v":" "},0,0,"",{"$error":"#DIV/0!"},null,"",null," ","",null,"","","","",0,"",0,"",null,"","","ELEOC",{"$f":"IF(DC189=\"a\",PLANTS!I187,DMA!DC189)","v":5},{"$f":"IF(DD189=\"a\",PLANTS!G187,DMA!DD189)","v":75},"","","","","","","",null,null,{"$f":"PLANTS!I187","v":5},{"$f":"PLANTS!G187","v":75},{"$f":"PLANTS!H187","v":"M"},null,null,null,null,"",{"$f":"IF(DMA!DJ189=\"\",\"\",(DMA!N189-SUMIF(Graphs!$O$13:$O$199,DMA!$DJ189,Graphs!$V$13:$V$199))^2)","v":""},{"$f":"IF(DMA!DK189=\"\",\"\",(DMA!O189-SUMIF(Graphs!$O$13:$O$199,DMA!$DJ189,Graphs!$V$13:$V$199))^2)","v":""},{"$f":"IF(DMA!DL189=\"\",\"\",(DMA!P189-SUMIF(Graphs!$O$13:$O$199,DMA!$DJ189,Graphs!$V$13:$V$199))^2)","v":""},"",0,"",0,185,null,null,null,null,18.899999999999999]
[null,null,null,null,null,null,null,null,null,null,null,null,null,null,null,null,null,null,null,{"$f":"IF(A190=\"\",\"\",(Header!C$7*Header!C$6)*A190)","v":""},"","","","","",{"$f":"IF(KeySP!D187=\"\",\"\",KeySP!D187)","v":" "},"",0,0,null,null,{"$f":"IF(KeySP!$D187=\"\",\"\",KeySP!$D187)","v":" "},{"$f":"SUMIF($M$5:M$502,$AF190,N$5:N$502)","v":0},{"$f":"SUMIF($M$5:M$502,$AF190,O$5:O$502)","v":0},{"$f":"SUMIF($M$5:M$502,$AF190,P$5:P$502)","v":0},null,null,null,null,null,{"$f":"IF(PLANTS!A188=\"\",\"\",PLANTS!A188)","v":"ELMA8"},2,"",0,{"$f":"IF(PLANTS!C188=\"\",\"\",PLANTS!C188)","v":""},"",{"$f":"IF(PLANTS!D188=\"\",\"\",PLANTS!D188)","v":""},"",{"$f":"IF(PLANTS!E188=\"\",\"\",PLANTS!E188)","v":"Y"},"",{"$f":"IF(PLANTS!F188=\"\",\"\",PLANTS!F188)","v":""},"",0,null,25,"",null,0,{"$f":"IF(DE190=\"A\",PLANTS!H188,DE190)","v":"E"},20,null,"","","","",null,null,null,"","",null,null,{"$f":"IF(KeySP!A187=\"\",\"\",KeySP!A187)","v":" "},0,0,"",{"$error":"#DIV/0!"},null,"",null," ","",null,"","","","","","","","",null,"","","ELMA8",{"$f":"IF(DC190=\"a\",PLANTS!I188,DMA!DC190)","v":2},{"$f":"IF(DD190=\"a\",PLANTS!G188,DMA!DD190)","v":25},"","","","","","","",null,null,{"$f":"PLANTS!I188","v":2},{"$f":"PLANTS!G188","v":25},{"$f":"PLANTS!H188","v":"E"},null,null,null,null,"",{"$f":"IF(DMA!DJ190=\"\",\"\",(DMA!N190-SUMIF(Graphs!$O$13:$O$199,DMA!$DJ190,Graphs!$V$13:$V$199))^2)","v":""},{"$f":"IF(DMA!DK190=\"\",\"\",(DMA!O190-SUMIF(Graphs!$O$13:$O$199,DMA!$DJ190,Graphs!$V$13:$V$199))^2)","v":""},{"$f":"IF(DMA!DL190=\"\",\"\",(DMA!P190-SUMIF(Graphs!$O$13:$O$199,DMA!$DJ190,Graphs!$V$13:$V$199))^2)","v":""},"",0,"",0,186,null,null,null,null,19]
[null,null,null,null,null,null,null,null,null,null,null,null,null,null,null,null,null,null,null,{"$f":"IF(A191=\"\",\"\",(Header!C$7*Header!C$6)*A191)","v":""},"","","","","",{"$f":"IF(KeySP!D188=\"\",\"\",KeySP!D188)","v":" "},"",0,0,null,null,{"$f":"IF(KeySP!$D188=\"\",\"\",KeySP!$D188)","v":" "},{"$f":"SUMIF($M$5:M$502,$AF191,N$5:N$502)","v":0},{"$f":"SUMIF($M$5:M$502,$AF191,O$5:O$502)","v":0},{"$f":"SUMIF($M$5:M$502,$AF191,P$5:P$502)","v":0},null,null,null,null,null,{"$f":"IF(PLANTS!A189=\"\",\"\",PLANTS!A189)","v":"ELPA3"},5,"",0,{"$f":"IF(PLANTS!C189=\"\",\"\",PLANTS!C189)","v":""},"",{"$f":"IF(PLANTS!D189=\"\",\"\",PLANTS!D189)","v":"y"},"",{"$f":"IF(PLANTS!E189=\"\",\"\",PLANTS!E189)","v":"y"},"",{"$f":"IF(PLANTS!F189=\"\",\"\",PLANTS!F189)","v":""},"",0,null,100,"",null,0,{"$f":"IF(DE191=\"A\",PLANTS!H189,DE191)","v":"E"},20,null,"","","","",null,null,null,"","",null,null,{"$f":"IF(KeySP!A188=\"\",\"\",KeySP!A188)","v":" "},0,0,"",{"$error":"#DIV/0!"},null,"",null," ","",null,"","","","",0,"",0,"",null,"","","ELPA3",{"$f":"IF(DC191=\"a\",PLANTS!I189,DMA!DC191)","v":5},{"$f":"IF(DD191=\"a\",PLANTS!G189,DMA!DD191)","v":100},"","","","","","","",null,null,{"$f":"PLANTS!I189","v":5},{"$f":"PLANTS!G189","v":100},{"$f":"PLANTS!H189","v":"E"},null,null,null,null,"",{"$f":"IF(DMA!DJ191=\"\",\"\",(DMA!N191-SUMIF(Graphs!$O$13:$O$199,DMA!$DJ191,Graphs!$V$13:$V$199))^2)","v":""},{"$f":"IF(DMA!DK191=\"\",\"\",(DMA!O191-SUMIF(Graphs!$O$13:$O$199,DMA!$DJ191,Graphs!$V$13:$V$199))^2)","v":""},{"$f":"IF(DMA!DL191=\"\",\"\",(DMA!P191-SUMIF(Graphs!$O$13:$O$199,DMA!$DJ191,Graphs!$V$13:$V$199))^2)","v":""},"",0,"",0,187,null,null,null,null,19.100000000000001]
[null,null,null,null,null,null,null,null,null,null,null,null,null,null,null,null,null,null,null,{"$f":"IF(A192=\"\",\"\",(Header!C$7*Header!C$6)*A192)","v":""},"","","","","",{"$f":"IF(KeySP!D189=\"\",\"\",KeySP!D189)","v":" "},"",0,0,null,null,{"$f":"IF(KeySP!$D189=\"\",\"\",KeySP!$D189)","v":" "},{"$f":"SUMIF($M$5:M$502,$AF192,N$5:N$502)","v":0},{"$f":"SUMIF($M$5:M$502,$AF192,O$5:O$502)","v":0},{"$f":"SUMIF($M$5:M$502,$AF192,P$5:P$502)","v":0},null,null,null,null,null,{"$f":"IF(PLANTS!A190=\"\",\"\",PLANTS!A190)","v":"ELPA5"},2,"",0,{"$f":"IF(PLANTS!C190=\"\",\"\",PLANTS!C190)","v":""},"",{"$f":"IF(PLANTS!D190=\"\",\"\",PLANTS!D190)","v":"y"},"",{"$f":"IF(PLANTS!E190=\"\",\"\",PLANTS!E190)","v":"y"},"",{"$f":"IF(PLANTS!F190=\"\",\"\",PLANTS!F190)","v":""},"",0,null,100,"",null,0,{"$f":"IF(DE192=\"A\",PLANTS!H190,DE192)","v":"M"},50,null,"","","","",null,null,null,"","",null,null,{"$f":"IF(KeySP!A189=\"\",\"\",KeySP!A189)","v":" "},0,0,"",{"$error":"#DIV/0!"},null,"",null," ","",null,"","","","",0,"",0,"",null,"","","ELPA5",{"$f":"IF(DC192=\"a\",PLANTS!I190,DMA!DC192)","v":2},{"$f":"IF(DD192=\"a\",PLANTS!G190,DMA!DD192)","v":100},"","","","","","","",null,null,{"$f":"PLANTS!I190","v":2},{"$f":"PLANTS!G190","v":100},{"$f":"PLANTS!H190","v":"M"},null,null,null,null,"",{"$f":"IF(DMA!DJ192=\"\",\"\",(DMA!N192-SUMIF(Graphs!$O$13:$O$199,DMA!$DJ192,Graphs!$V$13:$V$199))^2)","v":""},{"$f":"IF(DMA!DK192=\"\",\"\",(DMA!O192-SUMIF(Graphs!$O$13:$O$199,DMA!$DJ192,Graphs!$V$13:$V$199))^2)","v":""},{"$f":"IF(DMA!DL192=\"\",\"\",(DMA!P192-SUMIF(Graphs!$O$13:$O$199,DMA!$DJ192,Graphs!$V$13:$V$199))^2)","v":""},"",0,"",0,188,null,null,null,null,19.2]
[null,null,null,null,null,null,null,null,null,null,null,null,null,null,null,null,null,null,null,{"$f":"IF(A193=\"\",\"\",(Header!C$7*Header!C$6)*A193)","v":""},"","","","","",{"$f":"IF(KeySP!D190=\"\",\"\",KeySP!D190)","v":" "},"",0,0,null,null,{"$f":"IF(KeySP!$D190=\"\",\"\",KeySP!$D190)","v":" "},{"$f":"SUMIF($M$5:M$502,$AF193,N$5:N$502)","v":0},{"$f":"SUMIF($M$5:M$502,$AF193,O$5:O$502)","v":0},{"$f":"SUMIF($M$5:M$502,$AF193,P$5:P$502)","v":0},null,null,null,null,null,{"$f":"IF(PLANTS!A191=\"\",\"\",PLANTS!A191)","v":"ELPA6"},5,"",0,{"$f":"IF(PLANTS!C191=\"\",\"\",PLANTS!C191)","v":""},"",{"$f":"IF(PLANTS!D191=\"\",\"\",PLANTS!D191)","v":"y"},"",{"$f":"IF(PLANTS!E191=\"\",\"\",PLANTS!E191)","v":"y"},"",{"$f":"IF(PLANTS!F191=\"\",\"\",PLANTS!F191)","v":""},"",0,null,100,"",null,0,{"$f":"IF(DE193=\"A\",PLANTS!H191,DE193)","v":"M"},50,null,"","","","",null,null,null,"","",null,null,{"$f":"IF(KeySP!A190=\"\",\"\",KeySP!A190)","v":" "},0,0,"",{"$error":"#DIV/0!"},null,"",null," ","",null,"","","","",0,"",0,"",null,"","","ELPA6",{"$f":"IF(DC193=\"a\",PLANTS!I191,DMA!DC193)","v":5},{"$f":"IF(DD193=\"a\",PLANTS!G191,DMA!DD193)","v":100},"","","","","","","",null,null,{"$f":"PLANTS!I191","v":5},{"$f":"PLANTS!G191","v":100},{"$f":"PLANTS!H191","v":"M"},null,null,null,null,"",{"$f":"IF(DMA!DJ193=\"\",\"\",(DMA!N193-SUMIF(Graphs!$O$13:$O$199,DMA!$DJ193,Graphs!$V$13:$V$199))^2)","v":""},{"$f":"IF(DMA!DK193=\"\",\"\",(DMA!O193-SUMIF(Graphs!$O$13:$O$199,DMA!$DJ193,Graphs!$V$13:$V$199))^2)","v":""},{"$f":"IF(DMA!DL193=\"\",\"\",(DMA!P193-SUMIF(Graphs!$O$13:$O$199,DMA!$DJ193,Graphs!$V$13:$V$199))^2)","v":""},"",0,"",0,189,null,null,null,null,19.3]
[null,null,null,null,null,null,null,null,null,null,null,null,null,null,null,null,null,null,null,{"$f":"IF(A194=\"\",\"\",(Header!C$7*Header!C$6)*A194)","v":""},"","","","","",{"$f":"IF(KeySP!D191=\"\",\"\",KeySP!D191)","v":" "},"",0,0,null,null,{"$f":"IF(KeySP!$D191=\"\",\"\",KeySP!$D191)","v":" "},{"$f":"SUMIF($M$5:M$502,$AF194,N$5:N$502)","v":0},{"$f":"SUMIF($M$5:M$502,$AF194,O$5:O$502)","v":0},{"$f":"SUMIF($M$5:M$502,$AF194,P$5:P$502)","v":0},null,null,null,null,null,{"$f":"IF(PLANTS!A192=\"\",\"\",PLANTS!A192)","v":"ELQU2"},5,"",0,{"$f":"IF(PLANTS!C192=\"\",\"\",PLANTS!C192)","v":""},"",{"$f":"IF(PLANTS!D192=\"\",\"\",PLANTS!D192)","v":"y"},"",{"$f":"IF(PLANTS!E192=\"\",\"\",PLANTS!E192)","v":"y"},"",{"$f":"IF(PLANTS!F192=\"\",\"\",PLANTS!F192)","v":""},"",0,null,100,"",null,0,{"$f":"IF(DE194=\"A\",PLANTS!H192,DE194)","v":"M"},50,null,"","","","",null,null,null,"","",null,null,{"$f":"IF(KeySP!A191=\"\",\"\",KeySP!A191)","v":" "},0,0,"",{"$error":"#DIV/0!"},null,"",null," ","",null,"","","","",0,"",0,"",null,"","","ELQU2",{"$f":"IF(DC194=\"a\",PLANTS!I192,DMA!DC194)","v":5},{"$f":"IF(DD194=\"a\",PLANTS!G192,DMA!DD194)","v":100},"","","","","","","",null,null,{"$f":"PLANTS!I192","v":5},{"$f":"PLANTS!G192","v":100},{"$f":"PLANTS!H192","v":"M"},null,null,null,null,"",{"$f":"IF(DMA!DJ194=\"\",\"\",(DMA!N194-SUMIF(Graphs!$O$13:$O$199,DMA!$DJ194,Graphs!$V$13:$V$199))^2)","v":""},{"$f":"IF(DMA!DK194=\"\",\"\",(DMA!O194-SUMIF(Graphs!$O$13:$O$199,DMA!$DJ194,Graphs!$V$13:$V$199))^2)","v":""},{"$f":"IF(DMA!DL194=\"\",\"\",(DMA!P194-SUMIF(Graphs!$O$13:$O$199,DMA!$DJ194,Graphs!$V$13:$V$199))^2)","v":""},"",0,"",0,190,null,null,null,null,19.399999999999999]
[null,null,null,null,null,null,null,null,null,null,null,null,null,null,null,null,null,null,null,{"$f":"IF(A195=\"\",\"\",(Header!C$7*Header!C$6)*A195)","v":""},"","","","","",{"$f":"IF(KeySP!D192=\"\",\"\",KeySP!D192)","v":" "},"",0,0,null,null,{"$f":"IF(KeySP!$D192=\"\",\"\",KeySP!$D192)","v":" "},{"$f":"SUMIF($M$5:M$502,$AF195,N$5:N$502)","v":0},{"$f":"SUMIF($M$5:M$502,$AF195,O$5:O$502)","v":0},{"$f":"SUMIF($M$5:M$502,$AF195,P$5:P$502)","v":0},null,null,null,null,null,{"$f":"IF(PLANTS!A193=\"\",\"\",PLANTS!A193)","v":"ELRE4"},5,"",0,{"$f":"IF(PLANTS!C193=\"\",\"\",PLANTS!C193)","v":""},"",{"$f":"IF(PLANTS!D193=\"\",\"\",PLANTS!D193)","v":""},"",{"$f":"IF(PLANTS!E193=\"\",\"\",PLANTS!E193)","v":"y"},"",{"$f":"IF(PLANTS!F193=\"\",\"\",PLANTS!F193)","v":""},"",0,null,50,"",null,0,{"$f":"IF(DE195=\"A\",PLANTS!H193,DE195)","v":"E"},20,null,"","","","",null,null,null,"","",null,null,{"$f":"IF(KeySP!A192=\"\",\"\",KeySP!A192)","v":" "},0,0,"",{"$error":"#DIV/0!"},null,"",null," ","",null,"","","","","","","","",null,"","","ELRE4",{"$f":"IF(DC195=\"a\",PLANTS!I193,DMA!DC195)","v":5},{"$f":"IF(DD195=\"a\",PLANTS!G193,DMA!DD195)","v":50},"","","","","","","",null,null,{"$f":"PLANTS!I193","v":5},{"$f":"PLANTS!G193","v":50},{"$f":"PLANTS!H193","v":"E"},null,null,null,null,"",{"$f":"IF(DMA!DJ195=\"\",\"\",(DMA!N195-SUMIF(Graphs!$O$13:$O$199,DMA!$DJ195,Graphs!$V$13:$V$199))^2)","v":""},{"$f":"IF(DMA!DK195=\"\",\"\",(DMA!O195-SUMIF(Graphs!$O$13:$O$199,DMA!$DJ195,Graphs!$V$13:$V$199))^2)","v":""},{"$f":"IF(DMA!DL195=\"\",\"\",(DMA!P195-SUMIF(Graphs!$O$13:$O$199,DMA!$DJ195,Graphs!$V$13:$V$199))^2)","v":""},"",0,"",0,191,null,null,null,null,19.5]
[null,null,null,null,null,null,null,null,null,null,null,null,null,null,null,null,null,null,null,{"$f":"IF(A196=\"\",\"\",(Header!C$7*Header!C$6)*A196)","v":""},"","","","","",{"$f":"IF(KeySP!D193=\"\",\"\",KeySP!D193)","v":" "},"",0,0,null,null,{"$f":"IF(KeySP!$D193=\"\",\"\",KeySP!$D193)","v":" "},{"$f":"SUMIF($M$5:M$502,$AF196,N$5:N$502)","v":0},{"$f":"SUMIF($M$5:M$502,$AF196,O$5:O$502)","v":0},{"$f":"SUMIF($M$5:M$502,$AF196,P$5:P$502)","v":0},null,null,null,null,null,{"$f":"IF(PLANTS!A194=\"\",\"\",PLANTS!A194)","v":"ELRO2"},2,"",0,{"$f":"IF(PLANTS!C194=\"\",\"\",PLANTS!C194)","v":""},"",{"$f":"IF(PLANTS!D194=\"\",\"\",PLANTS!D194)","v":"y"},"",{"$f":"IF(PLANTS!E194=\"\",\"\",PLANTS!E194)","v":"y"},"",{"$f":"IF(PLANTS!F194=\"\",\"\",PLANTS!F194)","v":""},"",0,null,100,"",null,0,{"$f":"IF(DE196=\"A\",PLANTS!H194,DE196)","v":"E"},20,null,"","","","",null,null,null,"","",null,null,{"$f":"IF(KeySP!A193=\"\",\"\",KeySP!A193)","v":" "},0,0,"",{"$error":"#DIV/0!"},null,"",null," ","",null,"","","","",0,"",0,"",null,"","","ELRO2",{"$f":"IF(DC196=\"a\",PLANTS!I194,DMA!DC196)","v":2},{"$f":"IF(DD196=\"a\",PLANTS!G194,DMA!DD196)","v":100},"","","","","","","",null,null,{"$f":"PLANTS!I194","v":2},{"$f":"PLANTS!G194","v":100},{"$f":"PLANTS!H194","v":"E"},null,null,null,null,"",{"$f":"IF(DMA!DJ196=\"\",\"\",(DMA!N196-SUMIF(Graphs!$O$13:$O$199,DMA!$DJ196,Graphs!$V$13:$V$199))^2)","v":""},{"$f":"IF(DMA!DK196=\"\",\"\",(DMA!O196-SUMIF(Graphs!$O$13:$O$199,DMA!$DJ196,Graphs!$V$13:$V$199))^2)","v":""},{"$f":"IF(DMA!DL196=\"\",\"\",(DMA!P196-SUMIF(Graphs!$O$13:$O$199,DMA!$DJ196,Graphs!$V$13:$V$199))^2)","v":""},"",0,"",0,192,null,null,null,null,19.600000000000001]
[null,null,null,null,null,null,null,null,null,null,null,null,null,null,null,null,null,null,null,{"$f":"IF(A197=\"\",\"\",(Header!C$7*Header!C$6)*A197)","v":""},{"$f":"IF(K197=\"\",\"\",K197*12/39)","v":""},"","","","",{"$f":"IF(KeySP!D194=\"\",\"\",KeySP!D194)","v":" "},"",0,0,null,null,{"$f":"IF(KeySP!$D194=\"\",\"\",KeySP!$D194)","v":" "},{"$f":"SUMIF($M$5:M$502,$AF197,N$5:N$502)","v":0},{"$f":"SUMIF($M$5:M$502,$AF197,O$5:O$502)","v":0},{"$f":"SUMIF($M$5:M$502,$AF197,P$5:P$502)","v":0},null,null,null,null,null,{"$f":"IF(PLANTS!A195=\"\",\"\",PLANTS!A195)","v":"ELTR3"},5,"",{"$f":"SUMIF(B$5:B$504,AO197,D$5:D$504)","v":0},{"$f":"IF(PLANTS!C195=\"\",\"\",PLANTS!C195)","v":""},{"$f":"IF($AQ197=\"\",\"\",IF($AQ197>0,IF(AS197=\"y\",COUNTIF(B$5:B$504,AO197)/AP$605,\"\"),\"\"))","v":""},{"$f":"IF(PLANTS!D195=\"\",\"\",PLANTS!D195)","v":""},{"$f":"IF($AQ197=\"\",\"\",IF($AQ197>0,IF(AU197=\"y\",COUNTIF($B$5:$B$504,$AO197)/$AP$605,\"\"),\"\"))","v":""},{"$f":"IF(PLANTS!E195=\"\",\"\",PLANTS!E195)","v":"y"},"",{"$f":"IF(PLANTS!F195=\"\",\"\",PLANTS!F195)","v":""},{"$f":"IF($AQ197=\"\",\"\",IF($AQ197>0,IF(AY197=\"y\",COUNTIF($B$5:$B$504,$AO197)/$AP$605,\"\"),\"\"))","v":""},{"$f":"IF(AQ197<>\"\",AQ197/AQ$604,0)","v":0},null,50,"",null,0,{"$f":"IF(DE197=\"A\",PLANTS!H195,DE197)","v":"E"},20,null,"","","","",null,null,null,"","",null,null,{"$f":"IF(KeySP!A194=\"\",\"\",KeySP!A194)","v":" "},0,0,"",{"$error":"#DIV/0!"},null,"",null," ","",null,"","","","","","","","",null,"","","ELTR3",{"$f":"IF(DC197=\"a\",PLANTS!I195,DMA!DC197)","v":5},{"$f":"IF(DD197=\"a\",PLANTS!G195,DMA!DD197)","v":50},{"$f":"IF($B197>\"0\",LOOKUP($B197,$CQ$5:$CQ$414,$CS$5:$CS$414),\"\")","v":""},{"$f":"IF($C197>\"0\",LOOKUP($C197,$CQ$5:$CQ$414,$CS$5:$CS$414),\"\")","v":""},"",{"$f":"IF($B197>\"0\",LOOKUP($B197,$CQ$5:$CQ$414,$CR$5:$CR$414),\"\")","v":""},{"$f":"IF($C197>\"0\",LOOKUP($C197,$CQ$5:$CQ$414,$CR$5:$CR$414),\"\")","v":""},"",{"$f":"IF($B197>\"0\",LOOKUP($B197,$CQ$5:$CQ$414,$BH$5:$BH$414),\"\")","v":""},null,null,{"$f":"PLANTS!I195","v":5},{"$f":"PLANTS!G195","v":50},{"$f":"PLANTS!H195","v":"E"},null,null,null,null,"",{"$f":"IF(DMA!DJ197=\"\",\"\",(DMA!N197-SUMIF(Graphs!$O$13:$O$199,DMA!$DJ197,Graphs!$V$13:$V$199))^2)","v":""},{"$f":"IF(DMA!DK197=\"\",\"\",(DMA!O197-SUMIF(Graphs!$O$13:$O$199,DMA!$DJ197,Graphs!$V$13:$V$199))^2)","v":""},{"$f":"IF(DMA!DL197=\"\",\"\",(DMA!P197-SUMIF(Graphs!$O$13:$O$199,DMA!$DJ197,Graphs!$V$13:$V$199))^2)","v":""},{"$f":"IF(AO197=\"\",\"\",IF(COUNTIF($B$5:$B$504,$AO197)=0,\"\",SUMIF($B$5:$B$504,$AO197,$C$5:$C$504)*COUNTIF(B$5:B$504,AO197)))","v":""},{"$f":"IF(DN197<>\"\",DN197/DN$604,0)","v":0},"",0,193,null,null,null,null,19.7]
[null,null,null,null,null,null,null,null,null,null,null,null,null,null,null,null,null,null,null,{"$f":"IF(A198=\"\",\"\",(Header!C$7*Header!C$6)*A198)","v":""},"",{"$f":"IF(F198=\"\",\"\",IF(ISNUMBER(SEARCH(F198,\"d\")),IF(ISNUMBER(SEARCH(G198,\"c\")),\"CS\",IF(ISNUMBER(SEARCH(G198,\"u\")),\"UU\")),\"\"))","v":""},{"$f":"IF(F198=\"\",\"\",IF(ISNUMBER(SEARCH(F198,\"e\")),IF(ISNUMBER(SEARCH(G198,\"c\")),IF(ISNUMBER(SEARCH(H198,\"a\")),\"CS\",\"CU\"),IF(ISNUMBER(SEARCH(H198,\"a\")),\"US\",\"UU\")),\"\"))","v":""},{"$f":"IF(V198=\"\",W198,V198)","v":""},{"$f":"IF($X198=\"cs\",1,IF($X198=\"cu\",2,IF($X198=\"us\",3,IF($X198=\"uu\",4,\"\"))))","v":""},{"$f":"IF(KeySP!D195=\"\",\"\",KeySP!D195)","v":" "},"",0,0,null,null,{"$f":"IF(KeySP!$D195=\"\",\"\",KeySP!$D195)","v":" "},{"$f":"SUMIF($M$5:M$502,$AF198,N$5:N$502)","v":0},{"$f":"SUMIF($M$5:M$502,$AF198,O$5:O$502)","v":0},{"$f":"SUMIF($M$5:M$502,$AF198,P$5:P$502)","v":0},null,null,null,null,null,{"$f":"IF(PLANTS!A196=\"\",\"\",PLANTS!A196)","v":"ELTR7"},{"$f":"CR198","v":2},{"$f":"IF(AO198=\"\",\"\",IF(COUNTIF(B$5:B$504,AO198)=0,\"\",SUMIF(B$5:B$504,AO198,C$5:C$504)))","v":""},0,{"$f":"IF(PLANTS!C196=\"\",\"\",PLANTS!C196)","v":""},"",{"$f":"IF(PLANTS!D196=\"\",\"\",PLANTS!D196)","v":""},"",{"$f":"IF(PLANTS!E196=\"\",\"\",PLANTS!E196)","v":"y"},"",{"$f":"IF(PLANTS!F196=\"\",\"\",PLANTS!F196)","v":""},"",0,null,{"$f":"CS198","v":25},{"$f":"IF(AQ198<>\"\",BA198*$BC198,\"\")","v":""},null,{"$f":"(BA198*AP198)","v":0},{"$f":"IF(DE198=\"A\",PLANTS!H196,DE198)","v":"E"},20,null,{"$f":"IF($X198=\"cs\",1,IF($X198=\"fb\",1,IF($X198=\"cu\",2,IF($X198=\"us\",3,IF($X198=\"uu\",4,\"\")))))","v":""},{"$f":"IF(Y198=\"\",\"\",IF(Y198<3,\"c\",IF(Y198>2,\"u\",\"\")))","v":""},{"$f":"IF(Y198=\"\",\"\",IF(Y198=1,\"s\",IF(Y198=3,\"s\",IF(Y198=2,\"u\",IF(Y198=4,\"u\",\"\")))))","v":""},{"$f":"IF(BJ198=0,\"\",BJ198)","v":""},null,null,null,{"$f":"IF(E198<>\"\",E198+1,\"\")","v":""},{"$f":"IF(E198=\"\",\"\",(E198+1)/5)","v":""},null,null,{"$f":"IF(KeySP!A195=\"\",\"\",KeySP!A195)","v":" "},0,0,"",{"$error":"#DIV/0!"},null,{"$f":"IF(SUM(N198:Q198)=0,\"\",SUM(N198:Q198))","v":""},null," ",{"$f":"IF(D198+J198<1,\"\",1)","v":""},null,{"$f":"IF(D198=6,1,\"\")","v":""},{"$f":"IF(CF198<>\"\",C198,\"\")","v":""},{"$f":"IF(AR198>0,IF($CF198=\"y\",AR198/$AQ$604,\"\"),\"\")","v":""},{"$f":"IF(AY198=\"\",\"\",COUNTIF(B$5:B$503,AO198))","v":""},{"$f":"IF(AU198=\"\",\"\",COUNTIF(B$5:B$503,AO198))","v":""},{"$f":"IF(AS198=\"\",\"\",COUNTIF(B$5:B$503,AO198))","v":""},{"$f":"IF(AU198=\"\",\"\",IF(AW198=\"\",\"\",COUNTIF(B$5:B$503,AO198)))","v":""},{"$f":"IF(Q198=\"\",\"\",COUNTIF($AO$5:$AO$688,Q198))","v":""},null,{"$f":"IF(CQ198=\"\",\"\",IF(COUNTIF($B$5:$B$503,$CQ198)=0,\"\",SUMIF(B$5:B$503,CQ198,C$5:C$503)/COUNTIF($B$5:$B$503,$CQ198)))","v":""},{"$f":"IF(CQ198=\"\",\"\",IF(COUNTIF(B$5:B$503,CQ198)=0,\"\",COUNTIF(B$5:B$503,CQ198)/COUNTA(B$5:B$503)))","v":""},{"$f":"AO198","v":"ELTR7"},{"$f":"IF(DC198=\"a\",PLANTS!I196,DMA!DC198)","v":2},{"$f":"IF(DD198=\"a\",PLANTS!G196,DMA!DD198)","v":25},"","","","","",{"$f":"IF(CW198=\"\",\"\",IF(CX198=\"\",CW198,(CW198*2+CX198)/3))","v":""},"",null,null,{"$f":"PLANTS!I196","v":2},{"$f":"PLANTS!G196","v":25},{"$f":"PLANTS!H196","v":"E"},null,null,null,null,{"$f":"IF(M198=\"\",\"\",M198)","v":""},{"$f":"IF(DMA!DJ198=\"\",\"\",(DMA!N198-SUMIF(Graphs!$O$13:$O$199,DMA!$DJ198,Graphs!$V$13:$V$199))^2)","v":""},{"$f":"IF(DMA!DK198=\"\",\"\",(DMA!O198-SUMIF(Graphs!$O$13:$O$199,DMA!$DJ198,Graphs!$V$13:$V$199))^2)","v":""},{"$f":"IF(DMA!DL198=\"\",\"\",(DMA!P198-SUMIF(Graphs!$O$13:$O$199,DMA!$DJ198,Graphs!$V$13:$V$199))^2)","v":""},"",0,{"$f":"IF($AQ198<>\"\",$DO198*$BC198,\"\")","v":""},{"$f":"(DO198*$AP198)","v":0},194,null,null,null,null,19.8]
[null,null,null,null,null,null,null,null,null,null,null,null,null,null,null,null,null,null,null,{"$f":"IF(A199=\"\",\"\",(Header!C$7*Header!C$6)*A199)","v":""},"","","","","",{"$f":"IF(KeySP!D196=\"\",\"\",KeySP!D196)","v":" "},"",0,0,null,null,{"$f":"IF(KeySP!$D196=\"\",\"\",KeySP!$D196)","v":" "},{"$f":"SUMIF($M$5:M$502,$AF199,N$5:N$502)","v":0},{"$f":"SUMIF($M$5:M$502,$AF199,O$5:O$502)","v":0},{"$f":"SUMIF($M$5:M$502,$AF199,P$5:P$502)","v":0},null,null,null,null,null,{"$f":"IF(PLANTS!A197=\"\",\"\",PLANTS!A197)","v":"EPAN2"},5,"",0,{"$f":"IF(PLANTS!C197=\"\",\"\",PLANTS!C197)","v":""},"",{"$f":"IF(PLANTS!D197=\"\",\"\",PLANTS!D197)","v":""},"",{"$f":"IF(PLANTS!E197=\"\",\"\",PLANTS!E197)","v":"y"},{"$f":"IF(AU199=\"y\",IF(AW199=\"y\",AV199,\"\"),\"\")","v":""},{"$f":"IF(PLANTS!F197=\"\",\"\",PLANTS!F197)","v":"y"},"",0,null,25,"",null,0,{"$f":"IF(DE199=\"A\",PLANTS!H197,DE199)","v":"M"},50,null,"","","","",null,null,null,"","",null,null,{"$f":"IF(KeySP!A196=\"\",\"\",KeySP!A196)","v":" "},0,0,"",{"$error":"#DIV/0!"},null,"",null," ","",null,"","","",0,"","","","",null,"","","EPAN2",{"$f":"IF(DC199=\"a\",PLANTS!I197,DMA!DC199)","v":5},{"$f":"IF(DD199=\"a\",PLANTS!G197,DMA!DD199)","v":25},"","",{"$f":"IF(CT199=\"\",\"\",IF(CU199=\"\",CT199,(CT199*2+CU199)/3))","v":""},"","","","",null,null,{"$f":"PLANTS!I197","v":5},{"$f":"PLANTS!G197","v":25},{"$f":"PLANTS!H197","v":"M"},null,null,null,null,"",{"$f":"IF(DMA!DJ199=\"\",\"\",(DMA!N199-SUMIF(Graphs!$O$13:$O$199,DMA!$DJ199,Graphs!$V$13:$V$199))^2)","v":""},{"$f":"IF(DMA!DK199=\"\",\"\",(DMA!O199-SUMIF(Graphs!$O$13:$O$199,DMA!$DJ199,Graphs!$V$13:$V$199))^2)","v":""},{"$f":"IF(DMA!DL199=\"\",\"\",(DMA!P199-SUMIF(Graphs!$O$13:$O$199,DMA!$DJ199,Graphs!$V$13:$V$199))^2)","v":""},"",0,"",0,195,null,null,null,null,19.899999999999999]
[null,null,null,null,null,null,null,null,null,null,null,null,null,null,null,null,null,null,null,{"$f":"IF(A200=\"\",\"\",(Header!C$7*Header!C$6)*A200)","v":""},"","","","","",{"$f":"IF(KeySP!D197=\"\",\"\",KeySP!D197)","v":" "},"",0,0,null,null,{"$f":"IF(KeySP!$D197=\"\",\"\",KeySP!$D197)","v":" "},{"$f":"SUMIF($M$5:M$502,$AF200,N$5:N$502)","v":0},{"$f":"SUMIF($M$5:M$502,$AF200,O$5:O$502)","v":0},{"$f":"SUMIF($M$5:M$502,$AF200,P$5:P$502)","v":0},null,null,null,null,null,{"$f":"IF(PLANTS!A198=\"\",\"\",PLANTS!A198)","v":"EPCI"},2,"",0,{"$f":"IF(PLANTS!C198=\"\",\"\",PLANTS!C198)","v":""},"",{"$f":"IF(PLANTS!D198=\"\",\"\",PLANTS!D198)","v":"y"},"",{"$f":"IF(PLANTS!E198=\"\",\"\",PLANTS!E198)","v":"y"},"",{"$f":"IF(PLANTS!F198=\"\",\"\",PLANTS!F198)","v":"y"},"",0,null,75,"",null,0,{"$f":"IF(DE200=\"A\",PLANTS!H198,DE200)","v":"M"},{"$f":"IF(BG200=\"l\",80,IF(BG200=\"m\",50,IF(BG200=\"E\",20)))","v":50},null,"","","","",null,null,null,"","",null,null,{"$f":"IF(KeySP!A197=\"\",\"\",KeySP!A197)","v":" "},0,0,"",{"$error":"#DIV/0!"},null,"",null," ","",null,"","","",0,0,"",0,"",null,"","","EPCI",{"$f":"IF(DC200=\"a\",PLANTS!I198,DMA!DC200)","v":2},{"$f":"IF(DD200=\"a\",PLANTS!G198,DMA!DD200)","v":75},"","","","","","","",null,null,{"$f":"PLANTS!I198","v":2},{"$f":"PLANTS!G198","v":75},{"$f":"PLANTS!H198","v":"M"},null,null,null,null,"",{"$f":"IF(DMA!DJ200=\"\",\"\",(DMA!N200-SUMIF(Graphs!$O$13:$O$199,DMA!$DJ200,Graphs!$V$13:$V$199))^2)","v":""},{"$f":"IF(DMA!DK200=\"\",\"\",(DMA!O200-SUMIF(Graphs!$O$13:$O$199,DMA!$DJ200,Graphs!$V$13:$V$199))^2)","v":""},{"$f":"IF(DMA!DL200=\"\",\"\",(DMA!P200-SUMIF(Graphs!$O$13:$O$199,DMA!$DJ200,Graphs!$V$13:$V$199))^2)","v":""},"",0,"",0,196,null,null,null,null,20]
[null,null,null,null,null,null,null,null,null,null,null,null,null,null,null,null,null,null,null,{"$f":"IF(A201=\"\",\"\",(Header!C$7*Header!C$6)*A201)","v":""},"","","","","",{"$f":"IF(KeySP!D198=\"\",\"\",KeySP!D198)","v":" "},"",0,0,null,null,{"$f":"IF(KeySP!$D198=\"\",\"\",KeySP!$D198)","v":" "},{"$f":"SUMIF($M$5:M$502,$AF201,N$5:N$502)","v":0},{"$f":"SUMIF($M$5:M$502,$AF201,O$5:O$502)","v":0},{"$f":"SUMIF($M$5:M$502,$AF201,P$5:P$502)","v":0},null,null,null,null,null,{"$f":"IF(PLANTS!A199=\"\",\"\",PLANTS!A199)","v":"EQAR"},5,"",0,{"$f":"IF(PLANTS!C199=\"\",\"\",PLANTS!C199)","v":""},"",{"$f":"IF(PLANTS!D199=\"\",\"\",PLANTS!D199)","v":""},"",{"$f":"IF(PLANTS!E199=\"\",\"\",PLANTS!E199)","v":"y"},"",{"$f":"IF(PLANTS!F199=\"\",\"\",PLANTS!F199)","v":"y"},"",0,null,50,"",null,0,{"$f":"IF(DE201=\"A\",PLANTS!H199,DE201)","v":"M"},50,null,"","","","",null,null,null,"","",null,null,{"$f":"IF(KeySP!A198=\"\",\"\",KeySP!A198)","v":" "},0,0,"",{"$error":"#DIV/0!"},null,"",null," ","",null,"","","",0,"","","","",null,"","","EQAR",{"$f":"IF(DC201=\"a\",PLANTS!I199,DMA!DC201)","v":5},{"$f":"IF(DD201=\"a\",PLANTS!G199,DMA!DD201)","v":50},"","","","","","","",null,null,{"$f":"PLANTS!I199","v":5},{"$f":"PLANTS!G199","v":50},{"$f":"PLANTS!H199","v":"M"},null,null,null,null,"",{"$f":"IF(DMA!DJ201=\"\",\"\",(DMA!N201-SUMIF(Graphs!$O$13:$O$199,DMA!$DJ201,Graphs!$V$13:$V$199))^2)","v":""},{"$f":"IF(DMA!DK201=\"\",\"\",(DMA!O201-SUMIF(Graphs!$O$13:$O$199,DMA!$DJ201,Graphs!$V$13:$V$199))^2)","v":""},{"$f":"IF(DMA!DL201=\"\",\"\",(DMA!P201-SUMIF(Graphs!$O$13:$O$199,DMA!$DJ201,Graphs!$V$13:$V$199))^2)","v":""},"",0,"",0,197,null,null,null,null,20.100000000000001]
[null,null,null,null,null,null,null,null,null,null,null,null,null,null,null,null,null,null,null,{"$f":"IF(A202=\"\",\"\",(Header!C$7*Header!C$6)*A202)","v":""},"","","","","",{"$f":"IF(KeySP!D199=\"\",\"\",KeySP!D199)","v":" "},"",0,0,null,null,{"$f":"IF(KeySP!$D199=\"\",\"\",KeySP!$D199)","v":" "},{"$f":"SUMIF($M$5:M$502,$AF202,N$5:N$502)","v":0},{"$f":"SUMIF($M$5:M$502,$AF202,O$5:O$502)","v":0},{"$f":"SUMIF($M$5:M$502,$AF202,P$5:P$502)","v":0},null,null,null,null,null,{"$f":"IF(PLANTS!A200=\"\",\"\",PLANTS!A200)","v":"EQFL"},5,"",0,{"$f":"IF(PLANTS!C200=\"\",\"\",PLANTS!C200)","v":""},"",{"$f":"IF(PLANTS!D200=\"\",\"\",PLANTS!D200)","v":"y"},"",{"$f":"IF(PLANTS!E200=\"\",\"\",PLANTS!E200)","v":"y"},"",{"$f":"IF(PLANTS!F200=\"\",\"\",PLANTS!F200)","v":"y"},"",0,null,100,"",null,0,{"$f":"IF(DE202=\"A\",PLANTS!H200,DE202)","v":"M"},50,null,"","","","",null,null,null,"","",null,null,{"$f":"IF(KeySP!A199=\"\",\"\",KeySP!A199)","v":" "},0,0,"",{"$error":"#DIV/0!"},null,"",null," ","",null,"","","",0,0,"",0,"",null,"","","EQFL",{"$f":"IF(DC202=\"a\",PLANTS!I200,DMA!DC202)","v":5},{"$f":"IF(DD202=\"a\",PLANTS!G200,DMA!DD202)","v":100},"","","","","","","",null,null,{"$f":"PLANTS!I200","v":5},{"$f":"PLANTS!G200","v":100},{"$f":"PLANTS!H200","v":"M"},null,null,null,null,"",{"$f":"IF(DMA!DJ202=\"\",\"\",(DMA!N202-SUMIF(Graphs!$O$13:$O$199,DMA!$DJ202,Graphs!$V$13:$V$199))^2)","v":""},{"$f":"IF(DMA!DK202=\"\",\"\",(DMA!O202-SUMIF(Graphs!$O$13:$O$199,DMA!$DJ202,Graphs!$V$13:$V$199))^2)","v":""},{"$f":"IF(DMA!DL202=\"\",\"\",(DMA!P202-SUMIF(Graphs!$O$13:$O$199,DMA!$DJ202,Graphs!$V$13:$V$199))^2)","v":""},"",0,"",0,198,null,null,null,null,20.2]
[null,null,null,null,null,null,null,null,null,null,null,null,null,null,null,null,null,null,null,{"$f":"IF(A203=\"\",\"\",(Header!C$7*Header!C$6)*A203)","v":""},"","","","","",{"$f":"IF(KeySP!D200=\"\",\"\",KeySP!D200)","v":" "},"",{"$f":"IF(Z203=\"\",\"\",COUNTIF(R$5:R$502,\"*\"&Z203&\"*\"))","v":0},{"$f":"IF(Z203=\"\",\"\",SUMIF($R$5:$R$502,\"*\"&Z203&\"*\",S$5:S$502))","v":0},null,null,{"$f":"IF(KeySP!$D200=\"\",\"\",KeySP!$D200)","v":" "},{"$f":"SUMIF($M$5:M$502,$AF203,N$5:N$502)","v":0},{"$f":"SUMIF($M$5:M$502,$AF203,O$5:O$502)","v":0},{"$f":"SUMIF($M$5:M$502,$AF203,P$5:P$502)","v":0},null,null,null,null,null,{"$f":"IF(PLANTS!A201=\"\",\"\",PLANTS!A201)","v":"EQHY"},5,"",0,{"$f":"IF(PLANTS!C201=\"\",\"\",PLANTS!C201)","v":""},"",{"$f":"IF(PLANTS!D201=\"\",\"\",PLANTS!D201)","v":"y"},"",{"$f":"IF(PLANTS!E201=\"\",\"\",PLANTS!E201)","v":"y"},"",{"$f":"IF(PLANTS!F201=\"\",\"\",PLANTS!F201)","v":"y"},"",0,null,75,"",null,0,{"$f":"IF(DE203=\"A\",PLANTS!H201,DE203)","v":"M"},50,null,"","","","",null,null,null,"","",null,null,{"$f":"IF(KeySP!A200=\"\",\"\",KeySP!A200)","v":" "},0,0,"",{"$error":"#DIV/0!"},null,"",null," ","",null,"","","",0,0,"",0,"",null,"","","EQHY",{"$f":"IF(DC203=\"a\",PLANTS!I201,DMA!DC203)","v":5},{"$f":"IF(DD203=\"a\",PLANTS!G201,DMA!DD203)","v":75},"","","","","","","",null,null,{"$f":"PLANTS!I201","v":5},{"$f":"PLANTS!G201","v":75},{"$f":"PLANTS!H201","v":"M"},null,null,null,null,"",{"$f":"IF(DMA!DJ203=\"\",\"\",(DMA!N203-SUMIF(Graphs!$O$13:$O$199,DMA!$DJ203,Graphs!$V$13:$V$199))^2)","v":""},{"$f":"IF(DMA!DK203=\"\",\"\",(DMA!O203-SUMIF(Graphs!$O$13:$O$199,DMA!$DJ203,Graphs!$V$13:$V$199))^2)","v":""},{"$f":"IF(DMA!DL203=\"\",\"\",(DMA!P203-SUMIF(Graphs!$O$13:$O$199,DMA!$DJ203,Graphs!$V$13:$V$199))^2)","v":""},"",0,"",0,199,null,null,null,null,20.3]
[null,null,null,null,null,null,null,null,null,null,null,null,null,null,null,null,null,null,null,{"$f":"IF(A204=\"\",\"\",(Header!C$7*Header!C$6)*A204)","v":""},"","","","","",null,null,null,null,null,null,{"$f":"SUM(AG204:AJ204)","v":0},{"$f":"SUM(AG5:AG203)","v":0},{"$f":"SUM(AH5:AH203)","v":0},{"$f":"SUM(AI5:AI203)","v":0},null,null,null,null,null,{"$f":"IF(PLANTS!A202=\"\",\"\",PLANTS!A202)","v":"EQLA"},2,"",0,{"$f":"IF(PLANTS!C202=\"\",\"\",PLANTS!C202)","v":""},"",{"$f":"IF(PLANTS!D202=\"\",\"\",PLANTS!D202)","v":"y"},"",{"$f":"IF(PLANTS!E202=\"\",\"\",PLANTS!E202)","v":"y"},"",{"$f":"IF(PLANTS!F202=\"\",\"\",PLANTS!F202)","v":"y"},"",0,null,75,"",null,0,{"$f":"IF(DE204=\"A\",PLANTS!H202,DE204)","v":"E"},20,null,"","","","",null,null,null,"","",null,null,{"$f":"IF(KeySP!A201=\"\",\"\",KeySP!A201)","v":" "},0,0,"",{"$error":"#DIV/0!"},null,"",null," ","",null,"","","",0,0,"",0,"",null,"","","EQLA",{"$f":"IF(DC204=\"a\",PLANTS!I202,DMA!DC204)","v":2},{"$f":"IF(DD204=\"a\",PLANTS!G202,DMA!DD204)","v":75},"","","","","","","",null,null,{"$f":"PLANTS!I202","v":2},{"$f":"PLANTS!G202","v":75},{"$f":"PLANTS!H202","v":"E"},null,null,null,null,"",{"$f":"IF(DMA!DJ204=\"\",\"\",(DMA!N204-SUMIF(Graphs!$O$13:$O$199,DMA!$DJ204,Graphs!$V$13:$V$199))^2)","v":""},{"$f":"IF(DMA!DK204=\"\",\"\",(DMA!O204-SUMIF(Graphs!$O$13:$O$199,DMA!$DJ204,Graphs!$V$13:$V$199))^2)","v":""},{"$f":"IF(DMA!DL204=\"\",\"\",(DMA!P204-SUMIF(Graphs!$O$13:$O$199,DMA!$DJ204,Graphs!$V$13:$V$199))^2)","v":""},"",0,"",0,200,null,null,null,null,20.399999999999999]
[null,null,null,null,null,null,null,null,null,null,null,null,null,null,null,null,null,null,null,{"$f":"IF(A205=\"\",\"\",(Header!C$7*Header!C$6)*A205)","v":""},"","","","","",null,null,null,null,null,null,null,{"$f":"AG204/$AF204","v":{"$error":"#DIV/0!"}},{"$f":"AH204/$AF204","v":{"$error":"#DIV/0!"}},{"$f":"AI204/$AF204","v":{"$error":"#DIV/0!"}},null,null,null,null,null,{"$f":"IF(PLANTS!A203=\"\",\"\",PLANTS!A203)","v":"EQSY"},2,"",0,{"$f":"IF(PLANTS!C203=\"\",\"\",PLANTS!C203)","v":""},"",{"$f":"IF(PLANTS!D203=\"\",\"\",PLANTS!D203)","v":"y"},"",{"$f":"IF(PLANTS!E203=\"\",\"\",PLANTS!E203)","v":"y"},"",{"$f":"IF(PLANTS!F203=\"\",\"\",PLANTS!F203)","v":"Y"},"",0,null,50,"",null,0,{"$f":"IF(DE205=\"A\",PLANTS!H203,DE205)","v":"M"},50,null,"","","","",null,null,null,"","",null,null,null,{"$f":"SUM(BV5:BV204)","v":0},{"$f":"SUM(BW5:BW204)","v":{"$error":"#DIV/0!"}},{"$f":"BW205/BV205","v":{"$error":"#DIV/0!"}},{"$error":"#DIV/0!"},null,"",null," ","",null,"","","",0,0,"",0,"",null,"","","EQSY",{"$f":"IF(DC205=\"a\",PLANTS!I203,DMA!DC205)","v":2},{"$f":"IF(DD205=\"a\",PLANTS!G203,DMA!DD205)","v":50},"","","","","","","",null,null,{"$f":"PLANTS!I203","v":2},{"$f":"PLANTS!G203","v":50},{"$f":"PLANTS!H203","v":"M"},null,null,null,null,"",{"$f":"IF(DMA!DJ205=\"\",\"\",(DMA!N205-SUMIF(Graphs!$O$13:$O$199,DMA!$DJ205,Graphs!$V$13:$V$199))^2)","v":""},{"$f":"IF(DMA!DK205=\"\",\"\",(DMA!O205-SUMIF(Graphs!$O$13:$O$199,DMA!$DJ205,Graphs!$V$13:$V$199))^2)","v":""},{"$f":"IF(DMA!DL205=\"\",\"\",(DMA!P205-SUMIF(Graphs!$O$13:$O$199,DMA!$DJ205,Graphs!$V$13:$V$199))^2)","v":""},"",0,"",0,null,null,null,null,null,20.5]
[null,null,null,null,null,null,null,null,null,null,null,null,null,null,null,null,null,null,null,{"$f":"IF(A206=\"\",\"\",(Header!C$7*Header!C$6)*A206)","v":""},"","","","","",null,null,null,null,null,null,null,null,null,null,null,null,null,null,null,{"$f":"IF(PLANTS!A204=\"\",\"\",PLANTS!A204)","v":"EQUIS"},2,"",0,{"$f":"IF(PLANTS!C204=\"\",\"\",PLANTS!C204)","v":""},"",{"$f":"IF(PLANTS!D204=\"\",\"\",PLANTS!D204)","v":"y"},"",{"$f":"IF(PLANTS!E204=\"\",\"\",PLANTS!E204)","v":"y"},"",{"$f":"IF(PLANTS!F204=\"\",\"\",PLANTS!F204)","v":"y"},"",0,null,75,"",null,0,{"$f":"IF(DE206=\"A\",PLANTS!H204,DE206)","v":"E"},20,null,"","","","",null,null,null,"","",null,null,null,null,null,null,{"$error":"#DIV/0!"},null,"",null," ","",null,"","","",0,0,"",0,"",null,"","","EQUIS",{"$f":"IF(DC206=\"a\",PLANTS!I204,DMA!DC206)","v":2},{"$f":"IF(DD206=\"a\",PLANTS!G204,DMA!DD206)","v":75},"","","","","","","",null,null,{"$f":"PLANTS!I204","v":2},{"$f":"PLANTS!G204","v":75},{"$f":"PLANTS!H204","v":"E"},null,null,null,null,"",{"$f":"IF(DMA!DJ206=\"\",\"\",(DMA!N206-SUMIF(Graphs!$O$13:$O$199,DMA!$DJ206,Graphs!$V$13:$V$199))^2)","v":""},{"$f":"IF(DMA!DK206=\"\",\"\",(DMA!O206-SUMIF(Graphs!$O$13:$O$199,DMA!$DJ206,Graphs!$V$13:$V$199))^2)","v":""},{"$f":"IF(DMA!DL206=\"\",\"\",(DMA!P206-SUMIF(Graphs!$O$13:$O$199,DMA!$DJ206,Graphs!$V$13:$V$199))^2)","v":""},"",0,"",0,null,null,null,null,null,20.6]
[null,null,null,null,null,null,null,null,null,null,null,null,null,null,null,null,null,null,null,{"$f":"IF(A207=\"\",\"\",(Header!C$7*Header!C$6)*A207)","v":""},"","","","","",null,null,null,null,null,null,null,null,null,null,null,null,null,null,null,{"$f":"IF(PLANTS!A205=\"\",\"\",PLANTS!A205)","v":"EQVA"},2,"",0,{"$f":"IF(PLANTS!C205=\"\",\"\",PLANTS!C205)","v":""},"",{"$f":"IF(PLANTS!D205=\"\",\"\",PLANTS!D205)","v":"y"},"",{"$f":"IF(PLANTS!E205=\"\",\"\",PLANTS!E205)","v":"y"},"",{"$f":"IF(PLANTS!F205=\"\",\"\",PLANTS!F205)","v":"y"},"",0,null,75,"",null,0,{"$f":"IF(DE207=\"A\",PLANTS!H205,DE207)","v":"M"},50,null,"","","","",null,null,null,"","",null,null,null,null,null,null,{"$error":"#DIV/0!"},null,"",null," ","",null,"","","",0,0,"",0,"",null,"","","EQVA",{"$f":"IF(DC207=\"a\",PLANTS!I205,DMA!DC207)","v":2},{"$f":"IF(DD207=\"a\",PLANTS!G205,DMA!DD207)","v":75},null,null,{"$f":"AVERAGE(CV5:CV206)","v":{"$error":"#DIV/0!"}},null,null,{"$f":"AVERAGE(CY5:CY206)","v":{"$error":"#DIV/0!"}},{"$f":"IF(COUNT(CZ5:CZ206)>0,AVERAGE(CZ5:CZ206),\"\")","v":""},null,null,{"$f":"PLANTS!I205","v":2},{"$f":"PLANTS!G205","v":75},{"$f":"PLANTS!H205","v":"M"},null,null,null,null,"",{"$f":"IF(DMA!DJ207=\"\",\"\",(DMA!N207-SUMIF(Graphs!$O$13:$O$199,DMA!$DJ207,Graphs!$V$13:$V$199))^2)","v":""},{"$f":"IF(DMA!DK207=\"\",\"\",(DMA!O207-SUMIF(Graphs!$O$13:$O$199,DMA!$DJ207,Graphs!$V$13:$V$199))^2)","v":""},{"$f":"IF(DMA!DL207=\"\",\"\",(DMA!P207-SUMIF(Graphs!$O$13:$O$199,DMA!$DJ207,Graphs!$V$13:$V$199))^2)","v":""},"",0,"",0,null,null,null,null,null,20.7]
[null,null,null,null,null,null,null,null,null,null,null,null,null,null,null,null,null,null,null,{"$f":"IF(A208=\"\",\"\",(Header!C$7*Header!C$6)*A208)","v":""},"","","","","",null,null,null,null,null,null,null,null,null,null,null,null,null,null,null,{"$f":"IF(PLANTS!A206=\"\",\"\",PLANTS!A206)","v":"ERCO6"},5,"",0,{"$f":"IF(PLANTS!C206=\"\",\"\",PLANTS!C206)","v":""},"",{"$f":"IF(PLANTS!D206=\"\",\"\",PLANTS!D206)","v":"y"},"",{"$f":"IF(PLANTS!E206=\"\",\"\",PLANTS!E206)","v":"y"},"",{"$f":"IF(PLANTS!F206=\"\",\"\",PLANTS!F206)","v":"y"},"",0,null,75,"",null,0,{"$f":"IF(DE208=\"A\",PLANTS!H206,DE208)","v":"L"},80,null,"","","","",null,null,null,"","",null,null,null,null,null,null,{"$error":"#DIV/0!"},null,"",null," ","",null,"","","",0,0,"",0,"",null,"","","ERCO6",{"$f":"IF(DC208=\"a\",PLANTS!I206,DMA!DC208)","v":5},{"$f":"IF(DD208=\"a\",PLANTS!G206,DMA!DD208)","v":75},null,null,{"$f":"STDEV(CV5:CV206)","v":{"$error":"#DIV/0!"}},null,null,{"$f":"STDEV(CY5:CY206)","v":{"$error":"#DIV/0!"}},{"$f":"STDEV(CZ5:CZ206)","v":{"$error":"#DIV/0!"}},null,null,{"$f":"PLANTS!I206","v":5},{"$f":"PLANTS!G206","v":75},{"$f":"PLANTS!H206","v":"L"},null,null,null,null,"",{"$f":"IF(DMA!DJ208=\"\",\"\",(DMA!N208-SUMIF(Graphs!$O$13:$O$199,DMA!$DJ208,Graphs!$V$13:$V$199))^2)","v":""},{"$f":"IF(DMA!DK208=\"\",\"\",(DMA!O208-SUMIF(Graphs!$O$13:$O$199,DMA!$DJ208,Graphs!$V$13:$V$199))^2)","v":""},{"$f":"IF(DMA!DL208=\"\",\"\",(DMA!P208-SUMIF(Graphs!$O$13:$O$199,DMA!$DJ208,Graphs!$V$13:$V$199))^2)","v":""},"",0,"",0,null,null,null,null,null,20.8]
[null,null,null,null,null,null,null,null,null,null,null,null,null,null,null,null,null,null,null,{"$f":"IF(A209=\"\",\"\",(Header!C$7*Header!C$6)*A209)","v":""},"","","","","",null,null,null,null,null,null,null,null,null,null,null,null,null,null,null,{"$f":"IF(PLANTS!A207=\"\",\"\",PLANTS!A207)","v":"ERIGE2"},5,"",0,{"$f":"IF(PLANTS!C207=\"\",\"\",PLANTS!C207)","v":""},"",{"$f":"IF(PLANTS!D207=\"\",\"\",PLANTS!D207)","v":""},"",{"$f":"IF(PLANTS!E207=\"\",\"\",PLANTS!E207)","v":"y"},"",{"$f":"IF(PLANTS!F207=\"\",\"\",PLANTS!F207)","v":"y"},"",0,null,25,"",null,0,{"$f":"IF(DE209=\"A\",PLANTS!H207,DE209)","v":"M"},50,null,"","","","",null,null,null,"","",null,null,null,null,null,null,{"$error":"#DIV/0!"},null,"",null," ","",null,"","","",0,"","","","",null,"","","ERIGE2",{"$f":"IF(DC209=\"a\",PLANTS!I207,DMA!DC209)","v":5},{"$f":"IF(DD209=\"a\",PLANTS!G207,DMA!DD209)","v":25},null,null,{"$f":"COUNT(CV5:CV206)","v":0},null,null,{"$f":"COUNT(CY5:CY206)","v":0},{"$f":"COUNT(CZ5:CZ206)","v":0},null,null,{"$f":"PLANTS!I207","v":5},{"$f":"PLANTS!G207","v":25},{"$f":"PLANTS!H207","v":"M"},null,null,null,null,"",{"$f":"IF(DMA!DJ209=\"\",\"\",(DMA!N209-SUMIF(Graphs!$O$13:$O$199,DMA!$DJ209,Graphs!$V$13:$V$199))^2)","v":""},{"$f":"IF(DMA!DK209=\"\",\"\",(DMA!O209-SUMIF(Graphs!$O$13:$O$199,DMA!$DJ209,Graphs!$V$13:$V$199))^2)","v":""},{"$f":"IF(DMA!DL209=\"\",\"\",(DMA!P209-SUMIF(Graphs!$O$13:$O$199,DMA!$DJ209,Graphs!$V$13:$V$199))^2)","v":""},"",0,"",0,null,null,null,null,null,20.9]
[null,null,null,null,null,null,null,null,null,null,null,null,null,null,null,null,null,null,null,{"$f":"IF(A210=\"\",\"\",(Header!C$7*Header!C$6)*A210)","v":""},"","","","","",null,null,null,null,null,null,null,null,null,null,null,null,null,null,null,{"$f":"IF(PLANTS!A208=\"\",\"\",PLANTS!A208)","v":"ERNA10"},2,"",0,{"$f":"IF(PLANTS!C208=\"\",\"\",PLANTS!C208)","v":"y"},"",{"$f":"IF(PLANTS!D208=\"\",\"\",PLANTS!D208)","v":""},"",{"$f":"IF(PLANTS!E208=\"\",\"\",PLANTS!E208)","v":""},"",{"$f":"IF(PLANTS!F208=\"\",\"\",PLANTS!F208)","v":""},"",0,null,25,"",null,0,{"$f":"IF(DE210=\"A\",PLANTS!H208,DE210)","v":"E"},20,null,"","","","",null,null,null,"","",null,null,null,null,null,null,{"$error":"#DIV/0!"},null,"",null," ","",null,"","","","","",0,"","",null,"","","ERNA10",{"$f":"IF(DC210=\"a\",PLANTS!I208,DMA!DC210)","v":2},{"$f":"IF(DD210=\"a\",PLANTS!G208,DMA!DD210)","v":25},null,null,{"$f":"CONFIDENCE(0.05,CV208,CV209)","v":{"$error":"#DIV/0!"}},null,null,{"$f":"CONFIDENCE(0.05,CY208,CY209)","v":{"$error":"#DIV/0!"}},{"$f":"CONFIDENCE(0.05,CZ208,CZ209)","v":{"$error":"#DIV/0!"}},null,null,{"$f":"PLANTS!I208","v":2},{"$f":"PLANTS!G208","v":25},{"$f":"PLANTS!H208","v":"E"},null,null,null,null,"",{"$f":"IF(DMA!DJ210=\"\",\"\",(DMA!N210-SUMIF(Graphs!$O$13:$O$199,DMA!$DJ210,Graphs!$V$13:$V$199))^2)","v":""},{"$f":"IF(DMA!DK210=\"\",\"\",(DMA!O210-SUMIF(Graphs!$O$13:$O$199,DMA!$DJ210,Graphs!$V$13:$V$199))^2)","v":""},{"$f":"IF(DMA!DL210=\"\",\"\",(DMA!P210-SUMIF(Graphs!$O$13:$O$199,DMA!$DJ210,Graphs!$V$13:$V$199))^2)","v":""},"",0,"",0,null,null,null,null,null,21]
[null,null,null,null,null,null,null,null,null,null,null,null,null,null,null,null,null,null,null,{"$f":"IF(A211=\"\",\"\",(Header!C$7*Header!C$6)*A211)","v":""},"","","","","",null,null,null,null,null,null,null,null,null,null,null,null,null,null,null,{"$f":"IF(PLANTS!A209=\"\",\"\",PLANTS!A209)","v":"ERPH"},2,"",0,{"$f":"IF(PLANTS!C209=\"\",\"\",PLANTS!C209)","v":""},"",{"$f":"IF(PLANTS!D209=\"\",\"\",PLANTS!D209)","v":""},"",{"$f":"IF(PLANTS!E209=\"\",\"\",PLANTS!E209)","v":"y"},"",{"$f":"IF(PLANTS!F209=\"\",\"\",PLANTS!F209)","v":"y"},"",0,null,25,"",null,0,{"$f":"IF(DE211=\"A\",PLANTS!H209,DE211)","v":"E"},20,null,"","","","",null,null,null,"","",null,null,null,null,null,null,{"$error":"#DIV/0!"},null,"",null," ","",null,"","","",0,"","","","",null,"","","ERPH",{"$f":"IF(DC211=\"a\",PLANTS!I209,DMA!DC211)","v":2},{"$f":"IF(DD211=\"a\",PLANTS!G209,DMA!DD211)","v":25},null,null,null,null,null,null,null,null,null,{"$f":"PLANTS!I209","v":2},{"$f":"PLANTS!G209","v":25},{"$f":"PLANTS!H209","v":"E"},null,null,null,null,"",{"$f":"IF(DMA!DJ211=\"\",\"\",(DMA!N211-SUMIF(Graphs!$O$13:$O$199,DMA!$DJ211,Graphs!$V$13:$V$199))^2)","v":""},{"$f":"IF(DMA!DK211=\"\",\"\",(DMA!O211-SUMIF(Graphs!$O$13:$O$199,DMA!$DJ211,Graphs!$V$13:$V$199))^2)","v":""},{"$f":"IF(DMA!DL211=\"\",\"\",(DMA!P211-SUMIF(Graphs!$O$13:$O$199,DMA!$DJ211,Graphs!$V$13:$V$199))^2)","v":""},"",0,"",0,null,null,null,null,null,21.1]
[null,null,null,null,null,null,null,null,null,null,null,null,null,null,null,null,null,null,null,{"$f":"IF(A212=\"\",\"\",(Header!C$7*Header!C$6)*A212)","v":""},"","","","","",null,null,null,null,null,null,null,null,null,null,null,null,null,null,null,{"$f":"IF(PLANTS!A210=\"\",\"\",PLANTS!A210)","v":"ERST3"},2,"",0,{"$f":"IF(PLANTS!C210=\"\",\"\",PLANTS!C210)","v":""},"",{"$f":"IF(PLANTS!D210=\"\",\"\",PLANTS!D210)","v":""},"",{"$f":"IF(PLANTS!E210=\"\",\"\",PLANTS!E210)","v":"y"},"",{"$f":"IF(PLANTS!F210=\"\",\"\",PLANTS!F210)","v":"y"},"",0,null,25,"",null,0,{"$f":"IF(DE212=\"A\",PLANTS!H210,DE212)","v":"E"},20,null,"","","","",null,null,null,"","",null,null,null,null,null,null,{"$error":"#DIV/0!"},null,"",null," ","",null,"","","",0,"","","","",null,"","","ERST3",{"$f":"IF(DC212=\"a\",PLANTS!I210,DMA!DC212)","v":2},{"$f":"IF(DD212=\"a\",PLANTS!G210,DMA!DD212)","v":25},null,null,null,null,null,null,null,null,null,{"$f":"PLANTS!I210","v":2},{"$f":"PLANTS!G210","v":25},{"$f":"PLANTS!H210","v":"E"},null,null,null,null,"",{"$f":"IF(DMA!DJ212=\"\",\"\",(DMA!N212-SUMIF(Graphs!$O$13:$O$199,DMA!$DJ212,Graphs!$V$13:$V$199))^2)","v":""},{"$f":"IF(DMA!DK212=\"\",\"\",(DMA!O212-SUMIF(Graphs!$O$13:$O$199,DMA!$DJ212,Graphs!$V$13:$V$199))^2)","v":""},{"$f":"IF(DMA!DL212=\"\",\"\",(DMA!P212-SUMIF(Graphs!$O$13:$O$199,DMA!$DJ212,Graphs!$V$13:$V$199))^2)","v":""},"",0,"",0,null,null,null,null,null,21.2]
[null,null,null,null,null,null,null,null,null,null,null,null,null,null,null,null,null,null,null,{"$f":"IF(A213=\"\",\"\",(Header!C$7*Header!C$6)*A213)","v":""},"","","","","",null,null,null,null,null,null,null,null,null,null,null,null,null,null,null,{"$f":"IF(PLANTS!A211=\"\",\"\",PLANTS!A211)","v":"EUES"},5,"",0,{"$f":"IF(PLANTS!C211=\"\",\"\",PLANTS!C211)","v":""},"",{"$f":"IF(PLANTS!D211=\"\",\"\",PLANTS!D211)","v":""},"",{"$f":"IF(PLANTS!E211=\"\",\"\",PLANTS!E211)","v":"y"},"",{"$f":"IF(PLANTS!F211=\"\",\"\",PLANTS!F211)","v":"y"},"",0,null,25,"",null,0,{"$f":"IF(DE213=\"A\",PLANTS!H211,DE213)","v":"E"},20,null,"","","","",null,null,null,"","",null,null,null,null,null,null,{"$error":"#DIV/0!"},null,"",null," ","",null,"","","",0,"","","","",null,"","","EUES",{"$f":"IF(DC213=\"a\",PLANTS!I211,DMA!DC213)","v":5},{"$f":"IF(DD213=\"a\",PLANTS!G211,DMA!DD213)","v":25},null,null,null,null,null,null,null,null,null,{"$f":"PLANTS!I211","v":5},{"$f":"PLANTS!G211","v":25},{"$f":"PLANTS!H211","v":"E"},null,null,null,null,"",{"$f":"IF(DMA!DJ213=\"\",\"\",(DMA!N213-SUMIF(Graphs!$O$13:$O$199,DMA!$DJ213,Graphs!$V$13:$V$199))^2)","v":""},{"$f":"IF(DMA!DK213=\"\",\"\",(DMA!O213-SUMIF(Graphs!$O$13:$O$199,DMA!$DJ213,Graphs!$V$13:$V$199))^2)","v":""},{"$f":"IF(DMA!DL213=\"\",\"\",(DMA!P213-SUMIF(Graphs!$O$13:$O$199,DMA!$DJ213,Graphs!$V$13:$V$199))^2)","v":""},"",0,"",0,null,null,null,null,null,21.3]
[null,null,null,null,null,null,null,null,null,null,null,null,null,null,null,null,null,null,null,{"$f":"IF(A214=\"\",\"\",(Header!C$7*Header!C$6)*A214)","v":""},"","","","","",null,null,null,null,null,null,null,null,null,null,null,null,null,null,null,{"$f":"IF(PLANTS!A212=\"\",\"\",PLANTS!A212)","v":"EUIN9"},5,"",0,{"$f":"IF(PLANTS!C212=\"\",\"\",PLANTS!C212)","v":""},"",{"$f":"IF(PLANTS!D212=\"\",\"\",PLANTS!D212)","v":""},"",{"$f":"IF(PLANTS!E212=\"\",\"\",PLANTS!E212)","v":"y"},"",{"$f":"IF(PLANTS!F212=\"\",\"\",PLANTS!F212)","v":"y"},"",0,null,25,"",null,0,{"$f":"IF(DE214=\"A\",PLANTS!H212,DE214)","v":"E"},20,null,"","","","",null,null,null,"","",null,null,null,null,null,null,{"$error":"#DIV/0!"},null,"",null," ","",null,"","","",0,"","","","",null,"","","EUIN9",{"$f":"IF(DC214=\"a\",PLANTS!I212,DMA!DC214)","v":5},{"$f":"IF(DD214=\"a\",PLANTS!G212,DMA!DD214)","v":25},null,null,null,null,null,null,null,null,null,{"$f":"PLANTS!I212","v":5},{"$f":"PLANTS!G212","v":25},{"$f":"PLANTS!H212","v":"E"},null,null,null,null,"",{"$f":"IF(DMA!DJ214=\"\",\"\",(DMA!N214-SUMIF(Graphs!$O$13:$O$199,DMA!$DJ214,Graphs!$V$13:$V$199))^2)","v":""},{"$f":"IF(DMA!DK214=\"\",\"\",(DMA!O214-SUMIF(Graphs!$O$13:$O$199,DMA!$DJ214,Graphs!$V$13:$V$199))^2)","v":""},{"$f":"IF(DMA!DL214=\"\",\"\",(DMA!P214-SUMIF(Graphs!$O$13:$O$199,DMA!$DJ214,Graphs!$V$13:$V$199))^2)","v":""},"",0,"",0,null,null,null,null,null,21.4]
[null,null,null,null,null,null,null,null,null,null,null,null,null,null,null,null,null,null,null,{"$f":"IF(A215=\"\",\"\",(Header!C$7*Header!C$6)*A215)","v":""},"","","","","",null,null,null,null,null,null,null,null,null,null,null,null,null,null,null,{"$f":"IF(PLANTS!A213=\"\",\"\",PLANTS!A213)","v":"EUMA12"},5,"",0,{"$f":"IF(PLANTS!C213=\"\",\"\",PLANTS!C213)","v":""},"",{"$f":"IF(PLANTS!D213=\"\",\"\",PLANTS!D213)","v":"y"},"",{"$f":"IF(PLANTS!E213=\"\",\"\",PLANTS!E213)","v":"y"},"",{"$f":"IF(PLANTS!F213=\"\",\"\",PLANTS!F213)","v":"y"},"",0,null,100,"",null,0,{"$f":"IF(DE215=\"A\",PLANTS!H213,DE215)","v":"L"},80,null,"","","","",null,null,null,"","",null,null,null,null,null,null,{"$error":"#DIV/0!"},null,"",null," ","",null,"","","",0,0,"",0,"",null,"","","EUMA12",{"$f":"IF(DC215=\"a\",PLANTS!I213,DMA!DC215)","v":5},{"$f":"IF(DD215=\"a\",PLANTS!G213,DMA!DD215)","v":100},null,null,null,null,null,null,null,null,null,{"$f":"PLANTS!I213","v":5},{"$f":"PLANTS!G213","v":100},{"$f":"PLANTS!H213","v":"L"},null,null,null,null,"",{"$f":"IF(DMA!DJ215=\"\",\"\",(DMA!N215-SUMIF(Graphs!$O$13:$O$199,DMA!$DJ215,Graphs!$V$13:$V$199))^2)","v":""},{"$f":"IF(DMA!DK215=\"\",\"\",(DMA!O215-SUMIF(Graphs!$O$13:$O$199,DMA!$DJ215,Graphs!$V$13:$V$199))^2)","v":""},{"$f":"IF(DMA!DL215=\"\",\"\",(DMA!P215-SUMIF(Graphs!$O$13:$O$199,DMA!$DJ215,Graphs!$V$13:$V$199))^2)","v":""},"",0,"",0,null,null,null,null,null,21.5]
[null,null,null,null,null,null,null,null,null,null,null,null,null,null,null,null,null,null,null,{"$f":"IF(A216=\"\",\"\",(Header!C$7*Header!C$6)*A216)","v":""},"","","","","",null,null,null,null,null,null,null,null,null,null,null,null,null,null,null,{"$f":"IF(PLANTS!A214=\"\",\"\",PLANTS!A214)","v":"EUMA9"},5,"",0,{"$f":"IF(PLANTS!C214=\"\",\"\",PLANTS!C214)","v":""},"",{"$f":"IF(PLANTS!D214=\"\",\"\",PLANTS!D214)","v":"y"},"",{"$f":"IF(PLANTS!E214=\"\",\"\",PLANTS!E214)","v":"y"},"",{"$f":"IF(PLANTS!F214=\"\",\"\",PLANTS!F214)","v":"y"},"",0,null,100,"",null,0,{"$f":"IF(DE216=\"A\",PLANTS!H214,DE216)","v":"L"},80,null,"","","","",null,null,null,"","",null,null,null,null,null,null,{"$error":"#DIV/0!"},null,"",null," ","",null,"","","",0,0,"",0,"",null,"","","EUMA9",{"$f":"IF(DC216=\"a\",PLANTS!I214,DMA!DC216)","v":5},{"$f":"IF(DD216=\"a\",PLANTS!G214,DMA!DD216)","v":100},null,null,null,null,null,null,null,null,null,{"$f":"PLANTS!I214","v":5},{"$f":"PLANTS!G214","v":100},{"$f":"PLANTS!H214","v":"L"},null,null,null,null,"",{"$f":"IF(DMA!DJ216=\"\",\"\",(DMA!N216-SUMIF(Graphs!$O$13:$O$199,DMA!$DJ216,Graphs!$V$13:$V$199))^2)","v":""},{"$f":"IF(DMA!DK216=\"\",\"\",(DMA!O216-SUMIF(Graphs!$O$13:$O$199,DMA!$DJ216,Graphs!$V$13:$V$199))^2)","v":""},{"$f":"IF(DMA!DL216=\"\",\"\",(DMA!P216-SUMIF(Graphs!$O$13:$O$199,DMA!$DJ216,Graphs!$V$13:$V$199))^2)","v":""},"",0,"",0,null,null,null,null,null,21.6]
[null,null,null,null,null,null,null,null,null,null,null,null,null,null,null,null,null,null,null,{"$f":"IF(A217=\"\",\"\",(Header!C$7*Header!C$6)*A217)","v":""},"","","","","",null,null,null,null,null,null,null,null,null,null,null,null,null,null,null,{"$f":"IF(PLANTS!A215=\"\",\"\",PLANTS!A215)","v":"EURYB"},2,"",0,{"$f":"IF(PLANTS!C215=\"\",\"\",PLANTS!C215)","v":""},"",{"$f":"IF(PLANTS!D215=\"\",\"\",PLANTS!D215)","v":""},"",{"$f":"IF(PLANTS!E215=\"\",\"\",PLANTS!E215)","v":"y"},"",{"$f":"IF(PLANTS!F215=\"\",\"\",PLANTS!F215)","v":"y"},"",0,null,25,"",null,0,{"$f":"IF(DE217=\"A\",PLANTS!H215,DE217)","v":"E"},20,null,"","","","",null,null,null,"","",null,null,null,null,null,null,{"$error":"#DIV/0!"},null,"",null," ","",null,"","","",0,"","","","",null,"","","EURYB",{"$f":"IF(DC217=\"a\",PLANTS!I215,DMA!DC217)","v":2},{"$f":"IF(DD217=\"a\",PLANTS!G215,DMA!DD217)","v":25},null,null,null,null,null,null,null,null,null,{"$f":"PLANTS!I215","v":2},{"$f":"PLANTS!G215","v":25},{"$f":"PLANTS!H215","v":"E"},null,null,null,null,"",{"$f":"IF(DMA!DJ217=\"\",\"\",(DMA!N217-SUMIF(Graphs!$O$13:$O$199,DMA!$DJ217,Graphs!$V$13:$V$199))^2)","v":""},{"$f":"IF(DMA!DK217=\"\",\"\",(DMA!O217-SUMIF(Graphs!$O$13:$O$199,DMA!$DJ217,Graphs!$V$13:$V$199))^2)","v":""},{"$f":"IF(DMA!DL217=\"\",\"\",(DMA!P217-SUMIF(Graphs!$O$13:$O$199,DMA!$DJ217,Graphs!$V$13:$V$199))^2)","v":""},"",0,"",0,null,null,null,null,null,21.7]
[null,null,null,null,null,null,null,null,null,null,null,null,null,null,null,null,null,null,null,{"$f":"IF(A218=\"\",\"\",(Header!C$7*Header!C$6)*A218)","v":""},"","","","","",null,null,null,null,null,null,null,null,null,null,null,null,null,null,null,{"$f":"IF(PLANTS!A216=\"\",\"\",PLANTS!A216)","v":"FERU2"},5,"",0,{"$f":"IF(PLANTS!C216=\"\",\"\",PLANTS!C216)","v":""},"",{"$f":"IF(PLANTS!D216=\"\",\"\",PLANTS!D216)","v":""},"",{"$f":"IF(PLANTS!E216=\"\",\"\",PLANTS!E216)","v":"y"},"",{"$f":"IF(PLANTS!F216=\"\",\"\",PLANTS!F216)","v":""},"",0,null,50,"",null,0,{"$f":"IF(DE218=\"A\",PLANTS!H216,DE218)","v":"M"},50,null,"","","","",null,null,null,"","",null,null,null,null,null,null,{"$error":"#DIV/0!"},null,"",null," ","",null,"","","","","","","","",null,"","","FERU2",{"$f":"IF(DC218=\"a\",PLANTS!I216,DMA!DC218)","v":5},{"$f":"IF(DD218=\"a\",PLANTS!G216,DMA!DD218)","v":50},null,null,null,null,null,null,null,null,null,{"$f":"PLANTS!I216","v":5},{"$f":"PLANTS!G216","v":50},{"$f":"PLANTS!H216","v":"M"},null,null,null,null,"",{"$f":"IF(DMA!DJ218=\"\",\"\",(DMA!N218-SUMIF(Graphs!$O$13:$O$199,DMA!$DJ218,Graphs!$V$13:$V$199))^2)","v":""},{"$f":"IF(DMA!DK218=\"\",\"\",(DMA!O218-SUMIF(Graphs!$O$13:$O$199,DMA!$DJ218,Graphs!$V$13:$V$199))^2)","v":""},{"$f":"IF(DMA!DL218=\"\",\"\",(DMA!P218-SUMIF(Graphs!$O$13:$O$199,DMA!$DJ218,Graphs!$V$13:$V$199))^2)","v":""},"",0,"",0,null,null,null,null,null,21.8]
[null,null,null,null,null,null,null,null,null,null,null,null,null,null,null,null,null,null,null,{"$f":"IF(A219=\"\",\"\",(Header!C$7*Header!C$6)*A219)","v":""},"","","","","",null,null,null,null,null,null,null,null,null,null,null,null,null,null,null,{"$f":"IF(PLANTS!A217=\"\",\"\",PLANTS!A217)","v":"FRLA"},8.5,"",0,{"$f":"IF(PLANTS!C217=\"\",\"\",PLANTS!C217)","v":"y"},"",{"$f":"IF(PLANTS!D217=\"\",\"\",PLANTS!D217)","v":"y"},"",{"$f":"IF(PLANTS!E217=\"\",\"\",PLANTS!E217)","v":""},"",{"$f":"IF(PLANTS!F217=\"\",\"\",PLANTS!F217)","v":""},"",0,null,75,"",null,0,{"$f":"IF(DE219=\"A\",PLANTS!H217,DE219)","v":"L"},80,null,"","","","",null,null,null,"","",null,null,null,null,null,null,{"$error":"#DIV/0!"},null,"",null," ","",null,"","","","",0,0,"","",null,"","","FRLA",{"$f":"IF(DC219=\"a\",PLANTS!I217,DMA!DC219)","v":8.5},{"$f":"IF(DD219=\"a\",PLANTS!G217,DMA!DD219)","v":75},null,null,null,null,null,null,null,null,null,{"$f":"PLANTS!I217","v":8.5},{"$f":"PLANTS!G217","v":75},{"$f":"PLANTS!H217","v":"L"},null,null,null,null,"",{"$f":"IF(DMA!DJ219=\"\",\"\",(DMA!N219-SUMIF(Graphs!$O$13:$O$199,DMA!$DJ219,Graphs!$V$13:$V$199))^2)","v":""},{"$f":"IF(DMA!DK219=\"\",\"\",(DMA!O219-SUMIF(Graphs!$O$13:$O$199,DMA!$DJ219,Graphs!$V$13:$V$199))^2)","v":""},{"$f":"IF(DMA!DL219=\"\",\"\",(DMA!P219-SUMIF(Graphs!$O$13:$O$199,DMA!$DJ219,Graphs!$V$13:$V$199))^2)","v":""},"",0,"",0,null,null,null,null,null,21.9]
[null,null,null,null,null,null,null,null,null,null,null,null,null,null,null,null,null,null,null,{"$f":"IF(A220=\"\",\"\",(Header!C$7*Header!C$6)*A220)","v":""},"","","","","",null,null,null,null,null,null,null,null,null,null,null,null,null,null,null,{"$f":"IF(PLANTS!A218=\"\",\"\",PLANTS!A218)","v":"FRPE"},5,"",0,{"$f":"IF(PLANTS!C218=\"\",\"\",PLANTS!C218)","v":"y"},"",{"$f":"IF(PLANTS!D218=\"\",\"\",PLANTS!D218)","v":"y"},"",{"$f":"IF(PLANTS!E218=\"\",\"\",PLANTS!E218)","v":""},"",{"$f":"IF(PLANTS!F218=\"\",\"\",PLANTS!F218)","v":""},"",0,null,75,"",null,0,{"$f":"IF(DE220=\"A\",PLANTS!H218,DE220)","v":"M"},50,null,"","","","",null,null,null,"","",null,null,null,null,null,null,{"$error":"#DIV/0!"},null,"",null," ","",null,"","","","",0,0,"","",null,"","","FRPE",{"$f":"IF(DC220=\"a\",PLANTS!I218,DMA!DC220)","v":5},{"$f":"IF(DD220=\"a\",PLANTS!G218,DMA!DD220)","v":75},null,null,null,null,null,null,null,null,null,{"$f":"PLANTS!I218","v":5},{"$f":"PLANTS!G218","v":75},{"$f":"PLANTS!H218","v":"M"},null,null,null,null,"",{"$f":"IF(DMA!DJ220=\"\",\"\",(DMA!N220-SUMIF(Graphs!$O$13:$O$199,DMA!$DJ220,Graphs!$V$13:$V$199))^2)","v":""},{"$f":"IF(DMA!DK220=\"\",\"\",(DMA!O220-SUMIF(Graphs!$O$13:$O$199,DMA!$DJ220,Graphs!$V$13:$V$199))^2)","v":""},{"$f":"IF(DMA!DL220=\"\",\"\",(DMA!P220-SUMIF(Graphs!$O$13:$O$199,DMA!$DJ220,Graphs!$V$13:$V$199))^2)","v":""},"",0,"",0,null,null,null,null,null,22]
[null,null,null,null,null,null,null,null,null,null,null,null,null,null,null,null,null,null,null,{"$f":"IF(A221=\"\",\"\",(Header!C$7*Header!C$6)*A221)","v":""},"","","","","",null,null,null,null,null,null,null,null,null,null,null,null,null,null,null,{"$f":"IF(PLANTS!A219=\"\",\"\",PLANTS!A219)","v":"FRVE2"},5,"",0,{"$f":"IF(PLANTS!C219=\"\",\"\",PLANTS!C219)","v":"y"},"",{"$f":"IF(PLANTS!D219=\"\",\"\",PLANTS!D219)","v":""},"",{"$f":"IF(PLANTS!E219=\"\",\"\",PLANTS!E219)","v":""},"",{"$f":"IF(PLANTS!F219=\"\",\"\",PLANTS!F219)","v":""},"",0,null,75,"",null,0,{"$f":"IF(DE221=\"A\",PLANTS!H219,DE221)","v":"E"},20,null,"","","","",null,null,null,"","",null,null,null,null,null,null,{"$error":"#DIV/0!"},null,"",null," ","",null,"","","","","",0,"","",null,"","","FRVE2",{"$f":"IF(DC221=\"a\",PLANTS!I219,DMA!DC221)","v":5},{"$f":"IF(DD221=\"a\",PLANTS!G219,DMA!DD221)","v":75},null,null,null,null,null,null,null,null,null,{"$f":"PLANTS!I219","v":5},{"$f":"PLANTS!G219","v":75},{"$f":"PLANTS!H219","v":"E"},null,null,null,null,"",{"$f":"IF(DMA!DJ221=\"\",\"\",(DMA!N221-SUMIF(Graphs!$O$13:$O$199,DMA!$DJ221,Graphs!$V$13:$V$199))^2)","v":""},{"$f":"IF(DMA!DK221=\"\",\"\",(DMA!O221-SUMIF(Graphs!$O$13:$O$199,DMA!$DJ221,Graphs!$V$13:$V$199))^2)","v":""},{"$f":"IF(DMA!DL221=\"\",\"\",(DMA!P221-SUMIF(Graphs!$O$13:$O$199,DMA!$DJ221,Graphs!$V$13:$V$199))^2)","v":""},"",0,"",0,null,null,null,null,null,22.1]
[null,null,null,null,null,null,null,null,null,null,null,null,null,null,null,null,null,null,null,{"$f":"IF(A222=\"\",\"\",(Header!C$7*Header!C$6)*A222)","v":""},{"$f":"IF(K363=\"\",\"\",K363*12/39)","v":""},"","","","",null,null,null,null,null,null,null,null,null,null,null,null,null,null,null,{"$f":"IF(PLANTS!A220=\"\",\"\",PLANTS!A220)","v":"FRVI"},2,"",0,{"$f":"IF(PLANTS!C220=\"\",\"\",PLANTS!C220)","v":""},"",{"$f":"IF(PLANTS!D220=\"\",\"\",PLANTS!D220)","v":""},"",{"$f":"IF(PLANTS!E220=\"\",\"\",PLANTS!E220)","v":"y"},"",{"$f":"IF(PLANTS!F220=\"\",\"\",PLANTS!F220)","v":"y"},"",0,null,25,"",null,0,{"$f":"IF(DE222=\"A\",PLANTS!H220,DE222)","v":"E"},20,null,"","","","",null,null,null,"","",null,null,null,null,null,null,{"$error":"#DIV/0!"},null,"",null," ","",null,"","","",0,"","","","",null,"","","FRVI",{"$f":"IF(DC222=\"a\",PLANTS!I220,DMA!DC222)","v":2},{"$f":"IF(DD222=\"a\",PLANTS!G220,DMA!DD222)","v":25},null,null,null,null,null,null,null,null,null,{"$f":"PLANTS!I220","v":2},{"$f":"PLANTS!G220","v":25},{"$f":"PLANTS!H220","v":"E"},null,null,null,null,"",{"$f":"IF(DMA!DJ222=\"\",\"\",(DMA!N222-SUMIF(Graphs!$O$13:$O$199,DMA!$DJ222,Graphs!$V$13:$V$199))^2)","v":""},{"$f":"IF(DMA!DK222=\"\",\"\",(DMA!O222-SUMIF(Graphs!$O$13:$O$199,DMA!$DJ222,Graphs!$V$13:$V$199))^2)","v":""},{"$f":"IF(DMA!DL222=\"\",\"\",(DMA!P222-SUMIF(Graphs!$O$13:$O$199,DMA!$DJ222,Graphs!$V$13:$V$199))^2)","v":""},"",0,"",0,null,null,null,null,null,22.2]
[null,null,null,null,null,null,null,null,null,null,null,null,null,null,null,null,null,null,null,{"$f":"IF(A223=\"\",\"\",(Header!C$7*Header!C$6)*A223)","v":""},"","","","","",null,null,null,null,null,null,null,null,null,null,null,null,null,null,null,{"$f":"IF(PLANTS!A221=\"\",\"\",PLANTS!A221)","v":"GABO2"},2,"",0,{"$f":"IF(PLANTS!C221=\"\",\"\",PLANTS!C221)","v":""},"",{"$f":"IF(PLANTS!D221=\"\",\"\",PLANTS!D221)","v":""},"",{"$f":"IF(PLANTS!E221=\"\",\"\",PLANTS!E221)","v":"y"},"",{"$f":"IF(PLANTS!F221=\"\",\"\",PLANTS!F221)","v":"y"},"",0,null,25,"",null,0,{"$f":"IF(DE223=\"A\",PLANTS!H221,DE223)","v":"E"},20,null,"","","","",null,null,null,"","",null,null,null,null,null,null,{"$error":"#DIV/0!"},null,"",null," ","",null,"","","",0,"","","","",null,"","","GABO2",{"$f":"IF(DC223=\"a\",PLANTS!I221,DMA!DC223)","v":2},{"$f":"IF(DD223=\"a\",PLANTS!G221,DMA!DD223)","v":25},null,null,null,null,null,null,null,null,null,{"$f":"PLANTS!I221","v":2},{"$f":"PLANTS!G221","v":25},{"$f":"PLANTS!H221","v":"E"},null,null,null,null,"",{"$f":"IF(DMA!DJ223=\"\",\"\",(DMA!N223-SUMIF(Graphs!$O$13:$O$199,DMA!$DJ223,Graphs!$V$13:$V$199))^2)","v":""},{"$f":"IF(DMA!DK223=\"\",\"\",(DMA!O223-SUMIF(Graphs!$O$13:$O$199,DMA!$DJ223,Graphs!$V$13:$V$199))^2)","v":""},{"$f":"IF(DMA!DL223=\"\",\"\",(DMA!P223-SUMIF(Graphs!$O$13:$O$199,DMA!$DJ223,Graphs!$V$13:$V$199))^2)","v":""},"",0,"",0,null,null,null,null,null,22.3]
[null,null,null,null,null,null,null,null,null,null,null,null,null,null,null,null,null,null,null,{"$f":"IF(A224=\"\",\"\",(Header!C$7*Header!C$6)*A224)","v":""},"","","","","",null,null,null,null,null,null,null,null,null,null,null,null,null,null,null,{"$f":"IF(PLANTS!A222=\"\",\"\",PLANTS!A222)","v":"GALIU"},2,"",0,{"$f":"IF(PLANTS!C222=\"\",\"\",PLANTS!C222)","v":""},"",{"$f":"IF(PLANTS!D222=\"\",\"\",PLANTS!D222)","v":""},"",{"$f":"IF(PLANTS!E222=\"\",\"\",PLANTS!E222)","v":"y"},"",{"$f":"IF(PLANTS!F222=\"\",\"\",PLANTS!F222)","v":"y"},"",0,null,25,"",null,0,{"$f":"IF(DE224=\"A\",PLANTS!H222,DE224)","v":"E"},20,null,"","","","",null,null,null,"","",null,null,null,null,null,null,{"$error":"#DIV/0!"},null,"",null," ","",null,"","","",0,"","","","",null,"","","GALIU",{"$f":"IF(DC224=\"a\",PLANTS!I222,DMA!DC224)","v":2},{"$f":"IF(DD224=\"a\",PLANTS!G222,DMA!DD224)","v":25},null,null,null,null,null,null,null,null,null,{"$f":"PLANTS!I222","v":2},{"$f":"PLANTS!G222","v":25},{"$f":"PLANTS!H222","v":"E"},null,null,null,null,"",{"$f":"IF(DMA!DJ224=\"\",\"\",(DMA!N224-SUMIF(Graphs!$O$13:$O$199,DMA!$DJ224,Graphs!$V$13:$V$199))^2)","v":""},{"$f":"IF(DMA!DK224=\"\",\"\",(DMA!O224-SUMIF(Graphs!$O$13:$O$199,DMA!$DJ224,Graphs!$V$13:$V$199))^2)","v":""},{"$f":"IF(DMA!DL224=\"\",\"\",(DMA!P224-SUMIF(Graphs!$O$13:$O$199,DMA!$DJ224,Graphs!$V$13:$V$199))^2)","v":""},"",0,"",0,null,null,null,null,null,22.4]
[null,null,null,null,null,null,null,null,null,null,null,null,null,null,null,null,null,null,null,{"$f":"IF(A225=\"\",\"\",(Header!C$7*Header!C$6)*A225)","v":""},"","","","","",null,null,null,null,null,null,null,null,null,null,null,null,null,null,null,{"$f":"IF(PLANTS!A223=\"\",\"\",PLANTS!A223)","v":"GATR2"},2,"",0,{"$f":"IF(PLANTS!C223=\"\",\"\",PLANTS!C223)","v":""},"",{"$f":"IF(PLANTS!D223=\"\",\"\",PLANTS!D223)","v":"y"},"",{"$f":"IF(PLANTS!E223=\"\",\"\",PLANTS!E223)","v":"y"},"",{"$f":"IF(PLANTS!F223=\"\",\"\",PLANTS!F223)","v":"y"},"",0,null,75,"",null,0,{"$f":"IF(DE225=\"A\",PLANTS!H223,DE225)","v":"E"},20,null,"","","","",null,null,null,"","",null,null,null,null,null,null,{"$error":"#DIV/0!"},null,"",null," ","",null,"","","",0,0,"",0,"",null,"","","GATR2",{"$f":"IF(DC225=\"a\",PLANTS!I223,DMA!DC225)","v":2},{"$f":"IF(DD225=\"a\",PLANTS!G223,DMA!DD225)","v":75},null,null,null,null,null,null,null,null,null,{"$f":"PLANTS!I223","v":2},{"$f":"PLANTS!G223","v":75},{"$f":"PLANTS!H223","v":"E"},null,null,null,null,"",{"$f":"IF(DMA!DJ225=\"\",\"\",(DMA!N225-SUMIF(Graphs!$O$13:$O$199,DMA!$DJ225,Graphs!$V$13:$V$199))^2)","v":""},{"$f":"IF(DMA!DK225=\"\",\"\",(DMA!O225-SUMIF(Graphs!$O$13:$O$199,DMA!$DJ225,Graphs!$V$13:$V$199))^2)","v":""},{"$f":"IF(DMA!DL225=\"\",\"\",(DMA!P225-SUMIF(Graphs!$O$13:$O$199,DMA!$DJ225,Graphs!$V$13:$V$199))^2)","v":""},"",0,"",0,null,null,null,null,null,22.5]
[null,null,null,null,null,null,null,null,null,null,null,null,null,null,null,null,null,null,null,{"$f":"IF(A226=\"\",\"\",(Header!C$7*Header!C$6)*A226)","v":""},"","","","","",null,null,null,null,null,null,null,null,null,null,null,null,null,null,null,{"$f":"IF(PLANTS!A224=\"\",\"\",PLANTS!A224)","v":"GEMA4"},2,"",0,{"$f":"IF(PLANTS!C224=\"\",\"\",PLANTS!C224)","v":""},"",{"$f":"IF(PLANTS!D224=\"\",\"\",PLANTS!D224)","v":"y"},"",{"$f":"IF(PLANTS!E224=\"\",\"\",PLANTS!E224)","v":"y"},"",{"$f":"IF(PLANTS!F224=\"\",\"\",PLANTS!F224)","v":"y"},"",0,null,75,"",null,0,{"$f":"IF(DE226=\"A\",PLANTS!H224,DE226)","v":"E"},20,null,"","","","",null,null,null,"","",null,null,null,null,null,null,{"$error":"#DIV/0!"},null,"",null," ","",null,"","","",0,0,"",0,"",null,"","","GEMA4",{"$f":"IF(DC226=\"a\",PLANTS!I224,DMA!DC226)","v":2},{"$f":"IF(DD226=\"a\",PLANTS!G224,DMA!DD226)","v":75},null,null,null,null,null,null,null,null,null,{"$f":"PLANTS!I224","v":2},{"$f":"PLANTS!G224","v":75},{"$f":"PLANTS!H224","v":"E"},null,null,null,null,"",{"$f":"IF(DMA!DJ226=\"\",\"\",(DMA!N226-SUMIF(Graphs!$O$13:$O$199,DMA!$DJ226,Graphs!$V$13:$V$199))^2)","v":""},{"$f":"IF(DMA!DK226=\"\",\"\",(DMA!O226-SUMIF(Graphs!$O$13:$O$199,DMA!$DJ226,Graphs!$V$13:$V$199))^2)","v":""},{"$f":"IF(DMA!DL226=\"\",\"\",(DMA!P226-SUMIF(Graphs!$O$13:$O$199,DMA!$DJ226,Graphs!$V$13:$V$199))^2)","v":""},"",0,"",0,null,null,null,null,null,22.6]
[null,null,null,null,null,null,null,null,null,null,null,null,null,null,null,null,null,null,null,{"$f":"IF(A227=\"\",\"\",(Header!C$7*Header!C$6)*A227)","v":""},"","","","","",null,null,null,null,null,null,null,null,null,null,null,null,null,null,null,{"$f":"IF(PLANTS!A225=\"\",\"\",PLANTS!A225)","v":"GERI"},5,"",0,{"$f":"IF(PLANTS!C225=\"\",\"\",PLANTS!C225)","v":""},"",{"$f":"IF(PLANTS!D225=\"\",\"\",PLANTS!D225)","v":""},"",{"$f":"IF(PLANTS!E225=\"\",\"\",PLANTS!E225)","v":"y"},"",{"$f":"IF(PLANTS!F225=\"\",\"\",PLANTS!F225)","v":"y"},"",0,null,25,"",null,0,{"$f":"IF(DE227=\"A\",PLANTS!H225,DE227)","v":"M"},50,null,"","","","",null,null,null,"","",null,null,null,null,null,null,{"$error":"#DIV/0!"},null,"",null," ","",null,"","","",0,"","","","",null,"","","GERI",{"$f":"IF(DC227=\"a\",PLANTS!I225,DMA!DC227)","v":5},{"$f":"IF(DD227=\"a\",PLANTS!G225,DMA!DD227)","v":25},null,null,null,null,null,null,null,null,null,{"$f":"PLANTS!I225","v":5},{"$f":"PLANTS!G225","v":25},{"$f":"PLANTS!H225","v":"M"},null,null,null,null,"",{"$f":"IF(DMA!DJ227=\"\",\"\",(DMA!N227-SUMIF(Graphs!$O$13:$O$199,DMA!$DJ227,Graphs!$V$13:$V$199))^2)","v":""},{"$f":"IF(DMA!DK227=\"\",\"\",(DMA!O227-SUMIF(Graphs!$O$13:$O$199,DMA!$DJ227,Graphs!$V$13:$V$199))^2)","v":""},{"$f":"IF(DMA!DL227=\"\",\"\",(DMA!P227-SUMIF(Graphs!$O$13:$O$199,DMA!$DJ227,Graphs!$V$13:$V$199))^2)","v":""},"",0,"",0,null,null,null,null,null,22.7]
[null,null,null,null,null,null,null,null,null,null,null,null,null,null,null,null,null,null,null,{"$f":"IF(A228=\"\",\"\",(Header!C$7*Header!C$6)*A228)","v":""},"","","","","",null,null,null,null,null,null,null,null,null,null,null,null,null,null,null,{"$f":"IF(PLANTS!A226=\"\",\"\",PLANTS!A226)","v":"GETR"},2,"",0,{"$f":"IF(PLANTS!C226=\"\",\"\",PLANTS!C226)","v":""},"",{"$f":"IF(PLANTS!D226=\"\",\"\",PLANTS!D226)","v":""},"",{"$f":"IF(PLANTS!E226=\"\",\"\",PLANTS!E226)","v":"y"},"",{"$f":"IF(PLANTS!F226=\"\",\"\",PLANTS!F226)","v":"y"},"",0,null,25,"",null,0,{"$f":"IF(DE228=\"A\",PLANTS!H226,DE228)","v":"E"},20,null,"","","","",null,null,null,"","",null,null,null,null,null,null,{"$error":"#DIV/0!"},null,"",null," ","",null,"","","",0,"","","","",null,"","","GETR",{"$f":"IF(DC228=\"a\",PLANTS!I226,DMA!DC228)","v":2},{"$f":"IF(DD228=\"a\",PLANTS!G226,DMA!DD228)","v":25},null,null,null,null,null,null,null,null,null,{"$f":"PLANTS!I226","v":2},{"$f":"PLANTS!G226","v":25},{"$f":"PLANTS!H226","v":"E"},null,null,null,null,"",{"$f":"IF(DMA!DJ228=\"\",\"\",(DMA!N228-SUMIF(Graphs!$O$13:$O$199,DMA!$DJ228,Graphs!$V$13:$V$199))^2)","v":""},{"$f":"IF(DMA!DK228=\"\",\"\",(DMA!O228-SUMIF(Graphs!$O$13:$O$199,DMA!$DJ228,Graphs!$V$13:$V$199))^2)","v":""},{"$f":"IF(DMA!DL228=\"\",\"\",(DMA!P228-SUMIF(Graphs!$O$13:$O$199,DMA!$DJ228,Graphs!$V$13:$V$199))^2)","v":""},"",0,"",0,null,null,null,null,null,22.8]
[null,null,null,null,null,null,null,null,null,null,null,null,null,null,null,null,null,null,null,{"$f":"IF(A229=\"\",\"\",(Header!C$7*Header!C$6)*A229)","v":""},"","","","","",null,null,null,null,null,null,null,null,null,null,null,null,null,null,null,{"$f":"IF(PLANTS!A227=\"\",\"\",PLANTS!A227)","v":"GEUM"},5,"",0,{"$f":"IF(PLANTS!C227=\"\",\"\",PLANTS!C227)","v":""},"",{"$f":"IF(PLANTS!D227=\"\",\"\",PLANTS!D227)","v":""},"",{"$f":"IF(PLANTS!E227=\"\",\"\",PLANTS!E227)","v":"y"},"",{"$f":"IF(PLANTS!F227=\"\",\"\",PLANTS!F227)","v":"y"},"",0,null,50,"",null,0,{"$f":"IF(DE229=\"A\",PLANTS!H227,DE229)","v":"M"},50,null,"","","","",null,null,null,"","",null,null,null,null,null,null,{"$error":"#DIV/0!"},null,"",null," ","",null,"","","",0,"","","","",null,"","","GEUM",{"$f":"IF(DC229=\"a\",PLANTS!I227,DMA!DC229)","v":5},{"$f":"IF(DD229=\"a\",PLANTS!G227,DMA!DD229)","v":50},null,null,null,null,null,null,null,null,null,{"$f":"PLANTS!I227","v":5},{"$f":"PLANTS!G227","v":50},{"$f":"PLANTS!H227","v":"M"},null,null,null,null,"",{"$f":"IF(DMA!DJ229=\"\",\"\",(DMA!N229-SUMIF(Graphs!$O$13:$O$199,DMA!$DJ229,Graphs!$V$13:$V$199))^2)","v":""},{"$f":"IF(DMA!DK229=\"\",\"\",(DMA!O229-SUMIF(Graphs!$O$13:$O$199,DMA!$DJ229,Graphs!$V$13:$V$199))^2)","v":""},{"$f":"IF(DMA!DL229=\"\",\"\",(DMA!P229-SUMIF(Graphs!$O$13:$O$199,DMA!$DJ229,Graphs!$V$13:$V$199))^2)","v":""},"",0,"",0,null,null,null,null,null,22.9]
[null,null,null,null,null,null,null,null,null,null,null,null,null,null,null,null,null,null,null,{"$f":"IF(A230=\"\",\"\",(Header!C$7*Header!C$6)*A230)","v":""},"","","","","",null,null,null,null,null,null,null,null,null,null,null,null,null,null,null,{"$f":"IF(PLANTS!A228=\"\",\"\",PLANTS!A228)","v":"GEVI2"},5,"",0,{"$f":"IF(PLANTS!C228=\"\",\"\",PLANTS!C228)","v":""},"",{"$f":"IF(PLANTS!D228=\"\",\"\",PLANTS!D228)","v":""},"",{"$f":"IF(PLANTS!E228=\"\",\"\",PLANTS!E228)","v":"y"},"",{"$f":"IF(PLANTS!F228=\"\",\"\",PLANTS!F228)","v":"y"},"",0,null,50,"",null,0,{"$f":"IF(DE230=\"A\",PLANTS!H228,DE230)","v":"E"},20,null,"","","","",null,null,null,"","",null,null,null,null,null,null,{"$error":"#DIV/0!"},null,"",null," ","",null,"","","",0,"","","","",null,"","","GEVI2",{"$f":"IF(DC230=\"a\",PLANTS!I228,DMA!DC230)","v":5},{"$f":"IF(DD230=\"a\",PLANTS!G228,DMA!DD230)","v":50},null,null,null,null,null,null,null,null,null,{"$f":"PLANTS!I228","v":5},{"$f":"PLANTS!G228","v":50},{"$f":"PLANTS!H228","v":"E"},null,null,null,null,"",{"$f":"IF(DMA!DJ230=\"\",\"\",(DMA!N230-SUMIF(Graphs!$O$13:$O$199,DMA!$DJ230,Graphs!$V$13:$V$199))^2)","v":""},{"$f":"IF(DMA!DK230=\"\",\"\",(DMA!O230-SUMIF(Graphs!$O$13:$O$199,DMA!$DJ230,Graphs!$V$13:$V$199))^2)","v":""},{"$f":"IF(DMA!DL230=\"\",\"\",(DMA!P230-SUMIF(Graphs!$O$13:$O$199,DMA!$DJ230,Graphs!$V$13:$V$199))^2)","v":""},"",0,"",0,null,null,null,null,null,23]
[null,null,null,null,null,null,null,null,null,null,null,null,null,null,null,null,null,null,null,{"$f":"IF(A231=\"\",\"\",(Header!C$7*Header!C$6)*A231)","v":""},"","","","","",null,null,null,null,null,null,null,null,null,null,null,null,null,null,null,{"$f":"IF(PLANTS!A229=\"\",\"\",PLANTS!A229)","v":"GLBO"},5,"",0,{"$f":"IF(PLANTS!C229=\"\",\"\",PLANTS!C229)","v":""},"",{"$f":"IF(PLANTS!D229=\"\",\"\",PLANTS!D229)","v":"y"},"",{"$f":"IF(PLANTS!E229=\"\",\"\",PLANTS!E229)","v":"y"},"",{"$f":"IF(PLANTS!F229=\"\",\"\",PLANTS!F229)","v":""},"",0,null,100,"",null,0,{"$f":"IF(DE231=\"A\",PLANTS!H229,DE231)","v":"L"},80,null,"","","","",null,null,null,"","",null,null,null,null,null,null,{"$error":"#DIV/0!"},null,"",null," ","",null,"","","","",0,"",0,"",null,"","","GLBO",{"$f":"IF(DC231=\"a\",PLANTS!I229,DMA!DC231)","v":5},{"$f":"IF(DD231=\"a\",PLANTS!G229,DMA!DD231)","v":100},null,null,null,null,null,null,null,null,null,{"$f":"PLANTS!I229","v":5},{"$f":"PLANTS!G229","v":100},{"$f":"PLANTS!H229","v":"L"},null,null,null,null,"",{"$f":"IF(DMA!DJ231=\"\",\"\",(DMA!N231-SUMIF(Graphs!$O$13:$O$199,DMA!$DJ231,Graphs!$V$13:$V$199))^2)","v":""},{"$f":"IF(DMA!DK231=\"\",\"\",(DMA!O231-SUMIF(Graphs!$O$13:$O$199,DMA!$DJ231,Graphs!$V$13:$V$199))^2)","v":""},{"$f":"IF(DMA!DL231=\"\",\"\",(DMA!P231-SUMIF(Graphs!$O$13:$O$199,DMA!$DJ231,Graphs!$V$13:$V$199))^2)","v":""},"",0,"",0,null,null,null,null,null,23.1]
[null,null,null,null,null,null,null,null,null,null,null,null,null,null,null,null,null,null,null,{"$f":"IF(A232=\"\",\"\",(Header!C$7*Header!C$6)*A232)","v":""},"","","","","",null,null,null,null,null,null,null,null,null,null,null,null,null,null,null,{"$f":"IF(PLANTS!A230=\"\",\"\",PLANTS!A230)","v":"GLGR"},8.5,"",0,{"$f":"IF(PLANTS!C230=\"\",\"\",PLANTS!C230)","v":""},"",{"$f":"IF(PLANTS!D230=\"\",\"\",PLANTS!D230)","v":"y"},"",{"$f":"IF(PLANTS!E230=\"\",\"\",PLANTS!E230)","v":"y"},"",{"$f":"IF(PLANTS!F230=\"\",\"\",PLANTS!F230)","v":""},"",0,null,100,"",null,0,{"$f":"IF(DE232=\"A\",PLANTS!H230,DE232)","v":"L"},80,null,"","","","",null,null,null,"","",null,null,null,null,null,null,{"$error":"#DIV/0!"},null,"",null," ","",null,"","","","",0,"",0,"",null,"","","GLGR",{"$f":"IF(DC232=\"a\",PLANTS!I230,DMA!DC232)","v":8.5},{"$f":"IF(DD232=\"a\",PLANTS!G230,DMA!DD232)","v":100},null,null,null,null,null,null,null,null,null,{"$f":"PLANTS!I230","v":8.5},{"$f":"PLANTS!G230","v":100},{"$f":"PLANTS!H230","v":"L"},null,null,null,null,"",{"$f":"IF(DMA!DJ232=\"\",\"\",(DMA!N232-SUMIF(Graphs!$O$13:$O$199,DMA!$DJ232,Graphs!$V$13:$V$199))^2)","v":""},{"$f":"IF(DMA!DK232=\"\",\"\",(DMA!O232-SUMIF(Graphs!$O$13:$O$199,DMA!$DJ232,Graphs!$V$13:$V$199))^2)","v":""},{"$f":"IF(DMA!DL232=\"\",\"\",(DMA!P232-SUMIF(Graphs!$O$13:$O$199,DMA!$DJ232,Graphs!$V$13:$V$199))^2)","v":""},"",0,"",0,null,null,null,null,null,23.2]
[null,null,null,null,null,null,null,null,null,null,null,null,null,null,null,null,null,null,null,{"$f":"IF(A233=\"\",\"\",(Header!C$7*Header!C$6)*A233)","v":""},"","","","","",null,null,null,null,null,null,null,null,null,null,null,null,null,null,null,{"$f":"IF(PLANTS!A231=\"\",\"\",PLANTS!A231)","v":"GLLE3"},5,"",0,{"$f":"IF(PLANTS!C231=\"\",\"\",PLANTS!C231)","v":""},"",{"$f":"IF(PLANTS!D231=\"\",\"\",PLANTS!D231)","v":""},"",{"$f":"IF(PLANTS!E231=\"\",\"\",PLANTS!E231)","v":"y"},"",{"$f":"IF(PLANTS!F231=\"\",\"\",PLANTS!F231)","v":"y"},"",0,null,50,"",null,0,{"$f":"IF(DE233=\"A\",PLANTS!H231,DE233)","v":"E"},20,null,"","","","",null,null,null,"","",null,null,null,null,null,null,{"$error":"#DIV/0!"},null,"",null," ","",null,"","","",0,"","","","",null,"","","GLLE3",{"$f":"IF(DC233=\"a\",PLANTS!I231,DMA!DC233)","v":5},{"$f":"IF(DD233=\"a\",PLANTS!G231,DMA!DD233)","v":50},null,null,null,null,null,null,null,null,null,{"$f":"PLANTS!I231","v":5},{"$f":"PLANTS!G231","v":50},{"$f":"PLANTS!H231","v":"E"},null,null,null,null,"",{"$f":"IF(DMA!DJ233=\"\",\"\",(DMA!N233-SUMIF(Graphs!$O$13:$O$199,DMA!$DJ233,Graphs!$V$13:$V$199))^2)","v":""},{"$f":"IF(DMA!DK233=\"\",\"\",(DMA!O233-SUMIF(Graphs!$O$13:$O$199,DMA!$DJ233,Graphs!$V$13:$V$199))^2)","v":""},{"$f":"IF(DMA!DL233=\"\",\"\",(DMA!P233-SUMIF(Graphs!$O$13:$O$199,DMA!$DJ233,Graphs!$V$13:$V$199))^2)","v":""},"",0,"",0,null,null,null,null,null,23.3]
[null,null,null,null,null,null,null,null,null,null,null,null,null,null,null,null,null,null,null,{"$f":"IF(A234=\"\",\"\",(Header!C$7*Header!C$6)*A234)","v":""},"","","","","",null,null,null,null,null,null,null,null,null,null,null,null,null,null,null,{"$f":"IF(PLANTS!A232=\"\",\"\",PLANTS!A232)","v":"GLMA"},2,"",0,{"$f":"IF(PLANTS!C232=\"\",\"\",PLANTS!C232)","v":""},"",{"$f":"IF(PLANTS!D232=\"\",\"\",PLANTS!D232)","v":"y"},"",{"$f":"IF(PLANTS!E232=\"\",\"\",PLANTS!E232)","v":"y"},"",{"$f":"IF(PLANTS!F232=\"\",\"\",PLANTS!F232)","v":"y"},"",0,null,75,"",null,0,{"$f":"IF(DE234=\"A\",PLANTS!H232,DE234)","v":"L"},80,null,"","","","",null,null,null,"","",null,null,null,null,null,null,{"$error":"#DIV/0!"},null,"",null," ","",null,"","","",0,0,"",0,"",null,"","","GLMA",{"$f":"IF(DC234=\"a\",PLANTS!I232,DMA!DC234)","v":2},{"$f":"IF(DD234=\"a\",PLANTS!G232,DMA!DD234)","v":75},null,null,null,null,null,null,null,null,null,{"$f":"PLANTS!I232","v":2},{"$f":"PLANTS!G232","v":75},{"$f":"PLANTS!H232","v":"L"},null,null,null,null,"",{"$f":"IF(DMA!DJ234=\"\",\"\",(DMA!N234-SUMIF(Graphs!$O$13:$O$199,DMA!$DJ234,Graphs!$V$13:$V$199))^2)","v":""},{"$f":"IF(DMA!DK234=\"\",\"\",(DMA!O234-SUMIF(Graphs!$O$13:$O$199,DMA!$DJ234,Graphs!$V$13:$V$199))^2)","v":""},{"$f":"IF(DMA!DL234=\"\",\"\",(DMA!P234-SUMIF(Graphs!$O$13:$O$199,DMA!$DJ234,Graphs!$V$13:$V$199))^2)","v":""},"",0,"",0,null,null,null,null,null,23.4]
[null,null,null,null,null,null,null,null,null,null,null,null,null,null,null,null,null,null,null,{"$f":"IF(A235=\"\",\"\",(Header!C$7*Header!C$6)*A235)","v":""},"","","","","",null,null,null,null,null,null,null,null,null,null,null,null,null,null,null,{"$f":"IF(PLANTS!A233=\"\",\"\",PLANTS!A233)","v":"GLST"},5,"",0,{"$f":"IF(PLANTS!C233=\"\",\"\",PLANTS!C233)","v":""},"",{"$f":"IF(PLANTS!D233=\"\",\"\",PLANTS!D233)","v":"y"},"",{"$f":"IF(PLANTS!E233=\"\",\"\",PLANTS!E233)","v":"y"},"",{"$f":"IF(PLANTS!F233=\"\",\"\",PLANTS!F233)","v":""},"",0,null,100,"",null,0,{"$f":"IF(DE235=\"A\",PLANTS!H233,DE235)","v":"L"},80,null,"","","","",null,null,null,"","",null,null,null,null,null,null,{"$error":"#DIV/0!"},null,"",null," ","",null,"","","","",0,"",0,"",null,"","","GLST",{"$f":"IF(DC235=\"a\",PLANTS!I233,DMA!DC235)","v":5},{"$f":"IF(DD235=\"a\",PLANTS!G233,DMA!DD235)","v":100},null,null,null,null,null,null,null,null,null,{"$f":"PLANTS!I233","v":5},{"$f":"PLANTS!G233","v":100},{"$f":"PLANTS!H233","v":"L"},null,null,null,null,"",{"$f":"IF(DMA!DJ235=\"\",\"\",(DMA!N235-SUMIF(Graphs!$O$13:$O$199,DMA!$DJ235,Graphs!$V$13:$V$199))^2)","v":""},{"$f":"IF(DMA!DK235=\"\",\"\",(DMA!O235-SUMIF(Graphs!$O$13:$O$199,DMA!$DJ235,Graphs!$V$13:$V$199))^2)","v":""},{"$f":"IF(DMA!DL235=\"\",\"\",(DMA!P235-SUMIF(Graphs!$O$13:$O$199,DMA!$DJ235,Graphs!$V$13:$V$199))^2)","v":""},"",0,"",0,null,null,null,null,null,23.5]
[null,null,null,null,null,null,null,null,null,null,null,null,null,null,null,null,null,null,null,{"$f":"IF(A236=\"\",\"\",(Header!C$7*Header!C$6)*A236)","v":""},"","","","","",null,null,null,null,null,null,null,null,null,null,null,null,null,null,null,{"$f":"IF(PLANTS!A234=\"\",\"\",PLANTS!A234)","v":"GLYCE"},5,"",0,{"$f":"IF(PLANTS!C234=\"\",\"\",PLANTS!C234)","v":""},"",{"$f":"IF(PLANTS!D234=\"\",\"\",PLANTS!D234)","v":"y"},"",{"$f":"IF(PLANTS!E234=\"\",\"\",PLANTS!E234)","v":"y"},"",{"$f":"IF(PLANTS!F234=\"\",\"\",PLANTS!F234)","v":""},"",0,null,100,"",null,0,{"$f":"IF(DE236=\"A\",PLANTS!H234,DE236)","v":"L"},80,null,"","","","",null,null,null,"","",null,null,null,null,null,null,{"$error":"#DIV/0!"},null,"",null," ","",null,"","","","",0,"",0,"",null,"","","GLYCE",{"$f":"IF(DC236=\"a\",PLANTS!I234,DMA!DC236)","v":5},{"$f":"IF(DD236=\"a\",PLANTS!G234,DMA!DD236)","v":100},null,null,null,null,null,null,null,null,null,{"$f":"PLANTS!I234","v":5},{"$f":"PLANTS!G234","v":100},{"$f":"PLANTS!H234","v":"L"},null,null,null,null,"",{"$f":"IF(DMA!DJ236=\"\",\"\",(DMA!N236-SUMIF(Graphs!$O$13:$O$199,DMA!$DJ236,Graphs!$V$13:$V$199))^2)","v":""},{"$f":"IF(DMA!DK236=\"\",\"\",(DMA!O236-SUMIF(Graphs!$O$13:$O$199,DMA!$DJ236,Graphs!$V$13:$V$199))^2)","v":""},{"$f":"IF(DMA!DL236=\"\",\"\",(DMA!P236-SUMIF(Graphs!$O$13:$O$199,DMA!$DJ236,Graphs!$V$13:$V$199))^2)","v":""},"",0,"",0,null,null,null,null,null,23.6]
[null,null,null,null,null,null,null,null,null,null,null,null,null,null,null,null,null,null,null,{"$f":"IF(A237=\"\",\"\",(Header!C$7*Header!C$6)*A237)","v":""},"","","","","",null,null,null,null,null,null,null,null,null,null,null,null,null,null,null,{"$f":"IF(PLANTS!A235=\"\",\"\",PLANTS!A235)","v":"GRSQ"},2,"",0,{"$f":"IF(PLANTS!C235=\"\",\"\",PLANTS!C235)","v":""},"",{"$f":"IF(PLANTS!D235=\"\",\"\",PLANTS!D235)","v":""},"",{"$f":"IF(PLANTS!E235=\"\",\"\",PLANTS!E235)","v":"y"},"",{"$f":"IF(PLANTS!F235=\"\",\"\",PLANTS!F235)","v":"y"},"",0,null,25,"",null,0,{"$f":"IF(DE237=\"A\",PLANTS!H235,DE237)","v":"E"},20,null,"","","","",null,null,null,"","",null,null,null,null,null,null,{"$error":"#DIV/0!"},null,"",null," ","",null,"","","",0,"","","","",null,"","","GRSQ",{"$f":"IF(DC237=\"a\",PLANTS!I235,DMA!DC237)","v":2},{"$f":"IF(DD237=\"a\",PLANTS!G235,DMA!DD237)","v":25},null,null,null,null,null,null,null,null,null,{"$f":"PLANTS!I235","v":2},{"$f":"PLANTS!G235","v":25},{"$f":"PLANTS!H235","v":"E"},null,null,null,null,"",{"$f":"IF(DMA!DJ237=\"\",\"\",(DMA!N237-SUMIF(Graphs!$O$13:$O$199,DMA!$DJ237,Graphs!$V$13:$V$199))^2)","v":""},{"$f":"IF(DMA!DK237=\"\",\"\",(DMA!O237-SUMIF(Graphs!$O$13:$O$199,DMA!$DJ237,Graphs!$V$13:$V$199))^2)","v":""},{"$f":"IF(DMA!DL237=\"\",\"\",(DMA!P237-SUMIF(Graphs!$O$13:$O$199,DMA!$DJ237,Graphs!$V$13:$V$199))^2)","v":""},"",0,"",0,null,null,null,null,null,23.7]
[null,null,null,null,null,null,null,null,null,null,null,null,null,null,null,null,null,null,null,{"$f":"IF(A238=\"\",\"\",(Header!C$7*Header!C$6)*A238)","v":""},"","","","","",null,null,null,null,null,null,null,null,null,null,null,null,null,null,null,{"$f":"IF(PLANTS!A236=\"\",\"\",PLANTS!A236)","v":"HAFL2"},2,"",0,{"$f":"IF(PLANTS!C236=\"\",\"\",PLANTS!C236)","v":""},"",{"$f":"IF(PLANTS!D236=\"\",\"\",PLANTS!D236)","v":""},"",{"$f":"IF(PLANTS!E236=\"\",\"\",PLANTS!E236)","v":"y"},"",{"$f":"IF(PLANTS!F236=\"\",\"\",PLANTS!F236)","v":"y"},"",0,null,25,"",null,0,{"$f":"IF(DE238=\"A\",PLANTS!H236,DE238)","v":"E"},20,null,"","","","",null,null,null,"","",null,null,null,null,null,null,{"$error":"#DIV/0!"},null,"",null," ","",null,"","","",0,"","","","",null,"","","HAFL2",{"$f":"IF(DC238=\"a\",PLANTS!I236,DMA!DC238)","v":2},{"$f":"IF(DD238=\"a\",PLANTS!G236,DMA!DD238)","v":25},null,null,null,null,null,null,null,null,null,{"$f":"PLANTS!I236","v":2},{"$f":"PLANTS!G236","v":25},{"$f":"PLANTS!H236","v":"E"},null,null,null,null,"",{"$f":"IF(DMA!DJ238=\"\",\"\",(DMA!N238-SUMIF(Graphs!$O$13:$O$199,DMA!$DJ238,Graphs!$V$13:$V$199))^2)","v":""},{"$f":"IF(DMA!DK238=\"\",\"\",(DMA!O238-SUMIF(Graphs!$O$13:$O$199,DMA!$DJ238,Graphs!$V$13:$V$199))^2)","v":""},{"$f":"IF(DMA!DL238=\"\",\"\",(DMA!P238-SUMIF(Graphs!$O$13:$O$199,DMA!$DJ238,Graphs!$V$13:$V$199))^2)","v":""},"",0,"",0,null,null,null,null,null,23.8]
[null,null,null,null,null,null,null,null,null,null,null,null,null,null,null,null,null,null,null,{"$f":"IF(A239=\"\",\"\",(Header!C$7*Header!C$6)*A239)","v":""},"","","","","",null,null,null,null,null,null,null,null,null,null,null,null,null,null,null,{"$f":"IF(PLANTS!A237=\"\",\"\",PLANTS!A237)","v":"HECU3"},2,"",0,{"$f":"IF(PLANTS!C237=\"\",\"\",PLANTS!C237)","v":""},"",{"$f":"IF(PLANTS!D237=\"\",\"\",PLANTS!D237)","v":""},"",{"$f":"IF(PLANTS!E237=\"\",\"\",PLANTS!E237)","v":"y"},"",{"$f":"IF(PLANTS!F237=\"\",\"\",PLANTS!F237)","v":"y"},"",0,null,25,"",null,0,{"$f":"IF(DE239=\"A\",PLANTS!H237,DE239)","v":"E"},20,null,"","","","",null,null,null,"","",null,null,null,null,null,null,{"$error":"#DIV/0!"},null,"",null," ","",null,"","","",0,"","","","",null,"","","HECU3",{"$f":"IF(DC239=\"a\",PLANTS!I237,DMA!DC239)","v":2},{"$f":"IF(DD239=\"a\",PLANTS!G237,DMA!DD239)","v":25},null,null,null,null,null,null,null,null,null,{"$f":"PLANTS!I237","v":2},{"$f":"PLANTS!G237","v":25},{"$f":"PLANTS!H237","v":"E"},null,null,null,null,"",{"$f":"IF(DMA!DJ239=\"\",\"\",(DMA!N239-SUMIF(Graphs!$O$13:$O$199,DMA!$DJ239,Graphs!$V$13:$V$199))^2)","v":""},{"$f":"IF(DMA!DK239=\"\",\"\",(DMA!O239-SUMIF(Graphs!$O$13:$O$199,DMA!$DJ239,Graphs!$V$13:$V$199))^2)","v":""},{"$f":"IF(DMA!DL239=\"\",\"\",(DMA!P239-SUMIF(Graphs!$O$13:$O$199,DMA!$DJ239,Graphs!$V$13:$V$199))^2)","v":""},"",0,"",0,null,null,null,null,null,23.9]
[null,null,null,null,null,null,null,null,null,null,null,null,null,null,null,null,null,null,null,{"$f":"IF(A240=\"\",\"\",(Header!C$7*Header!C$6)*A240)","v":""},"","","","","",null,null,null,null,null,null,null,null,null,null,null,null,null,null,null,{"$f":"IF(PLANTS!A238=\"\",\"\",PLANTS!A238)","v":"HEHO5"},2,"",0,{"$f":"IF(PLANTS!C238=\"\",\"\",PLANTS!C238)","v":""},"",{"$f":"IF(PLANTS!D238=\"\",\"\",PLANTS!D238)","v":""},"",{"$f":"IF(PLANTS!E238=\"\",\"\",PLANTS!E238)","v":"y"},"",{"$f":"IF(PLANTS!F238=\"\",\"\",PLANTS!F238)","v":"y"},"",0,null,50,"",null,0,{"$f":"IF(DE240=\"A\",PLANTS!H238,DE240)","v":"E"},20,null,"","","","",null,null,null,"","",null,null,null,null,null,null,{"$error":"#DIV/0!"},null,"",null," ","",null,"","","",0,"","","","",null,"","","HEHO5",{"$f":"IF(DC240=\"a\",PLANTS!I238,DMA!DC240)","v":2},{"$f":"IF(DD240=\"a\",PLANTS!G238,DMA!DD240)","v":50},null,null,null,null,null,null,null,null,null,{"$f":"PLANTS!I238","v":2},{"$f":"PLANTS!G238","v":50},{"$f":"PLANTS!H238","v":"E"},null,null,null,null,"",{"$f":"IF(DMA!DJ240=\"\",\"\",(DMA!N240-SUMIF(Graphs!$O$13:$O$199,DMA!$DJ240,Graphs!$V$13:$V$199))^2)","v":""},{"$f":"IF(DMA!DK240=\"\",\"\",(DMA!O240-SUMIF(Graphs!$O$13:$O$199,DMA!$DJ240,Graphs!$V$13:$V$199))^2)","v":""},{"$f":"IF(DMA!DL240=\"\",\"\",(DMA!P240-SUMIF(Graphs!$O$13:$O$199,DMA!$DJ240,Graphs!$V$13:$V$199))^2)","v":""},"",0,"",0,null,null,null,null,null,24]
[null,null,null,null,null,null,null,null,null,null,null,null,null,null,null,null,null,null,null,{"$f":"IF(A241=\"\",\"\",(Header!C$7*Header!C$6)*A241)","v":""},"","","","","",null,null,null,null,null,null,null,null,null,null,null,null,null,null,null,{"$f":"IF(PLANTS!A239=\"\",\"\",PLANTS!A239)","v":"HELA4"},5,"",0,{"$f":"IF(PLANTS!C239=\"\",\"\",PLANTS!C239)","v":""},"",{"$f":"IF(PLANTS!D239=\"\",\"\",PLANTS!D239)","v":"y"},"",{"$f":"IF(PLANTS!E239=\"\",\"\",PLANTS!E239)","v":"y"},"",{"$f":"IF(PLANTS!F239=\"\",\"\",PLANTS!F239)","v":"y"},"",0,null,75,"",null,0,{"$f":"IF(DE241=\"A\",PLANTS!H239,DE241)","v":"M"},50,null,"","","","",null,null,null,"","",null,null,null,null,null,null,{"$error":"#DIV/0!"},null,"",null," ","",null,"","","",0,0,"",0,"",null,"","","HELA4",{"$f":"IF(DC241=\"a\",PLANTS!I239,DMA!DC241)","v":5},{"$f":"IF(DD241=\"a\",PLANTS!G239,DMA!DD241)","v":75},null,null,null,null,null,null,null,null,null,{"$f":"PLANTS!I239","v":5},{"$f":"PLANTS!G239","v":75},{"$f":"PLANTS!H239","v":"M"},null,null,null,null,"",{"$f":"IF(DMA!DJ241=\"\",\"\",(DMA!N241-SUMIF(Graphs!$O$13:$O$199,DMA!$DJ241,Graphs!$V$13:$V$199))^2)","v":""},{"$f":"IF(DMA!DK241=\"\",\"\",(DMA!O241-SUMIF(Graphs!$O$13:$O$199,DMA!$DJ241,Graphs!$V$13:$V$199))^2)","v":""},{"$f":"IF(DMA!DL241=\"\",\"\",(DMA!P241-SUMIF(Graphs!$O$13:$O$199,DMA!$DJ241,Graphs!$V$13:$V$199))^2)","v":""},"",0,"",0,null,null,null,null,null,24.1]
[null,null,null,null,null,null,null,null,null,null,null,null,null,null,null,null,null,null,null,{"$f":"IF(A242=\"\",\"\",(Header!C$7*Header!C$6)*A242)","v":""},"","","","","",null,null,null,null,null,null,null,null,null,null,null,null,null,null,null,{"$f":"IF(PLANTS!A240=\"\",\"\",PLANTS!A240)","v":"HEMA2"},2,"",0,{"$f":"IF(PLANTS!C240=\"\",\"\",PLANTS!C240)","v":""},"",{"$f":"IF(PLANTS!D240=\"\",\"\",PLANTS!D240)","v":""},"",{"$f":"IF(PLANTS!E240=\"\",\"\",PLANTS!E240)","v":"y"},"",{"$f":"IF(PLANTS!F240=\"\",\"\",PLANTS!F240)","v":"y"},"",0,null,0,"",null,0,{"$f":"IF(DE242=\"A\",PLANTS!H240,DE242)","v":"M"},50,null,"","","","",null,null,null,"","",null,null,null,null,null,null,{"$error":"#DIV/0!"},null,"",null," ","",null,"","","",0,"","","","",null,"","","HEMA2",{"$f":"IF(DC242=\"a\",PLANTS!I240,DMA!DC242)","v":2},{"$f":"IF(DD242=\"a\",PLANTS!G240,DMA!DD242)","v":0},null,null,null,null,null,null,null,null,null,{"$f":"PLANTS!I240","v":2},{"$f":"PLANTS!G240","v":0},{"$f":"PLANTS!H240","v":"M"},null,null,null,null,"",{"$f":"IF(DMA!DJ242=\"\",\"\",(DMA!N242-SUMIF(Graphs!$O$13:$O$199,DMA!$DJ242,Graphs!$V$13:$V$199))^2)","v":""},{"$f":"IF(DMA!DK242=\"\",\"\",(DMA!O242-SUMIF(Graphs!$O$13:$O$199,DMA!$DJ242,Graphs!$V$13:$V$199))^2)","v":""},{"$f":"IF(DMA!DL242=\"\",\"\",(DMA!P242-SUMIF(Graphs!$O$13:$O$199,DMA!$DJ242,Graphs!$V$13:$V$199))^2)","v":""},"",0,"",0,null,null,null,null,null,24.2]
[null,null,null,null,null,null,null,null,null,null,null,null,null,null,null,null,null,null,null,{"$f":"IF(A243=\"\",\"\",(Header!C$7*Header!C$6)*A243)","v":""},"","","","","",null,null,null,null,null,null,null,null,null,null,null,null,null,null,null,{"$f":"IF(PLANTS!A241=\"\",\"\",PLANTS!A241)","v":"HEMA80"},5,"",0,{"$f":"IF(PLANTS!C241=\"\",\"\",PLANTS!C241)","v":""},"",{"$f":"IF(PLANTS!D241=\"\",\"\",PLANTS!D241)","v":"y"},"",{"$f":"IF(PLANTS!E241=\"\",\"\",PLANTS!E241)","v":"y"},"",{"$f":"IF(PLANTS!F241=\"\",\"\",PLANTS!F241)","v":"y"},"",0,null,75,"",null,0,{"$f":"IF(DE243=\"A\",PLANTS!H241,DE243)","v":"M"},50,null,"","","","",null,null,null,"","",null,null,null,null,null,null,{"$error":"#DIV/0!"},null,"",null," ","",null,"","","",0,0,"",0,"",null,"","","HEMA80",{"$f":"IF(DC243=\"a\",PLANTS!I241,DMA!DC243)","v":5},{"$f":"IF(DD243=\"a\",PLANTS!G241,DMA!DD243)","v":75},null,null,null,null,null,null,null,null,null,{"$f":"PLANTS!I241","v":5},{"$f":"PLANTS!G241","v":75},{"$f":"PLANTS!H241","v":"M"},null,null,null,null,"",{"$f":"IF(DMA!DJ243=\"\",\"\",(DMA!N243-SUMIF(Graphs!$O$13:$O$199,DMA!$DJ243,Graphs!$V$13:$V$199))^2)","v":""},{"$f":"IF(DMA!DK243=\"\",\"\",(DMA!O243-SUMIF(Graphs!$O$13:$O$199,DMA!$DJ243,Graphs!$V$13:$V$199))^2)","v":""},{"$f":"IF(DMA!DL243=\"\",\"\",(DMA!P243-SUMIF(Graphs!$O$13:$O$199,DMA!$DJ243,Graphs!$V$13:$V$199))^2)","v":""},"",0,"",0,null,null,null,null,null,24.3]
[null,null,null,null,null,null,null,null,null,null,null,null,null,null,null,null,null,null,null,{"$f":"IF(A244=\"\",\"\",(Header!C$7*Header!C$6)*A244)","v":""},"","","","","",null,null,null,null,null,null,null,null,null,null,null,null,null,null,null,{"$f":"IF(PLANTS!A242=\"\",\"\",PLANTS!A242)","v":"HENU"},5,"",0,{"$f":"IF(PLANTS!C242=\"\",\"\",PLANTS!C242)","v":""},"",{"$f":"IF(PLANTS!D242=\"\",\"\",PLANTS!D242)","v":"y"},"",{"$f":"IF(PLANTS!E242=\"\",\"\",PLANTS!E242)","v":"y"},"",{"$f":"IF(PLANTS!F242=\"\",\"\",PLANTS!F242)","v":"y"},"",0,null,75,"",null,0,{"$f":"IF(DE244=\"A\",PLANTS!H242,DE244)","v":"M"},50,null,"","","","",null,null,null,"","",null,null,null,null,null,null,{"$f":"IF(I244=BZ$3,J244,\"\")","v":{"$error":"#DIV/0!"}},null,"",null," ","",null,"","","",0,0,"",0,"",null,"","","HENU",{"$f":"IF(DC244=\"a\",PLANTS!I242,DMA!DC244)","v":5},{"$f":"IF(DD244=\"a\",PLANTS!G242,DMA!DD244)","v":75},null,null,null,null,null,null,null,null,null,{"$f":"PLANTS!I242","v":5},{"$f":"PLANTS!G242","v":75},{"$f":"PLANTS!H242","v":"M"},null,null,null,null,"",{"$f":"IF(DMA!DJ244=\"\",\"\",(DMA!N244-SUMIF(Graphs!$O$13:$O$199,DMA!$DJ244,Graphs!$V$13:$V$199))^2)","v":""},{"$f":"IF(DMA!DK244=\"\",\"\",(DMA!O244-SUMIF(Graphs!$O$13:$O$199,DMA!$DJ244,Graphs!$V$13:$V$199))^2)","v":""},{"$f":"IF(DMA!DL244=\"\",\"\",(DMA!P244-SUMIF(Graphs!$O$13:$O$199,DMA!$DJ244,Graphs!$V$13:$V$199))^2)","v":""},"",0,"",0,null,null,null,null,null,24.4]
[null,null,null,null,null,null,null,null,null,null,null,null,null,null,null,null,null,null,null,{"$f":"IF(A245=\"\",\"\",(Header!C$7*Header!C$6)*A245)","v":""},"","","","","",null,null,null,null,null,null,null,null,null,null,null,null,null,null,null,{"$f":"IF(PLANTS!A243=\"\",\"\",PLANTS!A243)","v":"HERI"},2,"",0,{"$f":"IF(PLANTS!C243=\"\",\"\",PLANTS!C243)","v":""},"",{"$f":"IF(PLANTS!D243=\"\",\"\",PLANTS!D243)","v":""},"",{"$f":"IF(PLANTS!E243=\"\",\"\",PLANTS!E243)","v":"y"},"",{"$f":"IF(PLANTS!F243=\"\",\"\",PLANTS!F243)","v":"y"},"",0,null,25,"",null,0,{"$f":"IF(DE245=\"A\",PLANTS!H243,DE245)","v":"M"},50,null,"","","","",null,null,null,"","",null,null,null,null,null,null,{"$error":"#DIV/0!"},null,"",null," ","",null,"","","",0,"","","","",null,"","","HERI",{"$f":"IF(DC245=\"a\",PLANTS!I243,DMA!DC245)","v":2},{"$f":"IF(DD245=\"a\",PLANTS!G243,DMA!DD245)","v":25},null,null,null,null,null,null,null,null,null,{"$f":"PLANTS!I243","v":2},{"$f":"PLANTS!G243","v":25},{"$f":"PLANTS!H243","v":"M"},null,null,null,null,"",{"$f":"IF(DMA!DJ245=\"\",\"\",(DMA!N245-SUMIF(Graphs!$O$13:$O$199,DMA!$DJ245,Graphs!$V$13:$V$199))^2)","v":""},{"$f":"IF(DMA!DK245=\"\",\"\",(DMA!O245-SUMIF(Graphs!$O$13:$O$199,DMA!$DJ245,Graphs!$V$13:$V$199))^2)","v":""},{"$f":"IF(DMA!DL245=\"\",\"\",(DMA!P245-SUMIF(Graphs!$O$13:$O$199,DMA!$DJ245,Graphs!$V$13:$V$199))^2)","v":""},"",0,"",0,null,null,null,null,null,24.5]
[null,null,null,null,null,null,null,null,null,null,null,null,null,null,null,null,null,null,null,{"$f":"IF(A246=\"\",\"\",(Header!C$7*Header!C$6)*A246)","v":""},"","","","","",null,null,null,null,null,null,null,null,null,null,null,null,null,null,null,{"$f":"IF(PLANTS!A244=\"\",\"\",PLANTS!A244)","v":"HOBR2"},2,"",0,{"$f":"IF(PLANTS!C244=\"\",\"\",PLANTS!C244)","v":""},"",{"$f":"IF(PLANTS!D244=\"\",\"\",PLANTS!D244)","v":"y"},"",{"$f":"IF(PLANTS!E244=\"\",\"\",PLANTS!E244)","v":"y"},"",{"$f":"IF(PLANTS!F244=\"\",\"\",PLANTS!F244)","v":""},"",0,null,75,"",null,0,{"$f":"IF(DE246=\"A\",PLANTS!H244,DE246)","v":"E"},20,null,"","","","",null,null,null,"","",null,null,null,null,null,null,{"$error":"#DIV/0!"},null,"",null," ","",null,"","","","",0,"",0,"",null,"","","HOBR2",{"$f":"IF(DC246=\"a\",PLANTS!I244,DMA!DC246)","v":2},{"$f":"IF(DD246=\"a\",PLANTS!G244,DMA!DD246)","v":75},null,null,null,null,null,null,null,null,null,{"$f":"PLANTS!I244","v":2},{"$f":"PLANTS!G244","v":75},{"$f":"PLANTS!H244","v":"E"},null,null,null,null,"",{"$f":"IF(DMA!DJ246=\"\",\"\",(DMA!N246-SUMIF(Graphs!$O$13:$O$199,DMA!$DJ246,Graphs!$V$13:$V$199))^2)","v":""},{"$f":"IF(DMA!DK246=\"\",\"\",(DMA!O246-SUMIF(Graphs!$O$13:$O$199,DMA!$DJ246,Graphs!$V$13:$V$199))^2)","v":""},{"$f":"IF(DMA!DL246=\"\",\"\",(DMA!P246-SUMIF(Graphs!$O$13:$O$199,DMA!$DJ246,Graphs!$V$13:$V$199))^2)","v":""},"",0,"",0]
[null,null,null,null,null,null,null,null,null,null,null,null,null,null,null,null,null,null,null,{"$f":"IF(A247=\"\",\"\",(Header!C$7*Header!C$6)*A247)","v":""},"","","","","",null,null,null,null,null,null,null,null,null,null,null,null,null,null,null,{"$f":"IF(PLANTS!A245=\"\",\"\",PLANTS!A245)","v":"HOJU"},2,"",0,{"$f":"IF(PLANTS!C245=\"\",\"\",PLANTS!C245)","v":""},"",{"$f":"IF(PLANTS!D245=\"\",\"\",PLANTS!D245)","v":""},"",{"$f":"IF(PLANTS!E245=\"\",\"\",PLANTS!E245)","v":"y"},"",{"$f":"IF(PLANTS!F245=\"\",\"\",PLANTS!F245)","v":""},"",0,null,50,"",null,0,{"$f":"IF(DE247=\"A\",PLANTS!H245,DE247)","v":"E"},20,null,"","","","",null,null,null,"","",null,null,null,null,null,null,{"$error":"#DIV/0!"},null,"",null," ","",null,"","","","","","","","",null,"","","HOJU",{"$f":"IF(DC247=\"a\",PLANTS!I245,DMA!DC247)","v":2},{"$f":"IF(DD247=\"a\",PLANTS!G245,DMA!DD247)","v":50},null,null,null,null,null,null,null,null,null,{"$f":"PLANTS!I245","v":2},{"$f":"PLANTS!G245","v":50},{"$f":"PLANTS!H245","v":"E"},null,null,null,null,"",{"$f":"IF(DMA!DJ247=\"\",\"\",(DMA!N247-SUMIF(Graphs!$O$13:$O$199,DMA!$DJ247,Graphs!$V$13:$V$199))^2)","v":""},{"$f":"IF(DMA!DK247=\"\",\"\",(DMA!O247-SUMIF(Graphs!$O$13:$O$199,DMA!$DJ247,Graphs!$V$13:$V$199))^2)","v":""},{"$f":"IF(DMA!DL247=\"\",\"\",(DMA!P247-SUMIF(Graphs!$O$13:$O$199,DMA!$DJ247,Graphs!$V$13:$V$199))^2)","v":""},"",0,"",0]
[null,null,null,null,null,null,null,null,null,null,null,null,null,null,null,null,null,null,null,{"$f":"IF(A248=\"\",\"\",(Header!C$7*Header!C$6)*A248)","v":""},"","","","","",null,null,null,null,null,null,null,null,null,null,null,null,null,null,null,{"$f":"IF(PLANTS!A246=\"\",\"\",PLANTS!A246)","v":"HYHO"},2,"",0,{"$f":"IF(PLANTS!C246=\"\",\"\",PLANTS!C246)","v":""},"",{"$f":"IF(PLANTS!D246=\"\",\"\",PLANTS!D246)","v":""},"",{"$f":"IF(PLANTS!E246=\"\",\"\",PLANTS!E246)","v":"y"},"",{"$f":"IF(PLANTS!F246=\"\",\"\",PLANTS!F246)","v":"y"},"",0,null,50,"",null,0,{"$f":"IF(DE248=\"A\",PLANTS!H246,DE248)","v":"E"},20,null,"","","","",null,null,null,"","",null,null,null,null,null,null,{"$error":"#DIV/0!"},null,"",null," ","",null,"","","",0,"","","","",null,"","","HYHO",{"$f":"IF(DC248=\"a\",PLANTS!I246,DMA!DC248)","v":2},{"$f":"IF(DD248=\"a\",PLANTS!G246,DMA!DD248)","v":50},null,null,null,null,null,null,null,null,null,{"$f":"PLANTS!I246","v":2},{"$f":"PLANTS!G246","v":50},{"$f":"PLANTS!H246","v":"E"},null,null,null,null,"",{"$f":"IF(DMA!DJ248=\"\",\"\",(DMA!N248-SUMIF(Graphs!$O$13:$O$199,DMA!$DJ248,Graphs!$V$13:$V$199))^2)","v":""},{"$f":"IF(DMA!DK248=\"\",\"\",(DMA!O248-SUMIF(Graphs!$O$13:$O$199,DMA!$DJ248,Graphs!$V$13:$V$199))^2)","v":""},{"$f":"IF(DMA!DL248=\"\",\"\",(DMA!P248-SUMIF(Graphs!$O$13:$O$199,DMA!$DJ248,Graphs!$V$13:$V$199))^2)","v":""},"",0,"",0]
[null,null,null,null,null,null,null,null,null,null,null,null,null,null,null,null,null,null,null,{"$f":"IF(A249=\"\",\"\",(Header!C$7*Header!C$6)*A249)","v":""},"","","","","",null,null,null,null,null,null,null,null,null,null,null,null,null,null,null,{"$f":"IF(PLANTS!A247=\"\",\"\",PLANTS!A247)","v":"IMCA"},2,"",0,{"$f":"IF(PLANTS!C247=\"\",\"\",PLANTS!C247)","v":""},"",{"$f":"IF(PLANTS!D247=\"\",\"\",PLANTS!D247)","v":"y"},"",{"$f":"IF(PLANTS!E247=\"\",\"\",PLANTS!E247)","v":"y"},"",{"$f":"IF(PLANTS!F247=\"\",\"\",PLANTS!F247)","v":"y"},"",0,null,75,"",null,0,{"$f":"IF(DE249=\"A\",PLANTS!H247,DE249)","v":"M"},50,null,"","","","",null,null,null,"","",null,null,null,null,null,null,{"$error":"#DIV/0!"},null,"",null," ","",null,"","","",0,0,"",0,"",null,"","","IMCA",{"$f":"IF(DC249=\"a\",PLANTS!I247,DMA!DC249)","v":2},{"$f":"IF(DD249=\"a\",PLANTS!G247,DMA!DD249)","v":75},null,null,null,null,null,null,null,null,null,{"$f":"PLANTS!I247","v":2},{"$f":"PLANTS!G247","v":75},{"$f":"PLANTS!H247","v":"M"},null,null,null,null,"",{"$f":"IF(DMA!DJ249=\"\",\"\",(DMA!N249-SUMIF(Graphs!$O$13:$O$199,DMA!$DJ249,Graphs!$V$13:$V$199))^2)","v":""},{"$f":"IF(DMA!DK249=\"\",\"\",(DMA!O249-SUMIF(Graphs!$O$13:$O$199,DMA!$DJ249,Graphs!$V$13:$V$199))^2)","v":""},{"$f":"IF(DMA!DL249=\"\",\"\",(DMA!P249-SUMIF(Graphs!$O$13:$O$199,DMA!$DJ249,Graphs!$V$13:$V$199))^2)","v":""},"",0,"",0]
[null,null,null,null,null,null,null,null,null,null,null,null,null,null,null,null,null,null,null,{"$f":"IF(A250=\"\",\"\",(Header!C$7*Header!C$6)*A250)","v":""},"","","","","",null,null,null,null,null,null,null,null,null,null,null,null,null,null,null,{"$f":"IF(PLANTS!A248=\"\",\"\",PLANTS!A248)","v":"IRMI"},5,"",0,{"$f":"IF(PLANTS!C248=\"\",\"\",PLANTS!C248)","v":""},"",{"$f":"IF(PLANTS!D248=\"\",\"\",PLANTS!D248)","v":"y"},"",{"$f":"IF(PLANTS!E248=\"\",\"\",PLANTS!E248)","v":"y"},"",{"$f":"IF(PLANTS!F248=\"\",\"\",PLANTS!F248)","v":"y"},"",0,null,75,"",null,0,{"$f":"IF(DE250=\"A\",PLANTS!H248,DE250)","v":"M"},50,null,"","","","",null,null,null,"","",null,null,null,null,null,null,{"$error":"#DIV/0!"},null,"",null," ","",null,"","","",0,0,"",0,"",null,"","","IRMI",{"$f":"IF(DC250=\"a\",PLANTS!I248,DMA!DC250)","v":5},{"$f":"IF(DD250=\"a\",PLANTS!G248,DMA!DD250)","v":75},null,null,null,null,null,null,null,null,null,{"$f":"PLANTS!I248","v":5},{"$f":"PLANTS!G248","v":75},{"$f":"PLANTS!H248","v":"M"},null,null,null,null,"",{"$f":"IF(DMA!DJ250=\"\",\"\",(DMA!N250-SUMIF(Graphs!$O$13:$O$199,DMA!$DJ250,Graphs!$V$13:$V$199))^2)","v":""},{"$f":"IF(DMA!DK250=\"\",\"\",(DMA!O250-SUMIF(Graphs!$O$13:$O$199,DMA!$DJ250,Graphs!$V$13:$V$199))^2)","v":""},{"$f":"IF(DMA!DL250=\"\",\"\",(DMA!P250-SUMIF(Graphs!$O$13:$O$199,DMA!$DJ250,Graphs!$V$13:$V$199))^2)","v":""},"",0,"",0]
[null,null,null,null,null,null,null,null,null,null,null,null,null,null,null,null,null,null,null,{"$f":"IF(A251=\"\",\"\",(Header!C$7*Header!C$6)*A251)","v":""},"","","","","",null,null,null,null,null,null,null,null,null,null,null,null,null,null,null,{"$f":"IF(PLANTS!A249=\"\",\"\",PLANTS!A249)","v":"JUAC"},2,"",0,{"$f":"IF(PLANTS!C249=\"\",\"\",PLANTS!C249)","v":""},"",{"$f":"IF(PLANTS!D249=\"\",\"\",PLANTS!D249)","v":"y"},"",{"$f":"IF(PLANTS!E249=\"\",\"\",PLANTS!E249)","v":"y"},"",{"$f":"IF(PLANTS!F249=\"\",\"\",PLANTS!F249)","v":""},"",0,null,100,"",null,0,{"$f":"IF(DE251=\"A\",PLANTS!H249,DE251)","v":"M"},50,null,"","","","",null,null,null,"","",null,null,null,null,null,null,{"$error":"#DIV/0!"},null,"",null," ","",null,"","","","",0,"",0,"",null,"","","JUAC",{"$f":"IF(DC251=\"a\",PLANTS!I249,DMA!DC251)","v":2},{"$f":"IF(DD251=\"a\",PLANTS!G249,DMA!DD251)","v":100},null,null,null,null,null,null,null,null,null,{"$f":"PLANTS!I249","v":2},{"$f":"PLANTS!G249","v":100},{"$f":"PLANTS!H249","v":"M"},null,null,null,null,"",{"$f":"IF(DMA!DJ251=\"\",\"\",(DMA!N251-SUMIF(Graphs!$O$13:$O$199,DMA!$DJ251,Graphs!$V$13:$V$199))^2)","v":""},{"$f":"IF(DMA!DK251=\"\",\"\",(DMA!O251-SUMIF(Graphs!$O$13:$O$199,DMA!$DJ251,Graphs!$V$13:$V$199))^2)","v":""},{"$f":"IF(DMA!DL251=\"\",\"\",(DMA!P251-SUMIF(Graphs!$O$13:$O$199,DMA!$DJ251,Graphs!$V$13:$V$199))^2)","v":""},"",0,"",0]
[null,null,null,null,null,null,null,null,null,null,null,null,null,null,null,null,null,null,null,{"$f":"IF(A252=\"\",\"\",(Header!C$7*Header!C$6)*A252)","v":""},"","","","","",null,null,null,null,null,null,null,null,null,null,null,null,null,null,null,{"$f":"IF(PLANTS!A250=\"\",\"\",PLANTS!A250)","v":"JUAC2"},5,"",0,{"$f":"IF(PLANTS!C250=\"\",\"\",PLANTS!C250)","v":""},"",{"$f":"IF(PLANTS!D250=\"\",\"\",PLANTS!D250)","v":"y"},"",{"$f":"IF(PLANTS!E250=\"\",\"\",PLANTS!E250)","v":"y"},"",{"$f":"IF(PLANTS!F250=\"\",\"\",PLANTS!F250)","v":""},"",0,null,75,"",null,0,{"$f":"IF(DE252=\"A\",PLANTS!H250,DE252)","v":"L"},80,null,"","","","",null,null,null,"","",null,null,null,null,null,null,{"$error":"#DIV/0!"},null,"",null," ","",null,"","","","",0,"",0,"",null,"","","JUAC2",{"$f":"IF(DC252=\"a\",PLANTS!I250,DMA!DC252)","v":5},{"$f":"IF(DD252=\"a\",PLANTS!G250,DMA!DD252)","v":75},null,null,null,null,null,null,null,null,null,{"$f":"PLANTS!I250","v":5},{"$f":"PLANTS!G250","v":75},{"$f":"PLANTS!H250","v":"L"},null,null,null,null,"",{"$f":"IF(DMA!DJ252=\"\",\"\",(DMA!N252-SUMIF(Graphs!$O$13:$O$199,DMA!$DJ252,Graphs!$V$13:$V$199))^2)","v":""},{"$f":"IF(DMA!DK252=\"\",\"\",(DMA!O252-SUMIF(Graphs!$O$13:$O$199,DMA!$DJ252,Graphs!$V$13:$V$199))^2)","v":""},{"$f":"IF(DMA!DL252=\"\",\"\",(DMA!P252-SUMIF(Graphs!$O$13:$O$199,DMA!$DJ252,Graphs!$V$13:$V$199))^2)","v":""},"",0,"",0]
[null,null,null,null,null,null,null,null,null,null,null,null,null,null,null,null,null,null,null,{"$f":"IF(A253=\"\",\"\",(Header!C$7*Header!C$6)*A253)","v":""},"","","","","",null,null,null,null,null,null,null,null,null,null,null,null,null,null,null,{"$f":"IF(PLANTS!A251=\"\",\"\",PLANTS!A251)","v":"JUAR2"},8.5,"",0,{"$f":"IF(PLANTS!C251=\"\",\"\",PLANTS!C251)","v":""},"",{"$f":"IF(PLANTS!D251=\"\",\"\",PLANTS!D251)","v":"y"},"",{"$f":"IF(PLANTS!E251=\"\",\"\",PLANTS!E251)","v":"y"},"",{"$f":"IF(PLANTS!F251=\"\",\"\",PLANTS!F251)","v":""},"",0,null,75,"",null,0,{"$f":"IF(DE253=\"A\",PLANTS!H251,DE253)","v":"L"},80,null,"","","","",null,null,null,"","",null,null,null,null,null,null,{"$error":"#DIV/0!"},null,"",null," ","",null,"","","","",0,"",0,"",null,"","","JUAR2",{"$f":"IF(DC253=\"a\",PLANTS!I251,DMA!DC253)","v":8.5},{"$f":"IF(DD253=\"a\",PLANTS!G251,DMA!DD253)","v":75},null,null,null,null,null,null,null,null,null,{"$f":"PLANTS!I251","v":8.5},{"$f":"PLANTS!G251","v":75},{"$f":"PLANTS!H251","v":"L"},null,null,null,null,"",{"$f":"IF(DMA!DJ253=\"\",\"\",(DMA!N253-SUMIF(Graphs!$O$13:$O$199,DMA!$DJ253,Graphs!$V$13:$V$199))^2)","v":""},{"$f":"IF(DMA!DK253=\"\",\"\",(DMA!O253-SUMIF(Graphs!$O$13:$O$199,DMA!$DJ253,Graphs!$V$13:$V$199))^2)","v":""},{"$f":"IF(DMA!DL253=\"\",\"\",(DMA!P253-SUMIF(Graphs!$O$13:$O$199,DMA!$DJ253,Graphs!$V$13:$V$199))^2)","v":""},"",0,"",0]
[null,null,null,null,null,null,null,null,null,null,null,null,null,null,null,null,null,null,null,{"$f":"IF(A254=\"\",\"\",(Header!C$7*Header!C$6)*A254)","v":""},{"$f":"IF(K395=\"\",\"\",K395*12/39)","v":""},"","","","",null,null,null,null,null,null,null,null,null,null,null,null,null,null,null,{"$f":"IF(PLANTS!A252=\"\",\"\",PLANTS!A252)","v":"JUAR4"},5,"",0,{"$f":"IF(PLANTS!C252=\"\",\"\",PLANTS!C252)","v":""},"",{"$f":"IF(PLANTS!D252=\"\",\"\",PLANTS!D252)","v":"y"},"",{"$f":"IF(PLANTS!E252=\"\",\"\",PLANTS!E252)","v":"y"},"",{"$f":"IF(PLANTS!F252=\"\",\"\",PLANTS!F252)","v":""},"",0,null,100,"",null,0,{"$f":"IF(DE254=\"A\",PLANTS!H252,DE254)","v":"M"},50,null,"","","","",null,null,null,"","",null,null,null,null,null,null,{"$error":"#DIV/0!"},null,"",null," ","",null,"","","","",0,"",0,"",null,"","","JUAR4",{"$f":"IF(DC254=\"a\",PLANTS!I252,DMA!DC254)","v":5},{"$f":"IF(DD254=\"a\",PLANTS!G252,DMA!DD254)","v":100},null,null,null,null,null,null,null,null,null,{"$f":"PLANTS!I252","v":5},{"$f":"PLANTS!G252","v":100},{"$f":"PLANTS!H252","v":"M"},null,null,null,null,"",{"$f":"IF(DMA!DJ254=\"\",\"\",(DMA!N254-SUMIF(Graphs!$O$13:$O$199,DMA!$DJ254,Graphs!$V$13:$V$199))^2)","v":""},{"$f":"IF(DMA!DK254=\"\",\"\",(DMA!O254-SUMIF(Graphs!$O$13:$O$199,DMA!$DJ254,Graphs!$V$13:$V$199))^2)","v":""},{"$f":"IF(DMA!DL254=\"\",\"\",(DMA!P254-SUMIF(Graphs!$O$13:$O$199,DMA!$DJ254,Graphs!$V$13:$V$199))^2)","v":""},"",0,"",0]
[null,null,null,null,null,null,null,null,null,null,null,null,null,null,null,null,null,null,null,{"$f":"IF(A255=\"\",\"\",(Header!C$7*Header!C$6)*A255)","v":""},"","","","","",null,null,null,null,null,null,null,null,null,null,null,null,null,null,null,{"$f":"IF(PLANTS!A253=\"\",\"\",PLANTS!A253)","v":"JUBA"},8.5,"",0,{"$f":"IF(PLANTS!C253=\"\",\"\",PLANTS!C253)","v":""},"",{"$f":"IF(PLANTS!D253=\"\",\"\",PLANTS!D253)","v":"y"},"",{"$f":"IF(PLANTS!E253=\"\",\"\",PLANTS!E253)","v":"y"},"",{"$f":"IF(PLANTS!F253=\"\",\"\",PLANTS!F253)","v":""},"",0,null,75,"",null,0,{"$f":"IF(DE255=\"A\",PLANTS!H253,DE255)","v":"L"},80,null,"","","","",null,null,null,"","",null,null,null,null,null,null,{"$error":"#DIV/0!"},null,"",null," ","",null,"","","","",0,"",0,"",null,"","","JUBA",{"$f":"IF(DC255=\"a\",PLANTS!I253,DMA!DC255)","v":8.5},{"$f":"IF(DD255=\"a\",PLANTS!G253,DMA!DD255)","v":75},null,null,null,null,null,null,null,null,null,{"$f":"PLANTS!I253","v":8.5},{"$f":"PLANTS!G253","v":75},{"$f":"PLANTS!H253","v":"L"},null,null,null,null,"",{"$f":"IF(DMA!DJ255=\"\",\"\",(DMA!N255-SUMIF(Graphs!$O$13:$O$199,DMA!$DJ255,Graphs!$V$13:$V$199))^2)","v":""},{"$f":"IF(DMA!DK255=\"\",\"\",(DMA!O255-SUMIF(Graphs!$O$13:$O$199,DMA!$DJ255,Graphs!$V$13:$V$199))^2)","v":""},{"$f":"IF(DMA!DL255=\"\",\"\",(DMA!P255-SUMIF(Graphs!$O$13:$O$199,DMA!$DJ255,Graphs!$V$13:$V$199))^2)","v":""},"",0,"",0]
[null,null,null,null,null,null,null,null,null,null,null,null,null,null,null,null,null,null,null,{"$f":"IF(A256=\"\",\"\",(Header!C$7*Header!C$6)*A256)","v":""},"","","","","",null,null,null,null,null,null,null,null,null,null,null,null,null,null,null,{"$f":"IF(PLANTS!A254=\"\",\"\",PLANTS!A254)","v":"JUBU"},2,"",0,{"$f":"IF(PLANTS!C254=\"\",\"\",PLANTS!C254)","v":""},"",{"$f":"IF(PLANTS!D254=\"\",\"\",PLANTS!D254)","v":"y"},"",{"$f":"IF(PLANTS!E254=\"\",\"\",PLANTS!E254)","v":"y"},"",{"$f":"IF(PLANTS!F254=\"\",\"\",PLANTS!F254)","v":""},"",0,null,75,"",null,0,{"$f":"IF(DE256=\"A\",PLANTS!H254,DE256)","v":"E"},20,null,"","","","",null,null,null,"","",null,null,null,null,null,null,{"$error":"#DIV/0!"},null,"",null," ","",null,"","","","",0,"",0,"",null,"","","JUBU",{"$f":"IF(DC256=\"a\",PLANTS!I254,DMA!DC256)","v":2},{"$f":"IF(DD256=\"a\",PLANTS!G254,DMA!DD256)","v":75},null,null,null,null,null,null,null,null,null,{"$f":"PLANTS!I254","v":2},{"$f":"PLANTS!G254","v":75},{"$f":"PLANTS!H254","v":"E"},null,null,null,null,"",{"$f":"IF(DMA!DJ256=\"\",\"\",(DMA!N256-SUMIF(Graphs!$O$13:$O$199,DMA!$DJ256,Graphs!$V$13:$V$199))^2)","v":""},{"$f":"IF(DMA!DK256=\"\",\"\",(DMA!O256-SUMIF(Graphs!$O$13:$O$199,DMA!$DJ256,Graphs!$V$13:$V$199))^2)","v":""},{"$f":"IF(DMA!DL256=\"\",\"\",(DMA!P256-SUMIF(Graphs!$O$13:$O$199,DMA!$DJ256,Graphs!$V$13:$V$199))^2)","v":""},"",0,"",0]
[null,null,null,null,null,null,null,null,null,null,null,null,null,null,null,null,null,null,null,{"$f":"IF(A257=\"\",\"\",(Header!C$7*Header!C$6)*A257)","v":""},"","","","","",null,null,null,null,null,null,null,null,null,null,null,null,null,null,null,{"$f":"IF(PLANTS!A255=\"\",\"\",PLANTS!A255)","v":"JUCO2"},2,"",0,{"$f":"IF(PLANTS!C255=\"\",\"\",PLANTS!C255)","v":""},"",{"$f":"IF(PLANTS!D255=\"\",\"\",PLANTS!D255)","v":""},"",{"$f":"IF(PLANTS!E255=\"\",\"\",PLANTS!E255)","v":"y"},"",{"$f":"IF(PLANTS!F255=\"\",\"\",PLANTS!F255)","v":""},"",0,null,50,"",null,0,{"$f":"IF(DE257=\"A\",PLANTS!H255,DE257)","v":"M"},50,null,"","","","",null,null,null,"","",null,null,null,null,null,null,{"$error":"#DIV/0!"},null,"",null," ","",null,"","","","","","","","",null,"","","JUCO2",{"$f":"IF(DC257=\"a\",PLANTS!I255,DMA!DC257)","v":2},{"$f":"IF(DD257=\"a\",PLANTS!G255,DMA!DD257)","v":50},null,null,null,null,null,null,null,null,null,{"$f":"PLANTS!I255","v":2},{"$f":"PLANTS!G255","v":50},{"$f":"PLANTS!H255","v":"M"},null,null,null,null,"",{"$f":"IF(DMA!DJ257=\"\",\"\",(DMA!N257-SUMIF(Graphs!$O$13:$O$199,DMA!$DJ257,Graphs!$V$13:$V$199))^2)","v":""},{"$f":"IF(DMA!DK257=\"\",\"\",(DMA!O257-SUMIF(Graphs!$O$13:$O$199,DMA!$DJ257,Graphs!$V$13:$V$199))^2)","v":""},{"$f":"IF(DMA!DL257=\"\",\"\",(DMA!P257-SUMIF(Graphs!$O$13:$O$199,DMA!$DJ257,Graphs!$V$13:$V$199))^2)","v":""},"",0,"",0]
[null,null,null,null,null,null,null,null,null,null,null,null,null,null,null,null,null,null,null,{"$f":"IF(A258=\"\",\"\",(Header!C$7*Header!C$6)*A258)","v":""},"","","","","",null,null,null,null,null,null,null,null,null,null,null,null,null,null,null,{"$f":"IF(PLANTS!A256=\"\",\"\",PLANTS!A256)","v":"JUCO6"},5,"",0,{"$f":"IF(PLANTS!C256=\"\",\"\",PLANTS!C256)","v":"y"},"",{"$f":"IF(PLANTS!D256=\"\",\"\",PLANTS!D256)","v":""},"",{"$f":"IF(PLANTS!E256=\"\",\"\",PLANTS!E256)","v":""},"",{"$f":"IF(PLANTS!F256=\"\",\"\",PLANTS!F256)","v":""},"",0,null,25,"",null,0,{"$f":"IF(DE258=\"A\",PLANTS!H256,DE258)","v":"M"},50,null,"","","","",null,null,null,"","",null,null,null,null,null,null,{"$error":"#DIV/0!"},null,"",null," ","",null,"","","","","",0,"","",null,"","","JUCO6",{"$f":"IF(DC258=\"a\",PLANTS!I256,DMA!DC258)","v":5},{"$f":"IF(DD258=\"a\",PLANTS!G256,DMA!DD258)","v":25},null,null,null,null,null,null,null,null,null,{"$f":"PLANTS!I256","v":5},{"$f":"PLANTS!G256","v":25},{"$f":"PLANTS!H256","v":"M"},null,null,null,null,"",{"$f":"IF(DMA!DJ258=\"\",\"\",(DMA!N258-SUMIF(Graphs!$O$13:$O$199,DMA!$DJ258,Graphs!$V$13:$V$199))^2)","v":""},{"$f":"IF(DMA!DK258=\"\",\"\",(DMA!O258-SUMIF(Graphs!$O$13:$O$199,DMA!$DJ258,Graphs!$V$13:$V$199))^2)","v":""},{"$f":"IF(DMA!DL258=\"\",\"\",(DMA!P258-SUMIF(Graphs!$O$13:$O$199,DMA!$DJ258,Graphs!$V$13:$V$199))^2)","v":""},"",0,"",0]
[null,null,null,null,null,null,null,null,null,null,null,null,null,null,null,null,null,null,null,{"$f":"IF(A259=\"\",\"\",(Header!C$7*Header!C$6)*A259)","v":""},"","","","","",null,null,null,null,null,null,null,null,null,null,null,null,null,null,null,{"$f":"IF(PLANTS!A257=\"\",\"\",PLANTS!A257)","v":"JUDR"},2,"",0,{"$f":"IF(PLANTS!C257=\"\",\"\",PLANTS!C257)","v":""},"",{"$f":"IF(PLANTS!D257=\"\",\"\",PLANTS!D257)","v":"y"},"",{"$f":"IF(PLANTS!E257=\"\",\"\",PLANTS!E257)","v":"y"},"",{"$f":"IF(PLANTS!F257=\"\",\"\",PLANTS!F257)","v":""},"",0,null,75,"",null,0,{"$f":"IF(DE259=\"A\",PLANTS!H257,DE259)","v":"M"},50,null,"","","","",null,null,null,"","",null,null,null,null,null,null,{"$error":"#DIV/0!"},null,"",null," ","",null,"","","","",0,"",0,"",null,"","","JUDR",{"$f":"IF(DC259=\"a\",PLANTS!I257,DMA!DC259)","v":2},{"$f":"IF(DD259=\"a\",PLANTS!G257,DMA!DD259)","v":75},null,null,null,null,null,null,null,null,null,{"$f":"PLANTS!I257","v":2},{"$f":"PLANTS!G257","v":75},{"$f":"PLANTS!H257","v":"M"},null,null,null,null,"",{"$f":"IF(DMA!DJ259=\"\",\"\",(DMA!N259-SUMIF(Graphs!$O$13:$O$199,DMA!$DJ259,Graphs!$V$13:$V$199))^2)","v":""},{"$f":"IF(DMA!DK259=\"\",\"\",(DMA!O259-SUMIF(Graphs!$O$13:$O$199,DMA!$DJ259,Graphs!$V$13:$V$199))^2)","v":""},{"$f":"IF(DMA!DL259=\"\",\"\",(DMA!P259-SUMIF(Graphs!$O$13:$O$199,DMA!$DJ259,Graphs!$V$13:$V$199))^2)","v":""},"",0,"",0]
[null,null,null,null,null,null,null,null,null,null,null,null,null,null,null,null,null,null,null,{"$f":"IF(A260=\"\",\"\",(Header!C$7*Header!C$6)*A260)","v":""},"","","","","",null,null,null,null,null,null,null,null,null,null,null,null,null,null,null,{"$f":"IF(PLANTS!A258=\"\",\"\",PLANTS!A258)","v":"JUDU2"},8.5,"",0,{"$f":"IF(PLANTS!C258=\"\",\"\",PLANTS!C258)","v":""},"",{"$f":"IF(PLANTS!D258=\"\",\"\",PLANTS!D258)","v":"y"},"",{"$f":"IF(PLANTS!E258=\"\",\"\",PLANTS!E258)","v":"y"},"",{"$f":"IF(PLANTS!F258=\"\",\"\",PLANTS!F258)","v":""},"",0,null,75,"",null,0,{"$f":"IF(DE260=\"A\",PLANTS!H258,DE260)","v":"L"},80,null,"","","","",null,null,null,"","",null,null,null,null,null,null,{"$error":"#DIV/0!"},null,"",null," ","",null,"","","","",0,"",0,"",null,"","","JUDU2",{"$f":"IF(DC260=\"a\",PLANTS!I258,DMA!DC260)","v":8.5},{"$f":"IF(DD260=\"a\",PLANTS!G258,DMA!DD260)","v":75},null,null,null,null,null,null,null,null,null,{"$f":"PLANTS!I258","v":8.5},{"$f":"PLANTS!G258","v":75},{"$f":"PLANTS!H258","v":"L"},null,null,null,null,"",{"$f":"IF(DMA!DJ260=\"\",\"\",(DMA!N260-SUMIF(Graphs!$O$13:$O$199,DMA!$DJ260,Graphs!$V$13:$V$199))^2)","v":""},{"$f":"IF(DMA!DK260=\"\",\"\",(DMA!O260-SUMIF(Graphs!$O$13:$O$199,DMA!$DJ260,Graphs!$V$13:$V$199))^2)","v":""},{"$f":"IF(DMA!DL260=\"\",\"\",(DMA!P260-SUMIF(Graphs!$O$13:$O$199,DMA!$DJ260,Graphs!$V$13:$V$199))^2)","v":""},"",0,"",0]
[null,null,null,null,null,null,null,null,null,null,null,null,null,null,null,null,null,null,null,{"$f":"IF(A261=\"\",\"\",(Header!C$7*Header!C$6)*A261)","v":""},"","","","","",null,null,null,null,null,null,null,null,null,null,null,null,null,null,null,{"$f":"IF(PLANTS!A259=\"\",\"\",PLANTS!A259)","v":"JUEF"},8.5,"",{"$f":"SUMIF(B$5:B$504,AO261,D$5:D$504)","v":0},{"$f":"IF(PLANTS!C259=\"\",\"\",PLANTS!C259)","v":""},{"$f":"IF($AQ261=\"\",\"\",IF($AQ261>0,IF(AS261=\"y\",COUNTIF(B$5:B$504,AO261)/AP$605,\"\"),\"\"))","v":""},{"$f":"IF(PLANTS!D259=\"\",\"\",PLANTS!D259)","v":"y"},{"$f":"IF($AQ261=\"\",\"\",IF($AQ261>0,IF(AU261=\"y\",COUNTIF($B$5:$B$504,$AO261)/$AP$605,\"\"),\"\"))","v":""},{"$f":"IF(PLANTS!E259=\"\",\"\",PLANTS!E259)","v":"y"},"",{"$f":"IF(PLANTS!F259=\"\",\"\",PLANTS!F259)","v":""},{"$f":"IF($AQ261=\"\",\"\",IF($AQ261>0,IF(AY261=\"y\",COUNTIF($B$5:$B$504,$AO261)/$AP$605,\"\"),\"\"))","v":""},{"$f":"IF(AQ261<>\"\",AQ261/AQ$604,0)","v":0},null,75,"",null,0,{"$f":"IF(DE261=\"A\",PLANTS!H259,DE261)","v":"L"},80,null,"","","","",null,null,null,"","",null,null,null,null,null,null,{"$error":"#DIV/0!"},null,"",null," ","",null,"","","","",0,"",0,"",null,"","","JUEF",{"$f":"IF(DC261=\"a\",PLANTS!I259,DMA!DC261)","v":8.5},{"$f":"IF(DD261=\"a\",PLANTS!G259,DMA!DD261)","v":75},null,null,null,null,null,null,null,null,null,{"$f":"PLANTS!I259","v":8.5},{"$f":"PLANTS!G259","v":75},{"$f":"PLANTS!H259","v":"L"},null,null,null,null,"",{"$f":"IF(DMA!DJ261=\"\",\"\",(DMA!N261-SUMIF(Graphs!$O$13:$O$199,DMA!$DJ261,Graphs!$V$13:$V$199))^2)","v":""},{"$f":"IF(DMA!DK261=\"\",\"\",(DMA!O261-SUMIF(Graphs!$O$13:$O$199,DMA!$DJ261,Graphs!$V$13:$V$199))^2)","v":""},{"$f":"IF(DMA!DL261=\"\",\"\",(DMA!P261-SUMIF(Graphs!$O$13:$O$199,DMA!$DJ261,Graphs!$V$13:$V$199))^2)","v":""},{"$f":"IF(AO261=\"\",\"\",IF(COUNTIF($B$5:$B$504,$AO261)=0,\"\",SUMIF($B$5:$B$504,$AO261,$C$5:$C$504)*COUNTIF(B$5:B$504,AO261)))","v":""},{"$f":"IF(DN261<>\"\",DN261/DN$604,0)","v":0},"",0]
[null,null,null,null,null,null,null,null,null,null,null,null,null,null,null,null,null,null,null,{"$f":"IF(A262=\"\",\"\",(Header!C$7*Header!C$6)*A262)","v":""},"",{"$f":"IF(F262=\"\",\"\",IF(ISNUMBER(SEARCH(F262,\"d\")),IF(ISNUMBER(SEARCH(G262,\"c\")),\"CS\",IF(ISNUMBER(SEARCH(G262,\"u\")),\"UU\")),\"\"))","v":""},{"$f":"IF(F262=\"\",\"\",IF(ISNUMBER(SEARCH(F262,\"e\")),IF(ISNUMBER(SEARCH(G262,\"c\")),IF(ISNUMBER(SEARCH(H262,\"a\")),\"CS\",\"CU\"),IF(ISNUMBER(SEARCH(H262,\"a\")),\"US\",\"UU\")),\"\"))","v":""},{"$f":"IF(V262=\"\",W262,V262)","v":""},{"$f":"IF($X262=\"cs\",1,IF($X262=\"cu\",2,IF($X262=\"us\",3,IF($X262=\"uu\",4,\"\"))))","v":""},null,null,null,null,null,null,null,null,null,null,null,null,null,null,null,{"$f":"IF(PLANTS!A260=\"\",\"\",PLANTS!A260)","v":"JUEN"},{"$f":"CR262","v":5},{"$f":"IF(AO262=\"\",\"\",IF(COUNTIF(B$5:B$504,AO262)=0,\"\",SUMIF(B$5:B$504,AO262,C$5:C$504)))","v":""},0,{"$f":"IF(PLANTS!C260=\"\",\"\",PLANTS!C260)","v":""},"",{"$f":"IF(PLANTS!D260=\"\",\"\",PLANTS!D260)","v":"y"},"",{"$f":"IF(PLANTS!E260=\"\",\"\",PLANTS!E260)","v":"y"},"",{"$f":"IF(PLANTS!F260=\"\",\"\",PLANTS!F260)","v":""},"",0,null,{"$f":"CS262","v":75},{"$f":"IF(AQ262<>\"\",BA262*$BC262,\"\")","v":""},null,{"$f":"(BA262*AP262)","v":0},{"$f":"IF(DE262=\"A\",PLANTS!H260,DE262)","v":"M"},50,null,{"$f":"IF($X262=\"cs\",1,IF($X262=\"fb\",1,IF($X262=\"cu\",2,IF($X262=\"us\",3,IF($X262=\"uu\",4,\"\")))))","v":""},{"$f":"IF(Y262=\"\",\"\",IF(Y262<3,\"c\",IF(Y262>2,\"u\",\"\")))","v":""},{"$f":"IF(Y262=\"\",\"\",IF(Y262=1,\"s\",IF(Y262=3,\"s\",IF(Y262=2,\"u\",IF(Y262=4,\"u\",\"\")))))","v":""},{"$f":"IF(BJ262=0,\"\",BJ262)","v":""},null,null,null,{"$f":"IF(E262<>\"\",E262+1,\"\")","v":""},{"$f":"IF(E262=\"\",\"\",(E262+1)/5)","v":""},null,null,null,null,null,null,{"$error":"#DIV/0!"},null,{"$f":"IF(SUM(N262:Q262)=0,\"\",SUM(N262:Q262))","v":""},null," ",{"$f":"IF(D262+J262<1,\"\",1)","v":""},null,{"$f":"IF(D262=6,1,\"\")","v":""},{"$f":"IF(CF262<>\"\",C262,\"\")","v":""},{"$f":"IF(AR262>0,IF($CF262=\"y\",AR262/$AQ$604,\"\"),\"\")","v":""},{"$f":"IF(AY262=\"\",\"\",COUNTIF(B$5:B$503,AO262))","v":""},{"$f":"IF(AU262=\"\",\"\",COUNTIF(B$5:B$503,AO262))","v":0},{"$f":"IF(AS262=\"\",\"\",COUNTIF(B$5:B$503,AO262))","v":""},{"$f":"IF(AU262=\"\",\"\",IF(AW262=\"\",\"\",COUNTIF(B$5:B$503,AO262)))","v":0},{"$f":"IF(Q262=\"\",\"\",COUNTIF($AO$5:$AO$688,Q262))","v":""},null,{"$f":"IF(CQ262=\"\",\"\",IF(COUNTIF($B$5:$B$503,$CQ262)=0,\"\",SUMIF(B$5:B$503,CQ262,C$5:C$503)/COUNTIF($B$5:$B$503,$CQ262)))","v":""},{"$f":"IF(CQ262=\"\",\"\",IF(COUNTIF(B$5:B$503,CQ262)=0,\"\",COUNTIF(B$5:B$503,CQ262)/COUNTA(B$5:B$503)))","v":""},{"$f":"AO262","v":"JUEN"},{"$f":"IF(DC262=\"a\",PLANTS!I260,DMA!DC262)","v":5},{"$f":"IF(DD262=\"a\",PLANTS!G260,DMA!DD262)","v":75},null,null,null,null,null,null,null,null,null,{"$f":"PLANTS!I260","v":5},{"$f":"PLANTS!G260","v":75},{"$f":"PLANTS!H260","v":"M"},null,null,null,null,{"$f":"IF(M262=\"\",\"\",M262)","v":""},{"$f":"IF(DMA!DJ262=\"\",\"\",(DMA!N262-SUMIF(Graphs!$O$13:$O$199,DMA!$DJ262,Graphs!$V$13:$V$199))^2)","v":""},{"$f":"IF(DMA!DK262=\"\",\"\",(DMA!O262-SUMIF(Graphs!$O$13:$O$199,DMA!$DJ262,Graphs!$V$13:$V$199))^2)","v":""},{"$f":"IF(DMA!DL262=\"\",\"\",(DMA!P262-SUMIF(Graphs!$O$13:$O$199,DMA!$DJ262,Graphs!$V$13:$V$199))^2)","v":""},"",0,{"$f":"IF($AQ262<>\"\",$DO262*$BC262,\"\")","v":""},{"$f":"(DO262*$AP262)","v":0}]
[null,null,null,null,null,null,null,null,null,null,null,null,null,null,null,null,null,null,null,{"$f":"IF(A263=\"\",\"\",(Header!C$7*Header!C$6)*A263)","v":""},"","","","","",null,null,null,null,null,null,null,null,null,null,null,null,null,null,null,{"$f":"IF(PLANTS!A261=\"\",\"\",PLANTS!A261)","v":"JUIN2"},5,"",0,{"$f":"IF(PLANTS!C261=\"\",\"\",PLANTS!C261)","v":""},"",{"$f":"IF(PLANTS!D261=\"\",\"\",PLANTS!D261)","v":"y"},"",{"$f":"IF(PLANTS!E261=\"\",\"\",PLANTS!E261)","v":"y"},{"$f":"IF(AU263=\"y\",IF(AW263=\"y\",AV263,\"\"),\"\")","v":""},{"$f":"IF(PLANTS!F261=\"\",\"\",PLANTS!F261)","v":""},"",0,null,50,"",null,0,{"$f":"IF(DE263=\"A\",PLANTS!H261,DE263)","v":"L"},80,null,"","","","",null,null,null,"","",null,null,null,null,null,null,{"$error":"#DIV/0!"},null,"",null," ","",null,"","","","",0,"",0,"",null,"","","JUIN2",{"$f":"IF(DC263=\"a\",PLANTS!I261,DMA!DC263)","v":5},{"$f":"IF(DD263=\"a\",PLANTS!G261,DMA!DD263)","v":50},null,null,null,null,null,null,null,null,null,{"$f":"PLANTS!I261","v":5},{"$f":"PLANTS!G261","v":50},{"$f":"PLANTS!H261","v":"L"},null,null,null,null,"",{"$f":"IF(DMA!DJ263=\"\",\"\",(DMA!N263-SUMIF(Graphs!$O$13:$O$199,DMA!$DJ263,Graphs!$V$13:$V$199))^2)","v":""},{"$f":"IF(DMA!DK263=\"\",\"\",(DMA!O263-SUMIF(Graphs!$O$13:$O$199,DMA!$DJ263,Graphs!$V$13:$V$199))^2)","v":""},{"$f":"IF(DMA!DL263=\"\",\"\",(DMA!P263-SUMIF(Graphs!$O$13:$O$199,DMA!$DJ263,Graphs!$V$13:$V$199))^2)","v":""},"",0,"",0]
[null,null,null,null,null,null,null,null,null,null,null,null,null,null,null,null,null,null,null,{"$f":"IF(A264=\"\",\"\",(Header!C$7*Header!C$6)*A264)","v":""},"","","","","",null,null,null,null,null,null,null,null,null,null,null,null,null,null,null,{"$f":"IF(PLANTS!A262=\"\",\"\",PLANTS!A262)","v":"JULO"},5,"",0,{"$f":"IF(PLANTS!C262=\"\",\"\",PLANTS!C262)","v":""},"",{"$f":"IF(PLANTS!D262=\"\",\"\",PLANTS!D262)","v":"y"},"",{"$f":"IF(PLANTS!E262=\"\",\"\",PLANTS!E262)","v":"y"},"",{"$f":"IF(PLANTS!F262=\"\",\"\",PLANTS!F262)","v":""},"",0,null,75,"",null,0,{"$f":"IF(DE264=\"A\",PLANTS!H262,DE264)","v":"M"},{"$f":"IF(BG264=\"l\",80,IF(BG264=\"m\",50,IF(BG264=\"E\",20)))","v":50},null,"","","","",null,null,null,"","",null,null,null,null,null,null,{"$error":"#DIV/0!"},null,"",null," ","",null,"","","","",0,"",0,"",null,"","","JULO",{"$f":"IF(DC264=\"a\",PLANTS!I262,DMA!DC264)","v":5},{"$f":"IF(DD264=\"a\",PLANTS!G262,DMA!DD264)","v":75},null,null,null,null,null,null,null,null,null,{"$f":"PLANTS!I262","v":5},{"$f":"PLANTS!G262","v":75},{"$f":"PLANTS!H262","v":"M"},null,null,null,null,"",{"$f":"IF(DMA!DJ264=\"\",\"\",(DMA!N264-SUMIF(Graphs!$O$13:$O$199,DMA!$DJ264,Graphs!$V$13:$V$199))^2)","v":""},{"$f":"IF(DMA!DK264=\"\",\"\",(DMA!O264-SUMIF(Graphs!$O$13:$O$199,DMA!$DJ264,Graphs!$V$13:$V$199))^2)","v":""},{"$f":"IF(DMA!DL264=\"\",\"\",(DMA!P264-SUMIF(Graphs!$O$13:$O$199,DMA!$DJ264,Graphs!$V$13:$V$199))^2)","v":""},"",0,"",0]
[null,null,null,null,null,null,null,null,null,null,null,null,null,null,null,null,null,null,null,{"$f":"IF(A265=\"\",\"\",(Header!C$7*Header!C$6)*A265)","v":""},"","","","","",null,null,null,null,null,null,null,null,null,null,null,null,null,null,null,{"$f":"IF(PLANTS!A263=\"\",\"\",PLANTS!A263)","v":"JUMA"},8.5,"",0,{"$f":"IF(PLANTS!C263=\"\",\"\",PLANTS!C263)","v":"y"},"",{"$f":"IF(PLANTS!D263=\"\",\"\",PLANTS!D263)","v":""},"",{"$f":"IF(PLANTS!E263=\"\",\"\",PLANTS!E263)","v":""},"",{"$f":"IF(PLANTS!F263=\"\",\"\",PLANTS!F263)","v":""},"",0,null,50,"",null,0,{"$f":"IF(DE265=\"A\",PLANTS!H263,DE265)","v":"L"},80,null,"","","","",null,null,null,"","",null,null,null,null,null,null,{"$error":"#DIV/0!"},null,"",null," ","",null,"","","","","",0,"","",null,"","","JUMA",{"$f":"IF(DC265=\"a\",PLANTS!I263,DMA!DC265)","v":8.5},{"$f":"IF(DD265=\"a\",PLANTS!G263,DMA!DD265)","v":50},null,null,null,null,null,null,null,null,null,{"$f":"PLANTS!I263","v":8.5},{"$f":"PLANTS!G263","v":50},{"$f":"PLANTS!H263","v":"L"},null,null,null,null,"",{"$f":"IF(DMA!DJ265=\"\",\"\",(DMA!N265-SUMIF(Graphs!$O$13:$O$199,DMA!$DJ265,Graphs!$V$13:$V$199))^2)","v":""},{"$f":"IF(DMA!DK265=\"\",\"\",(DMA!O265-SUMIF(Graphs!$O$13:$O$199,DMA!$DJ265,Graphs!$V$13:$V$199))^2)","v":""},{"$f":"IF(DMA!DL265=\"\",\"\",(DMA!P265-SUMIF(Graphs!$O$13:$O$199,DMA!$DJ265,Graphs!$V$13:$V$199))^2)","v":""},"",0,"",0]
[null,null,null,null,null,null,null,null,null,null,null,null,null,null,null,null,null,null,null,{"$f":"IF(A266=\"\",\"\",(Header!C$7*Header!C$6)*A266)","v":""},"","","","","",null,null,null,null,null,null,null,null,null,null,null,null,null,null,null,{"$f":"IF(PLANTS!A264=\"\",\"\",PLANTS!A264)","v":"JUMA3"},5,"",0,{"$f":"IF(PLANTS!C264=\"\",\"\",PLANTS!C264)","v":""},"",{"$f":"IF(PLANTS!D264=\"\",\"\",PLANTS!D264)","v":"y"},"",{"$f":"IF(PLANTS!E264=\"\",\"\",PLANTS!E264)","v":"y"},"",{"$f":"IF(PLANTS!F264=\"\",\"\",PLANTS!F264)","v":""},"",0,null,75,"",null,0,{"$f":"IF(DE266=\"A\",PLANTS!H264,DE266)","v":"M"},50,null,"","","","",null,null,null,"","",null,null,null,null,null,null,{"$error":"#DIV/0!"},null,"",null," ","",null,"","","","",0,"",0,"",null,"","","JUMA3",{"$f":"IF(DC266=\"a\",PLANTS!I264,DMA!DC266)","v":5},{"$f":"IF(DD266=\"a\",PLANTS!G264,DMA!DD266)","v":75},null,null,null,null,null,null,null,null,null,{"$f":"PLANTS!I264","v":5},{"$f":"PLANTS!G264","v":75},{"$f":"PLANTS!H264","v":"M"},null,null,null,null,"",{"$f":"IF(DMA!DJ266=\"\",\"\",(DMA!N266-SUMIF(Graphs!$O$13:$O$199,DMA!$DJ266,Graphs!$V$13:$V$199))^2)","v":""},{"$f":"IF(DMA!DK266=\"\",\"\",(DMA!O266-SUMIF(Graphs!$O$13:$O$199,DMA!$DJ266,Graphs!$V$13:$V$199))^2)","v":""},{"$f":"IF(DMA!DL266=\"\",\"\",(DMA!P266-SUMIF(Graphs!$O$13:$O$199,DMA!$DJ266,Graphs!$V$13:$V$199))^2)","v":""},"",0,"",0]
[null,null,null,null,null,null,null,null,null,null,null,null,null,null,null,null,null,null,null,{"$f":"IF(A267=\"\",\"\",(Header!C$7*Header!C$6)*A267)","v":""},"","","","","",null,null,null,null,null,null,null,null,null,null,null,null,null,null,null,{"$f":"IF(PLANTS!A265=\"\",\"\",PLANTS!A265)","v":"JUME3"},0,"",0,{"$f":"IF(PLANTS!C265=\"\",\"\",PLANTS!C265)","v":""},"",{"$f":"IF(PLANTS!D265=\"\",\"\",PLANTS!D265)","v":"y"},"",{"$f":"IF(PLANTS!E265=\"\",\"\",PLANTS!E265)","v":"y"},"",{"$f":"IF(PLANTS!F265=\"\",\"\",PLANTS!F265)","v":""},"",0,null,100,"",null,0,{"$f":"IF(DE267=\"A\",PLANTS!H265,DE267)","v":"L"},80,null,"","","","",null,null,null,"","",null,null,null,null,null,null,{"$error":"#DIV/0!"},null,"",null," ","",null,"","","","",0,"",0,"",null,"","","JUME3",{"$f":"IF(DC267=\"a\",PLANTS!I265,DMA!DC267)","v":0},{"$f":"IF(DD267=\"a\",PLANTS!G265,DMA!DD267)","v":100},null,null,null,null,null,null,null,null,null,{"$f":"PLANTS!I265","v":0},{"$f":"PLANTS!G265","v":100},{"$f":"PLANTS!H265","v":"L"},null,null,null,null,"",{"$f":"IF(DMA!DJ267=\"\",\"\",(DMA!N267-SUMIF(Graphs!$O$13:$O$199,DMA!$DJ267,Graphs!$V$13:$V$199))^2)","v":""},{"$f":"IF(DMA!DK267=\"\",\"\",(DMA!O267-SUMIF(Graphs!$O$13:$O$199,DMA!$DJ267,Graphs!$V$13:$V$199))^2)","v":""},{"$f":"IF(DMA!DL267=\"\",\"\",(DMA!P267-SUMIF(Graphs!$O$13:$O$199,DMA!$DJ267,Graphs!$V$13:$V$199))^2)","v":""},"",0,"",0]
[null,null,null,null,null,null,null,null,null,null,null,null,null,null,null,null,null,null,null,{"$f":"IF(A268=\"\",\"\",(Header!C$7*Header!C$6)*A268)","v":""},"","","","","",null,null,null,null,null,null,null,null,null,null,null,null,null,null,null,{"$f":"IF(PLANTS!A266=\"\",\"\",PLANTS!A266)","v":"JUME4"},8.5,"",0,{"$f":"IF(PLANTS!C266=\"\",\"\",PLANTS!C266)","v":""},"",{"$f":"IF(PLANTS!D266=\"\",\"\",PLANTS!D266)","v":"y"},"",{"$f":"IF(PLANTS!E266=\"\",\"\",PLANTS!E266)","v":"y"},"",{"$f":"IF(PLANTS!F266=\"\",\"\",PLANTS!F266)","v":""},"",0,null,75,"",null,0,{"$f":"IF(DE268=\"A\",PLANTS!H266,DE268)","v":"M"},50,null,"","","","",null,null,null,"","",null,null,null,null,null,null,{"$error":"#DIV/0!"},null,"",null," ","",null,"","","","",0,"",0,"",null,"","","JUME4",{"$f":"IF(DC268=\"a\",PLANTS!I266,DMA!DC268)","v":8.5},{"$f":"IF(DD268=\"a\",PLANTS!G266,DMA!DD268)","v":75},null,null,null,null,null,null,null,null,null,{"$f":"PLANTS!I266","v":8.5},{"$f":"PLANTS!G266","v":75},{"$f":"PLANTS!H266","v":"M"},null,null,null,null,"",{"$f":"IF(DMA!DJ268=\"\",\"\",(DMA!N268-SUMIF(Graphs!$O$13:$O$199,DMA!$DJ268,Graphs!$V$13:$V$199))^2)","v":""},{"$f":"IF(DMA!DK268=\"\",\"\",(DMA!O268-SUMIF(Graphs!$O$13:$O$199,DMA!$DJ268,Graphs!$V$13:$V$199))^2)","v":""},{"$f":"IF(DMA!DL268=\"\",\"\",(DMA!P268-SUMIF(Graphs!$O$13:$O$199,DMA!$DJ268,Graphs!$V$13:$V$199))^2)","v":""},"",0,"",0]
[null,null,null,null,null,null,null,null,null,null,null,null,null,null,null,null,null,null,null,{"$f":"IF(A269=\"\",\"\",(Header!C$7*Header!C$6)*A269)","v":""},"","","","","",null,null,null,null,null,null,null,null,null,null,null,null,null,null,null,{"$f":"IF(PLANTS!A267=\"\",\"\",PLANTS!A267)","v":"JUNCU"},5,"",0,{"$f":"IF(PLANTS!C267=\"\",\"\",PLANTS!C267)","v":""},"",{"$f":"IF(PLANTS!D267=\"\",\"\",PLANTS!D267)","v":"y"},"",{"$f":"IF(PLANTS!E267=\"\",\"\",PLANTS!E267)","v":"y"},"",{"$f":"IF(PLANTS!F267=\"\",\"\",PLANTS!F267)","v":""},"",0,null,75,"",null,0,{"$f":"IF(DE269=\"A\",PLANTS!H267,DE269)","v":"M"},50,null,"","","","",null,null,null,"","",null,null,null,null,null,null,{"$error":"#DIV/0!"},null,"",null," ","",null,"","","","",0,"",0,"",null,"","","JUNCU",{"$f":"IF(DC269=\"a\",PLANTS!I267,DMA!DC269)","v":5},{"$f":"IF(DD269=\"a\",PLANTS!G267,DMA!DD269)","v":75},null,null,null,null,null,null,null,null,null,{"$f":"PLANTS!I267","v":5},{"$f":"PLANTS!G267","v":75},{"$f":"PLANTS!H267","v":"M"},null,null,null,null,"",{"$f":"IF(DMA!DJ269=\"\",\"\",(DMA!N269-SUMIF(Graphs!$O$13:$O$199,DMA!$DJ269,Graphs!$V$13:$V$199))^2)","v":""},{"$f":"IF(DMA!DK269=\"\",\"\",(DMA!O269-SUMIF(Graphs!$O$13:$O$199,DMA!$DJ269,Graphs!$V$13:$V$199))^2)","v":""},{"$f":"IF(DMA!DL269=\"\",\"\",(DMA!P269-SUMIF(Graphs!$O$13:$O$199,DMA!$DJ269,Graphs!$V$13:$V$199))^2)","v":""},"",0,"",0]
[null,null,null,null,null,null,null,null,null,null,null,null,null,null,null,null,null,null,null,{"$f":"IF(A270=\"\",\"\",(Header!C$7*Header!C$6)*A270)","v":""},"","","","","",null,null,null,null,null,null,null,null,null,null,null,null,null,null,null,{"$f":"IF(PLANTS!A268=\"\",\"\",PLANTS!A268)","v":"JUNE"},5,"",0,{"$f":"IF(PLANTS!C268=\"\",\"\",PLANTS!C268)","v":""},"",{"$f":"IF(PLANTS!D268=\"\",\"\",PLANTS!D268)","v":"y"},"",{"$f":"IF(PLANTS!E268=\"\",\"\",PLANTS!E268)","v":"y"},"",{"$f":"IF(PLANTS!F268=\"\",\"\",PLANTS!F268)","v":""},"",0,null,75,"",null,0,{"$f":"IF(DE270=\"A\",PLANTS!H268,DE270)","v":"L"},80,null,"","","","",null,null,null,"","",null,null,null,null,null,null,{"$error":"#DIV/0!"},null,"",null," ","",null,"","","","",0,"",0,"",null,"","","JUNE",{"$f":"IF(DC270=\"a\",PLANTS!I268,DMA!DC270)","v":5},{"$f":"IF(DD270=\"a\",PLANTS!G268,DMA!DD270)","v":75},null,null,null,null,null,null,null,null,null,{"$f":"PLANTS!I268","v":5},{"$f":"PLANTS!G268","v":75},{"$f":"PLANTS!H268","v":"L"},null,null,null,null,"",{"$f":"IF(DMA!DJ270=\"\",\"\",(DMA!N270-SUMIF(Graphs!$O$13:$O$199,DMA!$DJ270,Graphs!$V$13:$V$199))^2)","v":""},{"$f":"IF(DMA!DK270=\"\",\"\",(DMA!O270-SUMIF(Graphs!$O$13:$O$199,DMA!$DJ270,Graphs!$V$13:$V$199))^2)","v":""},{"$f":"IF(DMA!DL270=\"\",\"\",(DMA!P270-SUMIF(Graphs!$O$13:$O$199,DMA!$DJ270,Graphs!$V$13:$V$199))^2)","v":""},"",0,"",0]
[null,null,null,null,null,null,null,null,null,null,null,null,null,null,null,null,null,null,null,{"$f":"IF(A271=\"\",\"\",(Header!C$7*Header!C$6)*A271)","v":""},"","","","","",null,null,null,null,null,null,null,null,null,null,null,null,null,null,null,{"$f":"IF(PLANTS!A269=\"\",\"\",PLANTS!A269)","v":"JUNO2"},8.5,"",0,{"$f":"IF(PLANTS!C269=\"\",\"\",PLANTS!C269)","v":""},"",{"$f":"IF(PLANTS!D269=\"\",\"\",PLANTS!D269)","v":"y"},"",{"$f":"IF(PLANTS!E269=\"\",\"\",PLANTS!E269)","v":"y"},"",{"$f":"IF(PLANTS!F269=\"\",\"\",PLANTS!F269)","v":""},"",0,null,100,"",null,0,{"$f":"IF(DE271=\"A\",PLANTS!H269,DE271)","v":"L"},80,null,"","","","",null,null,null,"","",null,null,null,null,null,null,{"$error":"#DIV/0!"},null,"",null," ","",null,"","","","",0,"",0,"",null,"","","JUNO2",{"$f":"IF(DC271=\"a\",PLANTS!I269,DMA!DC271)","v":8.5},{"$f":"IF(DD271=\"a\",PLANTS!G269,DMA!DD271)","v":100},null,null,null,null,null,null,null,null,null,{"$f":"PLANTS!I269","v":8.5},{"$f":"PLANTS!G269","v":100},{"$f":"PLANTS!H269","v":"L"},null,null,null,null,"",{"$f":"IF(DMA!DJ271=\"\",\"\",(DMA!N271-SUMIF(Graphs!$O$13:$O$199,DMA!$DJ271,Graphs!$V$13:$V$199))^2)","v":""},{"$f":"IF(DMA!DK271=\"\",\"\",(DMA!O271-SUMIF(Graphs!$O$13:$O$199,DMA!$DJ271,Graphs!$V$13:$V$199))^2)","v":""},{"$f":"IF(DMA!DL271=\"\",\"\",(DMA!P271-SUMIF(Graphs!$O$13:$O$199,DMA!$DJ271,Graphs!$V$13:$V$199))^2)","v":""},"",0,"",0]
[null,null,null,null,null,null,null,null,null,null,null,null,null,null,null,null,null,null,null,{"$f":"IF(A272=\"\",\"\",(Header!C$7*Header!C$6)*A272)","v":""},"","","","","",null,null,null,null,null,null,null,null,null,null,null,null,null,null,null,{"$f":"IF(PLANTS!A270=\"\",\"\",PLANTS!A270)","v":"JUOC"},2,"",0,{"$f":"IF(PLANTS!C270=\"\",\"\",PLANTS!C270)","v":"y"},"",{"$f":"IF(PLANTS!D270=\"\",\"\",PLANTS!D270)","v":""},"",{"$f":"IF(PLANTS!E270=\"\",\"\",PLANTS!E270)","v":""},"",{"$f":"IF(PLANTS!F270=\"\",\"\",PLANTS!F270)","v":""},"",0,null,0,"",null,0,{"$f":"IF(DE272=\"A\",PLANTS!H270,DE272)","v":"E"},20,null,"","","","",null,null,null,"","",null,null,null,null,null,null,{"$error":"#DIV/0!"},null,"",null," ","",null,"","","","","",0,"","",null,"","","JUOC",{"$f":"IF(DC272=\"a\",PLANTS!I270,DMA!DC272)","v":2},{"$f":"IF(DD272=\"a\",PLANTS!G270,DMA!DD272)","v":0},null,null,null,null,null,null,null,null,null,{"$f":"PLANTS!I270","v":2},{"$f":"PLANTS!G270","v":0},{"$f":"PLANTS!H270","v":"E"},null,null,null,null,"",{"$f":"IF(DMA!DJ272=\"\",\"\",(DMA!N272-SUMIF(Graphs!$O$13:$O$199,DMA!$DJ272,Graphs!$V$13:$V$199))^2)","v":""},{"$f":"IF(DMA!DK272=\"\",\"\",(DMA!O272-SUMIF(Graphs!$O$13:$O$199,DMA!$DJ272,Graphs!$V$13:$V$199))^2)","v":""},{"$f":"IF(DMA!DL272=\"\",\"\",(DMA!P272-SUMIF(Graphs!$O$13:$O$199,DMA!$DJ272,Graphs!$V$13:$V$199))^2)","v":""},"",0,"",0]
[null,null,null,null,null,null,null,null,null,null,null,null,null,null,null,null,null,null,null,{"$f":"IF(A273=\"\",\"\",(Header!C$7*Header!C$6)*A273)","v":""},"","","","","",null,null,null,null,null,null,null,null,null,null,null,null,null,null,null,{"$f":"IF(PLANTS!A271=\"\",\"\",PLANTS!A271)","v":"JUOR"},2,"",0,{"$f":"IF(PLANTS!C271=\"\",\"\",PLANTS!C271)","v":""},"",{"$f":"IF(PLANTS!D271=\"\",\"\",PLANTS!D271)","v":"y"},"",{"$f":"IF(PLANTS!E271=\"\",\"\",PLANTS!E271)","v":"y"},"",{"$f":"IF(PLANTS!F271=\"\",\"\",PLANTS!F271)","v":""},"",0,null,75,"",null,0,{"$f":"IF(DE273=\"A\",PLANTS!H271,DE273)","v":"M"},50,null,"","","","",null,null,null,"","",null,null,null,null,null,null,{"$error":"#DIV/0!"},null,"",null," ","",null,"","","","",0,"",0,"",null,"","","JUOR",{"$f":"IF(DC273=\"a\",PLANTS!I271,DMA!DC273)","v":2},{"$f":"IF(DD273=\"a\",PLANTS!G271,DMA!DD273)","v":75},null,null,null,null,null,null,null,null,null,{"$f":"PLANTS!I271","v":2},{"$f":"PLANTS!G271","v":75},{"$f":"PLANTS!H271","v":"M"},null,null,null,null,"",{"$f":"IF(DMA!DJ273=\"\",\"\",(DMA!N273-SUMIF(Graphs!$O$13:$O$199,DMA!$DJ273,Graphs!$V$13:$V$199))^2)","v":""},{"$f":"IF(DMA!DK273=\"\",\"\",(DMA!O273-SUMIF(Graphs!$O$13:$O$199,DMA!$DJ273,Graphs!$V$13:$V$199))^2)","v":""},{"$f":"IF(DMA!DL273=\"\",\"\",(DMA!P273-SUMIF(Graphs!$O$13:$O$199,DMA!$DJ273,Graphs!$V$13:$V$199))^2)","v":""},"",0,"",0]
[null,null,null,null,null,null,null,null,null,null,null,null,null,null,null,null,null,null,null,{"$f":"IF(A274=\"\",\"\",(Header!C$7*Header!C$6)*A274)","v":""},"","","","","",null,null,null,null,null,null,null,null,null,null,null,null,null,null,null,{"$f":"IF(PLANTS!A272=\"\",\"\",PLANTS!A272)","v":"JUOS"},2,"",0,{"$f":"IF(PLANTS!C272=\"\",\"\",PLANTS!C272)","v":"y"},"",{"$f":"IF(PLANTS!D272=\"\",\"\",PLANTS!D272)","v":""},"",{"$f":"IF(PLANTS!E272=\"\",\"\",PLANTS!E272)","v":""},"",{"$f":"IF(PLANTS!F272=\"\",\"\",PLANTS!F272)","v":""},"",0,null,0,"",null,0,{"$f":"IF(DE274=\"A\",PLANTS!H272,DE274)","v":"E"},20,null,"","","","",null,null,null,"","",null,null,null,null,null,null,{"$error":"#DIV/0!"},null,"",null," ","",null,"","","","","",0,"","",null,"","","JUOS",{"$f":"IF(DC274=\"a\",PLANTS!I272,DMA!DC274)","v":2},{"$f":"IF(DD274=\"a\",PLANTS!G272,DMA!DD274)","v":0},null,null,null,null,null,null,null,null,null,{"$f":"PLANTS!I272","v":2},{"$f":"PLANTS!G272","v":0},{"$f":"PLANTS!H272","v":"E"},null,null,null,null,"",{"$f":"IF(DMA!DJ274=\"\",\"\",(DMA!N274-SUMIF(Graphs!$O$13:$O$199,DMA!$DJ274,Graphs!$V$13:$V$199))^2)","v":""},{"$f":"IF(DMA!DK274=\"\",\"\",(DMA!O274-SUMIF(Graphs!$O$13:$O$199,DMA!$DJ274,Graphs!$V$13:$V$199))^2)","v":""},{"$f":"IF(DMA!DL274=\"\",\"\",(DMA!P274-SUMIF(Graphs!$O$13:$O$199,DMA!$DJ274,Graphs!$V$13:$V$199))^2)","v":""},"",0,"",0]
[null,null,null,null,null,null,null,null,null,null,null,null,null,null,null,null,null,null,null,{"$f":"IF(A275=\"\",\"\",(Header!C$7*Header!C$6)*A275)","v":""},"","","","","",null,null,null,null,null,null,null,null,null,null,null,null,null,null,null,{"$f":"IF(PLANTS!A273=\"\",\"\",PLANTS!A273)","v":"JUSA"},2,"",0,{"$f":"IF(PLANTS!C273=\"\",\"\",PLANTS!C273)","v":""},"",{"$f":"IF(PLANTS!D273=\"\",\"\",PLANTS!D273)","v":"y"},"",{"$f":"IF(PLANTS!E273=\"\",\"\",PLANTS!E273)","v":"y"},"",{"$f":"IF(PLANTS!F273=\"\",\"\",PLANTS!F273)","v":""},"",0,null,75,"",null,0,{"$f":"IF(DE275=\"A\",PLANTS!H273,DE275)","v":"L"},80,null,"","","","",null,null,null,"","",null,null,null,null,null,null,{"$error":"#DIV/0!"},null,"",null," ","",null,"","","","",0,"",0,"",null,"","","JUSA",{"$f":"IF(DC275=\"a\",PLANTS!I273,DMA!DC275)","v":2},{"$f":"IF(DD275=\"a\",PLANTS!G273,DMA!DD275)","v":75},null,null,null,null,null,null,null,null,null,{"$f":"PLANTS!I273","v":2},{"$f":"PLANTS!G273","v":75},{"$f":"PLANTS!H273","v":"L"},null,null,null,null,"",{"$f":"IF(DMA!DJ275=\"\",\"\",(DMA!N275-SUMIF(Graphs!$O$13:$O$199,DMA!$DJ275,Graphs!$V$13:$V$199))^2)","v":""},{"$f":"IF(DMA!DK275=\"\",\"\",(DMA!O275-SUMIF(Graphs!$O$13:$O$199,DMA!$DJ275,Graphs!$V$13:$V$199))^2)","v":""},{"$f":"IF(DMA!DL275=\"\",\"\",(DMA!P275-SUMIF(Graphs!$O$13:$O$199,DMA!$DJ275,Graphs!$V$13:$V$199))^2)","v":""},"",0,"",0]
[null,null,null,null,null,null,null,null,null,null,null,null,null,null,null,null,null,null,null,{"$f":"IF(A276=\"\",\"\",(Header!C$7*Header!C$6)*A276)","v":""},"","","","","",null,null,null,null,null,null,null,null,null,null,null,null,null,null,null,{"$f":"IF(PLANTS!A274=\"\",\"\",PLANTS!A274)","v":"JUSC2"},5,"",0,{"$f":"IF(PLANTS!C274=\"\",\"\",PLANTS!C274)","v":"y"},"",{"$f":"IF(PLANTS!D274=\"\",\"\",PLANTS!D274)","v":""},"",{"$f":"IF(PLANTS!E274=\"\",\"\",PLANTS!E274)","v":""},"",{"$f":"IF(PLANTS!F274=\"\",\"\",PLANTS!F274)","v":""},"",0,null,25,"",null,0,{"$f":"IF(DE276=\"A\",PLANTS!H274,DE276)","v":"E"},20,null,"","","","",null,null,null,"","",null,null,null,null,null,null,{"$error":"#DIV/0!"},null,"",null," ","",null,"","","","","",0,"","",null,"","","JUSC2",{"$f":"IF(DC276=\"a\",PLANTS!I274,DMA!DC276)","v":5},{"$f":"IF(DD276=\"a\",PLANTS!G274,DMA!DD276)","v":25},null,null,null,null,null,null,null,null,null,{"$f":"PLANTS!I274","v":5},{"$f":"PLANTS!G274","v":25},{"$f":"PLANTS!H274","v":"E"},null,null,null,null,"",{"$f":"IF(DMA!DJ276=\"\",\"\",(DMA!N276-SUMIF(Graphs!$O$13:$O$199,DMA!$DJ276,Graphs!$V$13:$V$199))^2)","v":""},{"$f":"IF(DMA!DK276=\"\",\"\",(DMA!O276-SUMIF(Graphs!$O$13:$O$199,DMA!$DJ276,Graphs!$V$13:$V$199))^2)","v":""},{"$f":"IF(DMA!DL276=\"\",\"\",(DMA!P276-SUMIF(Graphs!$O$13:$O$199,DMA!$DJ276,Graphs!$V$13:$V$199))^2)","v":""},"",0,"",0]
[null,null,null,null,null,null,null,null,null,null,null,null,null,null,null,null,null,null,null,{"$f":"IF(A277=\"\",\"\",(Header!C$7*Header!C$6)*A277)","v":""},"","","","","",null,null,null,null,null,null,null,null,null,null,null,null,null,null,null,{"$f":"IF(PLANTS!A275=\"\",\"\",PLANTS!A275)","v":"JUTE"},2,"",0,{"$f":"IF(PLANTS!C275=\"\",\"\",PLANTS!C275)","v":""},"",{"$f":"IF(PLANTS!D275=\"\",\"\",PLANTS!D275)","v":"y"},"",{"$f":"IF(PLANTS!E275=\"\",\"\",PLANTS!E275)","v":"y"},"",{"$f":"IF(PLANTS!F275=\"\",\"\",PLANTS!F275)","v":""},"",0,null,75,"",null,0,{"$f":"IF(DE277=\"A\",PLANTS!H275,DE277)","v":"E"},20,null,"","","","",null,null,null,"","",null,null,null,null,null,null,{"$error":"#DIV/0!"},null,"",null," ","",null,"","","","",0,"",0,"",null,"","","JUTE",{"$f":"IF(DC277=\"a\",PLANTS!I275,DMA!DC277)","v":2},{"$f":"IF(DD277=\"a\",PLANTS!G275,DMA!DD277)","v":75},null,null,null,null,null,null,null,null,null,{"$f":"PLANTS!I275","v":2},{"$f":"PLANTS!G275","v":75},{"$f":"PLANTS!H275","v":"E"},null,null,null,null,"",{"$f":"IF(DMA!DJ277=\"\",\"\",(DMA!N277-SUMIF(Graphs!$O$13:$O$199,DMA!$DJ277,Graphs!$V$13:$V$199))^2)","v":""},{"$f":"IF(DMA!DK277=\"\",\"\",(DMA!O277-SUMIF(Graphs!$O$13:$O$199,DMA!$DJ277,Graphs!$V$13:$V$199))^2)","v":""},{"$f":"IF(DMA!DL277=\"\",\"\",(DMA!P277-SUMIF(Graphs!$O$13:$O$199,DMA!$DJ277,Graphs!$V$13:$V$199))^2)","v":""},"",0,"",0]
[null,null,null,null,null,null,null,null,null,null,null,null,null,null,null,null,null,null,null,{"$f":"IF(A278=\"\",\"\",(Header!C$7*Header!C$6)*A278)","v":""},"","","","","",null,null,null,null,null,null,null,null,null,null,null,null,null,null,null,{"$f":"IF(PLANTS!A276=\"\",\"\",PLANTS!A276)","v":"JUTO"},8.5,"",0,{"$f":"IF(PLANTS!C276=\"\",\"\",PLANTS!C276)","v":""},"",{"$f":"IF(PLANTS!D276=\"\",\"\",PLANTS!D276)","v":"y"},"",{"$f":"IF(PLANTS!E276=\"\",\"\",PLANTS!E276)","v":"y"},"",{"$f":"IF(PLANTS!F276=\"\",\"\",PLANTS!F276)","v":""},"",0,null,75,"",null,0,{"$f":"IF(DE278=\"A\",PLANTS!H276,DE278)","v":"L"},80,null,"","","","",null,null,null,"","",null,null,null,null,null,null,{"$error":"#DIV/0!"},null,"",null," ","",null,"","","","",0,"",0,"",null,"","","JUTO",{"$f":"IF(DC278=\"a\",PLANTS!I276,DMA!DC278)","v":8.5},{"$f":"IF(DD278=\"a\",PLANTS!G276,DMA!DD278)","v":75},null,null,null,null,null,null,null,null,null,{"$f":"PLANTS!I276","v":8.5},{"$f":"PLANTS!G276","v":75},{"$f":"PLANTS!H276","v":"L"},null,null,null,null,"",{"$f":"IF(DMA!DJ278=\"\",\"\",(DMA!N278-SUMIF(Graphs!$O$13:$O$199,DMA!$DJ278,Graphs!$V$13:$V$199))^2)","v":""},{"$f":"IF(DMA!DK278=\"\",\"\",(DMA!O278-SUMIF(Graphs!$O$13:$O$199,DMA!$DJ278,Graphs!$V$13:$V$199))^2)","v":""},{"$f":"IF(DMA!DL278=\"\",\"\",(DMA!P278-SUMIF(Graphs!$O$13:$O$199,DMA!$DJ278,Graphs!$V$13:$V$199))^2)","v":""},"",0,"",0]
[null,null,null,null,null,null,null,null,null,null,null,null,null,null,null,null,null,null,null,{"$f":"IF(A279=\"\",\"\",(Header!C$7*Header!C$6)*A279)","v":""},"","","","","",null,null,null,null,null,null,null,null,null,null,null,null,null,null,null,{"$f":"IF(PLANTS!A277=\"\",\"\",PLANTS!A277)","v":"JUTR"},5,"",0,{"$f":"IF(PLANTS!C277=\"\",\"\",PLANTS!C277)","v":""},"",{"$f":"IF(PLANTS!D277=\"\",\"\",PLANTS!D277)","v":"y"},"",{"$f":"IF(PLANTS!E277=\"\",\"\",PLANTS!E277)","v":"y"},"",{"$f":"IF(PLANTS!F277=\"\",\"\",PLANTS!F277)","v":""},"",0,null,75,"",null,0,{"$f":"IF(DE279=\"A\",PLANTS!H277,DE279)","v":"M"},50,null,"","","","",null,null,null,"","",null,null,null,null,null,null,{"$error":"#DIV/0!"},null,"",null," ","",null,"","","","",0,"",0,"",null,"","","JUTR",{"$f":"IF(DC279=\"a\",PLANTS!I277,DMA!DC279)","v":5},{"$f":"IF(DD279=\"a\",PLANTS!G277,DMA!DD279)","v":75},null,null,null,null,null,null,null,null,null,{"$f":"PLANTS!I277","v":5},{"$f":"PLANTS!G277","v":75},{"$f":"PLANTS!H277","v":"M"},null,null,null,null,"",{"$f":"IF(DMA!DJ279=\"\",\"\",(DMA!N279-SUMIF(Graphs!$O$13:$O$199,DMA!$DJ279,Graphs!$V$13:$V$199))^2)","v":""},{"$f":"IF(DMA!DK279=\"\",\"\",(DMA!O279-SUMIF(Graphs!$O$13:$O$199,DMA!$DJ279,Graphs!$V$13:$V$199))^2)","v":""},{"$f":"IF(DMA!DL279=\"\",\"\",(DMA!P279-SUMIF(Graphs!$O$13:$O$199,DMA!$DJ279,Graphs!$V$13:$V$199))^2)","v":""},"",0,"",0]
[null,null,null,null,null,null,null,null,null,null,null,null,null,null,null,null,null,null,null,{"$f":"IF(A280=\"\",\"\",(Header!C$7*Header!C$6)*A280)","v":""},"","","","","",null,null,null,null,null,null,null,null,null,null,null,null,null,null,null,{"$f":"IF(PLANTS!A278=\"\",\"\",PLANTS!A278)","v":"JUXI"},8.5,"",0,{"$f":"IF(PLANTS!C278=\"\",\"\",PLANTS!C278)","v":""},"",{"$f":"IF(PLANTS!D278=\"\",\"\",PLANTS!D278)","v":"y"},"",{"$f":"IF(PLANTS!E278=\"\",\"\",PLANTS!E278)","v":"y"},"",{"$f":"IF(PLANTS!F278=\"\",\"\",PLANTS!F278)","v":""},"",0,null,100,"",null,0,{"$f":"IF(DE280=\"A\",PLANTS!H278,DE280)","v":"L"},80,null,"","","","",null,null,null,"","",null,null,null,null,null,null,{"$error":"#DIV/0!"},null,"",null," ","",null,"","","","",0,"",0,"",null,"","","JUXI",{"$f":"IF(DC280=\"a\",PLANTS!I278,DMA!DC280)","v":8.5},{"$f":"IF(DD280=\"a\",PLANTS!G278,DMA!DD280)","v":100},null,null,null,null,null,null,null,null,null,{"$f":"PLANTS!I278","v":8.5},{"$f":"PLANTS!G278","v":100},{"$f":"PLANTS!H278","v":"L"},null,null,null,null,"",{"$f":"IF(DMA!DJ280=\"\",\"\",(DMA!N280-SUMIF(Graphs!$O$13:$O$199,DMA!$DJ280,Graphs!$V$13:$V$199))^2)","v":""},{"$f":"IF(DMA!DK280=\"\",\"\",(DMA!O280-SUMIF(Graphs!$O$13:$O$199,DMA!$DJ280,Graphs!$V$13:$V$199))^2)","v":""},{"$f":"IF(DMA!DL280=\"\",\"\",(DMA!P280-SUMIF(Graphs!$O$13:$O$199,DMA!$DJ280,Graphs!$V$13:$V$199))^2)","v":""},"",0,"",0]
[null,null,null,null,null,null,null,null,null,null,null,null,null,null,null,null,null,null,null,{"$f":"IF(A281=\"\",\"\",(Header!C$7*Header!C$6)*A281)","v":""},"","","","","",null,null,null,null,null,null,null,null,null,null,null,null,null,null,null,{"$f":"IF(PLANTS!A279=\"\",\"\",PLANTS!A279)","v":"KAMI"},5,"",0,{"$f":"IF(PLANTS!C279=\"\",\"\",PLANTS!C279)","v":"y"},"",{"$f":"IF(PLANTS!D279=\"\",\"\",PLANTS!D279)","v":"y"},"",{"$f":"IF(PLANTS!E279=\"\",\"\",PLANTS!E279)","v":""},"",{"$f":"IF(PLANTS!F279=\"\",\"\",PLANTS!F279)","v":""},"",0,null,100,"",null,0,{"$f":"IF(DE281=\"A\",PLANTS!H279,DE281)","v":"M"},50,null,"","","","",null,null,null,"","",null,null,null,null,null,null,{"$error":"#DIV/0!"},null,"",null," ","",null,"","","","",0,0,"","",null,"","","KAMI",{"$f":"IF(DC281=\"a\",PLANTS!I279,DMA!DC281)","v":5},{"$f":"IF(DD281=\"a\",PLANTS!G279,DMA!DD281)","v":100},null,null,null,null,null,null,null,null,null,{"$f":"PLANTS!I279","v":5},{"$f":"PLANTS!G279","v":100},{"$f":"PLANTS!H279","v":"M"},null,null,null,null,"",{"$f":"IF(DMA!DJ281=\"\",\"\",(DMA!N281-SUMIF(Graphs!$O$13:$O$199,DMA!$DJ281,Graphs!$V$13:$V$199))^2)","v":""},{"$f":"IF(DMA!DK281=\"\",\"\",(DMA!O281-SUMIF(Graphs!$O$13:$O$199,DMA!$DJ281,Graphs!$V$13:$V$199))^2)","v":""},{"$f":"IF(DMA!DL281=\"\",\"\",(DMA!P281-SUMIF(Graphs!$O$13:$O$199,DMA!$DJ281,Graphs!$V$13:$V$199))^2)","v":""},"",0,"",0]
[null,null,null,null,null,null,null,null,null,null,null,null,null,null,null,null,null,null,null,{"$f":"IF(A282=\"\",\"\",(Header!C$7*Header!C$6)*A282)","v":""},"","","","","",null,null,null,null,null,null,null,null,null,null,null,null,null,null,null,{"$f":"IF(PLANTS!A280=\"\",\"\",PLANTS!A280)","v":"KOSC"},2,"",0,{"$f":"IF(PLANTS!C280=\"\",\"\",PLANTS!C280)","v":""},"",{"$f":"IF(PLANTS!D280=\"\",\"\",PLANTS!D280)","v":""},"",{"$f":"IF(PLANTS!E280=\"\",\"\",PLANTS!E280)","v":"y"},"",{"$f":"IF(PLANTS!F280=\"\",\"\",PLANTS!F280)","v":"y"},"",0,null,50,"",null,0,{"$f":"IF(DE282=\"A\",PLANTS!H280,DE282)","v":"E"},20,null,"","","","",null,null,null,"","",null,null,null,null,null,null,{"$error":"#DIV/0!"},null,"",null," ","",null,"","","",0,"","","","",null,"","","KOSC",{"$f":"IF(DC282=\"a\",PLANTS!I280,DMA!DC282)","v":2},{"$f":"IF(DD282=\"a\",PLANTS!G280,DMA!DD282)","v":50},null,null,null,null,null,null,null,null,null,{"$f":"PLANTS!I280","v":2},{"$f":"PLANTS!G280","v":50},{"$f":"PLANTS!H280","v":"E"},null,null,null,null,"",{"$f":"IF(DMA!DJ282=\"\",\"\",(DMA!N282-SUMIF(Graphs!$O$13:$O$199,DMA!$DJ282,Graphs!$V$13:$V$199))^2)","v":""},{"$f":"IF(DMA!DK282=\"\",\"\",(DMA!O282-SUMIF(Graphs!$O$13:$O$199,DMA!$DJ282,Graphs!$V$13:$V$199))^2)","v":""},{"$f":"IF(DMA!DL282=\"\",\"\",(DMA!P282-SUMIF(Graphs!$O$13:$O$199,DMA!$DJ282,Graphs!$V$13:$V$199))^2)","v":""},"",0,"",0]
[null,null,null,null,null,null,null,null,null,null,null,null,null,null,null,null,null,null,null,{"$f":"IF(A283=\"\",\"\",(Header!C$7*Header!C$6)*A283)","v":""},"","","","","",null,null,null,null,null,null,null,null,null,null,null,null,null,null,null,{"$f":"IF(PLANTS!A281=\"\",\"\",PLANTS!A281)","v":"LASE"},2,"",0,{"$f":"IF(PLANTS!C281=\"\",\"\",PLANTS!C281)","v":""},"",{"$f":"IF(PLANTS!D281=\"\",\"\",PLANTS!D281)","v":""},"",{"$f":"IF(PLANTS!E281=\"\",\"\",PLANTS!E281)","v":"y"},"",{"$f":"IF(PLANTS!F281=\"\",\"\",PLANTS!F281)","v":"y"},"",0,null,25,"",null,0,{"$f":"IF(DE283=\"A\",PLANTS!H281,DE283)","v":"E"},20,null,"","","","",null,null,null,"","",null,null,null,null,null,null,{"$error":"#DIV/0!"},null,"",null," ","",null,"","","",0,"","","","",null,"","","LASE",{"$f":"IF(DC283=\"a\",PLANTS!I281,DMA!DC283)","v":2},{"$f":"IF(DD283=\"a\",PLANTS!G281,DMA!DD283)","v":25},null,null,null,null,null,null,null,null,null,{"$f":"PLANTS!I281","v":2},{"$f":"PLANTS!G281","v":25},{"$f":"PLANTS!H281","v":"E"},null,null,null,null,"",{"$f":"IF(DMA!DJ283=\"\",\"\",(DMA!N283-SUMIF(Graphs!$O$13:$O$199,DMA!$DJ283,Graphs!$V$13:$V$199))^2)","v":""},{"$f":"IF(DMA!DK283=\"\",\"\",(DMA!O283-SUMIF(Graphs!$O$13:$O$199,DMA!$DJ283,Graphs!$V$13:$V$199))^2)","v":""},{"$f":"IF(DMA!DL283=\"\",\"\",(DMA!P283-SUMIF(Graphs!$O$13:$O$199,DMA!$DJ283,Graphs!$V$13:$V$199))^2)","v":""},"",0,"",0]
[null,null,null,null,null,null,null,null,null,null,null,null,null,null,null,null,null,null,null,{"$f":"IF(A284=\"\",\"\",(Header!C$7*Header!C$6)*A284)","v":""},"","","","","",null,null,null,null,null,null,null,null,null,null,null,null,null,null,null,{"$f":"IF(PLANTS!A282=\"\",\"\",PLANTS!A282)","v":"LECI4"},5,"",0,{"$f":"IF(PLANTS!C282=\"\",\"\",PLANTS!C282)","v":""},"",{"$f":"IF(PLANTS!D282=\"\",\"\",PLANTS!D282)","v":""},"",{"$f":"IF(PLANTS!E282=\"\",\"\",PLANTS!E282)","v":"y"},"",{"$f":"IF(PLANTS!F282=\"\",\"\",PLANTS!F282)","v":""},"",0,null,50,"",null,0,{"$f":"IF(DE284=\"A\",PLANTS!H282,DE284)","v":"M"},50,null,"","","","",null,null,null,"","",null,null,null,null,null,null,{"$error":"#DIV/0!"},null,"",null," ","",null,"","","","","","","","",null,"","","LECI4",{"$f":"IF(DC284=\"a\",PLANTS!I282,DMA!DC284)","v":5},{"$f":"IF(DD284=\"a\",PLANTS!G282,DMA!DD284)","v":50},null,null,null,null,null,null,null,null,null,{"$f":"PLANTS!I282","v":5},{"$f":"PLANTS!G282","v":50},{"$f":"PLANTS!H282","v":"M"},null,null,null,null,"",{"$f":"IF(DMA!DJ284=\"\",\"\",(DMA!N284-SUMIF(Graphs!$O$13:$O$199,DMA!$DJ284,Graphs!$V$13:$V$199))^2)","v":""},{"$f":"IF(DMA!DK284=\"\",\"\",(DMA!O284-SUMIF(Graphs!$O$13:$O$199,DMA!$DJ284,Graphs!$V$13:$V$199))^2)","v":""},{"$f":"IF(DMA!DL284=\"\",\"\",(DMA!P284-SUMIF(Graphs!$O$13:$O$199,DMA!$DJ284,Graphs!$V$13:$V$199))^2)","v":""},{"$f":"IF(AO284=\"\",\"\",IF(COUNTIF($B$5:$B$504,$AO284)=0,\"\",SUMIF($B$5:$B$504,$AO284,$C$5:$C$504)*COUNTIF(B$5:B$504,AO284)))","v":""},0,"",{"$f":"(DO284*$AP284)","v":0}]
[null,null,null,null,null,null,null,null,null,null,null,null,null,null,null,null,null,null,null,{"$f":"IF(A285=\"\",\"\",(Header!C$7*Header!C$6)*A285)","v":""},"","","","","",null,null,null,null,null,null,null,null,null,null,null,null,null,null,null,{"$f":"IF(PLANTS!A283=\"\",\"\",PLANTS!A283)","v":"LEGL"},5,"",0,{"$f":"IF(PLANTS!C283=\"\",\"\",PLANTS!C283)","v":"y"},"",{"$f":"IF(PLANTS!D283=\"\",\"\",PLANTS!D283)","v":"y"},"",{"$f":"IF(PLANTS!E283=\"\",\"\",PLANTS!E283)","v":""},"",{"$f":"IF(PLANTS!F283=\"\",\"\",PLANTS!F283)","v":""},"",0,null,75,"",null,0,{"$f":"IF(DE285=\"A\",PLANTS!H283,DE285)","v":"M"},50,null,"","","","",null,null,null,"","",null,null,null,null,null,null,{"$error":"#DIV/0!"},null,"",null," ","",null,"","","","",0,0,"","",null,"","","LEGL",{"$f":"IF(DC285=\"a\",PLANTS!I283,DMA!DC285)","v":5},{"$f":"IF(DD285=\"a\",PLANTS!G283,DMA!DD285)","v":75},null,null,null,null,null,null,null,null,null,{"$f":"PLANTS!I283","v":5},{"$f":"PLANTS!G283","v":75},{"$f":"PLANTS!H283","v":"M"},null,null,null,null,"",{"$f":"IF(DMA!DJ285=\"\",\"\",(DMA!N285-SUMIF(Graphs!$O$13:$O$199,DMA!$DJ285,Graphs!$V$13:$V$199))^2)","v":""},{"$f":"IF(DMA!DK285=\"\",\"\",(DMA!O285-SUMIF(Graphs!$O$13:$O$199,DMA!$DJ285,Graphs!$V$13:$V$199))^2)","v":""},{"$f":"IF(DMA!DL285=\"\",\"\",(DMA!P285-SUMIF(Graphs!$O$13:$O$199,DMA!$DJ285,Graphs!$V$13:$V$199))^2)","v":""},"",0,"",0]
[null,null,null,null,null,null,null,null,null,null,null,null,null,null,null,null,null,null,null,{"$f":"IF(A286=\"\",\"\",(Header!C$7*Header!C$6)*A286)","v":""},{"$f":"IF(K427=\"\",\"\",K427*12/39)","v":""},"","","","",null,null,null,null,null,null,null,null,null,null,null,null,null,null,null,{"$f":"IF(PLANTS!A284=\"\",\"\",PLANTS!A284)","v":"LEIN6"},8.5,"",0,{"$f":"IF(PLANTS!C284=\"\",\"\",PLANTS!C284)","v":""},"",{"$f":"IF(PLANTS!D284=\"\",\"\",PLANTS!D284)","v":""},"",{"$f":"IF(PLANTS!E284=\"\",\"\",PLANTS!E284)","v":"y"},"",{"$f":"IF(PLANTS!F284=\"\",\"\",PLANTS!F284)","v":""},"",0,null,50,"",null,0,{"$f":"IF(DE286=\"A\",PLANTS!H284,DE286)","v":"M"},50,null,"","","","",null,null,null,"","",null,null,null,null,null,null,{"$error":"#DIV/0!"},null,"",null," ","",null,"","","","","","","","",null,"","","LEIN6",{"$f":"IF(DC286=\"a\",PLANTS!I284,DMA!DC286)","v":8.5},{"$f":"IF(DD286=\"a\",PLANTS!G284,DMA!DD286)","v":50},null,null,null,null,null,null,null,null,null,{"$f":"PLANTS!I284","v":8.5},{"$f":"PLANTS!G284","v":50},{"$f":"PLANTS!H284","v":"M"},null,null,null,null,"",{"$f":"IF(DMA!DJ286=\"\",\"\",(DMA!N286-SUMIF(Graphs!$O$13:$O$199,DMA!$DJ286,Graphs!$V$13:$V$199))^2)","v":""},{"$f":"IF(DMA!DK286=\"\",\"\",(DMA!O286-SUMIF(Graphs!$O$13:$O$199,DMA!$DJ286,Graphs!$V$13:$V$199))^2)","v":""},{"$f":"IF(DMA!DL286=\"\",\"\",(DMA!P286-SUMIF(Graphs!$O$13:$O$199,DMA!$DJ286,Graphs!$V$13:$V$199))^2)","v":""},"",0,"",0]
[null,null,null,null,null,null,null,null,null,null,null,null,null,null,null,null,null,null,null,{"$f":"IF(A287=\"\",\"\",(Header!C$7*Header!C$6)*A287)","v":""},"","","","","",null,null,null,null,null,null,null,null,null,null,null,null,null,null,null,{"$f":"IF(PLANTS!A285=\"\",\"\",PLANTS!A285)","v":"LEOR"},5,"",0,{"$f":"IF(PLANTS!C285=\"\",\"\",PLANTS!C285)","v":""},"",{"$f":"IF(PLANTS!D285=\"\",\"\",PLANTS!D285)","v":"y"},"",{"$f":"IF(PLANTS!E285=\"\",\"\",PLANTS!E285)","v":"y"},"",{"$f":"IF(PLANTS!F285=\"\",\"\",PLANTS!F285)","v":""},"",0,null,100,"",null,0,{"$f":"IF(DE287=\"A\",PLANTS!H285,DE287)","v":"L"},80,null,"","","","",null,null,null,"","",null,null,null,null,null,null,{"$error":"#DIV/0!"},null,"",null," ","",null,"","","","",0,"",0,"",null,"","","LEOR",{"$f":"IF(DC287=\"a\",PLANTS!I285,DMA!DC287)","v":5},{"$f":"IF(DD287=\"a\",PLANTS!G285,DMA!DD287)","v":100},null,null,null,null,null,null,null,null,null,{"$f":"PLANTS!I285","v":5},{"$f":"PLANTS!G285","v":100},{"$f":"PLANTS!H285","v":"L"},null,null,null,null,"",{"$f":"IF(DMA!DJ287=\"\",\"\",(DMA!N287-SUMIF(Graphs!$O$13:$O$199,DMA!$DJ287,Graphs!$V$13:$V$199))^2)","v":""},{"$f":"IF(DMA!DK287=\"\",\"\",(DMA!O287-SUMIF(Graphs!$O$13:$O$199,DMA!$DJ287,Graphs!$V$13:$V$199))^2)","v":""},{"$f":"IF(DMA!DL287=\"\",\"\",(DMA!P287-SUMIF(Graphs!$O$13:$O$199,DMA!$DJ287,Graphs!$V$13:$V$199))^2)","v":""},"",0,"",0]
[null,null,null,null,null,null,null,null,null,null,null,null,null,null,null,null,null,null,null,{"$f":"IF(A288=\"\",\"\",(Header!C$7*Header!C$6)*A288)","v":""},"","","","","",null,null,null,null,null,null,null,null,null,null,null,null,null,null,null,{"$f":"IF(PLANTS!A286=\"\",\"\",PLANTS!A286)","v":"LETR5"},2,"",0,{"$f":"IF(PLANTS!C286=\"\",\"\",PLANTS!C286)","v":""},"",{"$f":"IF(PLANTS!D286=\"\",\"\",PLANTS!D286)","v":""},"",{"$f":"IF(PLANTS!E286=\"\",\"\",PLANTS!E286)","v":"y"},"",{"$f":"IF(PLANTS!F286=\"\",\"\",PLANTS!F286)","v":""},"",0,null,50,"",null,0,{"$f":"IF(DE288=\"A\",PLANTS!H286,DE288)","v":"E"},20,null,"","","","",null,null,null,"","",null,null,null,null,null,null,{"$error":"#DIV/0!"},null,"",null," ","",null,"","","","","","","","",null,"","","LETR5",{"$f":"IF(DC288=\"a\",PLANTS!I286,DMA!DC288)","v":2},{"$f":"IF(DD288=\"a\",PLANTS!G286,DMA!DD288)","v":50},null,null,null,null,null,null,null,null,null,{"$f":"PLANTS!I286","v":2},{"$f":"PLANTS!G286","v":50},{"$f":"PLANTS!H286","v":"E"},null,null,null,null,"",{"$f":"IF(DMA!DJ288=\"\",\"\",(DMA!N288-SUMIF(Graphs!$O$13:$O$199,DMA!$DJ288,Graphs!$V$13:$V$199))^2)","v":""},{"$f":"IF(DMA!DK288=\"\",\"\",(DMA!O288-SUMIF(Graphs!$O$13:$O$199,DMA!$DJ288,Graphs!$V$13:$V$199))^2)","v":""},{"$f":"IF(DMA!DL288=\"\",\"\",(DMA!P288-SUMIF(Graphs!$O$13:$O$199,DMA!$DJ288,Graphs!$V$13:$V$199))^2)","v":""},"",0,"",0]
[null,null,null,null,null,null,null,null,null,null,null,null,null,null,null,null,null,null,null,{"$f":"IF(A289=\"\",\"\",(Header!C$7*Header!C$6)*A289)","v":""},"","","","","",null,null,null,null,null,null,null,null,null,null,null,null,null,null,null,{"$f":"IF(PLANTS!A287=\"\",\"\",PLANTS!A287)","v":"LIBO3"},2,"",0,{"$f":"IF(PLANTS!C287=\"\",\"\",PLANTS!C287)","v":""},"",{"$f":"IF(PLANTS!D287=\"\",\"\",PLANTS!D287)","v":""},"",{"$f":"IF(PLANTS!E287=\"\",\"\",PLANTS!E287)","v":"y"},"",{"$f":"IF(PLANTS!F287=\"\",\"\",PLANTS!F287)","v":"y"},"",0,null,25,"",null,0,{"$f":"IF(DE289=\"A\",PLANTS!H287,DE289)","v":"E"},20,null,"","","","",null,null,null,"","",null,null,null,null,null,null,{"$error":"#DIV/0!"},null,"",null," ","",null,"","","",0,"","","","",null,"","","LIBO3",{"$f":"IF(DC289=\"a\",PLANTS!I287,DMA!DC289)","v":2},{"$f":"IF(DD289=\"a\",PLANTS!G287,DMA!DD289)","v":25},null,null,null,null,null,null,null,null,null,{"$f":"PLANTS!I287","v":2},{"$f":"PLANTS!G287","v":25},{"$f":"PLANTS!H287","v":"E"},null,null,null,null,"",{"$f":"IF(DMA!DJ289=\"\",\"\",(DMA!N289-SUMIF(Graphs!$O$13:$O$199,DMA!$DJ289,Graphs!$V$13:$V$199))^2)","v":""},{"$f":"IF(DMA!DK289=\"\",\"\",(DMA!O289-SUMIF(Graphs!$O$13:$O$199,DMA!$DJ289,Graphs!$V$13:$V$199))^2)","v":""},{"$f":"IF(DMA!DL289=\"\",\"\",(DMA!P289-SUMIF(Graphs!$O$13:$O$199,DMA!$DJ289,Graphs!$V$13:$V$199))^2)","v":""},"",0,"",0]
[null,null,null,null,null,null,null,null,null,null,null,null,null,null,null,null,null,null,null,{"$f":"IF(A290=\"\",\"\",(Header!C$7*Header!C$6)*A290)","v":""},"","","","","",null,null,null,null,null,null,null,null,null,null,null,null,null,null,null,{"$f":"IF(PLANTS!A288=\"\",\"\",PLANTS!A288)","v":"LIVU"},5,"",0,{"$f":"IF(PLANTS!C288=\"\",\"\",PLANTS!C288)","v":"y"},"",{"$f":"IF(PLANTS!D288=\"\",\"\",PLANTS!D288)","v":""},"",{"$f":"IF(PLANTS!E288=\"\",\"\",PLANTS!E288)","v":""},"",{"$f":"IF(PLANTS!F288=\"\",\"\",PLANTS!F288)","v":""},"",0,null,0,"",null,0,{"$f":"IF(DE290=\"A\",PLANTS!H288,DE290)","v":"E"},20,null,"","","","",null,null,null,"","",null,null,null,null,null,null,{"$error":"#DIV/0!"},null,"",null," ","",null,"","","","","",0,"","",null,"","","LIVU",{"$f":"IF(DC290=\"a\",PLANTS!I288,DMA!DC290)","v":5},{"$f":"IF(DD290=\"a\",PLANTS!G288,DMA!DD290)","v":0},null,null,null,null,null,null,null,null,null,{"$f":"PLANTS!I288","v":5},{"$f":"PLANTS!G288","v":0},{"$f":"PLANTS!H288","v":"E"},null,null,null,null,"",{"$f":"IF(DMA!DJ290=\"\",\"\",(DMA!N290-SUMIF(Graphs!$O$13:$O$199,DMA!$DJ290,Graphs!$V$13:$V$199))^2)","v":""},{"$f":"IF(DMA!DK290=\"\",\"\",(DMA!O290-SUMIF(Graphs!$O$13:$O$199,DMA!$DJ290,Graphs!$V$13:$V$199))^2)","v":""},{"$f":"IF(DMA!DL290=\"\",\"\",(DMA!P290-SUMIF(Graphs!$O$13:$O$199,DMA!$DJ290,Graphs!$V$13:$V$199))^2)","v":""},"",0,"",0]
[null,null,null,null,null,null,null,null,null,null,null,null,null,null,null,null,null,null,null,{"$f":"IF(A291=\"\",\"\",(Header!C$7*Header!C$6)*A291)","v":""},"","","","","",null,null,null,null,null,null,null,null,null,null,null,null,null,null,null,{"$f":"IF(PLANTS!A289=\"\",\"\",PLANTS!A289)","v":"LOCA2"},8.5,"",0,{"$f":"IF(PLANTS!C289=\"\",\"\",PLANTS!C289)","v":""},"",{"$f":"IF(PLANTS!D289=\"\",\"\",PLANTS!D289)","v":"y"},"",{"$f":"IF(PLANTS!E289=\"\",\"\",PLANTS!E289)","v":"y"},"",{"$f":"IF(PLANTS!F289=\"\",\"\",PLANTS!F289)","v":"y"},"",0,null,100,"",null,0,{"$f":"IF(DE291=\"A\",PLANTS!H289,DE291)","v":"L"},80,null,"","","","",null,null,null,"","",null,null,null,null,null,null,{"$error":"#DIV/0!"},null,"",null," ","",null,"","","",0,0,"",0,"",null,"","","LOCA2",{"$f":"IF(DC291=\"a\",PLANTS!I289,DMA!DC291)","v":8.5},{"$f":"IF(DD291=\"a\",PLANTS!G289,DMA!DD291)","v":100},null,null,null,null,null,null,null,null,null,{"$f":"PLANTS!I289","v":8.5},{"$f":"PLANTS!G289","v":100},{"$f":"PLANTS!H289","v":"L"},null,null,null,null,"",{"$f":"IF(DMA!DJ291=\"\",\"\",(DMA!N291-SUMIF(Graphs!$O$13:$O$199,DMA!$DJ291,Graphs!$V$13:$V$199))^2)","v":""},{"$f":"IF(DMA!DK291=\"\",\"\",(DMA!O291-SUMIF(Graphs!$O$13:$O$199,DMA!$DJ291,Graphs!$V$13:$V$199))^2)","v":""},{"$f":"IF(DMA!DL291=\"\",\"\",(DMA!P291-SUMIF(Graphs!$O$13:$O$199,DMA!$DJ291,Graphs!$V$13:$V$199))^2)","v":""},"",0,"",0]
[null,null,null,null,null,null,null,null,null,null,null,null,null,null,null,null,null,null,null,{"$f":"IF(A292=\"\",\"\",(Header!C$7*Header!C$6)*A292)","v":""},"","","","","",null,null,null,null,null,null,null,null,null,null,null,null,null,null,null,{"$f":"IF(PLANTS!A290=\"\",\"\",PLANTS!A290)","v":"LOIN5"},5,"",0,{"$f":"IF(PLANTS!C290=\"\",\"\",PLANTS!C290)","v":"y"},"",{"$f":"IF(PLANTS!D290=\"\",\"\",PLANTS!D290)","v":""},"",{"$f":"IF(PLANTS!E290=\"\",\"\",PLANTS!E290)","v":""},"",{"$f":"IF(PLANTS!F290=\"\",\"\",PLANTS!F290)","v":""},"",0,null,50,"",null,0,{"$f":"IF(DE292=\"A\",PLANTS!H290,DE292)","v":"M"},50,null,"","","","",null,null,null,"","",null,null,null,null,null,null,{"$error":"#DIV/0!"},null,"",null," ","",null,"","","","","",0,"","",null,"","","LOIN5",{"$f":"IF(DC292=\"a\",PLANTS!I290,DMA!DC292)","v":5},{"$f":"IF(DD292=\"a\",PLANTS!G290,DMA!DD292)","v":50},null,null,null,null,null,null,null,null,null,{"$f":"PLANTS!I290","v":5},{"$f":"PLANTS!G290","v":50},{"$f":"PLANTS!H290","v":"M"},null,null,null,null,"",{"$f":"IF(DMA!DJ292=\"\",\"\",(DMA!N292-SUMIF(Graphs!$O$13:$O$199,DMA!$DJ292,Graphs!$V$13:$V$199))^2)","v":""},{"$f":"IF(DMA!DK292=\"\",\"\",(DMA!O292-SUMIF(Graphs!$O$13:$O$199,DMA!$DJ292,Graphs!$V$13:$V$199))^2)","v":""},{"$f":"IF(DMA!DL292=\"\",\"\",(DMA!P292-SUMIF(Graphs!$O$13:$O$199,DMA!$DJ292,Graphs!$V$13:$V$199))^2)","v":""},"",0,"",0]
[null,null,null,null,null,null,null,null,null,null,null,null,null,null,null,null,null,null,null,{"$f":"IF(A293=\"\",\"\",(Header!C$7*Header!C$6)*A293)","v":""},"","","","","",null,null,null,null,null,null,null,null,null,null,null,null,null,null,null,{"$f":"IF(PLANTS!A291=\"\",\"\",PLANTS!A291)","v":"LONIC"},5,"",0,{"$f":"IF(PLANTS!C291=\"\",\"\",PLANTS!C291)","v":"y"},"",{"$f":"IF(PLANTS!D291=\"\",\"\",PLANTS!D291)","v":""},"",{"$f":"IF(PLANTS!E291=\"\",\"\",PLANTS!E291)","v":""},"",{"$f":"IF(PLANTS!F291=\"\",\"\",PLANTS!F291)","v":""},"",0,null,50,"",null,0,{"$f":"IF(DE293=\"A\",PLANTS!H291,DE293)","v":"M"},50,null,"","","","",null,null,null,"","",null,null,null,null,null,null,{"$error":"#DIV/0!"},null,"",null," ","",null,"","","","","",0,"","",null,"","","LONIC",{"$f":"IF(DC293=\"a\",PLANTS!I291,DMA!DC293)","v":5},{"$f":"IF(DD293=\"a\",PLANTS!G291,DMA!DD293)","v":50},null,null,null,null,null,null,null,null,null,{"$f":"PLANTS!I291","v":5},{"$f":"PLANTS!G291","v":50},{"$f":"PLANTS!H291","v":"M"},null,null,null,null,"",{"$f":"IF(DMA!DJ293=\"\",\"\",(DMA!N293-SUMIF(Graphs!$O$13:$O$199,DMA!$DJ293,Graphs!$V$13:$V$199))^2)","v":""},{"$f":"IF(DMA!DK293=\"\",\"\",(DMA!O293-SUMIF(Graphs!$O$13:$O$199,DMA!$DJ293,Graphs!$V$13:$V$199))^2)","v":""},{"$f":"IF(DMA!DL293=\"\",\"\",(DMA!P293-SUMIF(Graphs!$O$13:$O$199,DMA!$DJ293,Graphs!$V$13:$V$199))^2)","v":""},"",0,"",0]
[null,null,null,null,null,null,null,null,null,null,null,null,null,null,null,null,null,null,null,{"$f":"IF(A294=\"\",\"\",(Header!C$7*Header!C$6)*A294)","v":""},"","","","","",null,null,null,null,null,null,null,null,null,null,null,null,null,null,null,{"$f":"IF(PLANTS!A292=\"\",\"\",PLANTS!A292)","v":"LOUT2"},5,"",0,{"$f":"IF(PLANTS!C292=\"\",\"\",PLANTS!C292)","v":"y"},"",{"$f":"IF(PLANTS!D292=\"\",\"\",PLANTS!D292)","v":""},"",{"$f":"IF(PLANTS!E292=\"\",\"\",PLANTS!E292)","v":""},"",{"$f":"IF(PLANTS!F292=\"\",\"\",PLANTS!F292)","v":""},"",0,null,50,"",null,0,{"$f":"IF(DE294=\"A\",PLANTS!H292,DE294)","v":"L"},80,null,"","","","",null,null,null,"","",null,null,null,null,null,null,{"$error":"#DIV/0!"},null,"",null," ","",null,"","","","","",0,"","",null,"","","LOUT2",{"$f":"IF(DC294=\"a\",PLANTS!I292,DMA!DC294)","v":5},{"$f":"IF(DD294=\"a\",PLANTS!G292,DMA!DD294)","v":50},null,null,null,null,null,null,null,null,null,{"$f":"PLANTS!I292","v":5},{"$f":"PLANTS!G292","v":50},{"$f":"PLANTS!H292","v":"L"},null,null,null,null,"",{"$f":"IF(DMA!DJ294=\"\",\"\",(DMA!N294-SUMIF(Graphs!$O$13:$O$199,DMA!$DJ294,Graphs!$V$13:$V$199))^2)","v":""},{"$f":"IF(DMA!DK294=\"\",\"\",(DMA!O294-SUMIF(Graphs!$O$13:$O$199,DMA!$DJ294,Graphs!$V$13:$V$199))^2)","v":""},{"$f":"IF(DMA!DL294=\"\",\"\",(DMA!P294-SUMIF(Graphs!$O$13:$O$199,DMA!$DJ294,Graphs!$V$13:$V$199))^2)","v":""},"",0,"",0]
[null,null,null,null,null,null,null,null,null,null,null,null,null,null,null,null,null,null,null,{"$f":"IF(A295=\"\",\"\",(Header!C$7*Header!C$6)*A295)","v":""},"","","","","",null,null,null,null,null,null,null,null,null,null,null,null,null,null,null,{"$f":"IF(PLANTS!A293=\"\",\"\",PLANTS!A293)","v":"LYAM"},5,"",0,{"$f":"IF(PLANTS!C293=\"\",\"\",PLANTS!C293)","v":""},"",{"$f":"IF(PLANTS!D293=\"\",\"\",PLANTS!D293)","v":"y"},"",{"$f":"IF(PLANTS!E293=\"\",\"\",PLANTS!E293)","v":"y"},"",{"$f":"IF(PLANTS!F293=\"\",\"\",PLANTS!F293)","v":"y"},"",0,null,100,"",null,0,{"$f":"IF(DE295=\"A\",PLANTS!H293,DE295)","v":"M"},50,null,"","","","",null,null,null,"","",null,null,null,null,null,null,{"$error":"#DIV/0!"},null,"",null," ","",null,"","","",0,0,"",0,"",null,"","","LYAM",{"$f":"IF(DC295=\"a\",PLANTS!I293,DMA!DC295)","v":5},{"$f":"IF(DD295=\"a\",PLANTS!G293,DMA!DD295)","v":100},null,null,null,null,null,null,null,null,null,{"$f":"PLANTS!I293","v":5},{"$f":"PLANTS!G293","v":100},{"$f":"PLANTS!H293","v":"M"},null,null,null,null,"",{"$f":"IF(DMA!DJ295=\"\",\"\",(DMA!N295-SUMIF(Graphs!$O$13:$O$199,DMA!$DJ295,Graphs!$V$13:$V$199))^2)","v":""},{"$f":"IF(DMA!DK295=\"\",\"\",(DMA!O295-SUMIF(Graphs!$O$13:$O$199,DMA!$DJ295,Graphs!$V$13:$V$199))^2)","v":""},{"$f":"IF(DMA!DL295=\"\",\"\",(DMA!P295-SUMIF(Graphs!$O$13:$O$199,DMA!$DJ295,Graphs!$V$13:$V$199))^2)","v":""},"",0,"",0]
[null,null,null,null,null,null,null,null,null,null,null,null,null,null,null,null,null,null,null,{"$f":"IF(A296=\"\",\"\",(Header!C$7*Header!C$6)*A296)","v":""},"","","","","",null,null,null,null,null,null,null,null,null,null,null,null,null,null,null,{"$f":"IF(PLANTS!A294=\"\",\"\",PLANTS!A294)","v":"LYCA4"},5,"",0,{"$f":"IF(PLANTS!C294=\"\",\"\",PLANTS!C294)","v":""},"",{"$f":"IF(PLANTS!D294=\"\",\"\",PLANTS!D294)","v":"y"},"",{"$f":"IF(PLANTS!E294=\"\",\"\",PLANTS!E294)","v":"y"},"",{"$f":"IF(PLANTS!F294=\"\",\"\",PLANTS!F294)","v":"y"},"",0,null,100,"",null,0,{"$f":"IF(DE296=\"A\",PLANTS!H294,DE296)","v":"M"},50,null,"","","","",null,null,null,"","",null,null,null,null,null,null,{"$error":"#DIV/0!"},null,"",null," ","",null,"","","",0,0,"",0,"",null,"","","LYCA4",{"$f":"IF(DC296=\"a\",PLANTS!I294,DMA!DC296)","v":5},{"$f":"IF(DD296=\"a\",PLANTS!G294,DMA!DD296)","v":100},null,null,null,null,null,null,null,null,null,{"$f":"PLANTS!I294","v":5},{"$f":"PLANTS!G294","v":100},{"$f":"PLANTS!H294","v":"M"},null,null,null,null,"",{"$f":"IF(DMA!DJ296=\"\",\"\",(DMA!N296-SUMIF(Graphs!$O$13:$O$199,DMA!$DJ296,Graphs!$V$13:$V$199))^2)","v":""},{"$f":"IF(DMA!DK296=\"\",\"\",(DMA!O296-SUMIF(Graphs!$O$13:$O$199,DMA!$DJ296,Graphs!$V$13:$V$199))^2)","v":""},{"$f":"IF(DMA!DL296=\"\",\"\",(DMA!P296-SUMIF(Graphs!$O$13:$O$199,DMA!$DJ296,Graphs!$V$13:$V$199))^2)","v":""},"",0,"",0]
[null,null,null,null,null,null,null,null,null,null,null,null,null,null,null,null,null,null,null,{"$f":"IF(A297=\"\",\"\",(Header!C$7*Header!C$6)*A297)","v":""},"","","","","",null,null,null,null,null,null,null,null,null,null,null,null,null,null,null,{"$f":"IF(PLANTS!A295=\"\",\"\",PLANTS!A295)","v":"LYCI"},5,"",0,{"$f":"IF(PLANTS!C295=\"\",\"\",PLANTS!C295)","v":""},"",{"$f":"IF(PLANTS!D295=\"\",\"\",PLANTS!D295)","v":"y"},"",{"$f":"IF(PLANTS!E295=\"\",\"\",PLANTS!E295)","v":"y"},"",{"$f":"IF(PLANTS!F295=\"\",\"\",PLANTS!F295)","v":"y"},"",0,null,75,"",null,0,{"$f":"IF(DE297=\"A\",PLANTS!H295,DE297)","v":"M"},50,null,"","","","",null,null,null,"","",null,null,null,null,null,null,{"$error":"#DIV/0!"},null,"",null," ","",null,"","","",0,0,"",0,"",null,"","","LYCI",{"$f":"IF(DC297=\"a\",PLANTS!I295,DMA!DC297)","v":5},{"$f":"IF(DD297=\"a\",PLANTS!G295,DMA!DD297)","v":75},null,null,null,null,null,null,null,null,null,{"$f":"PLANTS!I295","v":5},{"$f":"PLANTS!G295","v":75},{"$f":"PLANTS!H295","v":"M"},null,null,null,null,"",{"$f":"IF(DMA!DJ297=\"\",\"\",(DMA!N297-SUMIF(Graphs!$O$13:$O$199,DMA!$DJ297,Graphs!$V$13:$V$199))^2)","v":""},{"$f":"IF(DMA!DK297=\"\",\"\",(DMA!O297-SUMIF(Graphs!$O$13:$O$199,DMA!$DJ297,Graphs!$V$13:$V$199))^2)","v":""},{"$f":"IF(DMA!DL297=\"\",\"\",(DMA!P297-SUMIF(Graphs!$O$13:$O$199,DMA!$DJ297,Graphs!$V$13:$V$199))^2)","v":""},"",0,"",0]
[null,null,null,null,null,null,null,null,null,null,null,null,null,null,null,null,null,null,null,{"$f":"IF(A298=\"\",\"\",(Header!C$7*Header!C$6)*A298)","v":""},"","","","","",null,null,null,null,null,null,null,null,null,null,null,null,null,null,null,{"$f":"IF(PLANTS!A296=\"\",\"\",PLANTS!A296)","v":"LYSA2"},5,"",0,{"$f":"IF(PLANTS!C296=\"\",\"\",PLANTS!C296)","v":""},"",{"$f":"IF(PLANTS!D296=\"\",\"\",PLANTS!D296)","v":"y"},"",{"$f":"IF(PLANTS!E296=\"\",\"\",PLANTS!E296)","v":"y"},"",{"$f":"IF(PLANTS!F296=\"\",\"\",PLANTS!F296)","v":"y"},"",0,null,100,"",null,0,{"$f":"IF(DE298=\"A\",PLANTS!H296,DE298)","v":"E"},20,null,"","","","",null,null,null,"","",null,null,null,null,null,null,{"$error":"#DIV/0!"},null,"",null," ","",null,"","","",0,0,"",0,"",null,"","","LYSA2",{"$f":"IF(DC298=\"a\",PLANTS!I296,DMA!DC298)","v":5},{"$f":"IF(DD298=\"a\",PLANTS!G296,DMA!DD298)","v":100},null,null,null,null,null,null,null,null,null,{"$f":"PLANTS!I296","v":5},{"$f":"PLANTS!G296","v":100},{"$f":"PLANTS!H296","v":"E"},null,null,null,null,"",{"$f":"IF(DMA!DJ298=\"\",\"\",(DMA!N298-SUMIF(Graphs!$O$13:$O$199,DMA!$DJ298,Graphs!$V$13:$V$199))^2)","v":""},{"$f":"IF(DMA!DK298=\"\",\"\",(DMA!O298-SUMIF(Graphs!$O$13:$O$199,DMA!$DJ298,Graphs!$V$13:$V$199))^2)","v":""},{"$f":"IF(DMA!DL298=\"\",\"\",(DMA!P298-SUMIF(Graphs!$O$13:$O$199,DMA!$DJ298,Graphs!$V$13:$V$199))^2)","v":""},"",0,"",0]
[null,null,null,null,null,null,null,null,null,null,null,null,null,null,null,null,null,null,null,{"$f":"IF(A299=\"\",\"\",(Header!C$7*Header!C$6)*A299)","v":""},"","","","","",null,null,null,null,null,null,null,null,null,null,null,null,null,null,null,{"$f":"IF(PLANTS!A297=\"\",\"\",PLANTS!A297)","v":"MAFU"},5,"",0,{"$f":"IF(PLANTS!C297=\"\",\"\",PLANTS!C297)","v":"y"},"",{"$f":"IF(PLANTS!D297=\"\",\"\",PLANTS!D297)","v":""},"",{"$f":"IF(PLANTS!E297=\"\",\"\",PLANTS!E297)","v":""},"",{"$f":"IF(PLANTS!F297=\"\",\"\",PLANTS!F297)","v":""},"",0,null,50,"",null,0,{"$f":"IF(DE299=\"A\",PLANTS!H297,DE299)","v":"M"},50,null,"","","","",null,null,null,"","",null,null,null,null,null,null,{"$error":"#DIV/0!"},null,"",null," ","",null,"","","","","",0,"","",null,"","","MAFU",{"$f":"IF(DC299=\"a\",PLANTS!I297,DMA!DC299)","v":5},{"$f":"IF(DD299=\"a\",PLANTS!G297,DMA!DD299)","v":50},null,null,null,null,null,null,null,null,null,{"$f":"PLANTS!I297","v":5},{"$f":"PLANTS!G297","v":50},{"$f":"PLANTS!H297","v":"M"},null,null,null,null,"",{"$f":"IF(DMA!DJ299=\"\",\"\",(DMA!N299-SUMIF(Graphs!$O$13:$O$199,DMA!$DJ299,Graphs!$V$13:$V$199))^2)","v":""},{"$f":"IF(DMA!DK299=\"\",\"\",(DMA!O299-SUMIF(Graphs!$O$13:$O$199,DMA!$DJ299,Graphs!$V$13:$V$199))^2)","v":""},{"$f":"IF(DMA!DL299=\"\",\"\",(DMA!P299-SUMIF(Graphs!$O$13:$O$199,DMA!$DJ299,Graphs!$V$13:$V$199))^2)","v":""},"",0,"",0]
[null,null,null,null,null,null,null,null,null,null,null,null,null,null,null,null,null,null,null,{"$f":"IF(A300=\"\",\"\",(Header!C$7*Header!C$6)*A300)","v":""},"","","","","",null,null,null,null,null,null,null,null,null,null,null,null,null,null,null,{"$f":"IF(PLANTS!A298=\"\",\"\",PLANTS!A298)","v":"MARE11"},2,"",0,{"$f":"IF(PLANTS!C298=\"\",\"\",PLANTS!C298)","v":"y"},"",{"$f":"IF(PLANTS!D298=\"\",\"\",PLANTS!D298)","v":""},"",{"$f":"IF(PLANTS!E298=\"\",\"\",PLANTS!E298)","v":""},"",{"$f":"IF(PLANTS!F298=\"\",\"\",PLANTS!F298)","v":""},"",0,null,25,"",null,0,{"$f":"IF(DE300=\"A\",PLANTS!H298,DE300)","v":"E"},20,null,"","","","",null,null,null,"","",null,null,null,null,null,null,{"$error":"#DIV/0!"},null,"",null," ","",null,"","","","","",0,"","",null,"","","MARE11",{"$f":"IF(DC300=\"a\",PLANTS!I298,DMA!DC300)","v":2},{"$f":"IF(DD300=\"a\",PLANTS!G298,DMA!DD300)","v":25},null,null,null,null,null,null,null,null,null,{"$f":"PLANTS!I298","v":2},{"$f":"PLANTS!G298","v":25},{"$f":"PLANTS!H298","v":"E"},null,null,null,null,"",{"$f":"IF(DMA!DJ300=\"\",\"\",(DMA!N300-SUMIF(Graphs!$O$13:$O$199,DMA!$DJ300,Graphs!$V$13:$V$199))^2)","v":""},{"$f":"IF(DMA!DK300=\"\",\"\",(DMA!O300-SUMIF(Graphs!$O$13:$O$199,DMA!$DJ300,Graphs!$V$13:$V$199))^2)","v":""},{"$f":"IF(DMA!DL300=\"\",\"\",(DMA!P300-SUMIF(Graphs!$O$13:$O$199,DMA!$DJ300,Graphs!$V$13:$V$199))^2)","v":""},"",0,"",0]
[null,null,null,null,null,null,null,null,null,null,null,null,null,null,null,null,null,null,null,{"$f":"IF(A301=\"\",\"\",(Header!C$7*Header!C$6)*A301)","v":""},"","","","","",null,null,null,null,null,null,null,null,null,null,null,null,null,null,null,{"$f":"IF(PLANTS!A299=\"\",\"\",PLANTS!A299)","v":"MAST4"},2,"",0,{"$f":"IF(PLANTS!C299=\"\",\"\",PLANTS!C299)","v":""},"",{"$f":"IF(PLANTS!D299=\"\",\"\",PLANTS!D299)","v":""},"",{"$f":"IF(PLANTS!E299=\"\",\"\",PLANTS!E299)","v":"y"},"",{"$f":"IF(PLANTS!F299=\"\",\"\",PLANTS!F299)","v":"y"},"",0,null,25,"",null,0,{"$f":"IF(DE301=\"A\",PLANTS!H299,DE301)","v":"E"},20,null,"","","","",null,null,null,"","",null,null,null,null,null,null,{"$error":"#DIV/0!"},null,"",null," ","",null,"","","",0,"","","","",null,"","","MAST4",{"$f":"IF(DC301=\"a\",PLANTS!I299,DMA!DC301)","v":2},{"$f":"IF(DD301=\"a\",PLANTS!G299,DMA!DD301)","v":25},null,null,null,null,null,null,null,null,null,{"$f":"PLANTS!I299","v":2},{"$f":"PLANTS!G299","v":25},{"$f":"PLANTS!H299","v":"E"},null,null,null,null,"",{"$f":"IF(DMA!DJ301=\"\",\"\",(DMA!N301-SUMIF(Graphs!$O$13:$O$199,DMA!$DJ301,Graphs!$V$13:$V$199))^2)","v":""},{"$f":"IF(DMA!DK301=\"\",\"\",(DMA!O301-SUMIF(Graphs!$O$13:$O$199,DMA!$DJ301,Graphs!$V$13:$V$199))^2)","v":""},{"$f":"IF(DMA!DL301=\"\",\"\",(DMA!P301-SUMIF(Graphs!$O$13:$O$199,DMA!$DJ301,Graphs!$V$13:$V$199))^2)","v":""},"",0,"",0]
[null,null,null,null,null,null,null,null,null,null,null,null,null,null,null,null,null,null,null,{"$f":"IF(A302=\"\",\"\",(Header!C$7*Header!C$6)*A302)","v":""},"","","","","",null,null,null,null,null,null,null,null,null,null,null,null,null,null,null,{"$f":"IF(PLANTS!A300=\"\",\"\",PLANTS!A300)","v":"MEAL2"},2,"",0,{"$f":"IF(PLANTS!C300=\"\",\"\",PLANTS!C300)","v":""},"",{"$f":"IF(PLANTS!D300=\"\",\"\",PLANTS!D300)","v":""},"",{"$f":"IF(PLANTS!E300=\"\",\"\",PLANTS!E300)","v":"y"},"",{"$f":"IF(PLANTS!F300=\"\",\"\",PLANTS!F300)","v":"y"},"",0,null,25,"",null,0,{"$f":"IF(DE302=\"A\",PLANTS!H300,DE302)","v":"E"},20,null,"","","","",null,null,null,"","",null,null,null,null,null,null,{"$error":"#DIV/0!"},null,"",null," ","",null,"","","",0,"","","","",null,"","","MEAL2",{"$f":"IF(DC302=\"a\",PLANTS!I300,DMA!DC302)","v":2},{"$f":"IF(DD302=\"a\",PLANTS!G300,DMA!DD302)","v":25},null,null,null,null,null,null,null,null,null,{"$f":"PLANTS!I300","v":2},{"$f":"PLANTS!G300","v":25},{"$f":"PLANTS!H300","v":"E"},null,null,null,null,"",{"$f":"IF(DMA!DJ302=\"\",\"\",(DMA!N302-SUMIF(Graphs!$O$13:$O$199,DMA!$DJ302,Graphs!$V$13:$V$199))^2)","v":""},{"$f":"IF(DMA!DK302=\"\",\"\",(DMA!O302-SUMIF(Graphs!$O$13:$O$199,DMA!$DJ302,Graphs!$V$13:$V$199))^2)","v":""},{"$f":"IF(DMA!DL302=\"\",\"\",(DMA!P302-SUMIF(Graphs!$O$13:$O$199,DMA!$DJ302,Graphs!$V$13:$V$199))^2)","v":""},"",0,"",0]
[null,null,null,null,null,null,null,null,null,null,null,null,null,null,null,null,null,null,null,{"$f":"IF(A303=\"\",\"\",(Header!C$7*Header!C$6)*A303)","v":""},"","","","","",null,null,null,null,null,null,null,null,null,null,null,null,null,null,null,{"$f":"IF(PLANTS!A301=\"\",\"\",PLANTS!A301)","v":"MEAR4"},2,"",0,{"$f":"IF(PLANTS!C301=\"\",\"\",PLANTS!C301)","v":""},"",{"$f":"IF(PLANTS!D301=\"\",\"\",PLANTS!D301)","v":"y"},"",{"$f":"IF(PLANTS!E301=\"\",\"\",PLANTS!E301)","v":"y"},"",{"$f":"IF(PLANTS!F301=\"\",\"\",PLANTS!F301)","v":"y"},"",0,null,75,"",null,0,{"$f":"IF(DE303=\"A\",PLANTS!H301,DE303)","v":"M"},50,null,"","","","",null,null,null,"","",null,null,null,null,null,null,{"$error":"#DIV/0!"},null,"",null," ","",null,"","","",0,0,"",0,"",null,"","","MEAR4",{"$f":"IF(DC303=\"a\",PLANTS!I301,DMA!DC303)","v":2},{"$f":"IF(DD303=\"a\",PLANTS!G301,DMA!DD303)","v":75},null,null,null,null,null,null,null,null,null,{"$f":"PLANTS!I301","v":2},{"$f":"PLANTS!G301","v":75},{"$f":"PLANTS!H301","v":"M"},null,null,null,null,"",{"$f":"IF(DMA!DJ303=\"\",\"\",(DMA!N303-SUMIF(Graphs!$O$13:$O$199,DMA!$DJ303,Graphs!$V$13:$V$199))^2)","v":""},{"$f":"IF(DMA!DK303=\"\",\"\",(DMA!O303-SUMIF(Graphs!$O$13:$O$199,DMA!$DJ303,Graphs!$V$13:$V$199))^2)","v":""},{"$f":"IF(DMA!DL303=\"\",\"\",(DMA!P303-SUMIF(Graphs!$O$13:$O$199,DMA!$DJ303,Graphs!$V$13:$V$199))^2)","v":""},"",0,"",0]
[null,null,null,null,null,null,null,null,null,null,null,null,null,null,null,null,null,null,null,{"$f":"IF(A304=\"\",\"\",(Header!C$7*Header!C$6)*A304)","v":""},"","","","","",null,null,null,null,null,null,null,null,null,null,null,null,null,null,null,{"$f":"IF(PLANTS!A302=\"\",\"\",PLANTS!A302)","v":"MECI3"},5,"",0,{"$f":"IF(PLANTS!C302=\"\",\"\",PLANTS!C302)","v":""},"",{"$f":"IF(PLANTS!D302=\"\",\"\",PLANTS!D302)","v":"y"},"",{"$f":"IF(PLANTS!E302=\"\",\"\",PLANTS!E302)","v":"y"},"",{"$f":"IF(PLANTS!F302=\"\",\"\",PLANTS!F302)","v":"y"},"",0,null,75,"",null,0,{"$f":"IF(DE304=\"A\",PLANTS!H302,DE304)","v":"M"},50,null,"","","","",null,null,null,"","",null,null,null,null,null,null,{"$error":"#DIV/0!"},null,"",null," ","",null,"","","",0,0,"",0,"",null,"","","MECI3",{"$f":"IF(DC304=\"a\",PLANTS!I302,DMA!DC304)","v":5},{"$f":"IF(DD304=\"a\",PLANTS!G302,DMA!DD304)","v":75},null,null,null,null,null,null,null,null,null,{"$f":"PLANTS!I302","v":5},{"$f":"PLANTS!G302","v":75},{"$f":"PLANTS!H302","v":"M"},null,null,null,null,"",{"$f":"IF(DMA!DJ304=\"\",\"\",(DMA!N304-SUMIF(Graphs!$O$13:$O$199,DMA!$DJ304,Graphs!$V$13:$V$199))^2)","v":""},{"$f":"IF(DMA!DK304=\"\",\"\",(DMA!O304-SUMIF(Graphs!$O$13:$O$199,DMA!$DJ304,Graphs!$V$13:$V$199))^2)","v":""},{"$f":"IF(DMA!DL304=\"\",\"\",(DMA!P304-SUMIF(Graphs!$O$13:$O$199,DMA!$DJ304,Graphs!$V$13:$V$199))^2)","v":""},"",0,"",0]
[null,null,null,null,null,null,null,null,null,null,null,null,null,null,null,null,null,null,null,{"$f":"IF(A305=\"\",\"\",(Header!C$7*Header!C$6)*A305)","v":""},"","","","","",null,null,null,null,null,null,null,null,null,null,null,null,null,null,null,{"$f":"IF(PLANTS!A303=\"\",\"\",PLANTS!A303)","v":"MELU"},2,"",0,{"$f":"IF(PLANTS!C303=\"\",\"\",PLANTS!C303)","v":""},"",{"$f":"IF(PLANTS!D303=\"\",\"\",PLANTS!D303)","v":""},"",{"$f":"IF(PLANTS!E303=\"\",\"\",PLANTS!E303)","v":"y"},"",{"$f":"IF(PLANTS!F303=\"\",\"\",PLANTS!F303)","v":"y"},"",0,null,50,"",null,0,{"$f":"IF(DE305=\"A\",PLANTS!H303,DE305)","v":"E"},20,null,"","","","",null,null,null,"","",null,null,null,null,null,null,{"$error":"#DIV/0!"},null,"",null," ","",null,"","","",0,"","","","",null,"","","MELU",{"$f":"IF(DC305=\"a\",PLANTS!I303,DMA!DC305)","v":2},{"$f":"IF(DD305=\"a\",PLANTS!G303,DMA!DD305)","v":50},null,null,null,null,null,null,null,null,null,{"$f":"PLANTS!I303","v":2},{"$f":"PLANTS!G303","v":50},{"$f":"PLANTS!H303","v":"E"},null,null,null,null,"",{"$f":"IF(DMA!DJ305=\"\",\"\",(DMA!N305-SUMIF(Graphs!$O$13:$O$199,DMA!$DJ305,Graphs!$V$13:$V$199))^2)","v":""},{"$f":"IF(DMA!DK305=\"\",\"\",(DMA!O305-SUMIF(Graphs!$O$13:$O$199,DMA!$DJ305,Graphs!$V$13:$V$199))^2)","v":""},{"$f":"IF(DMA!DL305=\"\",\"\",(DMA!P305-SUMIF(Graphs!$O$13:$O$199,DMA!$DJ305,Graphs!$V$13:$V$199))^2)","v":""},"",0,"",0]
[null,null,null,null,null,null,null,null,null,null,null,null,null,null,null,null,null,null,null,{"$f":"IF(A306=\"\",\"\",(Header!C$7*Header!C$6)*A306)","v":""},"","","","","",null,null,null,null,null,null,null,null,null,null,null,null,null,null,null,{"$f":"IF(PLANTS!A304=\"\",\"\",PLANTS!A304)","v":"MEOF"},2,"",0,{"$f":"IF(PLANTS!C304=\"\",\"\",PLANTS!C304)","v":""},"",{"$f":"IF(PLANTS!D304=\"\",\"\",PLANTS!D304)","v":""},"",{"$f":"IF(PLANTS!E304=\"\",\"\",PLANTS!E304)","v":"y"},"",{"$f":"IF(PLANTS!F304=\"\",\"\",PLANTS!F304)","v":"y"},"",0,null,25,"",null,0,{"$f":"IF(DE306=\"A\",PLANTS!H304,DE306)","v":"E"},20,null,"","","","",null,null,null,"","",null,null,null,null,null,null,{"$error":"#DIV/0!"},null,"",null," ","",null,"","","",0,"","","","",null,"","","MEOF",{"$f":"IF(DC306=\"a\",PLANTS!I304,DMA!DC306)","v":2},{"$f":"IF(DD306=\"a\",PLANTS!G304,DMA!DD306)","v":25},null,null,null,null,null,null,null,null,null,{"$f":"PLANTS!I304","v":2},{"$f":"PLANTS!G304","v":25},{"$f":"PLANTS!H304","v":"E"},null,null,null,null,"",{"$f":"IF(DMA!DJ306=\"\",\"\",(DMA!N306-SUMIF(Graphs!$O$13:$O$199,DMA!$DJ306,Graphs!$V$13:$V$199))^2)","v":""},{"$f":"IF(DMA!DK306=\"\",\"\",(DMA!O306-SUMIF(Graphs!$O$13:$O$199,DMA!$DJ306,Graphs!$V$13:$V$199))^2)","v":""},{"$f":"IF(DMA!DL306=\"\",\"\",(DMA!P306-SUMIF(Graphs!$O$13:$O$199,DMA!$DJ306,Graphs!$V$13:$V$199))^2)","v":""},"",0,"",0]
[null,null,null,null,null,null,null,null,null,null,null,null,null,null,null,null,null,null,null,{"$f":"IF(A307=\"\",\"\",(Header!C$7*Header!C$6)*A307)","v":""},"","","","","",null,null,null,null,null,null,null,null,null,null,null,null,null,null,null,{"$f":"IF(PLANTS!A305=\"\",\"\",PLANTS!A305)","v":"MESP3"},2,"",0,{"$f":"IF(PLANTS!C305=\"\",\"\",PLANTS!C305)","v":""},"",{"$f":"IF(PLANTS!D305=\"\",\"\",PLANTS!D305)","v":"y"},"",{"$f":"IF(PLANTS!E305=\"\",\"\",PLANTS!E305)","v":"y"},"",{"$f":"IF(PLANTS!F305=\"\",\"\",PLANTS!F305)","v":"y"},"",0,null,100,"",null,0,{"$f":"IF(DE307=\"A\",PLANTS!H305,DE307)","v":"E"},20,null,"","","","",null,null,null,"","",null,null,null,null,null,null,{"$error":"#DIV/0!"},null,"",null," ","",null,"","","",0,0,"",0,"",null,"","","MESP3",{"$f":"IF(DC307=\"a\",PLANTS!I305,DMA!DC307)","v":2},{"$f":"IF(DD307=\"a\",PLANTS!G305,DMA!DD307)","v":100},null,null,null,null,null,null,null,null,null,{"$f":"PLANTS!I305","v":2},{"$f":"PLANTS!G305","v":100},{"$f":"PLANTS!H305","v":"E"},null,null,null,null,"",{"$f":"IF(DMA!DJ307=\"\",\"\",(DMA!N307-SUMIF(Graphs!$O$13:$O$199,DMA!$DJ307,Graphs!$V$13:$V$199))^2)","v":""},{"$f":"IF(DMA!DK307=\"\",\"\",(DMA!O307-SUMIF(Graphs!$O$13:$O$199,DMA!$DJ307,Graphs!$V$13:$V$199))^2)","v":""},{"$f":"IF(DMA!DL307=\"\",\"\",(DMA!P307-SUMIF(Graphs!$O$13:$O$199,DMA!$DJ307,Graphs!$V$13:$V$199))^2)","v":""},"",0,"",0]
[null,null,null,null,null,null,null,null,null,null,null,null,null,null,null,null,null,null,null,{"$f":"IF(A308=\"\",\"\",(Header!C$7*Header!C$6)*A308)","v":""},"","","","","",null,null,null,null,null,null,null,null,null,null,null,null,null,null,null,{"$f":"IF(PLANTS!A306=\"\",\"\",PLANTS!A306)","v":"METR3"},5,"",0,{"$f":"IF(PLANTS!C306=\"\",\"\",PLANTS!C306)","v":""},"",{"$f":"IF(PLANTS!D306=\"\",\"\",PLANTS!D306)","v":"y"},"",{"$f":"IF(PLANTS!E306=\"\",\"\",PLANTS!E306)","v":"y"},"",{"$f":"IF(PLANTS!F306=\"\",\"\",PLANTS!F306)","v":"y"},"",0,null,100,"",null,0,{"$f":"IF(DE308=\"A\",PLANTS!H306,DE308)","v":"M"},50,null,"","","","",null,null,null,"","",null,null,null,null,null,null,{"$f":"IF(I308=BZ$3,J308,\"\")","v":{"$error":"#DIV/0!"}},null,"",null," ","",null,"","","",0,0,"",0,"",null,"","","METR3",{"$f":"IF(DC308=\"a\",PLANTS!I306,DMA!DC308)","v":5},{"$f":"IF(DD308=\"a\",PLANTS!G306,DMA!DD308)","v":100},null,null,null,null,null,null,null,null,null,{"$f":"PLANTS!I306","v":5},{"$f":"PLANTS!G306","v":100},{"$f":"PLANTS!H306","v":"M"},null,null,null,null,"",{"$f":"IF(DMA!DJ308=\"\",\"\",(DMA!N308-SUMIF(Graphs!$O$13:$O$199,DMA!$DJ308,Graphs!$V$13:$V$199))^2)","v":""},{"$f":"IF(DMA!DK308=\"\",\"\",(DMA!O308-SUMIF(Graphs!$O$13:$O$199,DMA!$DJ308,Graphs!$V$13:$V$199))^2)","v":""},{"$f":"IF(DMA!DL308=\"\",\"\",(DMA!P308-SUMIF(Graphs!$O$13:$O$199,DMA!$DJ308,Graphs!$V$13:$V$199))^2)","v":""},"",0,"",0]
[null,null,null,null,null,null,null,null,null,null,null,null,null,null,null,null,null,null,null,{"$f":"IF(A309=\"\",\"\",(Header!C$7*Header!C$6)*A309)","v":""},"","","","","",null,null,null,null,null,null,null,null,null,null,null,null,null,null,null,{"$f":"IF(PLANTS!A307=\"\",\"\",PLANTS!A307)","v":"MFE"},2,"",0,{"$f":"IF(PLANTS!C307=\"\",\"\",PLANTS!C307)","v":""},"",{"$f":"IF(PLANTS!D307=\"\",\"\",PLANTS!D307)","v":""},"",{"$f":"IF(PLANTS!E307=\"\",\"\",PLANTS!E307)","v":"y"},"",{"$f":"IF(PLANTS!F307=\"\",\"\",PLANTS!F307)","v":"y"},"",0,null,50,"",null,0,{"$f":"IF(DE309=\"A\",PLANTS!H307,DE309)","v":"E"},20,null,"","","","",null,null,null,"","",null,null,null,null,null,null,{"$error":"#DIV/0!"},null,"",null," ","",null,"","","",0,"","","","",null,"","","MFE",{"$f":"IF(DC309=\"a\",PLANTS!I307,DMA!DC309)","v":2},{"$f":"IF(DD309=\"a\",PLANTS!G307,DMA!DD309)","v":50},null,null,null,null,null,null,null,null,null,{"$f":"PLANTS!I307","v":2},{"$f":"PLANTS!G307","v":50},{"$f":"PLANTS!H307","v":"E"},null,null,null,null,"",{"$f":"IF(DMA!DJ309=\"\",\"\",(DMA!N309-SUMIF(Graphs!$O$13:$O$199,DMA!$DJ309,Graphs!$V$13:$V$199))^2)","v":""},{"$f":"IF(DMA!DK309=\"\",\"\",(DMA!O309-SUMIF(Graphs!$O$13:$O$199,DMA!$DJ309,Graphs!$V$13:$V$199))^2)","v":""},{"$f":"IF(DMA!DL309=\"\",\"\",(DMA!P309-SUMIF(Graphs!$O$13:$O$199,DMA!$DJ309,Graphs!$V$13:$V$199))^2)","v":""},"",0,"",0]
[null,null,null,null,null,null,null,null,null,null,null,null,null,null,null,null,null,null,null,{"$f":"IF(A310=\"\",\"\",(Header!C$7*Header!C$6)*A310)","v":""},"","","","","",null,null,null,null,null,null,null,null,null,null,null,null,null,null,null,{"$f":"IF(PLANTS!A308=\"\",\"\",PLANTS!A308)","v":"MFL"},8.5,"",0,{"$f":"IF(PLANTS!C308=\"\",\"\",PLANTS!C308)","v":""},"",{"$f":"IF(PLANTS!D308=\"\",\"\",PLANTS!D308)","v":"y"},"",{"$f":"IF(PLANTS!E308=\"\",\"\",PLANTS!E308)","v":"y"},"",{"$f":"IF(PLANTS!F308=\"\",\"\",PLANTS!F308)","v":"y"},"",0,null,75,"",null,0,{"$f":"IF(DE310=\"A\",PLANTS!H308,DE310)","v":"L"},80,null,"","","","",null,null,null,"","",null,null,null,null,null,null,{"$error":"#DIV/0!"},null,"",null," ","",null,"","","",0,0,"",0,"",null,"","","MFL",{"$f":"IF(DC310=\"a\",PLANTS!I308,DMA!DC310)","v":8.5},{"$f":"IF(DD310=\"a\",PLANTS!G308,DMA!DD310)","v":75},null,null,null,null,null,null,null,null,null,{"$f":"PLANTS!I308","v":8.5},{"$f":"PLANTS!G308","v":75},{"$f":"PLANTS!H308","v":"L"},null,null,null,null,"",{"$f":"IF(DMA!DJ310=\"\",\"\",(DMA!N310-SUMIF(Graphs!$O$13:$O$199,DMA!$DJ310,Graphs!$V$13:$V$199))^2)","v":""},{"$f":"IF(DMA!DK310=\"\",\"\",(DMA!O310-SUMIF(Graphs!$O$13:$O$199,DMA!$DJ310,Graphs!$V$13:$V$199))^2)","v":""},{"$f":"IF(DMA!DL310=\"\",\"\",(DMA!P310-SUMIF(Graphs!$O$13:$O$199,DMA!$DJ310,Graphs!$V$13:$V$199))^2)","v":""},"",0,"",0]
[null,null,null,null,null,null,null,null,null,null,null,null,null,null,null,null,null,null,null,{"$f":"IF(A311=\"\",\"\",(Header!C$7*Header!C$6)*A311)","v":""},"","","","","",null,null,null,null,null,null,null,null,null,null,null,null,null,null,null,{"$f":"IF(PLANTS!A309=\"\",\"\",PLANTS!A309)","v":"MFM"},2,"",0,{"$f":"IF(PLANTS!C309=\"\",\"\",PLANTS!C309)","v":""},"",{"$f":"IF(PLANTS!D309=\"\",\"\",PLANTS!D309)","v":""},"",{"$f":"IF(PLANTS!E309=\"\",\"\",PLANTS!E309)","v":"y"},"",{"$f":"IF(PLANTS!F309=\"\",\"\",PLANTS!F309)","v":"y"},"",0,null,50,"",null,0,{"$f":"IF(DE311=\"A\",PLANTS!H309,DE311)","v":"M"},50,null,"","","","",null,null,null,"","",null,null,null,null,null,null,{"$error":"#DIV/0!"},null,"",null," ","",null,"","","",0,"","","","",null,"","","MFM",{"$f":"IF(DC311=\"a\",PLANTS!I309,DMA!DC311)","v":2},{"$f":"IF(DD311=\"a\",PLANTS!G309,DMA!DD311)","v":50},null,null,null,null,null,null,null,null,null,{"$f":"PLANTS!I309","v":2},{"$f":"PLANTS!G309","v":50},{"$f":"PLANTS!H309","v":"M"},null,null,null,null,"",{"$f":"IF(DMA!DJ311=\"\",\"\",(DMA!N311-SUMIF(Graphs!$O$13:$O$199,DMA!$DJ311,Graphs!$V$13:$V$199))^2)","v":""},{"$f":"IF(DMA!DK311=\"\",\"\",(DMA!O311-SUMIF(Graphs!$O$13:$O$199,DMA!$DJ311,Graphs!$V$13:$V$199))^2)","v":""},{"$f":"IF(DMA!DL311=\"\",\"\",(DMA!P311-SUMIF(Graphs!$O$13:$O$199,DMA!$DJ311,Graphs!$V$13:$V$199))^2)","v":""},"",0,"",0]
[null,null,null,null,null,null,null,null,null,null,null,null,null,null,null,null,null,null,null,{"$f":"IF(A312=\"\",\"\",(Header!C$7*Header!C$6)*A312)","v":""},"","","","","",null,null,null,null,null,null,null,null,null,null,null,null,null,null,null,{"$f":"IF(PLANTS!A310=\"\",\"\",PLANTS!A310)","v":"MG"},2,"",0,{"$f":"IF(PLANTS!C310=\"\",\"\",PLANTS!C310)","v":""},"",{"$f":"IF(PLANTS!D310=\"\",\"\",PLANTS!D310)","v":""},"",{"$f":"IF(PLANTS!E310=\"\",\"\",PLANTS!E310)","v":"y"},"",{"$f":"IF(PLANTS!F310=\"\",\"\",PLANTS!F310)","v":""},"",0,null,50,"",null,0,{"$f":"IF(DE312=\"A\",PLANTS!H310,DE312)","v":"E"},20,null,"","","","",null,null,null,"","",null,null,null,null,null,null,{"$error":"#DIV/0!"},null,"",null," ","",null,"","","","","","","","",null,"","","MG",{"$f":"IF(DC312=\"a\",PLANTS!I310,DMA!DC312)","v":2},{"$f":"IF(DD312=\"a\",PLANTS!G310,DMA!DD312)","v":50},null,null,null,null,null,null,null,null,null,{"$f":"PLANTS!I310","v":2},{"$f":"PLANTS!G310","v":50},{"$f":"PLANTS!H310","v":"E"},null,null,null,null,"",{"$f":"IF(DMA!DJ312=\"\",\"\",(DMA!N312-SUMIF(Graphs!$O$13:$O$199,DMA!$DJ312,Graphs!$V$13:$V$199))^2)","v":""},{"$f":"IF(DMA!DK312=\"\",\"\",(DMA!O312-SUMIF(Graphs!$O$13:$O$199,DMA!$DJ312,Graphs!$V$13:$V$199))^2)","v":""},{"$f":"IF(DMA!DL312=\"\",\"\",(DMA!P312-SUMIF(Graphs!$O$13:$O$199,DMA!$DJ312,Graphs!$V$13:$V$199))^2)","v":""},"",0,"",0]
[null,null,null,null,null,null,null,null,null,null,null,null,null,null,null,null,null,null,null,{"$f":"IF(A313=\"\",\"\",(Header!C$7*Header!C$6)*A313)","v":""},"","","","","",null,null,null,null,null,null,null,null,null,null,null,null,null,null,null,{"$f":"IF(PLANTS!A311=\"\",\"\",PLANTS!A311)","v":"MICA3"},2,"",0,{"$f":"IF(PLANTS!C311=\"\",\"\",PLANTS!C311)","v":""},"",{"$f":"IF(PLANTS!D311=\"\",\"\",PLANTS!D311)","v":"y"},"",{"$f":"IF(PLANTS!E311=\"\",\"\",PLANTS!E311)","v":"y"},"",{"$f":"IF(PLANTS!F311=\"\",\"\",PLANTS!F311)","v":"y"},"",0,null,75,"",null,0,{"$f":"IF(DE313=\"A\",PLANTS!H311,DE313)","v":"M"},50,null,"","","","",null,null,null,"","",null,null,null,null,null,null,{"$error":"#DIV/0!"},null,"",null," ","",null,"","","",0,0,"",0,"",null,"","","MICA3",{"$f":"IF(DC313=\"a\",PLANTS!I311,DMA!DC313)","v":2},{"$f":"IF(DD313=\"a\",PLANTS!G311,DMA!DD313)","v":75},null,null,null,null,null,null,null,null,null,{"$f":"PLANTS!I311","v":2},{"$f":"PLANTS!G311","v":75},{"$f":"PLANTS!H311","v":"M"},null,null,null,null,"",{"$f":"IF(DMA!DJ313=\"\",\"\",(DMA!N313-SUMIF(Graphs!$O$13:$O$199,DMA!$DJ313,Graphs!$V$13:$V$199))^2)","v":""},{"$f":"IF(DMA!DK313=\"\",\"\",(DMA!O313-SUMIF(Graphs!$O$13:$O$199,DMA!$DJ313,Graphs!$V$13:$V$199))^2)","v":""},{"$f":"IF(DMA!DL313=\"\",\"\",(DMA!P313-SUMIF(Graphs!$O$13:$O$199,DMA!$DJ313,Graphs!$V$13:$V$199))^2)","v":""},"",0,"",0]
[null,null,null,null,null,null,null,null,null,null,null,null,null,null,null,null,null,null,null,{"$f":"IF(A314=\"\",\"\",(Header!C$7*Header!C$6)*A314)","v":""},"","","","","",null,null,null,null,null,null,null,null,null,null,null,null,null,null,null,{"$f":"IF(PLANTS!A312=\"\",\"\",PLANTS!A312)","v":"MIGU"},2,"",0,{"$f":"IF(PLANTS!C312=\"\",\"\",PLANTS!C312)","v":""},"",{"$f":"IF(PLANTS!D312=\"\",\"\",PLANTS!D312)","v":"y"},"",{"$f":"IF(PLANTS!E312=\"\",\"\",PLANTS!E312)","v":"y"},"",{"$f":"IF(PLANTS!F312=\"\",\"\",PLANTS!F312)","v":"y"},"",0,null,100,"",null,0,{"$f":"IF(DE314=\"A\",PLANTS!H312,DE314)","v":"M"},50,null,"","","","",null,null,null,"","",null,null,null,null,null,null,{"$error":"#DIV/0!"},null,"",null," ","",null,"","","",0,0,"",0,"",null,"","","MIGU",{"$f":"IF(DC314=\"a\",PLANTS!I312,DMA!DC314)","v":2},{"$f":"IF(DD314=\"a\",PLANTS!G312,DMA!DD314)","v":100},null,null,null,null,null,null,null,null,null,{"$f":"PLANTS!I312","v":2},{"$f":"PLANTS!G312","v":100},{"$f":"PLANTS!H312","v":"M"},null,null,null,null,"",{"$f":"IF(DMA!DJ314=\"\",\"\",(DMA!N314-SUMIF(Graphs!$O$13:$O$199,DMA!$DJ314,Graphs!$V$13:$V$199))^2)","v":""},{"$f":"IF(DMA!DK314=\"\",\"\",(DMA!O314-SUMIF(Graphs!$O$13:$O$199,DMA!$DJ314,Graphs!$V$13:$V$199))^2)","v":""},{"$f":"IF(DMA!DL314=\"\",\"\",(DMA!P314-SUMIF(Graphs!$O$13:$O$199,DMA!$DJ314,Graphs!$V$13:$V$199))^2)","v":""},"",0,"",0]
[null,null,null,null,null,null,null,null,null,null,null,null,null,null,null,null,null,null,null,{"$f":"IF(A315=\"\",\"\",(Header!C$7*Header!C$6)*A315)","v":""},"","","","","",null,null,null,null,null,null,null,null,null,null,null,null,null,null,null,{"$f":"IF(PLANTS!A313=\"\",\"\",PLANTS!A313)","v":"MILE2"},2,"",0,{"$f":"IF(PLANTS!C313=\"\",\"\",PLANTS!C313)","v":""},"",{"$f":"IF(PLANTS!D313=\"\",\"\",PLANTS!D313)","v":"y"},"",{"$f":"IF(PLANTS!E313=\"\",\"\",PLANTS!E313)","v":"y"},"",{"$f":"IF(PLANTS!F313=\"\",\"\",PLANTS!F313)","v":"y"},"",0,null,75,"",null,0,{"$f":"IF(DE315=\"A\",PLANTS!H313,DE315)","v":"M"},50,null,"","","","",null,null,null,"","",null,null,null,null,null,null,{"$error":"#DIV/0!"},null,"",null," ","",null,"","","",0,0,"",0,"",null,"","","MILE2",{"$f":"IF(DC315=\"a\",PLANTS!I313,DMA!DC315)","v":2},{"$f":"IF(DD315=\"a\",PLANTS!G313,DMA!DD315)","v":75},null,null,null,null,null,null,null,null,null,{"$f":"PLANTS!I313","v":2},{"$f":"PLANTS!G313","v":75},{"$f":"PLANTS!H313","v":"M"},null,null,null,null,"",{"$f":"IF(DMA!DJ315=\"\",\"\",(DMA!N315-SUMIF(Graphs!$O$13:$O$199,DMA!$DJ315,Graphs!$V$13:$V$199))^2)","v":""},{"$f":"IF(DMA!DK315=\"\",\"\",(DMA!O315-SUMIF(Graphs!$O$13:$O$199,DMA!$DJ315,Graphs!$V$13:$V$199))^2)","v":""},{"$f":"IF(DMA!DL315=\"\",\"\",(DMA!P315-SUMIF(Graphs!$O$13:$O$199,DMA!$DJ315,Graphs!$V$13:$V$199))^2)","v":""},"",0,"",0]
[null,null,null,null,null,null,null,null,null,null,null,null,null,null,null,null,null,null,null,{"$f":"IF(A316=\"\",\"\",(Header!C$7*Header!C$6)*A316)","v":""},"","","","","",null,null,null,null,null,null,null,null,null,null,null,null,null,null,null,{"$f":"IF(PLANTS!A314=\"\",\"\",PLANTS!A314)","v":"MIMO2"},2,"",0,{"$f":"IF(PLANTS!C314=\"\",\"\",PLANTS!C314)","v":""},"",{"$f":"IF(PLANTS!D314=\"\",\"\",PLANTS!D314)","v":"y"},"",{"$f":"IF(PLANTS!E314=\"\",\"\",PLANTS!E314)","v":"y"},"",{"$f":"IF(PLANTS!F314=\"\",\"\",PLANTS!F314)","v":"y"},"",0,null,100,"",null,0,{"$f":"IF(DE316=\"A\",PLANTS!H314,DE316)","v":"M"},50,null,"","","","",null,null,null,"","",null,null,null,null,null,null,{"$error":"#DIV/0!"},null,"",null," ","",null,"","","",0,0,"",0,"",null,"","","MIMO2",{"$f":"IF(DC316=\"a\",PLANTS!I314,DMA!DC316)","v":2},{"$f":"IF(DD316=\"a\",PLANTS!G314,DMA!DD316)","v":100},null,null,null,null,null,null,null,null,null,{"$f":"PLANTS!I314","v":2},{"$f":"PLANTS!G314","v":100},{"$f":"PLANTS!H314","v":"M"},null,null,null,null,"",{"$f":"IF(DMA!DJ316=\"\",\"\",(DMA!N316-SUMIF(Graphs!$O$13:$O$199,DMA!$DJ316,Graphs!$V$13:$V$199))^2)","v":""},{"$f":"IF(DMA!DK316=\"\",\"\",(DMA!O316-SUMIF(Graphs!$O$13:$O$199,DMA!$DJ316,Graphs!$V$13:$V$199))^2)","v":""},{"$f":"IF(DMA!DL316=\"\",\"\",(DMA!P316-SUMIF(Graphs!$O$13:$O$199,DMA!$DJ316,Graphs!$V$13:$V$199))^2)","v":""},"",0,"",0]
[null,null,null,null,null,null,null,null,null,null,null,null,null,null,null,null,null,null,null,{"$f":"IF(A317=\"\",\"\",(Header!C$7*Header!C$6)*A317)","v":""},"","","","","",null,null,null,null,null,null,null,null,null,null,null,null,null,null,null,{"$f":"IF(PLANTS!A315=\"\",\"\",PLANTS!A315)","v":"MIPR"},2,"",0,{"$f":"IF(PLANTS!C315=\"\",\"\",PLANTS!C315)","v":""},"",{"$f":"IF(PLANTS!D315=\"\",\"\",PLANTS!D315)","v":"y"},"",{"$f":"IF(PLANTS!E315=\"\",\"\",PLANTS!E315)","v":"y"},"",{"$f":"IF(PLANTS!F315=\"\",\"\",PLANTS!F315)","v":"y"},"",0,null,75,"",null,0,{"$f":"IF(DE317=\"A\",PLANTS!H315,DE317)","v":"M"},50,null,"","","","",null,null,null,"","",null,null,null,null,null,null,{"$error":"#DIV/0!"},null,"",null," ","",null,"","","",0,0,"",0,"",null,"","","MIPR",{"$f":"IF(DC317=\"a\",PLANTS!I315,DMA!DC317)","v":2},{"$f":"IF(DD317=\"a\",PLANTS!G315,DMA!DD317)","v":75},null,null,null,null,null,null,null,null,null,{"$f":"PLANTS!I315","v":2},{"$f":"PLANTS!G315","v":75},{"$f":"PLANTS!H315","v":"M"},null,null,null,null,"",{"$f":"IF(DMA!DJ317=\"\",\"\",(DMA!N317-SUMIF(Graphs!$O$13:$O$199,DMA!$DJ317,Graphs!$V$13:$V$199))^2)","v":""},{"$f":"IF(DMA!DK317=\"\",\"\",(DMA!O317-SUMIF(Graphs!$O$13:$O$199,DMA!$DJ317,Graphs!$V$13:$V$199))^2)","v":""},{"$f":"IF(DMA!DL317=\"\",\"\",(DMA!P317-SUMIF(Graphs!$O$13:$O$199,DMA!$DJ317,Graphs!$V$13:$V$199))^2)","v":""},"",0,"",0]
[null,null,null,null,null,null,null,null,null,null,null,null,null,null,null,null,null,null,null,{"$f":"IF(A318=\"\",\"\",(Header!C$7*Header!C$6)*A318)","v":""},{"$f":"IF(K459=\"\",\"\",K459*12/39)","v":""},"","","","",null,null,null,null,null,null,null,null,null,null,null,null,null,null,null,{"$f":"IF(PLANTS!A316=\"\",\"\",PLANTS!A316)","v":"MOCH"},2,"",0,{"$f":"IF(PLANTS!C316=\"\",\"\",PLANTS!C316)","v":""},"",{"$f":"IF(PLANTS!D316=\"\",\"\",PLANTS!D316)","v":"y"},"",{"$f":"IF(PLANTS!E316=\"\",\"\",PLANTS!E316)","v":"y"},"",{"$f":"IF(PLANTS!F316=\"\",\"\",PLANTS!F316)","v":"y"},"",0,null,100,"",null,0,{"$f":"IF(DE318=\"A\",PLANTS!H316,DE318)","v":"M"},50,null,"","","","",null,null,null,"","",null,null,null,null,null,null,{"$error":"#DIV/0!"},null,"",null," ","",null,"","","",0,0,"",0,"",null,"","","MOCH",{"$f":"IF(DC318=\"a\",PLANTS!I316,DMA!DC318)","v":2},{"$f":"IF(DD318=\"a\",PLANTS!G316,DMA!DD318)","v":100},null,null,null,null,null,null,null,null,null,{"$f":"PLANTS!I316","v":2},{"$f":"PLANTS!G316","v":100},{"$f":"PLANTS!H316","v":"M"},null,null,null,null,"",{"$f":"IF(DMA!DJ318=\"\",\"\",(DMA!N318-SUMIF(Graphs!$O$13:$O$199,DMA!$DJ318,Graphs!$V$13:$V$199))^2)","v":""},{"$f":"IF(DMA!DK318=\"\",\"\",(DMA!O318-SUMIF(Graphs!$O$13:$O$199,DMA!$DJ318,Graphs!$V$13:$V$199))^2)","v":""},{"$f":"IF(DMA!DL318=\"\",\"\",(DMA!P318-SUMIF(Graphs!$O$13:$O$199,DMA!$DJ318,Graphs!$V$13:$V$199))^2)","v":""},"",0,"",0]
[null,null,null,null,null,null,null,null,null,null,null,null,null,null,null,null,null,null,null,{"$f":"IF(A319=\"\",\"\",(Header!C$7*Header!C$6)*A319)","v":""},"","","","","",null,null,null,null,null,null,null,null,null,null,null,null,null,null,null,{"$f":"IF(PLANTS!A317=\"\",\"\",PLANTS!A317)","v":"MOFI"},2,"",0,{"$f":"IF(PLANTS!C317=\"\",\"\",PLANTS!C317)","v":""},"",{"$f":"IF(PLANTS!D317=\"\",\"\",PLANTS!D317)","v":""},"",{"$f":"IF(PLANTS!E317=\"\",\"\",PLANTS!E317)","v":"y"},"",{"$f":"IF(PLANTS!F317=\"\",\"\",PLANTS!F317)","v":"y"},"",0,null,25,"",null,0,{"$f":"IF(DE319=\"A\",PLANTS!H317,DE319)","v":"E"},20,null,"","","","",null,null,null,"","",null,null,null,null,null,null,{"$error":"#DIV/0!"},null,"",null," ","",null,"","","",0,"","","","",null,"","","MOFI",{"$f":"IF(DC319=\"a\",PLANTS!I317,DMA!DC319)","v":2},{"$f":"IF(DD319=\"a\",PLANTS!G317,DMA!DD319)","v":25},null,null,null,null,null,null,null,null,null,{"$f":"PLANTS!I317","v":2},{"$f":"PLANTS!G317","v":25},{"$f":"PLANTS!H317","v":"E"},null,null,null,null,"",{"$f":"IF(DMA!DJ319=\"\",\"\",(DMA!N319-SUMIF(Graphs!$O$13:$O$199,DMA!$DJ319,Graphs!$V$13:$V$199))^2)","v":""},{"$f":"IF(DMA!DK319=\"\",\"\",(DMA!O319-SUMIF(Graphs!$O$13:$O$199,DMA!$DJ319,Graphs!$V$13:$V$199))^2)","v":""},{"$f":"IF(DMA!DL319=\"\",\"\",(DMA!P319-SUMIF(Graphs!$O$13:$O$199,DMA!$DJ319,Graphs!$V$13:$V$199))^2)","v":""},"",0,"",0]
[null,null,null,null,null,null,null,null,null,null,null,null,null,null,null,null,null,null,null,{"$f":"IF(A320=\"\",\"\",(Header!C$7*Header!C$6)*A320)","v":""},"","","","","",null,null,null,null,null,null,null,null,null,null,null,null,null,null,null,{"$f":"IF(PLANTS!A318=\"\",\"\",PLANTS!A318)","v":"MS"},5,"",0,{"$f":"IF(PLANTS!C318=\"\",\"\",PLANTS!C318)","v":"y"},"",{"$f":"IF(PLANTS!D318=\"\",\"\",PLANTS!D318)","v":""},"",{"$f":"IF(PLANTS!E318=\"\",\"\",PLANTS!E318)","v":""},"",{"$f":"IF(PLANTS!F318=\"\",\"\",PLANTS!F318)","v":""},"",0,null,50,"",null,0,{"$f":"IF(DE320=\"A\",PLANTS!H318,DE320)","v":"M"},50,null,"","","","",null,null,null,"","",null,null,null,null,null,null,{"$error":"#DIV/0!"},null,"",null," ","",null,"","","","","",0,"","",null,"","","MS",{"$f":"IF(DC320=\"a\",PLANTS!I318,DMA!DC320)","v":5},{"$f":"IF(DD320=\"a\",PLANTS!G318,DMA!DD320)","v":50},null,null,null,null,null,null,null,null,null,{"$f":"PLANTS!I318","v":5},{"$f":"PLANTS!G318","v":50},{"$f":"PLANTS!H318","v":"M"},null,null,null,null,"",{"$f":"IF(DMA!DJ320=\"\",\"\",(DMA!N320-SUMIF(Graphs!$O$13:$O$199,DMA!$DJ320,Graphs!$V$13:$V$199))^2)","v":""},{"$f":"IF(DMA!DK320=\"\",\"\",(DMA!O320-SUMIF(Graphs!$O$13:$O$199,DMA!$DJ320,Graphs!$V$13:$V$199))^2)","v":""},{"$f":"IF(DMA!DL320=\"\",\"\",(DMA!P320-SUMIF(Graphs!$O$13:$O$199,DMA!$DJ320,Graphs!$V$13:$V$199))^2)","v":""},"",0,"",0]
[null,null,null,null,null,null,null,null,null,null,null,null,null,null,null,null,null,null,null,{"$f":"IF(A321=\"\",\"\",(Header!C$7*Header!C$6)*A321)","v":""},"","","","","",null,null,null,null,null,null,null,null,null,null,null,null,null,null,null,{"$f":"IF(PLANTS!A319=\"\",\"\",PLANTS!A319)","v":"MUAN"},2,"",0,{"$f":"IF(PLANTS!C319=\"\",\"\",PLANTS!C319)","v":""},"",{"$f":"IF(PLANTS!D319=\"\",\"\",PLANTS!D319)","v":""},"",{"$f":"IF(PLANTS!E319=\"\",\"\",PLANTS!E319)","v":"y"},"",{"$f":"IF(PLANTS!F319=\"\",\"\",PLANTS!F319)","v":""},"",0,null,50,"",null,0,{"$f":"IF(DE321=\"A\",PLANTS!H319,DE321)","v":"M"},50,null,"","","","",null,null,null,"","",null,null,null,null,null,null,{"$error":"#DIV/0!"},null,"",null," ","",null,"","","","","","","","",null,"","","MUAN",{"$f":"IF(DC321=\"a\",PLANTS!I319,DMA!DC321)","v":2},{"$f":"IF(DD321=\"a\",PLANTS!G319,DMA!DD321)","v":50},null,null,null,null,null,null,null,null,null,{"$f":"PLANTS!I319","v":2},{"$f":"PLANTS!G319","v":50},{"$f":"PLANTS!H319","v":"M"},null,null,null,null,"",{"$f":"IF(DMA!DJ321=\"\",\"\",(DMA!N321-SUMIF(Graphs!$O$13:$O$199,DMA!$DJ321,Graphs!$V$13:$V$199))^2)","v":""},{"$f":"IF(DMA!DK321=\"\",\"\",(DMA!O321-SUMIF(Graphs!$O$13:$O$199,DMA!$DJ321,Graphs!$V$13:$V$199))^2)","v":""},{"$f":"IF(DMA!DL321=\"\",\"\",(DMA!P321-SUMIF(Graphs!$O$13:$O$199,DMA!$DJ321,Graphs!$V$13:$V$199))^2)","v":""},"",0,"",0]
[null,null,null,null,null,null,null,null,null,null,null,null,null,null,null,null,null,null,null,{"$f":"IF(A322=\"\",\"\",(Header!C$7*Header!C$6)*A322)","v":""},"","","","","",null,null,null,null,null,null,null,null,null,null,null,null,null,null,null,{"$f":"IF(PLANTS!A320=\"\",\"\",PLANTS!A320)","v":"MUAS"},2,"",0,{"$f":"IF(PLANTS!C320=\"\",\"\",PLANTS!C320)","v":""},"",{"$f":"IF(PLANTS!D320=\"\",\"\",PLANTS!D320)","v":"y"},"",{"$f":"IF(PLANTS!E320=\"\",\"\",PLANTS!E320)","v":"y"},"",{"$f":"IF(PLANTS!F320=\"\",\"\",PLANTS!F320)","v":""},"",0,null,75,"",null,0,{"$f":"IF(DE322=\"A\",PLANTS!H320,DE322)","v":"M"},50,null,"","","","",null,null,null,"","",null,null,null,null,null,null,{"$error":"#DIV/0!"},null,"",null," ","",null,"","","","",0,"",0,"",null,"","","MUAS",{"$f":"IF(DC322=\"a\",PLANTS!I320,DMA!DC322)","v":2},{"$f":"IF(DD322=\"a\",PLANTS!G320,DMA!DD322)","v":75},null,null,null,null,null,null,null,null,null,{"$f":"PLANTS!I320","v":2},{"$f":"PLANTS!G320","v":75},{"$f":"PLANTS!H320","v":"M"},null,null,null,null,"",{"$f":"IF(DMA!DJ322=\"\",\"\",(DMA!N322-SUMIF(Graphs!$O$13:$O$199,DMA!$DJ322,Graphs!$V$13:$V$199))^2)","v":""},{"$f":"IF(DMA!DK322=\"\",\"\",(DMA!O322-SUMIF(Graphs!$O$13:$O$199,DMA!$DJ322,Graphs!$V$13:$V$199))^2)","v":""},{"$f":"IF(DMA!DL322=\"\",\"\",(DMA!P322-SUMIF(Graphs!$O$13:$O$199,DMA!$DJ322,Graphs!$V$13:$V$199))^2)","v":""},"",0,"",0]
[null,null,null,null,null,null,null,null,null,null,null,null,null,null,null,null,null,null,null,{"$f":"IF(A323=\"\",\"\",(Header!C$7*Header!C$6)*A323)","v":""},"","","","","",null,null,null,null,null,null,null,null,null,null,null,null,null,null,null,{"$f":"IF(PLANTS!A321=\"\",\"\",PLANTS!A321)","v":"MUCU3"},2,"",0,{"$f":"IF(PLANTS!C321=\"\",\"\",PLANTS!C321)","v":""},"",{"$f":"IF(PLANTS!D321=\"\",\"\",PLANTS!D321)","v":""},"",{"$f":"IF(PLANTS!E321=\"\",\"\",PLANTS!E321)","v":"y"},"",{"$f":"IF(PLANTS!F321=\"\",\"\",PLANTS!F321)","v":""},"",0,null,50,"",null,0,{"$f":"IF(DE323=\"A\",PLANTS!H321,DE323)","v":"E"},20,null,"","","","",null,null,null,"","",null,null,null,null,null,null,{"$error":"#DIV/0!"},null,"",null," ","",null,"","","","","","","","",null,"","","MUCU3",{"$f":"IF(DC323=\"a\",PLANTS!I321,DMA!DC323)","v":2},{"$f":"IF(DD323=\"a\",PLANTS!G321,DMA!DD323)","v":50},null,null,null,null,null,null,null,null,null,{"$f":"PLANTS!I321","v":2},{"$f":"PLANTS!G321","v":50},{"$f":"PLANTS!H321","v":"E"},null,null,null,null,"",{"$f":"IF(DMA!DJ323=\"\",\"\",(DMA!N323-SUMIF(Graphs!$O$13:$O$199,DMA!$DJ323,Graphs!$V$13:$V$199))^2)","v":""},{"$f":"IF(DMA!DK323=\"\",\"\",(DMA!O323-SUMIF(Graphs!$O$13:$O$199,DMA!$DJ323,Graphs!$V$13:$V$199))^2)","v":""},{"$f":"IF(DMA!DL323=\"\",\"\",(DMA!P323-SUMIF(Graphs!$O$13:$O$199,DMA!$DJ323,Graphs!$V$13:$V$199))^2)","v":""},"",0,"",0]
[null,null,null,null,null,null,null,null,null,null,null,null,null,null,null,null,null,null,null,{"$f":"IF(A324=\"\",\"\",(Header!C$7*Header!C$6)*A324)","v":""},"","","","","",null,null,null,null,null,null,null,null,null,null,null,null,null,null,null,{"$f":"IF(PLANTS!A322=\"\",\"\",PLANTS!A322)","v":"MUFI2"},2,"",0,{"$f":"IF(PLANTS!C322=\"\",\"\",PLANTS!C322)","v":""},"",{"$f":"IF(PLANTS!D322=\"\",\"\",PLANTS!D322)","v":"y"},"",{"$f":"IF(PLANTS!E322=\"\",\"\",PLANTS!E322)","v":"y"},"",{"$f":"IF(PLANTS!F322=\"\",\"\",PLANTS!F322)","v":""},"",0,null,75,"",null,0,{"$f":"IF(DE324=\"A\",PLANTS!H322,DE324)","v":"E"},20,null,"","","","",null,null,null,"","",null,null,null,null,null,null,{"$error":"#DIV/0!"},null,"",null," ","",null,"","","","",0,"",0,"",null,"","","MUFI2",{"$f":"IF(DC324=\"a\",PLANTS!I322,DMA!DC324)","v":2},{"$f":"IF(DD324=\"a\",PLANTS!G322,DMA!DD324)","v":75},null,null,null,null,null,null,null,null,null,{"$f":"PLANTS!I322","v":2},{"$f":"PLANTS!G322","v":75},{"$f":"PLANTS!H322","v":"E"},null,null,null,null,"",{"$f":"IF(DMA!DJ324=\"\",\"\",(DMA!N324-SUMIF(Graphs!$O$13:$O$199,DMA!$DJ324,Graphs!$V$13:$V$199))^2)","v":""},{"$f":"IF(DMA!DK324=\"\",\"\",(DMA!O324-SUMIF(Graphs!$O$13:$O$199,DMA!$DJ324,Graphs!$V$13:$V$199))^2)","v":""},{"$f":"IF(DMA!DL324=\"\",\"\",(DMA!P324-SUMIF(Graphs!$O$13:$O$199,DMA!$DJ324,Graphs!$V$13:$V$199))^2)","v":""},"",0,"",0]
[null,null,null,null,null,null,null,null,null,null,null,null,null,null,null,null,null,null,null,{"$f":"IF(A325=\"\",\"\",(Header!C$7*Header!C$6)*A325)","v":""},"","","","","",null,null,null,null,null,null,null,null,null,null,null,null,null,null,null,{"$f":"IF(PLANTS!A323=\"\",\"\",PLANTS!A323)","v":"MURA"},5,"",{"$f":"SUMIF(B$5:B$504,AO325,D$5:D$504)","v":0},{"$f":"IF(PLANTS!C323=\"\",\"\",PLANTS!C323)","v":""},{"$f":"IF($AQ325=\"\",\"\",IF($AQ325>0,IF(AS325=\"y\",COUNTIF(B$5:B$504,AO325)/AP$605,\"\"),\"\"))","v":""},{"$f":"IF(PLANTS!D323=\"\",\"\",PLANTS!D323)","v":"y"},{"$f":"IF($AQ325=\"\",\"\",IF($AQ325>0,IF(AU325=\"y\",COUNTIF($B$5:$B$504,$AO325)/$AP$605,\"\"),\"\"))","v":""},{"$f":"IF(PLANTS!E323=\"\",\"\",PLANTS!E323)","v":"y"},"",{"$f":"IF(PLANTS!F323=\"\",\"\",PLANTS!F323)","v":""},{"$f":"IF($AQ325=\"\",\"\",IF($AQ325>0,IF(AY325=\"y\",COUNTIF($B$5:$B$504,$AO325)/$AP$605,\"\"),\"\"))","v":""},{"$f":"IF(AQ325<>\"\",AQ325/AQ$604,0)","v":0},null,75,"",null,0,{"$f":"IF(DE325=\"A\",PLANTS!H323,DE325)","v":"L"},80,null,"","","","",null,null,null,"","",null,null,null,null,null,null,{"$error":"#DIV/0!"},null,"",null," ","",null,"","","","",0,"",0,"",null,"","","MURA",{"$f":"IF(DC325=\"a\",PLANTS!I323,DMA!DC325)","v":5},{"$f":"IF(DD325=\"a\",PLANTS!G323,DMA!DD325)","v":75},null,null,null,null,null,null,null,null,null,{"$f":"PLANTS!I323","v":5},{"$f":"PLANTS!G323","v":75},{"$f":"PLANTS!H323","v":"L"},null,null,null,null,"",{"$f":"IF(DMA!DJ325=\"\",\"\",(DMA!N325-SUMIF(Graphs!$O$13:$O$199,DMA!$DJ325,Graphs!$V$13:$V$199))^2)","v":""},{"$f":"IF(DMA!DK325=\"\",\"\",(DMA!O325-SUMIF(Graphs!$O$13:$O$199,DMA!$DJ325,Graphs!$V$13:$V$199))^2)","v":""},{"$f":"IF(DMA!DL325=\"\",\"\",(DMA!P325-SUMIF(Graphs!$O$13:$O$199,DMA!$DJ325,Graphs!$V$13:$V$199))^2)","v":""},"",{"$f":"IF(DN325<>\"\",DN325/DN$604,0)","v":0},"",0]
[null,null,null,null,null,null,null,null,null,null,null,null,null,null,null,null,null,null,null,{"$f":"IF(A326=\"\",\"\",(Header!C$7*Header!C$6)*A326)","v":""},"",{"$f":"IF(F326=\"\",\"\",IF(ISNUMBER(SEARCH(F326,\"d\")),IF(ISNUMBER(SEARCH(G326,\"c\")),\"CS\",IF(ISNUMBER(SEARCH(G326,\"u\")),\"UU\")),\"\"))","v":""},{"$f":"IF(F326=\"\",\"\",IF(ISNUMBER(SEARCH(F326,\"e\")),IF(ISNUMBER(SEARCH(G326,\"c\")),IF(ISNUMBER(SEARCH(H326,\"a\")),\"CS\",\"CU\"),IF(ISNUMBER(SEARCH(H326,\"a\")),\"US\",\"UU\")),\"\"))","v":""},{"$f":"IF(V326=\"\",W326,V326)","v":""},{"$f":"IF($X326=\"cs\",1,IF($X326=\"cu\",2,IF($X326=\"us\",3,IF($X326=\"uu\",4,\"\"))))","v":""},null,null,null,null,null,null,null,null,null,null,null,null,null,null,null,{"$f":"IF(PLANTS!A324=\"\",\"\",PLANTS!A324)","v":"MURI"},{"$f":"CR326","v":2},{"$f":"IF(AO326=\"\",\"\",IF(COUNTIF(B$5:B$504,AO326)=0,\"\",SUMIF(B$5:B$504,AO326,C$5:C$504)))","v":""},0,{"$f":"IF(PLANTS!C324=\"\",\"\",PLANTS!C324)","v":""},"",{"$f":"IF(PLANTS!D324=\"\",\"\",PLANTS!D324)","v":""},"",{"$f":"IF(PLANTS!E324=\"\",\"\",PLANTS!E324)","v":"y"},"",{"$f":"IF(PLANTS!F324=\"\",\"\",PLANTS!F324)","v":""},"",0,null,{"$f":"CS326","v":50},{"$f":"IF(AQ326<>\"\",BA326*$BC326,\"\")","v":""},null,{"$f":"(BA326*AP326)","v":0},{"$f":"IF(DE326=\"A\",PLANTS!H324,DE326)","v":"M"},50,null,{"$f":"IF($X326=\"cs\",1,IF($X326=\"fb\",1,IF($X326=\"cu\",2,IF($X326=\"us\",3,IF($X326=\"uu\",4,\"\")))))","v":""},{"$f":"IF(Y326=\"\",\"\",IF(Y326<3,\"c\",IF(Y326>2,\"u\",\"\")))","v":""},{"$f":"IF(Y326=\"\",\"\",IF(Y326=1,\"s\",IF(Y326=3,\"s\",IF(Y326=2,\"u\",IF(Y326=4,\"u\",\"\")))))","v":""},{"$f":"IF(BJ326=0,\"\",BJ326)","v":""},null,null,null,{"$f":"IF(E326<>\"\",E326+1,\"\")","v":""},{"$f":"IF(E326=\"\",\"\",(E326+1)/5)","v":""},null,null,null,null,null,null,{"$error":"#DIV/0!"},null,{"$f":"IF(SUM(N326:Q326)=0,\"\",SUM(N326:Q326))","v":""},null," ",{"$f":"IF(D326+J326<1,\"\",1)","v":""},null,{"$f":"IF(D326=6,1,\"\")","v":""},{"$f":"IF(CF326<>\"\",C326,\"\")","v":""},{"$f":"IF(AR326>0,IF($CF326=\"y\",AR326/$AQ$604,\"\"),\"\")","v":""},{"$f":"IF(AY326=\"\",\"\",COUNTIF(B$5:B$503,AO326))","v":""},{"$f":"IF(AU326=\"\",\"\",COUNTIF(B$5:B$503,AO326))","v":""},{"$f":"IF(AS326=\"\",\"\",COUNTIF(B$5:B$503,AO326))","v":""},{"$f":"IF(AU326=\"\",\"\",IF(AW326=\"\",\"\",COUNTIF(B$5:B$503,AO326)))","v":""},{"$f":"IF(Q326=\"\",\"\",COUNTIF($AO$5:$AO$688,Q326))","v":""},null,{"$f":"IF(CQ326=\"\",\"\",IF(COUNTIF($B$5:$B$503,$CQ326)=0,\"\",SUMIF(B$5:B$503,CQ326,C$5:C$503)/COUNTIF($B$5:$B$503,$CQ326)))","v":""},{"$f":"IF(CQ326=\"\",\"\",IF(COUNTIF(B$5:B$503,CQ326)=0,\"\",COUNTIF(B$5:B$503,CQ326)/COUNTA(B$5:B$503)))","v":""},{"$f":"AO326","v":"MURI"},{"$f":"IF(DC326=\"a\",PLANTS!I324,DMA!DC326)","v":2},{"$f":"IF(DD326=\"a\",PLANTS!G324,DMA!DD326)","v":50},null,null,null,null,null,null,null,null,null,{"$f":"PLANTS!I324","v":2},{"$f":"PLANTS!G324","v":50},{"$f":"PLANTS!H324","v":"M"},null,null,null,null,{"$f":"IF(M326=\"\",\"\",M326)","v":""},{"$f":"IF(DMA!DJ326=\"\",\"\",(DMA!N326-SUMIF(Graphs!$O$13:$O$199,DMA!$DJ326,Graphs!$V$13:$V$199))^2)","v":""},{"$f":"IF(DMA!DK326=\"\",\"\",(DMA!O326-SUMIF(Graphs!$O$13:$O$199,DMA!$DJ326,Graphs!$V$13:$V$199))^2)","v":""},{"$f":"IF(DMA!DL326=\"\",\"\",(DMA!P326-SUMIF(Graphs!$O$13:$O$199,DMA!$DJ326,Graphs!$V$13:$V$199))^2)","v":""},"",0,{"$f":"IF($AQ326<>\"\",$DO326*$BC326,\"\")","v":""},0]
[null,null,null,null,null,null,null,null,null,null,null,null,null,null,null,null,null,null,null,{"$f":"IF(A327=\"\",\"\",(Header!C$7*Header!C$6)*A327)","v":""},"","","","","",null,null,null,null,null,null,null,null,null,null,null,null,null,null,null,{"$f":"IF(PLANTS!A325=\"\",\"\",PLANTS!A325)","v":"MURI2"},2,"",0,{"$f":"IF(PLANTS!C325=\"\",\"\",PLANTS!C325)","v":""},"",{"$f":"IF(PLANTS!D325=\"\",\"\",PLANTS!D325)","v":""},"",{"$f":"IF(PLANTS!E325=\"\",\"\",PLANTS!E325)","v":"y"},{"$f":"IF(AU327=\"y\",IF(AW327=\"y\",AV327,\"\"),\"\")","v":""},{"$f":"IF(PLANTS!F325=\"\",\"\",PLANTS!F325)","v":""},"",0,null,50,"",null,0,{"$f":"IF(DE327=\"A\",PLANTS!H325,DE327)","v":"M"},50,null,"","","","",null,null,null,"","",null,null,null,null,null,null,{"$error":"#DIV/0!"},null,"",null," ","",null,"","","","","","","","",null,"","","MURI2",{"$f":"IF(DC327=\"a\",PLANTS!I325,DMA!DC327)","v":2},{"$f":"IF(DD327=\"a\",PLANTS!G325,DMA!DD327)","v":50},null,null,null,null,null,null,null,null,null,{"$f":"PLANTS!I325","v":2},{"$f":"PLANTS!G325","v":50},{"$f":"PLANTS!H325","v":"M"},null,null,null,null,"",{"$f":"IF(DMA!DJ327=\"\",\"\",(DMA!N327-SUMIF(Graphs!$O$13:$O$199,DMA!$DJ327,Graphs!$V$13:$V$199))^2)","v":""},{"$f":"IF(DMA!DK327=\"\",\"\",(DMA!O327-SUMIF(Graphs!$O$13:$O$199,DMA!$DJ327,Graphs!$V$13:$V$199))^2)","v":""},{"$f":"IF(DMA!DL327=\"\",\"\",(DMA!P327-SUMIF(Graphs!$O$13:$O$199,DMA!$DJ327,Graphs!$V$13:$V$199))^2)","v":""},"",0,"",0]
[null,null,null,null,null,null,null,null,null,null,null,null,null,null,null,null,null,null,null,{"$f":"IF(A328=\"\",\"\",(Header!C$7*Header!C$6)*A328)","v":""},"","","","","",null,null,null,null,null,null,null,null,null,null,null,null,null,null,null,{"$f":"IF(PLANTS!A326=\"\",\"\",PLANTS!A326)","v":"NAOF"},2,"",0,{"$f":"IF(PLANTS!C326=\"\",\"\",PLANTS!C326)","v":""},"",{"$f":"IF(PLANTS!D326=\"\",\"\",PLANTS!D326)","v":"y"},"",{"$f":"IF(PLANTS!E326=\"\",\"\",PLANTS!E326)","v":"y"},"",{"$f":"IF(PLANTS!F326=\"\",\"\",PLANTS!F326)","v":"y"},"",0,null,100,"",null,0,{"$f":"IF(DE328=\"A\",PLANTS!H326,DE328)","v":"E"},{"$f":"IF(BG328=\"l\",80,IF(BG328=\"m\",50,IF(BG328=\"E\",20)))","v":20},null,"","","","",null,null,null,"","",null,null,null,null,null,null,{"$error":"#DIV/0!"},null,"",null," ","",null,"","","",0,0,"",0,"",null,"","","NAOF",{"$f":"IF(DC328=\"a\",PLANTS!I326,DMA!DC328)","v":2},{"$f":"IF(DD328=\"a\",PLANTS!G326,DMA!DD328)","v":100},null,null,null,null,null,null,null,null,null,{"$f":"PLANTS!I326","v":2},{"$f":"PLANTS!G326","v":100},{"$f":"PLANTS!H326","v":"E"},null,null,null,null,"",{"$f":"IF(DMA!DJ328=\"\",\"\",(DMA!N328-SUMIF(Graphs!$O$13:$O$199,DMA!$DJ328,Graphs!$V$13:$V$199))^2)","v":""},{"$f":"IF(DMA!DK328=\"\",\"\",(DMA!O328-SUMIF(Graphs!$O$13:$O$199,DMA!$DJ328,Graphs!$V$13:$V$199))^2)","v":""},{"$f":"IF(DMA!DL328=\"\",\"\",(DMA!P328-SUMIF(Graphs!$O$13:$O$199,DMA!$DJ328,Graphs!$V$13:$V$199))^2)","v":""},"",0,"",0]
[null,null,null,null,null,null,null,null,null,null,null,null,null,null,null,null,null,null,null,{"$f":"IF(A329=\"\",\"\",(Header!C$7*Header!C$6)*A329)","v":""},"","","","","",null,null,null,null,null,null,null,null,null,null,null,null,null,null,null,{"$f":"IF(PLANTS!A327=\"\",\"\",PLANTS!A327)","v":"NG"},1,"",0,{"$f":"IF(PLANTS!C327=\"\",\"\",PLANTS!C327)","v":""},"",{"$f":"IF(PLANTS!D327=\"\",\"\",PLANTS!D327)","v":""},"",{"$f":"IF(PLANTS!E327=\"\",\"\",PLANTS!E327)","v":""},"",{"$f":"IF(PLANTS!F327=\"\",\"\",PLANTS!F327)","v":""},"",0,null,0,"",null,0,{"$f":"IF(DE329=\"A\",PLANTS!H327,DE329)","v":"E"},20,null,"","","","",null,null,null,"","",null,null,null,null,null,null,{"$error":"#DIV/0!"},null,"",null," ","",null,"","","","","","","","",null,"","","NG",{"$f":"IF(DC329=\"a\",PLANTS!I327,DMA!DC329)","v":1},{"$f":"IF(DD329=\"a\",PLANTS!G327,DMA!DD329)","v":0},null,null,null,null,null,null,null,null,null,{"$f":"PLANTS!I327","v":1},{"$f":"PLANTS!G327","v":0},{"$f":"PLANTS!H327","v":"E"},null,null,null,null,"",{"$f":"IF(DMA!DJ329=\"\",\"\",(DMA!N329-SUMIF(Graphs!$O$13:$O$199,DMA!$DJ329,Graphs!$V$13:$V$199))^2)","v":""},{"$f":"IF(DMA!DK329=\"\",\"\",(DMA!O329-SUMIF(Graphs!$O$13:$O$199,DMA!$DJ329,Graphs!$V$13:$V$199))^2)","v":""},{"$f":"IF(DMA!DL329=\"\",\"\",(DMA!P329-SUMIF(Graphs!$O$13:$O$199,DMA!$DJ329,Graphs!$V$13:$V$199))^2)","v":""},"",0,"",0]
[null,null,null,null,null,null,null,null,null,null,null,null,null,null,null,null,null,null,null,{"$f":"IF(A330=\"\",\"\",(Header!C$7*Header!C$6)*A330)","v":""},"","","","","",null,null,null,null,null,null,null,null,null,null,null,null,null,null,null,{"$f":"IF(PLANTS!A328=\"\",\"\",PLANTS!A328)","v":"OECE"},5,"",0,{"$f":"IF(PLANTS!C328=\"\",\"\",PLANTS!C328)","v":"y"},"",{"$f":"IF(PLANTS!D328=\"\",\"\",PLANTS!D328)","v":""},"",{"$f":"IF(PLANTS!E328=\"\",\"\",PLANTS!E328)","v":""},"",{"$f":"IF(PLANTS!F328=\"\",\"\",PLANTS!F328)","v":""},"",0,null,25,"",null,0,{"$f":"IF(DE330=\"A\",PLANTS!H328,DE330)","v":"M"},50,null,"","","","",null,null,null,"","",null,null,null,null,null,null,{"$error":"#DIV/0!"},null,"",null," ","",null,"","","","","",0,"","",null,"","","OECE",{"$f":"IF(DC330=\"a\",PLANTS!I328,DMA!DC330)","v":5},{"$f":"IF(DD330=\"a\",PLANTS!G328,DMA!DD330)","v":25},null,null,null,null,null,null,null,null,null,{"$f":"PLANTS!I328","v":5},{"$f":"PLANTS!G328","v":25},{"$f":"PLANTS!H328","v":"M"},null,null,null,null,"",{"$f":"IF(DMA!DJ330=\"\",\"\",(DMA!N330-SUMIF(Graphs!$O$13:$O$199,DMA!$DJ330,Graphs!$V$13:$V$199))^2)","v":""},{"$f":"IF(DMA!DK330=\"\",\"\",(DMA!O330-SUMIF(Graphs!$O$13:$O$199,DMA!$DJ330,Graphs!$V$13:$V$199))^2)","v":""},{"$f":"IF(DMA!DL330=\"\",\"\",(DMA!P330-SUMIF(Graphs!$O$13:$O$199,DMA!$DJ330,Graphs!$V$13:$V$199))^2)","v":""},"",0,"",0]
[null,null,null,null,null,null,null,null,null,null,null,null,null,null,null,null,null,null,null,{"$f":"IF(A331=\"\",\"\",(Header!C$7*Header!C$6)*A331)","v":""},"","","","","",null,null,null,null,null,null,null,null,null,null,null,null,null,null,null,{"$f":"IF(PLANTS!A329=\"\",\"\",PLANTS!A329)","v":"OEEL"},2,"",0,{"$f":"IF(PLANTS!C329=\"\",\"\",PLANTS!C329)","v":""},"",{"$f":"IF(PLANTS!D329=\"\",\"\",PLANTS!D329)","v":"y"},"",{"$f":"IF(PLANTS!E329=\"\",\"\",PLANTS!E329)","v":"y"},"",{"$f":"IF(PLANTS!F329=\"\",\"\",PLANTS!F329)","v":"y"},"",0,null,75,"",null,0,{"$f":"IF(DE331=\"A\",PLANTS!H329,DE331)","v":"M"},50,null,"","","","",null,null,null,"","",null,null,null,null,null,null,{"$error":"#DIV/0!"},null,"",null," ","",null,"","","",0,0,"",0,"",null,"","","OEEL",{"$f":"IF(DC331=\"a\",PLANTS!I329,DMA!DC331)","v":2},{"$f":"IF(DD331=\"a\",PLANTS!G329,DMA!DD331)","v":75},null,null,null,null,null,null,null,null,null,{"$f":"PLANTS!I329","v":2},{"$f":"PLANTS!G329","v":75},{"$f":"PLANTS!H329","v":"M"},null,null,null,null,"",{"$f":"IF(DMA!DJ331=\"\",\"\",(DMA!N331-SUMIF(Graphs!$O$13:$O$199,DMA!$DJ331,Graphs!$V$13:$V$199))^2)","v":""},{"$f":"IF(DMA!DK331=\"\",\"\",(DMA!O331-SUMIF(Graphs!$O$13:$O$199,DMA!$DJ331,Graphs!$V$13:$V$199))^2)","v":""},{"$f":"IF(DMA!DL331=\"\",\"\",(DMA!P331-SUMIF(Graphs!$O$13:$O$199,DMA!$DJ331,Graphs!$V$13:$V$199))^2)","v":""},"",0,"",0]
[null,null,null,null,null,null,null,null,null,null,null,null,null,null,null,null,null,null,null,{"$f":"IF(A332=\"\",\"\",(Header!C$7*Header!C$6)*A332)","v":""},"","","","","",null,null,null,null,null,null,null,null,null,null,null,null,null,null,null,{"$f":"IF(PLANTS!A330=\"\",\"\",PLANTS!A330)","v":"OEFL"},2,"",0,{"$f":"IF(PLANTS!C330=\"\",\"\",PLANTS!C330)","v":""},"",{"$f":"IF(PLANTS!D330=\"\",\"\",PLANTS!D330)","v":"y"},"",{"$f":"IF(PLANTS!E330=\"\",\"\",PLANTS!E330)","v":"y"},"",{"$f":"IF(PLANTS!F330=\"\",\"\",PLANTS!F330)","v":"y"},"",0,null,50,"",null,0,{"$f":"IF(DE332=\"A\",PLANTS!H330,DE332)","v":"L"},80,null,"","","","",null,null,null,"","",null,null,null,null,null,null,{"$error":"#DIV/0!"},null,"",null," ","",null,"","","",0,0,"",0,"",null,"","","OEFL",{"$f":"IF(DC332=\"a\",PLANTS!I330,DMA!DC332)","v":2},{"$f":"IF(DD332=\"a\",PLANTS!G330,DMA!DD332)","v":50},null,null,null,null,null,null,null,null,null,{"$f":"PLANTS!I330","v":2},{"$f":"PLANTS!G330","v":50},{"$f":"PLANTS!H330","v":"L"},null,null,null,null,"",{"$f":"IF(DMA!DJ332=\"\",\"\",(DMA!N332-SUMIF(Graphs!$O$13:$O$199,DMA!$DJ332,Graphs!$V$13:$V$199))^2)","v":""},{"$f":"IF(DMA!DK332=\"\",\"\",(DMA!O332-SUMIF(Graphs!$O$13:$O$199,DMA!$DJ332,Graphs!$V$13:$V$199))^2)","v":""},{"$f":"IF(DMA!DL332=\"\",\"\",(DMA!P332-SUMIF(Graphs!$O$13:$O$199,DMA!$DJ332,Graphs!$V$13:$V$199))^2)","v":""},"",0,"",0]
[null,null,null,null,null,null,null,null,null,null,null,null,null,null,null,null,null,null,null,{"$f":"IF(A333=\"\",\"\",(Header!C$7*Header!C$6)*A333)","v":""},"","","","","",null,null,null,null,null,null,null,null,null,null,null,null,null,null,null,{"$f":"IF(PLANTS!A331=\"\",\"\",PLANTS!A331)","v":"ONAC"},2,"",0,{"$f":"IF(PLANTS!C331=\"\",\"\",PLANTS!C331)","v":""},"",{"$f":"IF(PLANTS!D331=\"\",\"\",PLANTS!D331)","v":""},"",{"$f":"IF(PLANTS!E331=\"\",\"\",PLANTS!E331)","v":"y"},"",{"$f":"IF(PLANTS!F331=\"\",\"\",PLANTS!F331)","v":"y"},"",0,null,25,"",null,0,{"$f":"IF(DE333=\"A\",PLANTS!H331,DE333)","v":"E"},20,null,"","","","",null,null,null,"","",null,null,null,null,null,null,{"$error":"#DIV/0!"},null,"",null," ","",null,"","","",0,"","","","",null,"","","ONAC",{"$f":"IF(DC333=\"a\",PLANTS!I331,DMA!DC333)","v":2},{"$f":"IF(DD333=\"a\",PLANTS!G331,DMA!DD333)","v":25},null,null,null,null,null,null,null,null,null,{"$f":"PLANTS!I331","v":2},{"$f":"PLANTS!G331","v":25},{"$f":"PLANTS!H331","v":"E"},null,null,null,null,"",{"$f":"IF(DMA!DJ333=\"\",\"\",(DMA!N333-SUMIF(Graphs!$O$13:$O$199,DMA!$DJ333,Graphs!$V$13:$V$199))^2)","v":""},{"$f":"IF(DMA!DK333=\"\",\"\",(DMA!O333-SUMIF(Graphs!$O$13:$O$199,DMA!$DJ333,Graphs!$V$13:$V$199))^2)","v":""},{"$f":"IF(DMA!DL333=\"\",\"\",(DMA!P333-SUMIF(Graphs!$O$13:$O$199,DMA!$DJ333,Graphs!$V$13:$V$199))^2)","v":""},"",0,"",0]
[null,null,null,null,null,null,null,null,null,null,null,null,null,null,null,null,null,null,null,{"$f":"IF(A334=\"\",\"\",(Header!C$7*Header!C$6)*A334)","v":""},"","","","","",null,null,null,null,null,null,null,null,null,null,null,null,null,null,null,{"$f":"IF(PLANTS!A332=\"\",\"\",PLANTS!A332)","v":"OSVI"},2,"",0,{"$f":"IF(PLANTS!C332=\"\",\"\",PLANTS!C332)","v":"y"},"",{"$f":"IF(PLANTS!D332=\"\",\"\",PLANTS!D332)","v":""},"",{"$f":"IF(PLANTS!E332=\"\",\"\",PLANTS!E332)","v":""},"",{"$f":"IF(PLANTS!F332=\"\",\"\",PLANTS!F332)","v":""},"",0,null,25,"",null,0,{"$f":"IF(DE334=\"A\",PLANTS!H332,DE334)","v":"E"},20,null,"","","","",null,null,null,"","",null,null,null,null,null,null,{"$error":"#DIV/0!"},null,"",null," ","",null,"","","","","",0,"","",null,"","","OSVI",{"$f":"IF(DC334=\"a\",PLANTS!I332,DMA!DC334)","v":2},{"$f":"IF(DD334=\"a\",PLANTS!G332,DMA!DD334)","v":25},null,null,null,null,null,null,null,null,null,{"$f":"PLANTS!I332","v":2},{"$f":"PLANTS!G332","v":25},{"$f":"PLANTS!H332","v":"E"},null,null,null,null,"",{"$f":"IF(DMA!DJ334=\"\",\"\",(DMA!N334-SUMIF(Graphs!$O$13:$O$199,DMA!$DJ334,Graphs!$V$13:$V$199))^2)","v":""},{"$f":"IF(DMA!DK334=\"\",\"\",(DMA!O334-SUMIF(Graphs!$O$13:$O$199,DMA!$DJ334,Graphs!$V$13:$V$199))^2)","v":""},{"$f":"IF(DMA!DL334=\"\",\"\",(DMA!P334-SUMIF(Graphs!$O$13:$O$199,DMA!$DJ334,Graphs!$V$13:$V$199))^2)","v":""},"",0,"",0]
[null,null,null,null,null,null,null,null,null,null,null,null,null,null,null,null,null,null,null,{"$f":"IF(A335=\"\",\"\",(Header!C$7*Header!C$6)*A335)","v":""},"","","","","",null,null,null,null,null,null,null,null,null,null,null,null,null,null,null,{"$f":"IF(PLANTS!A333=\"\",\"\",PLANTS!A333)","v":"OXALI"},2,"",0,{"$f":"IF(PLANTS!C333=\"\",\"\",PLANTS!C333)","v":""},"",{"$f":"IF(PLANTS!D333=\"\",\"\",PLANTS!D333)","v":""},"",{"$f":"IF(PLANTS!E333=\"\",\"\",PLANTS!E333)","v":"y"},"",{"$f":"IF(PLANTS!F333=\"\",\"\",PLANTS!F333)","v":"y"},"",0,null,25,"",null,0,{"$f":"IF(DE335=\"A\",PLANTS!H333,DE335)","v":"E"},20,null,"","","","",null,null,null,"","",null,null,null,null,null,null,{"$error":"#DIV/0!"},null,"",null," ","",null,"","","",0,"","","","",null,"","","OXALI",{"$f":"IF(DC335=\"a\",PLANTS!I333,DMA!DC335)","v":2},{"$f":"IF(DD335=\"a\",PLANTS!G333,DMA!DD335)","v":25},null,null,null,null,null,null,null,null,null,{"$f":"PLANTS!I333","v":2},{"$f":"PLANTS!G333","v":25},{"$f":"PLANTS!H333","v":"E"},null,null,null,null,"",{"$f":"IF(DMA!DJ335=\"\",\"\",(DMA!N335-SUMIF(Graphs!$O$13:$O$199,DMA!$DJ335,Graphs!$V$13:$V$199))^2)","v":""},{"$f":"IF(DMA!DK335=\"\",\"\",(DMA!O335-SUMIF(Graphs!$O$13:$O$199,DMA!$DJ335,Graphs!$V$13:$V$199))^2)","v":""},{"$f":"IF(DMA!DL335=\"\",\"\",(DMA!P335-SUMIF(Graphs!$O$13:$O$199,DMA!$DJ335,Graphs!$V$13:$V$199))^2)","v":""},"",0,"",0]
[null,null,null,null,null,null,null,null,null,null,null,null,null,null,null,null,null,null,null,{"$f":"IF(A336=\"\",\"\",(Header!C$7*Header!C$6)*A336)","v":""},"","","","","",null,null,null,null,null,null,null,null,null,null,null,null,null,null,null,{"$f":"IF(PLANTS!A334=\"\",\"\",PLANTS!A334)","v":"PACA6"},2,"",0,{"$f":"IF(PLANTS!C334=\"\",\"\",PLANTS!C334)","v":""},"",{"$f":"IF(PLANTS!D334=\"\",\"\",PLANTS!D334)","v":""},"",{"$f":"IF(PLANTS!E334=\"\",\"\",PLANTS!E334)","v":"y"},"",{"$f":"IF(PLANTS!F334=\"\",\"\",PLANTS!F334)","v":""},"",0,null,25,"",null,0,{"$f":"IF(DE336=\"A\",PLANTS!H334,DE336)","v":"E"},20,null,"","","","",null,null,null,"","",null,null,null,null,null,null,{"$error":"#DIV/0!"},null,"",null," ","",null,"","","","","","","","",null,"","","PACA6",{"$f":"IF(DC336=\"a\",PLANTS!I334,DMA!DC336)","v":2},{"$f":"IF(DD336=\"a\",PLANTS!G334,DMA!DD336)","v":25},null,null,null,null,null,null,null,null,null,{"$f":"PLANTS!I334","v":2},{"$f":"PLANTS!G334","v":25},{"$f":"PLANTS!H334","v":"E"},null,null,null,null,"",{"$f":"IF(DMA!DJ336=\"\",\"\",(DMA!N336-SUMIF(Graphs!$O$13:$O$199,DMA!$DJ336,Graphs!$V$13:$V$199))^2)","v":""},{"$f":"IF(DMA!DK336=\"\",\"\",(DMA!O336-SUMIF(Graphs!$O$13:$O$199,DMA!$DJ336,Graphs!$V$13:$V$199))^2)","v":""},{"$f":"IF(DMA!DL336=\"\",\"\",(DMA!P336-SUMIF(Graphs!$O$13:$O$199,DMA!$DJ336,Graphs!$V$13:$V$199))^2)","v":""},"",0,"",0]
[null,null,null,null,null,null,null,null,null,null,null,null,null,null,null,null,null,null,null,{"$f":"IF(A337=\"\",\"\",(Header!C$7*Header!C$6)*A337)","v":""},"","","","","",null,null,null,null,null,null,null,null,null,null,null,null,null,null,null,{"$f":"IF(PLANTS!A335=\"\",\"\",PLANTS!A335)","v":"PADI3"},2,"",0,{"$f":"IF(PLANTS!C335=\"\",\"\",PLANTS!C335)","v":""},"",{"$f":"IF(PLANTS!D335=\"\",\"\",PLANTS!D335)","v":""},"",{"$f":"IF(PLANTS!E335=\"\",\"\",PLANTS!E335)","v":"y"},"",{"$f":"IF(PLANTS!F335=\"\",\"\",PLANTS!F335)","v":""},"",0,null,50,"",null,0,{"$f":"IF(DE337=\"A\",PLANTS!H335,DE337)","v":"E"},20,null,"","","","",null,null,null,"","",null,null,null,null,null,null,{"$error":"#DIV/0!"},null,"",null," ","",null,"","","","","","","","",null,"","","PADI3",{"$f":"IF(DC337=\"a\",PLANTS!I335,DMA!DC337)","v":2},{"$f":"IF(DD337=\"a\",PLANTS!G335,DMA!DD337)","v":50},null,null,null,null,null,null,null,null,null,{"$f":"PLANTS!I335","v":2},{"$f":"PLANTS!G335","v":50},{"$f":"PLANTS!H335","v":"E"},null,null,null,null,"",{"$f":"IF(DMA!DJ337=\"\",\"\",(DMA!N337-SUMIF(Graphs!$O$13:$O$199,DMA!$DJ337,Graphs!$V$13:$V$199))^2)","v":""},{"$f":"IF(DMA!DK337=\"\",\"\",(DMA!O337-SUMIF(Graphs!$O$13:$O$199,DMA!$DJ337,Graphs!$V$13:$V$199))^2)","v":""},{"$f":"IF(DMA!DL337=\"\",\"\",(DMA!P337-SUMIF(Graphs!$O$13:$O$199,DMA!$DJ337,Graphs!$V$13:$V$199))^2)","v":""},"",0,"",0]
[null,null,null,null,null,null,null,null,null,null,null,null,null,null,null,null,null,null,null,{"$f":"IF(A338=\"\",\"\",(Header!C$7*Header!C$6)*A338)","v":""},"","","","","",null,null,null,null,null,null,null,null,null,null,null,null,null,null,null,{"$f":"IF(PLANTS!A336=\"\",\"\",PLANTS!A336)","v":"PADI6"},5,"",0,{"$f":"IF(PLANTS!C336=\"\",\"\",PLANTS!C336)","v":""},"",{"$f":"IF(PLANTS!D336=\"\",\"\",PLANTS!D336)","v":"y"},"",{"$f":"IF(PLANTS!E336=\"\",\"\",PLANTS!E336)","v":"y"},"",{"$f":"IF(PLANTS!F336=\"\",\"\",PLANTS!F336)","v":""},"",0,null,75,"",null,0,{"$f":"IF(DE338=\"A\",PLANTS!H336,DE338)","v":"E"},20,null,"","","","",null,null,null,"","",null,null,null,null,null,null,{"$error":"#DIV/0!"},null,"",null," ","",null,"","","","",0,"",0,"",null,"","","PADI6",{"$f":"IF(DC338=\"a\",PLANTS!I336,DMA!DC338)","v":5},{"$f":"IF(DD338=\"a\",PLANTS!G336,DMA!DD338)","v":75},null,null,null,null,null,null,null,null,null,{"$f":"PLANTS!I336","v":5},{"$f":"PLANTS!G336","v":75},{"$f":"PLANTS!H336","v":"E"},null,null,null,null,"",{"$f":"IF(DMA!DJ338=\"\",\"\",(DMA!N338-SUMIF(Graphs!$O$13:$O$199,DMA!$DJ338,Graphs!$V$13:$V$199))^2)","v":""},{"$f":"IF(DMA!DK338=\"\",\"\",(DMA!O338-SUMIF(Graphs!$O$13:$O$199,DMA!$DJ338,Graphs!$V$13:$V$199))^2)","v":""},{"$f":"IF(DMA!DL338=\"\",\"\",(DMA!P338-SUMIF(Graphs!$O$13:$O$199,DMA!$DJ338,Graphs!$V$13:$V$199))^2)","v":""},"",0,"",0]
[null,null,null,null,null,null,null,null,null,null,null,null,null,null,null,null,null,null,null,{"$f":"IF(A339=\"\",\"\",(Header!C$7*Header!C$6)*A339)","v":""},"","","","","",null,null,null,null,null,null,null,null,null,null,null,null,null,null,null,{"$f":"IF(PLANTS!A337=\"\",\"\",PLANTS!A337)","v":"PAOB"},2,"",0,{"$f":"IF(PLANTS!C337=\"\",\"\",PLANTS!C337)","v":""},"",{"$f":"IF(PLANTS!D337=\"\",\"\",PLANTS!D337)","v":""},"",{"$f":"IF(PLANTS!E337=\"\",\"\",PLANTS!E337)","v":"y"},"",{"$f":"IF(PLANTS!F337=\"\",\"\",PLANTS!F337)","v":""},"",0,null,25,"",null,0,{"$f":"IF(DE339=\"A\",PLANTS!H337,DE339)","v":"E"},20,null,"","","","",null,null,null,"","",null,null,null,null,null,null,{"$error":"#DIV/0!"},null,"",null," ","",null,"","","","","","","","",null,"","","PAOB",{"$f":"IF(DC339=\"a\",PLANTS!I337,DMA!DC339)","v":2},{"$f":"IF(DD339=\"a\",PLANTS!G337,DMA!DD339)","v":25},null,null,null,null,null,null,null,null,null,{"$f":"PLANTS!I337","v":2},{"$f":"PLANTS!G337","v":25},{"$f":"PLANTS!H337","v":"E"},null,null,null,null,"",{"$f":"IF(DMA!DJ339=\"\",\"\",(DMA!N339-SUMIF(Graphs!$O$13:$O$199,DMA!$DJ339,Graphs!$V$13:$V$199))^2)","v":""},{"$f":"IF(DMA!DK339=\"\",\"\",(DMA!O339-SUMIF(Graphs!$O$13:$O$199,DMA!$DJ339,Graphs!$V$13:$V$199))^2)","v":""},{"$f":"IF(DMA!DL339=\"\",\"\",(DMA!P339-SUMIF(Graphs!$O$13:$O$199,DMA!$DJ339,Graphs!$V$13:$V$199))^2)","v":""},"",0,"",0]
[null,null,null,null,null,null,null,null,null,null,null,null,null,null,null,null,null,null,null,{"$f":"IF(A340=\"\",\"\",(Header!C$7*Header!C$6)*A340)","v":""},"","","","","",null,null,null,null,null,null,null,null,null,null,null,null,null,null,null,{"$f":"IF(PLANTS!A338=\"\",\"\",PLANTS!A338)","v":"PASM"},5,"",0,{"$f":"IF(PLANTS!C338=\"\",\"\",PLANTS!C338)","v":""},"",{"$f":"IF(PLANTS!D338=\"\",\"\",PLANTS!D338)","v":""},"",{"$f":"IF(PLANTS!E338=\"\",\"\",PLANTS!E338)","v":"y"},"",{"$f":"IF(PLANTS!F338=\"\",\"\",PLANTS!F338)","v":""},"",0,null,50,"",null,0,{"$f":"IF(DE340=\"A\",PLANTS!H338,DE340)","v":"M"},50,null,"","","","",null,null,null,"","",null,null,null,null,null,null,{"$error":"#DIV/0!"},null,"",null," ","",null,"","","","","","","","",null,"","","PASM",{"$f":"IF(DC340=\"a\",PLANTS!I338,DMA!DC340)","v":5},{"$f":"IF(DD340=\"a\",PLANTS!G338,DMA!DD340)","v":50},null,null,null,null,null,null,null,null,null,{"$f":"PLANTS!I338","v":5},{"$f":"PLANTS!G338","v":50},{"$f":"PLANTS!H338","v":"M"},null,null,null,null,"",{"$f":"IF(DMA!DJ340=\"\",\"\",(DMA!N340-SUMIF(Graphs!$O$13:$O$199,DMA!$DJ340,Graphs!$V$13:$V$199))^2)","v":""},{"$f":"IF(DMA!DK340=\"\",\"\",(DMA!O340-SUMIF(Graphs!$O$13:$O$199,DMA!$DJ340,Graphs!$V$13:$V$199))^2)","v":""},{"$f":"IF(DMA!DL340=\"\",\"\",(DMA!P340-SUMIF(Graphs!$O$13:$O$199,DMA!$DJ340,Graphs!$V$13:$V$199))^2)","v":""},"",0,"",0]
[null,null,null,null,null,null,null,null,null,null,null,null,null,null,null,null,null,null,null,{"$f":"IF(A341=\"\",\"\",(Header!C$7*Header!C$6)*A341)","v":""},"","","","","",null,null,null,null,null,null,null,null,null,null,null,null,null,null,null,{"$f":"IF(PLANTS!A339=\"\",\"\",PLANTS!A339)","v":"PAVI2"},2,"",0,{"$f":"IF(PLANTS!C339=\"\",\"\",PLANTS!C339)","v":""},"",{"$f":"IF(PLANTS!D339=\"\",\"\",PLANTS!D339)","v":""},"",{"$f":"IF(PLANTS!E339=\"\",\"\",PLANTS!E339)","v":"y"},"",{"$f":"IF(PLANTS!F339=\"\",\"\",PLANTS!F339)","v":""},"",0,null,75,"",null,0,{"$f":"IF(DE341=\"A\",PLANTS!H339,DE341)","v":"L"},80,null,"","","","",null,null,null,"","",null,null,null,null,null,null,{"$error":"#DIV/0!"},null,"",null," ","",null,"","","","","","","","",null,"","","PAVI2",{"$f":"IF(DC341=\"a\",PLANTS!I339,DMA!DC341)","v":2},{"$f":"IF(DD341=\"a\",PLANTS!G339,DMA!DD341)","v":75},null,null,null,null,null,null,null,null,null,{"$f":"PLANTS!I339","v":2},{"$f":"PLANTS!G339","v":75},{"$f":"PLANTS!H339","v":"L"},null,null,null,null,"",{"$f":"IF(DMA!DJ341=\"\",\"\",(DMA!N341-SUMIF(Graphs!$O$13:$O$199,DMA!$DJ341,Graphs!$V$13:$V$199))^2)","v":""},{"$f":"IF(DMA!DK341=\"\",\"\",(DMA!O341-SUMIF(Graphs!$O$13:$O$199,DMA!$DJ341,Graphs!$V$13:$V$199))^2)","v":""},{"$f":"IF(DMA!DL341=\"\",\"\",(DMA!P341-SUMIF(Graphs!$O$13:$O$199,DMA!$DJ341,Graphs!$V$13:$V$199))^2)","v":""},"",0,"",0]
[null,null,null,null,null,null,null,null,null,null,null,null,null,null,null,null,null,null,null,{"$f":"IF(A342=\"\",\"\",(Header!C$7*Header!C$6)*A342)","v":""},"","","","","",null,null,null,null,null,null,null,null,null,null,null,null,null,null,null,{"$f":"IF(PLANTS!A340=\"\",\"\",PLANTS!A340)","v":"PEGR2"},2,"",0,{"$f":"IF(PLANTS!C340=\"\",\"\",PLANTS!C340)","v":""},"",{"$f":"IF(PLANTS!D340=\"\",\"\",PLANTS!D340)","v":"y"},"",{"$f":"IF(PLANTS!E340=\"\",\"\",PLANTS!E340)","v":"y"},"",{"$f":"IF(PLANTS!F340=\"\",\"\",PLANTS!F340)","v":"y"},"",0,null,100,"",null,0,{"$f":"IF(DE342=\"A\",PLANTS!H340,DE342)","v":"L"},80,null,"","","","",null,null,null,"","",null,null,null,null,null,null,{"$error":"#DIV/0!"},null,"",null," ","",null,"","","",0,0,"",0,"",null,"","","PEGR2",{"$f":"IF(DC342=\"a\",PLANTS!I340,DMA!DC342)","v":2},{"$f":"IF(DD342=\"a\",PLANTS!G340,DMA!DD342)","v":100},null,null,null,null,null,null,null,null,null,{"$f":"PLANTS!I340","v":2},{"$f":"PLANTS!G340","v":100},{"$f":"PLANTS!H340","v":"L"},null,null,null,null,"",{"$f":"IF(DMA!DJ342=\"\",\"\",(DMA!N342-SUMIF(Graphs!$O$13:$O$199,DMA!$DJ342,Graphs!$V$13:$V$199))^2)","v":""},{"$f":"IF(DMA!DK342=\"\",\"\",(DMA!O342-SUMIF(Graphs!$O$13:$O$199,DMA!$DJ342,Graphs!$V$13:$V$199))^2)","v":""},{"$f":"IF(DMA!DL342=\"\",\"\",(DMA!P342-SUMIF(Graphs!$O$13:$O$199,DMA!$DJ342,Graphs!$V$13:$V$199))^2)","v":""},"",0,"",0]
[null,null,null,null,null,null,null,null,null,null,null,null,null,null,null,null,null,null,null,{"$f":"IF(A343=\"\",\"\",(Header!C$7*Header!C$6)*A343)","v":""},"","","","","",null,null,null,null,null,null,null,null,null,null,null,null,null,null,null,{"$f":"IF(PLANTS!A341=\"\",\"\",PLANTS!A341)","v":"PERY"},2,"",0,{"$f":"IF(PLANTS!C341=\"\",\"\",PLANTS!C341)","v":""},"",{"$f":"IF(PLANTS!D341=\"\",\"\",PLANTS!D341)","v":""},"",{"$f":"IF(PLANTS!E341=\"\",\"\",PLANTS!E341)","v":"y"},"",{"$f":"IF(PLANTS!F341=\"\",\"\",PLANTS!F341)","v":"y"},"",0,null,25,"",null,0,{"$f":"IF(DE343=\"A\",PLANTS!H341,DE343)","v":"E"},20,null,"","","","",null,null,null,"","",null,null,null,null,null,null,{"$error":"#DIV/0!"},null,"",null," ","",null,"","","",0,"","","","",null,"","","PERY",{"$f":"IF(DC343=\"a\",PLANTS!I341,DMA!DC343)","v":2},{"$f":"IF(DD343=\"a\",PLANTS!G341,DMA!DD343)","v":25},null,null,null,null,null,null,null,null,null,{"$f":"PLANTS!I341","v":2},{"$f":"PLANTS!G341","v":25},{"$f":"PLANTS!H341","v":"E"},null,null,null,null,"",{"$f":"IF(DMA!DJ343=\"\",\"\",(DMA!N343-SUMIF(Graphs!$O$13:$O$199,DMA!$DJ343,Graphs!$V$13:$V$199))^2)","v":""},{"$f":"IF(DMA!DK343=\"\",\"\",(DMA!O343-SUMIF(Graphs!$O$13:$O$199,DMA!$DJ343,Graphs!$V$13:$V$199))^2)","v":""},{"$f":"IF(DMA!DL343=\"\",\"\",(DMA!P343-SUMIF(Graphs!$O$13:$O$199,DMA!$DJ343,Graphs!$V$13:$V$199))^2)","v":""},"",0,"",0]
[null,null,null,null,null,null,null,null,null,null,null,null,null,null,null,null,null,null,null,{"$f":"IF(A344=\"\",\"\",(Header!C$7*Header!C$6)*A344)","v":""},"","","","","",null,null,null,null,null,null,null,null,null,null,null,null,null,null,null,{"$f":"IF(PLANTS!A342=\"\",\"\",PLANTS!A342)","v":"PHAR3"},5,"",0,{"$f":"IF(PLANTS!C342=\"\",\"\",PLANTS!C342)","v":""},"",{"$f":"IF(PLANTS!D342=\"\",\"\",PLANTS!D342)","v":"y"},"",{"$f":"IF(PLANTS!E342=\"\",\"\",PLANTS!E342)","v":"y"},"",{"$f":"IF(PLANTS!F342=\"\",\"\",PLANTS!F342)","v":""},"",0,null,75,"",null,0,{"$f":"IF(DE344=\"A\",PLANTS!H342,DE344)","v":"E"},20,null,"","","","",null,null,null,"","",null,null,null,null,null,null,{"$error":"#DIV/0!"},null,"",null," ","",null,"","","","",0,"",0,"",null,"","","PHAR3",{"$f":"IF(DC344=\"a\",PLANTS!I342,DMA!DC344)","v":5},{"$f":"IF(DD344=\"a\",PLANTS!G342,DMA!DD344)","v":75},null,null,null,null,null,null,null,null,null,{"$f":"PLANTS!I342","v":5},{"$f":"PLANTS!G342","v":75},{"$f":"PLANTS!H342","v":"E"},null,null,null,null,"",{"$f":"IF(DMA!DJ344=\"\",\"\",(DMA!N344-SUMIF(Graphs!$O$13:$O$199,DMA!$DJ344,Graphs!$V$13:$V$199))^2)","v":""},{"$f":"IF(DMA!DK344=\"\",\"\",(DMA!O344-SUMIF(Graphs!$O$13:$O$199,DMA!$DJ344,Graphs!$V$13:$V$199))^2)","v":""},{"$f":"IF(DMA!DL344=\"\",\"\",(DMA!P344-SUMIF(Graphs!$O$13:$O$199,DMA!$DJ344,Graphs!$V$13:$V$199))^2)","v":""},"",0,"",0]
[null,null,null,null,null,null,null,null,null,null,null,null,null,null,null,null,null,null,null,{"$f":"IF(A345=\"\",\"\",(Header!C$7*Header!C$6)*A345)","v":""},"","","","","",null,null,null,null,null,null,null,null,null,null,null,null,null,null,null,{"$f":"IF(PLANTS!A343=\"\",\"\",PLANTS!A343)","v":"PHAU7"},8.5,"",0,{"$f":"IF(PLANTS!C343=\"\",\"\",PLANTS!C343)","v":""},"",{"$f":"IF(PLANTS!D343=\"\",\"\",PLANTS!D343)","v":"y"},"",{"$f":"IF(PLANTS!E343=\"\",\"\",PLANTS!E343)","v":"y"},"",{"$f":"IF(PLANTS!F343=\"\",\"\",PLANTS!F343)","v":""},"",0,null,75,"",null,0,{"$f":"IF(DE345=\"A\",PLANTS!H343,DE345)","v":"L"},80,null,"","","","",null,null,null,"","",null,null,null,null,null,null,{"$error":"#DIV/0!"},null,"",null," ","",null,"","","","",0,"",0,"",null,"","","PHAU7",{"$f":"IF(DC345=\"a\",PLANTS!I343,DMA!DC345)","v":8.5},{"$f":"IF(DD345=\"a\",PLANTS!G343,DMA!DD345)","v":75},null,null,null,null,null,null,null,null,null,{"$f":"PLANTS!I343","v":8.5},{"$f":"PLANTS!G343","v":75},{"$f":"PLANTS!H343","v":"L"},null,null,null,null,"",{"$f":"IF(DMA!DJ345=\"\",\"\",(DMA!N345-SUMIF(Graphs!$O$13:$O$199,DMA!$DJ345,Graphs!$V$13:$V$199))^2)","v":""},{"$f":"IF(DMA!DK345=\"\",\"\",(DMA!O345-SUMIF(Graphs!$O$13:$O$199,DMA!$DJ345,Graphs!$V$13:$V$199))^2)","v":""},{"$f":"IF(DMA!DL345=\"\",\"\",(DMA!P345-SUMIF(Graphs!$O$13:$O$199,DMA!$DJ345,Graphs!$V$13:$V$199))^2)","v":""},"",0,"",0]
[null,null,null,null,null,null,null,null,null,null,null,null,null,null,null,null,null,null,null,{"$f":"IF(A346=\"\",\"\",(Header!C$7*Header!C$6)*A346)","v":""},"","","","","",null,null,null,null,null,null,null,null,null,null,null,null,null,null,null,{"$f":"IF(PLANTS!A344=\"\",\"\",PLANTS!A344)","v":"PHCA11"},8.5,"",0,{"$f":"IF(PLANTS!C344=\"\",\"\",PLANTS!C344)","v":"y"},"",{"$f":"IF(PLANTS!D344=\"\",\"\",PLANTS!D344)","v":"y"},"",{"$f":"IF(PLANTS!E344=\"\",\"\",PLANTS!E344)","v":""},"",{"$f":"IF(PLANTS!F344=\"\",\"\",PLANTS!F344)","v":""},"",0,null,75,"",null,0,{"$f":"IF(DE346=\"A\",PLANTS!H344,DE346)","v":"M"},50,null,"","","","",null,null,null,"","",null,null,null,null,null,null,{"$error":"#DIV/0!"},null,"",null," ","",null,"","","","",0,0,"","",null,"","","PHCA11",{"$f":"IF(DC346=\"a\",PLANTS!I344,DMA!DC346)","v":8.5},{"$f":"IF(DD346=\"a\",PLANTS!G344,DMA!DD346)","v":75},null,null,null,null,null,null,null,null,null,{"$f":"PLANTS!I344","v":8.5},{"$f":"PLANTS!G344","v":75},{"$f":"PLANTS!H344","v":"M"},null,null,null,null,"",{"$f":"IF(DMA!DJ346=\"\",\"\",(DMA!N346-SUMIF(Graphs!$O$13:$O$199,DMA!$DJ346,Graphs!$V$13:$V$199))^2)","v":""},{"$f":"IF(DMA!DK346=\"\",\"\",(DMA!O346-SUMIF(Graphs!$O$13:$O$199,DMA!$DJ346,Graphs!$V$13:$V$199))^2)","v":""},{"$f":"IF(DMA!DL346=\"\",\"\",(DMA!P346-SUMIF(Graphs!$O$13:$O$199,DMA!$DJ346,Graphs!$V$13:$V$199))^2)","v":""},"",0,"",0]
[null,null,null,null,null,null,null,null,null,null,null,null,null,null,null,null,null,null,null,{"$f":"IF(A347=\"\",\"\",(Header!C$7*Header!C$6)*A347)","v":""},"","","","","",null,null,null,null,null,null,null,null,null,null,null,null,null,null,null,{"$f":"IF(PLANTS!A345=\"\",\"\",PLANTS!A345)","v":"PHCO15"},8.5,"",0,{"$f":"IF(PLANTS!C345=\"\",\"\",PLANTS!C345)","v":""},"",{"$f":"IF(PLANTS!D345=\"\",\"\",PLANTS!D345)","v":"y"},"",{"$f":"IF(PLANTS!E345=\"\",\"\",PLANTS!E345)","v":"y"},"",{"$f":"IF(PLANTS!F345=\"\",\"\",PLANTS!F345)","v":""},"",0,null,75,"",null,0,{"$f":"IF(DE347=\"A\",PLANTS!H345,DE347)","v":"L"},80,null,"","","","",null,null,null,"","",null,null,null,null,null,null,{"$error":"#DIV/0!"},null,"",null," ","",null,"","","","",0,"",0,"",null,"","","PHCO15",{"$f":"IF(DC347=\"a\",PLANTS!I345,DMA!DC347)","v":8.5},{"$f":"IF(DD347=\"a\",PLANTS!G345,DMA!DD347)","v":75},null,null,null,null,null,null,null,null,null,{"$f":"PLANTS!I345","v":8.5},{"$f":"PLANTS!G345","v":75},{"$f":"PLANTS!H345","v":"L"},null,null,null,null,"",{"$f":"IF(DMA!DJ347=\"\",\"\",(DMA!N347-SUMIF(Graphs!$O$13:$O$199,DMA!$DJ347,Graphs!$V$13:$V$199))^2)","v":""},{"$f":"IF(DMA!DK347=\"\",\"\",(DMA!O347-SUMIF(Graphs!$O$13:$O$199,DMA!$DJ347,Graphs!$V$13:$V$199))^2)","v":""},{"$f":"IF(DMA!DL347=\"\",\"\",(DMA!P347-SUMIF(Graphs!$O$13:$O$199,DMA!$DJ347,Graphs!$V$13:$V$199))^2)","v":""},"",0,"",0]
[null,null,null,null,null,null,null,null,null,null,null,null,null,null,null,null,null,null,null,{"$f":"IF(A348=\"\",\"\",(Header!C$7*Header!C$6)*A348)","v":""},"","","","","",null,null,null,null,null,null,null,null,null,null,null,null,null,null,null,{"$f":"IF(PLANTS!A346=\"\",\"\",PLANTS!A346)","v":"PHLE4"},5,"",0,{"$f":"IF(PLANTS!C346=\"\",\"\",PLANTS!C346)","v":"y"},"",{"$f":"IF(PLANTS!D346=\"\",\"\",PLANTS!D346)","v":""},"",{"$f":"IF(PLANTS!E346=\"\",\"\",PLANTS!E346)","v":""},"",{"$f":"IF(PLANTS!F346=\"\",\"\",PLANTS!F346)","v":""},"",0,null,50,"",null,0,{"$f":"IF(DE348=\"A\",PLANTS!H346,DE348)","v":"M"},50,null,"","","","",null,null,null,"","",null,null,null,null,null,null,{"$error":"#DIV/0!"},null,"",null," ","",null,"","","","","",0,"","",null,"","","PHLE4",{"$f":"IF(DC348=\"a\",PLANTS!I346,DMA!DC348)","v":5},{"$f":"IF(DD348=\"a\",PLANTS!G346,DMA!DD348)","v":50},null,null,null,null,null,null,null,null,null,{"$f":"PLANTS!I346","v":5},{"$f":"PLANTS!G346","v":50},{"$f":"PLANTS!H346","v":"M"},null,null,null,null,"",{"$f":"IF(DMA!DJ348=\"\",\"\",(DMA!N348-SUMIF(Graphs!$O$13:$O$199,DMA!$DJ348,Graphs!$V$13:$V$199))^2)","v":""},{"$f":"IF(DMA!DK348=\"\",\"\",(DMA!O348-SUMIF(Graphs!$O$13:$O$199,DMA!$DJ348,Graphs!$V$13:$V$199))^2)","v":""},{"$f":"IF(DMA!DL348=\"\",\"\",(DMA!P348-SUMIF(Graphs!$O$13:$O$199,DMA!$DJ348,Graphs!$V$13:$V$199))^2)","v":""},{"$f":"IF(AO348=\"\",\"\",IF(COUNTIF($B$5:$B$504,$AO348)=0,\"\",SUMIF($B$5:$B$504,$AO348,$C$5:$C$504)*COUNTIF(B$5:B$504,AO348)))","v":""},0,"",{"$f":"(DO348*$AP348)","v":0}]
[null,null,null,null,null,null,null,null,null,null,null,null,null,null,null,null,null,null,null,{"$f":"IF(A349=\"\",\"\",(Header!C$7*Header!C$6)*A349)","v":""},"","","","","",null,null,null,null,null,null,null,null,null,null,null,null,null,null,null,{"$f":"IF(PLANTS!A347=\"\",\"\",PLANTS!A347)","v":"PHLOX"},2,"",0,{"$f":"IF(PLANTS!C347=\"\",\"\",PLANTS!C347)","v":""},"",{"$f":"IF(PLANTS!D347=\"\",\"\",PLANTS!D347)","v":""},"",{"$f":"IF(PLANTS!E347=\"\",\"\",PLANTS!E347)","v":"Y"},"",{"$f":"IF(PLANTS!F347=\"\",\"\",PLANTS!F347)","v":"Y"},"",0,null,0,"",null,0,{"$f":"IF(DE349=\"A\",PLANTS!H347,DE349)","v":"M"},50,null,"","","","",null,null,null,"","",null,null,null,null,null,null,{"$error":"#DIV/0!"},null,"",null," ","",null,"","","",0,"","","","",null,"","","PHLOX",{"$f":"IF(DC349=\"a\",PLANTS!I347,DMA!DC349)","v":2},{"$f":"IF(DD349=\"a\",PLANTS!G347,DMA!DD349)","v":0},null,null,null,null,null,null,null,null,null,{"$f":"PLANTS!I347","v":2},{"$f":"PLANTS!G347","v":0},{"$f":"PLANTS!H347","v":"M"},null,null,null,null,"",{"$f":"IF(DMA!DJ349=\"\",\"\",(DMA!N349-SUMIF(Graphs!$O$13:$O$199,DMA!$DJ349,Graphs!$V$13:$V$199))^2)","v":""},{"$f":"IF(DMA!DK349=\"\",\"\",(DMA!O349-SUMIF(Graphs!$O$13:$O$199,DMA!$DJ349,Graphs!$V$13:$V$199))^2)","v":""},{"$f":"IF(DMA!DL349=\"\",\"\",(DMA!P349-SUMIF(Graphs!$O$13:$O$199,DMA!$DJ349,Graphs!$V$13:$V$199))^2)","v":""},"",0,"",0]
[null,null,null,null,null,null,null,null,null,null,null,null,null,null,null,null,null,null,null,{"$f":"IF(A350=\"\",\"\",(Header!C$7*Header!C$6)*A350)","v":""},{"$f":"IF(K491=\"\",\"\",K491*12/39)","v":""},"","","","",null,null,null,null,null,null,null,null,null,null,null,null,null,null,null,{"$f":"IF(PLANTS!A348=\"\",\"\",PLANTS!A348)","v":"PHMA5"},8.5,"",0,{"$f":"IF(PLANTS!C348=\"\",\"\",PLANTS!C348)","v":"y"},"",{"$f":"IF(PLANTS!D348=\"\",\"\",PLANTS!D348)","v":"y"},"",{"$f":"IF(PLANTS!E348=\"\",\"\",PLANTS!E348)","v":""},"",{"$f":"IF(PLANTS!F348=\"\",\"\",PLANTS!F348)","v":""},"",0,null,75,"",null,0,{"$f":"IF(DE350=\"A\",PLANTS!H348,DE350)","v":"M"},50,null,"","","","",null,null,null,"","",null,null,null,null,null,null,{"$error":"#DIV/0!"},null,"",null," ","",null,"","","","",0,0,"","",null,"","","PHMA5",{"$f":"IF(DC350=\"a\",PLANTS!I348,DMA!DC350)","v":8.5},{"$f":"IF(DD350=\"a\",PLANTS!G348,DMA!DD350)","v":75},null,null,null,null,null,null,null,null,null,{"$f":"PLANTS!I348","v":8.5},{"$f":"PLANTS!G348","v":75},{"$f":"PLANTS!H348","v":"M"},null,null,null,null,"",{"$f":"IF(DMA!DJ350=\"\",\"\",(DMA!N350-SUMIF(Graphs!$O$13:$O$199,DMA!$DJ350,Graphs!$V$13:$V$199))^2)","v":""},{"$f":"IF(DMA!DK350=\"\",\"\",(DMA!O350-SUMIF(Graphs!$O$13:$O$199,DMA!$DJ350,Graphs!$V$13:$V$199))^2)","v":""},{"$f":"IF(DMA!DL350=\"\",\"\",(DMA!P350-SUMIF(Graphs!$O$13:$O$199,DMA!$DJ350,Graphs!$V$13:$V$199))^2)","v":""},"",0,"",0]
[null,null,null,null,null,null,null,null,null,null,null,null,null,null,null,null,null,null,null,{"$f":"IF(A351=\"\",\"\",(Header!C$7*Header!C$6)*A351)","v":""},"","","","","",null,null,null,null,null,null,null,null,null,null,null,null,null,null,null,{"$f":"IF(PLANTS!A349=\"\",\"\",PLANTS!A349)","v":"PHMO4"},5,"",0,{"$f":"IF(PLANTS!C349=\"\",\"\",PLANTS!C349)","v":"y"},"",{"$f":"IF(PLANTS!D349=\"\",\"\",PLANTS!D349)","v":""},"",{"$f":"IF(PLANTS!E349=\"\",\"\",PLANTS!E349)","v":""},"",{"$f":"IF(PLANTS!F349=\"\",\"\",PLANTS!F349)","v":""},"",0,null,0,"",null,0,{"$f":"IF(DE351=\"A\",PLANTS!H349,DE351)","v":"M"},50,null,"","","","",null,null,null,"","",null,null,null,null,null,null,{"$error":"#DIV/0!"},null,"",null," ","",null,"","","","","",0,"","",null,"","","PHMO4",{"$f":"IF(DC351=\"a\",PLANTS!I349,DMA!DC351)","v":5},{"$f":"IF(DD351=\"a\",PLANTS!G349,DMA!DD351)","v":0},null,null,null,null,null,null,null,null,null,{"$f":"PLANTS!I349","v":5},{"$f":"PLANTS!G349","v":0},{"$f":"PLANTS!H349","v":"M"},null,null,null,null,"",{"$f":"IF(DMA!DJ351=\"\",\"\",(DMA!N351-SUMIF(Graphs!$O$13:$O$199,DMA!$DJ351,Graphs!$V$13:$V$199))^2)","v":""},{"$f":"IF(DMA!DK351=\"\",\"\",(DMA!O351-SUMIF(Graphs!$O$13:$O$199,DMA!$DJ351,Graphs!$V$13:$V$199))^2)","v":""},{"$f":"IF(DMA!DL351=\"\",\"\",(DMA!P351-SUMIF(Graphs!$O$13:$O$199,DMA!$DJ351,Graphs!$V$13:$V$199))^2)","v":""},"",0,"",0]
[null,null,null,null,null,null,null,null,null,null,null,null,null,null,null,null,null,null,null,{"$f":"IF(A352=\"\",\"\",(Header!C$7*Header!C$6)*A352)","v":""},"","","","","",null,null,null,null,null,null,null,null,null,null,null,null,null,null,null,{"$f":"IF(PLANTS!A350=\"\",\"\",PLANTS!A350)","v":"PHPR3"},2,"",0,{"$f":"IF(PLANTS!C350=\"\",\"\",PLANTS!C350)","v":""},"",{"$f":"IF(PLANTS!D350=\"\",\"\",PLANTS!D350)","v":""},"",{"$f":"IF(PLANTS!E350=\"\",\"\",PLANTS!E350)","v":"y"},"",{"$f":"IF(PLANTS!F350=\"\",\"\",PLANTS!F350)","v":""},"",0,null,25,"",null,0,{"$f":"IF(DE352=\"A\",PLANTS!H350,DE352)","v":"E"},20,null,"","","","",null,null,null,"","",null,null,null,null,null,null,{"$error":"#DIV/0!"},null,"",null," ","",null,"","","","","","","","",null,"","","PHPR3",{"$f":"IF(DC352=\"a\",PLANTS!I350,DMA!DC352)","v":2},{"$f":"IF(DD352=\"a\",PLANTS!G350,DMA!DD352)","v":25},null,null,null,null,null,null,null,null,null,{"$f":"PLANTS!I350","v":2},{"$f":"PLANTS!G350","v":25},{"$f":"PLANTS!H350","v":"E"},null,null,null,null,"",{"$f":"IF(DMA!DJ352=\"\",\"\",(DMA!N352-SUMIF(Graphs!$O$13:$O$199,DMA!$DJ352,Graphs!$V$13:$V$199))^2)","v":""},{"$f":"IF(DMA!DK352=\"\",\"\",(DMA!O352-SUMIF(Graphs!$O$13:$O$199,DMA!$DJ352,Graphs!$V$13:$V$199))^2)","v":""},{"$f":"IF(DMA!DL352=\"\",\"\",(DMA!P352-SUMIF(Graphs!$O$13:$O$199,DMA!$DJ352,Graphs!$V$13:$V$199))^2)","v":""},"",0,"",0]
[null,null,null,null,null,null,null,null,null,null,null,null,null,null,null,null,null,null,null,{"$f":"IF(A353=\"\",\"\",(Header!C$7*Header!C$6)*A353)","v":""},"","","","","",null,null,null,null,null,null,null,null,null,null,null,null,null,null,null,{"$f":"IF(PLANTS!A351=\"\",\"\",PLANTS!A351)","v":"PIPO"},5,"",0,{"$f":"IF(PLANTS!C351=\"\",\"\",PLANTS!C351)","v":"y"},"",{"$f":"IF(PLANTS!D351=\"\",\"\",PLANTS!D351)","v":""},"",{"$f":"IF(PLANTS!E351=\"\",\"\",PLANTS!E351)","v":""},"",{"$f":"IF(PLANTS!F351=\"\",\"\",PLANTS!F351)","v":""},"",0,null,25,"",null,0,{"$f":"IF(DE353=\"A\",PLANTS!H351,DE353)","v":"L"},80,null,"","","","",null,null,null,"","",null,null,null,null,null,null,{"$error":"#DIV/0!"},null,"",null," ","",null,"","","","","",0,"","",null,"","","PIPO",{"$f":"IF(DC353=\"a\",PLANTS!I351,DMA!DC353)","v":5},{"$f":"IF(DD353=\"a\",PLANTS!G351,DMA!DD353)","v":25},null,null,null,null,null,null,null,null,null,{"$f":"PLANTS!I351","v":5},{"$f":"PLANTS!G351","v":25},{"$f":"PLANTS!H351","v":"L"},null,null,null,null,"",{"$f":"IF(DMA!DJ353=\"\",\"\",(DMA!N353-SUMIF(Graphs!$O$13:$O$199,DMA!$DJ353,Graphs!$V$13:$V$199))^2)","v":""},{"$f":"IF(DMA!DK353=\"\",\"\",(DMA!O353-SUMIF(Graphs!$O$13:$O$199,DMA!$DJ353,Graphs!$V$13:$V$199))^2)","v":""},{"$f":"IF(DMA!DL353=\"\",\"\",(DMA!P353-SUMIF(Graphs!$O$13:$O$199,DMA!$DJ353,Graphs!$V$13:$V$199))^2)","v":""},"",0,"",0]
[null,null,null,null,null,null,null,null,null,null,null,null,null,null,null,null,null,null,null,{"$f":"IF(A354=\"\",\"\",(Header!C$7*Header!C$6)*A354)","v":""},"","","","","",null,null,null,null,null,null,null,null,null,null,null,null,null,null,null,{"$f":"IF(PLANTS!A352=\"\",\"\",PLANTS!A352)","v":"PLAQ2"},2,"",0,{"$f":"IF(PLANTS!C352=\"\",\"\",PLANTS!C352)","v":""},"",{"$f":"IF(PLANTS!D352=\"\",\"\",PLANTS!D352)","v":"y"},"",{"$f":"IF(PLANTS!E352=\"\",\"\",PLANTS!E352)","v":"y"},"",{"$f":"IF(PLANTS!F352=\"\",\"\",PLANTS!F352)","v":"y"},"",0,null,100,"",null,0,{"$f":"IF(DE354=\"A\",PLANTS!H352,DE354)","v":"L"},80,null,"","","","",null,null,null,"","",null,null,null,null,null,null,{"$error":"#DIV/0!"},null,"",null," ","",null,"","","",0,0,"",0,"",null,"","","PLAQ2",{"$f":"IF(DC354=\"a\",PLANTS!I352,DMA!DC354)","v":2},{"$f":"IF(DD354=\"a\",PLANTS!G352,DMA!DD354)","v":100},null,null,null,null,null,null,null,null,null,{"$f":"PLANTS!I352","v":2},{"$f":"PLANTS!G352","v":100},{"$f":"PLANTS!H352","v":"L"},null,null,null,null,"",{"$f":"IF(DMA!DJ354=\"\",\"\",(DMA!N354-SUMIF(Graphs!$O$13:$O$199,DMA!$DJ354,Graphs!$V$13:$V$199))^2)","v":""},{"$f":"IF(DMA!DK354=\"\",\"\",(DMA!O354-SUMIF(Graphs!$O$13:$O$199,DMA!$DJ354,Graphs!$V$13:$V$199))^2)","v":""},{"$f":"IF(DMA!DL354=\"\",\"\",(DMA!P354-SUMIF(Graphs!$O$13:$O$199,DMA!$DJ354,Graphs!$V$13:$V$199))^2)","v":""},"",0,"",0]
[null,null,null,null,null,null,null,null,null,null,null,null,null,null,null,null,null,null,null,{"$f":"IF(A355=\"\",\"\",(Header!C$7*Header!C$6)*A355)","v":""},"","","","","",null,null,null,null,null,null,null,null,null,null,null,null,null,null,null,{"$f":"IF(PLANTS!A353=\"\",\"\",PLANTS!A353)","v":"PLER"},2,"",0,{"$f":"IF(PLANTS!C353=\"\",\"\",PLANTS!C353)","v":""},"",{"$f":"IF(PLANTS!D353=\"\",\"\",PLANTS!D353)","v":"y"},"",{"$f":"IF(PLANTS!E353=\"\",\"\",PLANTS!E353)","v":"y"},"",{"$f":"IF(PLANTS!F353=\"\",\"\",PLANTS!F353)","v":"y"},"",0,null,75,"",null,0,{"$f":"IF(DE355=\"A\",PLANTS!H353,DE355)","v":"E"},20,null,"","","","",null,null,null,"","",null,null,null,null,null,null,{"$error":"#DIV/0!"},null,"",null," ","",null,"","","",0,0,"",0,"",null,"","","PLER",{"$f":"IF(DC355=\"a\",PLANTS!I353,DMA!DC355)","v":2},{"$f":"IF(DD355=\"a\",PLANTS!G353,DMA!DD355)","v":75},null,null,null,null,null,null,null,null,null,{"$f":"PLANTS!I353","v":2},{"$f":"PLANTS!G353","v":75},{"$f":"PLANTS!H353","v":"E"},null,null,null,null,"",{"$f":"IF(DMA!DJ355=\"\",\"\",(DMA!N355-SUMIF(Graphs!$O$13:$O$199,DMA!$DJ355,Graphs!$V$13:$V$199))^2)","v":""},{"$f":"IF(DMA!DK355=\"\",\"\",(DMA!O355-SUMIF(Graphs!$O$13:$O$199,DMA!$DJ355,Graphs!$V$13:$V$199))^2)","v":""},{"$f":"IF(DMA!DL355=\"\",\"\",(DMA!P355-SUMIF(Graphs!$O$13:$O$199,DMA!$DJ355,Graphs!$V$13:$V$199))^2)","v":""},"",0,"",0]
[null,null,null,null,null,null,null,null,null,null,null,null,null,null,null,null,null,null,null,{"$f":"IF(A356=\"\",\"\",(Header!C$7*Header!C$6)*A356)","v":""},"","","","","",null,null,null,null,null,null,null,null,null,null,null,null,null,null,null,{"$f":"IF(PLANTS!A354=\"\",\"\",PLANTS!A354)","v":"PLMA2"},2,"",0,{"$f":"IF(PLANTS!C354=\"\",\"\",PLANTS!C354)","v":""},"",{"$f":"IF(PLANTS!D354=\"\",\"\",PLANTS!D354)","v":""},"",{"$f":"IF(PLANTS!E354=\"\",\"\",PLANTS!E354)","v":"y"},"",{"$f":"IF(PLANTS!F354=\"\",\"\",PLANTS!F354)","v":"y"},"",0,null,50,"",null,0,{"$f":"IF(DE356=\"A\",PLANTS!H354,DE356)","v":"E"},20,null,"","","","",null,null,null,"","",null,null,null,null,null,null,{"$error":"#DIV/0!"},null,"",null," ","",null,"","","",0,"","","","",null,"","","PLMA2",{"$f":"IF(DC356=\"a\",PLANTS!I354,DMA!DC356)","v":2},{"$f":"IF(DD356=\"a\",PLANTS!G354,DMA!DD356)","v":50},null,null,null,null,null,null,null,null,null,{"$f":"PLANTS!I354","v":2},{"$f":"PLANTS!G354","v":50},{"$f":"PLANTS!H354","v":"E"},null,null,null,null,"",{"$f":"IF(DMA!DJ356=\"\",\"\",(DMA!N356-SUMIF(Graphs!$O$13:$O$199,DMA!$DJ356,Graphs!$V$13:$V$199))^2)","v":""},{"$f":"IF(DMA!DK356=\"\",\"\",(DMA!O356-SUMIF(Graphs!$O$13:$O$199,DMA!$DJ356,Graphs!$V$13:$V$199))^2)","v":""},{"$f":"IF(DMA!DL356=\"\",\"\",(DMA!P356-SUMIF(Graphs!$O$13:$O$199,DMA!$DJ356,Graphs!$V$13:$V$199))^2)","v":""},"",0,"",0]
[null,null,null,null,null,null,null,null,null,null,null,null,null,null,null,null,null,null,null,{"$f":"IF(A357=\"\",\"\",(Header!C$7*Header!C$6)*A357)","v":""},"","","","","",null,null,null,null,null,null,null,null,null,null,null,null,null,null,null,{"$f":"IF(PLANTS!A355=\"\",\"\",PLANTS!A355)","v":"PLMU3"},5,"",0,{"$f":"IF(PLANTS!C355=\"\",\"\",PLANTS!C355)","v":""},"",{"$f":"IF(PLANTS!D355=\"\",\"\",PLANTS!D355)","v":""},"",{"$f":"IF(PLANTS!E355=\"\",\"\",PLANTS!E355)","v":"y"},"",{"$f":"IF(PLANTS!F355=\"\",\"\",PLANTS!F355)","v":""},"",0,null,50,"",null,0,{"$f":"IF(DE357=\"A\",PLANTS!H355,DE357)","v":"M"},50,null,"","","","",null,null,null,"","",null,null,null,null,null,null,{"$error":"#DIV/0!"},null,"",null," ","",null,"","","","","","","","",null,"","","PLMU3",{"$f":"IF(DC357=\"a\",PLANTS!I355,DMA!DC357)","v":5},{"$f":"IF(DD357=\"a\",PLANTS!G355,DMA!DD357)","v":50},null,null,null,null,null,null,null,null,null,{"$f":"PLANTS!I355","v":5},{"$f":"PLANTS!G355","v":50},{"$f":"PLANTS!H355","v":"M"},null,null,null,null,"",{"$f":"IF(DMA!DJ357=\"\",\"\",(DMA!N357-SUMIF(Graphs!$O$13:$O$199,DMA!$DJ357,Graphs!$V$13:$V$199))^2)","v":""},{"$f":"IF(DMA!DK357=\"\",\"\",(DMA!O357-SUMIF(Graphs!$O$13:$O$199,DMA!$DJ357,Graphs!$V$13:$V$199))^2)","v":""},{"$f":"IF(DMA!DL357=\"\",\"\",(DMA!P357-SUMIF(Graphs!$O$13:$O$199,DMA!$DJ357,Graphs!$V$13:$V$199))^2)","v":""},"",0,"",0]
[null,null,null,null,null,null,null,null,null,null,null,null,null,null,null,null,null,null,null,{"$f":"IF(A358=\"\",\"\",(Header!C$7*Header!C$6)*A358)","v":""},"","","","","",null,null,null,null,null,null,null,null,null,null,null,null,null,null,null,{"$f":"IF(PLANTS!A356=\"\",\"\",PLANTS!A356)","v":"PLSE"},5,"",0,{"$f":"IF(PLANTS!C356=\"\",\"\",PLANTS!C356)","v":"y"},"",{"$f":"IF(PLANTS!D356=\"\",\"\",PLANTS!D356)","v":"y"},"",{"$f":"IF(PLANTS!E356=\"\",\"\",PLANTS!E356)","v":""},"",{"$f":"IF(PLANTS!F356=\"\",\"\",PLANTS!F356)","v":""},"",0,null,75,"",null,0,{"$f":"IF(DE358=\"A\",PLANTS!H356,DE358)","v":"M"},50,null,"","","","",null,null,null,"","",null,null,null,null,null,null,{"$error":"#DIV/0!"},null,"",null," ","",null,"","","","",0,0,"","",null,"","","PLSE",{"$f":"IF(DC358=\"a\",PLANTS!I356,DMA!DC358)","v":5},{"$f":"IF(DD358=\"a\",PLANTS!G356,DMA!DD358)","v":75},null,null,null,null,null,null,null,null,null,{"$f":"PLANTS!I356","v":5},{"$f":"PLANTS!G356","v":75},{"$f":"PLANTS!H356","v":"M"},null,null,null,null,"",{"$f":"IF(DMA!DJ358=\"\",\"\",(DMA!N358-SUMIF(Graphs!$O$13:$O$199,DMA!$DJ358,Graphs!$V$13:$V$199))^2)","v":""},{"$f":"IF(DMA!DK358=\"\",\"\",(DMA!O358-SUMIF(Graphs!$O$13:$O$199,DMA!$DJ358,Graphs!$V$13:$V$199))^2)","v":""},{"$f":"IF(DMA!DL358=\"\",\"\",(DMA!P358-SUMIF(Graphs!$O$13:$O$199,DMA!$DJ358,Graphs!$V$13:$V$199))^2)","v":""},"",0,"",0]
[null,null,null,null,null,null,null,null,null,null,null,null,null,null,null,null,null,null,null,{"$f":"IF(A359=\"\",\"\",(Header!C$7*Header!C$6)*A359)","v":""},"","","","","",null,null,null,null,null,null,null,null,null,null,null,null,null,null,null,{"$f":"IF(PLANTS!A357=\"\",\"\",PLANTS!A357)","v":"PLWR2"},5,"",0,{"$f":"IF(PLANTS!C357=\"\",\"\",PLANTS!C357)","v":"y"},"",{"$f":"IF(PLANTS!D357=\"\",\"\",PLANTS!D357)","v":"y"},"",{"$f":"IF(PLANTS!E357=\"\",\"\",PLANTS!E357)","v":""},"",{"$f":"IF(PLANTS!F357=\"\",\"\",PLANTS!F357)","v":""},"",0,null,75,"",null,0,{"$f":"IF(DE359=\"A\",PLANTS!H357,DE359)","v":"L"},80,null,"","","","",null,null,null,"","",null,null,null,null,null,null,{"$error":"#DIV/0!"},null,"",null," ","",null,"","","","",0,0,"","",null,"","","PLWR2",{"$f":"IF(DC359=\"a\",PLANTS!I357,DMA!DC359)","v":5},{"$f":"IF(DD359=\"a\",PLANTS!G357,DMA!DD359)","v":75},null,null,null,null,null,null,null,null,null,{"$f":"PLANTS!I357","v":5},{"$f":"PLANTS!G357","v":75},{"$f":"PLANTS!H357","v":"L"},null,null,null,null,"",{"$f":"IF(DMA!DJ359=\"\",\"\",(DMA!N359-SUMIF(Graphs!$O$13:$O$199,DMA!$DJ359,Graphs!$V$13:$V$199))^2)","v":""},{"$f":"IF(DMA!DK359=\"\",\"\",(DMA!O359-SUMIF(Graphs!$O$13:$O$199,DMA!$DJ359,Graphs!$V$13:$V$199))^2)","v":""},{"$f":"IF(DMA!DL359=\"\",\"\",(DMA!P359-SUMIF(Graphs!$O$13:$O$199,DMA!$DJ359,Graphs!$V$13:$V$199))^2)","v":""},"",0,"",0]
[null,null,null,null,null,null,null,null,null,null,null,null,null,null,null,null,null,null,null,{"$f":"IF(A360=\"\",\"\",(Header!C$7*Header!C$6)*A360)","v":""},"","","","","",null,null,null,null,null,null,null,null,null,null,null,null,null,null,null,{"$f":"IF(PLANTS!A358=\"\",\"\",PLANTS!A358)","v":"POA"},2,"",0,{"$f":"IF(PLANTS!C358=\"\",\"\",PLANTS!C358)","v":""},"",{"$f":"IF(PLANTS!D358=\"\",\"\",PLANTS!D358)","v":""},"",{"$f":"IF(PLANTS!E358=\"\",\"\",PLANTS!E358)","v":"y"},"",{"$f":"IF(PLANTS!F358=\"\",\"\",PLANTS!F358)","v":""},"",0,null,50,"",null,0,{"$f":"IF(DE360=\"A\",PLANTS!H358,DE360)","v":"E"},20,null,"","","","",null,null,null,"","",null,null,null,null,null,null,{"$error":"#DIV/0!"},null,"",null," ","",null,"","","","","","","","",null,"","","POA",{"$f":"IF(DC360=\"a\",PLANTS!I358,DMA!DC360)","v":2},{"$f":"IF(DD360=\"a\",PLANTS!G358,DMA!DD360)","v":50},null,null,null,null,null,null,null,null,null,{"$f":"PLANTS!I358","v":2},{"$f":"PLANTS!G358","v":50},{"$f":"PLANTS!H358","v":"E"},null,null,null,null,"",{"$f":"IF(DMA!DJ360=\"\",\"\",(DMA!N360-SUMIF(Graphs!$O$13:$O$199,DMA!$DJ360,Graphs!$V$13:$V$199))^2)","v":""},{"$f":"IF(DMA!DK360=\"\",\"\",(DMA!O360-SUMIF(Graphs!$O$13:$O$199,DMA!$DJ360,Graphs!$V$13:$V$199))^2)","v":""},{"$f":"IF(DMA!DL360=\"\",\"\",(DMA!P360-SUMIF(Graphs!$O$13:$O$199,DMA!$DJ360,Graphs!$V$13:$V$199))^2)","v":""},"",0,"",0]
[null,null,null,null,null,null,null,null,null,null,null,null,null,null,null,null,null,null,null,{"$f":"IF(A361=\"\",\"\",(Header!C$7*Header!C$6)*A361)","v":""},"","","","","",null,null,null,null,null,null,null,null,null,null,null,null,null,null,null,{"$f":"IF(PLANTS!A359=\"\",\"\",PLANTS!A359)","v":"POAM8"},2,"",0,{"$f":"IF(PLANTS!C359=\"\",\"\",PLANTS!C359)","v":""},"",{"$f":"IF(PLANTS!D359=\"\",\"\",PLANTS!D359)","v":"y"},"",{"$f":"IF(PLANTS!E359=\"\",\"\",PLANTS!E359)","v":"y"},"",{"$f":"IF(PLANTS!F359=\"\",\"\",PLANTS!F359)","v":"y"},"",0,null,100,"",null,0,{"$f":"IF(DE361=\"A\",PLANTS!H359,DE361)","v":"E"},20,null,"","","","",null,null,null,"","",null,null,null,null,null,null,{"$error":"#DIV/0!"},null,"",null," ","",null,"","","",0,0,"",0,"",null,"","","POAM8",{"$f":"IF(DC361=\"a\",PLANTS!I359,DMA!DC361)","v":2},{"$f":"IF(DD361=\"a\",PLANTS!G359,DMA!DD361)","v":100},null,null,null,null,null,null,null,null,null,{"$f":"PLANTS!I359","v":2},{"$f":"PLANTS!G359","v":100},{"$f":"PLANTS!H359","v":"E"},null,null,null,null,"",{"$f":"IF(DMA!DJ361=\"\",\"\",(DMA!N361-SUMIF(Graphs!$O$13:$O$199,DMA!$DJ361,Graphs!$V$13:$V$199))^2)","v":""},{"$f":"IF(DMA!DK361=\"\",\"\",(DMA!O361-SUMIF(Graphs!$O$13:$O$199,DMA!$DJ361,Graphs!$V$13:$V$199))^2)","v":""},{"$f":"IF(DMA!DL361=\"\",\"\",(DMA!P361-SUMIF(Graphs!$O$13:$O$199,DMA!$DJ361,Graphs!$V$13:$V$199))^2)","v":""},"",0,"",0]
[null,null,null,null,null,null,null,null,null,null,null,null,null,null,null,null,null,null,null,{"$f":"IF(A362=\"\",\"\",(Header!C$7*Header!C$6)*A362)","v":""},"","","","","",null,null,null,null,null,null,null,null,null,null,null,null,null,null,null,{"$f":"IF(PLANTS!A360=\"\",\"\",PLANTS!A360)","v":"POAN3"},8.5,"",0,{"$f":"IF(PLANTS!C360=\"\",\"\",PLANTS!C360)","v":"y"},"",{"$f":"IF(PLANTS!D360=\"\",\"\",PLANTS!D360)","v":"y"},"",{"$f":"IF(PLANTS!E360=\"\",\"\",PLANTS!E360)","v":""},"",{"$f":"IF(PLANTS!F360=\"\",\"\",PLANTS!F360)","v":""},"",0,null,75,"",null,0,{"$f":"IF(DE362=\"A\",PLANTS!H360,DE362)","v":"L"},80,null,"","","","",null,null,null,"","",null,null,null,null,null,null,{"$error":"#DIV/0!"},null,"",null," ","",null,"","","","",0,0,"","",null,"","","POAN3",{"$f":"IF(DC362=\"a\",PLANTS!I360,DMA!DC362)","v":8.5},{"$f":"IF(DD362=\"a\",PLANTS!G360,DMA!DD362)","v":75},null,null,null,null,null,null,null,null,null,{"$f":"PLANTS!I360","v":8.5},{"$f":"PLANTS!G360","v":75},{"$f":"PLANTS!H360","v":"L"},null,null,null,null,"",{"$f":"IF(DMA!DJ362=\"\",\"\",(DMA!N362-SUMIF(Graphs!$O$13:$O$199,DMA!$DJ362,Graphs!$V$13:$V$199))^2)","v":""},{"$f":"IF(DMA!DK362=\"\",\"\",(DMA!O362-SUMIF(Graphs!$O$13:$O$199,DMA!$DJ362,Graphs!$V$13:$V$199))^2)","v":""},{"$f":"IF(DMA!DL362=\"\",\"\",(DMA!P362-SUMIF(Graphs!$O$13:$O$199,DMA!$DJ362,Graphs!$V$13:$V$199))^2)","v":""},"",0,"",0]
[null,null,null,null,null,null,null,null,null,null,null,null,null,null,null,null,null,null,null,{"$f":"IF(A363=\"\",\"\",(Header!C$7*Header!C$6)*A363)","v":""},null,"","","","",null,null,null,null,null,null,null,null,null,null,null,null,null,null,null,{"$f":"IF(PLANTS!A361=\"\",\"\",PLANTS!A361)","v":"POAN5"},2,"",0,{"$f":"IF(PLANTS!C361=\"\",\"\",PLANTS!C361)","v":""},"",{"$f":"IF(PLANTS!D361=\"\",\"\",PLANTS!D361)","v":"y"},"",{"$f":"IF(PLANTS!E361=\"\",\"\",PLANTS!E361)","v":"y"},"",{"$f":"IF(PLANTS!F361=\"\",\"\",PLANTS!F361)","v":"y"},"",0,null,100,"",null,0,{"$f":"IF(DE363=\"A\",PLANTS!H361,DE363)","v":"E"},20,null,"","","","",null,null,null,{"$f":"IF(E363<>\"\",E363+1,\"\")","v":""},{"$f":"IF(E363=\"\",\"\",(E363+1)/5)","v":""},null,null,null,null,null,null,{"$error":"#DIV/0!"},null,"",null," ","",null,"","","",0,0,"",0,"",null,"","","POAN5",{"$f":"IF(DC363=\"a\",PLANTS!I361,DMA!DC363)","v":2},{"$f":"IF(DD363=\"a\",PLANTS!G361,DMA!DD363)","v":100},null,null,null,null,null,null,null,null,null,{"$f":"PLANTS!I361","v":2},{"$f":"PLANTS!G361","v":100},{"$f":"PLANTS!H361","v":"E"},null,null,null,null,{"$f":"IF(M363=\"\",\"\",M363)","v":""},{"$f":"IF(DMA!DJ363=\"\",\"\",(DMA!N363-SUMIF(Graphs!$O$13:$O$199,DMA!$DJ363,Graphs!$V$13:$V$199))^2)","v":""},{"$f":"IF(DMA!DK363=\"\",\"\",(DMA!O363-SUMIF(Graphs!$O$13:$O$199,DMA!$DJ363,Graphs!$V$13:$V$199))^2)","v":""},{"$f":"IF(DMA!DL363=\"\",\"\",(DMA!P363-SUMIF(Graphs!$O$13:$O$199,DMA!$DJ363,Graphs!$V$13:$V$199))^2)","v":""},"",0,"",0]
[null,null,null,null,null,null,null,null,null,null,null,null,null,null,null,null,null,null,null,{"$f":"IF(A364=\"\",\"\",(Header!C$7*Header!C$6)*A364)","v":""},null,{"$f":"IF(F364=\"\",\"\",IF(ISNUMBER(SEARCH(F364,\"d\")),IF(ISNUMBER(SEARCH(G364,\"c\")),\"CS\",IF(ISNUMBER(SEARCH(G364,\"u\")),\"UU\")),\"\"))","v":""},{"$f":"IF(F364=\"\",\"\",IF(ISNUMBER(SEARCH(F364,\"e\")),IF(ISNUMBER(SEARCH(G364,\"c\")),IF(ISNUMBER(SEARCH(H364,\"a\")),\"CS\",\"CU\"),IF(ISNUMBER(SEARCH(H364,\"a\")),\"US\",\"UU\")),\"\"))","v":""},{"$f":"IF(V364=\"\",W364,V364)","v":""},"",null,null,null,null,null,null,null,null,null,null,null,null,null,null,null,{"$f":"IF(PLANTS!A362=\"\",\"\",PLANTS!A362)","v":"POAV"},2,"",0,{"$f":"IF(PLANTS!C362=\"\",\"\",PLANTS!C362)","v":""},"",{"$f":"IF(PLANTS!D362=\"\",\"\",PLANTS!D362)","v":"y"},"",{"$f":"IF(PLANTS!E362=\"\",\"\",PLANTS!E362)","v":"y"},"",{"$f":"IF(PLANTS!F362=\"\",\"\",PLANTS!F362)","v":"y"},"",0,null,75,"",null,0,{"$f":"IF(DE364=\"A\",PLANTS!H362,DE364)","v":"M"},50,null,"","","","",null,null,null,"","",null,null,null,null,null,null,{"$error":"#DIV/0!"},null,"",null," ","",null,"","","",0,0,"",0,"",null,"","","POAV",{"$f":"IF(DC364=\"a\",PLANTS!I362,DMA!DC364)","v":2},{"$f":"IF(DD364=\"a\",PLANTS!G362,DMA!DD364)","v":75},null,null,null,null,null,null,null,null,null,{"$f":"PLANTS!I362","v":2},{"$f":"PLANTS!G362","v":75},{"$f":"PLANTS!H362","v":"M"},null,null,null,null,"",{"$f":"IF(DMA!DJ364=\"\",\"\",(DMA!N364-SUMIF(Graphs!$O$13:$O$199,DMA!$DJ364,Graphs!$V$13:$V$199))^2)","v":""},{"$f":"IF(DMA!DK364=\"\",\"\",(DMA!O364-SUMIF(Graphs!$O$13:$O$199,DMA!$DJ364,Graphs!$V$13:$V$199))^2)","v":""},{"$f":"IF(DMA!DL364=\"\",\"\",(DMA!P364-SUMIF(Graphs!$O$13:$O$199,DMA!$DJ364,Graphs!$V$13:$V$199))^2)","v":""},"",0,"",0]
[null,null,null,null,null,null,null,null,null,null,null,null,null,null,null,null,null,null,null,{"$f":"IF(A365=\"\",\"\",(Header!C$7*Header!C$6)*A365)","v":""},null,"","","","",null,null,null,null,null,null,null,null,null,null,null,null,null,null,null,{"$f":"IF(PLANTS!A363=\"\",\"\",PLANTS!A363)","v":"POBA2"},8.5,"",0,{"$f":"IF(PLANTS!C363=\"\",\"\",PLANTS!C363)","v":"y"},"",{"$f":"IF(PLANTS!D363=\"\",\"\",PLANTS!D363)","v":""},"",{"$f":"IF(PLANTS!E363=\"\",\"\",PLANTS!E363)","v":""},"",{"$f":"IF(PLANTS!F363=\"\",\"\",PLANTS!F363)","v":""},"",0,null,50,"",null,0,{"$f":"IF(DE365=\"A\",PLANTS!H363,DE365)","v":"L"},80,null,"","","","",null,null,null,"","",null,null,null,null,null,null,{"$error":"#DIV/0!"},null,"",null," ","",null,"","","","","",0,"","",null,"","","POBA2",{"$f":"IF(DC365=\"a\",PLANTS!I363,DMA!DC365)","v":8.5},{"$f":"IF(DD365=\"a\",PLANTS!G363,DMA!DD365)","v":50},null,null,null,null,null,null,null,null,null,{"$f":"PLANTS!I363","v":8.5},{"$f":"PLANTS!G363","v":50},{"$f":"PLANTS!H363","v":"L"},null,null,null,null,"",{"$f":"IF(DMA!DJ365=\"\",\"\",(DMA!N365-SUMIF(Graphs!$O$13:$O$199,DMA!$DJ365,Graphs!$V$13:$V$199))^2)","v":""},{"$f":"IF(DMA!DK365=\"\",\"\",(DMA!O365-SUMIF(Graphs!$O$13:$O$199,DMA!$DJ365,Graphs!$V$13:$V$199))^2)","v":""},{"$f":"IF(DMA!DL365=\"\",\"\",(DMA!P365-SUMIF(Graphs!$O$13:$O$199,DMA!$DJ365,Graphs!$V$13:$V$199))^2)","v":""},"",0,"",0]
[null,null,null,null,null,null,null,null,null,null,null,null,null,null,null,null,null,null,null,{"$f":"IF(A366=\"\",\"\",(Header!C$7*Header!C$6)*A366)","v":""},null,"","","","",null,null,null,null,null,null,null,null,null,null,null,null,null,null,null,{"$f":"IF(PLANTS!A364=\"\",\"\",PLANTS!A364)","v":"POBI6"},2,"",0,{"$f":"IF(PLANTS!C364=\"\",\"\",PLANTS!C364)","v":""},"",{"$f":"IF(PLANTS!D364=\"\",\"\",PLANTS!D364)","v":"y"},"",{"$f":"IF(PLANTS!E364=\"\",\"\",PLANTS!E364)","v":"y"},"",{"$f":"IF(PLANTS!F364=\"\",\"\",PLANTS!F364)","v":"y"},"",0,null,75,"",null,0,{"$f":"IF(DE366=\"A\",PLANTS!H364,DE366)","v":"M"},50,null,"","","","",null,null,null,"","",null,null,null,null,null,null,{"$error":"#DIV/0!"},null,"",null," ","",null,"","","",0,0,"",0,"",null,"","","POBI6",{"$f":"IF(DC366=\"a\",PLANTS!I364,DMA!DC366)","v":2},{"$f":"IF(DD366=\"a\",PLANTS!G364,DMA!DD366)","v":75},null,null,null,null,null,null,null,null,null,{"$f":"PLANTS!I364","v":2},{"$f":"PLANTS!G364","v":75},{"$f":"PLANTS!H364","v":"M"},null,null,null,null,"",{"$f":"IF(DMA!DJ366=\"\",\"\",(DMA!N366-SUMIF(Graphs!$O$13:$O$199,DMA!$DJ366,Graphs!$V$13:$V$199))^2)","v":""},{"$f":"IF(DMA!DK366=\"\",\"\",(DMA!O366-SUMIF(Graphs!$O$13:$O$199,DMA!$DJ366,Graphs!$V$13:$V$199))^2)","v":""},{"$f":"IF(DMA!DL366=\"\",\"\",(DMA!P366-SUMIF(Graphs!$O$13:$O$199,DMA!$DJ366,Graphs!$V$13:$V$199))^2)","v":""},"",0,"",0]
[null,null,null,null,null,null,null,null,null,null,null,null,null,null,null,null,null,null,null,{"$f":"IF(A367=\"\",\"\",(Header!C$7*Header!C$6)*A367)","v":""},null,"","","","",null,null,null,null,null,null,null,null,null,null,null,null,null,null,null,{"$f":"IF(PLANTS!A365=\"\",\"\",PLANTS!A365)","v":"POCO"},2,"",0,{"$f":"IF(PLANTS!C365=\"\",\"\",PLANTS!C365)","v":""},"",{"$f":"IF(PLANTS!D365=\"\",\"\",PLANTS!D365)","v":""},"",{"$f":"IF(PLANTS!E365=\"\",\"\",PLANTS!E365)","v":"y"},"",{"$f":"IF(PLANTS!F365=\"\",\"\",PLANTS!F365)","v":""},"",0,null,25,"",null,0,{"$f":"IF(DE367=\"A\",PLANTS!H365,DE367)","v":"E"},20,null,"","","","",null,null,null,"","",null,null,null,null,null,null,{"$error":"#DIV/0!"},null,"",null," ","",null,"","","","","","","","",null,"","","POCO",{"$f":"IF(DC367=\"a\",PLANTS!I365,DMA!DC367)","v":2},{"$f":"IF(DD367=\"a\",PLANTS!G365,DMA!DD367)","v":25},null,null,null,null,null,null,null,null,null,{"$f":"PLANTS!I365","v":2},{"$f":"PLANTS!G365","v":25},{"$f":"PLANTS!H365","v":"E"},null,null,null,null,"",{"$f":"IF(DMA!DJ367=\"\",\"\",(DMA!N367-SUMIF(Graphs!$O$13:$O$199,DMA!$DJ367,Graphs!$V$13:$V$199))^2)","v":""},{"$f":"IF(DMA!DK367=\"\",\"\",(DMA!O367-SUMIF(Graphs!$O$13:$O$199,DMA!$DJ367,Graphs!$V$13:$V$199))^2)","v":""},{"$f":"IF(DMA!DL367=\"\",\"\",(DMA!P367-SUMIF(Graphs!$O$13:$O$199,DMA!$DJ367,Graphs!$V$13:$V$199))^2)","v":""},"",0,"",0]
[null,null,null,null,null,null,null,null,null,null,null,null,null,null,null,null,null,null,null,{"$f":"IF(A368=\"\",\"\",(Header!C$7*Header!C$6)*A368)","v":""},null,"","","","",null,null,null,null,null,null,null,null,null,null,null,null,null,null,null,{"$f":"IF(PLANTS!A366=\"\",\"\",PLANTS!A366)","v":"POCU3"},2,"",0,{"$f":"IF(PLANTS!C366=\"\",\"\",PLANTS!C366)","v":""},"",{"$f":"IF(PLANTS!D366=\"\",\"\",PLANTS!D366)","v":""},"",{"$f":"IF(PLANTS!E366=\"\",\"\",PLANTS!E366)","v":"y"},"",{"$f":"IF(PLANTS!F366=\"\",\"\",PLANTS!F366)","v":""},"",0,null,25,"",null,0,{"$f":"IF(DE368=\"A\",PLANTS!H366,DE368)","v":"E"},20,null,"","","","",null,null,null,"","",null,null,null,null,null,null,{"$error":"#DIV/0!"},null,"",null," ","",null,"","","","","","","","",null,"","","POCU3",{"$f":"IF(DC368=\"a\",PLANTS!I366,DMA!DC368)","v":2},{"$f":"IF(DD368=\"a\",PLANTS!G366,DMA!DD368)","v":25},null,null,null,null,null,null,null,null,null,{"$f":"PLANTS!I366","v":2},{"$f":"PLANTS!G366","v":25},{"$f":"PLANTS!H366","v":"E"},null,null,null,null,"",{"$f":"IF(DMA!DJ368=\"\",\"\",(DMA!N368-SUMIF(Graphs!$O$13:$O$199,DMA!$DJ368,Graphs!$V$13:$V$199))^2)","v":""},{"$f":"IF(DMA!DK368=\"\",\"\",(DMA!O368-SUMIF(Graphs!$O$13:$O$199,DMA!$DJ368,Graphs!$V$13:$V$199))^2)","v":""},{"$f":"IF(DMA!DL368=\"\",\"\",(DMA!P368-SUMIF(Graphs!$O$13:$O$199,DMA!$DJ368,Graphs!$V$13:$V$199))^2)","v":""},"",0,"",0]
[null,null,null,null,null,null,null,null,null,null,null,null,null,null,null,null,null,null,null,{"$f":"IF(A369=\"\",\"\",(Header!C$7*Header!C$6)*A369)","v":""},null,"","","","",null,null,null,null,null,null,null,null,null,null,null,null,null,null,null,{"$f":"IF(PLANTS!A367=\"\",\"\",PLANTS!A367)","v":"PODE3"},8.5,"",0,{"$f":"IF(PLANTS!C367=\"\",\"\",PLANTS!C367)","v":"y"},"",{"$f":"IF(PLANTS!D367=\"\",\"\",PLANTS!D367)","v":""},"",{"$f":"IF(PLANTS!E367=\"\",\"\",PLANTS!E367)","v":""},"",{"$f":"IF(PLANTS!F367=\"\",\"\",PLANTS!F367)","v":""},"",0,null,50,"",null,0,{"$f":"IF(DE369=\"A\",PLANTS!H367,DE369)","v":"L"},80,null,"","","","",null,null,null,"","",null,null,null,null,null,null,{"$error":"#DIV/0!"},null,"",null," ","",null,"","","","","",0,"","",null,"","","PODE3",{"$f":"IF(DC369=\"a\",PLANTS!I367,DMA!DC369)","v":8.5},{"$f":"IF(DD369=\"a\",PLANTS!G367,DMA!DD369)","v":50},null,null,null,null,null,null,null,null,null,{"$f":"PLANTS!I367","v":8.5},{"$f":"PLANTS!G367","v":50},{"$f":"PLANTS!H367","v":"L"},null,null,null,null,"",{"$f":"IF(DMA!DJ369=\"\",\"\",(DMA!N369-SUMIF(Graphs!$O$13:$O$199,DMA!$DJ369,Graphs!$V$13:$V$199))^2)","v":""},{"$f":"IF(DMA!DK369=\"\",\"\",(DMA!O369-SUMIF(Graphs!$O$13:$O$199,DMA!$DJ369,Graphs!$V$13:$V$199))^2)","v":""},{"$f":"IF(DMA!DL369=\"\",\"\",(DMA!P369-SUMIF(Graphs!$O$13:$O$199,DMA!$DJ369,Graphs!$V$13:$V$199))^2)","v":""},"",0,"",0]
[null,null,null,null,null,null,null,null,null,null,null,null,null,null,null,null,null,null,null,{"$f":"IF(A370=\"\",\"\",(Header!C$7*Header!C$6)*A370)","v":""},null,"","","","",null,null,null,null,null,null,null,null,null,null,null,null,null,null,null,{"$f":"IF(PLANTS!A368=\"\",\"\",PLANTS!A368)","v":"PODO4"},2,"",0,{"$f":"IF(PLANTS!C368=\"\",\"\",PLANTS!C368)","v":""},"",{"$f":"IF(PLANTS!D368=\"\",\"\",PLANTS!D368)","v":""},"",{"$f":"IF(PLANTS!E368=\"\",\"\",PLANTS!E368)","v":"y"},"",{"$f":"IF(PLANTS!F368=\"\",\"\",PLANTS!F368)","v":"y"},"",0,null,25,"",null,0,{"$f":"IF(DE370=\"A\",PLANTS!H368,DE370)","v":"E"},20,null,"","","","",null,null,null,"","",null,null,null,null,null,null,{"$error":"#DIV/0!"},null,"",null," ","",null,"","","",0,"","","","",null,"","","PODO4",{"$f":"IF(DC370=\"a\",PLANTS!I368,DMA!DC370)","v":2},{"$f":"IF(DD370=\"a\",PLANTS!G368,DMA!DD370)","v":25},null,null,null,null,null,null,null,null,null,{"$f":"PLANTS!I368","v":2},{"$f":"PLANTS!G368","v":25},{"$f":"PLANTS!H368","v":"E"},null,null,null,null,"",{"$f":"IF(DMA!DJ370=\"\",\"\",(DMA!N370-SUMIF(Graphs!$O$13:$O$199,DMA!$DJ370,Graphs!$V$13:$V$199))^2)","v":""},{"$f":"IF(DMA!DK370=\"\",\"\",(DMA!O370-SUMIF(Graphs!$O$13:$O$199,DMA!$DJ370,Graphs!$V$13:$V$199))^2)","v":""},{"$f":"IF(DMA!DL370=\"\",\"\",(DMA!P370-SUMIF(Graphs!$O$13:$O$199,DMA!$DJ370,Graphs!$V$13:$V$199))^2)","v":""},"",0,"",0]
[null,null,null,null,null,null,null,null,null,null,null,null,null,null,null,null,null,null,null,{"$f":"IF(A371=\"\",\"\",(Header!C$7*Header!C$6)*A371)","v":""},null,"","","","",null,null,null,null,null,null,null,null,null,null,null,null,null,null,null,{"$f":"IF(PLANTS!A369=\"\",\"\",PLANTS!A369)","v":"POFL3"},2,"",0,{"$f":"IF(PLANTS!C369=\"\",\"\",PLANTS!C369)","v":""},"",{"$f":"IF(PLANTS!D369=\"\",\"\",PLANTS!D369)","v":"y"},"",{"$f":"IF(PLANTS!E369=\"\",\"\",PLANTS!E369)","v":"y"},"",{"$f":"IF(PLANTS!F369=\"\",\"\",PLANTS!F369)","v":"y"},"",0,null,75,"",null,0,{"$f":"IF(DE371=\"A\",PLANTS!H369,DE371)","v":"M"},50,null,"","","","",null,null,null,"","",null,null,null,null,null,null,{"$error":"#DIV/0!"},null,"",null," ","",null,"","","",0,0,"",0,"",null,"","","POFL3",{"$f":"IF(DC371=\"a\",PLANTS!I369,DMA!DC371)","v":2},{"$f":"IF(DD371=\"a\",PLANTS!G369,DMA!DD371)","v":75},null,null,null,null,null,null,null,null,null,{"$f":"PLANTS!I369","v":2},{"$f":"PLANTS!G369","v":75},{"$f":"PLANTS!H369","v":"M"},null,null,null,null,"",{"$f":"IF(DMA!DJ371=\"\",\"\",(DMA!N371-SUMIF(Graphs!$O$13:$O$199,DMA!$DJ371,Graphs!$V$13:$V$199))^2)","v":""},{"$f":"IF(DMA!DK371=\"\",\"\",(DMA!O371-SUMIF(Graphs!$O$13:$O$199,DMA!$DJ371,Graphs!$V$13:$V$199))^2)","v":""},{"$f":"IF(DMA!DL371=\"\",\"\",(DMA!P371-SUMIF(Graphs!$O$13:$O$199,DMA!$DJ371,Graphs!$V$13:$V$199))^2)","v":""},"",0,"",0]
[null,null,null,null,null,null,null,null,null,null,null,null,null,null,null,null,null,null,null,{"$f":"IF(A372=\"\",\"\",(Header!C$7*Header!C$6)*A372)","v":""},null,"","","","",null,null,null,null,null,null,null,null,null,null,null,null,null,null,null,{"$f":"IF(PLANTS!A370=\"\",\"\",PLANTS!A370)","v":"POFR2"},8.5,"",0,{"$f":"IF(PLANTS!C370=\"\",\"\",PLANTS!C370)","v":"y"},"",{"$f":"IF(PLANTS!D370=\"\",\"\",PLANTS!D370)","v":"y"},"",{"$f":"IF(PLANTS!E370=\"\",\"\",PLANTS!E370)","v":""},"",{"$f":"IF(PLANTS!F370=\"\",\"\",PLANTS!F370)","v":""},"",0,null,75,"",null,0,{"$f":"IF(DE372=\"A\",PLANTS!H370,DE372)","v":"L"},80,null,"","","","",null,null,null,"","",null,null,null,null,null,null,{"$f":"IF(I372=BZ$3,J372,\"\")","v":{"$error":"#DIV/0!"}},null,"",null," ","",null,"","","","",0,0,"","",null,"","","POFR2",{"$f":"IF(DC372=\"a\",PLANTS!I370,DMA!DC372)","v":8.5},{"$f":"IF(DD372=\"a\",PLANTS!G370,DMA!DD372)","v":75},null,null,null,null,null,null,null,null,null,{"$f":"PLANTS!I370","v":8.5},{"$f":"PLANTS!G370","v":75},{"$f":"PLANTS!H370","v":"L"},null,null,null,null,"",{"$f":"IF(DMA!DJ372=\"\",\"\",(DMA!N372-SUMIF(Graphs!$O$13:$O$199,DMA!$DJ372,Graphs!$V$13:$V$199))^2)","v":""},{"$f":"IF(DMA!DK372=\"\",\"\",(DMA!O372-SUMIF(Graphs!$O$13:$O$199,DMA!$DJ372,Graphs!$V$13:$V$199))^2)","v":""},{"$f":"IF(DMA!DL372=\"\",\"\",(DMA!P372-SUMIF(Graphs!$O$13:$O$199,DMA!$DJ372,Graphs!$V$13:$V$199))^2)","v":""},"",0,"",0]
[null,null,null,null,null,null,null,null,null,null,null,null,null,null,null,null,null,null,null,{"$f":"IF(A373=\"\",\"\",(Header!C$7*Header!C$6)*A373)","v":""},null,"","","","",null,null,null,null,null,null,null,null,null,null,null,null,null,null,null,{"$f":"IF(PLANTS!A371=\"\",\"\",PLANTS!A371)","v":"POFR4"},5,"",0,{"$f":"IF(PLANTS!C371=\"\",\"\",PLANTS!C371)","v":"y"},"",{"$f":"IF(PLANTS!D371=\"\",\"\",PLANTS!D371)","v":""},"",{"$f":"IF(PLANTS!E371=\"\",\"\",PLANTS!E371)","v":""},"",{"$f":"IF(PLANTS!F371=\"\",\"\",PLANTS!F371)","v":""},"",0,null,50,"",null,0,{"$f":"IF(DE373=\"A\",PLANTS!H371,DE373)","v":"L"},80,null,"","","","",null,null,null,"","",null,null,null,null,null,null,{"$error":"#DIV/0!"},null,"",null," ","",null,"","","","","",0,"","",null,"","","POFR4",{"$f":"IF(DC373=\"a\",PLANTS!I371,DMA!DC373)","v":5},{"$f":"IF(DD373=\"a\",PLANTS!G371,DMA!DD373)","v":50},null,null,null,null,null,null,null,null,null,{"$f":"PLANTS!I371","v":5},{"$f":"PLANTS!G371","v":50},{"$f":"PLANTS!H371","v":"L"},null,null,null,null,"",{"$f":"IF(DMA!DJ373=\"\",\"\",(DMA!N373-SUMIF(Graphs!$O$13:$O$199,DMA!$DJ373,Graphs!$V$13:$V$199))^2)","v":""},{"$f":"IF(DMA!DK373=\"\",\"\",(DMA!O373-SUMIF(Graphs!$O$13:$O$199,DMA!$DJ373,Graphs!$V$13:$V$199))^2)","v":""},{"$f":"IF(DMA!DL373=\"\",\"\",(DMA!P373-SUMIF(Graphs!$O$13:$O$199,DMA!$DJ373,Graphs!$V$13:$V$199))^2)","v":""},"",0,"",0]
[null,null,null,null,null,null,null,null,null,null,null,null,null,null,null,null,null,null,null,{"$f":"IF(A374=\"\",\"\",(Header!C$7*Header!C$6)*A374)","v":""},null,"","","","",null,null,null,null,null,null,null,null,null,null,null,null,null,null,null,{"$f":"IF(PLANTS!A372=\"\",\"\",PLANTS!A372)","v":"POGR9"},2,"",0,{"$f":"IF(PLANTS!C372=\"\",\"\",PLANTS!C372)","v":""},"",{"$f":"IF(PLANTS!D372=\"\",\"\",PLANTS!D372)","v":""},"",{"$f":"IF(PLANTS!E372=\"\",\"\",PLANTS!E372)","v":"y"},"",{"$f":"IF(PLANTS!F372=\"\",\"\",PLANTS!F372)","v":"y"},"",0,null,50,"",null,0,{"$f":"IF(DE374=\"A\",PLANTS!H372,DE374)","v":"E"},20,null,"","","","",null,null,null,"","",null,null,null,null,null,null,{"$error":"#DIV/0!"},null,"",null," ","",null,"","","",0,"","","","",null,"","","POGR9",{"$f":"IF(DC374=\"a\",PLANTS!I372,DMA!DC374)","v":2},{"$f":"IF(DD374=\"a\",PLANTS!G372,DMA!DD374)","v":50},null,null,null,null,null,null,null,null,null,{"$f":"PLANTS!I372","v":2},{"$f":"PLANTS!G372","v":50},{"$f":"PLANTS!H372","v":"E"},null,null,null,null,"",{"$f":"IF(DMA!DJ374=\"\",\"\",(DMA!N374-SUMIF(Graphs!$O$13:$O$199,DMA!$DJ374,Graphs!$V$13:$V$199))^2)","v":""},{"$f":"IF(DMA!DK374=\"\",\"\",(DMA!O374-SUMIF(Graphs!$O$13:$O$199,DMA!$DJ374,Graphs!$V$13:$V$199))^2)","v":""},{"$f":"IF(DMA!DL374=\"\",\"\",(DMA!P374-SUMIF(Graphs!$O$13:$O$199,DMA!$DJ374,Graphs!$V$13:$V$199))^2)","v":""},"",0,"",0]
[null,null,null,null,null,null,null,null,null,null,null,null,null,null,null,null,null,null,null,{"$f":"IF(A375=\"\",\"\",(Header!C$7*Header!C$6)*A375)","v":""},null,"","","","",null,null,null,null,null,null,null,null,null,null,null,null,null,null,null,{"$f":"IF(PLANTS!A373=\"\",\"\",PLANTS!A373)","v":"POLA4"},2,"",0,{"$f":"IF(PLANTS!C373=\"\",\"\",PLANTS!C373)","v":""},"",{"$f":"IF(PLANTS!D373=\"\",\"\",PLANTS!D373)","v":"y"},"",{"$f":"IF(PLANTS!E373=\"\",\"\",PLANTS!E373)","v":"y"},"",{"$f":"IF(PLANTS!F373=\"\",\"\",PLANTS!F373)","v":"y"},"",0,null,75,"",null,0,{"$f":"IF(DE375=\"A\",PLANTS!H373,DE375)","v":"E"},20,null,"","","","",null,null,null,"","",null,null,null,null,null,null,{"$error":"#DIV/0!"},null,"",null," ","",null,"","","",0,0,"",0,"",null,"","","POLA4",{"$f":"IF(DC375=\"a\",PLANTS!I373,DMA!DC375)","v":2},{"$f":"IF(DD375=\"a\",PLANTS!G373,DMA!DD375)","v":75},null,null,null,null,null,null,null,null,null,{"$f":"PLANTS!I373","v":2},{"$f":"PLANTS!G373","v":75},{"$f":"PLANTS!H373","v":"E"},null,null,null,null,"",{"$f":"IF(DMA!DJ375=\"\",\"\",(DMA!N375-SUMIF(Graphs!$O$13:$O$199,DMA!$DJ375,Graphs!$V$13:$V$199))^2)","v":""},{"$f":"IF(DMA!DK375=\"\",\"\",(DMA!O375-SUMIF(Graphs!$O$13:$O$199,DMA!$DJ375,Graphs!$V$13:$V$199))^2)","v":""},{"$f":"IF(DMA!DL375=\"\",\"\",(DMA!P375-SUMIF(Graphs!$O$13:$O$199,DMA!$DJ375,Graphs!$V$13:$V$199))^2)","v":""},"",0,"",0]
[null,null,null,null,null,null,null,null,null,null,null,null,null,null,null,null,null,null,null,{"$f":"IF(A376=\"\",\"\",(Header!C$7*Header!C$6)*A376)","v":""},null,"","","","",null,null,null,null,null,null,null,null,null,null,null,null,null,null,null,{"$f":"IF(PLANTS!A374=\"\",\"\",PLANTS!A374)","v":"POLYG4"},2,"",0,{"$f":"IF(PLANTS!C374=\"\",\"\",PLANTS!C374)","v":""},"",{"$f":"IF(PLANTS!D374=\"\",\"\",PLANTS!D374)","v":""},"",{"$f":"IF(PLANTS!E374=\"\",\"\",PLANTS!E374)","v":"y"},"",{"$f":"IF(PLANTS!F374=\"\",\"\",PLANTS!F374)","v":"y"},"",0,null,50,"",null,0,{"$f":"IF(DE376=\"A\",PLANTS!H374,DE376)","v":"E"},20,null,"","","","",null,null,null,"","",null,null,null,null,null,null,{"$error":"#DIV/0!"},null,"",null," ","",null,"","","",0,"","","","",null,"","","POLYG4",{"$f":"IF(DC376=\"a\",PLANTS!I374,DMA!DC376)","v":2},{"$f":"IF(DD376=\"a\",PLANTS!G374,DMA!DD376)","v":50},null,null,null,null,null,null,null,null,null,{"$f":"PLANTS!I374","v":2},{"$f":"PLANTS!G374","v":50},{"$f":"PLANTS!H374","v":"E"},null,null,null,null,"",{"$f":"IF(DMA!DJ376=\"\",\"\",(DMA!N376-SUMIF(Graphs!$O$13:$O$199,DMA!$DJ376,Graphs!$V$13:$V$199))^2)","v":""},{"$f":"IF(DMA!DK376=\"\",\"\",(DMA!O376-SUMIF(Graphs!$O$13:$O$199,DMA!$DJ376,Graphs!$V$13:$V$199))^2)","v":""},{"$f":"IF(DMA!DL376=\"\",\"\",(DMA!P376-SUMIF(Graphs!$O$13:$O$199,DMA!$DJ376,Graphs!$V$13:$V$199))^2)","v":""},"",0,"",0]
[null,null,null,null,null,null,null,null,null,null,null,null,null,null,null,null,null,null,null,{"$f":"IF(A377=\"\",\"\",(Header!C$7*Header!C$6)*A377)","v":""},null,"","","","",null,null,null,null,null,null,null,null,null,null,null,null,null,null,null,{"$f":"IF(PLANTS!A375=\"\",\"\",PLANTS!A375)","v":"POMO5"},2,"",0,{"$f":"IF(PLANTS!C375=\"\",\"\",PLANTS!C375)","v":""},"",{"$f":"IF(PLANTS!D375=\"\",\"\",PLANTS!D375)","v":"y"},"",{"$f":"IF(PLANTS!E375=\"\",\"\",PLANTS!E375)","v":"y"},"",{"$f":"IF(PLANTS!F375=\"\",\"\",PLANTS!F375)","v":""},"",0,null,75,"",null,0,{"$f":"IF(DE377=\"A\",PLANTS!H375,DE377)","v":"E"},20,null,"","","","",null,null,null,"","",null,null,null,null,null,null,{"$error":"#DIV/0!"},null,"",null," ","",null,"","","","",0,"",0,"",null,"","","POMO5",{"$f":"IF(DC377=\"a\",PLANTS!I375,DMA!DC377)","v":2},{"$f":"IF(DD377=\"a\",PLANTS!G375,DMA!DD377)","v":75},null,null,null,null,null,null,null,null,null,{"$f":"PLANTS!I375","v":2},{"$f":"PLANTS!G375","v":75},{"$f":"PLANTS!H375","v":"E"},null,null,null,null,"",{"$f":"IF(DMA!DJ377=\"\",\"\",(DMA!N377-SUMIF(Graphs!$O$13:$O$199,DMA!$DJ377,Graphs!$V$13:$V$199))^2)","v":""},{"$f":"IF(DMA!DK377=\"\",\"\",(DMA!O377-SUMIF(Graphs!$O$13:$O$199,DMA!$DJ377,Graphs!$V$13:$V$199))^2)","v":""},{"$f":"IF(DMA!DL377=\"\",\"\",(DMA!P377-SUMIF(Graphs!$O$13:$O$199,DMA!$DJ377,Graphs!$V$13:$V$199))^2)","v":""},"",0,"",0]
[null,null,null,null,null,null,null,null,null,null,null,null,null,null,null,null,null,null,null,{"$f":"IF(A378=\"\",\"\",(Header!C$7*Header!C$6)*A378)","v":""},null,"","","","",null,null,null,null,null,null,null,null,null,null,null,null,null,null,null,{"$f":"IF(PLANTS!A376=\"\",\"\",PLANTS!A376)","v":"PONE3"},2,"",0,{"$f":"IF(PLANTS!C376=\"\",\"\",PLANTS!C376)","v":""},"",{"$f":"IF(PLANTS!D376=\"\",\"\",PLANTS!D376)","v":""},"",{"$f":"IF(PLANTS!E376=\"\",\"\",PLANTS!E376)","v":"y"},"",{"$f":"IF(PLANTS!F376=\"\",\"\",PLANTS!F376)","v":""},"",0,null,25,"",null,0,{"$f":"IF(DE378=\"A\",PLANTS!H376,DE378)","v":"E"},20,null,"","","","",null,null,null,"","",null,null,null,null,null,null,{"$error":"#DIV/0!"},null,"",null," ","",null,"","","","","","","","",null,"","","PONE3",{"$f":"IF(DC378=\"a\",PLANTS!I376,DMA!DC378)","v":2},{"$f":"IF(DD378=\"a\",PLANTS!G376,DMA!DD378)","v":25},null,null,null,null,null,null,null,null,null,{"$f":"PLANTS!I376","v":2},{"$f":"PLANTS!G376","v":25},{"$f":"PLANTS!H376","v":"E"},null,null,null,null,"",{"$f":"IF(DMA!DJ378=\"\",\"\",(DMA!N378-SUMIF(Graphs!$O$13:$O$199,DMA!$DJ378,Graphs!$V$13:$V$199))^2)","v":""},{"$f":"IF(DMA!DK378=\"\",\"\",(DMA!O378-SUMIF(Graphs!$O$13:$O$199,DMA!$DJ378,Graphs!$V$13:$V$199))^2)","v":""},{"$f":"IF(DMA!DL378=\"\",\"\",(DMA!P378-SUMIF(Graphs!$O$13:$O$199,DMA!$DJ378,Graphs!$V$13:$V$199))^2)","v":""},"",0,"",0]
[null,null,null,null,null,null,null,null,null,null,null,null,null,null,null,null,null,null,null,{"$f":"IF(A379=\"\",\"\",(Header!C$7*Header!C$6)*A379)","v":""},null,"","","","",null,null,null,null,null,null,null,null,null,null,null,null,null,null,null,{"$f":"IF(PLANTS!A377=\"\",\"\",PLANTS!A377)","v":"POOC2"},2,"",0,{"$f":"IF(PLANTS!C377=\"\",\"\",PLANTS!C377)","v":""},"",{"$f":"IF(PLANTS!D377=\"\",\"\",PLANTS!D377)","v":"y"},"",{"$f":"IF(PLANTS!E377=\"\",\"\",PLANTS!E377)","v":"y"},"",{"$f":"IF(PLANTS!F377=\"\",\"\",PLANTS!F377)","v":"y"},"",0,null,75,"",null,0,{"$f":"IF(DE379=\"A\",PLANTS!H377,DE379)","v":"E"},20,null,"","","","",null,null,null,"","",null,null,null,null,null,null,{"$error":"#DIV/0!"},null,"",null," ","",null,"","","",0,0,"",0,"",null,"","","POOC2",{"$f":"IF(DC379=\"a\",PLANTS!I377,DMA!DC379)","v":2},{"$f":"IF(DD379=\"a\",PLANTS!G377,DMA!DD379)","v":75},null,null,null,null,null,null,null,null,null,{"$f":"PLANTS!I377","v":2},{"$f":"PLANTS!G377","v":75},{"$f":"PLANTS!H377","v":"E"},null,null,null,null,"",{"$f":"IF(DMA!DJ379=\"\",\"\",(DMA!N379-SUMIF(Graphs!$O$13:$O$199,DMA!$DJ379,Graphs!$V$13:$V$199))^2)","v":""},{"$f":"IF(DMA!DK379=\"\",\"\",(DMA!O379-SUMIF(Graphs!$O$13:$O$199,DMA!$DJ379,Graphs!$V$13:$V$199))^2)","v":""},{"$f":"IF(DMA!DL379=\"\",\"\",(DMA!P379-SUMIF(Graphs!$O$13:$O$199,DMA!$DJ379,Graphs!$V$13:$V$199))^2)","v":""},"",0,"",0]
[null,null,null,null,null,null,null,null,null,null,null,null,null,null,null,null,null,null,null,{"$f":"IF(A380=\"\",\"\",(Header!C$7*Header!C$6)*A380)","v":""},null,"","","","",null,null,null,null,null,null,null,null,null,null,null,null,null,null,null,{"$f":"IF(PLANTS!A378=\"\",\"\",PLANTS!A378)","v":"POPA14"},2,"",0,{"$f":"IF(PLANTS!C378=\"\",\"\",PLANTS!C378)","v":""},"",{"$f":"IF(PLANTS!D378=\"\",\"\",PLANTS!D378)","v":"y"},"",{"$f":"IF(PLANTS!E378=\"\",\"\",PLANTS!E378)","v":"y"},"",{"$f":"IF(PLANTS!F378=\"\",\"\",PLANTS!F378)","v":"y"},"",0,null,100,"",null,0,{"$f":"IF(DE380=\"A\",PLANTS!H378,DE380)","v":"M"},50,null,"","","","",null,null,null,"","",null,null,null,null,null,null,{"$error":"#DIV/0!"},null,"",null," ","",null,"","","",0,0,"",0,"",null,"","","POPA14",{"$f":"IF(DC380=\"a\",PLANTS!I378,DMA!DC380)","v":2},{"$f":"IF(DD380=\"a\",PLANTS!G378,DMA!DD380)","v":100},null,null,null,null,null,null,null,null,null,{"$f":"PLANTS!I378","v":2},{"$f":"PLANTS!G378","v":100},{"$f":"PLANTS!H378","v":"M"},null,null,null,null,"",{"$f":"IF(DMA!DJ380=\"\",\"\",(DMA!N380-SUMIF(Graphs!$O$13:$O$199,DMA!$DJ380,Graphs!$V$13:$V$199))^2)","v":""},{"$f":"IF(DMA!DK380=\"\",\"\",(DMA!O380-SUMIF(Graphs!$O$13:$O$199,DMA!$DJ380,Graphs!$V$13:$V$199))^2)","v":""},{"$f":"IF(DMA!DL380=\"\",\"\",(DMA!P380-SUMIF(Graphs!$O$13:$O$199,DMA!$DJ380,Graphs!$V$13:$V$199))^2)","v":""},"",0,"",0]
[null,null,null,null,null,null,null,null,null,null,null,null,null,null,null,null,null,null,null,{"$f":"IF(A381=\"\",\"\",(Header!C$7*Header!C$6)*A381)","v":""},null,"","","","",null,null,null,null,null,null,null,null,null,null,null,null,null,null,null,{"$f":"IF(PLANTS!A379=\"\",\"\",PLANTS!A379)","v":"POPA2"},2,"",0,{"$f":"IF(PLANTS!C379=\"\",\"\",PLANTS!C379)","v":""},"",{"$f":"IF(PLANTS!D379=\"\",\"\",PLANTS!D379)","v":""},"",{"$f":"IF(PLANTS!E379=\"\",\"\",PLANTS!E379)","v":"y"},"",{"$f":"IF(PLANTS!F379=\"\",\"\",PLANTS!F379)","v":""},"",0,null,50,"",null,0,{"$f":"IF(DE381=\"A\",PLANTS!H379,DE381)","v":"E"},20,null,"","","","",null,null,null,"","",null,null,null,null,null,null,{"$error":"#DIV/0!"},null,"",null," ","",null,"","","","","","","","",null,"","","POPA2",{"$f":"IF(DC381=\"a\",PLANTS!I379,DMA!DC381)","v":2},{"$f":"IF(DD381=\"a\",PLANTS!G379,DMA!DD381)","v":50},null,null,null,null,null,null,null,null,null,{"$f":"PLANTS!I379","v":2},{"$f":"PLANTS!G379","v":50},{"$f":"PLANTS!H379","v":"E"},null,null,null,null,"",{"$f":"IF(DMA!DJ381=\"\",\"\",(DMA!N381-SUMIF(Graphs!$O$13:$O$199,DMA!$DJ381,Graphs!$V$13:$V$199))^2)","v":""},{"$f":"IF(DMA!DK381=\"\",\"\",(DMA!O381-SUMIF(Graphs!$O$13:$O$199,DMA!$DJ381,Graphs!$V$13:$V$199))^2)","v":""},{"$f":"IF(DMA!DL381=\"\",\"\",(DMA!P381-SUMIF(Graphs!$O$13:$O$199,DMA!$DJ381,Graphs!$V$13:$V$199))^2)","v":""},"",0,"",0]
[null,null,null,null,null,null,null,null,null,null,null,null,null,null,null,null,null,null,null,{"$f":"IF(A382=\"\",\"\",(Header!C$7*Header!C$6)*A382)","v":""},null,"","","","",null,null,null,null,null,null,null,null,null,null,null,null,null,null,null,{"$f":"IF(PLANTS!A380=\"\",\"\",PLANTS!A380)","v":"POPE2"},2,"",0,{"$f":"IF(PLANTS!C380=\"\",\"\",PLANTS!C380)","v":""},"",{"$f":"IF(PLANTS!D380=\"\",\"\",PLANTS!D380)","v":"y"},"",{"$f":"IF(PLANTS!E380=\"\",\"\",PLANTS!E380)","v":"y"},"",{"$f":"IF(PLANTS!F380=\"\",\"\",PLANTS!F380)","v":"y"},"",0,null,75,"",null,0,{"$f":"IF(DE382=\"A\",PLANTS!H380,DE382)","v":"E"},20,null,"","","","",null,null,null,"","",null,null,null,null,null,null,{"$error":"#DIV/0!"},null,"",null," ","",null,"","","",0,0,"",0,"",null,"","","POPE2",{"$f":"IF(DC382=\"a\",PLANTS!I380,DMA!DC382)","v":2},{"$f":"IF(DD382=\"a\",PLANTS!G380,DMA!DD382)","v":75},null,null,null,null,null,null,null,null,null,{"$f":"PLANTS!I380","v":2},{"$f":"PLANTS!G380","v":75},{"$f":"PLANTS!H380","v":"E"},null,null,null,null,"",{"$f":"IF(DMA!DJ382=\"\",\"\",(DMA!N382-SUMIF(Graphs!$O$13:$O$199,DMA!$DJ382,Graphs!$V$13:$V$199))^2)","v":""},{"$f":"IF(DMA!DK382=\"\",\"\",(DMA!O382-SUMIF(Graphs!$O$13:$O$199,DMA!$DJ382,Graphs!$V$13:$V$199))^2)","v":""},{"$f":"IF(DMA!DL382=\"\",\"\",(DMA!P382-SUMIF(Graphs!$O$13:$O$199,DMA!$DJ382,Graphs!$V$13:$V$199))^2)","v":""},"",0,"",0]
[null,null,null,null,null,null,null,null,null,null,null,null,null,null,null,null,null,null,null,{"$f":"IF(A383=\"\",\"\",(Header!C$7*Header!C$6)*A383)","v":""},null,"","","","",null,null,null,null,null,null,null,null,null,null,null,null,null,null,null,{"$f":"IF(PLANTS!A381=\"\",\"\",PLANTS!A381)","v":"POPE3"},2,"",0,{"$f":"IF(PLANTS!C381=\"\",\"\",PLANTS!C381)","v":""},"",{"$f":"IF(PLANTS!D381=\"\",\"\",PLANTS!D381)","v":"y"},"",{"$f":"IF(PLANTS!E381=\"\",\"\",PLANTS!E381)","v":"y"},"",{"$f":"IF(PLANTS!F381=\"\",\"\",PLANTS!F381)","v":"y"},"",0,null,75,"",null,0,{"$f":"IF(DE383=\"A\",PLANTS!H381,DE383)","v":"E"},20,null,"","","","",null,null,null,"","",null,null,null,null,null,null,{"$error":"#DIV/0!"},null,"",null," ","",null,"","","",0,0,"",0,"",null,"","","POPE3",{"$f":"IF(DC383=\"a\",PLANTS!I381,DMA!DC383)","v":2},{"$f":"IF(DD383=\"a\",PLANTS!G381,DMA!DD383)","v":75},null,null,null,null,null,null,null,null,null,{"$f":"PLANTS!I381","v":2},{"$f":"PLANTS!G381","v":75},{"$f":"PLANTS!H381","v":"E"},null,null,null,null,"",{"$f":"IF(DMA!DJ383=\"\",\"\",(DMA!N383-SUMIF(Graphs!$O$13:$O$199,DMA!$DJ383,Graphs!$V$13:$V$199))^2)","v":""},{"$f":"IF(DMA!DK383=\"\",\"\",(DMA!O383-SUMIF(Graphs!$O$13:$O$199,DMA!$DJ383,Graphs!$V$13:$V$199))^2)","v":""},{"$f":"IF(DMA!DL383=\"\",\"\",(DMA!P383-SUMIF(Graphs!$O$13:$O$199,DMA!$DJ383,Graphs!$V$13:$V$199))^2)","v":""},"",0,"",0]
[null,null,null,null,null,null,null,null,null,null,null,null,null,null,null,null,null,null,null,{"$f":"IF(A384=\"\",\"\",(Header!C$7*Header!C$6)*A384)","v":""},null,"","","","",null,null,null,null,null,null,null,null,null,null,null,null,null,null,null,{"$f":"IF(PLANTS!A382=\"\",\"\",PLANTS!A382)","v":"POPE8"},2,"",0,{"$f":"IF(PLANTS!C382=\"\",\"\",PLANTS!C382)","v":""},"",{"$f":"IF(PLANTS!D382=\"\",\"\",PLANTS!D382)","v":""},"",{"$f":"IF(PLANTS!E382=\"\",\"\",PLANTS!E382)","v":"y"},"",{"$f":"IF(PLANTS!F382=\"\",\"\",PLANTS!F382)","v":"y"},"",0,null,25,"",null,0,{"$f":"IF(DE384=\"A\",PLANTS!H382,DE384)","v":"M"},50,null,"","","","",null,null,null,"","",null,null,null,null,null,null,{"$error":"#DIV/0!"},null,"",null," ","",null,"","","",0,"","","","",null,"","","POPE8",{"$f":"IF(DC384=\"a\",PLANTS!I382,DMA!DC384)","v":2},{"$f":"IF(DD384=\"a\",PLANTS!G382,DMA!DD384)","v":25},null,null,null,null,null,null,null,null,null,{"$f":"PLANTS!I382","v":2},{"$f":"PLANTS!G382","v":25},{"$f":"PLANTS!H382","v":"M"},null,null,null,null,"",{"$f":"IF(DMA!DJ384=\"\",\"\",(DMA!N384-SUMIF(Graphs!$O$13:$O$199,DMA!$DJ384,Graphs!$V$13:$V$199))^2)","v":""},{"$f":"IF(DMA!DK384=\"\",\"\",(DMA!O384-SUMIF(Graphs!$O$13:$O$199,DMA!$DJ384,Graphs!$V$13:$V$199))^2)","v":""},{"$f":"IF(DMA!DL384=\"\",\"\",(DMA!P384-SUMIF(Graphs!$O$13:$O$199,DMA!$DJ384,Graphs!$V$13:$V$199))^2)","v":""},"",0,"",0]
[null,null,null,null,null,null,null,null,null,null,null,null,null,null,null,null,null,null,null,{"$f":"IF(A385=\"\",\"\",(Header!C$7*Header!C$6)*A385)","v":""},null,"","","","",null,null,null,null,null,null,null,null,null,null,null,null,null,null,null,{"$f":"IF(PLANTS!A383=\"\",\"\",PLANTS!A383)","v":"POPO4"},2,"",0,{"$f":"IF(PLANTS!C383=\"\",\"\",PLANTS!C383)","v":""},"",{"$f":"IF(PLANTS!D383=\"\",\"\",PLANTS!D383)","v":"y"},"",{"$f":"IF(PLANTS!E383=\"\",\"\",PLANTS!E383)","v":"y"},"",{"$f":"IF(PLANTS!F383=\"\",\"\",PLANTS!F383)","v":"y"},"",0,null,75,"",null,0,{"$f":"IF(DE385=\"A\",PLANTS!H383,DE385)","v":"E"},20,null,"","","","",null,null,null,"","",null,null,null,null,null,null,{"$error":"#DIV/0!"},null,"",null," ","",null,"","","",0,0,"",0,"",null,"","","POPO4",{"$f":"IF(DC385=\"a\",PLANTS!I383,DMA!DC385)","v":2},{"$f":"IF(DD385=\"a\",PLANTS!G383,DMA!DD385)","v":75},null,null,null,null,null,null,null,null,null,{"$f":"PLANTS!I383","v":2},{"$f":"PLANTS!G383","v":75},{"$f":"PLANTS!H383","v":"E"},null,null,null,null,"",{"$f":"IF(DMA!DJ385=\"\",\"\",(DMA!N385-SUMIF(Graphs!$O$13:$O$199,DMA!$DJ385,Graphs!$V$13:$V$199))^2)","v":""},{"$f":"IF(DMA!DK385=\"\",\"\",(DMA!O385-SUMIF(Graphs!$O$13:$O$199,DMA!$DJ385,Graphs!$V$13:$V$199))^2)","v":""},{"$f":"IF(DMA!DL385=\"\",\"\",(DMA!P385-SUMIF(Graphs!$O$13:$O$199,DMA!$DJ385,Graphs!$V$13:$V$199))^2)","v":""},"",0,"",0]
[null,null,null,null,null,null,null,null,null,null,null,null,null,null,null,null,null,null,null,{"$f":"IF(A386=\"\",\"\",(Header!C$7*Header!C$6)*A386)","v":""},null,"","","","",null,null,null,null,null,null,null,null,null,null,null,null,null,null,null,{"$f":"IF(PLANTS!A384=\"\",\"\",PLANTS!A384)","v":"POPR"},2,"",0,{"$f":"IF(PLANTS!C384=\"\",\"\",PLANTS!C384)","v":""},"",{"$f":"IF(PLANTS!D384=\"\",\"\",PLANTS!D384)","v":""},"",{"$f":"IF(PLANTS!E384=\"\",\"\",PLANTS!E384)","v":"y"},"",{"$f":"IF(PLANTS!F384=\"\",\"\",PLANTS!F384)","v":""},"",0,null,50,"",null,0,{"$f":"IF(DE386=\"A\",PLANTS!H384,DE386)","v":"E"},20,null,"","","","",null,null,null,"","",null,null,null,null,null,null,{"$error":"#DIV/0!"},null,"",null," ","",null,"","","","","","","","",null,"","","POPR",{"$f":"IF(DC386=\"a\",PLANTS!I384,DMA!DC386)","v":2},{"$f":"IF(DD386=\"a\",PLANTS!G384,DMA!DD386)","v":50},null,null,null,null,null,null,null,null,null,{"$f":"PLANTS!I384","v":2},{"$f":"PLANTS!G384","v":50},{"$f":"PLANTS!H384","v":"E"},null,null,null,null,"",{"$f":"IF(DMA!DJ386=\"\",\"\",(DMA!N386-SUMIF(Graphs!$O$13:$O$199,DMA!$DJ386,Graphs!$V$13:$V$199))^2)","v":""},{"$f":"IF(DMA!DK386=\"\",\"\",(DMA!O386-SUMIF(Graphs!$O$13:$O$199,DMA!$DJ386,Graphs!$V$13:$V$199))^2)","v":""},{"$f":"IF(DMA!DL386=\"\",\"\",(DMA!P386-SUMIF(Graphs!$O$13:$O$199,DMA!$DJ386,Graphs!$V$13:$V$199))^2)","v":""},"",0,"",0]
[null,null,null,null,null,null,null,null,null,null,null,null,null,null,null,null,null,null,null,{"$f":"IF(A387=\"\",\"\",(Header!C$7*Header!C$6)*A387)","v":""},null,"","","","",null,null,null,null,null,null,null,null,null,null,null,null,null,null,null,{"$f":"IF(PLANTS!A385=\"\",\"\",PLANTS!A385)","v":"POPU5"},2,"",0,{"$f":"IF(PLANTS!C385=\"\",\"\",PLANTS!C385)","v":""},"",{"$f":"IF(PLANTS!D385=\"\",\"\",PLANTS!D385)","v":"y"},"",{"$f":"IF(PLANTS!E385=\"\",\"\",PLANTS!E385)","v":"y"},"",{"$f":"IF(PLANTS!F385=\"\",\"\",PLANTS!F385)","v":"y"},"",0,null,75,"",null,0,{"$f":"IF(DE387=\"A\",PLANTS!H385,DE387)","v":"E"},20,null,"","","","",null,null,null,"","",null,null,null,null,null,null,{"$error":"#DIV/0!"},null,"",null," ","",null,"","","",0,0,"",0,"",null,"","","POPU5",{"$f":"IF(DC387=\"a\",PLANTS!I385,DMA!DC387)","v":2},{"$f":"IF(DD387=\"a\",PLANTS!G385,DMA!DD387)","v":75},null,null,null,null,null,null,null,null,null,{"$f":"PLANTS!I385","v":2},{"$f":"PLANTS!G385","v":75},{"$f":"PLANTS!H385","v":"E"},null,null,null,null,"",{"$f":"IF(DMA!DJ387=\"\",\"\",(DMA!N387-SUMIF(Graphs!$O$13:$O$199,DMA!$DJ387,Graphs!$V$13:$V$199))^2)","v":""},{"$f":"IF(DMA!DK387=\"\",\"\",(DMA!O387-SUMIF(Graphs!$O$13:$O$199,DMA!$DJ387,Graphs!$V$13:$V$199))^2)","v":""},{"$f":"IF(DMA!DL387=\"\",\"\",(DMA!P387-SUMIF(Graphs!$O$13:$O$199,DMA!$DJ387,Graphs!$V$13:$V$199))^2)","v":""},"",0,"",0]
[null,null,null,null,null,null,null,null,null,null,null,null,null,null,null,null,null,null,null,{"$f":"IF(A388=\"\",\"\",(Header!C$7*Header!C$6)*A388)","v":""},null,"","","","",null,null,null,null,null,null,null,null,null,null,null,null,null,null,null,{"$f":"IF(PLANTS!A386=\"\",\"\",PLANTS!A386)","v":"POPUL"},8.5,"",0,{"$f":"IF(PLANTS!C386=\"\",\"\",PLANTS!C386)","v":"y"},"",{"$f":"IF(PLANTS!D386=\"\",\"\",PLANTS!D386)","v":""},"",{"$f":"IF(PLANTS!E386=\"\",\"\",PLANTS!E386)","v":""},"",{"$f":"IF(PLANTS!F386=\"\",\"\",PLANTS!F386)","v":""},"",0,null,50,"",null,0,{"$f":"IF(DE388=\"A\",PLANTS!H386,DE388)","v":"L"},80,null,"","","","",null,null,null,"","",null,null,null,null,null,null,{"$error":"#DIV/0!"},null,"",null," ","",null,"","","","","",0,"","",null,"","","POPUL",{"$f":"IF(DC388=\"a\",PLANTS!I386,DMA!DC388)","v":8.5},{"$f":"IF(DD388=\"a\",PLANTS!G386,DMA!DD388)","v":50},null,null,null,null,null,null,null,null,null,{"$f":"PLANTS!I386","v":8.5},{"$f":"PLANTS!G386","v":50},{"$f":"PLANTS!H386","v":"L"},null,null,null,null,"",{"$f":"IF(DMA!DJ388=\"\",\"\",(DMA!N388-SUMIF(Graphs!$O$13:$O$199,DMA!$DJ388,Graphs!$V$13:$V$199))^2)","v":""},{"$f":"IF(DMA!DK388=\"\",\"\",(DMA!O388-SUMIF(Graphs!$O$13:$O$199,DMA!$DJ388,Graphs!$V$13:$V$199))^2)","v":""},{"$f":"IF(DMA!DL388=\"\",\"\",(DMA!P388-SUMIF(Graphs!$O$13:$O$199,DMA!$DJ388,Graphs!$V$13:$V$199))^2)","v":""},"",0,"",0]
[null,null,null,null,null,null,null,null,null,null,null,null,null,null,null,null,null,null,null,{"$f":"IF(A389=\"\",\"\",(Header!C$7*Header!C$6)*A389)","v":""},null,"","","","",null,null,null,null,null,null,null,null,null,null,null,null,null,null,null,{"$f":"IF(PLANTS!A387=\"\",\"\",PLANTS!A387)","v":"POSE"},2,"",{"$f":"SUMIF(B$5:B$504,AO389,D$5:D$504)","v":0},{"$f":"IF(PLANTS!C387=\"\",\"\",PLANTS!C387)","v":""},{"$f":"IF($AQ389=\"\",\"\",IF($AQ389>0,IF(AS389=\"y\",COUNTIF(B$5:B$504,AO389)/AP$605,\"\"),\"\"))","v":""},{"$f":"IF(PLANTS!D387=\"\",\"\",PLANTS!D387)","v":""},{"$f":"IF($AQ389=\"\",\"\",IF($AQ389>0,IF(AU389=\"y\",COUNTIF($B$5:$B$504,$AO389)/$AP$605,\"\"),\"\"))","v":""},{"$f":"IF(PLANTS!E387=\"\",\"\",PLANTS!E387)","v":"y"},"",{"$f":"IF(PLANTS!F387=\"\",\"\",PLANTS!F387)","v":""},{"$f":"IF($AQ389=\"\",\"\",IF($AQ389>0,IF(AY389=\"y\",COUNTIF($B$5:$B$504,$AO389)/$AP$605,\"\"),\"\"))","v":""},{"$f":"IF(AQ389<>\"\",AQ389/AQ$604,0)","v":0},null,25,"",null,0,{"$f":"IF(DE389=\"A\",PLANTS!H387,DE389)","v":"E"},20,null,"","","","",null,null,null,"","",null,null,null,null,null,null,{"$error":"#DIV/0!"},null,"",null," ","",null,"","","","","","","","",null,"","","POSE",{"$f":"IF(DC389=\"a\",PLANTS!I387,DMA!DC389)","v":2},{"$f":"IF(DD389=\"a\",PLANTS!G387,DMA!DD389)","v":25},null,null,null,null,null,null,null,null,null,{"$f":"PLANTS!I387","v":2},{"$f":"PLANTS!G387","v":25},{"$f":"PLANTS!H387","v":"E"},null,null,null,null,"",{"$f":"IF(DMA!DJ389=\"\",\"\",(DMA!N389-SUMIF(Graphs!$O$13:$O$199,DMA!$DJ389,Graphs!$V$13:$V$199))^2)","v":""},{"$f":"IF(DMA!DK389=\"\",\"\",(DMA!O389-SUMIF(Graphs!$O$13:$O$199,DMA!$DJ389,Graphs!$V$13:$V$199))^2)","v":""},{"$f":"IF(DMA!DL389=\"\",\"\",(DMA!P389-SUMIF(Graphs!$O$13:$O$199,DMA!$DJ389,Graphs!$V$13:$V$199))^2)","v":""},"",{"$f":"IF(DN389<>\"\",DN389/DN$604,0)","v":0},"",0]
[null,null,null,null,null,null,null,null,null,null,null,null,null,null,null,null,null,null,null,{"$f":"IF(A390=\"\",\"\",(Header!C$7*Header!C$6)*A390)","v":""},null,"","","",{"$f":"IF($X390=\"cs\",1,IF($X390=\"cu\",2,IF($X390=\"us\",3,IF($X390=\"uu\",4,\"\"))))","v":""},null,null,null,null,null,null,null,null,null,null,null,null,null,null,null,{"$f":"IF(PLANTS!A388=\"\",\"\",PLANTS!A388)","v":"POTR15"},{"$f":"CR390","v":8.5},{"$f":"IF(AO390=\"\",\"\",IF(COUNTIF(B$5:B$504,AO390)=0,\"\",SUMIF(B$5:B$504,AO390,C$5:C$504)))","v":""},0,{"$f":"IF(PLANTS!C388=\"\",\"\",PLANTS!C388)","v":"y"},"",{"$f":"IF(PLANTS!D388=\"\",\"\",PLANTS!D388)","v":""},"",{"$f":"IF(PLANTS!E388=\"\",\"\",PLANTS!E388)","v":""},"",{"$f":"IF(PLANTS!F388=\"\",\"\",PLANTS!F388)","v":""},"",0,null,{"$f":"CS390","v":50},{"$f":"IF(AQ390<>\"\",BA390*$BC390,\"\")","v":""},null,{"$f":"(BA390*AP390)","v":0},{"$f":"IF(DE390=\"A\",PLANTS!H388,DE390)","v":"L"},80,null,{"$f":"IF($X390=\"cs\",1,IF($X390=\"fb\",1,IF($X390=\"cu\",2,IF($X390=\"us\",3,IF($X390=\"uu\",4,\"\")))))","v":""},{"$f":"IF(Y390=\"\",\"\",IF(Y390<3,\"c\",IF(Y390>2,\"u\",\"\")))","v":""},{"$f":"IF(Y390=\"\",\"\",IF(Y390=1,\"s\",IF(Y390=3,\"s\",IF(Y390=2,\"u\",IF(Y390=4,\"u\",\"\")))))","v":""},{"$f":"IF(BJ390=0,\"\",BJ390)","v":""},null,null,null,"","",null,null,null,null,null,null,{"$error":"#DIV/0!"},null,{"$f":"IF(SUM(N390:Q390)=0,\"\",SUM(N390:Q390))","v":""},null," ",{"$f":"IF(D390+J390<1,\"\",1)","v":""},null,{"$f":"IF(D390=6,1,\"\")","v":""},{"$f":"IF(CF390<>\"\",C390,\"\")","v":""},{"$f":"IF(AR390>0,IF($CF390=\"y\",AR390/$AQ$604,\"\"),\"\")","v":""},{"$f":"IF(AY390=\"\",\"\",COUNTIF(B$5:B$503,AO390))","v":""},{"$f":"IF(AU390=\"\",\"\",COUNTIF(B$5:B$503,AO390))","v":""},{"$f":"IF(AS390=\"\",\"\",COUNTIF(B$5:B$503,AO390))","v":0},{"$f":"IF(AU390=\"\",\"\",IF(AW390=\"\",\"\",COUNTIF(B$5:B$503,AO390)))","v":""},{"$f":"IF(Q390=\"\",\"\",COUNTIF($AO$5:$AO$688,Q390))","v":""},null,{"$f":"IF(CQ390=\"\",\"\",IF(COUNTIF($B$5:$B$503,$CQ390)=0,\"\",SUMIF(B$5:B$503,CQ390,C$5:C$503)/COUNTIF($B$5:$B$503,$CQ390)))","v":""},{"$f":"IF(CQ390=\"\",\"\",IF(COUNTIF(B$5:B$503,CQ390)=0,\"\",COUNTIF(B$5:B$503,CQ390)/COUNTA(B$5:B$503)))","v":""},{"$f":"AO390","v":"POTR15"},{"$f":"IF(DC390=\"a\",PLANTS!I388,DMA!DC390)","v":8.5},{"$f":"IF(DD390=\"a\",PLANTS!G388,DMA!DD390)","v":50},null,null,null,null,null,null,null,null,null,{"$f":"PLANTS!I388","v":8.5},{"$f":"PLANTS!G388","v":50},{"$f":"PLANTS!H388","v":"L"},null,null,null,null,"",{"$f":"IF(DMA!DJ390=\"\",\"\",(DMA!N390-SUMIF(Graphs!$O$13:$O$199,DMA!$DJ390,Graphs!$V$13:$V$199))^2)","v":""},{"$f":"IF(DMA!DK390=\"\",\"\",(DMA!O390-SUMIF(Graphs!$O$13:$O$199,DMA!$DJ390,Graphs!$V$13:$V$199))^2)","v":""},{"$f":"IF(DMA!DL390=\"\",\"\",(DMA!P390-SUMIF(Graphs!$O$13:$O$199,DMA!$DJ390,Graphs!$V$13:$V$199))^2)","v":""},"",0,{"$f":"IF($AQ390<>\"\",$DO390*$BC390,\"\")","v":""},0]
[null,null,null,null,null,null,null,null,null,null,null,null,null,null,null,null,null,null,null,{"$f":"IF(A391=\"\",\"\",(Header!C$7*Header!C$6)*A391)","v":""},null,"","","","",null,null,null,null,null,null,null,null,null,null,null,null,null,null,null,{"$f":"IF(PLANTS!A389=\"\",\"\",PLANTS!A389)","v":"POTR5"},8.5,"",0,{"$f":"IF(PLANTS!C389=\"\",\"\",PLANTS!C389)","v":"y"},"",{"$f":"IF(PLANTS!D389=\"\",\"\",PLANTS!D389)","v":""},"",{"$f":"IF(PLANTS!E389=\"\",\"\",PLANTS!E389)","v":""},{"$f":"IF(AU391=\"y\",IF(AW391=\"y\",AV391,\"\"),\"\")","v":""},{"$f":"IF(PLANTS!F389=\"\",\"\",PLANTS!F389)","v":""},"",0,null,25,"",null,0,{"$f":"IF(DE391=\"A\",PLANTS!H389,DE391)","v":"L"},80,null,"","","","",null,null,null,"","",null,null,null,null,null,null,{"$error":"#DIV/0!"},null,"",null," ","",null,"","","","","",0,"","",null,"","","POTR5",{"$f":"IF(DC391=\"a\",PLANTS!I389,DMA!DC391)","v":8.5},{"$f":"IF(DD391=\"a\",PLANTS!G389,DMA!DD391)","v":25},null,null,null,null,null,null,null,null,null,{"$f":"PLANTS!I389","v":8.5},{"$f":"PLANTS!G389","v":25},{"$f":"PLANTS!H389","v":"L"},null,null,null,null,"",{"$f":"IF(DMA!DJ391=\"\",\"\",(DMA!N391-SUMIF(Graphs!$O$13:$O$199,DMA!$DJ391,Graphs!$V$13:$V$199))^2)","v":""},{"$f":"IF(DMA!DK391=\"\",\"\",(DMA!O391-SUMIF(Graphs!$O$13:$O$199,DMA!$DJ391,Graphs!$V$13:$V$199))^2)","v":""},{"$f":"IF(DMA!DL391=\"\",\"\",(DMA!P391-SUMIF(Graphs!$O$13:$O$199,DMA!$DJ391,Graphs!$V$13:$V$199))^2)","v":""},"",0,"",0]
[null,null,null,null,null,null,null,null,null,null,null,null,null,null,null,null,null,null,null,{"$f":"IF(A392=\"\",\"\",(Header!C$7*Header!C$6)*A392)","v":""},null,"","","","",null,null,null,null,null,null,null,null,null,null,null,null,null,null,null,{"$f":"IF(PLANTS!A390=\"\",\"\",PLANTS!A390)","v":"POVI9"},2,"",0,{"$f":"IF(PLANTS!C390=\"\",\"\",PLANTS!C390)","v":""},"",{"$f":"IF(PLANTS!D390=\"\",\"\",PLANTS!D390)","v":"y"},"",{"$f":"IF(PLANTS!E390=\"\",\"\",PLANTS!E390)","v":"y"},"",{"$f":"IF(PLANTS!F390=\"\",\"\",PLANTS!F390)","v":""},"",0,null,75,"",null,0,{"$f":"IF(DE392=\"A\",PLANTS!H390,DE392)","v":"E"},{"$f":"IF(BG392=\"l\",80,IF(BG392=\"m\",50,IF(BG392=\"E\",20)))","v":20},null,"","","","",null,null,null,"","",null,null,null,null,null,null,{"$error":"#DIV/0!"},null,"",null," ","",null,"","","","",0,"",0,"",null,"","","POVI9",{"$f":"IF(DC392=\"a\",PLANTS!I390,DMA!DC392)","v":2},{"$f":"IF(DD392=\"a\",PLANTS!G390,DMA!DD392)","v":75},null,null,null,null,null,null,null,null,null,{"$f":"PLANTS!I390","v":2},{"$f":"PLANTS!G390","v":75},{"$f":"PLANTS!H390","v":"E"},null,null,null,null,"",{"$f":"IF(DMA!DJ392=\"\",\"\",(DMA!N392-SUMIF(Graphs!$O$13:$O$199,DMA!$DJ392,Graphs!$V$13:$V$199))^2)","v":""},{"$f":"IF(DMA!DK392=\"\",\"\",(DMA!O392-SUMIF(Graphs!$O$13:$O$199,DMA!$DJ392,Graphs!$V$13:$V$199))^2)","v":""},{"$f":"IF(DMA!DL392=\"\",\"\",(DMA!P392-SUMIF(Graphs!$O$13:$O$199,DMA!$DJ392,Graphs!$V$13:$V$199))^2)","v":""},"",0,"",0]
[null,null,null,null,null,null,null,null,null,null,null,null,null,null,null,null,null,null,null,{"$f":"IF(A393=\"\",\"\",(Header!C$7*Header!C$6)*A393)","v":""},null,"","","","",null,null,null,null,null,null,null,null,null,null,null,null,null,null,null,{"$f":"IF(PLANTS!A391=\"\",\"\",PLANTS!A391)","v":"PRAM"},5,"",0,{"$f":"IF(PLANTS!C391=\"\",\"\",PLANTS!C391)","v":"y"},"",{"$f":"IF(PLANTS!D391=\"\",\"\",PLANTS!D391)","v":""},"",{"$f":"IF(PLANTS!E391=\"\",\"\",PLANTS!E391)","v":""},"",{"$f":"IF(PLANTS!F391=\"\",\"\",PLANTS!F391)","v":""},"",0,null,25,"",null,0,{"$f":"IF(DE393=\"A\",PLANTS!H391,DE393)","v":"E"},20,null,"","","","",null,null,null,"","",null,null,null,null,null,null,{"$error":"#DIV/0!"},null,"",null," ","",null,"","","","","",0,"","",null,"","","PRAM",{"$f":"IF(DC393=\"a\",PLANTS!I391,DMA!DC393)","v":5},{"$f":"IF(DD393=\"a\",PLANTS!G391,DMA!DD393)","v":25},null,null,null,null,null,null,null,null,null,{"$f":"PLANTS!I391","v":5},{"$f":"PLANTS!G391","v":25},{"$f":"PLANTS!H391","v":"E"},null,null,null,null,"",{"$f":"IF(DMA!DJ393=\"\",\"\",(DMA!N393-SUMIF(Graphs!$O$13:$O$199,DMA!$DJ393,Graphs!$V$13:$V$199))^2)","v":""},{"$f":"IF(DMA!DK393=\"\",\"\",(DMA!O393-SUMIF(Graphs!$O$13:$O$199,DMA!$DJ393,Graphs!$V$13:$V$199))^2)","v":""},{"$f":"IF(DMA!DL393=\"\",\"\",(DMA!P393-SUMIF(Graphs!$O$13:$O$199,DMA!$DJ393,Graphs!$V$13:$V$199))^2)","v":""},"",0,"",0]
[null,null,null,null,null,null,null,null,null,null,null,null,null,null,null,null,null,null,null,{"$f":"IF(A394=\"\",\"\",(Header!C$7*Header!C$6)*A394)","v":""},null,"","","","",null,null,null,null,null,null,null,null,null,null,null,null,null,null,null,{"$f":"IF(PLANTS!A392=\"\",\"\",PLANTS!A392)","v":"PRAN2"},5,"",0,{"$f":"IF(PLANTS!C392=\"\",\"\",PLANTS!C392)","v":"y"},"",{"$f":"IF(PLANTS!D392=\"\",\"\",PLANTS!D392)","v":""},"",{"$f":"IF(PLANTS!E392=\"\",\"\",PLANTS!E392)","v":""},"",{"$f":"IF(PLANTS!F392=\"\",\"\",PLANTS!F392)","v":""},"",0,null,0,"",null,0,{"$f":"IF(DE394=\"A\",PLANTS!H392,DE394)","v":"E"},20,null,"","","","",null,null,null,"","",null,null,null,null,null,null,{"$error":"#DIV/0!"},null,"",null," ","",null,"","","","","",0,"","",null,"","","PRAN2",{"$f":"IF(DC394=\"a\",PLANTS!I392,DMA!DC394)","v":5},{"$f":"IF(DD394=\"a\",PLANTS!G392,DMA!DD394)","v":0},null,null,null,null,null,null,null,null,null,{"$f":"PLANTS!I392","v":5},{"$f":"PLANTS!G392","v":0},{"$f":"PLANTS!H392","v":"E"},null,null,null,null,"",{"$f":"IF(DMA!DJ394=\"\",\"\",(DMA!N394-SUMIF(Graphs!$O$13:$O$199,DMA!$DJ394,Graphs!$V$13:$V$199))^2)","v":""},{"$f":"IF(DMA!DK394=\"\",\"\",(DMA!O394-SUMIF(Graphs!$O$13:$O$199,DMA!$DJ394,Graphs!$V$13:$V$199))^2)","v":""},{"$f":"IF(DMA!DL394=\"\",\"\",(DMA!P394-SUMIF(Graphs!$O$13:$O$199,DMA!$DJ394,Graphs!$V$13:$V$199))^2)","v":""},"",0,"",0]
[null,null,null,null,null,null,null,null,null,null,null,null,null,null,null,null,null,null,null,{"$f":"IF(A395=\"\",\"\",(Header!C$7*Header!C$6)*A395)","v":""},null,"","","","",null,null,null,null,null,null,null,null,null,null,null,null,null,null,null,{"$f":"IF(PLANTS!A393=\"\",\"\",PLANTS!A393)","v":"PREM"},5,"",0,{"$f":"IF(PLANTS!C393=\"\",\"\",PLANTS!C393)","v":"y"},"",{"$f":"IF(PLANTS!D393=\"\",\"\",PLANTS!D393)","v":""},"",{"$f":"IF(PLANTS!E393=\"\",\"\",PLANTS!E393)","v":""},"",{"$f":"IF(PLANTS!F393=\"\",\"\",PLANTS!F393)","v":""},"",0,null,25,"",null,0,{"$f":"IF(DE395=\"A\",PLANTS!H393,DE395)","v":"M"},50,null,"","","","",null,null,null,"","",null,null,null,null,null,null,{"$error":"#DIV/0!"},null,"",null," ","",null,"","","","","",0,"","",null,"","","PREM",{"$f":"IF(DC395=\"a\",PLANTS!I393,DMA!DC395)","v":5},{"$f":"IF(DD395=\"a\",PLANTS!G393,DMA!DD395)","v":25},null,null,null,null,null,null,null,null,null,{"$f":"PLANTS!I393","v":5},{"$f":"PLANTS!G393","v":25},{"$f":"PLANTS!H393","v":"M"},null,null,null,null,"",{"$f":"IF(DMA!DJ395=\"\",\"\",(DMA!N395-SUMIF(Graphs!$O$13:$O$199,DMA!$DJ395,Graphs!$V$13:$V$199))^2)","v":""},{"$f":"IF(DMA!DK395=\"\",\"\",(DMA!O395-SUMIF(Graphs!$O$13:$O$199,DMA!$DJ395,Graphs!$V$13:$V$199))^2)","v":""},{"$f":"IF(DMA!DL395=\"\",\"\",(DMA!P395-SUMIF(Graphs!$O$13:$O$199,DMA!$DJ395,Graphs!$V$13:$V$199))^2)","v":""},"",0,"",0]
[null,null,null,null,null,null,null,null,null,null,null,null,null,null,null,null,null,null,null,{"$f":"IF(A396=\"\",\"\",(Header!C$7*Header!C$6)*A396)","v":""},null,"","","","",null,null,null,null,null,null,null,null,null,null,null,null,null,null,null,{"$f":"IF(PLANTS!A394=\"\",\"\",PLANTS!A394)","v":"PRGL2"},5,"",0,{"$f":"IF(PLANTS!C394=\"\",\"\",PLANTS!C394)","v":"y"},"",{"$f":"IF(PLANTS!D394=\"\",\"\",PLANTS!D394)","v":""},"",{"$f":"IF(PLANTS!E394=\"\",\"\",PLANTS!E394)","v":""},"",{"$f":"IF(PLANTS!F394=\"\",\"\",PLANTS!F394)","v":""},"",0,null,0,"",null,0,{"$f":"IF(DE396=\"A\",PLANTS!H394,DE396)","v":"E"},20,null,"","","","",null,null,null,"","",null,null,null,null,null,null,{"$error":"#DIV/0!"},null,"",null," ","",null,"","","","","",0,"","",null,"","","PRGL2",{"$f":"IF(DC396=\"a\",PLANTS!I394,DMA!DC396)","v":5},{"$f":"IF(DD396=\"a\",PLANTS!G394,DMA!DD396)","v":0},null,null,null,null,null,null,null,null,null,{"$f":"PLANTS!I394","v":5},{"$f":"PLANTS!G394","v":0},{"$f":"PLANTS!H394","v":"E"},null,null,null,null,"",{"$f":"IF(DMA!DJ396=\"\",\"\",(DMA!N396-SUMIF(Graphs!$O$13:$O$199,DMA!$DJ396,Graphs!$V$13:$V$199))^2)","v":""},{"$f":"IF(DMA!DK396=\"\",\"\",(DMA!O396-SUMIF(Graphs!$O$13:$O$199,DMA!$DJ396,Graphs!$V$13:$V$199))^2)","v":""},{"$f":"IF(DMA!DL396=\"\",\"\",(DMA!P396-SUMIF(Graphs!$O$13:$O$199,DMA!$DJ396,Graphs!$V$13:$V$199))^2)","v":""},"",0,"",0]
[null,null,null,null,null,null,null,null,null,null,null,null,null,null,null,null,null,null,null,{"$f":"IF(A397=\"\",\"\",(Header!C$7*Header!C$6)*A397)","v":""},null,"","","","",null,null,null,null,null,null,null,null,null,null,null,null,null,null,null,{"$f":"IF(PLANTS!A395=\"\",\"\",PLANTS!A395)","v":"PRPU"},8.5,"",0,{"$f":"IF(PLANTS!C395=\"\",\"\",PLANTS!C395)","v":"y"},"",{"$f":"IF(PLANTS!D395=\"\",\"\",PLANTS!D395)","v":""},"",{"$f":"IF(PLANTS!E395=\"\",\"\",PLANTS!E395)","v":""},"",{"$f":"IF(PLANTS!F395=\"\",\"\",PLANTS!F395)","v":""},"",0,null,50,"",null,0,{"$f":"IF(DE397=\"A\",PLANTS!H395,DE397)","v":"M"},50,null,"","","","",null,null,null,"","",null,null,null,null,null,null,{"$error":"#DIV/0!"},null,"",null," ","",null,"","","","","",0,"","",null,"","","PRPU",{"$f":"IF(DC397=\"a\",PLANTS!I395,DMA!DC397)","v":8.5},{"$f":"IF(DD397=\"a\",PLANTS!G395,DMA!DD397)","v":50},null,null,null,null,null,null,null,null,null,{"$f":"PLANTS!I395","v":8.5},{"$f":"PLANTS!G395","v":50},{"$f":"PLANTS!H395","v":"M"},null,null,null,null,"",{"$f":"IF(DMA!DJ397=\"\",\"\",(DMA!N397-SUMIF(Graphs!$O$13:$O$199,DMA!$DJ397,Graphs!$V$13:$V$199))^2)","v":""},{"$f":"IF(DMA!DK397=\"\",\"\",(DMA!O397-SUMIF(Graphs!$O$13:$O$199,DMA!$DJ397,Graphs!$V$13:$V$199))^2)","v":""},{"$f":"IF(DMA!DL397=\"\",\"\",(DMA!P397-SUMIF(Graphs!$O$13:$O$199,DMA!$DJ397,Graphs!$V$13:$V$199))^2)","v":""},"",0,"",0]
[null,null,null,null,null,null,null,null,null,null,null,null,null,null,null,null,null,null,null,{"$f":"IF(A398=\"\",\"\",(Header!C$7*Header!C$6)*A398)","v":""},null,"","","","",null,null,null,null,null,null,null,null,null,null,null,null,null,null,null,{"$f":"IF(PLANTS!A396=\"\",\"\",PLANTS!A396)","v":"PRUNU"},5,"",0,{"$f":"IF(PLANTS!C396=\"\",\"\",PLANTS!C396)","v":"y"},"",{"$f":"IF(PLANTS!D396=\"\",\"\",PLANTS!D396)","v":""},"",{"$f":"IF(PLANTS!E396=\"\",\"\",PLANTS!E396)","v":""},"",{"$f":"IF(PLANTS!F396=\"\",\"\",PLANTS!F396)","v":""},"",0,null,25,"",null,0,{"$f":"IF(DE398=\"A\",PLANTS!H396,DE398)","v":"M"},50,null,"","","","",null,null,null,"","",null,null,null,null,null,null,{"$error":"#DIV/0!"},null,"",null," ","",null,"","","","","",0,"","",null,"","","PRUNU",{"$f":"IF(DC398=\"a\",PLANTS!I396,DMA!DC398)","v":5},{"$f":"IF(DD398=\"a\",PLANTS!G396,DMA!DD398)","v":25},null,null,null,null,null,null,null,null,null,{"$f":"PLANTS!I396","v":5},{"$f":"PLANTS!G396","v":25},{"$f":"PLANTS!H396","v":"M"},null,null,null,null,"",{"$f":"IF(DMA!DJ398=\"\",\"\",(DMA!N398-SUMIF(Graphs!$O$13:$O$199,DMA!$DJ398,Graphs!$V$13:$V$199))^2)","v":""},{"$f":"IF(DMA!DK398=\"\",\"\",(DMA!O398-SUMIF(Graphs!$O$13:$O$199,DMA!$DJ398,Graphs!$V$13:$V$199))^2)","v":""},{"$f":"IF(DMA!DL398=\"\",\"\",(DMA!P398-SUMIF(Graphs!$O$13:$O$199,DMA!$DJ398,Graphs!$V$13:$V$199))^2)","v":""},"",0,"",0]
[null,null,null,null,null,null,null,null,null,null,null,null,null,null,null,null,null,null,null,{"$f":"IF(A399=\"\",\"\",(Header!C$7*Header!C$6)*A399)","v":""},null,"","","","",null,null,null,null,null,null,null,null,null,null,null,null,null,null,null,{"$f":"IF(PLANTS!A397=\"\",\"\",PLANTS!A397)","v":"PRVE"},8.5,"",0,{"$f":"IF(PLANTS!C397=\"\",\"\",PLANTS!C397)","v":"y"},"",{"$f":"IF(PLANTS!D397=\"\",\"\",PLANTS!D397)","v":""},"",{"$f":"IF(PLANTS!E397=\"\",\"\",PLANTS!E397)","v":""},"",{"$f":"IF(PLANTS!F397=\"\",\"\",PLANTS!F397)","v":""},"",0,null,25,"",null,0,{"$f":"IF(DE399=\"A\",PLANTS!H397,DE399)","v":"M"},50,null,"","","","",null,null,null,"","",null,null,null,null,null,null,{"$error":"#DIV/0!"},null,"",null," ","",null,"","","","","",0,"","",null,"","","PRVE",{"$f":"IF(DC399=\"a\",PLANTS!I397,DMA!DC399)","v":8.5},{"$f":"IF(DD399=\"a\",PLANTS!G397,DMA!DD399)","v":25},null,null,null,null,null,null,null,null,null,{"$f":"PLANTS!I397","v":8.5},{"$f":"PLANTS!G397","v":25},{"$f":"PLANTS!H397","v":"M"},null,null,null,null,"",{"$f":"IF(DMA!DJ399=\"\",\"\",(DMA!N399-SUMIF(Graphs!$O$13:$O$199,DMA!$DJ399,Graphs!$V$13:$V$199))^2)","v":""},{"$f":"IF(DMA!DK399=\"\",\"\",(DMA!O399-SUMIF(Graphs!$O$13:$O$199,DMA!$DJ399,Graphs!$V$13:$V$199))^2)","v":""},{"$f":"IF(DMA!DL399=\"\",\"\",(DMA!P399-SUMIF(Graphs!$O$13:$O$199,DMA!$DJ399,Graphs!$V$13:$V$199))^2)","v":""},"",0,"",0]
[null,null,null,null,null,null,null,null,null,null,null,null,null,null,null,null,null,null,null,{"$f":"IF(A400=\"\",\"\",(Header!C$7*Header!C$6)*A400)","v":""},null,"","","","",null,null,null,null,null,null,null,null,null,null,null,null,null,null,null,{"$f":"IF(PLANTS!A398=\"\",\"\",PLANTS!A398)","v":"PRVI"},8.5,"",0,{"$f":"IF(PLANTS!C398=\"\",\"\",PLANTS!C398)","v":"y"},"",{"$f":"IF(PLANTS!D398=\"\",\"\",PLANTS!D398)","v":""},"",{"$f":"IF(PLANTS!E398=\"\",\"\",PLANTS!E398)","v":""},"",{"$f":"IF(PLANTS!F398=\"\",\"\",PLANTS!F398)","v":""},"",0,null,50,"",null,0,{"$f":"IF(DE400=\"A\",PLANTS!H398,DE400)","v":"L"},80,null,"","","","",null,null,null,"","",null,null,null,null,null,null,{"$error":"#DIV/0!"},null,"",null," ","",null,"","","","","",0,"","",null,"","","PRVI",{"$f":"IF(DC400=\"a\",PLANTS!I398,DMA!DC400)","v":8.5},{"$f":"IF(DD400=\"a\",PLANTS!G398,DMA!DD400)","v":50},null,null,null,null,null,null,null,null,null,{"$f":"PLANTS!I398","v":8.5},{"$f":"PLANTS!G398","v":50},{"$f":"PLANTS!H398","v":"L"},null,null,null,null,"",{"$f":"IF(DMA!DJ400=\"\",\"\",(DMA!N400-SUMIF(Graphs!$O$13:$O$199,DMA!$DJ400,Graphs!$V$13:$V$199))^2)","v":""},{"$f":"IF(DMA!DK400=\"\",\"\",(DMA!O400-SUMIF(Graphs!$O$13:$O$199,DMA!$DJ400,Graphs!$V$13:$V$199))^2)","v":""},{"$f":"IF(DMA!DL400=\"\",\"\",(DMA!P400-SUMIF(Graphs!$O$13:$O$199,DMA!$DJ400,Graphs!$V$13:$V$199))^2)","v":""},"",0,"",0]
[null,null,null,null,null,null,null,null,null,null,null,null,null,null,null,null,null,null,null,{"$f":"IF(A401=\"\",\"\",(Header!C$7*Header!C$6)*A401)","v":""},null,"","","","",null,null,null,null,null,null,null,null,null,null,null,null,null,null,null,{"$f":"IF(PLANTS!A399=\"\",\"\",PLANTS!A399)","v":"PSME"},5,"",0,{"$f":"IF(PLANTS!C399=\"\",\"\",PLANTS!C399)","v":"Y"},"",{"$f":"IF(PLANTS!D399=\"\",\"\",PLANTS!D399)","v":""},"",{"$f":"IF(PLANTS!E399=\"\",\"\",PLANTS!E399)","v":""},"",{"$f":"IF(PLANTS!F399=\"\",\"\",PLANTS!F399)","v":""},"",0,null,25,"",null,0,{"$f":"IF(DE401=\"A\",PLANTS!H399,DE401)","v":"M"},50,null,"","","","",null,null,null,"","",null,null,null,null,null,null,{"$error":"#DIV/0!"},null,"",null," ","",null,"","","","","",0,"","",null,"","","PSME",{"$f":"IF(DC401=\"a\",PLANTS!I399,DMA!DC401)","v":5},{"$f":"IF(DD401=\"a\",PLANTS!G399,DMA!DD401)","v":25},null,null,null,null,null,null,null,null,null,{"$f":"PLANTS!I399","v":5},{"$f":"PLANTS!G399","v":25},{"$f":"PLANTS!H399","v":"M"},null,null,null,null,"",{"$f":"IF(DMA!DJ401=\"\",\"\",(DMA!N401-SUMIF(Graphs!$O$13:$O$199,DMA!$DJ401,Graphs!$V$13:$V$199))^2)","v":""},{"$f":"IF(DMA!DK401=\"\",\"\",(DMA!O401-SUMIF(Graphs!$O$13:$O$199,DMA!$DJ401,Graphs!$V$13:$V$199))^2)","v":""},{"$f":"IF(DMA!DL401=\"\",\"\",(DMA!P401-SUMIF(Graphs!$O$13:$O$199,DMA!$DJ401,Graphs!$V$13:$V$199))^2)","v":""},"",0,"",0]
[null,null,null,null,null,null,null,null,null,null,null,null,null,null,null,null,null,null,null,{"$f":"IF(A402=\"\",\"\",(Header!C$7*Header!C$6)*A402)","v":""},null,"","","","",null,null,null,null,null,null,null,null,null,null,null,null,null,null,null,{"$f":"IF(PLANTS!A400=\"\",\"\",PLANTS!A400)","v":"PTAQ"},5,"",0,{"$f":"IF(PLANTS!C400=\"\",\"\",PLANTS!C400)","v":""},"",{"$f":"IF(PLANTS!D400=\"\",\"\",PLANTS!D400)","v":""},"",{"$f":"IF(PLANTS!E400=\"\",\"\",PLANTS!E400)","v":"y"},"",{"$f":"IF(PLANTS!F400=\"\",\"\",PLANTS!F400)","v":"y"},"",0,null,25,"",null,0,{"$f":"IF(DE402=\"A\",PLANTS!H400,DE402)","v":"M"},50,null,"","","","",null,null,null,"","",null,null,null,null,null,null,{"$error":"#DIV/0!"},null,"",null," ","",null,"","","",0,"","","","",null,"","","PTAQ",{"$f":"IF(DC402=\"a\",PLANTS!I400,DMA!DC402)","v":5},{"$f":"IF(DD402=\"a\",PLANTS!G400,DMA!DD402)","v":25},null,null,null,null,null,null,null,null,null,{"$f":"PLANTS!I400","v":5},{"$f":"PLANTS!G400","v":25},{"$f":"PLANTS!H400","v":"M"},null,null,null,null,"",{"$f":"IF(DMA!DJ402=\"\",\"\",(DMA!N402-SUMIF(Graphs!$O$13:$O$199,DMA!$DJ402,Graphs!$V$13:$V$199))^2)","v":""},{"$f":"IF(DMA!DK402=\"\",\"\",(DMA!O402-SUMIF(Graphs!$O$13:$O$199,DMA!$DJ402,Graphs!$V$13:$V$199))^2)","v":""},{"$f":"IF(DMA!DL402=\"\",\"\",(DMA!P402-SUMIF(Graphs!$O$13:$O$199,DMA!$DJ402,Graphs!$V$13:$V$199))^2)","v":""},"",0,"",0]
[null,null,null,null,null,null,null,null,null,null,null,null,null,null,null,null,null,null,null,{"$f":"IF(A403=\"\",\"\",(Header!C$7*Header!C$6)*A403)","v":""},null,"","","","",null,null,null,null,null,null,null,null,null,null,null,null,null,null,null,{"$f":"IF(PLANTS!A401=\"\",\"\",PLANTS!A401)","v":"PULE"},2,"",0,{"$f":"IF(PLANTS!C401=\"\",\"\",PLANTS!C401)","v":""},"",{"$f":"IF(PLANTS!D401=\"\",\"\",PLANTS!D401)","v":"y"},"",{"$f":"IF(PLANTS!E401=\"\",\"\",PLANTS!E401)","v":"y"},"",{"$f":"IF(PLANTS!F401=\"\",\"\",PLANTS!F401)","v":""},"",0,null,75,"",null,0,{"$f":"IF(DE403=\"A\",PLANTS!H401,DE403)","v":"M"},50,null,"","","","",null,null,null,"","",null,null,null,null,null,null,{"$error":"#DIV/0!"},null,"",null," ","",null,"","","","",0,"",0,"",null,"","","PULE",{"$f":"IF(DC403=\"a\",PLANTS!I401,DMA!DC403)","v":2},{"$f":"IF(DD403=\"a\",PLANTS!G401,DMA!DD403)","v":75},null,null,null,null,null,null,null,null,null,{"$f":"PLANTS!I401","v":2},{"$f":"PLANTS!G401","v":75},{"$f":"PLANTS!H401","v":"M"},null,null,null,null,"",{"$f":"IF(DMA!DJ403=\"\",\"\",(DMA!N403-SUMIF(Graphs!$O$13:$O$199,DMA!$DJ403,Graphs!$V$13:$V$199))^2)","v":""},{"$f":"IF(DMA!DK403=\"\",\"\",(DMA!O403-SUMIF(Graphs!$O$13:$O$199,DMA!$DJ403,Graphs!$V$13:$V$199))^2)","v":""},{"$f":"IF(DMA!DL403=\"\",\"\",(DMA!P403-SUMIF(Graphs!$O$13:$O$199,DMA!$DJ403,Graphs!$V$13:$V$199))^2)","v":""},"",0,"",0]
[null,null,null,null,null,null,null,null,null,null,null,null,null,null,null,null,null,null,null,{"$f":"IF(A404=\"\",\"\",(Header!C$7*Header!C$6)*A404)","v":""},null,"","","","",null,null,null,null,null,null,null,null,null,null,null,null,null,null,null,{"$f":"IF(PLANTS!A402=\"\",\"\",PLANTS!A402)","v":"PUNU2"},2,"",0,{"$f":"IF(PLANTS!C402=\"\",\"\",PLANTS!C402)","v":""},"",{"$f":"IF(PLANTS!D402=\"\",\"\",PLANTS!D402)","v":"y"},"",{"$f":"IF(PLANTS!E402=\"\",\"\",PLANTS!E402)","v":"y"},"",{"$f":"IF(PLANTS!F402=\"\",\"\",PLANTS!F402)","v":""},"",0,null,75,"",null,0,{"$f":"IF(DE404=\"A\",PLANTS!H402,DE404)","v":"L"},80,null,"","","","",null,null,null,"","",null,null,null,null,null,null,{"$error":"#DIV/0!"},null,"",null," ","",null,"","","","",0,"",0,"",null,"","","PUNU2",{"$f":"IF(DC404=\"a\",PLANTS!I402,DMA!DC404)","v":2},{"$f":"IF(DD404=\"a\",PLANTS!G402,DMA!DD404)","v":75},null,null,null,null,null,null,null,null,null,{"$f":"PLANTS!I402","v":2},{"$f":"PLANTS!G402","v":75},{"$f":"PLANTS!H402","v":"L"},null,null,null,null,"",{"$f":"IF(DMA!DJ404=\"\",\"\",(DMA!N404-SUMIF(Graphs!$O$13:$O$199,DMA!$DJ404,Graphs!$V$13:$V$199))^2)","v":""},{"$f":"IF(DMA!DK404=\"\",\"\",(DMA!O404-SUMIF(Graphs!$O$13:$O$199,DMA!$DJ404,Graphs!$V$13:$V$199))^2)","v":""},{"$f":"IF(DMA!DL404=\"\",\"\",(DMA!P404-SUMIF(Graphs!$O$13:$O$199,DMA!$DJ404,Graphs!$V$13:$V$199))^2)","v":""},"",0,"",0]
[null,null,null,null,null,null,null,null,null,null,null,null,null,null,null,null,null,null,null,{"$f":"IF(A405=\"\",\"\",(Header!C$7*Header!C$6)*A405)","v":""},null,"","","","",null,null,null,null,null,null,null,null,null,null,null,null,null,null,null,{"$f":"IF(PLANTS!A403=\"\",\"\",PLANTS!A403)","v":"QUMA2"},5,"",0,{"$f":"IF(PLANTS!C403=\"\",\"\",PLANTS!C403)","v":"y"},"",{"$f":"IF(PLANTS!D403=\"\",\"\",PLANTS!D403)","v":""},"",{"$f":"IF(PLANTS!E403=\"\",\"\",PLANTS!E403)","v":""},"",{"$f":"IF(PLANTS!F403=\"\",\"\",PLANTS!F403)","v":""},"",0,null,50,"",null,0,{"$f":"IF(DE405=\"A\",PLANTS!H403,DE405)","v":"M"},50,null,"","","","",null,null,null,"","",null,null,null,null,null,null,{"$error":"#DIV/0!"},null,"",null," ","",null,"","","","","",0,"","",null,"","","QUMA2",{"$f":"IF(DC405=\"a\",PLANTS!I403,DMA!DC405)","v":5},{"$f":"IF(DD405=\"a\",PLANTS!G403,DMA!DD405)","v":50},null,null,null,null,null,null,null,null,null,{"$f":"PLANTS!I403","v":5},{"$f":"PLANTS!G403","v":50},{"$f":"PLANTS!H403","v":"M"},null,null,null,null,"",{"$f":"IF(DMA!DJ405=\"\",\"\",(DMA!N405-SUMIF(Graphs!$O$13:$O$199,DMA!$DJ405,Graphs!$V$13:$V$199))^2)","v":""},{"$f":"IF(DMA!DK405=\"\",\"\",(DMA!O405-SUMIF(Graphs!$O$13:$O$199,DMA!$DJ405,Graphs!$V$13:$V$199))^2)","v":""},{"$f":"IF(DMA!DL405=\"\",\"\",(DMA!P405-SUMIF(Graphs!$O$13:$O$199,DMA!$DJ405,Graphs!$V$13:$V$199))^2)","v":""},"",0,"",0]
[null,null,null,null,null,null,null,null,null,null,null,null,null,null,null,null,null,null,null,{"$f":"IF(A406=\"\",\"\",(Header!C$7*Header!C$6)*A406)","v":""},null,"","","","",null,null,null,null,null,null,null,null,null,null,null,null,null,null,null,{"$f":"IF(PLANTS!A404=\"\",\"\",PLANTS!A404)","v":"RAAB"},2,"",0,{"$f":"IF(PLANTS!C404=\"\",\"\",PLANTS!C404)","v":""},"",{"$f":"IF(PLANTS!D404=\"\",\"\",PLANTS!D404)","v":"y"},"",{"$f":"IF(PLANTS!E404=\"\",\"\",PLANTS!E404)","v":"y"},"",{"$f":"IF(PLANTS!F404=\"\",\"\",PLANTS!F404)","v":"y"},"",0,null,75,"",null,0,{"$f":"IF(DE406=\"A\",PLANTS!H404,DE406)","v":"E"},20,null,"","","","",null,null,null,"","",null,null,null,null,null,null,{"$error":"#DIV/0!"},null,"",null," ","",null,"","","",0,0,"",0,"",null,"","","RAAB",{"$f":"IF(DC406=\"a\",PLANTS!I404,DMA!DC406)","v":2},{"$f":"IF(DD406=\"a\",PLANTS!G404,DMA!DD406)","v":75},null,null,null,null,null,null,null,null,null,{"$f":"PLANTS!I404","v":2},{"$f":"PLANTS!G404","v":75},{"$f":"PLANTS!H404","v":"E"},null,null,null,null,"",{"$f":"IF(DMA!DJ406=\"\",\"\",(DMA!N406-SUMIF(Graphs!$O$13:$O$199,DMA!$DJ406,Graphs!$V$13:$V$199))^2)","v":""},{"$f":"IF(DMA!DK406=\"\",\"\",(DMA!O406-SUMIF(Graphs!$O$13:$O$199,DMA!$DJ406,Graphs!$V$13:$V$199))^2)","v":""},{"$f":"IF(DMA!DL406=\"\",\"\",(DMA!P406-SUMIF(Graphs!$O$13:$O$199,DMA!$DJ406,Graphs!$V$13:$V$199))^2)","v":""},"",0,"",0]
[null,null,null,null,null,null,null,null,null,null,null,null,null,null,null,null,null,null,null,{"$f":"IF(A407=\"\",\"\",(Header!C$7*Header!C$6)*A407)","v":""},null,"","","","",null,null,null,null,null,null,null,null,null,null,null,null,null,null,null,{"$f":"IF(PLANTS!A405=\"\",\"\",PLANTS!A405)","v":"RAAL"},2,"",0,{"$f":"IF(PLANTS!C405=\"\",\"\",PLANTS!C405)","v":""},"",{"$f":"IF(PLANTS!D405=\"\",\"\",PLANTS!D405)","v":"y"},"",{"$f":"IF(PLANTS!E405=\"\",\"\",PLANTS!E405)","v":"y"},"",{"$f":"IF(PLANTS!F405=\"\",\"\",PLANTS!F405)","v":"y"},"",0,null,75,"",null,0,{"$f":"IF(DE407=\"A\",PLANTS!H405,DE407)","v":"E"},20,null,"","","","",null,null,null,"","",null,null,null,null,null,null,{"$error":"#DIV/0!"},null,"",null," ","",null,"","","",0,0,"",0,"",null,"","","RAAL",{"$f":"IF(DC407=\"a\",PLANTS!I405,DMA!DC407)","v":2},{"$f":"IF(DD407=\"a\",PLANTS!G405,DMA!DD407)","v":75},null,null,null,null,null,null,null,null,null,{"$f":"PLANTS!I405","v":2},{"$f":"PLANTS!G405","v":75},{"$f":"PLANTS!H405","v":"E"},null,null,null,null,"",{"$f":"IF(DMA!DJ407=\"\",\"\",(DMA!N407-SUMIF(Graphs!$O$13:$O$199,DMA!$DJ407,Graphs!$V$13:$V$199))^2)","v":""},{"$f":"IF(DMA!DK407=\"\",\"\",(DMA!O407-SUMIF(Graphs!$O$13:$O$199,DMA!$DJ407,Graphs!$V$13:$V$199))^2)","v":""},{"$f":"IF(DMA!DL407=\"\",\"\",(DMA!P407-SUMIF(Graphs!$O$13:$O$199,DMA!$DJ407,Graphs!$V$13:$V$199))^2)","v":""},"",0,"",0]
[null,null,null,null,null,null,null,null,null,null,null,null,null,null,null,null,null,null,null,{"$f":"IF(A408=\"\",\"\",(Header!C$7*Header!C$6)*A408)","v":""},null,"","","","",null,null,null,null,null,null,null,null,null,null,null,null,null,null,null,{"$f":"IF(PLANTS!A406=\"\",\"\",PLANTS!A406)","v":"RAAQ"},2,"",0,{"$f":"IF(PLANTS!C406=\"\",\"\",PLANTS!C406)","v":""},"",{"$f":"IF(PLANTS!D406=\"\",\"\",PLANTS!D406)","v":"y"},"",{"$f":"IF(PLANTS!E406=\"\",\"\",PLANTS!E406)","v":"y"},"",{"$f":"IF(PLANTS!F406=\"\",\"\",PLANTS!F406)","v":"y"},"",0,null,100,"",null,0,{"$f":"IF(DE408=\"A\",PLANTS!H406,DE408)","v":"M"},50,null,"","","","",null,null,null,"","",null,null,null,null,null,null,{"$error":"#DIV/0!"},null,"",null," ","",null,"","","",0,0,"",0,"",null,"","","RAAQ",{"$f":"IF(DC408=\"a\",PLANTS!I406,DMA!DC408)","v":2},{"$f":"IF(DD408=\"a\",PLANTS!G406,DMA!DD408)","v":100},null,null,null,null,null,null,null,null,null,{"$f":"PLANTS!I406","v":2},{"$f":"PLANTS!G406","v":100},{"$f":"PLANTS!H406","v":"M"},null,null,null,null,"",{"$f":"IF(DMA!DJ408=\"\",\"\",(DMA!N408-SUMIF(Graphs!$O$13:$O$199,DMA!$DJ408,Graphs!$V$13:$V$199))^2)","v":""},{"$f":"IF(DMA!DK408=\"\",\"\",(DMA!O408-SUMIF(Graphs!$O$13:$O$199,DMA!$DJ408,Graphs!$V$13:$V$199))^2)","v":""},{"$f":"IF(DMA!DL408=\"\",\"\",(DMA!P408-SUMIF(Graphs!$O$13:$O$199,DMA!$DJ408,Graphs!$V$13:$V$199))^2)","v":""},"",0,"",0]
[null,null,null,null,null,null,null,null,null,null,null,null,null,null,null,null,null,null,null,{"$f":"IF(A409=\"\",\"\",(Header!C$7*Header!C$6)*A409)","v":""},null,"","","","",null,null,null,null,null,null,null,null,null,null,null,null,null,null,null,{"$f":"IF(PLANTS!A407=\"\",\"\",PLANTS!A407)","v":"RAMA2"},2,"",0,{"$f":"IF(PLANTS!C407=\"\",\"\",PLANTS!C407)","v":""},"",{"$f":"IF(PLANTS!D407=\"\",\"\",PLANTS!D407)","v":"y"},"",{"$f":"IF(PLANTS!E407=\"\",\"\",PLANTS!E407)","v":"y"},"",{"$f":"IF(PLANTS!F407=\"\",\"\",PLANTS!F407)","v":"y"},"",0,null,100,"",null,0,{"$f":"IF(DE409=\"A\",PLANTS!H407,DE409)","v":"E"},20,null,"","","","",null,null,null,"","",null,null,null,null,null,null,{"$error":"#DIV/0!"},null,"",null," ","",null,"","","",0,0,"",0,"",null,"","","RAMA2",{"$f":"IF(DC409=\"a\",PLANTS!I407,DMA!DC409)","v":2},{"$f":"IF(DD409=\"a\",PLANTS!G407,DMA!DD409)","v":100},null,null,null,null,null,null,null,null,null,{"$f":"PLANTS!I407","v":2},{"$f":"PLANTS!G407","v":100},{"$f":"PLANTS!H407","v":"E"},null,null,null,null,"",{"$f":"IF(DMA!DJ409=\"\",\"\",(DMA!N409-SUMIF(Graphs!$O$13:$O$199,DMA!$DJ409,Graphs!$V$13:$V$199))^2)","v":""},{"$f":"IF(DMA!DK409=\"\",\"\",(DMA!O409-SUMIF(Graphs!$O$13:$O$199,DMA!$DJ409,Graphs!$V$13:$V$199))^2)","v":""},{"$f":"IF(DMA!DL409=\"\",\"\",(DMA!P409-SUMIF(Graphs!$O$13:$O$199,DMA!$DJ409,Graphs!$V$13:$V$199))^2)","v":""},"",0,"",0]
[null,null,null,null,null,null,null,null,null,null,null,null,null,null,null,null,null,null,null,{"$f":"IF(A410=\"\",\"\",(Header!C$7*Header!C$6)*A410)","v":""},null,"","","","",null,null,null,null,null,null,null,null,null,null,null,null,null,null,null,{"$f":"IF(PLANTS!A408=\"\",\"\",PLANTS!A408)","v":"RANUN"},2,"",0,{"$f":"IF(PLANTS!C408=\"\",\"\",PLANTS!C408)","v":""},"",{"$f":"IF(PLANTS!D408=\"\",\"\",PLANTS!D408)","v":"y"},"",{"$f":"IF(PLANTS!E408=\"\",\"\",PLANTS!E408)","v":"y"},"",{"$f":"IF(PLANTS!F408=\"\",\"\",PLANTS!F408)","v":"y"},"",0,null,75,"",null,0,{"$f":"IF(DE410=\"A\",PLANTS!H408,DE410)","v":"E"},20,null,"","","","",null,null,null,"","",null,null,null,null,null,null,{"$error":"#DIV/0!"},null,"",null," ","",null,"","","",0,0,"",0,"",null,"","","RANUN",{"$f":"IF(DC410=\"a\",PLANTS!I408,DMA!DC410)","v":2},{"$f":"IF(DD410=\"a\",PLANTS!G408,DMA!DD410)","v":75},null,null,null,null,null,null,null,null,null,{"$f":"PLANTS!I408","v":2},{"$f":"PLANTS!G408","v":75},{"$f":"PLANTS!H408","v":"E"},null,null,null,null,"",{"$f":"IF(DMA!DJ410=\"\",\"\",(DMA!N410-SUMIF(Graphs!$O$13:$O$199,DMA!$DJ410,Graphs!$V$13:$V$199))^2)","v":""},{"$f":"IF(DMA!DK410=\"\",\"\",(DMA!O410-SUMIF(Graphs!$O$13:$O$199,DMA!$DJ410,Graphs!$V$13:$V$199))^2)","v":""},{"$f":"IF(DMA!DL410=\"\",\"\",(DMA!P410-SUMIF(Graphs!$O$13:$O$199,DMA!$DJ410,Graphs!$V$13:$V$199))^2)","v":""},"",0,"",0]
[null,null,null,null,null,null,null,null,null,null,null,null,null,null,null,null,null,null,null,{"$f":"IF(A411=\"\",\"\",(Header!C$7*Header!C$6)*A411)","v":""},null,"","","","",null,null,null,null,null,null,null,null,null,null,null,null,null,null,null,{"$f":"IF(PLANTS!A409=\"\",\"\",PLANTS!A409)","v":"RHAL"},8.5,"",0,{"$f":"IF(PLANTS!C409=\"\",\"\",PLANTS!C409)","v":"y"},"",{"$f":"IF(PLANTS!D409=\"\",\"\",PLANTS!D409)","v":"y"},"",{"$f":"IF(PLANTS!E409=\"\",\"\",PLANTS!E409)","v":""},"",{"$f":"IF(PLANTS!F409=\"\",\"\",PLANTS!F409)","v":""},"",0,null,100,"",null,0,{"$f":"IF(DE411=\"A\",PLANTS!H409,DE411)","v":"M"},50,null,"","","","",null,null,null,"","",null,null,null,null,null,null,{"$error":"#DIV/0!"},null,"",null," ","",null,"","","","",0,0,"","",null,"","","RHAL",{"$f":"IF(DC411=\"a\",PLANTS!I409,DMA!DC411)","v":8.5},{"$f":"IF(DD411=\"a\",PLANTS!G409,DMA!DD411)","v":100},null,null,null,null,null,null,null,null,null,{"$f":"PLANTS!I409","v":8.5},{"$f":"PLANTS!G409","v":100},{"$f":"PLANTS!H409","v":"M"},null,null,null,null,"",{"$f":"IF(DMA!DJ411=\"\",\"\",(DMA!N411-SUMIF(Graphs!$O$13:$O$199,DMA!$DJ411,Graphs!$V$13:$V$199))^2)","v":""},{"$f":"IF(DMA!DK411=\"\",\"\",(DMA!O411-SUMIF(Graphs!$O$13:$O$199,DMA!$DJ411,Graphs!$V$13:$V$199))^2)","v":""},{"$f":"IF(DMA!DL411=\"\",\"\",(DMA!P411-SUMIF(Graphs!$O$13:$O$199,DMA!$DJ411,Graphs!$V$13:$V$199))^2)","v":""},"",0,"",0]
[null,null,null,null,null,null,null,null,null,null,null,null,null,null,null,null,null,null,null,{"$f":"IF(A412=\"\",\"\",(Header!C$7*Header!C$6)*A412)","v":""},null,"","","","",null,null,null,null,null,null,null,null,null,null,null,null,null,null,null,{"$f":"IF(PLANTS!A410=\"\",\"\",PLANTS!A410)","v":"RHAR4"},5,"",0,{"$f":"IF(PLANTS!C410=\"\",\"\",PLANTS!C410)","v":"y"},"",{"$f":"IF(PLANTS!D410=\"\",\"\",PLANTS!D410)","v":""},"",{"$f":"IF(PLANTS!E410=\"\",\"\",PLANTS!E410)","v":""},"",{"$f":"IF(PLANTS!F410=\"\",\"\",PLANTS!F410)","v":""},"",0,null,25,"",null,0,{"$f":"IF(DE412=\"A\",PLANTS!H410,DE412)","v":"E"},20,null,"","","","",null,null,null,"","",null,null,null,null,null,null,{"$error":"#DIV/0!"},null,"",null," ","",null,"","","","","",0,"","",null,"","","RHAR4",{"$f":"IF(DC412=\"a\",PLANTS!I410,DMA!DC412)","v":5},{"$f":"IF(DD412=\"a\",PLANTS!G410,DMA!DD412)","v":25},null,null,null,null,null,null,null,null,null,{"$f":"PLANTS!I410","v":5},{"$f":"PLANTS!G410","v":25},{"$f":"PLANTS!H410","v":"E"},null,null,null,null,"",{"$f":"IF(DMA!DJ412=\"\",\"\",(DMA!N412-SUMIF(Graphs!$O$13:$O$199,DMA!$DJ412,Graphs!$V$13:$V$199))^2)","v":""},{"$f":"IF(DMA!DK412=\"\",\"\",(DMA!O412-SUMIF(Graphs!$O$13:$O$199,DMA!$DJ412,Graphs!$V$13:$V$199))^2)","v":""},{"$f":"IF(DMA!DL412=\"\",\"\",(DMA!P412-SUMIF(Graphs!$O$13:$O$199,DMA!$DJ412,Graphs!$V$13:$V$199))^2)","v":""},{"$f":"IF(AO412=\"\",\"\",IF(COUNTIF($B$5:$B$504,$AO412)=0,\"\",SUMIF($B$5:$B$504,$AO412,$C$5:$C$504)*COUNTIF(B$5:B$504,AO412)))","v":""},0,"",{"$f":"(DO412*$AP412)","v":0}]
[null,null,null,null,null,null,null,null,null,null,null,null,null,null,null,null,null,null,null,{"$f":"IF(A413=\"\",\"\",(Header!C$7*Header!C$6)*A413)","v":""},null,"","","","",null,null,null,null,null,null,null,null,null,null,null,null,null,null,null,{"$f":"IF(PLANTS!A411=\"\",\"\",PLANTS!A411)","v":"RHCA3"},5,"",0,{"$f":"IF(PLANTS!C411=\"\",\"\",PLANTS!C411)","v":"y"},"",{"$f":"IF(PLANTS!D411=\"\",\"\",PLANTS!D411)","v":""},"",{"$f":"IF(PLANTS!E411=\"\",\"\",PLANTS!E411)","v":""},{"$f":"IF(AU413=\"y\",IF(AW413=\"y\",AV413,\"\"),\"\")","v":""},{"$f":"IF(PLANTS!F411=\"\",\"\",PLANTS!F411)","v":""},"",0,null,50,"",null,0,{"$f":"IF(DE413=\"A\",PLANTS!H411,DE413)","v":"E"},20,null,"","","","",null,null,null,"","",null,null,null,null,null,null,{"$error":"#DIV/0!"},null,"",null," ","",null,"","","","","",0,"","",null,"","",{"$f":"AO413","v":"RHCA3"},{"$f":"IF(DC413=\"a\",PLANTS!I411,DMA!DC413)","v":5},{"$f":"IF(DD413=\"a\",PLANTS!G411,DMA!DD413)","v":50},null,null,null,null,null,null,null,null,null,{"$f":"PLANTS!I411","v":5},{"$f":"PLANTS!G411","v":50},{"$f":"PLANTS!H411","v":"E"},null,null,null,null,"",{"$f":"IF(DMA!DJ413=\"\",\"\",(DMA!N413-SUMIF(Graphs!$O$13:$O$199,DMA!$DJ413,Graphs!$V$13:$V$199))^2)","v":""},{"$f":"IF(DMA!DK413=\"\",\"\",(DMA!O413-SUMIF(Graphs!$O$13:$O$199,DMA!$DJ413,Graphs!$V$13:$V$199))^2)","v":""},{"$f":"IF(DMA!DL413=\"\",\"\",(DMA!P413-SUMIF(Graphs!$O$13:$O$199,DMA!$DJ413,Graphs!$V$13:$V$199))^2)","v":""},"",0,"",0]
[null,null,null,null,null,null,null,null,null,null,null,null,null,null,null,null,null,null,null,{"$f":"IF(A414=\"\",\"\",(Header!C$7*Header!C$6)*A414)","v":""},null,"","","","",null,null,null,null,null,null,null,null,null,null,null,null,null,null,null,{"$f":"IF(PLANTS!A412=\"\",\"\",PLANTS!A412)","v":"RHTR"},5,"",0,{"$f":"IF(PLANTS!C412=\"\",\"\",PLANTS!C412)","v":"y"},"",{"$f":"IF(PLANTS!D412=\"\",\"\",PLANTS!D412)","v":""},"",{"$f":"IF(PLANTS!E412=\"\",\"\",PLANTS!E412)","v":""},{"$f":"IF(AU414=\"y\",IF(AW414=\"y\",AV414,\"\"),\"\")","v":""},{"$f":"IF(PLANTS!F412=\"\",\"\",PLANTS!F412)","v":""},"",0,null,25,"",null,{"$f":"IF(AP414=\"\",\"\",(BA414*AP414))","v":0},{"$f":"IF(DE414=\"A\",PLANTS!H412,DE414)","v":"E"},20,null,"","","","",null,null,null,"","",null,null,null,null,null,null,{"$error":"#DIV/0!"},null,"",null," ","",null,"","","","","",0,"","",null,"","",{"$f":"AO414","v":"RHTR"},{"$f":"IF(DC414=\"a\",PLANTS!I412,DMA!DC414)","v":5},{"$f":"IF(DD414=\"a\",PLANTS!G412,DMA!DD414)","v":25},null,null,null,null,null,null,null,null,null,{"$f":"PLANTS!I412","v":5},{"$f":"PLANTS!G412","v":25},{"$f":"PLANTS!H412","v":"E"},null,null,null,null,"",{"$f":"IF(DMA!DJ414=\"\",\"\",(DMA!N414-SUMIF(Graphs!$O$13:$O$199,DMA!$DJ414,Graphs!$V$13:$V$199))^2)","v":""},{"$f":"IF(DMA!DK414=\"\",\"\",(DMA!O414-SUMIF(Graphs!$O$13:$O$199,DMA!$DJ414,Graphs!$V$13:$V$199))^2)","v":""},{"$f":"IF(DMA!DL414=\"\",\"\",(DMA!P414-SUMIF(Graphs!$O$13:$O$199,DMA!$DJ414,Graphs!$V$13:$V$199))^2)","v":""},"",0,"",0]
[null,null,null,null,null,null,null,null,null,null,null,null,null,null,null,null,null,null,null,{"$f":"IF(A415=\"\",\"\",(Header!C$7*Header!C$6)*A415)","v":""},null,"","","","",null,null,null,null,null,null,null,null,null,null,null,null,null,null,null,{"$f":"IF(PLANTS!A413=\"\",\"\",PLANTS!A413)","v":"RIAM2"},5,"",0,{"$f":"IF(PLANTS!C413=\"\",\"\",PLANTS!C413)","v":"y"},"",{"$f":"IF(PLANTS!D413=\"\",\"\",PLANTS!D413)","v":""},"",{"$f":"IF(PLANTS!E413=\"\",\"\",PLANTS!E413)","v":""},{"$f":"IF(AU415=\"y\",IF(AW415=\"y\",AV415,\"\"),\"\")","v":""},{"$f":"IF(PLANTS!F413=\"\",\"\",PLANTS!F413)","v":""},"",0,null,50,"",null,{"$f":"IF(AP415=\"\",\"\",(BA415*AP415))","v":0},{"$f":"IF(DE415=\"A\",PLANTS!H413,DE415)","v":"E"},20,null,"","","","",null,null,null,"","",null,null,null,null,null,null,{"$error":"#DIV/0!"},null,"",null," ","",null,"","","","","",0,"","",null,"","",{"$f":"IF(AO415=\"\",\"\",AO415)","v":"RIAM2"},{"$f":"IF(DC415=\"a\",PLANTS!I413,DMA!DC415)","v":5},{"$f":"IF(DD415=\"a\",PLANTS!G413,DMA!DD415)","v":50},null,null,null,null,null,null,null,null,null,{"$f":"PLANTS!I413","v":5},{"$f":"PLANTS!G413","v":50},{"$f":"PLANTS!H413","v":"E"},null,null,null,null,"",{"$f":"IF(DMA!DJ415=\"\",\"\",(DMA!N415-SUMIF(Graphs!$O$13:$O$199,DMA!$DJ415,Graphs!$V$13:$V$199))^2)","v":""},{"$f":"IF(DMA!DK415=\"\",\"\",(DMA!O415-SUMIF(Graphs!$O$13:$O$199,DMA!$DJ415,Graphs!$V$13:$V$199))^2)","v":""},{"$f":"IF(DMA!DL415=\"\",\"\",(DMA!P415-SUMIF(Graphs!$O$13:$O$199,DMA!$DJ415,Graphs!$V$13:$V$199))^2)","v":""},"",0,"",0]
[null,null,null,null,null,null,null,null,null,null,null,null,null,null,null,null,null,null,null,{"$f":"IF(A416=\"\",\"\",(Header!C$7*Header!C$6)*A416)","v":""},null,"","","","",null,null,null,null,null,null,null,null,null,null,null,null,null,null,null,{"$f":"IF(PLANTS!A414=\"\",\"\",PLANTS!A414)","v":"RIAU"},5,"",0,{"$f":"IF(PLANTS!C414=\"\",\"\",PLANTS!C414)","v":"y"},"",{"$f":"IF(PLANTS!D414=\"\",\"\",PLANTS!D414)","v":""},"",{"$f":"IF(PLANTS!E414=\"\",\"\",PLANTS!E414)","v":""},{"$f":"IF(AU416=\"y\",IF(AW416=\"y\",AV416,\"\"),\"\")","v":""},{"$f":"IF(PLANTS!F414=\"\",\"\",PLANTS!F414)","v":""},"",0,null,50,"",null,{"$f":"IF(AP416=\"\",\"\",(BA416*AP416))","v":0},{"$f":"IF(DE416=\"A\",PLANTS!H414,DE416)","v":"E"},20,null,"","","","",null,null,null,"","",null,null,null,null,null,null,{"$error":"#DIV/0!"},null,"",null," ","",null,"","","","","",0,"","",null,"","",{"$f":"AO416","v":"RIAU"},{"$f":"IF(DC416=\"a\",PLANTS!I414,DMA!DC416)","v":5},{"$f":"IF(DD416=\"a\",PLANTS!G414,DMA!DD416)","v":50},null,null,null,null,null,null,null,null,null,{"$f":"PLANTS!I414","v":5},{"$f":"PLANTS!G414","v":50},{"$f":"PLANTS!H414","v":"E"},null,null,null,null,"",{"$f":"IF(DMA!DJ416=\"\",\"\",(DMA!N416-SUMIF(Graphs!$O$13:$O$199,DMA!$DJ416,Graphs!$V$13:$V$199))^2)","v":""},{"$f":"IF(DMA!DK416=\"\",\"\",(DMA!O416-SUMIF(Graphs!$O$13:$O$199,DMA!$DJ416,Graphs!$V$13:$V$199))^2)","v":""},{"$f":"IF(DMA!DL416=\"\",\"\",(DMA!P416-SUMIF(Graphs!$O$13:$O$199,DMA!$DJ416,Graphs!$V$13:$V$199))^2)","v":""},"",0,"",0]
[null,null,null,null,null,null,null,null,null,null,null,null,null,null,null,null,null,null,null,{"$f":"IF(A417=\"\",\"\",(Header!C$7*Header!C$6)*A417)","v":""},null,"","","","",null,null,null,null,null,null,null,null,null,null,null,null,null,null,null,{"$f":"IF(PLANTS!A415=\"\",\"\",PLANTS!A415)","v":"RIBES"},5,"",0,{"$f":"IF(PLANTS!C415=\"\",\"\",PLANTS!C415)","v":"y"},"",{"$f":"IF(PLANTS!D415=\"\",\"\",PLANTS!D415)","v":""},"",{"$f":"IF(PLANTS!E415=\"\",\"\",PLANTS!E415)","v":""},"",{"$f":"IF(PLANTS!F415=\"\",\"\",PLANTS!F415)","v":""},"",0,null,50,"",null,0,{"$f":"IF(DE417=\"A\",PLANTS!H415,DE417)","v":"E"},20,null,"","","","",null,null,null,"","",null,null,null,null,null,null,{"$error":"#DIV/0!"},null,"",null," ","",null,"","","","","",0,"","",null,"","","RIBES",{"$f":"IF(DC417=\"a\",PLANTS!I415,DMA!DC417)","v":5},{"$f":"IF(DD417=\"a\",PLANTS!G415,DMA!DD417)","v":50},null,null,null,null,null,null,null,null,null,{"$f":"PLANTS!I415","v":5},{"$f":"PLANTS!G415","v":50},{"$f":"PLANTS!H415","v":"E"},null,null,null,null,"",{"$f":"IF(DMA!DJ417=\"\",\"\",(DMA!N417-SUMIF(Graphs!$O$13:$O$199,DMA!$DJ417,Graphs!$V$13:$V$199))^2)","v":""},{"$f":"IF(DMA!DK417=\"\",\"\",(DMA!O417-SUMIF(Graphs!$O$13:$O$199,DMA!$DJ417,Graphs!$V$13:$V$199))^2)","v":""},{"$f":"IF(DMA!DL417=\"\",\"\",(DMA!P417-SUMIF(Graphs!$O$13:$O$199,DMA!$DJ417,Graphs!$V$13:$V$199))^2)","v":""},"",0,"",0]
[null,null,null,null,null,null,null,null,null,null,null,null,null,null,null,null,null,null,null,{"$f":"IF(A418=\"\",\"\",(Header!C$7*Header!C$6)*A418)","v":""},null,"","","","",null,null,null,null,null,null,null,null,null,null,null,null,null,null,null,{"$f":"IF(PLANTS!A416=\"\",\"\",PLANTS!A416)","v":"RICE"},5,"",0,{"$f":"IF(PLANTS!C416=\"\",\"\",PLANTS!C416)","v":"y"},"",{"$f":"IF(PLANTS!D416=\"\",\"\",PLANTS!D416)","v":""},"",{"$f":"IF(PLANTS!E416=\"\",\"\",PLANTS!E416)","v":""},"",{"$f":"IF(PLANTS!F416=\"\",\"\",PLANTS!F416)","v":""},"",0,null,25,"",null,0,{"$f":"IF(DE418=\"A\",PLANTS!H416,DE418)","v":"E"},20,null,"","","","",null,null,null,"","",null,null,null,null,null,null,{"$error":"#DIV/0!"},null,"",null," ","",null,"","","","","",0,"","",null,"","","RICE",{"$f":"IF(DC418=\"a\",PLANTS!I416,DMA!DC418)","v":5},{"$f":"IF(DD418=\"a\",PLANTS!G416,DMA!DD418)","v":25},null,null,null,null,null,null,null,null,null,{"$f":"PLANTS!I416","v":5},{"$f":"PLANTS!G416","v":25},{"$f":"PLANTS!H416","v":"E"},null,null,null,null,"",{"$f":"IF(DMA!DJ418=\"\",\"\",(DMA!N418-SUMIF(Graphs!$O$13:$O$199,DMA!$DJ418,Graphs!$V$13:$V$199))^2)","v":""},{"$f":"IF(DMA!DK418=\"\",\"\",(DMA!O418-SUMIF(Graphs!$O$13:$O$199,DMA!$DJ418,Graphs!$V$13:$V$199))^2)","v":""},{"$f":"IF(DMA!DL418=\"\",\"\",(DMA!P418-SUMIF(Graphs!$O$13:$O$199,DMA!$DJ418,Graphs!$V$13:$V$199))^2)","v":""},"",0,"",0]
[null,null,null,null,null,null,null,null,null,null,null,null,null,null,null,null,null,null,null,{"$f":"IF(A419=\"\",\"\",(Header!C$7*Header!C$6)*A419)","v":""},null,"","","","",null,null,null,null,null,null,null,null,null,null,null,null,null,null,null,{"$f":"IF(PLANTS!A417=\"\",\"\",PLANTS!A417)","v":"RIHU"},5,"",0,{"$f":"IF(PLANTS!C417=\"\",\"\",PLANTS!C417)","v":"y"},"",{"$f":"IF(PLANTS!D417=\"\",\"\",PLANTS!D417)","v":"y"},"",{"$f":"IF(PLANTS!E417=\"\",\"\",PLANTS!E417)","v":""},"",{"$f":"IF(PLANTS!F417=\"\",\"\",PLANTS!F417)","v":""},"",0," ",75,"",null,0,{"$f":"IF(DE419=\"A\",PLANTS!H417,DE419)","v":"M"},50,null,"","","","",null,null,null,"","",null,null,null,null,null,null,{"$error":"#DIV/0!"},null,"",null," ","",null,"","","","",0,0,"","",null,"","","RIHU",{"$f":"IF(DC419=\"a\",PLANTS!I417,DMA!DC419)","v":5},{"$f":"IF(DD419=\"a\",PLANTS!G417,DMA!DD419)","v":75},null,null,null,null,null,null,null,null,null,{"$f":"PLANTS!I417","v":5},{"$f":"PLANTS!G417","v":75},{"$f":"PLANTS!H417","v":"M"},null,null,null,null,"",{"$f":"IF(DMA!DJ419=\"\",\"\",(DMA!N419-SUMIF(Graphs!$O$13:$O$199,DMA!$DJ419,Graphs!$V$13:$V$199))^2)","v":""},{"$f":"IF(DMA!DK419=\"\",\"\",(DMA!O419-SUMIF(Graphs!$O$13:$O$199,DMA!$DJ419,Graphs!$V$13:$V$199))^2)","v":""},{"$f":"IF(DMA!DL419=\"\",\"\",(DMA!P419-SUMIF(Graphs!$O$13:$O$199,DMA!$DJ419,Graphs!$V$13:$V$199))^2)","v":""},"",0,"",0]
[null,null,null,null,null,null,null,null,null,null,null,null,null,null,null,null,null,null,null,{"$f":"IF(A420=\"\",\"\",(Header!C$7*Header!C$6)*A420)","v":""},null,"","","","",null,null,null,null,null,null,null,null,null,null,null,null,null,null,null,{"$f":"IF(PLANTS!A418=\"\",\"\",PLANTS!A418)","v":"RIIN2"},5,"",0,{"$f":"IF(PLANTS!C418=\"\",\"\",PLANTS!C418)","v":"y"},"",{"$f":"IF(PLANTS!D418=\"\",\"\",PLANTS!D418)","v":""},"",{"$f":"IF(PLANTS!E418=\"\",\"\",PLANTS!E418)","v":""},"",{"$f":"IF(PLANTS!F418=\"\",\"\",PLANTS!F418)","v":""},"",0,null,50,"",null,0,{"$f":"IF(DE420=\"A\",PLANTS!H418,DE420)","v":"E"},20,null,"","","","",null,null,null,"","",null,null,null,null,null,null,{"$error":"#DIV/0!"},null,"",null," ","",null,"","","","","",0,"","",null,"","","RIIN2",{"$f":"IF(DC420=\"a\",PLANTS!I418,DMA!DC420)","v":5},{"$f":"IF(DD420=\"a\",PLANTS!G418,DMA!DD420)","v":50},null,null,null,null,null,null,null,null,null,{"$f":"PLANTS!I418","v":5},{"$f":"PLANTS!G418","v":50},{"$f":"PLANTS!H418","v":"E"},null,null,null,null,"",{"$f":"IF(DMA!DJ420=\"\",\"\",(DMA!N420-SUMIF(Graphs!$O$13:$O$199,DMA!$DJ420,Graphs!$V$13:$V$199))^2)","v":""},{"$f":"IF(DMA!DK420=\"\",\"\",(DMA!O420-SUMIF(Graphs!$O$13:$O$199,DMA!$DJ420,Graphs!$V$13:$V$199))^2)","v":""},{"$f":"IF(DMA!DL420=\"\",\"\",(DMA!P420-SUMIF(Graphs!$O$13:$O$199,DMA!$DJ420,Graphs!$V$13:$V$199))^2)","v":""},"",0,"",0]
[null,null,null,null,null,null,null,null,null,null,null,null,null,null,null,null,null,null,null,{"$f":"IF(A421=\"\",\"\",(Header!C$7*Header!C$6)*A421)","v":""},null,"","","","",null,null,null,null,null,null,null,null,null,null,null,null,null,null,null,{"$f":"IF(PLANTS!A419=\"\",\"\",PLANTS!A419)","v":"RIIR"},5,"",0,{"$f":"IF(PLANTS!C419=\"\",\"\",PLANTS!C419)","v":"y"},"",{"$f":"IF(PLANTS!D419=\"\",\"\",PLANTS!D419)","v":""},"",{"$f":"IF(PLANTS!E419=\"\",\"\",PLANTS!E419)","v":""},"",{"$f":"IF(PLANTS!F419=\"\",\"\",PLANTS!F419)","v":""},"",0,null,50,"",null,0,{"$f":"IF(DE421=\"A\",PLANTS!H419,DE421)","v":"M"},50,null,"","","","",null,null,null,"","",null,null,null,null,null,null,{"$error":"#DIV/0!"},null,"",null," ","",null,"","","","","",0,"","",null,"","","RIIR",{"$f":"IF(DC421=\"a\",PLANTS!I419,DMA!DC421)","v":5},{"$f":"IF(DD421=\"a\",PLANTS!G419,DMA!DD421)","v":50},null,null,null,null,null,null,null,null,null,{"$f":"PLANTS!I419","v":5},{"$f":"PLANTS!G419","v":50},{"$f":"PLANTS!H419","v":"M"},null,null,null,null,"",{"$f":"IF(DMA!DJ421=\"\",\"\",(DMA!N421-SUMIF(Graphs!$O$13:$O$199,DMA!$DJ421,Graphs!$V$13:$V$199))^2)","v":""},{"$f":"IF(DMA!DK421=\"\",\"\",(DMA!O421-SUMIF(Graphs!$O$13:$O$199,DMA!$DJ421,Graphs!$V$13:$V$199))^2)","v":""},{"$f":"IF(DMA!DL421=\"\",\"\",(DMA!P421-SUMIF(Graphs!$O$13:$O$199,DMA!$DJ421,Graphs!$V$13:$V$199))^2)","v":""},"",0,"",0]
[null,null,null,null,null,null,null,null,null,null,null,null,null,null,null,null,null,null,null,{"$f":"IF(A422=\"\",\"\",(Header!C$7*Header!C$6)*A422)","v":""},null,"","","","",null,null,null,null,null,null,null,null,null,null,null,null,null,null,null,{"$f":"IF(PLANTS!A420=\"\",\"\",PLANTS!A420)","v":"RIOD"},5,"",0,{"$f":"IF(PLANTS!C420=\"\",\"\",PLANTS!C420)","v":"y"},"",{"$f":"IF(PLANTS!D420=\"\",\"\",PLANTS!D420)","v":""},"",{"$f":"IF(PLANTS!E420=\"\",\"\",PLANTS!E420)","v":""},"",{"$f":"IF(PLANTS!F420=\"\",\"\",PLANTS!F420)","v":""},"",0,null,50,"",null,0,{"$f":"IF(DE422=\"A\",PLANTS!H420,DE422)","v":"E"},20,null,"","","","",null,null,null,"","",null,null,null,null,null,null,{"$error":"#DIV/0!"},null,"",null," ","",null,"","","","","",0,"","",null,"","",{"$f":"AO422","v":"RIOD"},{"$f":"IF(DC422=\"a\",PLANTS!I420,DMA!DC422)","v":5},{"$f":"IF(DD422=\"a\",PLANTS!G420,DMA!DD422)","v":50},null,null,null,null,null,null,null,null,null,{"$f":"PLANTS!I420","v":5},{"$f":"PLANTS!G420","v":50},{"$f":"PLANTS!H420","v":"E"},null,null,null,null,"",{"$f":"IF(DMA!DJ422=\"\",\"\",(DMA!N422-SUMIF(Graphs!$O$13:$O$199,DMA!$DJ422,Graphs!$V$13:$V$199))^2)","v":""},{"$f":"IF(DMA!DK422=\"\",\"\",(DMA!O422-SUMIF(Graphs!$O$13:$O$199,DMA!$DJ422,Graphs!$V$13:$V$199))^2)","v":""},{"$f":"IF(DMA!DL422=\"\",\"\",(DMA!P422-SUMIF(Graphs!$O$13:$O$199,DMA!$DJ422,Graphs!$V$13:$V$199))^2)","v":""},"",0,"",0]
[null,null,null,null,null,null,null,null,null,null,null,null,null,null,null,null,null,null,null,{"$f":"IF(A423=\"\",\"\",(Header!C$7*Header!C$6)*A423)","v":""},null,"","","","",null,null,null,null,null,null,null,null,null,null,null,null,null,null,null,{"$f":"IF(PLANTS!A421=\"\",\"\",PLANTS!A421)","v":"RIOX"},5,"",0,{"$f":"IF(PLANTS!C421=\"\",\"\",PLANTS!C421)","v":"y"},"",{"$f":"IF(PLANTS!D421=\"\",\"\",PLANTS!D421)","v":""},"",{"$f":"IF(PLANTS!E421=\"\",\"\",PLANTS!E421)","v":""},"",{"$f":"IF(PLANTS!F421=\"\",\"\",PLANTS!F421)","v":""},"",0,null,50,"",null,0,{"$f":"IF(DE423=\"A\",PLANTS!H421,DE423)","v":"M"},50,null,"","","","",null,null,null,"","",null,null,null,null,null,null,{"$error":"#DIV/0!"},null,"",null," ","",null,"","","","","",0,"","",null,"","","RIOX",{"$f":"IF(DC423=\"a\",PLANTS!I421,DMA!DC423)","v":5},{"$f":"IF(DD423=\"a\",PLANTS!G421,DMA!DD423)","v":50},null,null,null,null,null,null,null,null,null,{"$f":"PLANTS!I421","v":5},{"$f":"PLANTS!G421","v":50},{"$f":"PLANTS!H421","v":"M"},null,null,null,null,"",{"$f":"IF(DMA!DJ423=\"\",\"\",(DMA!N423-SUMIF(Graphs!$O$13:$O$199,DMA!$DJ423,Graphs!$V$13:$V$199))^2)","v":""},{"$f":"IF(DMA!DK423=\"\",\"\",(DMA!O423-SUMIF(Graphs!$O$13:$O$199,DMA!$DJ423,Graphs!$V$13:$V$199))^2)","v":""},{"$f":"IF(DMA!DL423=\"\",\"\",(DMA!P423-SUMIF(Graphs!$O$13:$O$199,DMA!$DJ423,Graphs!$V$13:$V$199))^2)","v":""},"",0,"",0]
[null,null,null,null,null,null,null,null,null,null,null,null,null,null,null,null,null,null,null,{"$f":"IF(A424=\"\",\"\",(Header!C$7*Header!C$6)*A424)","v":""},null,"","","","",null,null,null,null,null,null,null,null,null,null,null,null,null,null,null,{"$f":"IF(PLANTS!A422=\"\",\"\",PLANTS!A422)","v":"RIVI3"},5,"",0,{"$f":"IF(PLANTS!C422=\"\",\"\",PLANTS!C422)","v":"y"},"",{"$f":"IF(PLANTS!D422=\"\",\"\",PLANTS!D422)","v":""},"",{"$f":"IF(PLANTS!E422=\"\",\"\",PLANTS!E422)","v":""},"",{"$f":"IF(PLANTS!F422=\"\",\"\",PLANTS!F422)","v":""},"",0,null,50,"",null,0,{"$f":"IF(DE424=\"A\",PLANTS!H422,DE424)","v":"E"},20,null,"","","","",null,null,null,"","",null,null,null,null,null,null,{"$error":"#DIV/0!"},null,"",null," ","",null,"","","","","",0,"","",null,"","","RIVI3",{"$f":"IF(DC424=\"a\",PLANTS!I422,DMA!DC424)","v":5},{"$f":"IF(DD424=\"a\",PLANTS!G422,DMA!DD424)","v":50},null,null,null,null,null,null,null,null,null,{"$f":"PLANTS!I422","v":5},{"$f":"PLANTS!G422","v":50},{"$f":"PLANTS!H422","v":"E"},null,null,null,null,"",{"$f":"IF(DMA!DJ424=\"\",\"\",(DMA!N424-SUMIF(Graphs!$O$13:$O$199,DMA!$DJ424,Graphs!$V$13:$V$199))^2)","v":""},{"$f":"IF(DMA!DK424=\"\",\"\",(DMA!O424-SUMIF(Graphs!$O$13:$O$199,DMA!$DJ424,Graphs!$V$13:$V$199))^2)","v":""},{"$f":"IF(DMA!DL424=\"\",\"\",(DMA!P424-SUMIF(Graphs!$O$13:$O$199,DMA!$DJ424,Graphs!$V$13:$V$199))^2)","v":""},"",0,"",0]
[null,null,null,null,null,null,null,null,null,null,null,null,null,null,null,null,null,null,null,{"$f":"IF(A425=\"\",\"\",(Header!C$7*Header!C$6)*A425)","v":""},null,"","","","",null,null,null,null,null,null,null,null,null,null,null,null,null,null,null,{"$f":"IF(PLANTS!A423=\"\",\"\",PLANTS!A423)","v":"RK"},10,"",0,{"$f":"IF(PLANTS!C423=\"\",\"\",PLANTS!C423)","v":""},"",{"$f":"IF(PLANTS!D423=\"\",\"\",PLANTS!D423)","v":""},"",{"$f":"IF(PLANTS!E423=\"\",\"\",PLANTS!E423)","v":""},"",{"$f":"IF(PLANTS!F423=\"\",\"\",PLANTS!F423)","v":""},"",0,null,100,"",null,0,{"$f":"IF(PLANTS!H423=\"\",\"\",IF(DE425=\"A\",PLANTS!H423,DE425))","v":"L"},80,null,"","","","",null,null,null,"","",null,null,null,null,null,null,{"$error":"#DIV/0!"},null,"",null," ","",null,"","","","","","","","",null,"","","RK",{"$f":"IF(PLANTS!I423=\"\",\"\",IF(DC425=\"a\",PLANTS!I423,DMA!DC425))","v":10},{"$f":"IF(PLANTS!G423=\"\",\"\",IF(DD425=\"a\",PLANTS!G423,DMA!DD425))","v":100},null,null,null,null,null,null,null,null,null,{"$f":"PLANTS!I423","v":10},{"$f":"PLANTS!G423","v":100},{"$f":"PLANTS!H423","v":"L"},null,null,null,null,"",{"$f":"IF(DMA!DJ425=\"\",\"\",(DMA!N425-SUMIF(Graphs!$O$13:$O$199,DMA!$DJ425,Graphs!$V$13:$V$199))^2)","v":""},{"$f":"IF(DMA!DK425=\"\",\"\",(DMA!O425-SUMIF(Graphs!$O$13:$O$199,DMA!$DJ425,Graphs!$V$13:$V$199))^2)","v":""},{"$f":"IF(DMA!DL425=\"\",\"\",(DMA!P425-SUMIF(Graphs!$O$13:$O$199,DMA!$DJ425,Graphs!$V$13:$V$199))^2)","v":""},"",0,"",0]
[null,null,null,null,null,null,null,null,null,null,null,null,null,null,null,null,null,null,null,{"$f":"IF(A426=\"\",\"\",(Header!C$7*Header!C$6)*A426)","v":""},null,"","","","",null,null,null,null,null,null,null,null,null,null,null,null,null,null,null,{"$f":"IF(PLANTS!A424=\"\",\"\",PLANTS!A424)","v":"RONA2"},2,"",0,{"$f":"IF(PLANTS!C424=\"\",\"\",PLANTS!C424)","v":""},"",{"$f":"IF(PLANTS!D424=\"\",\"\",PLANTS!D424)","v":"y"},"",{"$f":"IF(PLANTS!E424=\"\",\"\",PLANTS!E424)","v":"y"},"",{"$f":"IF(PLANTS!F424=\"\",\"\",PLANTS!F424)","v":"y"},"",0,null,100,"",null,0,{"$f":"IF(PLANTS!H424=\"\",\"\",IF(DE426=\"A\",PLANTS!H424,DE426))","v":"E"},20,null,"","","","",null,null,null,"","",null,null,null,null,null,null,{"$error":"#DIV/0!"},null,"",null," ","",null,"","","",0,0,"",0,"",null,"","","RONA2",{"$f":"IF(PLANTS!I424=\"\",\"\",IF(DC426=\"a\",PLANTS!I424,DMA!DC426))","v":2},{"$f":"IF(PLANTS!G424=\"\",\"\",IF(DD426=\"a\",PLANTS!G424,DMA!DD426))","v":100},null,null,null,null,null,null,null,null,null,{"$f":"PLANTS!I424","v":2},{"$f":"PLANTS!G424","v":100},{"$f":"PLANTS!H424","v":"E"},null,null,null,null,"",{"$f":"IF(DMA!DJ426=\"\",\"\",(DMA!N426-SUMIF(Graphs!$O$13:$O$199,DMA!$DJ426,Graphs!$V$13:$V$199))^2)","v":""},{"$f":"IF(DMA!DK426=\"\",\"\",(DMA!O426-SUMIF(Graphs!$O$13:$O$199,DMA!$DJ426,Graphs!$V$13:$V$199))^2)","v":""},{"$f":"IF(DMA!DL426=\"\",\"\",(DMA!P426-SUMIF(Graphs!$O$13:$O$199,DMA!$DJ426,Graphs!$V$13:$V$199))^2)","v":""},"",0,"",0]
[null,null,null,null,null,null,null,null,null,null,null,null,null,null,null,null,null,null,null,{"$f":"IF(A427=\"\",\"\",(Header!C$7*Header!C$6)*A427)","v":""},null,"","","","",null,null,null,null,null,null,null,null,null,null,null,null,null,null,null,{"$f":"IF(PLANTS!A425=\"\",\"\",PLANTS!A425)","v":"ROPI2"},5,"",0,{"$f":"IF(PLANTS!C425=\"\",\"\",PLANTS!C425)","v":"y"},"",{"$f":"IF(PLANTS!D425=\"\",\"\",PLANTS!D425)","v":""},"",{"$f":"IF(PLANTS!E425=\"\",\"\",PLANTS!E425)","v":""},"",{"$f":"IF(PLANTS!F425=\"\",\"\",PLANTS!F425)","v":""},"",0,null,50,"",null,0,{"$f":"IF(PLANTS!H425=\"\",\"\",IF(DE427=\"A\",PLANTS!H425,DE427))","v":"M"},50,null,"","","","",null,null,null,{"$f":"IF(E427<>\"\",E427+1,\"\")","v":""},{"$f":"IF(E427=\"\",\"\",(E427+1)/5)","v":""},null,null,null,null,null,null,{"$error":"#DIV/0!"},null,"",null," ","",null,"","","","","",0,"","",null,"","","ROPI2",{"$f":"IF(PLANTS!I425=\"\",\"\",IF(DC427=\"a\",PLANTS!I425,DMA!DC427))","v":5},{"$f":"IF(PLANTS!G425=\"\",\"\",IF(DD427=\"a\",PLANTS!G425,DMA!DD427))","v":50},null,null,null,null,null,null,null,null,null,{"$f":"PLANTS!I425","v":5},{"$f":"PLANTS!G425","v":50},{"$f":"PLANTS!H425","v":"M"},null,null,null,null,{"$f":"IF(M427=\"\",\"\",M427)","v":""},{"$f":"IF(DMA!DJ427=\"\",\"\",(DMA!N427-SUMIF(Graphs!$O$13:$O$199,DMA!$DJ427,Graphs!$V$13:$V$199))^2)","v":""},{"$f":"IF(DMA!DK427=\"\",\"\",(DMA!O427-SUMIF(Graphs!$O$13:$O$199,DMA!$DJ427,Graphs!$V$13:$V$199))^2)","v":""},{"$f":"IF(DMA!DL427=\"\",\"\",(DMA!P427-SUMIF(Graphs!$O$13:$O$199,DMA!$DJ427,Graphs!$V$13:$V$199))^2)","v":""},"",0,"",0]
[null,null,null,null,null,null,null,null,null,null,null,null,null,null,null,null,null,null,null,{"$f":"IF(A428=\"\",\"\",(Header!C$7*Header!C$6)*A428)","v":""},null,{"$f":"IF(F428=\"\",\"\",IF(ISNUMBER(SEARCH(F428,\"d\")),IF(ISNUMBER(SEARCH(G428,\"c\")),\"CS\",IF(ISNUMBER(SEARCH(G428,\"u\")),\"UU\")),\"\"))","v":""},{"$f":"IF(F428=\"\",\"\",IF(ISNUMBER(SEARCH(F428,\"e\")),IF(ISNUMBER(SEARCH(G428,\"c\")),IF(ISNUMBER(SEARCH(H428,\"a\")),\"CS\",\"CU\"),IF(ISNUMBER(SEARCH(H428,\"a\")),\"US\",\"UU\")),\"\"))","v":""},{"$f":"IF(V428=\"\",W428,V428)","v":""},"",null,null,null,null,null,null,null,null,null,null,null,null,null,null,null,{"$f":"IF(PLANTS!A426=\"\",\"\",PLANTS!A426)","v":"ROSA5"},5,"",0,{"$f":"IF(PLANTS!C426=\"\",\"\",PLANTS!C426)","v":"y"},"",{"$f":"IF(PLANTS!D426=\"\",\"\",PLANTS!D426)","v":""},"",{"$f":"IF(PLANTS!E426=\"\",\"\",PLANTS!E426)","v":""},"",{"$f":"IF(PLANTS!F426=\"\",\"\",PLANTS!F426)","v":""},"",0,null,25,"",null,0,{"$f":"IF(PLANTS!H426=\"\",\"\",IF(DE428=\"A\",PLANTS!H426,DE428))","v":"M"},50,null,"","","","",null,null,null,"","",null,null,null,null,null,null,{"$error":"#DIV/0!"},null,"",null," ","",null,"","","","","",0,"","",null,"","","ROSA5",{"$f":"IF(PLANTS!I426=\"\",\"\",IF(DC428=\"a\",PLANTS!I426,DMA!DC428))","v":5},{"$f":"IF(PLANTS!G426=\"\",\"\",IF(DD428=\"a\",PLANTS!G426,DMA!DD428))","v":25},null,null,null,null,null,null,null,null,null,{"$f":"PLANTS!I426","v":5},{"$f":"PLANTS!G426","v":25},{"$f":"PLANTS!H426","v":"M"},null,null,null,null,"",{"$f":"IF(DMA!DJ428=\"\",\"\",(DMA!N428-SUMIF(Graphs!$O$13:$O$199,DMA!$DJ428,Graphs!$V$13:$V$199))^2)","v":""},{"$f":"IF(DMA!DK428=\"\",\"\",(DMA!O428-SUMIF(Graphs!$O$13:$O$199,DMA!$DJ428,Graphs!$V$13:$V$199))^2)","v":""},{"$f":"IF(DMA!DL428=\"\",\"\",(DMA!P428-SUMIF(Graphs!$O$13:$O$199,DMA!$DJ428,Graphs!$V$13:$V$199))^2)","v":""},"",0,"",0]
[null,null,null,null,null,null,null,null,null,null,null,null,null,null,null,null,null,null,null,{"$f":"IF(A429=\"\",\"\",(Header!C$7*Header!C$6)*A429)","v":""},null,"","","","",null,null,null,null,null,null,null,null,null,null,null,null,null,null,null,{"$f":"IF(PLANTS!A427=\"\",\"\",PLANTS!A427)","v":"ROWO"},5,"",0,{"$f":"IF(PLANTS!C427=\"\",\"\",PLANTS!C427)","v":"y"},"",{"$f":"IF(PLANTS!D427=\"\",\"\",PLANTS!D427)","v":""},"",{"$f":"IF(PLANTS!E427=\"\",\"\",PLANTS!E427)","v":""},"",{"$f":"IF(PLANTS!F427=\"\",\"\",PLANTS!F427)","v":""},"",0,null,25,"",null,0,{"$f":"IF(PLANTS!H427=\"\",\"\",IF(DE429=\"A\",PLANTS!H427,DE429))","v":"E"},20,null,"","","","",null,null,null,"","",null,null,null,null,null,null,{"$error":"#DIV/0!"},null,"",null," ","",null,"","","","","",0,"","",null,"","","ROWO",{"$f":"IF(PLANTS!I427=\"\",\"\",IF(DC429=\"a\",PLANTS!I427,DMA!DC429))","v":5},{"$f":"IF(PLANTS!G427=\"\",\"\",IF(DD429=\"a\",PLANTS!G427,DMA!DD429))","v":25},null,null,null,null,null,null,null,null,null,{"$f":"PLANTS!I427","v":5},{"$f":"PLANTS!G427","v":25},{"$f":"PLANTS!H427","v":"E"},null,null,null,null,"",{"$f":"IF(DMA!DJ429=\"\",\"\",(DMA!N429-SUMIF(Graphs!$O$13:$O$199,DMA!$DJ429,Graphs!$V$13:$V$199))^2)","v":""},{"$f":"IF(DMA!DK429=\"\",\"\",(DMA!O429-SUMIF(Graphs!$O$13:$O$199,DMA!$DJ429,Graphs!$V$13:$V$199))^2)","v":""},{"$f":"IF(DMA!DL429=\"\",\"\",(DMA!P429-SUMIF(Graphs!$O$13:$O$199,DMA!$DJ429,Graphs!$V$13:$V$199))^2)","v":""},"",0,"",0]
[null,null,null,null,null,null,null,null,null,null,null,null,null,null,null,null,null,null,null,{"$f":"IF(A430=\"\",\"\",(Header!C$7*Header!C$6)*A430)","v":""},null,"","","","",null,null,null,null,null,null,null,null,null,null,null,null,null,null,null,{"$f":"IF(PLANTS!A428=\"\",\"\",PLANTS!A428)","v":"RUBUS"},5,"",0,{"$f":"IF(PLANTS!C428=\"\",\"\",PLANTS!C428)","v":"y"},"",{"$f":"IF(PLANTS!D428=\"\",\"\",PLANTS!D428)","v":""},"",{"$f":"IF(PLANTS!E428=\"\",\"\",PLANTS!E428)","v":""},"",{"$f":"IF(PLANTS!F428=\"\",\"\",PLANTS!F428)","v":""},"",0,null,25,"",null,0,{"$f":"IF(PLANTS!H428=\"\",\"\",IF(DE430=\"A\",PLANTS!H428,DE430))","v":"E"},20,null,"","","","",null,null,null,"","",null,null,null,null,null,null,{"$error":"#DIV/0!"},null,"",null," ","",null,"","","","","",0,"","",null,"","","RUBUS",{"$f":"IF(PLANTS!I428=\"\",\"\",IF(DC430=\"a\",PLANTS!I428,DMA!DC430))","v":5},{"$f":"IF(PLANTS!G428=\"\",\"\",IF(DD430=\"a\",PLANTS!G428,DMA!DD430))","v":25},null,null,null,null,null,null,null,null,null,{"$f":"PLANTS!I428","v":5},{"$f":"PLANTS!G428","v":25},{"$f":"PLANTS!H428","v":"E"},null,null,null,null,"",{"$f":"IF(DMA!DJ430=\"\",\"\",(DMA!N430-SUMIF(Graphs!$O$13:$O$199,DMA!$DJ430,Graphs!$V$13:$V$199))^2)","v":""},{"$f":"IF(DMA!DK430=\"\",\"\",(DMA!O430-SUMIF(Graphs!$O$13:$O$199,DMA!$DJ430,Graphs!$V$13:$V$199))^2)","v":""},{"$f":"IF(DMA!DL430=\"\",\"\",(DMA!P430-SUMIF(Graphs!$O$13:$O$199,DMA!$DJ430,Graphs!$V$13:$V$199))^2)","v":""},"",0,"",0]
[null,null,null,null,null,null,null,null,null,null,null,null,null,null,null,null,null,null,null,{"$f":"IF(A431=\"\",\"\",(Header!C$7*Header!C$6)*A431)","v":""},null,"","","","",null,null,null,null,null,null,null,null,null,null,null,null,null,null,null,{"$f":"IF(PLANTS!A429=\"\",\"\",PLANTS!A429)","v":"RUCR"},2,"",0,{"$f":"IF(PLANTS!C429=\"\",\"\",PLANTS!C429)","v":""},"",{"$f":"IF(PLANTS!D429=\"\",\"\",PLANTS!D429)","v":""},"",{"$f":"IF(PLANTS!E429=\"\",\"\",PLANTS!E429)","v":"y"},"",{"$f":"IF(PLANTS!F429=\"\",\"\",PLANTS!F429)","v":"y"},"",0,null,50,"",null,0,{"$f":"IF(PLANTS!H429=\"\",\"\",IF(DE431=\"A\",PLANTS!H429,DE431))","v":"E"},20,null,"","","","",null,null,null,"","",null,null,null,null,null,null,{"$error":"#DIV/0!"},null,"",null," ","",null,"","","",0,"","","","",null,"","","RUCR",{"$f":"IF(PLANTS!I429=\"\",\"\",IF(DC431=\"a\",PLANTS!I429,DMA!DC431))","v":2},{"$f":"IF(PLANTS!G429=\"\",\"\",IF(DD431=\"a\",PLANTS!G429,DMA!DD431))","v":50},null,null,null,null,null,null,null,null,null,{"$f":"PLANTS!I429","v":2},{"$f":"PLANTS!G429","v":50},{"$f":"PLANTS!H429","v":"E"},null,null,null,null,"",{"$f":"IF(DMA!DJ431=\"\",\"\",(DMA!N431-SUMIF(Graphs!$O$13:$O$199,DMA!$DJ431,Graphs!$V$13:$V$199))^2)","v":""},{"$f":"IF(DMA!DK431=\"\",\"\",(DMA!O431-SUMIF(Graphs!$O$13:$O$199,DMA!$DJ431,Graphs!$V$13:$V$199))^2)","v":""},{"$f":"IF(DMA!DL431=\"\",\"\",(DMA!P431-SUMIF(Graphs!$O$13:$O$199,DMA!$DJ431,Graphs!$V$13:$V$199))^2)","v":""},"",0,"",0]
[null,null,null,null,null,null,null,null,null,null,null,null,null,null,null,null,null,null,null,{"$f":"IF(A432=\"\",\"\",(Header!C$7*Header!C$6)*A432)","v":""},null,"","","","",null,null,null,null,null,null,null,null,null,null,null,null,null,null,null,{"$f":"IF(PLANTS!A430=\"\",\"\",PLANTS!A430)","v":"RUDE2"},2,"",0,{"$f":"IF(PLANTS!C430=\"\",\"\",PLANTS!C430)","v":""},"",{"$f":"IF(PLANTS!D430=\"\",\"\",PLANTS!D430)","v":"y"},"",{"$f":"IF(PLANTS!E430=\"\",\"\",PLANTS!E430)","v":"y"},"",{"$f":"IF(PLANTS!F430=\"\",\"\",PLANTS!F430)","v":"y"},"",0,null,75,"",null,0,{"$f":"IF(PLANTS!H430=\"\",\"\",IF(DE432=\"A\",PLANTS!H430,DE432))","v":"E"},20,null,"","","","",null,null,null,"","",null,null,null,null,null,null,{"$error":"#DIV/0!"},null,"",null," ","",null,"","","",0,0,"",0,"",null,"","","RUDE2",{"$f":"IF(PLANTS!I430=\"\",\"\",IF(DC432=\"a\",PLANTS!I430,DMA!DC432))","v":2},{"$f":"IF(PLANTS!G430=\"\",\"\",IF(DD432=\"a\",PLANTS!G430,DMA!DD432))","v":75},null,null,null,null,null,null,null,null,null,{"$f":"PLANTS!I430","v":2},{"$f":"PLANTS!G430","v":75},{"$f":"PLANTS!H430","v":"E"},null,null,null,null,"",{"$f":"IF(DMA!DJ432=\"\",\"\",(DMA!N432-SUMIF(Graphs!$O$13:$O$199,DMA!$DJ432,Graphs!$V$13:$V$199))^2)","v":""},{"$f":"IF(DMA!DK432=\"\",\"\",(DMA!O432-SUMIF(Graphs!$O$13:$O$199,DMA!$DJ432,Graphs!$V$13:$V$199))^2)","v":""},{"$f":"IF(DMA!DL432=\"\",\"\",(DMA!P432-SUMIF(Graphs!$O$13:$O$199,DMA!$DJ432,Graphs!$V$13:$V$199))^2)","v":""},"",0,"",0]
[null,null,null,null,null,null,null,null,null,null,null,null,null,null,null,null,null,null,null,{"$f":"IF(A433=\"\",\"\",(Header!C$7*Header!C$6)*A433)","v":""},null,"","","","",null,null,null,null,null,null,null,null,null,null,null,null,null,null,null,{"$f":"IF(PLANTS!A431=\"\",\"\",PLANTS!A431)","v":"RUHI2"},2,"",0,{"$f":"IF(PLANTS!C431=\"\",\"\",PLANTS!C431)","v":""},"",{"$f":"IF(PLANTS!D431=\"\",\"\",PLANTS!D431)","v":""},"",{"$f":"IF(PLANTS!E431=\"\",\"\",PLANTS!E431)","v":"y"},"",{"$f":"IF(PLANTS!F431=\"\",\"\",PLANTS!F431)","v":"y"},"",0,null,25,"",null,0,{"$f":"IF(PLANTS!H431=\"\",\"\",IF(DE433=\"A\",PLANTS!H431,DE433))","v":"E"},20,null,"","","","",null,null,null,"","",null,null,null,null,null,null,{"$error":"#DIV/0!"},null,"",null," ","",null,"","","",0,"","","","",null,"","","RUHI2",{"$f":"IF(PLANTS!I431=\"\",\"\",IF(DC433=\"a\",PLANTS!I431,DMA!DC433))","v":2},{"$f":"IF(PLANTS!G431=\"\",\"\",IF(DD433=\"a\",PLANTS!G431,DMA!DD433))","v":25},null,null,null,null,null,null,null,null,null,{"$f":"PLANTS!I431","v":2},{"$f":"PLANTS!G431","v":25},{"$f":"PLANTS!H431","v":"E"},null,null,null,null,"",{"$f":"IF(DMA!DJ433=\"\",\"\",(DMA!N433-SUMIF(Graphs!$O$13:$O$199,DMA!$DJ433,Graphs!$V$13:$V$199))^2)","v":""},{"$f":"IF(DMA!DK433=\"\",\"\",(DMA!O433-SUMIF(Graphs!$O$13:$O$199,DMA!$DJ433,Graphs!$V$13:$V$199))^2)","v":""},{"$f":"IF(DMA!DL433=\"\",\"\",(DMA!P433-SUMIF(Graphs!$O$13:$O$199,DMA!$DJ433,Graphs!$V$13:$V$199))^2)","v":""},"",0,"",0]
[null,null,null,null,null,null,null,null,null,null,null,null,null,null,null,null,null,null,null,{"$f":"IF(A434=\"\",\"\",(Header!C$7*Header!C$6)*A434)","v":""},null,"","","","",null,null,null,null,null,null,null,null,null,null,null,null,null,null,null,{"$f":"IF(PLANTS!A432=\"\",\"\",PLANTS!A432)","v":"RUID"},2,"",0,{"$f":"IF(PLANTS!C432=\"\",\"\",PLANTS!C432)","v":"y"},"",{"$f":"IF(PLANTS!D432=\"\",\"\",PLANTS!D432)","v":""},"",{"$f":"IF(PLANTS!E432=\"\",\"\",PLANTS!E432)","v":""},"",{"$f":"IF(PLANTS!F432=\"\",\"\",PLANTS!F432)","v":""},"",0,null,25,"",null,0,{"$f":"IF(PLANTS!H432=\"\",\"\",IF(DE434=\"A\",PLANTS!H432,DE434))","v":"E"},20,null,"","","","",null,null,null,"","",null,null,null,null,null,null,{"$error":"#DIV/0!"},null,"",null," ","",null,"","","","","",0,"","",null,"","","RUID",{"$f":"IF(PLANTS!I432=\"\",\"\",IF(DC434=\"a\",PLANTS!I432,DMA!DC434))","v":2},{"$f":"IF(PLANTS!G432=\"\",\"\",IF(DD434=\"a\",PLANTS!G432,DMA!DD434))","v":25},null,null,null,null,null,null,null,null,null,{"$f":"PLANTS!I432","v":2},{"$f":"PLANTS!G432","v":25},{"$f":"PLANTS!H432","v":"E"},null,null,null,null,"",{"$f":"IF(DMA!DJ434=\"\",\"\",(DMA!N434-SUMIF(Graphs!$O$13:$O$199,DMA!$DJ434,Graphs!$V$13:$V$199))^2)","v":""},{"$f":"IF(DMA!DK434=\"\",\"\",(DMA!O434-SUMIF(Graphs!$O$13:$O$199,DMA!$DJ434,Graphs!$V$13:$V$199))^2)","v":""},{"$f":"IF(DMA!DL434=\"\",\"\",(DMA!P434-SUMIF(Graphs!$O$13:$O$199,DMA!$DJ434,Graphs!$V$13:$V$199))^2)","v":""},"",0,"",0]
[null,null,null,null,null,null,null,null,null,null,null,null,null,null,null,null,null,null,null,{"$f":"IF(A435=\"\",\"\",(Header!C$7*Header!C$6)*A435)","v":""},null,"","","","",null,null,null,null,null,null,null,null,null,null,null,null,null,null,null,{"$f":"IF(PLANTS!A433=\"\",\"\",PLANTS!A433)","v":"RULA3"},5,"",0,{"$f":"IF(PLANTS!C433=\"\",\"\",PLANTS!C433)","v":""},"",{"$f":"IF(PLANTS!D433=\"\",\"\",PLANTS!D433)","v":""},"",{"$f":"IF(PLANTS!E433=\"\",\"\",PLANTS!E433)","v":"y"},"",{"$f":"IF(PLANTS!F433=\"\",\"\",PLANTS!F433)","v":"y"},"",0,null,50,"",null,0,{"$f":"IF(PLANTS!H433=\"\",\"\",IF(DE435=\"A\",PLANTS!H433,DE435))","v":"M"},50,null,"","","","",null,null,null,"","",null,null,null,null,null,null,{"$error":"#DIV/0!"},null,"",null," ","",null,"","","",0,"","","","",null,"","","RULA3",{"$f":"IF(PLANTS!I433=\"\",\"\",IF(DC435=\"a\",PLANTS!I433,DMA!DC435))","v":5},{"$f":"IF(PLANTS!G433=\"\",\"\",IF(DD435=\"a\",PLANTS!G433,DMA!DD435))","v":50},null,null,null,null,null,null,null,null,null,{"$f":"PLANTS!I433","v":5},{"$f":"PLANTS!G433","v":50},{"$f":"PLANTS!H433","v":"M"},null,null,null,null,"",{"$f":"IF(DMA!DJ435=\"\",\"\",(DMA!N435-SUMIF(Graphs!$O$13:$O$199,DMA!$DJ435,Graphs!$V$13:$V$199))^2)","v":""},{"$f":"IF(DMA!DK435=\"\",\"\",(DMA!O435-SUMIF(Graphs!$O$13:$O$199,DMA!$DJ435,Graphs!$V$13:$V$199))^2)","v":""},{"$f":"IF(DMA!DL435=\"\",\"\",(DMA!P435-SUMIF(Graphs!$O$13:$O$199,DMA!$DJ435,Graphs!$V$13:$V$199))^2)","v":""},"",0,"",0]
[null,null,null,null,null,null,null,null,null,null,null,null,null,null,null,null,null,null,null,{"$f":"IF(A436=\"\",\"\",(Header!C$7*Header!C$6)*A436)","v":""},null,"","","","",null,null,null,null,null,null,null,null,null,null,null,null,null,null,null,{"$f":"IF(PLANTS!A434=\"\",\"\",PLANTS!A434)","v":"RUMA4"},2,"",0,{"$f":"IF(PLANTS!C434=\"\",\"\",PLANTS!C434)","v":""},"",{"$f":"IF(PLANTS!D434=\"\",\"\",PLANTS!D434)","v":"y"},"",{"$f":"IF(PLANTS!E434=\"\",\"\",PLANTS!E434)","v":"y"},"",{"$f":"IF(PLANTS!F434=\"\",\"\",PLANTS!F434)","v":"y"},"",0,null,75,"",null,0,{"$f":"IF(PLANTS!H434=\"\",\"\",IF(DE436=\"A\",PLANTS!H434,DE436))","v":"E"},20,null,"","","","",null,null,null,"","",null,null,null,null,null,null,{"$f":"IF(I436=BZ$3,J436,\"\")","v":{"$error":"#DIV/0!"}},null,"",null," ","",null,"","","",0,0,"",0,"",null,"","","RUMA4",{"$f":"IF(PLANTS!I434=\"\",\"\",IF(DC436=\"a\",PLANTS!I434,DMA!DC436))","v":2},{"$f":"IF(PLANTS!G434=\"\",\"\",IF(DD436=\"a\",PLANTS!G434,DMA!DD436))","v":75},null,null,null,null,null,null,null,null,null,{"$f":"PLANTS!I434","v":2},{"$f":"PLANTS!G434","v":75},{"$f":"PLANTS!H434","v":"E"},null,null,null,null,"",{"$f":"IF(DMA!DJ436=\"\",\"\",(DMA!N436-SUMIF(Graphs!$O$13:$O$199,DMA!$DJ436,Graphs!$V$13:$V$199))^2)","v":""},{"$f":"IF(DMA!DK436=\"\",\"\",(DMA!O436-SUMIF(Graphs!$O$13:$O$199,DMA!$DJ436,Graphs!$V$13:$V$199))^2)","v":""},{"$f":"IF(DMA!DL436=\"\",\"\",(DMA!P436-SUMIF(Graphs!$O$13:$O$199,DMA!$DJ436,Graphs!$V$13:$V$199))^2)","v":""},"",0,"",0]
[null,null,null,null,null,null,null,null,null,null,null,null,null,null,null,null,null,null,null,{"$f":"IF(A437=\"\",\"\",(Header!C$7*Header!C$6)*A437)","v":""},null,"","","","",null,null,null,null,null,null,null,null,null,null,null,null,null,null,null,{"$f":"IF(PLANTS!A435=\"\",\"\",PLANTS!A435)","v":"RUMEX"},2,"",0,{"$f":"IF(PLANTS!C435=\"\",\"\",PLANTS!C435)","v":""},"",{"$f":"IF(PLANTS!D435=\"\",\"\",PLANTS!D435)","v":""},"",{"$f":"IF(PLANTS!E435=\"\",\"\",PLANTS!E435)","v":"y"},"",{"$f":"IF(PLANTS!F435=\"\",\"\",PLANTS!F435)","v":"y"},"",0,null,50,"",null,0,{"$f":"IF(PLANTS!H435=\"\",\"\",IF(DE437=\"A\",PLANTS!H435,DE437))","v":"E"},20,null,"","","","",null,null,null,"","",null,null,null,null,null,null,{"$error":"#DIV/0!"},null,"",null," ","",null,"","","",0,"","","","",null,"","","RUMEX",{"$f":"IF(PLANTS!I435=\"\",\"\",IF(DC437=\"a\",PLANTS!I435,DMA!DC437))","v":2},{"$f":"IF(PLANTS!G435=\"\",\"\",IF(DD437=\"a\",PLANTS!G435,DMA!DD437))","v":50},null,null,null,null,null,null,null,null,null,{"$f":"PLANTS!I435","v":2},{"$f":"PLANTS!G435","v":50},{"$f":"PLANTS!H435","v":"E"},null,null,null,null,"",{"$f":"IF(DMA!DJ437=\"\",\"\",(DMA!N437-SUMIF(Graphs!$O$13:$O$199,DMA!$DJ437,Graphs!$V$13:$V$199))^2)","v":""},{"$f":"IF(DMA!DK437=\"\",\"\",(DMA!O437-SUMIF(Graphs!$O$13:$O$199,DMA!$DJ437,Graphs!$V$13:$V$199))^2)","v":""},{"$f":"IF(DMA!DL437=\"\",\"\",(DMA!P437-SUMIF(Graphs!$O$13:$O$199,DMA!$DJ437,Graphs!$V$13:$V$199))^2)","v":""},"",0,"",0]
[null,null,null,null,null,null,null,null,null,null,null,null,null,null,null,null,null,null,null,{"$f":"IF(A438=\"\",\"\",(Header!C$7*Header!C$6)*A438)","v":""},null,"","","","",null,null,null,null,null,null,null,null,null,null,null,null,null,null,null,{"$f":"IF(PLANTS!A436=\"\",\"\",PLANTS!A436)","v":"RUOC2"},2,"",0,{"$f":"IF(PLANTS!C436=\"\",\"\",PLANTS!C436)","v":""},"",{"$f":"IF(PLANTS!D436=\"\",\"\",PLANTS!D436)","v":""},"",{"$f":"IF(PLANTS!E436=\"\",\"\",PLANTS!E436)","v":"y"},"",{"$f":"IF(PLANTS!F436=\"\",\"\",PLANTS!F436)","v":"y"},"",0,null,50,"",null,0,{"$f":"IF(PLANTS!H436=\"\",\"\",IF(DE438=\"A\",PLANTS!H436,DE438))","v":"E"},20,null,"","","","",null,null,null,"","",null,null,null,null,null,null,{"$error":"#DIV/0!"},null,"",null," ","",null,"","","",0,"","","","",null,"","","RUOC2",{"$f":"IF(PLANTS!I436=\"\",\"\",IF(DC438=\"a\",PLANTS!I436,DMA!DC438))","v":2},{"$f":"IF(PLANTS!G436=\"\",\"\",IF(DD438=\"a\",PLANTS!G436,DMA!DD438))","v":50},null,null,null,null,null,null,null,null,null,{"$f":"PLANTS!I436","v":2},{"$f":"PLANTS!G436","v":50},{"$f":"PLANTS!H436","v":"E"},null,null,null,null,"",{"$f":"IF(DMA!DJ438=\"\",\"\",(DMA!N438-SUMIF(Graphs!$O$13:$O$199,DMA!$DJ438,Graphs!$V$13:$V$199))^2)","v":""},{"$f":"IF(DMA!DK438=\"\",\"\",(DMA!O438-SUMIF(Graphs!$O$13:$O$199,DMA!$DJ438,Graphs!$V$13:$V$199))^2)","v":""},{"$f":"IF(DMA!DL438=\"\",\"\",(DMA!P438-SUMIF(Graphs!$O$13:$O$199,DMA!$DJ438,Graphs!$V$13:$V$199))^2)","v":""},"",0,"",0]
[null,null,null,null,null,null,null,null,null,null,null,null,null,null,null,null,null,null,null,{"$f":"IF(A439=\"\",\"\",(Header!C$7*Header!C$6)*A439)","v":""},null,"","","","",null,null,null,null,null,null,null,null,null,null,null,null,null,null,null,{"$f":"IF(PLANTS!A437=\"\",\"\",PLANTS!A437)","v":"SAAL2"},8.5,"",0,{"$f":"IF(PLANTS!C437=\"\",\"\",PLANTS!C437)","v":"y"},"",{"$f":"IF(PLANTS!D437=\"\",\"\",PLANTS!D437)","v":"y"},"",{"$f":"IF(PLANTS!E437=\"\",\"\",PLANTS!E437)","v":""},"",{"$f":"IF(PLANTS!F437=\"\",\"\",PLANTS!F437)","v":""},"",0,null,75,"",null,0,{"$f":"IF(PLANTS!H437=\"\",\"\",IF(DE439=\"A\",PLANTS!H437,DE439))","v":"M"},{"$f":"IF(BG439=\"\",\"\",IF(BG439=\"l\",80,IF(BG439=\"m\",50,IF(BG439=\"E\",20))))","v":50},null,"","","","",null,null,null,"","",null,null,null,null,null,null,{"$error":"#DIV/0!"},null,"",null," ","",null,"","","","",0,0,"","",null,"","","SAAL2",{"$f":"IF(PLANTS!I437=\"\",\"\",IF(DC439=\"a\",PLANTS!I437,DMA!DC439))","v":8.5},{"$f":"IF(PLANTS!G437=\"\",\"\",IF(DD439=\"a\",PLANTS!G437,DMA!DD439))","v":75},null,null,null,null,null,null,null,null,null,{"$f":"PLANTS!I437","v":8.5},{"$f":"PLANTS!G437","v":75},{"$f":"PLANTS!H437","v":"M"},null,null,null,null,"",{"$f":"IF(DMA!DJ439=\"\",\"\",(DMA!N439-SUMIF(Graphs!$O$13:$O$199,DMA!$DJ439,Graphs!$V$13:$V$199))^2)","v":""},{"$f":"IF(DMA!DK439=\"\",\"\",(DMA!O439-SUMIF(Graphs!$O$13:$O$199,DMA!$DJ439,Graphs!$V$13:$V$199))^2)","v":""},{"$f":"IF(DMA!DL439=\"\",\"\",(DMA!P439-SUMIF(Graphs!$O$13:$O$199,DMA!$DJ439,Graphs!$V$13:$V$199))^2)","v":""},"",0,"",0]
[null,null,null,null,null,null,null,null,null,null,null,null,null,null,null,null,null,null,null,{"$f":"IF(A440=\"\",\"\",(Header!C$7*Header!C$6)*A440)","v":""},null,"","","","",null,null,null,null,null,null,null,null,null,null,null,null,null,null,null,{"$f":"IF(PLANTS!A438=\"\",\"\",PLANTS!A438)","v":"SAAM2"},8.5,"",0,{"$f":"IF(PLANTS!C438=\"\",\"\",PLANTS!C438)","v":"y"},"",{"$f":"IF(PLANTS!D438=\"\",\"\",PLANTS!D438)","v":"y"},"",{"$f":"IF(PLANTS!E438=\"\",\"\",PLANTS!E438)","v":""},"",{"$f":"IF(PLANTS!F438=\"\",\"\",PLANTS!F438)","v":""},"",0,null,75,"",null,0,{"$f":"IF(PLANTS!H438=\"\",\"\",IF(DE440=\"A\",PLANTS!H438,DE440))","v":"L"},{"$f":"IF(BG440=\"\",\"\",IF(BG440=\"l\",80,IF(BG440=\"m\",50,IF(BG440=\"E\",20))))","v":80},null,"","","","",null,null,null,"","",null,null,null,null,null,null,{"$error":"#DIV/0!"},null,"",null," ","",null,"","","","",0,0,"","",null,"","","SAAM2",{"$f":"IF(PLANTS!I438=\"\",\"\",IF(DC440=\"a\",PLANTS!I438,DMA!DC440))","v":8.5},{"$f":"IF(PLANTS!G438=\"\",\"\",IF(DD440=\"a\",PLANTS!G438,DMA!DD440))","v":75},null,null,null,null,null,null,null,null,null,{"$f":"PLANTS!I438","v":8.5},{"$f":"PLANTS!G438","v":75},{"$f":"PLANTS!H438","v":"L"},null,null,null,null,"",{"$f":"IF(DMA!DJ440=\"\",\"\",(DMA!N440-SUMIF(Graphs!$O$13:$O$199,DMA!$DJ440,Graphs!$V$13:$V$199))^2)","v":""},{"$f":"IF(DMA!DK440=\"\",\"\",(DMA!O440-SUMIF(Graphs!$O$13:$O$199,DMA!$DJ440,Graphs!$V$13:$V$199))^2)","v":""},{"$f":"IF(DMA!DL440=\"\",\"\",(DMA!P440-SUMIF(Graphs!$O$13:$O$199,DMA!$DJ440,Graphs!$V$13:$V$199))^2)","v":""},"",0,"",0]
[null,null,null,null,null,null,null,null,null,null,null,null,null,null,null,null,null,null,null,{"$f":"IF(A441=\"\",\"\",(Header!C$7*Header!C$6)*A441)","v":""},null,"","","","",null,null,null,null,null,null,null,null,null,null,null,null,null,null,null,{"$f":"IF(PLANTS!A439=\"\",\"\",PLANTS!A439)","v":"SABE2"},8.5,"",0,{"$f":"IF(PLANTS!C439=\"\",\"\",PLANTS!C439)","v":"y"},"",{"$f":"IF(PLANTS!D439=\"\",\"\",PLANTS!D439)","v":"y"},"",{"$f":"IF(PLANTS!E439=\"\",\"\",PLANTS!E439)","v":""},"",{"$f":"IF(PLANTS!F439=\"\",\"\",PLANTS!F439)","v":""},"",0,null,75,"",null,0,{"$f":"IF(PLANTS!H439=\"\",\"\",IF(DE441=\"A\",PLANTS!H439,DE441))","v":"L"},80,null,"","","","",null,null,null,"","",null,null,null,null,null,null,{"$error":"#DIV/0!"},null,"",null," ","",null,"","","","",0,0,"","",null,"","","SABE2",{"$f":"IF(PLANTS!I439=\"\",\"\",IF(DC441=\"a\",PLANTS!I439,DMA!DC441))","v":8.5},{"$f":"IF(PLANTS!G439=\"\",\"\",IF(DD441=\"a\",PLANTS!G439,DMA!DD441))","v":75},null,null,null,null,null,null,null,null,null,{"$f":"PLANTS!I439","v":8.5},{"$f":"PLANTS!G439","v":75},{"$f":"PLANTS!H439","v":"L"},null,null,null,null,"",{"$f":"IF(DMA!DJ441=\"\",\"\",(DMA!N441-SUMIF(Graphs!$O$13:$O$199,DMA!$DJ441,Graphs!$V$13:$V$199))^2)","v":""},{"$f":"IF(DMA!DK441=\"\",\"\",(DMA!O441-SUMIF(Graphs!$O$13:$O$199,DMA!$DJ441,Graphs!$V$13:$V$199))^2)","v":""},{"$f":"IF(DMA!DL441=\"\",\"\",(DMA!P441-SUMIF(Graphs!$O$13:$O$199,DMA!$DJ441,Graphs!$V$13:$V$199))^2)","v":""},"",0,"",0]
[null,null,null,null,null,null,null,null,null,null,null,null,null,null,null,null,null,null,null,{"$f":"IF(A442=\"\",\"\",(Header!C$7*Header!C$6)*A442)","v":""},null,"","","","",null,null,null,null,null,null,null,null,null,null,null,null,null,null,null,{"$f":"IF(PLANTS!A440=\"\",\"\",PLANTS!A440)","v":"SABO"},8.5,"",0,{"$f":"IF(PLANTS!C440=\"\",\"\",PLANTS!C440)","v":"y"},"",{"$f":"IF(PLANTS!D440=\"\",\"\",PLANTS!D440)","v":"y"},"",{"$f":"IF(PLANTS!E440=\"\",\"\",PLANTS!E440)","v":""},"",{"$f":"IF(PLANTS!F440=\"\",\"\",PLANTS!F440)","v":""},"",0,null,75,"",null,0,{"$f":"IF(PLANTS!H440=\"\",\"\",IF(DE442=\"A\",PLANTS!H440,DE442))","v":"L"},80,null,"","","","",null,null,null,"","",null,null,null,null,null,null,{"$error":"#DIV/0!"},null,"",null," ","",null,"","","","",0,0,"","",null,"","","SABO",{"$f":"IF(PLANTS!I440=\"\",\"\",IF(DC442=\"a\",PLANTS!I440,DMA!DC442))","v":8.5},{"$f":"IF(PLANTS!G440=\"\",\"\",IF(DD442=\"a\",PLANTS!G440,DMA!DD442))","v":75},null,null,null,null,null,null,null,null,null,{"$f":"PLANTS!I440","v":8.5},{"$f":"PLANTS!G440","v":75},{"$f":"PLANTS!H440","v":"L"},null,null,null,null,"",{"$f":"IF(DMA!DJ442=\"\",\"\",(DMA!N442-SUMIF(Graphs!$O$13:$O$199,DMA!$DJ442,Graphs!$V$13:$V$199))^2)","v":""},{"$f":"IF(DMA!DK442=\"\",\"\",(DMA!O442-SUMIF(Graphs!$O$13:$O$199,DMA!$DJ442,Graphs!$V$13:$V$199))^2)","v":""},{"$f":"IF(DMA!DL442=\"\",\"\",(DMA!P442-SUMIF(Graphs!$O$13:$O$199,DMA!$DJ442,Graphs!$V$13:$V$199))^2)","v":""},"",0,"",0]
[null,null,null,null,null,null,null,null,null,null,null,null,null,null,null,null,null,null,null,{"$f":"IF(A443=\"\",\"\",(Header!C$7*Header!C$6)*A443)","v":""},null,"","","","",null,null,null,null,null,null,null,null,null,null,null,null,null,null,null,{"$f":"IF(PLANTS!A441=\"\",\"\",PLANTS!A441)","v":"SABO2"},8.5,"",0,{"$f":"IF(PLANTS!C441=\"\",\"\",PLANTS!C441)","v":"y"},"",{"$f":"IF(PLANTS!D441=\"\",\"\",PLANTS!D441)","v":"y"},"",{"$f":"IF(PLANTS!E441=\"\",\"\",PLANTS!E441)","v":""},"",{"$f":"IF(PLANTS!F441=\"\",\"\",PLANTS!F441)","v":""},"",0,null,75,"",null,0,{"$f":"IF(PLANTS!H441=\"\",\"\",IF(DE443=\"A\",PLANTS!H441,DE443))","v":"L"},80,null,"","","","",null,null,null,"","",null,null,null,null,null,null,{"$error":"#DIV/0!"},null,"",null," ","",null,"","","","",0,0,"","",null,"","","SABO2",{"$f":"IF(PLANTS!I441=\"\",\"\",IF(DC443=\"a\",PLANTS!I441,DMA!DC443))","v":8.5},{"$f":"IF(PLANTS!G441=\"\",\"\",IF(DD443=\"a\",PLANTS!G441,DMA!DD443))","v":75},null,null,null,null,null,null,null,null,null,{"$f":"PLANTS!I441","v":8.5},{"$f":"PLANTS!G441","v":75},{"$f":"PLANTS!H441","v":"L"},null,null,null,null,"",{"$f":"IF(DMA!DJ443=\"\",\"\",(DMA!N443-SUMIF(Graphs!$O$13:$O$199,DMA!$DJ443,Graphs!$V$13:$V$199))^2)","v":""},{"$f":"IF(DMA!DK443=\"\",\"\",(DMA!O443-SUMIF(Graphs!$O$13:$O$199,DMA!$DJ443,Graphs!$V$13:$V$199))^2)","v":""},{"$f":"IF(DMA!DL443=\"\",\"\",(DMA!P443-SUMIF(Graphs!$O$13:$O$199,DMA!$DJ443,Graphs!$V$13:$V$199))^2)","v":""},"",0,"",0]
[null,null,null,null,null,null,null,null,null,null,null,null,null,null,null,null,null,null,null,{"$f":"IF(A444=\"\",\"\",(Header!C$7*Header!C$6)*A444)","v":""},null,"","","","",null,null,null,null,null,null,null,null,null,null,null,null,null,null,null,{"$f":"IF(PLANTS!A442=\"\",\"\",PLANTS!A442)","v":"SACA4"},8.5,"",0,{"$f":"IF(PLANTS!C442=\"\",\"\",PLANTS!C442)","v":"y"},"",{"$f":"IF(PLANTS!D442=\"\",\"\",PLANTS!D442)","v":"y"},"",{"$f":"IF(PLANTS!E442=\"\",\"\",PLANTS!E442)","v":""},"",{"$f":"IF(PLANTS!F442=\"\",\"\",PLANTS!F442)","v":""},"",0,null,100,"",null,0,{"$f":"IF(PLANTS!H442=\"\",\"\",IF(DE444=\"A\",PLANTS!H442,DE444))","v":"M"},50,null,"","","","",null,null,null,"","",null,null,null,null,null,null,{"$error":"#DIV/0!"},null,"",null," ","",null,"","","","",0,0,"","",null,"","","SACA4",{"$f":"IF(PLANTS!I442=\"\",\"\",IF(DC444=\"a\",PLANTS!I442,DMA!DC444))","v":8.5},{"$f":"IF(PLANTS!G442=\"\",\"\",IF(DD444=\"a\",PLANTS!G442,DMA!DD444))","v":100},null,null,null,null,null,null,null,null,null,{"$f":"PLANTS!I442","v":8.5},{"$f":"PLANTS!G442","v":100},{"$f":"PLANTS!H442","v":"M"},null,null,null,null,"",{"$f":"IF(DMA!DJ444=\"\",\"\",(DMA!N444-SUMIF(Graphs!$O$13:$O$199,DMA!$DJ444,Graphs!$V$13:$V$199))^2)","v":""},{"$f":"IF(DMA!DK444=\"\",\"\",(DMA!O444-SUMIF(Graphs!$O$13:$O$199,DMA!$DJ444,Graphs!$V$13:$V$199))^2)","v":""},{"$f":"IF(DMA!DL444=\"\",\"\",(DMA!P444-SUMIF(Graphs!$O$13:$O$199,DMA!$DJ444,Graphs!$V$13:$V$199))^2)","v":""},"",0,"",0]
[null,null,null,null,null,null,null,null,null,null,null,null,null,null,null,null,null,null,null,{"$f":"IF(A445=\"\",\"\",(Header!C$7*Header!C$6)*A445)","v":""},null,"","","","",null,null,null,null,null,null,null,null,null,null,null,null,null,null,null,{"$f":"IF(PLANTS!A443=\"\",\"\",PLANTS!A443)","v":"SACU"},5,"",0,{"$f":"IF(PLANTS!C443=\"\",\"\",PLANTS!C443)","v":""},"",{"$f":"IF(PLANTS!D443=\"\",\"\",PLANTS!D443)","v":"y"},"",{"$f":"IF(PLANTS!E443=\"\",\"\",PLANTS!E443)","v":"y"},"",{"$f":"IF(PLANTS!F443=\"\",\"\",PLANTS!F443)","v":"y"},"",0,null,100,"",null,0,{"$f":"IF(PLANTS!H443=\"\",\"\",IF(DE445=\"A\",PLANTS!H443,DE445))","v":"M"},50,null,"","","","",null,null,null,"","",null,null,null,null,null,null,{"$error":"#DIV/0!"},null,"",null," ","",null,"","","",0,0,"",0,"",null,"","","SACU",{"$f":"IF(PLANTS!I443=\"\",\"\",IF(DC445=\"a\",PLANTS!I443,DMA!DC445))","v":5},{"$f":"IF(PLANTS!G443=\"\",\"\",IF(DD445=\"a\",PLANTS!G443,DMA!DD445))","v":100},null,null,null,null,null,null,null,null,null,{"$f":"PLANTS!I443","v":5},{"$f":"PLANTS!G443","v":100},{"$f":"PLANTS!H443","v":"M"},null,null,null,null,"",{"$f":"IF(DMA!DJ445=\"\",\"\",(DMA!N445-SUMIF(Graphs!$O$13:$O$199,DMA!$DJ445,Graphs!$V$13:$V$199))^2)","v":""},{"$f":"IF(DMA!DK445=\"\",\"\",(DMA!O445-SUMIF(Graphs!$O$13:$O$199,DMA!$DJ445,Graphs!$V$13:$V$199))^2)","v":""},{"$f":"IF(DMA!DL445=\"\",\"\",(DMA!P445-SUMIF(Graphs!$O$13:$O$199,DMA!$DJ445,Graphs!$V$13:$V$199))^2)","v":""},"",0,"",0]
[null,null,null,null,null,null,null,null,null,null,null,null,null,null,null,null,null,null,null,{"$f":"IF(A446=\"\",\"\",(Header!C$7*Header!C$6)*A446)","v":""},null,"","","","",null,null,null,null,null,null,null,null,null,null,null,null,null,null,null,{"$f":"IF(PLANTS!A444=\"\",\"\",PLANTS!A444)","v":"SADR"},8.5,"",0,{"$f":"IF(PLANTS!C444=\"\",\"\",PLANTS!C444)","v":"y"},"",{"$f":"IF(PLANTS!D444=\"\",\"\",PLANTS!D444)","v":"y"},"",{"$f":"IF(PLANTS!E444=\"\",\"\",PLANTS!E444)","v":""},"",{"$f":"IF(PLANTS!F444=\"\",\"\",PLANTS!F444)","v":""},"",0,null,75,"",null,0,{"$f":"IF(PLANTS!H444=\"\",\"\",IF(DE446=\"A\",PLANTS!H444,DE446))","v":"L"},80,null,"","","","",null,null,null,"","",null,null,null,null,null,null,{"$error":"#DIV/0!"},null,"",null," ","",null,"","","","",0,0,"","",null,"","","SADR",{"$f":"IF(PLANTS!I444=\"\",\"\",IF(DC446=\"a\",PLANTS!I444,DMA!DC446))","v":8.5},{"$f":"IF(PLANTS!G444=\"\",\"\",IF(DD446=\"a\",PLANTS!G444,DMA!DD446))","v":75},null,null,null,null,null,null,null,null,null,{"$f":"PLANTS!I444","v":8.5},{"$f":"PLANTS!G444","v":75},{"$f":"PLANTS!H444","v":"L"},null,null,null,null,"",{"$f":"IF(DMA!DJ446=\"\",\"\",(DMA!N446-SUMIF(Graphs!$O$13:$O$199,DMA!$DJ446,Graphs!$V$13:$V$199))^2)","v":""},{"$f":"IF(DMA!DK446=\"\",\"\",(DMA!O446-SUMIF(Graphs!$O$13:$O$199,DMA!$DJ446,Graphs!$V$13:$V$199))^2)","v":""},{"$f":"IF(DMA!DL446=\"\",\"\",(DMA!P446-SUMIF(Graphs!$O$13:$O$199,DMA!$DJ446,Graphs!$V$13:$V$199))^2)","v":""},"",0,"",0]
[null,null,null,null,null,null,null,null,null,null,null,null,null,null,null,null,null,null,null,{"$f":"IF(A447=\"\",\"\",(Header!C$7*Header!C$6)*A447)","v":""},null,"","","","",null,null,null,null,null,null,null,null,null,null,null,null,null,null,null,{"$f":"IF(PLANTS!A445=\"\",\"\",PLANTS!A445)","v":"SAEX"},5,"",0,{"$f":"IF(PLANTS!C445=\"\",\"\",PLANTS!C445)","v":"y"},"",{"$f":"IF(PLANTS!D445=\"\",\"\",PLANTS!D445)","v":"y"},"",{"$f":"IF(PLANTS!E445=\"\",\"\",PLANTS!E445)","v":""},"",{"$f":"IF(PLANTS!F445=\"\",\"\",PLANTS!F445)","v":""},"",0,null,75,"",null,0,{"$f":"IF(PLANTS!H445=\"\",\"\",IF(DE447=\"A\",PLANTS!H445,DE447))","v":"E"},20,null,"","","","",null,null,null,"","",null,null,null,null,null,null,{"$error":"#DIV/0!"},null,"",null," ","",null,"","","","",0,0,"","",null,"","","SAEX",{"$f":"IF(PLANTS!I445=\"\",\"\",IF(DC447=\"a\",PLANTS!I445,DMA!DC447))","v":5},{"$f":"IF(PLANTS!G445=\"\",\"\",IF(DD447=\"a\",PLANTS!G445,DMA!DD447))","v":75},null,null,null,null,null,null,null,null,null,{"$f":"PLANTS!I445","v":5},{"$f":"PLANTS!G445","v":75},{"$f":"PLANTS!H445","v":"E"},null,null,null,null,"",{"$f":"IF(DMA!DJ447=\"\",\"\",(DMA!N447-SUMIF(Graphs!$O$13:$O$199,DMA!$DJ447,Graphs!$V$13:$V$199))^2)","v":""},{"$f":"IF(DMA!DK447=\"\",\"\",(DMA!O447-SUMIF(Graphs!$O$13:$O$199,DMA!$DJ447,Graphs!$V$13:$V$199))^2)","v":""},{"$f":"IF(DMA!DL447=\"\",\"\",(DMA!P447-SUMIF(Graphs!$O$13:$O$199,DMA!$DJ447,Graphs!$V$13:$V$199))^2)","v":""},"",0,"",0]
[null,null,null,null,null,null,null,null,null,null,null,null,null,null,null,null,null,null,null,{"$f":"IF(A448=\"\",\"\",(Header!C$7*Header!C$6)*A448)","v":""},null,"","","","",null,null,null,null,null,null,null,null,null,null,null,null,null,null,null,{"$f":"IF(PLANTS!A446=\"\",\"\",PLANTS!A446)","v":"SAGE2"},8.5,"",0,{"$f":"IF(PLANTS!C446=\"\",\"\",PLANTS!C446)","v":"y"},"",{"$f":"IF(PLANTS!D446=\"\",\"\",PLANTS!D446)","v":"y"},"",{"$f":"IF(PLANTS!E446=\"\",\"\",PLANTS!E446)","v":""},"",{"$f":"IF(PLANTS!F446=\"\",\"\",PLANTS!F446)","v":""},"",0,null,100,"",null,0,{"$f":"IF(PLANTS!H446=\"\",\"\",IF(DE448=\"A\",PLANTS!H446,DE448))","v":"L"},80,null,"","","","",null,null,null,"","",null,null,null,null,null,null,{"$error":"#DIV/0!"},null,"",null," ","",null,"","","","",0,0,"","",null,"","","SAGE2",{"$f":"IF(PLANTS!I446=\"\",\"\",IF(DC448=\"a\",PLANTS!I446,DMA!DC448))","v":8.5},{"$f":"IF(PLANTS!G446=\"\",\"\",IF(DD448=\"a\",PLANTS!G446,DMA!DD448))","v":100},null,null,null,null,null,null,null,null,null,{"$f":"PLANTS!I446","v":8.5},{"$f":"PLANTS!G446","v":100},{"$f":"PLANTS!H446","v":"L"},null,null,null,null,"",{"$f":"IF(DMA!DJ448=\"\",\"\",(DMA!N448-SUMIF(Graphs!$O$13:$O$199,DMA!$DJ448,Graphs!$V$13:$V$199))^2)","v":""},{"$f":"IF(DMA!DK448=\"\",\"\",(DMA!O448-SUMIF(Graphs!$O$13:$O$199,DMA!$DJ448,Graphs!$V$13:$V$199))^2)","v":""},{"$f":"IF(DMA!DL448=\"\",\"\",(DMA!P448-SUMIF(Graphs!$O$13:$O$199,DMA!$DJ448,Graphs!$V$13:$V$199))^2)","v":""},"",0,"",0]
[null,null,null,null,null,null,null,null,null,null,null,null,null,null,null,null,null,null,null,{"$f":"IF(A449=\"\",\"\",(Header!C$7*Header!C$6)*A449)","v":""},null,"","","","",null,null,null,null,null,null,null,null,null,null,null,null,null,null,null,{"$f":"IF(PLANTS!A447=\"\",\"\",PLANTS!A447)","v":"SAGO"},8.5,"",0,{"$f":"IF(PLANTS!C447=\"\",\"\",PLANTS!C447)","v":"y"},"",{"$f":"IF(PLANTS!D447=\"\",\"\",PLANTS!D447)","v":"y"},"",{"$f":"IF(PLANTS!E447=\"\",\"\",PLANTS!E447)","v":""},"",{"$f":"IF(PLANTS!F447=\"\",\"\",PLANTS!F447)","v":""},"",0,null,75,"",null,0,{"$f":"IF(PLANTS!H447=\"\",\"\",IF(DE449=\"A\",PLANTS!H447,DE449))","v":"L"},80,null,"","","","",null,null,null,"","",null,null,null,null,null,null,{"$error":"#DIV/0!"},null,"",null," ","",null,"","","","",0,0,"","",null,"","","SAGO",{"$f":"IF(PLANTS!I447=\"\",\"\",IF(DC449=\"a\",PLANTS!I447,DMA!DC449))","v":8.5},{"$f":"IF(PLANTS!G447=\"\",\"\",IF(DD449=\"a\",PLANTS!G447,DMA!DD449))","v":75},null,null,null,null,null,null,null,null,null,{"$f":"PLANTS!I447","v":8.5},{"$f":"PLANTS!G447","v":75},{"$f":"PLANTS!H447","v":"L"},null,null,null,null,"",{"$f":"IF(DMA!DJ449=\"\",\"\",(DMA!N449-SUMIF(Graphs!$O$13:$O$199,DMA!$DJ449,Graphs!$V$13:$V$199))^2)","v":""},{"$f":"IF(DMA!DK449=\"\",\"\",(DMA!O449-SUMIF(Graphs!$O$13:$O$199,DMA!$DJ449,Graphs!$V$13:$V$199))^2)","v":""},{"$f":"IF(DMA!DL449=\"\",\"\",(DMA!P449-SUMIF(Graphs!$O$13:$O$199,DMA!$DJ449,Graphs!$V$13:$V$199))^2)","v":""},"",0,"",0]
[null,null,null,null,null,null,null,null,null,null,null,null,null,null,null,null,null,null,null,{"$f":"IF(A450=\"\",\"\",(Header!C$7*Header!C$6)*A450)","v":""},null,"","","","",null,null,null,null,null,null,null,null,null,null,null,null,null,null,null,{"$f":"IF(PLANTS!A448=\"\",\"\",PLANTS!A448)","v":"SAIR"},8.5,"",0,{"$f":"IF(PLANTS!C448=\"\",\"\",PLANTS!C448)","v":"y"},"",{"$f":"IF(PLANTS!D448=\"\",\"\",PLANTS!D448)","v":"y"},"",{"$f":"IF(PLANTS!E448=\"\",\"\",PLANTS!E448)","v":""},"",{"$f":"IF(PLANTS!F448=\"\",\"\",PLANTS!F448)","v":""},"",0,null,75,"",null,0,{"$f":"IF(PLANTS!H448=\"\",\"\",IF(DE450=\"A\",PLANTS!H448,DE450))","v":"L"},80,null,"","","","",null,null,null,"","",null,null,null,null,null,null,{"$error":"#DIV/0!"},null,"",null," ","",null,"","","","",0,0,"","",null,"","","SAIR",{"$f":"IF(PLANTS!I448=\"\",\"\",IF(DC450=\"a\",PLANTS!I448,DMA!DC450))","v":8.5},{"$f":"IF(PLANTS!G448=\"\",\"\",IF(DD450=\"a\",PLANTS!G448,DMA!DD450))","v":75},null,null,null,null,null,null,null,null,null,{"$f":"PLANTS!I448","v":8.5},{"$f":"PLANTS!G448","v":75},{"$f":"PLANTS!H448","v":"L"},null,null,null,null,"",{"$f":"IF(DMA!DJ450=\"\",\"\",(DMA!N450-SUMIF(Graphs!$O$13:$O$199,DMA!$DJ450,Graphs!$V$13:$V$199))^2)","v":""},{"$f":"IF(DMA!DK450=\"\",\"\",(DMA!O450-SUMIF(Graphs!$O$13:$O$199,DMA!$DJ450,Graphs!$V$13:$V$199))^2)","v":""},{"$f":"IF(DMA!DL450=\"\",\"\",(DMA!P450-SUMIF(Graphs!$O$13:$O$199,DMA!$DJ450,Graphs!$V$13:$V$199))^2)","v":""},"",0,"",0]
[null,null,null,null,null,null,null,null,null,null,null,null,null,null,null,null,null,null,null,{"$f":"IF(A451=\"\",\"\",(Header!C$7*Header!C$6)*A451)","v":""},null,"","","","",null,null,null,null,null,null,null,null,null,null,null,null,null,null,null,{"$f":"IF(PLANTS!A449=\"\",\"\",PLANTS!A449)","v":"SAJE"},8.5,"",0,{"$f":"IF(PLANTS!C449=\"\",\"\",PLANTS!C449)","v":"y"},"",{"$f":"IF(PLANTS!D449=\"\",\"\",PLANTS!D449)","v":"y"},"",{"$f":"IF(PLANTS!E449=\"\",\"\",PLANTS!E449)","v":""},"",{"$f":"IF(PLANTS!F449=\"\",\"\",PLANTS!F449)","v":""},"",0,null,100,"",null,0,{"$f":"IF(PLANTS!H449=\"\",\"\",IF(DE451=\"A\",PLANTS!H449,DE451))","v":"L"},80,null,"","","","",null,null,null,"","",null,null,null,null,null,null,{"$error":"#DIV/0!"},null,"",null," ","",null,"","","","",0,0,"","",null,"","","SAJE",{"$f":"IF(PLANTS!I449=\"\",\"\",IF(DC451=\"a\",PLANTS!I449,DMA!DC451))","v":8.5},{"$f":"IF(PLANTS!G449=\"\",\"\",IF(DD451=\"a\",PLANTS!G449,DMA!DD451))","v":100},null,null,null,null,null,null,null,null,null,{"$f":"PLANTS!I449","v":8.5},{"$f":"PLANTS!G449","v":100},{"$f":"PLANTS!H449","v":"L"},null,null,null,null,"",{"$f":"IF(DMA!DJ451=\"\",\"\",(DMA!N451-SUMIF(Graphs!$O$13:$O$199,DMA!$DJ451,Graphs!$V$13:$V$199))^2)","v":""},{"$f":"IF(DMA!DK451=\"\",\"\",(DMA!O451-SUMIF(Graphs!$O$13:$O$199,DMA!$DJ451,Graphs!$V$13:$V$199))^2)","v":""},{"$f":"IF(DMA!DL451=\"\",\"\",(DMA!P451-SUMIF(Graphs!$O$13:$O$199,DMA!$DJ451,Graphs!$V$13:$V$199))^2)","v":""},"",0,"",0]
[null,null,null,null,null,null,null,null,null,null,null,null,null,null,null,null,null,null,null,{"$f":"IF(A452=\"\",\"\",(Header!C$7*Header!C$6)*A452)","v":""},null,"","","","",null,null,null,null,null,null,null,null,null,null,null,null,null,null,null,{"$f":"IF(PLANTS!A450=\"\",\"\",PLANTS!A450)","v":"SALA3"},8.5,"",0,{"$f":"IF(PLANTS!C450=\"\",\"\",PLANTS!C450)","v":"y"},"",{"$f":"IF(PLANTS!D450=\"\",\"\",PLANTS!D450)","v":"y"},"",{"$f":"IF(PLANTS!E450=\"\",\"\",PLANTS!E450)","v":""},"",{"$f":"IF(PLANTS!F450=\"\",\"\",PLANTS!F450)","v":""},"",0,null,75,"",null,0,{"$f":"IF(PLANTS!H450=\"\",\"\",IF(DE452=\"A\",PLANTS!H450,DE452))","v":"L"},80,null,"","","","",null,null,null,"","",null,null,null,null,null,null,{"$error":"#DIV/0!"},null,"",null," ","",null,"","","","",0,0,"","",null,"","","SALA3",{"$f":"IF(PLANTS!I450=\"\",\"\",IF(DC452=\"a\",PLANTS!I450,DMA!DC452))","v":8.5},{"$f":"IF(PLANTS!G450=\"\",\"\",IF(DD452=\"a\",PLANTS!G450,DMA!DD452))","v":75},null,null,null,null,null,null,null,null,null,{"$f":"PLANTS!I450","v":8.5},{"$f":"PLANTS!G450","v":75},{"$f":"PLANTS!H450","v":"L"},null,null,null,null,"",{"$f":"IF(DMA!DJ452=\"\",\"\",(DMA!N452-SUMIF(Graphs!$O$13:$O$199,DMA!$DJ452,Graphs!$V$13:$V$199))^2)","v":""},{"$f":"IF(DMA!DK452=\"\",\"\",(DMA!O452-SUMIF(Graphs!$O$13:$O$199,DMA!$DJ452,Graphs!$V$13:$V$199))^2)","v":""},{"$f":"IF(DMA!DL452=\"\",\"\",(DMA!P452-SUMIF(Graphs!$O$13:$O$199,DMA!$DJ452,Graphs!$V$13:$V$199))^2)","v":""},"",0,"",0]
[null,null,null,null,null,null,null,null,null,null,null,null,null,null,null,null,null,null,null,{"$f":"IF(A453=\"\",\"\",(Header!C$7*Header!C$6)*A453)","v":""},null,"","","","",null,null,null,null,null,null,null,null,null,null,null,null,null,null,null,{"$f":"IF(PLANTS!A451=\"\",\"\",PLANTS!A451)","v":"SALA5"},8.5,"",{"$f":"SUMIF(B$5:B$504,AO453,D$5:D$504)","v":0},{"$f":"IF(PLANTS!C451=\"\",\"\",PLANTS!C451)","v":"y"},{"$f":"IF($AQ453=\"\",\"\",IF($AQ453>0,IF(AS453=\"y\",COUNTIF(B$5:B$504,AO453)/AP$605,\"\"),\"\"))","v":""},{"$f":"IF(PLANTS!D451=\"\",\"\",PLANTS!D451)","v":"y"},{"$f":"IF($AQ453=\"\",\"\",IF($AQ453>0,IF(AU453=\"y\",COUNTIF($B$5:$B$504,$AO453)/$AP$605,\"\"),\"\"))","v":""},{"$f":"IF(PLANTS!E451=\"\",\"\",PLANTS!E451)","v":""},"",{"$f":"IF(PLANTS!F451=\"\",\"\",PLANTS!F451)","v":""},{"$f":"IF($AQ453=\"\",\"\",IF($AQ453>0,IF(AY453=\"y\",COUNTIF($B$5:$B$504,$AO453)/$AP$605,\"\"),\"\"))","v":""},{"$f":"IF(AQ453<>\"\",AQ453/AQ$604,0)","v":0},null,75,"",null,0,{"$f":"IF(PLANTS!H451=\"\",\"\",IF(DE453=\"A\",PLANTS!H451,DE453))","v":"L"},80,null,"","","","",null,null,null,"","",null,null,null,null,null,null,{"$error":"#DIV/0!"},null,"",null," ","",null,"","","","",0,0,"","",null,"","","SALA5",{"$f":"IF(PLANTS!I451=\"\",\"\",IF(DC453=\"a\",PLANTS!I451,DMA!DC453))","v":8.5},{"$f":"IF(PLANTS!G451=\"\",\"\",IF(DD453=\"a\",PLANTS!G451,DMA!DD453))","v":75},null,null,null,null,null,null,null,null,null,{"$f":"PLANTS!I451","v":8.5},{"$f":"PLANTS!G451","v":75},{"$f":"PLANTS!H451","v":"L"},null,null,null,null,"",{"$f":"IF(DMA!DJ453=\"\",\"\",(DMA!N453-SUMIF(Graphs!$O$13:$O$199,DMA!$DJ453,Graphs!$V$13:$V$199))^2)","v":""},{"$f":"IF(DMA!DK453=\"\",\"\",(DMA!O453-SUMIF(Graphs!$O$13:$O$199,DMA!$DJ453,Graphs!$V$13:$V$199))^2)","v":""},{"$f":"IF(DMA!DL453=\"\",\"\",(DMA!P453-SUMIF(Graphs!$O$13:$O$199,DMA!$DJ453,Graphs!$V$13:$V$199))^2)","v":""},"",{"$f":"IF(DN453<>\"\",DN453/DN$604,0)","v":0},"",0]
[null,null,null,null,null,null,null,null,null,null,null,null,null,null,null,null,null,null,null,{"$f":"IF(A454=\"\",\"\",(Header!C$7*Header!C$6)*A454)","v":""},null,"","","",{"$f":"IF($X454=\"cs\",1,IF($X454=\"cu\",2,IF($X454=\"us\",3,IF($X454=\"uu\",4,\"\"))))","v":""},null,null,null,null,null,null,null,null,null,null,null,null,null,null,null,{"$f":"IF(PLANTS!A452=\"\",\"\",PLANTS!A452)","v":"SALA6"},{"$f":"CR454","v":8.5},{"$f":"IF(AO454=\"\",\"\",IF(COUNTIF(B$5:B$504,AO454)=0,\"\",SUMIF(B$5:B$504,AO454,C$5:C$504)))","v":""},0,{"$f":"IF(PLANTS!C452=\"\",\"\",PLANTS!C452)","v":"y"},"",{"$f":"IF(PLANTS!D452=\"\",\"\",PLANTS!D452)","v":"y"},"",{"$f":"IF(PLANTS!E452=\"\",\"\",PLANTS!E452)","v":""},"",{"$f":"IF(PLANTS!F452=\"\",\"\",PLANTS!F452)","v":""},"",0,null,{"$f":"CS454","v":75},{"$f":"IF(AQ454<>\"\",BA454*$BC454,\"\")","v":""},null,0,{"$f":"IF(PLANTS!H452=\"\",\"\",IF(DE454=\"A\",PLANTS!H452,DE454))","v":"L"},80,null,{"$f":"IF($X454=\"cs\",1,IF($X454=\"fb\",1,IF($X454=\"cu\",2,IF($X454=\"us\",3,IF($X454=\"uu\",4,\"\")))))","v":""},{"$f":"IF(Y454=\"\",\"\",IF(Y454<3,\"c\",IF(Y454>2,\"u\",\"\")))","v":""},{"$f":"IF(Y454=\"\",\"\",IF(Y454=1,\"s\",IF(Y454=3,\"s\",IF(Y454=2,\"u\",IF(Y454=4,\"u\",\"\")))))","v":""},{"$f":"IF(BJ454=0,\"\",BJ454)","v":""},null,null,null,"","",null,null,null,null,null,null,{"$error":"#DIV/0!"},null,{"$f":"IF(SUM(N454:Q454)=0,\"\",SUM(N454:Q454))","v":""},null," ",{"$f":"IF(D454+J454<1,\"\",1)","v":""},null,{"$f":"IF(D454=6,1,\"\")","v":""},{"$f":"IF(CF454<>\"\",C454,\"\")","v":""},{"$f":"IF(AR454>0,IF($CF454=\"y\",AR454/$AQ$604,\"\"),\"\")","v":""},{"$f":"IF(AY454=\"\",\"\",COUNTIF(B$5:B$503,AO454))","v":""},{"$f":"IF(AU454=\"\",\"\",COUNTIF(B$5:B$503,AO454))","v":0},{"$f":"IF(AS454=\"\",\"\",COUNTIF(B$5:B$503,AO454))","v":0},{"$f":"IF(AU454=\"\",\"\",IF(AW454=\"\",\"\",COUNTIF(B$5:B$503,AO454)))","v":""},{"$f":"IF(Q454=\"\",\"\",COUNTIF($AO$5:$AO$688,Q454))","v":""},null,{"$f":"IF(CQ454=\"\",\"\",IF(COUNTIF($B$5:$B$503,$CQ454)=0,\"\",SUMIF(B$5:B$503,CQ454,C$5:C$503)/COUNTIF($B$5:$B$503,$CQ454)))","v":""},{"$f":"IF(CQ454=\"\",\"\",IF(COUNTIF(B$5:B$503,CQ454)=0,\"\",COUNTIF(B$5:B$503,CQ454)/COUNTA(B$5:B$503)))","v":""},"SALA6",{"$f":"IF(PLANTS!I452=\"\",\"\",IF(DC454=\"a\",PLANTS!I452,DMA!DC454))","v":8.5},{"$f":"IF(PLANTS!G452=\"\",\"\",IF(DD454=\"a\",PLANTS!G452,DMA!DD454))","v":75},null,null,null,null,null,null,null,null,null,{"$f":"PLANTS!I452","v":8.5},{"$f":"PLANTS!G452","v":75},{"$f":"PLANTS!H452","v":"L"},null,null,null,null,"",{"$f":"IF(DMA!DJ454=\"\",\"\",(DMA!N454-SUMIF(Graphs!$O$13:$O$199,DMA!$DJ454,Graphs!$V$13:$V$199))^2)","v":""},{"$f":"IF(DMA!DK454=\"\",\"\",(DMA!O454-SUMIF(Graphs!$O$13:$O$199,DMA!$DJ454,Graphs!$V$13:$V$199))^2)","v":""},{"$f":"IF(DMA!DL454=\"\",\"\",(DMA!P454-SUMIF(Graphs!$O$13:$O$199,DMA!$DJ454,Graphs!$V$13:$V$199))^2)","v":""},"",0,{"$f":"IF($AQ454<>\"\",$DO454*$BC454,\"\")","v":""},0]
[null,null,null,null,null,null,null,null,null,null,null,null,null,null,null,null,null,null,null,{"$f":"IF(A455=\"\",\"\",(Header!C$7*Header!C$6)*A455)","v":""},null,"","","","",null,null,null,null,null,null,null,null,null,null,null,null,null,null,null,{"$f":"IF(PLANTS!A453=\"\",\"\",PLANTS!A453)","v":"SALE"},8.5,"",0,{"$f":"IF(PLANTS!C453=\"\",\"\",PLANTS!C453)","v":"y"},"",{"$f":"IF(PLANTS!D453=\"\",\"\",PLANTS!D453)","v":"y"},"",{"$f":"IF(PLANTS!E453=\"\",\"\",PLANTS!E453)","v":""},"",{"$f":"IF(PLANTS!F453=\"\",\"\",PLANTS!F453)","v":""},"",0,null,75,"",null,0,{"$f":"IF(PLANTS!H453=\"\",\"\",IF(DE455=\"A\",PLANTS!H453,DE455))","v":"L"},80,null,"","","","",null,null,null,"","",null,null,null,null,null,null,{"$error":"#DIV/0!"},null,"",null," ","",null,"","","","",0,0,"","",null,"","","SALE",{"$f":"IF(PLANTS!I453=\"\",\"\",IF(DC455=\"a\",PLANTS!I453,DMA!DC455))","v":8.5},{"$f":"IF(PLANTS!G453=\"\",\"\",IF(DD455=\"a\",PLANTS!G453,DMA!DD455))","v":75},null,null,null,null,null,null,null,null,null,{"$f":"PLANTS!I453","v":8.5},{"$f":"PLANTS!G453","v":75},{"$f":"PLANTS!H453","v":"L"},null,null,null,null,"",{"$f":"IF(DMA!DJ455=\"\",\"\",(DMA!N455-SUMIF(Graphs!$O$13:$O$199,DMA!$DJ455,Graphs!$V$13:$V$199))^2)","v":""},{"$f":"IF(DMA!DK455=\"\",\"\",(DMA!O455-SUMIF(Graphs!$O$13:$O$199,DMA!$DJ455,Graphs!$V$13:$V$199))^2)","v":""},{"$f":"IF(DMA!DL455=\"\",\"\",(DMA!P455-SUMIF(Graphs!$O$13:$O$199,DMA!$DJ455,Graphs!$V$13:$V$199))^2)","v":""},"",0,"",0]
[null,null,null,null,null,null,null,null,null,null,null,null,null,null,null,null,null,null,null,{"$f":"IF(A456=\"\",\"\",(Header!C$7*Header!C$6)*A456)","v":""},null,"","","","",null,null,null,null,null,null,null,null,null,null,null,null,null,null,null,{"$f":"IF(PLANTS!A454=\"\",\"\",PLANTS!A454)","v":"SALIX"},5,"",0,{"$f":"IF(PLANTS!C454=\"\",\"\",PLANTS!C454)","v":"y"},"",{"$f":"IF(PLANTS!D454=\"\",\"\",PLANTS!D454)","v":"y"},"",{"$f":"IF(PLANTS!E454=\"\",\"\",PLANTS!E454)","v":""},"",{"$f":"IF(PLANTS!F454=\"\",\"\",PLANTS!F454)","v":""},"",0,null,75,"",null,0,{"$f":"IF(PLANTS!H454=\"\",\"\",IF(DE456=\"A\",PLANTS!H454,DE456))","v":"M"},50,null,"","","","",null,null,null,"","",null,null,null,null,null,null,{"$error":"#DIV/0!"},null,"",null," ","",null,"","","","",0,0,"","",null,"","","SALIX",{"$f":"IF(PLANTS!I454=\"\",\"\",IF(DC456=\"a\",PLANTS!I454,DMA!DC456))","v":5},{"$f":"IF(PLANTS!G454=\"\",\"\",IF(DD456=\"a\",PLANTS!G454,DMA!DD456))","v":75},null,null,null,null,null,null,null,null,null,{"$f":"PLANTS!I454","v":5},{"$f":"PLANTS!G454","v":75},{"$f":"PLANTS!H454","v":"M"},null,null,null,null,"",{"$f":"IF(DMA!DJ456=\"\",\"\",(DMA!N456-SUMIF(Graphs!$O$13:$O$199,DMA!$DJ456,Graphs!$V$13:$V$199))^2)","v":""},{"$f":"IF(DMA!DK456=\"\",\"\",(DMA!O456-SUMIF(Graphs!$O$13:$O$199,DMA!$DJ456,Graphs!$V$13:$V$199))^2)","v":""},{"$f":"IF(DMA!DL456=\"\",\"\",(DMA!P456-SUMIF(Graphs!$O$13:$O$199,DMA!$DJ456,Graphs!$V$13:$V$199))^2)","v":""},"",0,"",0]
[null,null,null,null,null,null,null,null,null,null,null,null,null,null,null,null,null,null,null,{"$f":"IF(A457=\"\",\"\",(Header!C$7*Header!C$6)*A457)","v":""},null,"","","","",null,null,null,null,null,null,null,null,null,null,null,null,null,null,null,{"$f":"IF(PLANTS!A455=\"\",\"\",PLANTS!A455)","v":"SALIXCL"},8.5,"",0,{"$f":"IF(PLANTS!C455=\"\",\"\",PLANTS!C455)","v":"y"},"",{"$f":"IF(PLANTS!D455=\"\",\"\",PLANTS!D455)","v":"y"},"",{"$f":"IF(PLANTS!E455=\"\",\"\",PLANTS!E455)","v":""},"",{"$f":"IF(PLANTS!F455=\"\",\"\",PLANTS!F455)","v":""},"",0,null,75,"",null,0,{"$f":"IF(PLANTS!H455=\"\",\"\",IF(DE457=\"A\",PLANTS!H455,DE457))","v":"L"},80,null,"","","","",null,null,null,"","",null,null,null,null,null,null,{"$error":"#DIV/0!"},null,"",null," ","",null,"","","","",0,0,"","",null,"","","SALIXCL",{"$f":"IF(PLANTS!I455=\"\",\"\",IF(DC457=\"a\",PLANTS!I455,DMA!DC457))","v":8.5},{"$f":"IF(PLANTS!G455=\"\",\"\",IF(DD457=\"a\",PLANTS!G455,DMA!DD457))","v":75},null,null,null,null,null,null,null,null,null,{"$f":"PLANTS!I455","v":8.5},{"$f":"PLANTS!G455","v":75},{"$f":"PLANTS!H455","v":"L"},null,null,null,null,"",{"$f":"IF(DMA!DJ457=\"\",\"\",(DMA!N457-SUMIF(Graphs!$O$13:$O$199,DMA!$DJ457,Graphs!$V$13:$V$199))^2)","v":""},{"$f":"IF(DMA!DK457=\"\",\"\",(DMA!O457-SUMIF(Graphs!$O$13:$O$199,DMA!$DJ457,Graphs!$V$13:$V$199))^2)","v":""},{"$f":"IF(DMA!DL457=\"\",\"\",(DMA!P457-SUMIF(Graphs!$O$13:$O$199,DMA!$DJ457,Graphs!$V$13:$V$199))^2)","v":""},"",0,"",0]
[null,null,null,null,null,null,null,null,null,null,null,null,null,null,null,null,null,null,null,{"$f":"IF(A458=\"\",\"\",(Header!C$7*Header!C$6)*A458)","v":""},null,"","","","",null,null,null,null,null,null,null,null,null,null,null,null,null,null,null,{"$f":"IF(PLANTS!A456=\"\",\"\",PLANTS!A456)","v":"SALIXRH"},5,"",0,{"$f":"IF(PLANTS!C456=\"\",\"\",PLANTS!C456)","v":"y"},"",{"$f":"IF(PLANTS!D456=\"\",\"\",PLANTS!D456)","v":""},"",{"$f":"IF(PLANTS!E456=\"\",\"\",PLANTS!E456)","v":""},"",{"$f":"IF(PLANTS!F456=\"\",\"\",PLANTS!F456)","v":""},"",0,null,50,"",null,0,{"$f":"IF(PLANTS!H456=\"\",\"\",IF(DE458=\"A\",PLANTS!H456,DE458))","v":"E"},20,null,"","","","",null,null,null,"","",null,null,null,null,null,null,{"$error":"#DIV/0!"},null,"",null," ","",null,"","","","","",0,"","",null,"","","SALIXRH",{"$f":"IF(PLANTS!I456=\"\",\"\",IF(DC458=\"a\",PLANTS!I456,DMA!DC458))","v":5},{"$f":"IF(PLANTS!G456=\"\",\"\",IF(DD458=\"a\",PLANTS!G456,DMA!DD458))","v":50},null,null,null,null,null,null,null,null,null,{"$f":"PLANTS!I456","v":5},{"$f":"PLANTS!G456","v":50},{"$f":"PLANTS!H456","v":"E"},null,null,null,null,"",{"$f":"IF(DMA!DJ458=\"\",\"\",(DMA!N458-SUMIF(Graphs!$O$13:$O$199,DMA!$DJ458,Graphs!$V$13:$V$199))^2)","v":""},{"$f":"IF(DMA!DK458=\"\",\"\",(DMA!O458-SUMIF(Graphs!$O$13:$O$199,DMA!$DJ458,Graphs!$V$13:$V$199))^2)","v":""},{"$f":"IF(DMA!DL458=\"\",\"\",(DMA!P458-SUMIF(Graphs!$O$13:$O$199,DMA!$DJ458,Graphs!$V$13:$V$199))^2)","v":""},"",0,"",0]
[null,null,null,null,null,null,null,null,null,null,null,null,null,null,null,null,null,null,null,{"$f":"IF(A459=\"\",\"\",(Header!C$7*Header!C$6)*A459)","v":""},null,"","","","",null,null,null,null,null,null,null,null,null,null,null,null,null,null,null,{"$f":"IF(PLANTS!A457=\"\",\"\",PLANTS!A457)","v":"SALU"},8.5,"",0,{"$f":"IF(PLANTS!C457=\"\",\"\",PLANTS!C457)","v":"y"},"",{"$f":"IF(PLANTS!D457=\"\",\"\",PLANTS!D457)","v":"y"},"",{"$f":"IF(PLANTS!E457=\"\",\"\",PLANTS!E457)","v":""},"",{"$f":"IF(PLANTS!F457=\"\",\"\",PLANTS!F457)","v":""},"",0,null,75,"",null,0,{"$f":"IF(PLANTS!H457=\"\",\"\",IF(DE459=\"A\",PLANTS!H457,DE459))","v":"L"},80,null,"","","","",null,null,null,"","",null,null,null,null,null,null,{"$error":"#DIV/0!"},null,"",null," ","",null,"","","","",0,0,"","",null,"","","SALU",{"$f":"IF(PLANTS!I457=\"\",\"\",IF(DC459=\"a\",PLANTS!I457,DMA!DC459))","v":8.5},{"$f":"IF(PLANTS!G457=\"\",\"\",IF(DD459=\"a\",PLANTS!G457,DMA!DD459))","v":75},null,null,null,null,null,null,null,null,null,{"$f":"PLANTS!I457","v":8.5},{"$f":"PLANTS!G457","v":75},{"$f":"PLANTS!H457","v":"L"},null,null,null,null,"",{"$f":"IF(DMA!DJ459=\"\",\"\",(DMA!N459-SUMIF(Graphs!$O$13:$O$199,DMA!$DJ459,Graphs!$V$13:$V$199))^2)","v":""},{"$f":"IF(DMA!DK459=\"\",\"\",(DMA!O459-SUMIF(Graphs!$O$13:$O$199,DMA!$DJ459,Graphs!$V$13:$V$199))^2)","v":""},{"$f":"IF(DMA!DL459=\"\",\"\",(DMA!P459-SUMIF(Graphs!$O$13:$O$199,DMA!$DJ459,Graphs!$V$13:$V$199))^2)","v":""},"",0,"",0]
[null,null,null,null,null,null,null,null,null,null,null,null,null,null,null,null,null,null,null,{"$f":"IF(A460=\"\",\"\",(Header!C$7*Header!C$6)*A460)","v":""},null,"","","","",null,null,null,null,null,null,null,null,null,null,null,null,null,null,null,{"$f":"IF(PLANTS!A458=\"\",\"\",PLANTS!A458)","v":"SALU2"},8.5,"",0,{"$f":"IF(PLANTS!C458=\"\",\"\",PLANTS!C458)","v":"y"},"",{"$f":"IF(PLANTS!D458=\"\",\"\",PLANTS!D458)","v":"y"},"",{"$f":"IF(PLANTS!E458=\"\",\"\",PLANTS!E458)","v":""},"",{"$f":"IF(PLANTS!F458=\"\",\"\",PLANTS!F458)","v":""},"",0,null,100,"",null,0,{"$f":"IF(PLANTS!H458=\"\",\"\",IF(DE460=\"A\",PLANTS!H458,DE460))","v":"L"},80,null,"","","","",null,null,null,"","",null,null,null,null,null,null,{"$error":"#DIV/0!"},null,"",null," ","",null,"","","","",0,0,"","",null,"","","SALU2",{"$f":"IF(PLANTS!I458=\"\",\"\",IF(DC460=\"a\",PLANTS!I458,DMA!DC460))","v":8.5},{"$f":"IF(PLANTS!G458=\"\",\"\",IF(DD460=\"a\",PLANTS!G458,DMA!DD460))","v":100},null,null,null,null,null,null,null,null,null,{"$f":"PLANTS!I458","v":8.5},{"$f":"PLANTS!G458","v":100},{"$f":"PLANTS!H458","v":"L"},null,null,null,null,"",{"$f":"IF(DMA!DJ460=\"\",\"\",(DMA!N460-SUMIF(Graphs!$O$13:$O$199,DMA!$DJ460,Graphs!$V$13:$V$199))^2)","v":""},{"$f":"IF(DMA!DK460=\"\",\"\",(DMA!O460-SUMIF(Graphs!$O$13:$O$199,DMA!$DJ460,Graphs!$V$13:$V$199))^2)","v":""},{"$f":"IF(DMA!DL460=\"\",\"\",(DMA!P460-SUMIF(Graphs!$O$13:$O$199,DMA!$DJ460,Graphs!$V$13:$V$199))^2)","v":""},"",0,"",0]
[null,null,null,null,null,null,null,null,null,null,null,null,null,null,null,null,null,null,null,{"$f":"IF(A461=\"\",\"\",(Header!C$7*Header!C$6)*A461)","v":""},null,"","","","",null,null,null,null,null,null,null,null,null,null,null,null,null,null,null,{"$f":"IF(PLANTS!A459=\"\",\"\",PLANTS!A459)","v":"SAMA2"},5,"",0,{"$f":"IF(PLANTS!C459=\"\",\"\",PLANTS!C459)","v":""},"",{"$f":"IF(PLANTS!D459=\"\",\"\",PLANTS!D459)","v":""},"",{"$f":"IF(PLANTS!E459=\"\",\"\",PLANTS!E459)","v":"y"},"",{"$f":"IF(PLANTS!F459=\"\",\"\",PLANTS!F459)","v":"y"},"",0,null,50,"",null,0,{"$f":"IF(PLANTS!H459=\"\",\"\",IF(DE461=\"A\",PLANTS!H459,DE461))","v":"M"},50,null,"","","","",null,null,null,"","",null,null,null,null,null,null,{"$error":"#DIV/0!"},null,"",null," ","",null,"","","",0,"","","","",null,"","","SAMA2",{"$f":"IF(PLANTS!I459=\"\",\"\",IF(DC461=\"a\",PLANTS!I459,DMA!DC461))","v":5},{"$f":"IF(PLANTS!G459=\"\",\"\",IF(DD461=\"a\",PLANTS!G459,DMA!DD461))","v":50},null,null,null,null,null,null,null,null,null,{"$f":"PLANTS!I459","v":5},{"$f":"PLANTS!G459","v":50},{"$f":"PLANTS!H459","v":"M"},null,null,null,null,"",{"$f":"IF(DMA!DJ461=\"\",\"\",(DMA!N461-SUMIF(Graphs!$O$13:$O$199,DMA!$DJ461,Graphs!$V$13:$V$199))^2)","v":""},{"$f":"IF(DMA!DK461=\"\",\"\",(DMA!O461-SUMIF(Graphs!$O$13:$O$199,DMA!$DJ461,Graphs!$V$13:$V$199))^2)","v":""},{"$f":"IF(DMA!DL461=\"\",\"\",(DMA!P461-SUMIF(Graphs!$O$13:$O$199,DMA!$DJ461,Graphs!$V$13:$V$199))^2)","v":""},"",0,"",0]
[null,null,null,null,null,null,null,null,null,null,null,null,null,null,null,null,null,null,null,{"$f":"IF(A462=\"\",\"\",(Header!C$7*Header!C$6)*A462)","v":""},null,"","","","",null,null,null,null,null,null,null,null,null,null,null,null,null,null,null,{"$f":"IF(PLANTS!A460=\"\",\"\",PLANTS!A460)","v":"SAMO2"},8.5,"",0,{"$f":"IF(PLANTS!C460=\"\",\"\",PLANTS!C460)","v":"y"},"",{"$f":"IF(PLANTS!D460=\"\",\"\",PLANTS!D460)","v":"y"},"",{"$f":"IF(PLANTS!E460=\"\",\"\",PLANTS!E460)","v":""},"",{"$f":"IF(PLANTS!F460=\"\",\"\",PLANTS!F460)","v":""},"",0,null,100,"",null,0,{"$f":"IF(PLANTS!H460=\"\",\"\",IF(DE462=\"A\",PLANTS!H460,DE462))","v":"L"},80,null,"","","","",null,null,null,"","",null,null,null,null,null,null,{"$error":"#DIV/0!"},null,"",null," ","",null,"","","","",0,0,"","",null,"","","SAMO2",{"$f":"IF(PLANTS!I460=\"\",\"\",IF(DC462=\"a\",PLANTS!I460,DMA!DC462))","v":8.5},{"$f":"IF(PLANTS!G460=\"\",\"\",IF(DD462=\"a\",PLANTS!G460,DMA!DD462))","v":100},null,null,null,null,null,null,null,null,null,{"$f":"PLANTS!I460","v":8.5},{"$f":"PLANTS!G460","v":100},{"$f":"PLANTS!H460","v":"L"},null,null,null,null,"",{"$f":"IF(DMA!DJ462=\"\",\"\",(DMA!N462-SUMIF(Graphs!$O$13:$O$199,DMA!$DJ462,Graphs!$V$13:$V$199))^2)","v":""},{"$f":"IF(DMA!DK462=\"\",\"\",(DMA!O462-SUMIF(Graphs!$O$13:$O$199,DMA!$DJ462,Graphs!$V$13:$V$199))^2)","v":""},{"$f":"IF(DMA!DL462=\"\",\"\",(DMA!P462-SUMIF(Graphs!$O$13:$O$199,DMA!$DJ462,Graphs!$V$13:$V$199))^2)","v":""},"",0,"",0]
[null,null,null,null,null,null,null,null,null,null,null,null,null,null,null,null,null,null,null,{"$f":"IF(A463=\"\",\"\",(Header!C$7*Header!C$6)*A463)","v":""},null,"","","","",null,null,null,null,null,null,null,null,null,null,null,null,null,null,null,{"$f":"IF(PLANTS!A461=\"\",\"\",PLANTS!A461)","v":"SANI4"},5,"",0,{"$f":"IF(PLANTS!C461=\"\",\"\",PLANTS!C461)","v":"y"},"",{"$f":"IF(PLANTS!D461=\"\",\"\",PLANTS!D461)","v":""},"",{"$f":"IF(PLANTS!E461=\"\",\"\",PLANTS!E461)","v":""},"",{"$f":"IF(PLANTS!F461=\"\",\"\",PLANTS!F461)","v":""},"",0,null,50,"",null,0,{"$f":"IF(PLANTS!H461=\"\",\"\",IF(DE463=\"A\",PLANTS!H461,DE463))","v":"M"},50,null,"","","","",null,null,null,"","",null,null,null,null,null,null,{"$error":"#DIV/0!"},null,"",null," ","",null,"","","","","",0,"","",null,"","","SANI4",{"$f":"IF(PLANTS!I461=\"\",\"\",IF(DC463=\"a\",PLANTS!I461,DMA!DC463))","v":5},{"$f":"IF(PLANTS!G461=\"\",\"\",IF(DD463=\"a\",PLANTS!G461,DMA!DD463))","v":50},null,null,null,null,null,null,null,null,null,{"$f":"PLANTS!I461","v":5},{"$f":"PLANTS!G461","v":50},{"$f":"PLANTS!H461","v":"M"},null,null,null,null,"",{"$f":"IF(DMA!DJ463=\"\",\"\",(DMA!N463-SUMIF(Graphs!$O$13:$O$199,DMA!$DJ463,Graphs!$V$13:$V$199))^2)","v":""},{"$f":"IF(DMA!DK463=\"\",\"\",(DMA!O463-SUMIF(Graphs!$O$13:$O$199,DMA!$DJ463,Graphs!$V$13:$V$199))^2)","v":""},{"$f":"IF(DMA!DL463=\"\",\"\",(DMA!P463-SUMIF(Graphs!$O$13:$O$199,DMA!$DJ463,Graphs!$V$13:$V$199))^2)","v":""},"",0,"",0]
[null,null,null,null,null,null,null,null,null,null,null,null,null,null,null,null,null,null,null,{"$f":"IF(A464=\"\",\"\",(Header!C$7*Header!C$6)*A464)","v":""},null,"","","","",null,null,null,null,null,null,null,null,null,null,null,null,null,null,null,{"$f":"IF(PLANTS!A462=\"\",\"\",PLANTS!A462)","v":"SAOD2"},2,"",0,{"$f":"IF(PLANTS!C462=\"\",\"\",PLANTS!C462)","v":""},"",{"$f":"IF(PLANTS!D462=\"\",\"\",PLANTS!D462)","v":"y"},"",{"$f":"IF(PLANTS!E462=\"\",\"\",PLANTS!E462)","v":"y"},"",{"$f":"IF(PLANTS!F462=\"\",\"\",PLANTS!F462)","v":"y"},"",0,null,75,"",null,0,{"$f":"IF(PLANTS!H462=\"\",\"\",IF(DE464=\"A\",PLANTS!H462,DE464))","v":"M"},50,null,"","","","",null,null,null,"","",null,null,null,null,null,null,{"$error":"#DIV/0!"},null,"",null," ","",null,"","","",0,0,"",0,"",null,"","","SAOD2",{"$f":"IF(PLANTS!I462=\"\",\"\",IF(DC464=\"a\",PLANTS!I462,DMA!DC464))","v":2},{"$f":"IF(PLANTS!G462=\"\",\"\",IF(DD464=\"a\",PLANTS!G462,DMA!DD464))","v":75},null,null,null,null,null,null,null,null,null,{"$f":"PLANTS!I462","v":2},{"$f":"PLANTS!G462","v":75},{"$f":"PLANTS!H462","v":"M"},null,null,null,null,"",{"$f":"IF(DMA!DJ464=\"\",\"\",(DMA!N464-SUMIF(Graphs!$O$13:$O$199,DMA!$DJ464,Graphs!$V$13:$V$199))^2)","v":""},{"$f":"IF(DMA!DK464=\"\",\"\",(DMA!O464-SUMIF(Graphs!$O$13:$O$199,DMA!$DJ464,Graphs!$V$13:$V$199))^2)","v":""},{"$f":"IF(DMA!DL464=\"\",\"\",(DMA!P464-SUMIF(Graphs!$O$13:$O$199,DMA!$DJ464,Graphs!$V$13:$V$199))^2)","v":""},"",0,"",0]
[null,null,null,null,null,null,null,null,null,null,null,null,null,null,null,null,null,null,null,{"$f":"IF(A465=\"\",\"\",(Header!C$7*Header!C$6)*A465)","v":""},null,"","","","",null,null,null,null,null,null,null,null,null,null,null,null,null,null,null,{"$f":"IF(PLANTS!A463=\"\",\"\",PLANTS!A463)","v":"SAPL2"},8.5,"",0,{"$f":"IF(PLANTS!C463=\"\",\"\",PLANTS!C463)","v":"y"},"",{"$f":"IF(PLANTS!D463=\"\",\"\",PLANTS!D463)","v":"y"},"",{"$f":"IF(PLANTS!E463=\"\",\"\",PLANTS!E463)","v":""},"",{"$f":"IF(PLANTS!F463=\"\",\"\",PLANTS!F463)","v":""},"",0,null,100,"",null,0,{"$f":"IF(PLANTS!H463=\"\",\"\",IF(DE465=\"A\",PLANTS!H463,DE465))","v":"L"},80,null,"","","","",null,null,null,"","",null,null,null,null,null,null,{"$error":"#DIV/0!"},null,"",null," ","",null,"","","","",0,0,"","",null,"","","SAPL2",{"$f":"IF(PLANTS!I463=\"\",\"\",IF(DC465=\"a\",PLANTS!I463,DMA!DC465))","v":8.5},{"$f":"IF(PLANTS!G463=\"\",\"\",IF(DD465=\"a\",PLANTS!G463,DMA!DD465))","v":100},null,null,null,null,null,null,null,null,null,{"$f":"PLANTS!I463","v":8.5},{"$f":"PLANTS!G463","v":100},{"$f":"PLANTS!H463","v":"L"},null,null,null,null,"",{"$f":"IF(DMA!DJ465=\"\",\"\",(DMA!N465-SUMIF(Graphs!$O$13:$O$199,DMA!$DJ465,Graphs!$V$13:$V$199))^2)","v":""},{"$f":"IF(DMA!DK465=\"\",\"\",(DMA!O465-SUMIF(Graphs!$O$13:$O$199,DMA!$DJ465,Graphs!$V$13:$V$199))^2)","v":""},{"$f":"IF(DMA!DL465=\"\",\"\",(DMA!P465-SUMIF(Graphs!$O$13:$O$199,DMA!$DJ465,Graphs!$V$13:$V$199))^2)","v":""},"",0,"",0]
[null,null,null,null,null,null,null,null,null,null,null,null,null,null,null,null,null,null,null,{"$f":"IF(A466=\"\",\"\",(Header!C$7*Header!C$6)*A466)","v":""},null,"","","","",null,null,null,null,null,null,null,null,null,null,null,null,null,null,null,{"$f":"IF(PLANTS!A464=\"\",\"\",PLANTS!A464)","v":"SAPR3"},8.5,"",0,{"$f":"IF(PLANTS!C464=\"\",\"\",PLANTS!C464)","v":"y"},"",{"$f":"IF(PLANTS!D464=\"\",\"\",PLANTS!D464)","v":"y"},"",{"$f":"IF(PLANTS!E464=\"\",\"\",PLANTS!E464)","v":""},"",{"$f":"IF(PLANTS!F464=\"\",\"\",PLANTS!F464)","v":""},"",0,null,100,"",null,0,{"$f":"IF(PLANTS!H464=\"\",\"\",IF(DE466=\"A\",PLANTS!H464,DE466))","v":"L"},80,null,"","","","",null,null,null,"","",null,null,null,null,null,null,{"$error":"#DIV/0!"},null,"",null," ","",null,"","","","",0,0,"","",null,"","","SAPR3",{"$f":"IF(PLANTS!I464=\"\",\"\",IF(DC466=\"a\",PLANTS!I464,DMA!DC466))","v":8.5},{"$f":"IF(PLANTS!G464=\"\",\"\",IF(DD466=\"a\",PLANTS!G464,DMA!DD466))","v":100},null,null,null,null,null,null,null,null,null,{"$f":"PLANTS!I464","v":8.5},{"$f":"PLANTS!G464","v":100},{"$f":"PLANTS!H464","v":"L"},null,null,null,null,"",{"$f":"IF(DMA!DJ466=\"\",\"\",(DMA!N466-SUMIF(Graphs!$O$13:$O$199,DMA!$DJ466,Graphs!$V$13:$V$199))^2)","v":""},{"$f":"IF(DMA!DK466=\"\",\"\",(DMA!O466-SUMIF(Graphs!$O$13:$O$199,DMA!$DJ466,Graphs!$V$13:$V$199))^2)","v":""},{"$f":"IF(DMA!DL466=\"\",\"\",(DMA!P466-SUMIF(Graphs!$O$13:$O$199,DMA!$DJ466,Graphs!$V$13:$V$199))^2)","v":""},"",0,"",0]
[null,null,null,null,null,null,null,null,null,null,null,null,null,null,null,null,null,null,null,{"$f":"IF(A467=\"\",\"\",(Header!C$7*Header!C$6)*A467)","v":""},null,"","","","",null,null,null,null,null,null,null,null,null,null,null,null,null,null,null,{"$f":"IF(PLANTS!A465=\"\",\"\",PLANTS!A465)","v":"SAPS"},8.5,"",0,{"$f":"IF(PLANTS!C465=\"\",\"\",PLANTS!C465)","v":"y"},"",{"$f":"IF(PLANTS!D465=\"\",\"\",PLANTS!D465)","v":"y"},"",{"$f":"IF(PLANTS!E465=\"\",\"\",PLANTS!E465)","v":""},"",{"$f":"IF(PLANTS!F465=\"\",\"\",PLANTS!F465)","v":""},"",0,null,75,"",null,0,{"$f":"IF(PLANTS!H465=\"\",\"\",IF(DE467=\"A\",PLANTS!H465,DE467))","v":"L"},80,null,"","","","",null,null,null,"","",null,null,null,null,null,null,{"$error":"#DIV/0!"},null,"",null," ","",null,"","","","",0,0,"","",null,"","","SAPS",{"$f":"IF(PLANTS!I465=\"\",\"\",IF(DC467=\"a\",PLANTS!I465,DMA!DC467))","v":8.5},{"$f":"IF(PLANTS!G465=\"\",\"\",IF(DD467=\"a\",PLANTS!G465,DMA!DD467))","v":75},null,null,null,null,null,null,null,null,null,{"$f":"PLANTS!I465","v":8.5},{"$f":"PLANTS!G465","v":75},{"$f":"PLANTS!H465","v":"L"},null,null,null,null,"",{"$f":"IF(DMA!DJ467=\"\",\"\",(DMA!N467-SUMIF(Graphs!$O$13:$O$199,DMA!$DJ467,Graphs!$V$13:$V$199))^2)","v":""},{"$f":"IF(DMA!DK467=\"\",\"\",(DMA!O467-SUMIF(Graphs!$O$13:$O$199,DMA!$DJ467,Graphs!$V$13:$V$199))^2)","v":""},{"$f":"IF(DMA!DL467=\"\",\"\",(DMA!P467-SUMIF(Graphs!$O$13:$O$199,DMA!$DJ467,Graphs!$V$13:$V$199))^2)","v":""},"",0,"",0]
[null,null,null,null,null,null,null,null,null,null,null,null,null,null,null,null,null,null,null,{"$f":"IF(A468=\"\",\"\",(Header!C$7*Header!C$6)*A468)","v":""},null,"","","","",null,null,null,null,null,null,null,null,null,null,null,null,null,null,null,{"$f":"IF(PLANTS!A466=\"\",\"\",PLANTS!A466)","v":"SARA2"},5,"",0,{"$f":"IF(PLANTS!C466=\"\",\"\",PLANTS!C466)","v":"y"},"",{"$f":"IF(PLANTS!D466=\"\",\"\",PLANTS!D466)","v":""},"",{"$f":"IF(PLANTS!E466=\"\",\"\",PLANTS!E466)","v":""},"",{"$f":"IF(PLANTS!F466=\"\",\"\",PLANTS!F466)","v":""},"",0,null,25,"",null,0,{"$f":"IF(PLANTS!H466=\"\",\"\",IF(DE468=\"A\",PLANTS!H466,DE468))","v":"M"},50,null,"","","","",null,null,null,"","",null,null,null,null,null,null,{"$error":"#DIV/0!"},null,{"$f":"IF(SUM(N468:Q468)=0,\"\",SUM(N468:Q468))","v":""},null," ",{"$f":"IF(D468+J468<1,\"\",1)","v":""},null,{"$f":"IF(D468=6,1,\"\")","v":""},{"$f":"IF(CF468<>\"\",C468,\"\")","v":""},{"$f":"IF(AR468>0,IF($CF468=\"y\",AR468/$AQ$604,\"\"),\"\")","v":""},"","",0,"","",null,"","","SARA2",{"$f":"IF(PLANTS!I466=\"\",\"\",IF(DC468=\"a\",PLANTS!I466,DMA!DC468))","v":5},{"$f":"IF(PLANTS!G466=\"\",\"\",IF(DD468=\"a\",PLANTS!G466,DMA!DD468))","v":25},null,null,null,null,null,null,null,null,null,{"$f":"PLANTS!I466","v":5},{"$f":"PLANTS!G466","v":25},{"$f":"PLANTS!H466","v":"M"},null,null,null,null,"",{"$f":"IF(DMA!DJ468=\"\",\"\",(DMA!N468-SUMIF(Graphs!$O$13:$O$199,DMA!$DJ468,Graphs!$V$13:$V$199))^2)","v":""},{"$f":"IF(DMA!DK468=\"\",\"\",(DMA!O468-SUMIF(Graphs!$O$13:$O$199,DMA!$DJ468,Graphs!$V$13:$V$199))^2)","v":""},{"$f":"IF(DMA!DL468=\"\",\"\",(DMA!P468-SUMIF(Graphs!$O$13:$O$199,DMA!$DJ468,Graphs!$V$13:$V$199))^2)","v":""},"",0,"",0]
[null,null,null,null,null,null,null,null,null,null,null,null,null,null,null,null,null,null,null,{"$f":"IF(A469=\"\",\"\",(Header!C$7*Header!C$6)*A469)","v":""},null,"","","","",null,null,null,null,null,null,null,null,null,null,null,null,null,null,null,{"$f":"IF(PLANTS!A467=\"\",\"\",PLANTS!A467)","v":"SASA4"},2,"",0,{"$f":"IF(PLANTS!C467=\"\",\"\",PLANTS!C467)","v":"y"},"",{"$f":"IF(PLANTS!D467=\"\",\"\",PLANTS!D467)","v":""},"",{"$f":"IF(PLANTS!E467=\"\",\"\",PLANTS!E467)","v":""},"",{"$f":"IF(PLANTS!F467=\"\",\"\",PLANTS!F467)","v":""},"",0,null,25,"",null,0,{"$f":"IF(PLANTS!H467=\"\",\"\",IF(DE469=\"A\",PLANTS!H467,DE469))","v":"E"},20,null,"","","","",null,null,null,"","",null,null,null,null,null,null,{"$error":"#DIV/0!"},null,"",null," ","",null,"","","","","",0,"","",null,"","","SASA4",{"$f":"IF(PLANTS!I467=\"\",\"\",IF(DC469=\"a\",PLANTS!I467,DMA!DC469))","v":2},{"$f":"IF(PLANTS!G467=\"\",\"\",IF(DD469=\"a\",PLANTS!G467,DMA!DD469))","v":25},null,null,null,null,null,null,null,null,null,{"$f":"PLANTS!I467","v":2},{"$f":"PLANTS!G467","v":25},{"$f":"PLANTS!H467","v":"E"},null,null,null,null,"",{"$f":"IF(DMA!DJ469=\"\",\"\",(DMA!N469-SUMIF(Graphs!$O$13:$O$199,DMA!$DJ469,Graphs!$V$13:$V$199))^2)","v":""},{"$f":"IF(DMA!DK469=\"\",\"\",(DMA!O469-SUMIF(Graphs!$O$13:$O$199,DMA!$DJ469,Graphs!$V$13:$V$199))^2)","v":""},{"$f":"IF(DMA!DL469=\"\",\"\",(DMA!P469-SUMIF(Graphs!$O$13:$O$199,DMA!$DJ469,Graphs!$V$13:$V$199))^2)","v":""},"",0,"",0]
[null,null,null,null,null,null,null,null,null,null,null,null,null,null,null,null,null,null,null,{"$f":"IF(A470=\"\",\"\",(Header!C$7*Header!C$6)*A470)","v":""},null,"","","","",null,null,null,null,null,null,null,null,null,null,null,null,null,null,null,{"$f":"IF(PLANTS!A468=\"\",\"\",PLANTS!A468)","v":"SASC"},8.5,"",0,{"$f":"IF(PLANTS!C468=\"\",\"\",PLANTS!C468)","v":"y"},"",{"$f":"IF(PLANTS!D468=\"\",\"\",PLANTS!D468)","v":""},"",{"$f":"IF(PLANTS!E468=\"\",\"\",PLANTS!E468)","v":""},"",{"$f":"IF(PLANTS!F468=\"\",\"\",PLANTS!F468)","v":""},"",0,null,50,"",null,0,{"$f":"IF(PLANTS!H468=\"\",\"\",IF(DE470=\"A\",PLANTS!H468,DE470))","v":"L"},80,null,"","","","",null,null,null,"","",null,null,null,null,null,null,{"$error":"#DIV/0!"},null,"",null," ","",null,"","","","","",0,"","",null,"","","SASC",{"$f":"IF(PLANTS!I468=\"\",\"\",IF(DC470=\"a\",PLANTS!I468,DMA!DC470))","v":8.5},{"$f":"IF(PLANTS!G468=\"\",\"\",IF(DD470=\"a\",PLANTS!G468,DMA!DD470))","v":50},null,null,null,null,null,null,null,null,null,{"$f":"PLANTS!I468","v":8.5},{"$f":"PLANTS!G468","v":50},{"$f":"PLANTS!H468","v":"L"},null,null,null,null,"",{"$f":"IF(DMA!DJ470=\"\",\"\",(DMA!N470-SUMIF(Graphs!$O$13:$O$199,DMA!$DJ470,Graphs!$V$13:$V$199))^2)","v":""},{"$f":"IF(DMA!DK470=\"\",\"\",(DMA!O470-SUMIF(Graphs!$O$13:$O$199,DMA!$DJ470,Graphs!$V$13:$V$199))^2)","v":""},{"$f":"IF(DMA!DL470=\"\",\"\",(DMA!P470-SUMIF(Graphs!$O$13:$O$199,DMA!$DJ470,Graphs!$V$13:$V$199))^2)","v":""},"",0,"",0]
[null,null,null,null,null,null,null,null,null,null,null,null,null,null,null,null,null,null,null,{"$f":"IF(A471=\"\",\"\",(Header!C$7*Header!C$6)*A471)","v":""},null,"","","","",null,null,null,null,null,null,null,null,null,null,null,null,null,null,null,{"$f":"IF(PLANTS!A469=\"\",\"\",PLANTS!A469)","v":"SASI2"},8.5,"",0,{"$f":"IF(PLANTS!C469=\"\",\"\",PLANTS!C469)","v":"y"},"",{"$f":"IF(PLANTS!D469=\"\",\"\",PLANTS!D469)","v":"y"},"",{"$f":"IF(PLANTS!E469=\"\",\"\",PLANTS!E469)","v":""},"",{"$f":"IF(PLANTS!F469=\"\",\"\",PLANTS!F469)","v":""},"",0,null,75,"",null,0,{"$f":"IF(PLANTS!H469=\"\",\"\",IF(DE471=\"A\",PLANTS!H469,DE471))","v":"L"},80,null,"","","","",null,null,null,"","",null,null,null,null,null,null,{"$error":"#DIV/0!"},null,"",null," ","",null,"","","","",0,0,"","",null,"","","SASI2",{"$f":"IF(PLANTS!I469=\"\",\"\",IF(DC471=\"a\",PLANTS!I469,DMA!DC471))","v":8.5},{"$f":"IF(PLANTS!G469=\"\",\"\",IF(DD471=\"a\",PLANTS!G469,DMA!DD471))","v":75},null,null,null,null,null,null,null,null,null,{"$f":"PLANTS!I469","v":8.5},{"$f":"PLANTS!G469","v":75},{"$f":"PLANTS!H469","v":"L"},null,null,null,null,"",{"$f":"IF(DMA!DJ471=\"\",\"\",(DMA!N471-SUMIF(Graphs!$O$13:$O$199,DMA!$DJ471,Graphs!$V$13:$V$199))^2)","v":""},{"$f":"IF(DMA!DK471=\"\",\"\",(DMA!O471-SUMIF(Graphs!$O$13:$O$199,DMA!$DJ471,Graphs!$V$13:$V$199))^2)","v":""},{"$f":"IF(DMA!DL471=\"\",\"\",(DMA!P471-SUMIF(Graphs!$O$13:$O$199,DMA!$DJ471,Graphs!$V$13:$V$199))^2)","v":""},"",0,"",0]
[null,null,null,null,null,null,null,null,null,null,null,null,null,null,null,null,null,null,null,{"$f":"IF(A472=\"\",\"\",(Header!C$7*Header!C$6)*A472)","v":""},null,"","","","",null,null,null,null,null,null,null,null,null,null,null,null,null,null,null,{"$f":"IF(PLANTS!A470=\"\",\"\",PLANTS!A470)","v":"SATA"},8.5,"",0,{"$f":"IF(PLANTS!C470=\"\",\"\",PLANTS!C470)","v":"y"},"",{"$f":"IF(PLANTS!D470=\"\",\"\",PLANTS!D470)","v":"y"},"",{"$f":"IF(PLANTS!E470=\"\",\"\",PLANTS!E470)","v":""},"",{"$f":"IF(PLANTS!F470=\"\",\"\",PLANTS!F470)","v":""},"",0,null,75,"",null,0,{"$f":"IF(PLANTS!H470=\"\",\"\",IF(DE472=\"A\",PLANTS!H470,DE472))","v":"L"},80,null,"","","","",null,null,null,"","",null,null,null,null,null,null,{"$error":"#DIV/0!"},null,"",null," ","",null,"","","","",0,0,"","",null,"","","SATA",{"$f":"IF(PLANTS!I470=\"\",\"\",IF(DC472=\"a\",PLANTS!I470,DMA!DC472))","v":8.5},{"$f":"IF(PLANTS!G470=\"\",\"\",IF(DD472=\"a\",PLANTS!G470,DMA!DD472))","v":75},null,null,null,null,null,null,null,null,null,{"$f":"PLANTS!I470","v":8.5},{"$f":"PLANTS!G470","v":75},{"$f":"PLANTS!H470","v":"L"},null,null,null,null,"",{"$f":"IF(DMA!DJ472=\"\",\"\",(DMA!N472-SUMIF(Graphs!$O$13:$O$199,DMA!$DJ472,Graphs!$V$13:$V$199))^2)","v":""},{"$f":"IF(DMA!DK472=\"\",\"\",(DMA!O472-SUMIF(Graphs!$O$13:$O$199,DMA!$DJ472,Graphs!$V$13:$V$199))^2)","v":""},{"$f":"IF(DMA!DL472=\"\",\"\",(DMA!P472-SUMIF(Graphs!$O$13:$O$199,DMA!$DJ472,Graphs!$V$13:$V$199))^2)","v":""},"",0,"",0]
[null,null,null,null,null,null,null,null,null,null,null,null,null,null,null,null,null,null,null,{"$f":"IF(A473=\"\",\"\",(Header!C$7*Header!C$6)*A473)","v":""},null,"","","","",null,null,null,null,null,null,null,null,null,null,null,null,null,null,null,{"$f":"IF(PLANTS!A471=\"\",\"\",PLANTS!A471)","v":"SATW"},8.5,"",0,{"$f":"IF(PLANTS!C471=\"\",\"\",PLANTS!C471)","v":"y"},"",{"$f":"IF(PLANTS!D471=\"\",\"\",PLANTS!D471)","v":"y"},"",{"$f":"IF(PLANTS!E471=\"\",\"\",PLANTS!E471)","v":""},"",{"$f":"IF(PLANTS!F471=\"\",\"\",PLANTS!F471)","v":""},"",0,null,75,"",null,0,{"$f":"IF(PLANTS!H471=\"\",\"\",IF(DE473=\"A\",PLANTS!H471,DE473))","v":"L"},80,null,"","","","",null,null,null,"","",null,null,null,null,null,null,{"$error":"#DIV/0!"},null,"",null," ","",null,"","","","",0,0,"","",null,"","","SATW",{"$f":"IF(PLANTS!I471=\"\",\"\",IF(DC473=\"a\",PLANTS!I471,DMA!DC473))","v":8.5},{"$f":"IF(PLANTS!G471=\"\",\"\",IF(DD473=\"a\",PLANTS!G471,DMA!DD473))","v":75},null,null,null,null,null,null,null,null,null,{"$f":"PLANTS!I471","v":8.5},{"$f":"PLANTS!G471","v":75},{"$f":"PLANTS!H471","v":"L"},null,null,null,null,"",{"$f":"IF(DMA!DJ473=\"\",\"\",(DMA!N473-SUMIF(Graphs!$O$13:$O$199,DMA!$DJ473,Graphs!$V$13:$V$199))^2)","v":""},{"$f":"IF(DMA!DK473=\"\",\"\",(DMA!O473-SUMIF(Graphs!$O$13:$O$199,DMA!$DJ473,Graphs!$V$13:$V$199))^2)","v":""},{"$f":"IF(DMA!DL473=\"\",\"\",(DMA!P473-SUMIF(Graphs!$O$13:$O$199,DMA!$DJ473,Graphs!$V$13:$V$199))^2)","v":""},"",0,"",0]
[null,null,null,null,null,null,null,null,null,null,null,null,null,null,null,null,null,null,null,{"$f":"IF(A474=\"\",\"\",(Header!C$7*Header!C$6)*A474)","v":""},null,"","","","",null,null,null,null,null,null,null,null,null,null,null,null,null,null,null,{"$f":"IF(PLANTS!A472=\"\",\"\",PLANTS!A472)","v":"SAVE4"},2,{"$f":"IF(AO474=\"\",\"\",IF(COUNTIF(B$5:B$504,AO474)=0,\"\",SUMIF(B$5:B$504,AO474,C$5:C$504)))","v":""},0,{"$f":"IF(PLANTS!C472=\"\",\"\",PLANTS!C472)","v":"y"},"",{"$f":"IF(PLANTS!D472=\"\",\"\",PLANTS!D472)","v":""},"",{"$f":"IF(PLANTS!E472=\"\",\"\",PLANTS!E472)","v":""},"",{"$f":"IF(PLANTS!F472=\"\",\"\",PLANTS!F472)","v":""},"",0,null,50,"",null,0,{"$f":"IF(PLANTS!H472=\"\",\"\",IF(DE474=\"A\",PLANTS!H472,DE474))","v":"L"},80,null,"","","","",null,null,null,"","",null,null,null,null,null,null,{"$error":"#DIV/0!"},null,"",null," ","",null,"","","","","",0,"","",null,"","","SAVE4",{"$f":"IF(PLANTS!I472=\"\",\"\",IF(DC474=\"a\",PLANTS!I472,DMA!DC474))","v":2},{"$f":"IF(PLANTS!G472=\"\",\"\",IF(DD474=\"a\",PLANTS!G472,DMA!DD474))","v":50},null,null,null,null,null,null,null,null,null,{"$f":"PLANTS!I472","v":2},{"$f":"PLANTS!G472","v":50},{"$f":"PLANTS!H472","v":"L"},null,null,null,null,"",{"$f":"IF(DMA!DJ474=\"\",\"\",(DMA!N474-SUMIF(Graphs!$O$13:$O$199,DMA!$DJ474,Graphs!$V$13:$V$199))^2)","v":""},{"$f":"IF(DMA!DK474=\"\",\"\",(DMA!O474-SUMIF(Graphs!$O$13:$O$199,DMA!$DJ474,Graphs!$V$13:$V$199))^2)","v":""},{"$f":"IF(DMA!DL474=\"\",\"\",(DMA!P474-SUMIF(Graphs!$O$13:$O$199,DMA!$DJ474,Graphs!$V$13:$V$199))^2)","v":""},"",0,"",0]
[null,null,null,null,null,null,null,null,null,null,null,null,null,null,null,null,null,null,null,{"$f":"IF(A475=\"\",\"\",(Header!C$7*Header!C$6)*A475)","v":""},null,"","","","",null,null,null,null,null,null,null,null,null,null,null,null,null,null,null,{"$f":"IF(PLANTS!A473=\"\",\"\",PLANTS!A473)","v":"SAWO"},8.5,"",0,{"$f":"IF(PLANTS!C473=\"\",\"\",PLANTS!C473)","v":"y"},"",{"$f":"IF(PLANTS!D473=\"\",\"\",PLANTS!D473)","v":"y"},"",{"$f":"IF(PLANTS!E473=\"\",\"\",PLANTS!E473)","v":""},"",{"$f":"IF(PLANTS!F473=\"\",\"\",PLANTS!F473)","v":""},"",0,null,100,"",null,0,{"$f":"IF(PLANTS!H473=\"\",\"\",IF(DE475=\"A\",PLANTS!H473,DE475))","v":"L"},80,null,"","","","",null,null,null,"","",null,null,null,null,null,null,{"$error":"#DIV/0!"},null,"",null," ","",null,"","","","",0,0,"","",null,"","","SAWO",{"$f":"IF(PLANTS!I473=\"\",\"\",IF(DC475=\"a\",PLANTS!I473,DMA!DC475))","v":8.5},{"$f":"IF(PLANTS!G473=\"\",\"\",IF(DD475=\"a\",PLANTS!G473,DMA!DD475))","v":100},null,null,null,null,null,null,null,null,null,{"$f":"PLANTS!I473","v":8.5},{"$f":"PLANTS!G473","v":100},{"$f":"PLANTS!H473","v":"L"},null,null,null,null,"",{"$f":"IF(DMA!DJ475=\"\",\"\",(DMA!N475-SUMIF(Graphs!$O$13:$O$199,DMA!$DJ475,Graphs!$V$13:$V$199))^2)","v":""},{"$f":"IF(DMA!DK475=\"\",\"\",(DMA!O475-SUMIF(Graphs!$O$13:$O$199,DMA!$DJ475,Graphs!$V$13:$V$199))^2)","v":""},{"$f":"IF(DMA!DL475=\"\",\"\",(DMA!P475-SUMIF(Graphs!$O$13:$O$199,DMA!$DJ475,Graphs!$V$13:$V$199))^2)","v":""},"",0,"",0]
[null,null,null,null,null,null,null,null,null,null,null,null,null,null,null,null,null,null,null,{"$f":"IF(A476=\"\",\"\",(Header!C$7*Header!C$6)*A476)","v":""},null,"","","","",null,null,null,null,null,null,null,null,null,null,null,null,null,null,null,{"$f":"IF(PLANTS!A474=\"\",\"\",PLANTS!A474)","v":"SCAC"},8.5,"",0,{"$f":"IF(PLANTS!C474=\"\",\"\",PLANTS!C474)","v":""},"",{"$f":"IF(PLANTS!D474=\"\",\"\",PLANTS!D474)","v":"y"},"",{"$f":"IF(PLANTS!E474=\"\",\"\",PLANTS!E474)","v":"y"},"",{"$f":"IF(PLANTS!F474=\"\",\"\",PLANTS!F474)","v":""},"",0,null,100,"",null,0,{"$f":"IF(PLANTS!H474=\"\",\"\",IF(DE476=\"A\",PLANTS!H474,DE476))","v":"L"},80,null,"","","","",null,null,null,"","",null,null,null,null,null,null,{"$error":"#DIV/0!"},null,"",null," ","",null,"","","","",0,"",0,"",null,"","","SCAC",{"$f":"IF(PLANTS!I474=\"\",\"\",IF(DC476=\"a\",PLANTS!I474,DMA!DC476))","v":8.5},{"$f":"IF(PLANTS!G474=\"\",\"\",IF(DD476=\"a\",PLANTS!G474,DMA!DD476))","v":100},null,null,null,null,null,null,null,null,null,{"$f":"PLANTS!I474","v":8.5},{"$f":"PLANTS!G474","v":100},{"$f":"PLANTS!H474","v":"L"},null,null,null,null,"",{"$f":"IF(DMA!DJ476=\"\",\"\",(DMA!N476-SUMIF(Graphs!$O$13:$O$199,DMA!$DJ476,Graphs!$V$13:$V$199))^2)","v":""},{"$f":"IF(DMA!DK476=\"\",\"\",(DMA!O476-SUMIF(Graphs!$O$13:$O$199,DMA!$DJ476,Graphs!$V$13:$V$199))^2)","v":""},{"$f":"IF(DMA!DL476=\"\",\"\",(DMA!P476-SUMIF(Graphs!$O$13:$O$199,DMA!$DJ476,Graphs!$V$13:$V$199))^2)","v":""},{"$f":"IF(AO476=\"\",\"\",IF(COUNTIF($B$5:$B$504,$AO476)=0,\"\",SUMIF($B$5:$B$504,$AO476,$C$5:$C$504)*COUNTIF(B$5:B$504,AO476)))","v":""},0,"",{"$f":"(DO476*$AP476)","v":0}]
[null,null,null,null,null,null,null,null,null,null,null,null,null,null,null,null,null,null,null,{"$f":"IF(A477=\"\",\"\",(Header!C$7*Header!C$6)*A477)","v":""},null,"","","","",null,null,null,null,null,null,null,null,null,null,null,null,null,null,null,{"$f":"IF(PLANTS!A475=\"\",\"\",PLANTS!A475)","v":"SCAC3"},8.5,"",0,{"$f":"IF(PLANTS!C475=\"\",\"\",PLANTS!C475)","v":""},"",{"$f":"IF(PLANTS!D475=\"\",\"\",PLANTS!D475)","v":"y"},"",{"$f":"IF(PLANTS!E475=\"\",\"\",PLANTS!E475)","v":"y"},"",{"$f":"IF(PLANTS!F475=\"\",\"\",PLANTS!F475)","v":""},"",0,null,100,"",null,0,{"$f":"IF(PLANTS!H475=\"\",\"\",IF(DE477=\"A\",PLANTS!H475,DE477))","v":"L"},80,null,"","","","",null,null,null,"","",null,null,null,null,null,null,{"$error":"#DIV/0!"},null,"",null," ","",null,"","","","",0,"",0,"",null,"","","SCAC3",{"$f":"IF(PLANTS!I475=\"\",\"\",IF(DC477=\"a\",PLANTS!I475,DMA!DC477))","v":8.5},{"$f":"IF(PLANTS!G475=\"\",\"\",IF(DD477=\"a\",PLANTS!G475,DMA!DD477))","v":100},null,null,null,null,null,null,null,null,null,{"$f":"PLANTS!I475","v":8.5},{"$f":"PLANTS!G475","v":100},{"$f":"PLANTS!H475","v":"L"},null,null,null,null,"",{"$f":"IF(DMA!DJ477=\"\",\"\",(DMA!N477-SUMIF(Graphs!$O$13:$O$199,DMA!$DJ477,Graphs!$V$13:$V$199))^2)","v":""},{"$f":"IF(DMA!DK477=\"\",\"\",(DMA!O477-SUMIF(Graphs!$O$13:$O$199,DMA!$DJ477,Graphs!$V$13:$V$199))^2)","v":""},{"$f":"IF(DMA!DL477=\"\",\"\",(DMA!P477-SUMIF(Graphs!$O$13:$O$199,DMA!$DJ477,Graphs!$V$13:$V$199))^2)","v":""},"",0,"",0]
[null,null,null,null,null,null,null,null,null,null,null,null,null,null,null,null,null,null,null,{"$f":"IF(A478=\"\",\"\",(Header!C$7*Header!C$6)*A478)","v":""},null,"","","","",null,null,null,null,null,null,null,null,null,null,null,null,null,null,null,{"$f":"IF(PLANTS!A476=\"\",\"\",PLANTS!A476)","v":"SCAM2"},8.5,"",0,{"$f":"IF(PLANTS!C476=\"\",\"\",PLANTS!C476)","v":""},"",{"$f":"IF(PLANTS!D476=\"\",\"\",PLANTS!D476)","v":"y"},"",{"$f":"IF(PLANTS!E476=\"\",\"\",PLANTS!E476)","v":"y"},"",{"$f":"IF(PLANTS!F476=\"\",\"\",PLANTS!F476)","v":""},"",0,null,100,"",null,0,{"$f":"IF(PLANTS!H476=\"\",\"\",IF(DE478=\"A\",PLANTS!H476,DE478))","v":"L"},80,null,"","","","",null,null,null,"","",null,null,null,null,null,null,{"$error":"#DIV/0!"},null,"",null," ","",null,"","","","",0,"",0,"",null,"","","SCAM2",{"$f":"IF(PLANTS!I476=\"\",\"\",IF(DC478=\"a\",PLANTS!I476,DMA!DC478))","v":8.5},{"$f":"IF(PLANTS!G476=\"\",\"\",IF(DD478=\"a\",PLANTS!G476,DMA!DD478))","v":100},null,null,null,null,null,null,null,null,null,{"$f":"PLANTS!I476","v":8.5},{"$f":"PLANTS!G476","v":100},{"$f":"PLANTS!H476","v":"L"},null,null,null,null,"",{"$f":"IF(DMA!DJ478=\"\",\"\",(DMA!N478-SUMIF(Graphs!$O$13:$O$199,DMA!$DJ478,Graphs!$V$13:$V$199))^2)","v":""},{"$f":"IF(DMA!DK478=\"\",\"\",(DMA!O478-SUMIF(Graphs!$O$13:$O$199,DMA!$DJ478,Graphs!$V$13:$V$199))^2)","v":""},{"$f":"IF(DMA!DL478=\"\",\"\",(DMA!P478-SUMIF(Graphs!$O$13:$O$199,DMA!$DJ478,Graphs!$V$13:$V$199))^2)","v":""},"",0,"",0]
[null,null,null,null,null,null,null,null,null,null,null,null,null,null,null,null,null,null,null,{"$f":"IF(A479=\"\",\"\",(Header!C$7*Header!C$6)*A479)","v":""},null,"","","","",null,null,null,null,null,null,null,null,null,null,null,null,null,null,null,{"$f":"IF(PLANTS!A477=\"\",\"\",PLANTS!A477)","v":"SCAM6"},8.5,"",0,{"$f":"IF(PLANTS!C477=\"\",\"\",PLANTS!C477)","v":""},"",{"$f":"IF(PLANTS!D477=\"\",\"\",PLANTS!D477)","v":"y"},"",{"$f":"IF(PLANTS!E477=\"\",\"\",PLANTS!E477)","v":"y"},"",{"$f":"IF(PLANTS!F477=\"\",\"\",PLANTS!F477)","v":""},"",0,null,100,"",null,0,{"$f":"IF(PLANTS!H477=\"\",\"\",IF(DE479=\"A\",PLANTS!H477,DE479))","v":"L"},80,null,"","","","",null,null,null,"","",null,null,null,null,null,null,{"$error":"#DIV/0!"},null,"",null," ","",null,"","","","",0,"",0,"",null,"","","SCAM6",{"$f":"IF(PLANTS!I477=\"\",\"\",IF(DC479=\"a\",PLANTS!I477,DMA!DC479))","v":8.5},{"$f":"IF(PLANTS!G477=\"\",\"\",IF(DD479=\"a\",PLANTS!G477,DMA!DD479))","v":100},null,null,null,null,null,null,null,null,null,{"$f":"PLANTS!I477","v":8.5},{"$f":"PLANTS!G477","v":100},{"$f":"PLANTS!H477","v":"L"},null,null,null,null,"",{"$f":"IF(DMA!DJ479=\"\",\"\",(DMA!N479-SUMIF(Graphs!$O$13:$O$199,DMA!$DJ479,Graphs!$V$13:$V$199))^2)","v":""},{"$f":"IF(DMA!DK479=\"\",\"\",(DMA!O479-SUMIF(Graphs!$O$13:$O$199,DMA!$DJ479,Graphs!$V$13:$V$199))^2)","v":""},{"$f":"IF(DMA!DL479=\"\",\"\",(DMA!P479-SUMIF(Graphs!$O$13:$O$199,DMA!$DJ479,Graphs!$V$13:$V$199))^2)","v":""},"",0,"",0]
[null,null,null,null,null,null,null,null,null,null,null,null,null,null,null,null,null,null,null,{"$f":"IF(A480=\"\",\"\",(Header!C$7*Header!C$6)*A480)","v":""},null,"","","","",null,null,null,null,null,null,null,null,null,null,null,null,null,null,null,{"$f":"IF(PLANTS!A478=\"\",\"\",PLANTS!A478)","v":"SCAT4"},5,"",0,{"$f":"IF(PLANTS!C478=\"\",\"\",PLANTS!C478)","v":""},"",{"$f":"IF(PLANTS!D478=\"\",\"\",PLANTS!D478)","v":"y"},"",{"$f":"IF(PLANTS!E478=\"\",\"\",PLANTS!E478)","v":"y"},{"$f":"IF(AU480=\"y\",IF(AW480=\"y\",AV480,\"\"),\"\")","v":""},{"$f":"IF(PLANTS!F478=\"\",\"\",PLANTS!F478)","v":""},"",0,null,100,"",null,{"$f":"IF(AP480=\"\",\"\",(BA480*AP480))","v":0},{"$f":"IF(PLANTS!H478=\"\",\"\",IF(DE480=\"A\",PLANTS!H478,DE480))","v":"L"},80,null,"","","","",null,null,null,"","",null,null,null,null,null,null,{"$error":"#DIV/0!"},null,"",null," ","",null,"","","","",0,"",0,"",null,"","","SCAT4",{"$f":"IF(PLANTS!I478=\"\",\"\",IF(DC480=\"a\",PLANTS!I478,DMA!DC480))","v":5},{"$f":"IF(PLANTS!G478=\"\",\"\",IF(DD480=\"a\",PLANTS!G478,DMA!DD480))","v":100},null,null,null,null,null,null,null,null,null,{"$f":"PLANTS!I478","v":5},{"$f":"PLANTS!G478","v":100},{"$f":"PLANTS!H478","v":"L"},null,null,null,null,"",{"$f":"IF(DMA!DJ480=\"\",\"\",(DMA!N480-SUMIF(Graphs!$O$13:$O$199,DMA!$DJ480,Graphs!$V$13:$V$199))^2)","v":""},{"$f":"IF(DMA!DK480=\"\",\"\",(DMA!O480-SUMIF(Graphs!$O$13:$O$199,DMA!$DJ480,Graphs!$V$13:$V$199))^2)","v":""},{"$f":"IF(DMA!DL480=\"\",\"\",(DMA!P480-SUMIF(Graphs!$O$13:$O$199,DMA!$DJ480,Graphs!$V$13:$V$199))^2)","v":""},"",0,"",0]
[null,null,null,null,null,null,null,null,null,null,null,null,null,null,null,null,null,null,null,{"$f":"IF(A481=\"\",\"\",(Header!C$7*Header!C$6)*A481)","v":""},null,"","","","",null,null,null,null,null,null,null,null,null,null,null,null,null,null,null,{"$f":"IF(PLANTS!A479=\"\",\"\",PLANTS!A479)","v":"SCCO"},8.5,"",0,{"$f":"IF(PLANTS!C479=\"\",\"\",PLANTS!C479)","v":""},"",{"$f":"IF(PLANTS!D479=\"\",\"\",PLANTS!D479)","v":"y"},"",{"$f":"IF(PLANTS!E479=\"\",\"\",PLANTS!E479)","v":"y"},"",{"$f":"IF(PLANTS!F479=\"\",\"\",PLANTS!F479)","v":""},"",0,null,75,"",null,0,{"$f":"IF(PLANTS!H479=\"\",\"\",IF(DE481=\"A\",PLANTS!H479,DE481))","v":"L"},80,null,"","","","",null,null,null,"","",null,null,null,null,null,null,{"$error":"#DIV/0!"},null,"",null," ","",null,"","","","",0,"",0,"",null,"","","SCCO",{"$f":"IF(PLANTS!I479=\"\",\"\",IF(DC481=\"a\",PLANTS!I479,DMA!DC481))","v":8.5},{"$f":"IF(PLANTS!G479=\"\",\"\",IF(DD481=\"a\",PLANTS!G479,DMA!DD481))","v":75},null,null,null,null,null,null,null,null,null,{"$f":"PLANTS!I479","v":8.5},{"$f":"PLANTS!G479","v":75},{"$f":"PLANTS!H479","v":"L"},null,null,null,null,"",{"$f":"IF(DMA!DJ481=\"\",\"\",(DMA!N481-SUMIF(Graphs!$O$13:$O$199,DMA!$DJ481,Graphs!$V$13:$V$199))^2)","v":""},{"$f":"IF(DMA!DK481=\"\",\"\",(DMA!O481-SUMIF(Graphs!$O$13:$O$199,DMA!$DJ481,Graphs!$V$13:$V$199))^2)","v":""},{"$f":"IF(DMA!DL481=\"\",\"\",(DMA!P481-SUMIF(Graphs!$O$13:$O$199,DMA!$DJ481,Graphs!$V$13:$V$199))^2)","v":""},"",0,"",0]
[null,null,null,null,null,null,null,null,null,null,null,null,null,null,null,null,null,null,null,{"$f":"IF(A482=\"\",\"\",(Header!C$7*Header!C$6)*A482)","v":""},null,"","","","",null,null,null,null,null,null,null,null,null,null,null,null,null,null,null,{"$f":"IF(PLANTS!A480=\"\",\"\",PLANTS!A480)","v":"SCCY"},5,"",0,{"$f":"IF(PLANTS!C480=\"\",\"\",PLANTS!C480)","v":""},"",{"$f":"IF(PLANTS!D480=\"\",\"\",PLANTS!D480)","v":"y"},"",{"$f":"IF(PLANTS!E480=\"\",\"\",PLANTS!E480)","v":"y"},"",{"$f":"IF(PLANTS!F480=\"\",\"\",PLANTS!F480)","v":""},"",0,null,100,"",null,0,{"$f":"IF(PLANTS!H480=\"\",\"\",IF(DE482=\"A\",PLANTS!H480,DE482))","v":"L"},80,null,"","","","",null,null,null,"","",null,null,null,null,null,null,{"$error":"#DIV/0!"},null,"",null," ","",null,"","","","",0,"",0,"",null,"","","SCCY",{"$f":"IF(PLANTS!I480=\"\",\"\",IF(DC482=\"a\",PLANTS!I480,DMA!DC482))","v":5},{"$f":"IF(PLANTS!G480=\"\",\"\",IF(DD482=\"a\",PLANTS!G480,DMA!DD482))","v":100},null,null,null,null,null,null,null,null,null,{"$f":"PLANTS!I480","v":5},{"$f":"PLANTS!G480","v":100},{"$f":"PLANTS!H480","v":"L"},null,null,null,null,"",{"$f":"IF(DMA!DJ482=\"\",\"\",(DMA!N482-SUMIF(Graphs!$O$13:$O$199,DMA!$DJ482,Graphs!$V$13:$V$199))^2)","v":""},{"$f":"IF(DMA!DK482=\"\",\"\",(DMA!O482-SUMIF(Graphs!$O$13:$O$199,DMA!$DJ482,Graphs!$V$13:$V$199))^2)","v":""},{"$f":"IF(DMA!DL482=\"\",\"\",(DMA!P482-SUMIF(Graphs!$O$13:$O$199,DMA!$DJ482,Graphs!$V$13:$V$199))^2)","v":""},"",0,"",0]
[null,null,null,null,null,null,null,null,null,null,null,null,null,null,null,null,null,null,null,{"$f":"IF(A483=\"\",\"\",(Header!C$7*Header!C$6)*A483)","v":""},null,"","","","",null,null,null,null,null,null,null,null,null,null,null,null,null,null,null,{"$f":"IF(PLANTS!A481=\"\",\"\",PLANTS!A481)","v":"SCFE"},5,"",0,{"$f":"IF(PLANTS!C481=\"\",\"\",PLANTS!C481)","v":""},"",{"$f":"IF(PLANTS!D481=\"\",\"\",PLANTS!D481)","v":"y"},"",{"$f":"IF(PLANTS!E481=\"\",\"\",PLANTS!E481)","v":"y"},"",{"$f":"IF(PLANTS!F481=\"\",\"\",PLANTS!F481)","v":""},"",0,null,100,"",null,0,{"$f":"IF(PLANTS!H481=\"\",\"\",IF(DE483=\"A\",PLANTS!H481,DE483))","v":"L"},80,null,"","","","",null,null,null,"","",null,null,null,null,null,null,{"$error":"#DIV/0!"},null,"",null," ","",null,"","","","",0,"",0,"",null,"","","SCFE",{"$f":"IF(PLANTS!I481=\"\",\"\",IF(DC483=\"a\",PLANTS!I481,DMA!DC483))","v":5},{"$f":"IF(PLANTS!G481=\"\",\"\",IF(DD483=\"a\",PLANTS!G481,DMA!DD483))","v":100},null,null,null,null,null,null,null,null,null,{"$f":"PLANTS!I481","v":5},{"$f":"PLANTS!G481","v":100},{"$f":"PLANTS!H481","v":"L"},null,null,null,null,"",{"$f":"IF(DMA!DJ483=\"\",\"\",(DMA!N483-SUMIF(Graphs!$O$13:$O$199,DMA!$DJ483,Graphs!$V$13:$V$199))^2)","v":""},{"$f":"IF(DMA!DK483=\"\",\"\",(DMA!O483-SUMIF(Graphs!$O$13:$O$199,DMA!$DJ483,Graphs!$V$13:$V$199))^2)","v":""},{"$f":"IF(DMA!DL483=\"\",\"\",(DMA!P483-SUMIF(Graphs!$O$13:$O$199,DMA!$DJ483,Graphs!$V$13:$V$199))^2)","v":""},"",0,"",0]
[null,null,null,null,null,null,null,null,null,null,null,null,null,null,null,null,null,null,null,{"$f":"IF(A484=\"\",\"\",(Header!C$7*Header!C$6)*A484)","v":""},null,"","","","",null,null,null,null,null,null,null,null,null,null,null,null,null,null,null,{"$f":"IF(PLANTS!A482=\"\",\"\",PLANTS!A482)","v":"SCGA"},2,"",0,{"$f":"IF(PLANTS!C482=\"\",\"\",PLANTS!C482)","v":""},"",{"$f":"IF(PLANTS!D482=\"\",\"\",PLANTS!D482)","v":"y"},"",{"$f":"IF(PLANTS!E482=\"\",\"\",PLANTS!E482)","v":"y"},"",{"$f":"IF(PLANTS!F482=\"\",\"\",PLANTS!F482)","v":"y"},"",0,null,100,"",null,0,{"$f":"IF(PLANTS!H482=\"\",\"\",IF(DE484=\"A\",PLANTS!H482,DE484))","v":"M"},50,null,"","","","",null,null,null,"","",null,null,null,null,null,null,{"$error":"#DIV/0!"},null,"",null," ","",null,"","","",0,0,"",0,"",null,"","","SCGA",{"$f":"IF(PLANTS!I482=\"\",\"\",IF(DC484=\"a\",PLANTS!I482,DMA!DC484))","v":2},{"$f":"IF(PLANTS!G482=\"\",\"\",IF(DD484=\"a\",PLANTS!G482,DMA!DD484))","v":100},null,null,null,null,null,null,null,null,null,{"$f":"PLANTS!I482","v":2},{"$f":"PLANTS!G482","v":100},{"$f":"PLANTS!H482","v":"M"},null,null,null,null,"",{"$f":"IF(DMA!DJ484=\"\",\"\",(DMA!N484-SUMIF(Graphs!$O$13:$O$199,DMA!$DJ484,Graphs!$V$13:$V$199))^2)","v":""},{"$f":"IF(DMA!DK484=\"\",\"\",(DMA!O484-SUMIF(Graphs!$O$13:$O$199,DMA!$DJ484,Graphs!$V$13:$V$199))^2)","v":""},{"$f":"IF(DMA!DL484=\"\",\"\",(DMA!P484-SUMIF(Graphs!$O$13:$O$199,DMA!$DJ484,Graphs!$V$13:$V$199))^2)","v":""},"",0,"",0]
[null,null,null,null,null,null,null,null,null,null,null,null,null,null,null,null,null,null,null,{"$f":"IF(A485=\"\",\"\",(Header!C$7*Header!C$6)*A485)","v":""},null,"","","","",null,null,null,null,null,null,null,null,null,null,null,null,null,null,null,{"$f":"IF(PLANTS!A483=\"\",\"\",PLANTS!A483)","v":"SCHOE6"},8.5,"",0,{"$f":"IF(PLANTS!C483=\"\",\"\",PLANTS!C483)","v":""},"",{"$f":"IF(PLANTS!D483=\"\",\"\",PLANTS!D483)","v":"y"},"",{"$f":"IF(PLANTS!E483=\"\",\"\",PLANTS!E483)","v":"y"},"",{"$f":"IF(PLANTS!F483=\"\",\"\",PLANTS!F483)","v":""},"",0,null,100,"",null,0,{"$f":"IF(PLANTS!H483=\"\",\"\",IF(DE485=\"A\",PLANTS!H483,DE485))","v":"L"},80,null,"","","","",null,null,null,"","",null,null,null,null,null,null,{"$error":"#DIV/0!"},null,"",null," ","",null,"","","","",0,"",0,"",null,"","","SCHOE6",{"$f":"IF(PLANTS!I483=\"\",\"\",IF(DC485=\"a\",PLANTS!I483,DMA!DC485))","v":8.5},{"$f":"IF(PLANTS!G483=\"\",\"\",IF(DD485=\"a\",PLANTS!G483,DMA!DD485))","v":100},null,null,null,null,null,null,null,null,null,{"$f":"PLANTS!I483","v":8.5},{"$f":"PLANTS!G483","v":100},{"$f":"PLANTS!H483","v":"L"},null,null,null,null,"",{"$f":"IF(DMA!DJ485=\"\",\"\",(DMA!N485-SUMIF(Graphs!$O$13:$O$199,DMA!$DJ485,Graphs!$V$13:$V$199))^2)","v":""},{"$f":"IF(DMA!DK485=\"\",\"\",(DMA!O485-SUMIF(Graphs!$O$13:$O$199,DMA!$DJ485,Graphs!$V$13:$V$199))^2)","v":""},{"$f":"IF(DMA!DL485=\"\",\"\",(DMA!P485-SUMIF(Graphs!$O$13:$O$199,DMA!$DJ485,Graphs!$V$13:$V$199))^2)","v":""},"",0,"",0]
[null,null,null,null,null,null,null,null,null,null,null,null,null,null,null,null,null,null,null,{"$f":"IF(A486=\"\",\"\",(Header!C$7*Header!C$6)*A486)","v":""},null,"","","","",null,null,null,null,null,null,null,null,null,null,null,null,null,null,null,{"$f":"IF(PLANTS!A484=\"\",\"\",PLANTS!A484)","v":"SCIRP"},8.5,"",0,{"$f":"IF(PLANTS!C484=\"\",\"\",PLANTS!C484)","v":""},"",{"$f":"IF(PLANTS!D484=\"\",\"\",PLANTS!D484)","v":"y"},"",{"$f":"IF(PLANTS!E484=\"\",\"\",PLANTS!E484)","v":"y"},"",{"$f":"IF(PLANTS!F484=\"\",\"\",PLANTS!F484)","v":""},"",0,null,100,"",null,0,{"$f":"IF(PLANTS!H484=\"\",\"\",IF(DE486=\"A\",PLANTS!H484,DE486))","v":"L"},80,null,"","","","",null,null,null,"","",null,null,null,null,null,null,{"$error":"#DIV/0!"},null,"",null," ","",null,"","","","",0,"",0,"",null,"","",{"$f":"AO486","v":"SCIRP"},{"$f":"IF(PLANTS!I484=\"\",\"\",IF(DC486=\"a\",PLANTS!I484,DMA!DC486))","v":8.5},{"$f":"IF(PLANTS!G484=\"\",\"\",IF(DD486=\"a\",PLANTS!G484,DMA!DD486))","v":100},null,null,null,null,null,null,null,null,null,{"$f":"PLANTS!I484","v":8.5},{"$f":"PLANTS!G484","v":100},{"$f":"PLANTS!H484","v":"L"},null,null,null,null,"",{"$f":"IF(DMA!DJ486=\"\",\"\",(DMA!N486-SUMIF(Graphs!$O$13:$O$199,DMA!$DJ486,Graphs!$V$13:$V$199))^2)","v":""},{"$f":"IF(DMA!DK486=\"\",\"\",(DMA!O486-SUMIF(Graphs!$O$13:$O$199,DMA!$DJ486,Graphs!$V$13:$V$199))^2)","v":""},{"$f":"IF(DMA!DL486=\"\",\"\",(DMA!P486-SUMIF(Graphs!$O$13:$O$199,DMA!$DJ486,Graphs!$V$13:$V$199))^2)","v":""},"",0,"",0]
[null,null,null,null,null,null,null,null,null,null,null,null,null,null,null,null,null,null,null,{"$f":"IF(A487=\"\",\"\",(Header!C$7*Header!C$6)*A487)","v":""},null,"","","","",null,null,null,null,null,null,null,null,null,null,null,null,null,null,null,{"$f":"IF(PLANTS!A485=\"\",\"\",PLANTS!A485)","v":"SCMA"},8.5,"",0,{"$f":"IF(PLANTS!C485=\"\",\"\",PLANTS!C485)","v":""},"",{"$f":"IF(PLANTS!D485=\"\",\"\",PLANTS!D485)","v":"y"},"",{"$f":"IF(PLANTS!E485=\"\",\"\",PLANTS!E485)","v":"y"},"",{"$f":"IF(PLANTS!F485=\"\",\"\",PLANTS!F485)","v":""},"",0,null,100,"",null,0,{"$f":"IF(PLANTS!H485=\"\",\"\",IF(DE487=\"A\",PLANTS!H485,DE487))","v":"L"},80,null,"","","","",null,null,null,"","",null,null,null,null,null,null,{"$error":"#DIV/0!"},null,"",null," ","",null,"","","","",0,"",0,"",null,"","","SCMA",{"$f":"IF(PLANTS!I485=\"\",\"\",IF(DC487=\"a\",PLANTS!I485,DMA!DC487))","v":8.5},{"$f":"IF(PLANTS!G485=\"\",\"\",IF(DD487=\"a\",PLANTS!G485,DMA!DD487))","v":100},null,null,null,null,null,null,null,null,null,{"$f":"PLANTS!I485","v":8.5},{"$f":"PLANTS!G485","v":100},{"$f":"PLANTS!H485","v":"L"},null,null,null,null,"",{"$f":"IF(DMA!DJ487=\"\",\"\",(DMA!N487-SUMIF(Graphs!$O$13:$O$199,DMA!$DJ487,Graphs!$V$13:$V$199))^2)","v":""},{"$f":"IF(DMA!DK487=\"\",\"\",(DMA!O487-SUMIF(Graphs!$O$13:$O$199,DMA!$DJ487,Graphs!$V$13:$V$199))^2)","v":""},{"$f":"IF(DMA!DL487=\"\",\"\",(DMA!P487-SUMIF(Graphs!$O$13:$O$199,DMA!$DJ487,Graphs!$V$13:$V$199))^2)","v":""},"",0,"",0]
[null,null,null,null,null,null,null,null,null,null,null,null,null,null,null,null,null,null,null,{"$f":"IF(A488=\"\",\"\",(Header!C$7*Header!C$6)*A488)","v":""},null,"","","","",null,null,null,null,null,null,null,null,null,null,null,null,null,null,null,{"$f":"IF(PLANTS!A486=\"\",\"\",PLANTS!A486)","v":"SCMA8"},8.5,"",0,{"$f":"IF(PLANTS!C486=\"\",\"\",PLANTS!C486)","v":""},"",{"$f":"IF(PLANTS!D486=\"\",\"\",PLANTS!D486)","v":"y"},"",{"$f":"IF(PLANTS!E486=\"\",\"\",PLANTS!E486)","v":"y"},"",{"$f":"IF(PLANTS!F486=\"\",\"\",PLANTS!F486)","v":""},"",0,null,100,"",null,0,{"$f":"IF(PLANTS!H486=\"\",\"\",IF(DE488=\"A\",PLANTS!H486,DE488))","v":"L"},80,null,"","","","",null,null,null,"","",null,null,null,null,null,null,{"$error":"#DIV/0!"},null,"",null," ","",null,"","","","",0,"",0,"",null,"","","SCMA8",{"$f":"IF(PLANTS!I486=\"\",\"\",IF(DC488=\"a\",PLANTS!I486,DMA!DC488))","v":8.5},{"$f":"IF(PLANTS!G486=\"\",\"\",IF(DD488=\"a\",PLANTS!G486,DMA!DD488))","v":100},null,null,null,null,null,null,null,null,null,{"$f":"PLANTS!I486","v":8.5},{"$f":"PLANTS!G486","v":100},{"$f":"PLANTS!H486","v":"L"},null,null,null,null,"",{"$f":"IF(DMA!DJ488=\"\",\"\",(DMA!N488-SUMIF(Graphs!$O$13:$O$199,DMA!$DJ488,Graphs!$V$13:$V$199))^2)","v":""},{"$f":"IF(DMA!DK488=\"\",\"\",(DMA!O488-SUMIF(Graphs!$O$13:$O$199,DMA!$DJ488,Graphs!$V$13:$V$199))^2)","v":""},{"$f":"IF(DMA!DL488=\"\",\"\",(DMA!P488-SUMIF(Graphs!$O$13:$O$199,DMA!$DJ488,Graphs!$V$13:$V$199))^2)","v":""},"",0,"",0]
[null,null,null,null,null,null,null,null,null,null,null,null,null,null,null,null,null,null,null,{"$f":"IF(A489=\"\",\"\",(Header!C$7*Header!C$6)*A489)","v":""},null,"","","","",null,null,null,null,null,null,null,null,null,null,null,null,null,null,null,{"$f":"IF(PLANTS!A487=\"\",\"\",PLANTS!A487)","v":"SCMI2"},8.5,"",0,{"$f":"IF(PLANTS!C487=\"\",\"\",PLANTS!C487)","v":""},"",{"$f":"IF(PLANTS!D487=\"\",\"\",PLANTS!D487)","v":"y"},"",{"$f":"IF(PLANTS!E487=\"\",\"\",PLANTS!E487)","v":"y"},"",{"$f":"IF(PLANTS!F487=\"\",\"\",PLANTS!F487)","v":""},"",0,null,100,"",null,0,{"$f":"IF(PLANTS!H487=\"\",\"\",IF(DE489=\"A\",PLANTS!H487,DE489))","v":"L"},80,null,"","","","",null,null,null,"","",null,null,null,null,null,null,{"$error":"#DIV/0!"},null,"",null," ","",null,"","","","",0,"",0,"",null,"","","SCMI2",{"$f":"IF(PLANTS!I487=\"\",\"\",IF(DC489=\"a\",PLANTS!I487,DMA!DC489))","v":8.5},{"$f":"IF(PLANTS!G487=\"\",\"\",IF(DD489=\"a\",PLANTS!G487,DMA!DD489))","v":100},null,null,null,null,null,null,null,null,null,{"$f":"PLANTS!I487","v":8.5},{"$f":"PLANTS!G487","v":100},{"$f":"PLANTS!H487","v":"L"},null,null,null,null,"",{"$f":"IF(DMA!DJ489=\"\",\"\",(DMA!N489-SUMIF(Graphs!$O$13:$O$199,DMA!$DJ489,Graphs!$V$13:$V$199))^2)","v":""},{"$f":"IF(DMA!DK489=\"\",\"\",(DMA!O489-SUMIF(Graphs!$O$13:$O$199,DMA!$DJ489,Graphs!$V$13:$V$199))^2)","v":""},{"$f":"IF(DMA!DL489=\"\",\"\",(DMA!P489-SUMIF(Graphs!$O$13:$O$199,DMA!$DJ489,Graphs!$V$13:$V$199))^2)","v":""},"",0,"",0]
[null,null,null,null,null,null,null,null,null,null,null,null,null,null,null,null,null,null,null,{"$f":"IF(A490=\"\",\"\",(Header!C$7*Header!C$6)*A490)","v":""},null,"","","","",null,null,null,null,null,null,null,null,null,null,null,null,null,null,null,{"$f":"IF(PLANTS!A488=\"\",\"\",PLANTS!A488)","v":"SCNE"},8.5,"",0,{"$f":"IF(PLANTS!C488=\"\",\"\",PLANTS!C488)","v":""},"",{"$f":"IF(PLANTS!D488=\"\",\"\",PLANTS!D488)","v":"y"},"",{"$f":"IF(PLANTS!E488=\"\",\"\",PLANTS!E488)","v":"y"},"",{"$f":"IF(PLANTS!F488=\"\",\"\",PLANTS!F488)","v":""},"",0,null,100,"",null,0,{"$f":"IF(PLANTS!H488=\"\",\"\",IF(DE490=\"A\",PLANTS!H488,DE490))","v":"L"},80,null,"","","","",null,null,null,"","",null,null,null,null,null,null,{"$error":"#DIV/0!"},null,"",null," ","",null,"","","","",0,"",0,"",null,"","","SCNE",{"$f":"IF(PLANTS!I488=\"\",\"\",IF(DC490=\"a\",PLANTS!I488,DMA!DC490))","v":8.5},{"$f":"IF(PLANTS!G488=\"\",\"\",IF(DD490=\"a\",PLANTS!G488,DMA!DD490))","v":100},null,null,null,null,null,null,null,null,null,{"$f":"PLANTS!I488","v":8.5},{"$f":"PLANTS!G488","v":100},{"$f":"PLANTS!H488","v":"L"},null,null,null,null,"",{"$f":"IF(DMA!DJ490=\"\",\"\",(DMA!N490-SUMIF(Graphs!$O$13:$O$199,DMA!$DJ490,Graphs!$V$13:$V$199))^2)","v":""},{"$f":"IF(DMA!DK490=\"\",\"\",(DMA!O490-SUMIF(Graphs!$O$13:$O$199,DMA!$DJ490,Graphs!$V$13:$V$199))^2)","v":""},{"$f":"IF(DMA!DL490=\"\",\"\",(DMA!P490-SUMIF(Graphs!$O$13:$O$199,DMA!$DJ490,Graphs!$V$13:$V$199))^2)","v":""},"",0,"",0]
[null,null,null,null,null,null,null,null,null,null,null,null,null,null,null,null,null,null,null,{"$f":"IF(A491=\"\",\"\",(Header!C$7*Header!C$6)*A491)","v":""},null,"","","","",null,null,null,null,null,null,null,null,null,null,null,null,null,null,null,{"$f":"IF(PLANTS!A489=\"\",\"\",PLANTS!A489)","v":"SCPA8"},8.5,"",0,{"$f":"IF(PLANTS!C489=\"\",\"\",PLANTS!C489)","v":""},"",{"$f":"IF(PLANTS!D489=\"\",\"\",PLANTS!D489)","v":"y"},"",{"$f":"IF(PLANTS!E489=\"\",\"\",PLANTS!E489)","v":"y"},"",{"$f":"IF(PLANTS!F489=\"\",\"\",PLANTS!F489)","v":""},"",0,null,100,"",null,0,{"$f":"IF(PLANTS!H489=\"\",\"\",IF(DE491=\"A\",PLANTS!H489,DE491))","v":"L"},80,null,"","","","",null,null,null,{"$f":"IF(E491<>\"\",E491+1,\"\")","v":""},{"$f":"IF(E491=\"\",\"\",(E491+1)/5)","v":""},null,null,null,null,null,null,{"$error":"#DIV/0!"},null,"",null," ","",null,"","","","",0,"",0,"",null,"","","SCPA8",{"$f":"IF(PLANTS!I489=\"\",\"\",IF(DC491=\"a\",PLANTS!I489,DMA!DC491))","v":8.5},{"$f":"IF(PLANTS!G489=\"\",\"\",IF(DD491=\"a\",PLANTS!G489,DMA!DD491))","v":100},null,null,null,null,null,null,null,null,null,{"$f":"PLANTS!I489","v":8.5},{"$f":"PLANTS!G489","v":100},{"$f":"PLANTS!H489","v":"L"},null,null,null,null,{"$f":"IF(M491=\"\",\"\",M491)","v":""},{"$f":"IF(DMA!DJ491=\"\",\"\",(DMA!N491-SUMIF(Graphs!$O$13:$O$199,DMA!$DJ491,Graphs!$V$13:$V$199))^2)","v":""},{"$f":"IF(DMA!DK491=\"\",\"\",(DMA!O491-SUMIF(Graphs!$O$13:$O$199,DMA!$DJ491,Graphs!$V$13:$V$199))^2)","v":""},{"$f":"IF(DMA!DL491=\"\",\"\",(DMA!P491-SUMIF(Graphs!$O$13:$O$199,DMA!$DJ491,Graphs!$V$13:$V$199))^2)","v":""},"",0,"",0]
[null,null,null,null,null,null,null,null,null,null,null,null,null,null,null,null,null,null,null,{"$f":"IF(A492=\"\",\"\",(Header!C$7*Header!C$6)*A492)","v":""},null,{"$f":"IF(F492=\"\",\"\",IF(ISNUMBER(SEARCH(F492,\"d\")),IF(ISNUMBER(SEARCH(G492,\"c\")),\"CS\",IF(ISNUMBER(SEARCH(G492,\"u\")),\"UU\")),\"\"))","v":""},{"$f":"IF(F492=\"\",\"\",IF(ISNUMBER(SEARCH(F492,\"e\")),IF(ISNUMBER(SEARCH(G492,\"c\")),IF(ISNUMBER(SEARCH(H492,\"a\")),\"CS\",\"CU\"),IF(ISNUMBER(SEARCH(H492,\"a\")),\"US\",\"UU\")),\"\"))","v":""},{"$f":"IF(V492=\"\",W492,V492)","v":""},"",null,null,null,null,null,null,null,null,null,null,null,null,null,null,null,{"$f":"IF(PLANTS!A490=\"\",\"\",PLANTS!A490)","v":"SCPU10"},8.5,"",0,{"$f":"IF(PLANTS!C490=\"\",\"\",PLANTS!C490)","v":""},"",{"$f":"IF(PLANTS!D490=\"\",\"\",PLANTS!D490)","v":"y"},"",{"$f":"IF(PLANTS!E490=\"\",\"\",PLANTS!E490)","v":"y"},"",{"$f":"IF(PLANTS!F490=\"\",\"\",PLANTS!F490)","v":""},"",0,null,100,"",null,0,{"$f":"IF(PLANTS!H490=\"\",\"\",IF(DE492=\"A\",PLANTS!H490,DE492))","v":"L"},80,null,"","","","",null,null,null,"","",null,null,null,null,null,null,{"$error":"#DIV/0!"},null,"",null," ","",null,"","","","",0,"",0,"",null,"","","SCPU10",{"$f":"IF(PLANTS!I490=\"\",\"\",IF(DC492=\"a\",PLANTS!I490,DMA!DC492))","v":8.5},{"$f":"IF(PLANTS!G490=\"\",\"\",IF(DD492=\"a\",PLANTS!G490,DMA!DD492))","v":100},null,null,null,null,null,null,null,null,null,{"$f":"PLANTS!I490","v":8.5},{"$f":"PLANTS!G490","v":100},{"$f":"PLANTS!H490","v":"L"},null,null,null,null,"",{"$f":"IF(DMA!DJ492=\"\",\"\",(DMA!N492-SUMIF(Graphs!$O$13:$O$199,DMA!$DJ492,Graphs!$V$13:$V$199))^2)","v":""},{"$f":"IF(DMA!DK492=\"\",\"\",(DMA!O492-SUMIF(Graphs!$O$13:$O$199,DMA!$DJ492,Graphs!$V$13:$V$199))^2)","v":""},{"$f":"IF(DMA!DL492=\"\",\"\",(DMA!P492-SUMIF(Graphs!$O$13:$O$199,DMA!$DJ492,Graphs!$V$13:$V$199))^2)","v":""},"",0,"",0]
[null,null,null,null,null,null,null,null,null,null,null,null,null,null,null,null,null,null,null,{"$f":"IF(A493=\"\",\"\",(Header!C$7*Header!C$6)*A493)","v":""},null,"","","","",null,null,null,null,null,null,null,null,null,null,null,null,null,null,null,{"$f":"IF(PLANTS!A491=\"\",\"\",PLANTS!A491)","v":"SCPU3"},8.5,"",0,{"$f":"IF(PLANTS!C491=\"\",\"\",PLANTS!C491)","v":""},"",{"$f":"IF(PLANTS!D491=\"\",\"\",PLANTS!D491)","v":"y"},"",{"$f":"IF(PLANTS!E491=\"\",\"\",PLANTS!E491)","v":"y"},"",{"$f":"IF(PLANTS!F491=\"\",\"\",PLANTS!F491)","v":""},"",0,null,100,"",null,0,{"$f":"IF(PLANTS!H491=\"\",\"\",IF(DE493=\"A\",PLANTS!H491,DE493))","v":"L"},80,null,"","","","",null,null,null,"","",null,null,null,null,null,null,{"$error":"#DIV/0!"},null,"",null," ","",null,"","","","",0,"",0,"",null,"","","SCPU3",{"$f":"IF(PLANTS!I491=\"\",\"\",IF(DC493=\"a\",PLANTS!I491,DMA!DC493))","v":8.5},{"$f":"IF(PLANTS!G491=\"\",\"\",IF(DD493=\"a\",PLANTS!G491,DMA!DD493))","v":100},null,null,null,null,null,null,null,null,null,{"$f":"PLANTS!I491","v":8.5},{"$f":"PLANTS!G491","v":100},{"$f":"PLANTS!H491","v":"L"},null,null,null,null,"",{"$f":"IF(DMA!DJ493=\"\",\"\",(DMA!N493-SUMIF(Graphs!$O$13:$O$199,DMA!$DJ493,Graphs!$V$13:$V$199))^2)","v":""},{"$f":"IF(DMA!DK493=\"\",\"\",(DMA!O493-SUMIF(Graphs!$O$13:$O$199,DMA!$DJ493,Graphs!$V$13:$V$199))^2)","v":""},{"$f":"IF(DMA!DL493=\"\",\"\",(DMA!P493-SUMIF(Graphs!$O$13:$O$199,DMA!$DJ493,Graphs!$V$13:$V$199))^2)","v":""},"",0,"",0]
[null,null,null,null,null,null,null,null,null,null,null,null,null,null,null,null,null,null,null,{"$f":"IF(A494=\"\",\"\",(Header!C$7*Header!C$6)*A494)","v":""},null,"","","","",null,null,null,null,null,null,null,null,null,null,null,null,null,null,null,{"$f":"IF(PLANTS!A492=\"\",\"\",PLANTS!A492)","v":"SCTA2"},8.5,"",0,{"$f":"IF(PLANTS!C492=\"\",\"\",PLANTS!C492)","v":""},"",{"$f":"IF(PLANTS!D492=\"\",\"\",PLANTS!D492)","v":"y"},"",{"$f":"IF(PLANTS!E492=\"\",\"\",PLANTS!E492)","v":"y"},"",{"$f":"IF(PLANTS!F492=\"\",\"\",PLANTS!F492)","v":""},"",0,null,100,"",null,0,{"$f":"IF(PLANTS!H492=\"\",\"\",IF(DE494=\"A\",PLANTS!H492,DE494))","v":"L"},80,null,"","","","",null,null,null,"","",null,null,null,null,null,null,{"$error":"#DIV/0!"},null,"",null," ","",null,"","","","",0,"",0,"",null,"","","SCTA2",{"$f":"IF(PLANTS!I492=\"\",\"\",IF(DC494=\"a\",PLANTS!I492,DMA!DC494))","v":8.5},{"$f":"IF(PLANTS!G492=\"\",\"\",IF(DD494=\"a\",PLANTS!G492,DMA!DD494))","v":100},null,null,null,null,null,null,null,null,null,{"$f":"PLANTS!I492","v":8.5},{"$f":"PLANTS!G492","v":100},{"$f":"PLANTS!H492","v":"L"},null,null,null,null,"",{"$f":"IF(DMA!DJ494=\"\",\"\",(DMA!N494-SUMIF(Graphs!$O$13:$O$199,DMA!$DJ494,Graphs!$V$13:$V$199))^2)","v":""},{"$f":"IF(DMA!DK494=\"\",\"\",(DMA!O494-SUMIF(Graphs!$O$13:$O$199,DMA!$DJ494,Graphs!$V$13:$V$199))^2)","v":""},{"$f":"IF(DMA!DL494=\"\",\"\",(DMA!P494-SUMIF(Graphs!$O$13:$O$199,DMA!$DJ494,Graphs!$V$13:$V$199))^2)","v":""},"",0,"",0]
[null,null,null,null,null,null,null,null,null,null,null,null,null,null,null,null,null,null,null,{"$f":"IF(A495=\"\",\"\",(Header!C$7*Header!C$6)*A495)","v":""},null,"","","","",null,null,null,null,null,null,null,null,null,null,null,null,null,null,null,{"$f":"IF(PLANTS!A493=\"\",\"\",PLANTS!A493)","v":"SCVA"},8.5,"",0,{"$f":"IF(PLANTS!C493=\"\",\"\",PLANTS!C493)","v":""},"",{"$f":"IF(PLANTS!D493=\"\",\"\",PLANTS!D493)","v":"y"},"",{"$f":"IF(PLANTS!E493=\"\",\"\",PLANTS!E493)","v":"y"},"",{"$f":"IF(PLANTS!F493=\"\",\"\",PLANTS!F493)","v":""},"",0,null,100,"",null,0,{"$f":"IF(PLANTS!H493=\"\",\"\",IF(DE495=\"A\",PLANTS!H493,DE495))","v":"L"},80,null,"","","","",null,null,null,"","",null,null,null,null,null,null,{"$error":"#DIV/0!"},null,"",null," ","",null,"","","","",0,"",0,"",null,"","","SCVA",{"$f":"IF(PLANTS!I493=\"\",\"\",IF(DC495=\"a\",PLANTS!I493,DMA!DC495))","v":8.5},{"$f":"IF(PLANTS!G493=\"\",\"\",IF(DD495=\"a\",PLANTS!G493,DMA!DD495))","v":100},null,null,null,null,null,null,null,null,null,{"$f":"PLANTS!I493","v":8.5},{"$f":"PLANTS!G493","v":100},{"$f":"PLANTS!H493","v":"L"},null,null,null,null,"",{"$f":"IF(DMA!DJ495=\"\",\"\",(DMA!N495-SUMIF(Graphs!$O$13:$O$199,DMA!$DJ495,Graphs!$V$13:$V$199))^2)","v":""},{"$f":"IF(DMA!DK495=\"\",\"\",(DMA!O495-SUMIF(Graphs!$O$13:$O$199,DMA!$DJ495,Graphs!$V$13:$V$199))^2)","v":""},{"$f":"IF(DMA!DL495=\"\",\"\",(DMA!P495-SUMIF(Graphs!$O$13:$O$199,DMA!$DJ495,Graphs!$V$13:$V$199))^2)","v":""},"",0,"",0]
[null,null,null,null,null,null,null,null,null,null,null,null,null,null,null,null,null,null,null,{"$f":"IF(A496=\"\",\"\",(Header!C$7*Header!C$6)*A496)","v":""},null,"","","","",null,null,null,null,null,null,null,null,null,null,null,null,null,null,null,{"$f":"IF(PLANTS!A494=\"\",\"\",PLANTS!A494)","v":"SEHY2"},2,"",0,{"$f":"IF(PLANTS!C494=\"\",\"\",PLANTS!C494)","v":""},"",{"$f":"IF(PLANTS!D494=\"\",\"\",PLANTS!D494)","v":"y"},"",{"$f":"IF(PLANTS!E494=\"\",\"\",PLANTS!E494)","v":"y"},"",{"$f":"IF(PLANTS!F494=\"\",\"\",PLANTS!F494)","v":"y"},"",0,null,100,"",null,0,{"$f":"IF(PLANTS!H494=\"\",\"\",IF(DE496=\"A\",PLANTS!H494,DE496))","v":"M"},50,null,"","","","",null,null,null,"","",null,null,null,null,null,null,{"$error":"#DIV/0!"},null,"",null," ","",null,"","","",0,0,"",0,"",null,"","","SEHY2",{"$f":"IF(PLANTS!I494=\"\",\"\",IF(DC496=\"a\",PLANTS!I494,DMA!DC496))","v":2},{"$f":"IF(PLANTS!G494=\"\",\"\",IF(DD496=\"a\",PLANTS!G494,DMA!DD496))","v":100},null,null,null,null,null,null,null,null,null,{"$f":"PLANTS!I494","v":2},{"$f":"PLANTS!G494","v":100},{"$f":"PLANTS!H494","v":"M"},null,null,null,null,"",{"$f":"IF(DMA!DJ496=\"\",\"\",(DMA!N496-SUMIF(Graphs!$O$13:$O$199,DMA!$DJ496,Graphs!$V$13:$V$199))^2)","v":""},{"$f":"IF(DMA!DK496=\"\",\"\",(DMA!O496-SUMIF(Graphs!$O$13:$O$199,DMA!$DJ496,Graphs!$V$13:$V$199))^2)","v":""},{"$f":"IF(DMA!DL496=\"\",\"\",(DMA!P496-SUMIF(Graphs!$O$13:$O$199,DMA!$DJ496,Graphs!$V$13:$V$199))^2)","v":""},"",0,"",0]
[null,null,null,null,null,null,null,null,null,null,null,null,null,null,null,null,null,null,null,{"$f":"IF(A497=\"\",\"\",(Header!C$7*Header!C$6)*A497)","v":""},null,"","","","",null,null,null,null,null,null,null,null,null,null,null,null,null,null,null,{"$f":"IF(PLANTS!A495=\"\",\"\",PLANTS!A495)","v":"SEIN2"},2,"",0,{"$f":"IF(PLANTS!C495=\"\",\"\",PLANTS!C495)","v":""},"",{"$f":"IF(PLANTS!D495=\"\",\"\",PLANTS!D495)","v":""},"",{"$f":"IF(PLANTS!E495=\"\",\"\",PLANTS!E495)","v":"y"},"",{"$f":"IF(PLANTS!F495=\"\",\"\",PLANTS!F495)","v":"y"},"",0,null,25,"",null,0,{"$f":"IF(PLANTS!H495=\"\",\"\",IF(DE497=\"A\",PLANTS!H495,DE497))","v":"E"},20,null,"","","","",null,null,null,"","",null,null,null,null,null,null,{"$error":"#DIV/0!"},null,"",null," ","",null,"","","",0,"","","","",null,"","","SEIN2",{"$f":"IF(PLANTS!I495=\"\",\"\",IF(DC497=\"a\",PLANTS!I495,DMA!DC497))","v":2},{"$f":"IF(PLANTS!G495=\"\",\"\",IF(DD497=\"a\",PLANTS!G495,DMA!DD497))","v":25},null,null,null,null,null,null,null,null,null,{"$f":"PLANTS!I495","v":2},{"$f":"PLANTS!G495","v":25},{"$f":"PLANTS!H495","v":"E"},null,null,null,null,"",{"$f":"IF(DMA!DJ497=\"\",\"\",(DMA!N497-SUMIF(Graphs!$O$13:$O$199,DMA!$DJ497,Graphs!$V$13:$V$199))^2)","v":""},{"$f":"IF(DMA!DK497=\"\",\"\",(DMA!O497-SUMIF(Graphs!$O$13:$O$199,DMA!$DJ497,Graphs!$V$13:$V$199))^2)","v":""},{"$f":"IF(DMA!DL497=\"\",\"\",(DMA!P497-SUMIF(Graphs!$O$13:$O$199,DMA!$DJ497,Graphs!$V$13:$V$199))^2)","v":""},"",0,"",0]
[null,null,null,null,null,null,null,null,null,null,null,null,null,null,null,null,null,null,null,{"$f":"IF(A498=\"\",\"\",(Header!C$7*Header!C$6)*A498)","v":""},null,"","","","",null,null,null,null,null,null,null,null,null,null,null,null,null,null,null,{"$f":"IF(PLANTS!A496=\"\",\"\",PLANTS!A496)","v":"SESE2"},2,"",0,{"$f":"IF(PLANTS!C496=\"\",\"\",PLANTS!C496)","v":""},"",{"$f":"IF(PLANTS!D496=\"\",\"\",PLANTS!D496)","v":""},"",{"$f":"IF(PLANTS!E496=\"\",\"\",PLANTS!E496)","v":"y"},"",{"$f":"IF(PLANTS!F496=\"\",\"\",PLANTS!F496)","v":"y"},"",0,null,25,"",null,0,{"$f":"IF(PLANTS!H496=\"\",\"\",IF(DE498=\"A\",PLANTS!H496,DE498))","v":"E"},20,null,"","","","",null,null,null,"","",null,null,null,null,null,null,{"$error":"#DIV/0!"},null,"",null," ","",null,"","","",0,"","","","",null,"","","SESE2",{"$f":"IF(PLANTS!I496=\"\",\"\",IF(DC498=\"a\",PLANTS!I496,DMA!DC498))","v":2},{"$f":"IF(PLANTS!G496=\"\",\"\",IF(DD498=\"a\",PLANTS!G496,DMA!DD498))","v":25},null,null,null,null,null,null,null,null,null,{"$f":"PLANTS!I496","v":2},{"$f":"PLANTS!G496","v":25},{"$f":"PLANTS!H496","v":"E"},null,null,null,null,"",{"$f":"IF(DMA!DJ498=\"\",\"\",(DMA!N498-SUMIF(Graphs!$O$13:$O$199,DMA!$DJ498,Graphs!$V$13:$V$199))^2)","v":""},{"$f":"IF(DMA!DK498=\"\",\"\",(DMA!O498-SUMIF(Graphs!$O$13:$O$199,DMA!$DJ498,Graphs!$V$13:$V$199))^2)","v":""},{"$f":"IF(DMA!DL498=\"\",\"\",(DMA!P498-SUMIF(Graphs!$O$13:$O$199,DMA!$DJ498,Graphs!$V$13:$V$199))^2)","v":""},"",0,"",0]
[null,null,null,null,null,null,null,null,null,null,null,null,null,null,null,null,null,null,null,{"$f":"IF(A499=\"\",\"\",(Header!C$7*Header!C$6)*A499)","v":""},null,"","","","",null,null,null,null,null,null,null,null,null,null,null,null,null,null,null,{"$f":"IF(PLANTS!A497=\"\",\"\",PLANTS!A497)","v":"SETR"},2,"",0,{"$f":"IF(PLANTS!C497=\"\",\"\",PLANTS!C497)","v":""},"",{"$f":"IF(PLANTS!D497=\"\",\"\",PLANTS!D497)","v":"y"},"",{"$f":"IF(PLANTS!E497=\"\",\"\",PLANTS!E497)","v":"y"},"",{"$f":"IF(PLANTS!F497=\"\",\"\",PLANTS!F497)","v":"y"},"",0,null,75,"",null,0,{"$f":"IF(PLANTS!H497=\"\",\"\",IF(DE499=\"A\",PLANTS!H497,DE499))","v":"M"},50,null,"","","","",null,null,null,"","",null,null,null,null,null,null,{"$error":"#DIV/0!"},null,"",null," ","",null,"","","",0,0,"",0,"",null,"","","SETR",{"$f":"IF(PLANTS!I497=\"\",\"\",IF(DC499=\"a\",PLANTS!I497,DMA!DC499))","v":2},{"$f":"IF(PLANTS!G497=\"\",\"\",IF(DD499=\"a\",PLANTS!G497,DMA!DD499))","v":75},null,null,null,null,null,null,null,null,null,{"$f":"PLANTS!I497","v":2},{"$f":"PLANTS!G497","v":75},{"$f":"PLANTS!H497","v":"M"},null,null,null,null,"",{"$f":"IF(DMA!DJ499=\"\",\"\",(DMA!N499-SUMIF(Graphs!$O$13:$O$199,DMA!$DJ499,Graphs!$V$13:$V$199))^2)","v":""},{"$f":"IF(DMA!DK499=\"\",\"\",(DMA!O499-SUMIF(Graphs!$O$13:$O$199,DMA!$DJ499,Graphs!$V$13:$V$199))^2)","v":""},{"$f":"IF(DMA!DL499=\"\",\"\",(DMA!P499-SUMIF(Graphs!$O$13:$O$199,DMA!$DJ499,Graphs!$V$13:$V$199))^2)","v":""},"",0,"",0]
[null,null,null,null,null,null,null,null,null,null,null,null,null,null,null,null,null,null,null,{"$f":"IF(A500=\"\",\"\",(Header!C$7*Header!C$6)*A500)","v":""},null,"","","","",null,null,null,null,null,null,null,null,null,null,null,null,null,null,null,{"$f":"IF(PLANTS!A498=\"\",\"\",PLANTS!A498)","v":"SHAR"},5,"",0,{"$f":"IF(PLANTS!C498=\"\",\"\",PLANTS!C498)","v":"y"},"",{"$f":"IF(PLANTS!D498=\"\",\"\",PLANTS!D498)","v":""},"",{"$f":"IF(PLANTS!E498=\"\",\"\",PLANTS!E498)","v":""},"",{"$f":"IF(PLANTS!F498=\"\",\"\",PLANTS!F498)","v":""},"",0,null,25,"",null,0,{"$f":"IF(PLANTS!H498=\"\",\"\",IF(DE500=\"A\",PLANTS!H498,DE500))","v":"M"},50,null,"","","","",null,null,null,"","",null,null,null,null,null,null,{"$f":"IF(I500=BZ$3,J500,\"\")","v":{"$error":"#DIV/0!"}},null,"",null," ","",null,"","","","","",0,"","",null,"","","SHAR",{"$f":"IF(PLANTS!I498=\"\",\"\",IF(DC500=\"a\",PLANTS!I498,DMA!DC500))","v":5},{"$f":"IF(PLANTS!G498=\"\",\"\",IF(DD500=\"a\",PLANTS!G498,DMA!DD500))","v":25},null,null,null,null,null,null,null,null,null,{"$f":"PLANTS!I498","v":5},{"$f":"PLANTS!G498","v":25},{"$f":"PLANTS!H498","v":"M"},null,null,null,null,"",{"$f":"IF(DMA!DJ500=\"\",\"\",(DMA!N500-SUMIF(Graphs!$O$13:$O$199,DMA!$DJ500,Graphs!$V$13:$V$199))^2)","v":""},{"$f":"IF(DMA!DK500=\"\",\"\",(DMA!O500-SUMIF(Graphs!$O$13:$O$199,DMA!$DJ500,Graphs!$V$13:$V$199))^2)","v":""},{"$f":"IF(DMA!DL500=\"\",\"\",(DMA!P500-SUMIF(Graphs!$O$13:$O$199,DMA!$DJ500,Graphs!$V$13:$V$199))^2)","v":""},"",0,"",0]
[null,null,null,null,null,null,null,null,null,null,null,null,null,null,null,null,null,null,null,{"$f":"IF(A501=\"\",\"\",(Header!C$7*Header!C$6)*A501)","v":""},null,"","","","",null,null,null,null,null,null,null,null,null,null,null,null,null,null,null,{"$f":"IF(PLANTS!A499=\"\",\"\",PLANTS!A499)","v":"SMST"},2,"",0,{"$f":"IF(PLANTS!C499=\"\",\"\",PLANTS!C499)","v":""},"",{"$f":"IF(PLANTS!D499=\"\",\"\",PLANTS!D499)","v":""},"",{"$f":"IF(PLANTS!E499=\"\",\"\",PLANTS!E499)","v":"y"},"",{"$f":"IF(PLANTS!F499=\"\",\"\",PLANTS!F499)","v":"y"},"",0,null,25,"",null,0,{"$f":"IF(PLANTS!H499=\"\",\"\",IF(DE501=\"A\",PLANTS!H499,DE501))","v":"E"},20,null,"","","","",null,null,null,"","",null,null,null,null,null,null,{"$f":"IF(I501=BZ$3,J501,\"\")","v":{"$error":"#DIV/0!"}},null,"",null," ","",null,"","","",0,"","","","",null,"","","SMST",{"$f":"IF(PLANTS!I499=\"\",\"\",IF(DC501=\"a\",PLANTS!I499,DMA!DC501))","v":2},{"$f":"IF(PLANTS!G499=\"\",\"\",IF(DD501=\"a\",PLANTS!G499,DMA!DD501))","v":25},null,null,null,null,null,null,null,null,null,{"$f":"PLANTS!I499","v":2},{"$f":"PLANTS!G499","v":25},{"$f":"PLANTS!H499","v":"E"},null,null,null,null,"",{"$f":"IF(DMA!DJ501=\"\",\"\",(DMA!N501-SUMIF(Graphs!$O$13:$O$199,DMA!$DJ501,Graphs!$V$13:$V$199))^2)","v":""},{"$f":"IF(DMA!DK501=\"\",\"\",(DMA!O501-SUMIF(Graphs!$O$13:$O$199,DMA!$DJ501,Graphs!$V$13:$V$199))^2)","v":""},{"$f":"IF(DMA!DL501=\"\",\"\",(DMA!P501-SUMIF(Graphs!$O$13:$O$199,DMA!$DJ501,Graphs!$V$13:$V$199))^2)","v":""},"",0,"",0]
[null,null,null,null,null,null,null,null,null,null,null,null,null,null,null,null,null,null,null,{"$f":"IF(A502=\"\",\"\",(Header!C$7*Header!C$6)*A502)","v":""},null,"","","","",null,null,null,null,null,null,null,null,null,null,null,null,null,null,null,{"$f":"IF(PLANTS!A500=\"\",\"\",PLANTS!A500)","v":"SOAS"},2,"",0,{"$f":"IF(PLANTS!C500=\"\",\"\",PLANTS!C500)","v":""},"",{"$f":"IF(PLANTS!D500=\"\",\"\",PLANTS!D500)","v":""},"",{"$f":"IF(PLANTS!E500=\"\",\"\",PLANTS!E500)","v":"y"},"",{"$f":"IF(PLANTS!F500=\"\",\"\",PLANTS!F500)","v":"y"},"",0,null,50,"",null,0,{"$f":"IF(PLANTS!H500=\"\",\"\",IF(DE502=\"A\",PLANTS!H500,DE502))","v":"E"},20,null,"","","","",null,null,null,"","",null,null,null,null,null,null,{"$f":"IF(I502=BZ$3,J502,\"\")","v":{"$error":"#DIV/0!"}},null,"",null," ","",null,"","","",0,"","","","",null,"","","SOAS",{"$f":"IF(PLANTS!I500=\"\",\"\",IF(DC502=\"a\",PLANTS!I500,DMA!DC502))","v":2},{"$f":"IF(PLANTS!G500=\"\",\"\",IF(DD502=\"a\",PLANTS!G500,DMA!DD502))","v":50},null,null,null,null,null,null,null,null,null,{"$f":"PLANTS!I500","v":2},{"$f":"PLANTS!G500","v":50},{"$f":"PLANTS!H500","v":"E"},null,null,null,null,"",{"$f":"IF(DMA!DJ502=\"\",\"\",(DMA!N502-SUMIF(Graphs!$O$13:$O$199,DMA!$DJ502,Graphs!$V$13:$V$199))^2)","v":""},{"$f":"IF(DMA!DK502=\"\",\"\",(DMA!O502-SUMIF(Graphs!$O$13:$O$199,DMA!$DJ502,Graphs!$V$13:$V$199))^2)","v":""},{"$f":"IF(DMA!DL502=\"\",\"\",(DMA!P502-SUMIF(Graphs!$O$13:$O$199,DMA!$DJ502,Graphs!$V$13:$V$199))^2)","v":""},"",0,"",0]
[null,null,null,null,null,null,null,null,null,null,null,null,null,null,null,null,null,null,null,null,null,"","","","",null,null,null,null,null,null,null,null,null,null,null,null,null,null,null,{"$f":"IF(PLANTS!A501=\"\",\"\",PLANTS!A501)","v":"SOCA6"},2,"",0,{"$f":"IF(PLANTS!C501=\"\",\"\",PLANTS!C501)","v":""},"",{"$f":"IF(PLANTS!D501=\"\",\"\",PLANTS!D501)","v":""},"",{"$f":"IF(PLANTS!E501=\"\",\"\",PLANTS!E501)","v":"y"},"",{"$f":"IF(PLANTS!F501=\"\",\"\",PLANTS!F501)","v":"y"},"",0,null,25,"",null,0,{"$f":"IF(PLANTS!H501=\"\",\"\",IF(DE503=\"A\",PLANTS!H501,DE503))","v":"E"},20,null,"",{"$f":"IF(Y503=\"\",\"\",IF(Y503<3,\"c\",IF(Y503>2,\"u\",\"\")))","v":""},{"$f":"IF(Y503=\"\",\"\",IF(Y503=1,\"s\",IF(Y503=3,\"s\",IF(Y503=2,\"u\",IF(Y503=4,\"u\",\"\")))))","v":""},{"$f":"IF(BJ503=0,\"\",BJ503)","v":""},null,null,null,null,null,null,null,null,null,null,null,{"$f":"IF(I503=BZ$3,J503,\"\")","v":{"$error":"#DIV/0!"}},null,"",null," ","",null,"","","",0,"","","","",null,"","","SOCA6",{"$f":"IF(PLANTS!I501=\"\",\"\",IF(DC503=\"a\",PLANTS!I501,DMA!DC503))","v":2},{"$f":"IF(PLANTS!G501=\"\",\"\",IF(DD503=\"a\",PLANTS!G501,DMA!DD503))","v":25},null,null,null,null,null,null,null,null,null,{"$f":"PLANTS!I501","v":2},{"$f":"PLANTS!G501","v":25},{"$f":"PLANTS!H501","v":"E"},null,null,null,null,"",{"$f":"IF(DMA!DJ503=\"\",\"\",(DMA!N503-SUMIF(Graphs!$O$13:$O$199,DMA!$DJ503,Graphs!$V$13:$V$199))^2)","v":""},{"$f":"IF(DMA!DK503=\"\",\"\",(DMA!O503-SUMIF(Graphs!$O$13:$O$199,DMA!$DJ503,Graphs!$V$13:$V$199))^2)","v":""},{"$f":"IF(DMA!DL503=\"\",\"\",(DMA!P503-SUMIF(Graphs!$O$13:$O$199,DMA!$DJ503,Graphs!$V$13:$V$199))^2)","v":""},"",0,"",0]
["Mean/median",null,"",null,{"$f":"AVERAGE(E5:E502)","v":{"$error":"#DIV/0!"}},{"$f":"AVERAGE(Y4:Y502)","v":{"$error":"#DIV/0!"}},null," ",null,{"$f":"AVERAGE(J5:J503)","v":{"$error":"#DIV/0!"}},{"$f":"AVERAGE(K5:K502)","v":{"$error":"#DIV/0!"}},{"$f":"AVERAGE(L5:L502)","v":{"$error":"#DIV/0!"}},"Totals",{"$f":"SUM(N5:N502)","v":0},{"$f":"SUM(O5:O502)","v":0},{"$f":"SUM(P5:P502)","v":0},{"$f":"SUM(Q5:Q502)","v":0},null,{"$f":"AVERAGE(S5:S502)","v":{"$error":"#DIV/0!"}},{"$f":"MAX(T5:T502)","v":5},null,null,null,null,{"$f":"AVERAGE(Y5:Y502)","v":{"$error":"#DIV/0!"}},null,null,null,null,null,null,null,null,null,null,null,null,null,null,null,{"$f":"IF(PLANTS!A502=\"\",\"\",PLANTS!A502)","v":"SODU"},2,"",0,{"$f":"IF(PLANTS!C502=\"\",\"\",PLANTS!C502)","v":""},"",{"$f":"IF(PLANTS!D502=\"\",\"\",PLANTS!D502)","v":""},"",{"$f":"IF(PLANTS!E502=\"\",\"\",PLANTS!E502)","v":"y"},"",{"$f":"IF(PLANTS!F502=\"\",\"\",PLANTS!F502)","v":"y"},"",0,null,50,"",null,0,{"$f":"IF(PLANTS!H502=\"\",\"\",IF(DE504=\"A\",PLANTS!H502,DE504))","v":"E"},{"$f":"IF(BG504=\"\",\"\",IF(BG504=\"l\",80,IF(BG504=\"m\",50,IF(BG504=\"E\",20))))","v":20},null,"TOTAL=",{"$f":"COUNTIF(BK5:BK502,\"\")","v":498},{"$f":"COUNTIF(BL5:BL502,\"\")","v":498},null,null,null,null,null,null,null,null,null,null,null,null,{"$f":"IF(I504=BZ$3,J504,\"\")","v":{"$error":"#DIV/0!"}},null,"",null," ",{"$error":"#DIV/0!"},null,"","","",0,"","","",0,null,"","","SODU",{"$f":"IF(PLANTS!I502=\"\",\"\",IF(DC504=\"a\",PLANTS!I502,DMA!DC504))","v":2},{"$f":"IF(PLANTS!G502=\"\",\"\",IF(DD504=\"a\",PLANTS!G502,DMA!DD504))","v":50},null,null,null,null,null,null,null,null,null,{"$f":"PLANTS!I502","v":2},{"$f":"PLANTS!G502","v":50},{"$f":"PLANTS!H502","v":"E"},null,null,null,null,null,null,null,null,"",0,"",0]
[null,"Mean ",null,{"$f":"AVERAGE(D5:D502)","v":{"$error":"#DIV/0!"}},{"$f":"AVERAGE(BR5:BR502)","v":{"$error":"#DIV/0!"}},"(Transformed)",null," ",{"$f":"SUM(I5:I503)","v":0},{"$f":"MEDIAN(J5:J502)","v":{"$error":"#NUM!"}},{"$f":"AVERAGE(K5:K502)","v":{"$error":"#DIV/0!"}},{"$f":"AVERAGE(L5:L502)","v":{"$error":"#DIV/0!"}},{"$f":"SUM(M5:M502)","v":0},{"$f":"IF(SUM(N5:N206)=0,\"\",SUM(N5:N206))","v":""},null,null,null,null,{"$f":"AVERAGE(S5:S502)","v":{"$error":"#DIV/0!"}},null,null,null,null,null,{"$f":"STDEV(Y5:Y502)","v":{"$error":"#DIV/0!"}},null,null,null,null,null,null,null,null,null,null,null,null,null,null,null,{"$f":"IF(PLANTS!A503=\"\",\"\",PLANTS!A503)","v":"SOGI"},5,"",0,{"$f":"IF(PLANTS!C503=\"\",\"\",PLANTS!C503)","v":""},"",{"$f":"IF(PLANTS!D503=\"\",\"\",PLANTS!D503)","v":"y"},"",{"$f":"IF(PLANTS!E503=\"\",\"\",PLANTS!E503)","v":"y"},{"$f":"IF(AU505=\"y\",IF(AW505=\"y\",AV505,\"\"),\"\")","v":""},{"$f":"IF(PLANTS!F503=\"\",\"\",PLANTS!F503)","v":"y"},{"$f":"IF($AQ505=\"\",\"\",IF($AQ505>0,IF(AY505=\"y\",COUNTIF($B$5:$B$504,$AO505)/$AP$605,\"\"),\"\"))","v":""},{"$f":"IF(AQ505<>\"\",AQ505/AQ$604,0)","v":0},null,75,"",null,{"$f":"IF(AP505=\"\",\"\",(BA505*AP505))","v":0},{"$f":"IF(PLANTS!H503=\"\",\"\",IF(DE505=\"A\",PLANTS!H503,DE505))","v":"M"},{"$f":"IF(BG505=\"\",\"\",IF(BG505=\"l\",80,IF(BG505=\"m\",50,IF(BG505=\"E\",20))))","v":50},null,null,null,null,null,null,null,null,null,null,null,null,null,null,null,null,"Mean ",{"$f":"AVERAGE(BY5:BY503)","v":{"$error":"#DIV/0!"}},null,null,null,{"$f":"SUM(CD5:CD504)","v":{"$error":"#DIV/0!"}},null,null,{"$f":"SUM(CG5:CG504)","v":0},"",0,0,"",0,"",null,"","","SOGI",{"$f":"IF(PLANTS!I503=\"\",\"\",IF(DC505=\"a\",PLANTS!I503,DMA!DC505))","v":5},{"$f":"IF(PLANTS!G503=\"\",\"\",IF(DD505=\"a\",PLANTS!G503,DMA!DD505))","v":75},null,null,null,null,null,null,null,null,null,{"$f":"PLANTS!I503","v":5},{"$f":"PLANTS!G503","v":75},{"$f":"PLANTS!H503","v":"M"},null,null,null,null,null,null,null,null,"",0,"",0]
[null,"Standard Deviation",null,{"$f":"STDEV(D5:D502)","v":{"$error":"#DIV/0!"}},{"$f":"STDEV(BR5:BR502)","v":{"$error":"#DIV/0!"}},null,null,null,null,{"$f":"STDEV(J5:J502)","v":{"$error":"#DIV/0!"}},{"$f":"STDEV(K5:K502)","v":{"$error":"#DIV/0!"}},{"$f":"STDEV(L5:L502)","v":{"$error":"#DIV/0!"}},null,null,null,null,null,null,{"$f":"STDEV(S5:S502)","v":{"$error":"#DIV/0!"}},null,null,null,null,null,{"$f":"COUNT(Y5:Y502)","v":0},null,null,null,null,null,null,null,null,null,null,null,null,null,null,null,{"$f":"IF(PLANTS!A504=\"\",\"\",PLANTS!A504)","v":"SONU2"},2,"",{"$f":"SUMIF(B$5:B$504,AO506,D$5:D$504)","v":0},{"$f":"IF(PLANTS!C504=\"\",\"\",PLANTS!C504)","v":""},{"$f":"IF($AQ506=\"\",\"\",IF($AQ506>0,IF(AS506=\"y\",COUNTIF(B$5:B$504,AO506)/AP$605,\"\"),\"\"))","v":""},{"$f":"IF(PLANTS!D504=\"\",\"\",PLANTS!D504)","v":""},{"$f":"IF($AQ506=\"\",\"\",IF($AQ506>0,IF(AU506=\"y\",COUNTIF($B$5:$B$504,$AO506)/$AP$605,\"\"),\"\"))","v":""},{"$f":"IF(PLANTS!E504=\"\",\"\",PLANTS!E504)","v":"y"},"",{"$f":"IF(PLANTS!F504=\"\",\"\",PLANTS!F504)","v":""},"",0,null,25,"",null,0,{"$f":"IF(PLANTS!H504=\"\",\"\",IF(DE506=\"A\",PLANTS!H504,DE506))","v":"E"},20,null,null,null,null,null,null,null,null,null,null,null,null,null,null,null,null,"Standard Deviation",{"$f":"STDEV(BY5:BY503)","v":{"$error":"#DIV/0!"}},null,{"$f":"AVERAGE(CA5:CA504)","v":{"$error":"#DIV/0!"}},null,null,null,null,{"$f":"IF(AQ364>0,IF($CF506=\"y\",AQ364/$AQ$415,\"\"),\"\")","v":""},"","","","","","",null,"","","SONU2",{"$f":"IF(PLANTS!I504=\"\",\"\",IF(DC506=\"a\",PLANTS!I504,DMA!DC506))","v":2},{"$f":"IF(PLANTS!G504=\"\",\"\",IF(DD506=\"a\",PLANTS!G504,DMA!DD506))","v":25},null,null,null,null,null,null,null,null,null,{"$f":"PLANTS!I504","v":2},{"$f":"PLANTS!G504","v":25},{"$f":"PLANTS!H504","v":"E"},null,null,null,null,null,null,null,null,"",0,"",0]
[null,"Count",null,{"$f":"COUNT(D5:D502)","v":0},{"$f":"COUNT(BQ5:BQ502)","v":0},null,null,null,null,{"$f":"COUNT(J5:J502)","v":0},{"$f":"COUNT(K5:K502)","v":0},{"$f":"COUNT(L5:L502)","v":0},null,null,null,null,null,null,{"$f":"COUNT(S5:S502)","v":0},null,null,null,null,null,{"$f":"CONFIDENCE(0.05,Y505,Y506)","v":{"$error":"#DIV/0!"}},null,null,null,null,null,null,null,null,null,null,null,null,null,null,null,{"$f":"IF(PLANTS!A505=\"\",\"\",PLANTS!A505)","v":"SOSC2"},5,"",0,{"$f":"IF(PLANTS!C505=\"\",\"\",PLANTS!C505)","v":"y"},"",{"$f":"IF(PLANTS!D505=\"\",\"\",PLANTS!D505)","v":""},"",{"$f":"IF(PLANTS!E505=\"\",\"\",PLANTS!E505)","v":""},"",{"$f":"IF(PLANTS!F505=\"\",\"\",PLANTS!F505)","v":""},"",0,null,25,"",null,0,{"$f":"IF(PLANTS!H505=\"\",\"\",IF(DE507=\"A\",PLANTS!H505,DE507))","v":"M"},50,null,null,null,null,null,null,null,null,null,null,null,null,null,null,null,null,"Count",{"$f":"COUNT(BY5:BY503)","v":0},null,{"$f":"STDEV(CA5:CA504)","v":{"$error":"#DIV/0!"}},null,null,null,null,"","","","",0,"","",null,"","","SOSC2",{"$f":"IF(PLANTS!I505=\"\",\"\",IF(DC507=\"a\",PLANTS!I505,DMA!DC507))","v":5},{"$f":"IF(PLANTS!G505=\"\",\"\",IF(DD507=\"a\",PLANTS!G505,DMA!DD507))","v":25},null,null,null,null,null,null,null,null,null,{"$f":"PLANTS!I505","v":5},{"$f":"PLANTS!G505","v":25},{"$f":"PLANTS!H505","v":"M"},null,null,null,null,null,null,null,null,"",0,"",0]
[null,"Confidence",null,{"$f":"CONFIDENCE(0.05,D506,D507)","v":{"$error":"#DIV/0!"}},{"$f":"CONFIDENCE(0.05,E506,E507)","v":{"$error":"#DIV/0!"}},null,null,null,null,{"$f":"CONFIDENCE(0.05,J506,J507)","v":{"$error":"#DIV/0!"}},{"$f":"CONFIDENCE(0.05,K506,K507)","v":{"$error":"#DIV/0!"}},{"$f":"CONFIDENCE(0.05,L506,L507)","v":{"$error":"#DIV/0!"}},null,null,null,null,null,null,{"$f":"CONFIDENCE(0.05,S506,S507)","v":{"$error":"#DIV/0!"}},null,null,null,null,null,null,null,null,null,null,null,null,null,null,null,null,null,null,null,null,null,{"$f":"IF(PLANTS!A506=\"\",\"\",PLANTS!A506)","v":"SPAI"},5,"",0,{"$f":"IF(PLANTS!C506=\"\",\"\",PLANTS!C506)","v":""},"",{"$f":"IF(PLANTS!D506=\"\",\"\",PLANTS!D506)","v":""},"",{"$f":"IF(PLANTS!E506=\"\",\"\",PLANTS!E506)","v":"y"},"",{"$f":"IF(PLANTS!F506=\"\",\"\",PLANTS!F506)","v":""},"",0,null,50,"",null,0,{"$f":"IF(PLANTS!H506=\"\",\"\",IF(DE508=\"A\",PLANTS!H506,DE508))","v":"M"},50,null,null,null,null,null,null,null,null,null,null,null,null,null,null,null,null,"Confidence",{"$f":"CONFIDENCE(0.05,BZ506,BZ507)","v":{"$error":"#DIV/0!"}},null,{"$f":"COUNT(CA5:CA504)","v":0},null,null,null,null,"","","","","","","",null,"","","SPAI",{"$f":"IF(PLANTS!I506=\"\",\"\",IF(DC508=\"a\",PLANTS!I506,DMA!DC508))","v":5},{"$f":"IF(PLANTS!G506=\"\",\"\",IF(DD508=\"a\",PLANTS!G506,DMA!DD508))","v":50},null,null,null,null,null,null,null,null,null,{"$f":"PLANTS!I506","v":5},{"$f":"PLANTS!G506","v":50},{"$f":"PLANTS!H506","v":"M"},null,null,null,null,null,null,null,null,"",0,"",0]
[null,null,null,null,{"$f":"E504/5","v":{"$error":"#DIV/0!"}},null,null," ",null,null,null,null,null,null,null,null,null,null,null,null,null,null,null,null,null,null,null,null,null,null,null,null,null,null,null,null,null,null,null,null,{"$f":"IF(PLANTS!A507=\"\",\"\",PLANTS!A507)","v":"SPDO"},5,"",0,{"$f":"IF(PLANTS!C507=\"\",\"\",PLANTS!C507)","v":"y"},"",{"$f":"IF(PLANTS!D507=\"\",\"\",PLANTS!D507)","v":"y"},"",{"$f":"IF(PLANTS!E507=\"\",\"\",PLANTS!E507)","v":""},"",{"$f":"IF(PLANTS!F507=\"\",\"\",PLANTS!F507)","v":""},"",0,null,75,"",null,0,{"$f":"IF(PLANTS!H507=\"\",\"\",IF(DE509=\"A\",PLANTS!H507,DE509))","v":"L"},80,null,null,null,null,null,null,null,null,null,null,null,null,null,null,null,null,null,null,null,{"$f":"CONFIDENCE(0.05,CB507,CB508)","v":{"$error":"#DIV/0!"}},null,null,null,null,"","","",0,0,"","",null,"","","SPDO",{"$f":"IF(PLANTS!I507=\"\",\"\",IF(DC509=\"a\",PLANTS!I507,DMA!DC509))","v":5},{"$f":"IF(PLANTS!G507=\"\",\"\",IF(DD509=\"a\",PLANTS!G507,DMA!DD509))","v":75},null,null,null,null,null,null,null,null,null,{"$f":"PLANTS!I507","v":5},{"$f":"PLANTS!G507","v":75},{"$f":"PLANTS!H507","v":"L"},null,null,null,null,null,null,null,null,"",0,"",0]
[null,null,null,null,null,null,null,null,null,null,null,null,null,null,null,null,null,null,null,null,null,null,null,null,null,null,null,null,null,null,null,null,null,null,null,null,null,null,null,null,{"$f":"IF(PLANTS!A508=\"\",\"\",PLANTS!A508)","v":"SPEM2"},2,"",0,{"$f":"IF(PLANTS!C508=\"\",\"\",PLANTS!C508)","v":""},"",{"$f":"IF(PLANTS!D508=\"\",\"\",PLANTS!D508)","v":"y"},"",{"$f":"IF(PLANTS!E508=\"\",\"\",PLANTS!E508)","v":"y"},"",{"$f":"IF(PLANTS!F508=\"\",\"\",PLANTS!F508)","v":"y"},"",0,null,100,"",null,0,{"$f":"IF(PLANTS!H508=\"\",\"\",IF(DE510=\"A\",PLANTS!H508,DE510))","v":"E"},20,null,null,null,null,null,null,null,null,null,null,null,null,null,null,null,null,null,null,null,null,null,null,null,null,"","",0,0,"",0,"",null,"","","SPEM2",{"$f":"IF(PLANTS!I508=\"\",\"\",IF(DC510=\"a\",PLANTS!I508,DMA!DC510))","v":2},{"$f":"IF(PLANTS!G508=\"\",\"\",IF(DD510=\"a\",PLANTS!G508,DMA!DD510))","v":100},null,null,null,null,null,null,null,null,null,{"$f":"PLANTS!I508","v":2},{"$f":"PLANTS!G508","v":100},{"$f":"PLANTS!H508","v":"E"},null,null,null,null,null,null,null,null,"",0,"",0]
[null,null,null,null,null,null,null,null,"Units:",{"$f":"Header!F17","v":"I"},null,null,null,null,null,null,null,null,null,null,null,null,null,null,null,null,null,null,null,null,null,null,null,null,null,null,null,null,null,null,{"$f":"IF(PLANTS!A509=\"\",\"\",PLANTS!A509)","v":"SPEU"},2,"",0,{"$f":"IF(PLANTS!C509=\"\",\"\",PLANTS!C509)","v":""},"",{"$f":"IF(PLANTS!D509=\"\",\"\",PLANTS!D509)","v":"y"},"",{"$f":"IF(PLANTS!E509=\"\",\"\",PLANTS!E509)","v":"y"},"",{"$f":"IF(PLANTS!F509=\"\",\"\",PLANTS!F509)","v":"y"},"",0,null,{"$f":"CS511","v":100},{"$f":"IF(AQ511<>\"\",BA511*$BC511,\"\")","v":""},null,0,{"$f":"IF(PLANTS!H509=\"\",\"\",IF(DE511=\"A\",PLANTS!H509,DE511))","v":"L"},80,null,null,null,null,null,null,null,null,null,null,null,null,null,null,null,null,null,null,null,null,null,null,null,null,"","",0,0,"",0,"",null,"","","SPEU",{"$f":"IF(PLANTS!I509=\"\",\"\",IF(DC511=\"a\",PLANTS!I509,DMA!DC511))","v":2},{"$f":"IF(PLANTS!G509=\"\",\"\",IF(DD511=\"a\",PLANTS!G509,DMA!DD511))","v":100},null,null,null,null,null,null,null,null,null,{"$f":"PLANTS!I509","v":2},{"$f":"PLANTS!G509","v":100},{"$f":"PLANTS!H509","v":"L"},null,null,null,null,null,null,null,null,"",0,"",0]
[null,null,null,null,null,null,null,null,null,null,null,null,null,null,null,null,null,null,null,null,null,null,null,null,null,null,null,null,null,null,null,null,null,null,null,null,null,null,null,null,{"$f":"IF(PLANTS!A510=\"\",\"\",PLANTS!A510)","v":"SPGR"},8.5,"",0,{"$f":"IF(PLANTS!C510=\"\",\"\",PLANTS!C510)","v":""},"",{"$f":"IF(PLANTS!D510=\"\",\"\",PLANTS!D510)","v":"y"},"",{"$f":"IF(PLANTS!E510=\"\",\"\",PLANTS!E510)","v":"y"},"",{"$f":"IF(PLANTS!F510=\"\",\"\",PLANTS!F510)","v":""},"",0,null,75,"",null,0,{"$f":"IF(PLANTS!H510=\"\",\"\",IF(DE512=\"A\",PLANTS!H510,DE512))","v":"M"},50,null,null,null,null,null,null,null,null,null,null,null,null,null,null,null,null,null,null,null,null,null,null,null,null,"","","",0,"",0,"",null,"","","SPGR",{"$f":"IF(PLANTS!I510=\"\",\"\",IF(DC512=\"a\",PLANTS!I510,DMA!DC512))","v":8.5},{"$f":"IF(PLANTS!G510=\"\",\"\",IF(DD512=\"a\",PLANTS!G510,DMA!DD512))","v":75},null,null,null,null,null,null,null,null,null,{"$f":"PLANTS!I510","v":8.5},{"$f":"PLANTS!G510","v":75},{"$f":"PLANTS!H510","v":"M"},null,null,null,null,null,null,null,null,"",0,"",0]
[null,"Calculated CI:",null,null,{"$f":"IF(ISERROR(E509),0.062,IF(E509*0.1307+0.0387<0.062,0.062,E509*0.1307+0.0387))","v":6.2E-2},null,null,null,null,{"$f":"IF(ISERROR(J504),0.93,IF(0.0693*J504+0.5007<0.1,0.1,0.0693*J504+0.5007))","v":0.93},{"$f":"IF(ISERROR($K$505),0.32,IF(0.006307+K505*0.07506<0.2,0.32,0.006307+K505*0.07506))","v":0.32},null,null,null,null,null,null,null,null,null,null,null,null,null,null,null,null,null,null,null,null,null,null,null,null,null,null,null,null,null,{"$f":"IF(PLANTS!A511=\"\",\"\",PLANTS!A511)","v":"SPPE"},8.5,"",0,{"$f":"IF(PLANTS!C511=\"\",\"\",PLANTS!C511)","v":""},"",{"$f":"IF(PLANTS!D511=\"\",\"\",PLANTS!D511)","v":"y"},"",{"$f":"IF(PLANTS!E511=\"\",\"\",PLANTS!E511)","v":"y"},"",{"$f":"IF(PLANTS!F511=\"\",\"\",PLANTS!F511)","v":""},"",0,null,100,"",null,0,{"$f":"IF(PLANTS!H511=\"\",\"\",IF(DE513=\"A\",PLANTS!H511,DE513))","v":"L"},80,null,null,null,null,null,null,null,null,null,null,null,null,null,null,null,null,null,null,null,null,null,null,null,null,"","","",0,"",0,"",null,"","","SPPE",{"$f":"IF(PLANTS!I511=\"\",\"\",IF(DC513=\"a\",PLANTS!I511,DMA!DC513))","v":8.5},{"$f":"IF(PLANTS!G511=\"\",\"\",IF(DD513=\"a\",PLANTS!G511,DMA!DD513))","v":100},null,null,null,null,null,null,null,null,null,{"$f":"PLANTS!I511","v":8.5},{"$f":"PLANTS!G511","v":100},{"$f":"PLANTS!H511","v":"L"},null,null,null,null,null,null,null,null,"",0,"",0]
[null,null,null,null,null,null,null,null,null,null,null,null,null,null,null,null,null,null,null,null,null,null,null,null,null,null,{"$f":"AVERAGE(AA5:AA513)","v":{"$error":"#VALUE!"}},{"$f":"SUM(AB5:AB513)","v":30883},{"$f":"SUM(AC5:AC513)","v":0},null,null,null,null,null,null,null,null,null,null,null,{"$f":"IF(PLANTS!A512=\"\",\"\",PLANTS!A512)","v":"SPWR2"},5,"",0,{"$f":"IF(PLANTS!C512=\"\",\"\",PLANTS!C512)","v":""},"",{"$f":"IF(PLANTS!D512=\"\",\"\",PLANTS!D512)","v":""},"",{"$f":"IF(PLANTS!E512=\"\",\"\",PLANTS!E512)","v":"y"},"",{"$f":"IF(PLANTS!F512=\"\",\"\",PLANTS!F512)","v":""},"",0,null,50,"",null,0,{"$f":"IF(PLANTS!H512=\"\",\"\",IF(DE514=\"A\",PLANTS!H512,DE514))","v":"L"},80,null,null,null,null,null,null,null,null,null,null,null,null,null,null,null,null,null,null,null,null,null,null,null,null,"","","","","","","",null,"","","SPWR2",{"$f":"IF(PLANTS!I512=\"\",\"\",IF(DC514=\"a\",PLANTS!I512,DMA!DC514))","v":5},{"$f":"IF(PLANTS!G512=\"\",\"\",IF(DD514=\"a\",PLANTS!G512,DMA!DD514))","v":50},null,null,null,null,null,null,null,null,null,{"$f":"PLANTS!I512","v":5},{"$f":"PLANTS!G512","v":50},{"$f":"PLANTS!H512","v":"L"},null,null,null,null,null,null,null,null,"",0,"",0]
[null,null,null,null,null,null,null,null,null,null,null,null,null,null,null,null,null,null,null,null,null,null,null,null,null,null,null,null,null,null,null,null,null,null,null,null,null,null,null,null,{"$f":"IF(PLANTS!A513=\"\",\"\",PLANTS!A513)","v":"STCO3"},2,"",0,{"$f":"IF(PLANTS!C513=\"\",\"\",PLANTS!C513)","v":""},"",{"$f":"IF(PLANTS!D513=\"\",\"\",PLANTS!D513)","v":""},"",{"$f":"IF(PLANTS!E513=\"\",\"\",PLANTS!E513)","v":"y"},"",{"$f":"IF(PLANTS!F513=\"\",\"\",PLANTS!F513)","v":""},"",0,null,25,"",null,0,{"$f":"IF(PLANTS!H513=\"\",\"\",IF(DE515=\"A\",PLANTS!H513,DE515))","v":"E"},20,null,null,null,null,null,null,null,null,null,null,null,null,null,null,null,null,null,null,null,null,null,null,null,null,"","","","","","","",null,"","",{"$f":"AO515","v":"STCO3"},{"$f":"IF(PLANTS!I513=\"\",\"\",IF(DC515=\"a\",PLANTS!I513,DMA!DC515))","v":2},{"$f":"IF(PLANTS!G513=\"\",\"\",IF(DD515=\"a\",PLANTS!G513,DMA!DD515))","v":25},null,null,null,null,null,null,null,null,null,{"$f":"PLANTS!I513","v":2},{"$f":"PLANTS!G513","v":25},{"$f":"PLANTS!H513","v":"E"},null,null,null,null,null,null,null,null,"",0,"",0]
[null,null,null,null,null,null,null,null,null,null,null,null,null,null,null,null,null,null,null,null,null,null,null,null,null,null,null,null,null,null,null,null,null,null,null,null,null,null,null,null,{"$f":"IF(PLANTS!A514=\"\",\"\",PLANTS!A514)","v":"STIPA"},{"$f":"CR516","v":2},"",0,{"$f":"IF(PLANTS!C514=\"\",\"\",PLANTS!C514)","v":""},"",{"$f":"IF(PLANTS!D514=\"\",\"\",PLANTS!D514)","v":""},"",{"$f":"IF(PLANTS!E514=\"\",\"\",PLANTS!E514)","v":"y"},"",{"$f":"IF(PLANTS!F514=\"\",\"\",PLANTS!F514)","v":""},"",0,null,25,"",null,0,{"$f":"IF(PLANTS!H514=\"\",\"\",IF(DE516=\"A\",PLANTS!H514,DE516))","v":"E"},20,null,null,null,null,null,null,null,null,null,null,null,null,null,null,null,null,null,null,null,null,null,null,null,null,"","",{"$f":"IF(AY516=\"\",\"\",COUNTIF(B$5:B$503,AO516))","v":""},{"$f":"IF(AU516=\"\",\"\",COUNTIF(B$5:B$503,AO516))","v":""},{"$f":"IF(AS516=\"\",\"\",COUNTIF(B$5:B$503,AO516))","v":""},{"$f":"IF(AU516=\"\",\"\",IF(AW516=\"\",\"\",COUNTIF(B$5:B$503,AO516)))","v":""},{"$f":"IF(Q516=\"\",\"\",COUNTIF($AO$5:$AO$688,Q516))","v":""},null,{"$f":"IF(CQ516=\"\",\"\",IF(COUNTIF($B$5:$B$503,$CQ516)=0,\"\",SUMIF(B$5:B$503,CQ516,C$5:C$503)/COUNTIF($B$5:$B$503,$CQ516)))","v":""},{"$f":"IF(CQ516=\"\",\"\",IF(COUNTIF(B$5:B$503,CQ516)=0,\"\",COUNTIF(B$5:B$503,CQ516)/COUNTA(B$5:B$503)))","v":""},"STIPA",{"$f":"IF(PLANTS!I514=\"\",\"\",IF(DC516=\"a\",PLANTS!I514,DMA!DC516))","v":2},{"$f":"IF(PLANTS!G514=\"\",\"\",IF(DD516=\"a\",PLANTS!G514,DMA!DD516))","v":25},null,null,null,null,null,null,null,null,null,{"$f":"PLANTS!I514","v":2},{"$f":"PLANTS!G514","v":25},{"$f":"PLANTS!H514","v":"E"},null,null,null,null,null,null,null,null,{"$f":"IF(AO516=\"\",\"\",IF(COUNTIF($B$5:$B$504,$AO516)=0,\"\",SUMIF($B$5:$B$504,$AO516,$C$5:$C$504)*COUNTIF(B$5:B$504,AO516)))","v":""},{"$f":"IF(DN516<>\"\",DN516/DN$604,0)","v":0},"",{"$f":"(DO516*$AP516)","v":0}]
[null,null,null,null,null,null,null,null,null,null,null,null,null,null,null,null,null,null,null,null,null,null,null,null,null,null,null,null,null,null,null,null,null,null,null,null,null,null,null,null,{"$f":"IF(PLANTS!A515=\"\",\"\",PLANTS!A515)","v":"STLO2"},5,"",0,{"$f":"IF(PLANTS!C515=\"\",\"\",PLANTS!C515)","v":""},"",{"$f":"IF(PLANTS!D515=\"\",\"\",PLANTS!D515)","v":"y"},"",{"$f":"IF(PLANTS!E515=\"\",\"\",PLANTS!E515)","v":"y"},"",{"$f":"IF(PLANTS!F515=\"\",\"\",PLANTS!F515)","v":"y"},"",0,null,75,"",null,0,{"$f":"IF(PLANTS!H515=\"\",\"\",IF(DE517=\"A\",PLANTS!H515,DE517))","v":"M"},50,null,null,null,null,null,null,null,null,null,null,null,null,null,null,null,null,null,null,null,null,null,null,null,null,"","",0,0,"",0,"",null,"","","STLO2",{"$f":"IF(PLANTS!I515=\"\",\"\",IF(DC517=\"a\",PLANTS!I515,DMA!DC517))","v":5},{"$f":"IF(PLANTS!G515=\"\",\"\",IF(DD517=\"a\",PLANTS!G515,DMA!DD517))","v":75},null,null,null,null,null,null,null,null,null,{"$f":"PLANTS!I515","v":5},{"$f":"PLANTS!G515","v":75},{"$f":"PLANTS!H515","v":"M"},null,null,null,null,null,null,null,null,"",0,"",0]
[null,null,null,null,null,null,null,null,null,null,null,null,null,null,null,null,null,null,null,null,null,null,null,null,null,null,null,null,null,null,null,null,null,null,null,null,null,null,null,null,{"$f":"IF(PLANTS!A516=\"\",\"\",PLANTS!A516)","v":"STPI6"},2,"",0,{"$f":"IF(PLANTS!C516=\"\",\"\",PLANTS!C516)","v":""},"",{"$f":"IF(PLANTS!D516=\"\",\"\",PLANTS!D516)","v":"y"},"",{"$f":"IF(PLANTS!E516=\"\",\"\",PLANTS!E516)","v":"y"},"",{"$f":"IF(PLANTS!F516=\"\",\"\",PLANTS!F516)","v":"y"},"",0,null,75,"",null,0,{"$f":"IF(PLANTS!H516=\"\",\"\",IF(DE518=\"A\",PLANTS!H516,DE518))","v":"M"},50,null,null,null,null,null,null,null,null,null,null,null,null,null,null,null,null,null,null,null,null,null,null,null,null,"","",0,0,"",0,"",null,"","","STPI6",{"$f":"IF(PLANTS!I516=\"\",\"\",IF(DC518=\"a\",PLANTS!I516,DMA!DC518))","v":2},{"$f":"IF(PLANTS!G516=\"\",\"\",IF(DD518=\"a\",PLANTS!G516,DMA!DD518))","v":75},null,null,null,null,null,null,null,null,null,{"$f":"PLANTS!I516","v":2},{"$f":"PLANTS!G516","v":75},{"$f":"PLANTS!H516","v":"M"},null,null,null,null,null,null,null,null,"",0,{"$f":"IF($AQ518<>\"\",$DO518*$BC518,\"\")","v":""},0]
[null,null,null,null,null,null,null,null,null,null,null,null,null,null,null,null,null,null,null,null,null,null,null,null,null,null,null,null,null,null,null,null,null,null,null,null,null,null,null,null,{"$f":"IF(PLANTS!A517=\"\",\"\",PLANTS!A517)","v":"SYAL"},5,"",0,{"$f":"IF(PLANTS!C517=\"\",\"\",PLANTS!C517)","v":"y"},"",{"$f":"IF(PLANTS!D517=\"\",\"\",PLANTS!D517)","v":""},"",{"$f":"IF(PLANTS!E517=\"\",\"\",PLANTS!E517)","v":""},"",{"$f":"IF(PLANTS!F517=\"\",\"\",PLANTS!F517)","v":""},"",0,null,25,"",null,0,{"$f":"IF(PLANTS!H517=\"\",\"\",IF(DE519=\"A\",PLANTS!H517,DE519))","v":"L"},80,null,null,null,null,null,null,null,null,null,null,null,null,null,null,null,null,null,null,null,null,null,null,null,null,"","","","",0,"","",null,"","","SYAL",{"$f":"IF(PLANTS!I517=\"\",\"\",IF(DC519=\"a\",PLANTS!I517,DMA!DC519))","v":5},{"$f":"IF(PLANTS!G517=\"\",\"\",IF(DD519=\"a\",PLANTS!G517,DMA!DD519))","v":25},null,null,null,null,null,null,null,null,null,{"$f":"PLANTS!I517","v":5},{"$f":"PLANTS!G517","v":25},{"$f":"PLANTS!H517","v":"L"},null,null,null,null,null,null,null,null,"",0,"",0]
[null,null,null,null,null,null,null,null,null,null,null,null,null,null,null,null,null,null,null,null,null,null,null,null,null,null,null,null,null,null,null,null,null,null,null,null,null,null,null,null,{"$f":"IF(PLANTS!A518=\"\",\"\",PLANTS!A518)","v":"SYAS3"},2,"",0,{"$f":"IF(PLANTS!C518=\"\",\"\",PLANTS!C518)","v":""},"",{"$f":"IF(PLANTS!D518=\"\",\"\",PLANTS!D518)","v":""},"",{"$f":"IF(PLANTS!E518=\"\",\"\",PLANTS!E518)","v":"y"},"",{"$f":"IF(PLANTS!F518=\"\",\"\",PLANTS!F518)","v":"y"},"",0,null,50,"",null,0,{"$f":"IF(PLANTS!H518=\"\",\"\",IF(DE520=\"A\",PLANTS!H518,DE520))","v":"E"},20,null,null,null,null,null,null,null,null,null,null,null,null,null,null,null,null,null,null,null,null,null,null,null,null,"","",0,"","","","",null,"","","SYAS3",{"$f":"IF(PLANTS!I518=\"\",\"\",IF(DC520=\"a\",PLANTS!I518,DMA!DC520))","v":2},{"$f":"IF(PLANTS!G518=\"\",\"\",IF(DD520=\"a\",PLANTS!G518,DMA!DD520))","v":50},null,null,null,null,null,null,null,null,null,{"$f":"PLANTS!I518","v":2},{"$f":"PLANTS!G518","v":50},{"$f":"PLANTS!H518","v":"E"},null,null,null,null,null,null,null,null,"",0,"",0]
[null,null,null,null,null,null,null,null,null,null,null,null,null,null,null,null,null,null,null,null,null,null,null,null,null,null,null,null,null,null,null,null,null,null,null,null,null,null,null,null,{"$f":"IF(PLANTS!A519=\"\",\"\",PLANTS!A519)","v":"SYLA6"},5,"",0,{"$f":"IF(PLANTS!C519=\"\",\"\",PLANTS!C519)","v":""},"",{"$f":"IF(PLANTS!D519=\"\",\"\",PLANTS!D519)","v":"y"},"",{"$f":"IF(PLANTS!E519=\"\",\"\",PLANTS!E519)","v":"y"},"",{"$f":"IF(PLANTS!F519=\"\",\"\",PLANTS!F519)","v":"y"},"",0,null,100,"",null,0,{"$f":"IF(PLANTS!H519=\"\",\"\",IF(DE521=\"A\",PLANTS!H519,DE521))","v":"L"},80,null,null,null,null,null,null,null,null,null,null,null,null,null,null,null,null,null,null,null,null,null,null,null,null,"","",0,0,"",0,"",null,"","",{"$f":"AO521","v":"SYLA6"},{"$f":"IF(PLANTS!I519=\"\",\"\",IF(DC521=\"a\",PLANTS!I519,DMA!DC521))","v":5},{"$f":"IF(PLANTS!G519=\"\",\"\",IF(DD521=\"a\",PLANTS!G519,DMA!DD521))","v":100},null,null,null,null,null,null,null,null,null,{"$f":"PLANTS!I519","v":5},{"$f":"PLANTS!G519","v":100},{"$f":"PLANTS!H519","v":"L"},null,null,null,null,null,null,null,null,"",0,"",0]
[null,null,null,null,null,null,null,null,null,null,null,null,null,null,null,null,null,null,null,null,null,null,null,null,null,null,null,null,null,null,null,null,null,null,null,null,null,null,null,null,{"$f":"IF(PLANTS!A520=\"\",\"\",PLANTS!A520)","v":"SYMPH"},5,"",0,{"$f":"IF(PLANTS!C520=\"\",\"\",PLANTS!C520)","v":"y"},"",{"$f":"IF(PLANTS!D520=\"\",\"\",PLANTS!D520)","v":""},"",{"$f":"IF(PLANTS!E520=\"\",\"\",PLANTS!E520)","v":""},"",{"$f":"IF(PLANTS!F520=\"\",\"\",PLANTS!F520)","v":""},"",0,null,50,"",null,0,{"$f":"IF(PLANTS!H520=\"\",\"\",IF(DE522=\"A\",PLANTS!H520,DE522))","v":"M"},50,null,null,null,null,null,null,null,null,null,null,null,null,null,null,null,null,null,null,null,null,null,null,null,null,"","","","",0,"","",null,"","","SYMPH",{"$f":"IF(PLANTS!I520=\"\",\"\",IF(DC522=\"a\",PLANTS!I520,DMA!DC522))","v":5},{"$f":"IF(PLANTS!G520=\"\",\"\",IF(DD522=\"a\",PLANTS!G520,DMA!DD522))","v":50},null,null,null,null,null,null,null,null,null,{"$f":"PLANTS!I520","v":5},{"$f":"PLANTS!G520","v":50},{"$f":"PLANTS!H520","v":"M"},null,null,null,null,null,null,null,null,"",0,"",0]
[null,null,null,null,null,null,null,null,null,null,null,null,null,null,null,null,null,null,null,null,null,null,null,null,null,null,null,null,null,null,null,null,null,null,null,null,null,null,null,null,{"$f":"IF(PLANTS!A521=\"\",\"\",PLANTS!A521)","v":"SYMPH4"},2,"",0,{"$f":"IF(PLANTS!C521=\"\",\"\",PLANTS!C521)","v":""},"",{"$f":"IF(PLANTS!D521=\"\",\"\",PLANTS!D521)","v":""},"",{"$f":"IF(PLANTS!E521=\"\",\"\",PLANTS!E521)","v":"y"},"",{"$f":"IF(PLANTS!F521=\"\",\"\",PLANTS!F521)","v":"y"},"",0,null,25,"",null,0,{"$f":"IF(PLANTS!H521=\"\",\"\",IF(DE523=\"A\",PLANTS!H521,DE523))","v":"E"},20,null,null,null,null,null,null,null,null,null,null,null,null,null,null,null,null,null,null,null,null,null,null,null,null,"","",0,"","","","",null,"","","SYMPH4",{"$f":"IF(PLANTS!I521=\"\",\"\",IF(DC523=\"a\",PLANTS!I521,DMA!DC523))","v":2},{"$f":"IF(PLANTS!G521=\"\",\"\",IF(DD523=\"a\",PLANTS!G521,DMA!DD523))","v":25},null,null,null,null,null,null,null,null,null,{"$f":"PLANTS!I521","v":2},{"$f":"PLANTS!G521","v":25},{"$f":"PLANTS!H521","v":"E"},null,null,null,null,null,null,null,null,"",0,"",0]
[null,null,null,null,null,null,null,null,null,null,null,null,null,null,null,null,null,null,null,null,null,null,null,null,null,null,null,null,null,null,null,null,null,null,null,null,null,null,null,null,{"$f":"IF(PLANTS!A522=\"\",\"\",PLANTS!A522)","v":"SYOC"},5,"",0,{"$f":"IF(PLANTS!C522=\"\",\"\",PLANTS!C522)","v":"y"},"",{"$f":"IF(PLANTS!D522=\"\",\"\",PLANTS!D522)","v":""},"",{"$f":"IF(PLANTS!E522=\"\",\"\",PLANTS!E522)","v":""},"",{"$f":"IF(PLANTS!F522=\"\",\"\",PLANTS!F522)","v":""},"",0,null,50,"",null,0,{"$f":"IF(PLANTS!H522=\"\",\"\",IF(DE524=\"A\",PLANTS!H522,DE524))","v":"M"},50,null,null,null,null,null,null,null,null,null,null,null,null,null,null,null,null,null,null,null,null,null,null,null,null,"","","","",0,"","",null,"","","SYOC",{"$f":"IF(PLANTS!I522=\"\",\"\",IF(DC524=\"a\",PLANTS!I522,DMA!DC524))","v":5},{"$f":"IF(PLANTS!G522=\"\",\"\",IF(DD524=\"a\",PLANTS!G522,DMA!DD524))","v":50},null,null,null,null,null,null,null,null,null,{"$f":"PLANTS!I522","v":5},{"$f":"PLANTS!G522","v":50},{"$f":"PLANTS!H522","v":"M"},null,null,null,null,null,null,null,null,"",0,"",0]
[null,null,null,null,null,null,null,null,null,null,null,null,null,null,null,null,null,null,null,null,null,null,null,null,null,null,null,null,null,null,null,null,null,null,null,null,null,null,null,null,{"$f":"IF(PLANTS!A523=\"\",\"\",PLANTS!A523)","v":"SYOR2"},5,"",0,{"$f":"IF(PLANTS!C523=\"\",\"\",PLANTS!C523)","v":"y"},"",{"$f":"IF(PLANTS!D523=\"\",\"\",PLANTS!D523)","v":""},"",{"$f":"IF(PLANTS!E523=\"\",\"\",PLANTS!E523)","v":""},"",{"$f":"IF(PLANTS!F523=\"\",\"\",PLANTS!F523)","v":""},"",0,null,25,"",null,0,{"$f":"IF(PLANTS!H523=\"\",\"\",IF(DE525=\"A\",PLANTS!H523,DE525))","v":"M"},50,null,null,null,null,null,null,null,null,null,null,null,null,null,null,null,null,null,null,null,null,null,null,null,null,"","","","",0,"","",null,"","","SYOR2",{"$f":"IF(PLANTS!I523=\"\",\"\",IF(DC525=\"a\",PLANTS!I523,DMA!DC525))","v":5},{"$f":"IF(PLANTS!G523=\"\",\"\",IF(DD525=\"a\",PLANTS!G523,DMA!DD525))","v":25},null,null,null,null,null,null,null,null,null,{"$f":"PLANTS!I523","v":5},{"$f":"PLANTS!G523","v":25},{"$f":"PLANTS!H523","v":"M"},null,null,null,null,null,null,null,null,"",0,"",0]
[null,null,null,null,null,null,null,null,null,null,null,null,null,null,null,null,null,null,null,null,null,null,null,null,null,null,null,null,null,null,null,null,null,null,null,null,null,null,null,null,{"$f":"IF(PLANTS!A524=\"\",\"\",PLANTS!A524)","v":"SYSP"},2,"",0,{"$f":"IF(PLANTS!C524=\"\",\"\",PLANTS!C524)","v":""},"",{"$f":"IF(PLANTS!D524=\"\",\"\",PLANTS!D524)","v":""},"",{"$f":"IF(PLANTS!E524=\"\",\"\",PLANTS!E524)","v":"y"},"",{"$f":"IF(PLANTS!F524=\"\",\"\",PLANTS!F524)","v":"y"},"",0,null,50,"",null,0,{"$f":"IF(PLANTS!H524=\"\",\"\",IF(DE526=\"A\",PLANTS!H524,DE526))","v":"E"},20,null,null,null,null,null,null,null,null,null,null,null,null,null,null,null,null,null,null,null,null,null,null,null,null,"","",0,"","","","",null,"","","SYSP",{"$f":"IF(PLANTS!I524=\"\",\"\",IF(DC526=\"a\",PLANTS!I524,DMA!DC526))","v":2},{"$f":"IF(PLANTS!G524=\"\",\"\",IF(DD526=\"a\",PLANTS!G524,DMA!DD526))","v":50},null,null,null,null,null,null,null,null,null,{"$f":"PLANTS!I524","v":2},{"$f":"PLANTS!G524","v":50},{"$f":"PLANTS!H524","v":"E"},null,null,null,null,null,null,null,null,"",0,"",0]
[null,null,null,null,null,null,null,null,null,null,null,null,null,null,null,null,null,null,null,null,null,null,null,null,null,null,null,null,null,null,null,null,null,null,null,null,null,null,null,null,{"$f":"IF(PLANTS!A525=\"\",\"\",PLANTS!A525)","v":"TACH2"},8.5,"",0,{"$f":"IF(PLANTS!C525=\"\",\"\",PLANTS!C525)","v":"y"},"",{"$f":"IF(PLANTS!D525=\"\",\"\",PLANTS!D525)","v":""},"",{"$f":"IF(PLANTS!E525=\"\",\"\",PLANTS!E525)","v":""},"",{"$f":"IF(PLANTS!F525=\"\",\"\",PLANTS!F525)","v":""},"",0,null,50,"",null,0,{"$f":"IF(PLANTS!H525=\"\",\"\",IF(DE527=\"A\",PLANTS!H525,DE527))","v":"E"},20,null,null,null,null,null,null,null,null,null,null,null,null,null,null,null,null,null,null,null,null,null,null,null,null,"","","","",0,"","",null,"","","TACH2",{"$f":"IF(PLANTS!I525=\"\",\"\",IF(DC527=\"a\",PLANTS!I525,DMA!DC527))","v":8.5},{"$f":"IF(PLANTS!G525=\"\",\"\",IF(DD527=\"a\",PLANTS!G525,DMA!DD527))","v":50},null,null,null,null,null,null,null,null,null,{"$f":"PLANTS!I525","v":8.5},{"$f":"PLANTS!G525","v":50},{"$f":"PLANTS!H525","v":"E"},null,null,null,null,null,null,null,null,"",0,"",0]
[null,null,null,null,null,null,null,null,null,null,null,null,null,null,null,null,null,null,null,null,null,null,null,null,null,null,null,null,null,null,null,null,null,null,null,null,null,null,null,null,{"$f":"IF(PLANTS!A526=\"\",\"\",PLANTS!A526)","v":"TAOF"},2,"",0,{"$f":"IF(PLANTS!C526=\"\",\"\",PLANTS!C526)","v":""},"",{"$f":"IF(PLANTS!D526=\"\",\"\",PLANTS!D526)","v":""},"",{"$f":"IF(PLANTS!E526=\"\",\"\",PLANTS!E526)","v":"y"},"",{"$f":"IF(PLANTS!F526=\"\",\"\",PLANTS!F526)","v":"y"},"",0,null,25,"",null,0,{"$f":"IF(PLANTS!H526=\"\",\"\",IF(DE528=\"A\",PLANTS!H526,DE528))","v":"E"},20,null,null,null,null,null,null,null,null,null,null,null,null,null,null,null,null,null,null,null,null,null,null,null,null,"","",0,"","","","",null,"","","TAOF",{"$f":"IF(PLANTS!I526=\"\",\"\",IF(DC528=\"a\",PLANTS!I526,DMA!DC528))","v":2},{"$f":"IF(PLANTS!G526=\"\",\"\",IF(DD528=\"a\",PLANTS!G526,DMA!DD528))","v":25},null,null,null,null,null,null,null,null,null,{"$f":"PLANTS!I526","v":2},{"$f":"PLANTS!G526","v":25},{"$f":"PLANTS!H526","v":"E"},null,null,null,null,null,null,null,null,"",0,"",0]
[null,null,null,null,null,null,null,null,null,null,null,null,null,null,null,null,null,null,null,null,null,null,null,null,null,null,null,null,null,null,null,null,null,null,null,null,null,null,null,null,{"$f":"IF(PLANTS!A527=\"\",\"\",PLANTS!A527)","v":"TAPA4"},8.5,"",0,{"$f":"IF(PLANTS!C527=\"\",\"\",PLANTS!C527)","v":"y"},"",{"$f":"IF(PLANTS!D527=\"\",\"\",PLANTS!D527)","v":"y"},"",{"$f":"IF(PLANTS!E527=\"\",\"\",PLANTS!E527)","v":""},"",{"$f":"IF(PLANTS!F527=\"\",\"\",PLANTS!F527)","v":""},"",0,null,50,"",null,0,{"$f":"IF(PLANTS!H527=\"\",\"\",IF(DE529=\"A\",PLANTS!H527,DE529))","v":"E"},20,null,null,null,null,null,null,null,null,null,null,null,null,null,null,null,null,null,null,null,null,null,null,null,null,"","","",0,0,"","",null,"","","TAPA4",{"$f":"IF(PLANTS!I527=\"\",\"\",IF(DC529=\"a\",PLANTS!I527,DMA!DC529))","v":8.5},{"$f":"IF(PLANTS!G527=\"\",\"\",IF(DD529=\"a\",PLANTS!G527,DMA!DD529))","v":50},null,null,null,null,null,null,null,null,null,{"$f":"PLANTS!I527","v":8.5},{"$f":"PLANTS!G527","v":50},{"$f":"PLANTS!H527","v":"E"},null,null,null,null,null,null,null,null,"",0,"",0]
[null,null,null,null,null,null,null,null,null,null,null,null,null,null,null,null,null,null,null,null,null,null,null,null,null,null,null,null,null,null,null,null,null,null,null,null,null,null,null,null,{"$f":"IF(PLANTS!A528=\"\",\"\",PLANTS!A528)","v":"TARA"},8.5,"",0,{"$f":"IF(PLANTS!C528=\"\",\"\",PLANTS!C528)","v":"y"},"",{"$f":"IF(PLANTS!D528=\"\",\"\",PLANTS!D528)","v":"y"},"",{"$f":"IF(PLANTS!E528=\"\",\"\",PLANTS!E528)","v":""},"",{"$f":"IF(PLANTS!F528=\"\",\"\",PLANTS!F528)","v":""},"",0,null,75,"",null,0,{"$f":"IF(PLANTS!H528=\"\",\"\",IF(DE530=\"A\",PLANTS!H528,DE530))","v":"E"},20,null,null,null,null,null,null,null,null,null,null,null,null,null,null,null,null,null,null,null,null,null,null,null,null,"","","",0,0,"","",null,"","","TARA",{"$f":"IF(PLANTS!I528=\"\",\"\",IF(DC530=\"a\",PLANTS!I528,DMA!DC530))","v":8.5},{"$f":"IF(PLANTS!G528=\"\",\"\",IF(DD530=\"a\",PLANTS!G528,DMA!DD530))","v":75},null,null,null,null,null,null,null,null,null,{"$f":"PLANTS!I528","v":8.5},{"$f":"PLANTS!G528","v":75},{"$f":"PLANTS!H528","v":"E"},null,null,null,null,null,null,null,null,"",0,"",{"$f":"IF(AP530=\"\",\"\",(DO530*$AP530))","v":0}]
[null,null,null,null,null,null,null,null,null,null,null,null,null,null,null,null,null,null,null,null,null,null,null,null,null,null,null,null,null,null,null,null,null,null,null,null,null,null,null,null,{"$f":"IF(PLANTS!A529=\"\",\"\",PLANTS!A529)","v":"TAVU"},5,"",0,{"$f":"IF(PLANTS!C529=\"\",\"\",PLANTS!C529)","v":""},"",{"$f":"IF(PLANTS!D529=\"\",\"\",PLANTS!D529)","v":""},"",{"$f":"IF(PLANTS!E529=\"\",\"\",PLANTS!E529)","v":"y"},"",{"$f":"IF(PLANTS!F529=\"\",\"\",PLANTS!F529)","v":"y"},"",0,null,25,"",null,0,{"$f":"IF(PLANTS!H529=\"\",\"\",IF(DE531=\"A\",PLANTS!H529,DE531))","v":"E"},20,null,null,null,null,null,null,null,null,null,null,null,null,null,null,null,null,null,null,null,null,null,null,null,null,"","",0,"","","","",null,"","","TAVU",{"$f":"IF(PLANTS!I529=\"\",\"\",IF(DC531=\"a\",PLANTS!I529,DMA!DC531))","v":5},{"$f":"IF(PLANTS!G529=\"\",\"\",IF(DD531=\"a\",PLANTS!G529,DMA!DD531))","v":25},null,null,null,null,null,null,null,null,null,{"$f":"PLANTS!I529","v":5},{"$f":"PLANTS!G529","v":25},{"$f":"PLANTS!H529","v":"E"},null,null,null,null,null,null,null,null,"",0,"",{"$f":"IF(AP531=\"\",\"\",(DO531*$AP531))","v":0}]
[null,null,null,null,null,null,null,null,null,null,null,null,null,null,null,null,null,null,null,null,null,null,null,null,null,null,null,null,null,null,null,null,null,null,null,null,null,null,null,null,{"$f":"IF(PLANTS!A530=\"\",\"\",PLANTS!A530)","v":"THDA"},5,"",0,{"$f":"IF(PLANTS!C530=\"\",\"\",PLANTS!C530)","v":""},"",{"$f":"IF(PLANTS!D530=\"\",\"\",PLANTS!D530)","v":"y"},"",{"$f":"IF(PLANTS!E530=\"\",\"\",PLANTS!E530)","v":"y"},"",{"$f":"IF(PLANTS!F530=\"\",\"\",PLANTS!F530)","v":"y"},"",0,null,75,"",null,0,{"$f":"IF(PLANTS!H530=\"\",\"\",IF(DE532=\"A\",PLANTS!H530,DE532))","v":"M"},50,null,null,null,null,null,null,null,null,null,null,null,null,null,null,null,null,null,null,null,null,null,null,null,null,"",{"$f":"IF(AR532>0,IF($CF532=\"y\",AR532/$AQ$604,\"\"),\"\")","v":""},0,0,"",0,"",null,"","","THDA",{"$f":"IF(PLANTS!I530=\"\",\"\",IF(DC532=\"a\",PLANTS!I530,DMA!DC532))","v":5},{"$f":"IF(PLANTS!G530=\"\",\"\",IF(DD532=\"a\",PLANTS!G530,DMA!DD532))","v":75},null,null,null,null,null,null,null,null,null,{"$f":"PLANTS!I530","v":5},{"$f":"PLANTS!G530","v":75},{"$f":"PLANTS!H530","v":"M"},null,null,null,null,null,null,null,null,"",0,"",0]
[null,null,null,null,null,null,null,null,null,null,null,null,null,null,null,null,null,null,null,null,null,null,null,null,null,null,null,null,null,null,null,null,null,null,null,null,null,null,null,null,{"$f":"IF(PLANTS!A531=\"\",\"\",PLANTS!A531)","v":"THFE"},2,"",0,{"$f":"IF(PLANTS!C531=\"\",\"\",PLANTS!C531)","v":""},"",{"$f":"IF(PLANTS!D531=\"\",\"\",PLANTS!D531)","v":""},"",{"$f":"IF(PLANTS!E531=\"\",\"\",PLANTS!E531)","v":"y"},"",{"$f":"IF(PLANTS!F531=\"\",\"\",PLANTS!F531)","v":"y"},"",0,null,50,"",null,0,{"$f":"IF(PLANTS!H531=\"\",\"\",IF(DE533=\"A\",PLANTS!H531,DE533))","v":"E"},20,null,null,null,null,null,null,null,null,null,null,null,null,null,null,null,null,null,null,null,null,null,null,null,null,"","",0,"","","","",null,"","","THFE",{"$f":"IF(PLANTS!I531=\"\",\"\",IF(DC533=\"a\",PLANTS!I531,DMA!DC533))","v":2},{"$f":"IF(PLANTS!G531=\"\",\"\",IF(DD533=\"a\",PLANTS!G531,DMA!DD533))","v":50},null,null,null,null,null,null,null,null,null,{"$f":"PLANTS!I531","v":2},{"$f":"PLANTS!G531","v":50},{"$f":"PLANTS!H531","v":"E"},null,null,null,null,null,null,null,null,"",0,"",0]
[null,null,null,null,null,null,null,null,null,null,null,null,null,null,null,null,null,null,null,null,null,null,null,null,null,null,null,null,null,null,null,null,null,null,null,null,null,null,null,null,{"$f":"IF(PLANTS!A532=\"\",\"\",PLANTS!A532)","v":"THMO6"},5,"",0,{"$f":"IF(PLANTS!C532=\"\",\"\",PLANTS!C532)","v":""},"",{"$f":"IF(PLANTS!D532=\"\",\"\",PLANTS!D532)","v":""},"",{"$f":"IF(PLANTS!E532=\"\",\"\",PLANTS!E532)","v":"y"},"",{"$f":"IF(PLANTS!F532=\"\",\"\",PLANTS!F532)","v":"y"},"",0,null,50,"",null,0,{"$f":"IF(PLANTS!H532=\"\",\"\",IF(DE534=\"A\",PLANTS!H532,DE534))","v":"E"},20,null,null,null,null,null,null,null,null,null,null,null,null,null,null,null,null,null,null,null,null,null,null,null,null,"","",0,"","","","",null,"","","THMO6",{"$f":"IF(PLANTS!I532=\"\",\"\",IF(DC534=\"a\",PLANTS!I532,DMA!DC534))","v":5},{"$f":"IF(PLANTS!G532=\"\",\"\",IF(DD534=\"a\",PLANTS!G532,DMA!DD534))","v":50},null,null,null,null,null,null,null,null,null,{"$f":"PLANTS!I532","v":5},{"$f":"PLANTS!G532","v":50},{"$f":"PLANTS!H532","v":"E"},null,null,null,null,null,null,null,null,"",0,"",0]
[null,null,null,null,null,null,null,null,null,null,null,null,null,null,null,null,null,null,null,null,null,null,null,null,null,null,null,null,null,null,null,null,null,null,null,null,null,null,null,null,{"$f":"IF(PLANTS!A533=\"\",\"\",PLANTS!A533)","v":"THVE"},5,"",0,{"$f":"IF(PLANTS!C533=\"\",\"\",PLANTS!C533)","v":""},"",{"$f":"IF(PLANTS!D533=\"\",\"\",PLANTS!D533)","v":""},"",{"$f":"IF(PLANTS!E533=\"\",\"\",PLANTS!E533)","v":"y"},"",{"$f":"IF(PLANTS!F533=\"\",\"\",PLANTS!F533)","v":"y"},"",0,null,25,"",null,0,{"$f":"IF(PLANTS!H533=\"\",\"\",IF(DE535=\"A\",PLANTS!H533,DE535))","v":"M"},50,null,null,null,null,null,null,null,null,null,null,null,null,null,null,null,null,null,null,null,null,null,null,null,null,"","",0,"","","","",null,"","","THVE",{"$f":"IF(PLANTS!I533=\"\",\"\",IF(DC535=\"a\",PLANTS!I533,DMA!DC535))","v":5},{"$f":"IF(PLANTS!G533=\"\",\"\",IF(DD535=\"a\",PLANTS!G533,DMA!DD535))","v":25},null,null,null,null,null,null,null,null,null,{"$f":"PLANTS!I533","v":5},{"$f":"PLANTS!G533","v":25},{"$f":"PLANTS!H533","v":"M"},null,null,null,null,null,null,null,null,"",0,"",0]
[null,null,null,null,null,null,null,null,null,null,null,null,null,null,null,null,null,null,null,null,null,null,null,null,null,null,null,null,null,null,null,null,null,null,null,null,null,null,null,null,{"$f":"IF(PLANTS!A534=\"\",\"\",PLANTS!A534)","v":"TORY"},5,"",0,{"$f":"IF(PLANTS!C534=\"\",\"\",PLANTS!C534)","v":"y"},"",{"$f":"IF(PLANTS!D534=\"\",\"\",PLANTS!D534)","v":""},"",{"$f":"IF(PLANTS!E534=\"\",\"\",PLANTS!E534)","v":""},"",{"$f":"IF(PLANTS!F534=\"\",\"\",PLANTS!F534)","v":""},"",0,null,25,"",null,0,{"$f":"IF(PLANTS!H534=\"\",\"\",IF(DE536=\"A\",PLANTS!H534,DE536))","v":"E"},20,null,null,null,null,null,null,null,null,null,null,null,null,null,null,null,null,null,null,null,null,null,null,null,null,"","","","",0,"","",null,"","","TORY",{"$f":"IF(PLANTS!I534=\"\",\"\",IF(DC536=\"a\",PLANTS!I534,DMA!DC536))","v":5},{"$f":"IF(PLANTS!G534=\"\",\"\",IF(DD536=\"a\",PLANTS!G534,DMA!DD536))","v":25},null,null,null,null,null,null,null,null,null,{"$f":"PLANTS!I534","v":5},{"$f":"PLANTS!G534","v":25},{"$f":"PLANTS!H534","v":"E"},null,null,null,null,null,null,null,null,"",0,"",0]
[null,{"$f":"COUNTIF($B5:$B503,\"\")","v":499},null,null,null,null,null,null,null,null,null,null,null,null,null,null,null,null,null,null,null,null,null,null,null,null,null,null,null,null,null,null,null,null,null,null,null,null,null,null,{"$f":"IF(PLANTS!A535=\"\",\"\",PLANTS!A535)","v":"TRDU"},2,"",0,{"$f":"IF(PLANTS!C535=\"\",\"\",PLANTS!C535)","v":""},"",{"$f":"IF(PLANTS!D535=\"\",\"\",PLANTS!D535)","v":""},"",{"$f":"IF(PLANTS!E535=\"\",\"\",PLANTS!E535)","v":"y"},"",{"$f":"IF(PLANTS!F535=\"\",\"\",PLANTS!F535)","v":"y"},"",0,null,25,"",null,0,{"$f":"IF(PLANTS!H535=\"\",\"\",IF(DE537=\"A\",PLANTS!H535,DE537))","v":"E"},20,null,null,null,null,null,null,null,null,null,null,null,null,null,null,null,null,null,null,null,null,null,null,null,null,"","",0,"","","","",null,"","","TRDU",{"$f":"IF(PLANTS!I535=\"\",\"\",IF(DC537=\"a\",PLANTS!I535,DMA!DC537))","v":2},{"$f":"IF(PLANTS!G535=\"\",\"\",IF(DD537=\"a\",PLANTS!G535,DMA!DD537))","v":25},null,null,null,null,null,null,null,null,null,{"$f":"PLANTS!I535","v":2},{"$f":"PLANTS!G535","v":25},{"$f":"PLANTS!H535","v":"E"},null,null,null,null,null,null,null,null,"",0,"",0]
[null,null,null,null,null,null,null,null,null,null,null,null,null,null,null,null,null,null,null,null,null,null,null,null,null,null,null,null,null,null,null,null,null,null,null,null,null,null,null,null,{"$f":"IF(PLANTS!A536=\"\",\"\",PLANTS!A536)","v":"TRIFO"},2,{"$f":"IF(AO538=\"\",\"\",IF(COUNTIF(B$5:B$504,AO538)=0,\"\",SUMIF(B$5:B$504,AO538,C$5:C$504)))","v":""},0,{"$f":"IF(PLANTS!C536=\"\",\"\",PLANTS!C536)","v":""},"",{"$f":"IF(PLANTS!D536=\"\",\"\",PLANTS!D536)","v":""},"",{"$f":"IF(PLANTS!E536=\"\",\"\",PLANTS!E536)","v":"y"},"",{"$f":"IF(PLANTS!F536=\"\",\"\",PLANTS!F536)","v":"y"},"",0,null,50,"",null,0,{"$f":"IF(PLANTS!H536=\"\",\"\",IF(DE538=\"A\",PLANTS!H536,DE538))","v":"E"},20,null,null,null,null,null,null,null,null,null,null,null,null,null,null,null,null,null,null,null,null,null,null,null,null,{"$f":"IF(AQ396>0,IF($CF538=\"y\",AQ396/$AQ$415,\"\"),\"\")","v":""},"",0,"","","","",null,"","","TRIFO",{"$f":"IF(PLANTS!I536=\"\",\"\",IF(DC538=\"a\",PLANTS!I536,DMA!DC538))","v":2},{"$f":"IF(PLANTS!G536=\"\",\"\",IF(DD538=\"a\",PLANTS!G536,DMA!DD538))","v":50},null,null,null,null,null,null,null,null,null,{"$f":"PLANTS!I536","v":2},{"$f":"PLANTS!G536","v":50},{"$f":"PLANTS!H536","v":"E"},null,null,null,null,null,null,null,null,"",0,"",0]
["end",{"$f":"MATCH(MAX($A$5:$A$501),A$5:A$501,0)+10","v":11},null,null,null,null,null,null,null,null,null,null,null,null,null,null,null,null,null,null,null,null,null,null,null,null,null,null,null,null,null,null,null,null,null,null,null,null,null,null,{"$f":"IF(PLANTS!A537=\"\",\"\",PLANTS!A537)","v":"TRLO"},2,"",0,{"$f":"IF(PLANTS!C537=\"\",\"\",PLANTS!C537)","v":""},"",{"$f":"IF(PLANTS!D537=\"\",\"\",PLANTS!D537)","v":"y"},"",{"$f":"IF(PLANTS!E537=\"\",\"\",PLANTS!E537)","v":"y"},"",{"$f":"IF(PLANTS!F537=\"\",\"\",PLANTS!F537)","v":"y"},"",0,null,75,"",null,0,{"$f":"IF(PLANTS!H537=\"\",\"\",IF(DE539=\"A\",PLANTS!H537,DE539))","v":"E"},20,null,null,null,null,null,null,null,null,null,null,null,null,null,null,null,null,null,null,null,null,null,null,null,null,"","",0,0,"",0,"",null,"","","TRLO",{"$f":"IF(PLANTS!I537=\"\",\"\",IF(DC539=\"a\",PLANTS!I537,DMA!DC539))","v":2},{"$f":"IF(PLANTS!G537=\"\",\"\",IF(DD539=\"a\",PLANTS!G537,DMA!DD539))","v":75},null,null,null,null,null,null,null,null,null,{"$f":"PLANTS!I537","v":2},{"$f":"PLANTS!G537","v":75},{"$f":"PLANTS!H537","v":"E"},null,null,null,null,null,null,null,null,"",0,"",0]
[null,null,null,null,null,null,null,null,null,null,null,null,null,null,null,null,null,null,null,null,null,null,null,null,null,null,null,null,null,null,null,null,null,null,null,null,null,null,null,null,{"$f":"IF(PLANTS!A538=\"\",\"\",PLANTS!A538)","v":"TRMA20"},5,"",0,{"$f":"IF(PLANTS!C538=\"\",\"\",PLANTS!C538)","v":""},"",{"$f":"IF(PLANTS!D538=\"\",\"\",PLANTS!D538)","v":"y"},"",{"$f":"IF(PLANTS!E538=\"\",\"\",PLANTS!E538)","v":"y"},"",{"$f":"IF(PLANTS!F538=\"\",\"\",PLANTS!F538)","v":"y"},"",0,null,100,"",null,0,{"$f":"IF(PLANTS!H538=\"\",\"\",IF(DE540=\"A\",PLANTS!H538,DE540))","v":"E"},20,null,null,null,null,null,null,null,null,null,null,null,null,null,null,null,null,null,null,null,null,null,null,null,null,"","",0,0,"",0,"",null,"","","TRMA20",{"$f":"IF(PLANTS!I538=\"\",\"\",IF(DC540=\"a\",PLANTS!I538,DMA!DC540))","v":5},{"$f":"IF(PLANTS!G538=\"\",\"\",IF(DD540=\"a\",PLANTS!G538,DMA!DD540))","v":100},null,null,null,null,null,null,null,null,null,{"$f":"PLANTS!I538","v":5},{"$f":"PLANTS!G538","v":100},{"$f":"PLANTS!H538","v":"E"},null,null,null,null,null,null,null,null,"",0,"",0]
[null,null,null,null,null,null,null,null,null,null,null,null,null,null,null,null,null,null,null,null,null,null,null,null,null,null,null,null,null,null,null,null,null,null,null,null,null,null,null,null,{"$f":"IF(PLANTS!A539=\"\",\"\",PLANTS!A539)","v":"TRMO2"},2,"",0,{"$f":"IF(PLANTS!C539=\"\",\"\",PLANTS!C539)","v":""},"",{"$f":"IF(PLANTS!D539=\"\",\"\",PLANTS!D539)","v":""},"",{"$f":"IF(PLANTS!E539=\"\",\"\",PLANTS!E539)","v":"y"},"",{"$f":"IF(PLANTS!F539=\"\",\"\",PLANTS!F539)","v":"y"},"",0,null,50,"",null,0,{"$f":"IF(PLANTS!H539=\"\",\"\",IF(DE541=\"A\",PLANTS!H539,DE541))","v":"E"},20,null,null,null,null,null,null,null,null,null,null,null,null,null,null,null,null,null,null,null,null,null,null,null,null,"","",0,"","","","",null,"","","TRMO2",{"$f":"IF(PLANTS!I539=\"\",\"\",IF(DC541=\"a\",PLANTS!I539,DMA!DC541))","v":2},{"$f":"IF(PLANTS!G539=\"\",\"\",IF(DD541=\"a\",PLANTS!G539,DMA!DD541))","v":50},null,null,null,null,null,null,null,null,null,{"$f":"PLANTS!I539","v":2},{"$f":"PLANTS!G539","v":50},{"$f":"PLANTS!H539","v":"E"},null,null,null,null,null,null,null,null,"",0,"",0]
[null,null,null,null,null,null,null,null,null,null,null,null,null,null,null,null,null,null,null,null,null,null,null,null,null,null,null,null,null,null,null,null,null,null,null,null,null,null,null,null,{"$f":"IF(PLANTS!A540=\"\",\"\",PLANTS!A540)","v":"TRPA28"},2,"",0,{"$f":"IF(PLANTS!C540=\"\",\"\",PLANTS!C540)","v":""},"",{"$f":"IF(PLANTS!D540=\"\",\"\",PLANTS!D540)","v":"y"},"",{"$f":"IF(PLANTS!E540=\"\",\"\",PLANTS!E540)","v":"y"},"",{"$f":"IF(PLANTS!F540=\"\",\"\",PLANTS!F540)","v":"y"},"",0,null,100,"",null,0,{"$f":"IF(PLANTS!H540=\"\",\"\",IF(DE542=\"A\",PLANTS!H540,DE542))","v":"E"},20,null,null,null,null,null,null,null,null,null,null,null,null,null,null,null,null,null,null,null,null,null,null,null,null,"","",0,0,"",0,"",null,"","","TRPA28",{"$f":"IF(PLANTS!I540=\"\",\"\",IF(DC542=\"a\",PLANTS!I540,DMA!DC542))","v":2},{"$f":"IF(PLANTS!G540=\"\",\"\",IF(DD542=\"a\",PLANTS!G540,DMA!DD542))","v":100},null,null,null,null,null,null,null,null,null,{"$f":"PLANTS!I540","v":2},{"$f":"PLANTS!G540","v":100},{"$f":"PLANTS!H540","v":"E"},null,null,null,null,null,null,null,null,"",0,"",0]
[null,null,null,null,null,null,null,null,null,null,null,null,null,null,null,null,null,null,null,null,null,null,null,null,null,null,null,null,null,null,null,null,null,null,null,null,null,null,null,null,{"$f":"IF(PLANTS!A541=\"\",\"\",PLANTS!A541)","v":"TRPR2"},2,"",0,{"$f":"IF(PLANTS!C541=\"\",\"\",PLANTS!C541)","v":""},"",{"$f":"IF(PLANTS!D541=\"\",\"\",PLANTS!D541)","v":""},"",{"$f":"IF(PLANTS!E541=\"\",\"\",PLANTS!E541)","v":"y"},"",{"$f":"IF(PLANTS!F541=\"\",\"\",PLANTS!F541)","v":"y"},"",0,null,25,"",null,0,{"$f":"IF(PLANTS!H541=\"\",\"\",IF(DE543=\"A\",PLANTS!H541,DE543))","v":"M"},50,null,null,null,null,null,null,null,null,null,null,null,null,null,null,null,null,null,null,null,null,null,null,null,null,"","",0,"","","","",null,"","","TRPR2",{"$f":"IF(PLANTS!I541=\"\",\"\",IF(DC543=\"a\",PLANTS!I541,DMA!DC543))","v":2},{"$f":"IF(PLANTS!G541=\"\",\"\",IF(DD543=\"a\",PLANTS!G541,DMA!DD543))","v":25},null,null,null,null,null,null,null,null,null,{"$f":"PLANTS!I541","v":2},{"$f":"PLANTS!G541","v":25},{"$f":"PLANTS!H541","v":"M"},null,null,null,null,null,null,null,null,"",0,"",0]
[null,null,null,null,null,null,null,null,null,null,null,null,null,null,null,null,null,null,null,null,null,null,null,null,null,null,null,null,null,null,null,null,null,null,null,null,null,null,null,null,{"$f":"IF(PLANTS!A542=\"\",\"\",PLANTS!A542)","v":"TRRE3"},2,"",0,{"$f":"IF(PLANTS!C542=\"\",\"\",PLANTS!C542)","v":""},"",{"$f":"IF(PLANTS!D542=\"\",\"\",PLANTS!D542)","v":""},"",{"$f":"IF(PLANTS!E542=\"\",\"\",PLANTS!E542)","v":"y"},"",{"$f":"IF(PLANTS!F542=\"\",\"\",PLANTS!F542)","v":"y"},"",0,null,25,"",null,0,{"$f":"IF(PLANTS!H542=\"\",\"\",IF(DE544=\"A\",PLANTS!H542,DE544))","v":"E"},20,null,null,null,null,null,null,null,null,null,null,null,null,null,null,null,null,null,null,null,null,null,null,null,null,"","",0,"","","","",null,"","","TRRE3",{"$f":"IF(PLANTS!I542=\"\",\"\",IF(DC544=\"a\",PLANTS!I542,DMA!DC544))","v":2},{"$f":"IF(PLANTS!G542=\"\",\"\",IF(DD544=\"a\",PLANTS!G542,DMA!DD544))","v":25},null,null,null,null,null,null,null,null,null,{"$f":"PLANTS!I542","v":2},{"$f":"PLANTS!G542","v":25},{"$f":"PLANTS!H542","v":"E"},null,null,null,null,null,null,null,null,"",0,"",0]
[null,null,null,null,null,null,null,null,null,null,null,null,null,null,null,null,null,null,null,null,null,null,null,null,null,null,null,null,null,null,null,null,null,null,null,null,null,null,null,null,{"$f":"IF(PLANTS!A543=\"\",\"\",PLANTS!A543)","v":"TRWO"},2,"",0,{"$f":"IF(PLANTS!C543=\"\",\"\",PLANTS!C543)","v":""},"",{"$f":"IF(PLANTS!D543=\"\",\"\",PLANTS!D543)","v":"y"},"",{"$f":"IF(PLANTS!E543=\"\",\"\",PLANTS!E543)","v":"y"},"",{"$f":"IF(PLANTS!F543=\"\",\"\",PLANTS!F543)","v":"y"},"",0,null,75,"",null,0,{"$f":"IF(PLANTS!H543=\"\",\"\",IF(DE545=\"A\",PLANTS!H543,DE545))","v":"M"},50,null,null,null,null,null,null,null,null,null,null,null,null,null,null,null,null,null,null,null,null,null,null,null,null,"","",0,0,"",0,"",null,"","","TRWO",{"$f":"IF(PLANTS!I543=\"\",\"\",IF(DC545=\"a\",PLANTS!I543,DMA!DC545))","v":2},{"$f":"IF(PLANTS!G543=\"\",\"\",IF(DD545=\"a\",PLANTS!G543,DMA!DD545))","v":75},null,null,null,null,null,null,null,null,null,{"$f":"PLANTS!I543","v":2},{"$f":"PLANTS!G543","v":75},{"$f":"PLANTS!H543","v":"M"},null,null,null,null,null,null,null,null,"",0,"",0]
[null,null,null,null,null,null,null,null,null,null,null,null,null,null,null,null,null,null,null,null,null,null,null,null,null,null,null,null,null,null,null,null,null,null,null,null,null,null,null,null,{"$f":"IF(PLANTS!A544=\"\",\"\",PLANTS!A544)","v":"TYAN"},8.5,"",0,{"$f":"IF(PLANTS!C544=\"\",\"\",PLANTS!C544)","v":""},"",{"$f":"IF(PLANTS!D544=\"\",\"\",PLANTS!D544)","v":"y"},"",{"$f":"IF(PLANTS!E544=\"\",\"\",PLANTS!E544)","v":"y"},"",{"$f":"IF(PLANTS!F544=\"\",\"\",PLANTS!F544)","v":"y"},"",0,null,100,"",null,0,{"$f":"IF(PLANTS!H544=\"\",\"\",IF(DE546=\"A\",PLANTS!H544,DE546))","v":"M"},50,null,null,null,null,null,null,null,null,null,null,null,null,null,null,null,null,null,null,null,null,null,null,null,null,"","",0,0,"",0,"",null,"","","TYAN",{"$f":"IF(PLANTS!I544=\"\",\"\",IF(DC546=\"a\",PLANTS!I544,DMA!DC546))","v":8.5},{"$f":"IF(PLANTS!G544=\"\",\"\",IF(DD546=\"a\",PLANTS!G544,DMA!DD546))","v":100},null,null,null,null,null,null,null,null,null,{"$f":"PLANTS!I544","v":8.5},{"$f":"PLANTS!G544","v":100},{"$f":"PLANTS!H544","v":"M"},null,null,null,null,null,null,null,null,"",0,"",0]
[null,null,null,null,null,null,null,null,null,null,null,null,null,null,null,null,null,null,null,null,null,null,null,null,null,null,null,null,null,null,null,null,null,null,null,null,null,null,null,null,{"$f":"IF(PLANTS!A545=\"\",\"\",PLANTS!A545)","v":"TYLA"},8.5,"",0,{"$f":"IF(PLANTS!C545=\"\",\"\",PLANTS!C545)","v":""},"",{"$f":"IF(PLANTS!D545=\"\",\"\",PLANTS!D545)","v":"y"},"",{"$f":"IF(PLANTS!E545=\"\",\"\",PLANTS!E545)","v":"y"},"",{"$f":"IF(PLANTS!F545=\"\",\"\",PLANTS!F545)","v":"y"},"",0,null,100,"",null,0,{"$f":"IF(PLANTS!H545=\"\",\"\",IF(DE547=\"A\",PLANTS!H545,DE547))","v":"M"},50,null,null,null,null,null,null,null,null,null,null,null,null,null,null,null,null,null,null,null,null,null,null,null,null,"","",0,0,"",0,"",null,"","","TYLA",{"$f":"IF(PLANTS!I545=\"\",\"\",IF(DC547=\"a\",PLANTS!I545,DMA!DC547))","v":8.5},{"$f":"IF(PLANTS!G545=\"\",\"\",IF(DD547=\"a\",PLANTS!G545,DMA!DD547))","v":100},null,null,null,null,null,null,null,null,null,{"$f":"PLANTS!I545","v":8.5},{"$f":"PLANTS!G545","v":100},{"$f":"PLANTS!H545","v":"M"},null,null,null,null,null,null,null,null,"",0,"",0]
[null,null,null,null,null,null,null,null,null,null,null,null,null,null,null,null,null,null,null,null,null,null,null,null,null,null,null,null,null,null,null,null,null,null,null,null,null,null,null,null,{"$f":"IF(PLANTS!A546=\"\",\"\",PLANTS!A546)","v":"TYPHA"},8.5,"",0,{"$f":"IF(PLANTS!C546=\"\",\"\",PLANTS!C546)","v":""},"",{"$f":"IF(PLANTS!D546=\"\",\"\",PLANTS!D546)","v":"y"},"",{"$f":"IF(PLANTS!E546=\"\",\"\",PLANTS!E546)","v":"y"},"",{"$f":"IF(PLANTS!F546=\"\",\"\",PLANTS!F546)","v":"y"},"",0,null,100,"",null,0,{"$f":"IF(PLANTS!H546=\"\",\"\",IF(DE548=\"A\",PLANTS!H546,DE548))","v":"M"},50,null,null,null,null,null,null,null,null,null,null,null,null,null,null,null,null,null,null,null,null,null,null,null,null,"","",0,0,"",0,"",null,"","","TYPHA",{"$f":"IF(PLANTS!I546=\"\",\"\",IF(DC548=\"a\",PLANTS!I546,DMA!DC548))","v":8.5},{"$f":"IF(PLANTS!G546=\"\",\"\",IF(DD548=\"a\",PLANTS!G546,DMA!DD548))","v":100},null,null,null,null,null,null,null,null,null,{"$f":"PLANTS!I546","v":8.5},{"$f":"PLANTS!G546","v":100},{"$f":"PLANTS!H546","v":"M"},null,null,null,null,null,null,null,null,"",0,"",0]
[null,null,null,null,null,null,null,null,null,null,null,null,null,null,null,null,null,null,null,null,null,null,null,null,null,null,null,null,null,null,null,null,null,null,null,null,null,null,null,null,{"$f":"IF(PLANTS!A547=\"\",\"\",PLANTS!A547)","v":"UF"},2,"",0,{"$f":"IF(PLANTS!C547=\"\",\"\",PLANTS!C547)","v":""},"",{"$f":"IF(PLANTS!D547=\"\",\"\",PLANTS!D547)","v":""},"",{"$f":"IF(PLANTS!E547=\"\",\"\",PLANTS!E547)","v":"y"},"",{"$f":"IF(PLANTS!F547=\"\",\"\",PLANTS!F547)","v":"y"},"",0,null,0,"",null,0,{"$f":"IF(PLANTS!H547=\"\",\"\",IF(DE549=\"A\",PLANTS!H547,DE549))","v":"E"},20,null,null,null,null,null,null,null,null,null,null,null,null,null,null,null,null,null,null,null,null,null,null,null,null,"","",0,"","","","",null,"","","UF",{"$f":"IF(PLANTS!I547=\"\",\"\",IF(DC549=\"a\",PLANTS!I547,DMA!DC549))","v":2},{"$f":"IF(PLANTS!G547=\"\",\"\",IF(DD549=\"a\",PLANTS!G547,DMA!DD549))","v":0},null,null,null,null,null,null,null,null,null,{"$f":"PLANTS!I547","v":2},{"$f":"PLANTS!G547","v":0},{"$f":"PLANTS!H547","v":"E"},null,null,null,null,null,null,null,null,"",0,"",0]
[null,null,null,null,null,null,null,null,null,null,null,null,null,null,null,null,null,null,null,null,null,null,null,null,null,null,null,null,null,null,null,null,null,null,null,null,null,null,null,null,{"$f":"IF(PLANTS!A548=\"\",\"\",PLANTS!A548)","v":"UG"},2,"",0,{"$f":"IF(PLANTS!C548=\"\",\"\",PLANTS!C548)","v":""},"",{"$f":"IF(PLANTS!D548=\"\",\"\",PLANTS!D548)","v":""},"",{"$f":"IF(PLANTS!E548=\"\",\"\",PLANTS!E548)","v":"y"},"",{"$f":"IF(PLANTS!F548=\"\",\"\",PLANTS!F548)","v":""},"",0,null,0,"",null,0,{"$f":"IF(PLANTS!H548=\"\",\"\",IF(DE550=\"A\",PLANTS!H548,DE550))","v":"E"},20,null,null,null,null,null,null,null,null,null,null,null,null,null,null,null,null,null,null,null,null,null,null,null,null,"","","","","","","",null,"","","UG",{"$f":"IF(PLANTS!I548=\"\",\"\",IF(DC550=\"a\",PLANTS!I548,DMA!DC550))","v":2},{"$f":"IF(PLANTS!G548=\"\",\"\",IF(DD550=\"a\",PLANTS!G548,DMA!DD550))","v":0},null,null,null,null,null,null,null,null,null,{"$f":"PLANTS!I548","v":2},{"$f":"PLANTS!G548","v":0},{"$f":"PLANTS!H548","v":"E"},null,null,null,null,null,null,null,null,"",0,"",0]
[null,null,null,null,null,null,null,null,null,null,null,null,null,null,null,null,null,null,null,null,null,null,null,null,null,null,null,null,null,null,null,null,null,null,null,null,null,null,null,null,{"$f":"IF(PLANTS!A549=\"\",\"\",PLANTS!A549)","v":"ULAM"},8.5,"",0,{"$f":"IF(PLANTS!C549=\"\",\"\",PLANTS!C549)","v":"y"},"",{"$f":"IF(PLANTS!D549=\"\",\"\",PLANTS!D549)","v":""},"",{"$f":"IF(PLANTS!E549=\"\",\"\",PLANTS!E549)","v":""},"",{"$f":"IF(PLANTS!F549=\"\",\"\",PLANTS!F549)","v":""},"",0,null,50,"",null,0,{"$f":"IF(PLANTS!H549=\"\",\"\",IF(DE551=\"A\",PLANTS!H549,DE551))","v":"L"},80,null,null,null,null,null,null,null,null,null,null,null,null,null,null,null,null,null,null,null,null,null,null,null,null,"","","","",0,"","",null,"","","ULAM",{"$f":"IF(PLANTS!I549=\"\",\"\",IF(DC551=\"a\",PLANTS!I549,DMA!DC551))","v":8.5},{"$f":"IF(PLANTS!G549=\"\",\"\",IF(DD551=\"a\",PLANTS!G549,DMA!DD551))","v":50},null,null,null,null,null,null,null,null,null,{"$f":"PLANTS!I549","v":8.5},{"$f":"PLANTS!G549","v":50},{"$f":"PLANTS!H549","v":"L"},null,null,null,null,null,null,null,null,"",0,"",0]
[null,null,null,null,null,null,null,null,null,null,null,null,null,null,null,null,null,null,null,null,null,null,null,null,null,null,null,null,null,null,null,null,null,null,null,null,null,null,null,null,{"$f":"IF(PLANTS!A550=\"\",\"\",PLANTS!A550)","v":"URDI"},8.5,"",0,{"$f":"IF(PLANTS!C550=\"\",\"\",PLANTS!C550)","v":""},"",{"$f":"IF(PLANTS!D550=\"\",\"\",PLANTS!D550)","v":""},"",{"$f":"IF(PLANTS!E550=\"\",\"\",PLANTS!E550)","v":"y"},"",{"$f":"IF(PLANTS!F550=\"\",\"\",PLANTS!F550)","v":"y"},"",0,null,50,"",null,0,{"$f":"IF(PLANTS!H550=\"\",\"\",IF(DE552=\"A\",PLANTS!H550,DE552))","v":"M"},50,null,null,null,null,null,null,null,null,null,null,null,null,null,null,null,null,null,null,null,null,null,null,null,null,"","",0,"","","","",null,"","","URDI",{"$f":"IF(PLANTS!I550=\"\",\"\",IF(DC552=\"a\",PLANTS!I550,DMA!DC552))","v":8.5},{"$f":"IF(PLANTS!G550=\"\",\"\",IF(DD552=\"a\",PLANTS!G550,DMA!DD552))","v":50},null,null,null,null,null,null,null,null,null,{"$f":"PLANTS!I550","v":8.5},{"$f":"PLANTS!G550","v":50},{"$f":"PLANTS!H550","v":"M"},null,null,null,null,null,null,null,null,"",0,"",0]
[null,null,null,null,null,null,null,null,null,null,null,null,null,null,null,null,null,null,null,null,null,null,null,null,null,null,null,null,null,null,null,null,null,null,null,null,null,null,null,null,{"$f":"IF(PLANTS!A551=\"\",\"\",PLANTS!A551)","v":"US"},2,"",0,{"$f":"IF(PLANTS!C551=\"\",\"\",PLANTS!C551)","v":"y"},"",{"$f":"IF(PLANTS!D551=\"\",\"\",PLANTS!D551)","v":""},"",{"$f":"IF(PLANTS!E551=\"\",\"\",PLANTS!E551)","v":""},"",{"$f":"IF(PLANTS!F551=\"\",\"\",PLANTS!F551)","v":""},"",0,null,0,"",null,0,{"$f":"IF(PLANTS!H551=\"\",\"\",IF(DE553=\"A\",PLANTS!H551,DE553))","v":"E"},20,null,null,null,null,null,null,null,null,null,null,null,null,null,null,null,null,null,null,null,null,null,null,null,null,"","","","",0,"","",null,"","","US",{"$f":"IF(PLANTS!I551=\"\",\"\",IF(DC553=\"a\",PLANTS!I551,DMA!DC553))","v":2},{"$f":"IF(PLANTS!G551=\"\",\"\",IF(DD553=\"a\",PLANTS!G551,DMA!DD553))","v":0},null,null,null,null,null,null,null,null,null,{"$f":"PLANTS!I551","v":2},{"$f":"PLANTS!G551","v":0},{"$f":"PLANTS!H551","v":"E"},null,null,null,null,null,null,null,null,"",0,"",0]
[null,null,null,null,null,null,null,null,null,null,null,null,null,null,null,null,null,null,null,null,null,null,null,null,null,null,null,null,null,null,null,null,null,null,null,null,null,null,null,null,{"$f":"IF(PLANTS!A552=\"\",\"\",PLANTS!A552)","v":"VEAM2"},5,"",0,{"$f":"IF(PLANTS!C552=\"\",\"\",PLANTS!C552)","v":""},"",{"$f":"IF(PLANTS!D552=\"\",\"\",PLANTS!D552)","v":"y"},"",{"$f":"IF(PLANTS!E552=\"\",\"\",PLANTS!E552)","v":"y"},"",{"$f":"IF(PLANTS!F552=\"\",\"\",PLANTS!F552)","v":"y"},"",0,null,100,"",null,0,{"$f":"IF(PLANTS!H552=\"\",\"\",IF(DE554=\"A\",PLANTS!H552,DE554))","v":"M"},50,null,null,null,null,null,null,null,null,null,null,null,null,null,null,null,null,null,null,null,null,null,null,null,null,"","",0,0,"",0,"",null,"","","VEAM2",{"$f":"IF(PLANTS!I552=\"\",\"\",IF(DC554=\"a\",PLANTS!I552,DMA!DC554))","v":5},{"$f":"IF(PLANTS!G552=\"\",\"\",IF(DD554=\"a\",PLANTS!G552,DMA!DD554))","v":100},null,null,null,null,null,null,null,null,null,{"$f":"PLANTS!I552","v":5},{"$f":"PLANTS!G552","v":100},{"$f":"PLANTS!H552","v":"M"},null,null,null,null,null,null,null,null,"",0,"",0]
[null,null,null,null,null,null,null,null,null,null,null,null,null,null,null,null,null,null,null,null,null,null,null,null,null,null,null,null,null,null,null,null,null,null,null,null,null,null,null,null,{"$f":"IF(PLANTS!A553=\"\",\"\",PLANTS!A553)","v":"VEAN2"},2,"",0,{"$f":"IF(PLANTS!C553=\"\",\"\",PLANTS!C553)","v":""},"",{"$f":"IF(PLANTS!D553=\"\",\"\",PLANTS!D553)","v":"y"},"",{"$f":"IF(PLANTS!E553=\"\",\"\",PLANTS!E553)","v":"y"},"",{"$f":"IF(PLANTS!F553=\"\",\"\",PLANTS!F553)","v":"y"},"",0,null,100,"",null,0,{"$f":"IF(PLANTS!H553=\"\",\"\",IF(DE555=\"A\",PLANTS!H553,DE555))","v":"M"},50,null,null,null,null,null,null,null,null,null,null,null,null,null,null,null,null,null,null,null,null,null,null,null,null,"","",0,0,"",0,"",null,"","","VEAN2",{"$f":"IF(PLANTS!I553=\"\",\"\",IF(DC555=\"a\",PLANTS!I553,DMA!DC555))","v":2},{"$f":"IF(PLANTS!G553=\"\",\"\",IF(DD555=\"a\",PLANTS!G553,DMA!DD555))","v":100},null,null,null,null,null,null,null,null,null,{"$f":"PLANTS!I553","v":2},{"$f":"PLANTS!G553","v":100},{"$f":"PLANTS!H553","v":"M"},null,null,null,null,null,null,null,null,"",0,"",0]
[null,null,null,null,null,null,null,null,null,null,null,null,null,null,null,null,null,null,null,null,null,null,null,null,null,null,null,null,null,null,null,null,null,null,null,null,null,null,null,null,{"$f":"IF(PLANTS!A554=\"\",\"\",PLANTS!A554)","v":"VECA2"},8.5,"",0,{"$f":"IF(PLANTS!C554=\"\",\"\",PLANTS!C554)","v":""},"",{"$f":"IF(PLANTS!D554=\"\",\"\",PLANTS!D554)","v":"y"},"",{"$f":"IF(PLANTS!E554=\"\",\"\",PLANTS!E554)","v":""},"",{"$f":"IF(PLANTS!F554=\"\",\"\",PLANTS!F554)","v":"y"},"",0,null,75,"",null,0,{"$f":"IF(PLANTS!H554=\"\",\"\",IF(DE556=\"A\",PLANTS!H554,DE556))","v":"M"},50,null,null,null,null,null,null,null,null,null,null,null,null,null,null,null,null,null,null,null,null,null,null,null,null,"","",0,0,"","","",null,"","","VECA2",{"$f":"IF(PLANTS!I554=\"\",\"\",IF(DC556=\"a\",PLANTS!I554,DMA!DC556))","v":8.5},{"$f":"IF(PLANTS!G554=\"\",\"\",IF(DD556=\"a\",PLANTS!G554,DMA!DD556))","v":75},null,null,null,null,null,null,null,null,null,{"$f":"PLANTS!I554","v":8.5},{"$f":"PLANTS!G554","v":75},{"$f":"PLANTS!H554","v":"M"},null,null,null,null,null,null,null,null,"",0,"",0]
[null,null,null,null,null,null,null,null,null,null,null,null,null,null,null,null,null,null,null,null,null,null,null,null,null,null,null,null,null,null,null,null,null,null,null,null,null,null,null,null,{"$f":"IF(PLANTS!A555=\"\",\"\",PLANTS!A555)","v":"VERON"},2,"",0,{"$f":"IF(PLANTS!C555=\"\",\"\",PLANTS!C555)","v":""},"",{"$f":"IF(PLANTS!D555=\"\",\"\",PLANTS!D555)","v":"y"},"",{"$f":"IF(PLANTS!E555=\"\",\"\",PLANTS!E555)","v":"y"},"",{"$f":"IF(PLANTS!F555=\"\",\"\",PLANTS!F555)","v":"y"},"",0,null,100,"",null,0,{"$f":"IF(PLANTS!H555=\"\",\"\",IF(DE557=\"A\",PLANTS!H555,DE557))","v":"M"},50,null,null,null,null,null,null,null,null,null,null,null,null,null,null,null,null,null,null,null,null,null,null,null,null,null,"",0,0,"",0,"",null,"","","VERON",{"$f":"IF(PLANTS!I555=\"\",\"\",IF(DC557=\"a\",PLANTS!I555,DMA!DC557))","v":2},{"$f":"IF(PLANTS!G555=\"\",\"\",IF(DD557=\"a\",PLANTS!G555,DMA!DD557))","v":100},null,null,null,null,null,null,null,null,null,{"$f":"PLANTS!I555","v":2},{"$f":"PLANTS!G555","v":100},{"$f":"PLANTS!H555","v":"M"},null,null,null,null,null,null,null,null,"",0,"",0]
[null,null,null,null,null,null,null,null,null,null,null,null,null,null,null,null,null,null,null,null,null,null,null,null,null,null,null,null,null,null,null,null,null,null,null,null,null,null,null,null,{"$f":"IF(PLANTS!A556=\"\",\"\",PLANTS!A556)","v":"VIAD"},2,"",0,{"$f":"IF(PLANTS!C556=\"\",\"\",PLANTS!C556)","v":""},"",{"$f":"IF(PLANTS!D556=\"\",\"\",PLANTS!D556)","v":""},"",{"$f":"IF(PLANTS!E556=\"\",\"\",PLANTS!E556)","v":"y"},"",{"$f":"IF(PLANTS!F556=\"\",\"\",PLANTS!F556)","v":"y"},"",0,null,50,"",null,0,{"$f":"IF(PLANTS!H556=\"\",\"\",IF(DE558=\"A\",PLANTS!H556,DE558))","v":"M"},50,null,null,null,null,null,null,null,null,null,null,null,null,null,null,null,null,null,null,null,null,null,null,null,null,null,"",0,"","","","",null,"","","VIAD",{"$f":"IF(PLANTS!I556=\"\",\"\",IF(DC558=\"a\",PLANTS!I556,DMA!DC558))","v":2},{"$f":"IF(PLANTS!G556=\"\",\"\",IF(DD558=\"a\",PLANTS!G556,DMA!DD558))","v":50},null,null,null,null,null,null,null,null,null,{"$f":"PLANTS!I556","v":2},{"$f":"PLANTS!G556","v":50},{"$f":"PLANTS!H556","v":"M"},null,null,null,null,null,null,null,null,"",0,"",0]
[null,null,null,null,null,null,null,null,null,null,null,null,null,null,null,null,null,null,null,null,null,null,null,null,null,null,null,null,null,null,null,null,null,null,null,null,null,null,null,null,{"$f":"IF(PLANTS!A557=\"\",\"\",PLANTS!A557)","v":"VIAM"},5,"",0,{"$f":"IF(PLANTS!C557=\"\",\"\",PLANTS!C557)","v":""},"",{"$f":"IF(PLANTS!D557=\"\",\"\",PLANTS!D557)","v":""},"",{"$f":"IF(PLANTS!E557=\"\",\"\",PLANTS!E557)","v":"y"},"",{"$f":"IF(PLANTS!F557=\"\",\"\",PLANTS!F557)","v":"y"},"",0,null,50,"",null,0,{"$f":"IF(PLANTS!H557=\"\",\"\",IF(DE559=\"A\",PLANTS!H557,DE559))","v":"M"},50,null,null,null,null,null,null,null,null,null,null,null,null,null,null,null,null,null,null,null,null,null,null,null,null,null,"",0,"","","","",null,"","","VIAM",{"$f":"IF(PLANTS!I557=\"\",\"\",IF(DC559=\"a\",PLANTS!I557,DMA!DC559))","v":5},{"$f":"IF(PLANTS!G557=\"\",\"\",IF(DD559=\"a\",PLANTS!G557,DMA!DD559))","v":50},null,null,null,null,null,null,null,null,null,{"$f":"PLANTS!I557","v":5},{"$f":"PLANTS!G557","v":50},{"$f":"PLANTS!H557","v":"M"},null,null,null,null,null,null,null,null,"",0,"",0]
[null,null,null,null,null,null,null,null,null,null,null,null,null,null,null,null,null,null,null,null,null,null,null,null,null,null,null,null,null,null,null,null,null,null,null,null,null,null,null,null,{"$f":"IF(PLANTS!A558=\"\",\"\",PLANTS!A558)","v":"VICA4"},2,"",0,{"$f":"IF(PLANTS!C558=\"\",\"\",PLANTS!C558)","v":""},"",{"$f":"IF(PLANTS!D558=\"\",\"\",PLANTS!D558)","v":""},"",{"$f":"IF(PLANTS!E558=\"\",\"\",PLANTS!E558)","v":"y"},"",{"$f":"IF(PLANTS!F558=\"\",\"\",PLANTS!F558)","v":"y"},"",0,null,25,"",null,0,{"$f":"IF(PLANTS!H558=\"\",\"\",IF(DE560=\"A\",PLANTS!H558,DE560))","v":"E"},20,null,null,null,null,null,null,null,null,null,null,null,null,null,null,null,null,null,null,null,null,null,null,null,null,null,"",0,"","","","",null,"","","VICA4",{"$f":"IF(PLANTS!I558=\"\",\"\",IF(DC560=\"a\",PLANTS!I558,DMA!DC560))","v":2},{"$f":"IF(PLANTS!G558=\"\",\"\",IF(DD560=\"a\",PLANTS!G558,DMA!DD560))","v":25},null,null,null,null,null,null,null,null,null,{"$f":"PLANTS!I558","v":2},{"$f":"PLANTS!G558","v":25},{"$f":"PLANTS!H558","v":"E"},null,null,null,null,null,null,null,null,"",0,"",0]
[null,null,null,null,null,null,null,null,null,null,null,null,null,null,null,null,null,null,null,null,null,null,null,null,null,null,null,null,null,null,null,null,null,null,null,null,null,null,null,null,{"$f":"IF(PLANTS!A559=\"\",\"\",PLANTS!A559)","v":"VIGL"},2,"",0,{"$f":"IF(PLANTS!C559=\"\",\"\",PLANTS!C559)","v":""},"",{"$f":"IF(PLANTS!D559=\"\",\"\",PLANTS!D559)","v":""},"",{"$f":"IF(PLANTS!E559=\"\",\"\",PLANTS!E559)","v":"y"},"",{"$f":"IF(PLANTS!F559=\"\",\"\",PLANTS!F559)","v":"y"},"",0,null,50,"",null,0,{"$f":"IF(PLANTS!H559=\"\",\"\",IF(DE561=\"A\",PLANTS!H559,DE561))","v":"M"},50,null,null,null,null,null,null,null,null,null,null,null,null,null,null,null,null,null,null,null,null,null,null,null,null,null,"",0,"","","","",null,"","","VIGL",{"$f":"IF(PLANTS!I559=\"\",\"\",IF(DC561=\"a\",PLANTS!I559,DMA!DC561))","v":2},{"$f":"IF(PLANTS!G559=\"\",\"\",IF(DD561=\"a\",PLANTS!G559,DMA!DD561))","v":50},null,null,null,null,null,null,null,null,null,{"$f":"PLANTS!I559","v":2},{"$f":"PLANTS!G559","v":50},{"$f":"PLANTS!H559","v":"M"},null,null,null,null,null,null,null,null,"",0,"",0]
[null,null,null,null,null,null,null,null,null,null,null,null,null,null,null,null,null,null,null,null,null,null,null,null,null,null,null,null,null,null,null,null,null,null,null,null,null,null,null,null,{"$f":"IF(PLANTS!A560=\"\",\"\",PLANTS!A560)","v":"VILE"},5,"",0,{"$f":"IF(PLANTS!C560=\"\",\"\",PLANTS!C560)","v":"y"},"",{"$f":"IF(PLANTS!D560=\"\",\"\",PLANTS!D560)","v":""},"",{"$f":"IF(PLANTS!E560=\"\",\"\",PLANTS!E560)","v":""},"",{"$f":"IF(PLANTS!F560=\"\",\"\",PLANTS!F560)","v":""},"",0,null,50,"",null,0,{"$f":"IF(PLANTS!H560=\"\",\"\",IF(DE562=\"A\",PLANTS!H560,DE562))","v":"M"},50,null,null,null,null,null,null,null,null,null,null,null,null,null,null,null,null,null,null,null,null,null,null,null,null,null,"","","",0,"","",null,"","","VILE",{"$f":"IF(PLANTS!I560=\"\",\"\",IF(DC562=\"a\",PLANTS!I560,DMA!DC562))","v":5},{"$f":"IF(PLANTS!G560=\"\",\"\",IF(DD562=\"a\",PLANTS!G560,DMA!DD562))","v":50},null,null,null,null,null,null,null,null,null,{"$f":"PLANTS!I560","v":5},{"$f":"PLANTS!G560","v":50},{"$f":"PLANTS!H560","v":"M"},null,null,null,null,null,null,null,null,"",0,"",0]
[null,null,null,null,null,null,null,null,null,null,null,null,null,null,null,null,null,null,null,null,null,null,null,null,null,null,null,null,null,null,null,null,null,null,null,null,null,null,null,null,{"$f":"IF(PLANTS!A561=\"\",\"\",PLANTS!A561)","v":"VIMA2"},2,"",0,{"$f":"IF(PLANTS!C561=\"\",\"\",PLANTS!C561)","v":""},"",{"$f":"IF(PLANTS!D561=\"\",\"\",PLANTS!D561)","v":"y"},"",{"$f":"IF(PLANTS!E561=\"\",\"\",PLANTS!E561)","v":"y"},"",{"$f":"IF(PLANTS!F561=\"\",\"\",PLANTS!F561)","v":"y"},"",0,null,100,"",null,0,{"$f":"IF(PLANTS!H561=\"\",\"\",IF(DE563=\"A\",PLANTS!H561,DE563))","v":"M"},50,null,null,null,null,null,null,null,null,null,null,null,null,null,null,null,null,null,null,null,null,null,null,null,null,null,"",0,0,"",0,"",null,"","","VIMA2",{"$f":"IF(PLANTS!I561=\"\",\"\",IF(DC563=\"a\",PLANTS!I561,DMA!DC563))","v":2},{"$f":"IF(PLANTS!G561=\"\",\"\",IF(DD563=\"a\",PLANTS!G561,DMA!DD563))","v":100},null,null,null,null,null,null,null,null,null,{"$f":"PLANTS!I561","v":2},{"$f":"PLANTS!G561","v":100},{"$f":"PLANTS!H561","v":"M"},null,null,null,null,null,null,null,null,"",0,"",0]
[null,null,null,null,null,null,null,null,null,null,null,null,null,null,null,null,null,null,null,null,null,null,null,null,null,null,null,null,null,null,null,null,null,null,null,null,null,null,null,null,{"$f":"IF(PLANTS!A562=\"\",\"\",PLANTS!A562)","v":"VIOLA"},2,"",0,{"$f":"IF(PLANTS!C562=\"\",\"\",PLANTS!C562)","v":""},"",{"$f":"IF(PLANTS!D562=\"\",\"\",PLANTS!D562)","v":""},"",{"$f":"IF(PLANTS!E562=\"\",\"\",PLANTS!E562)","v":"y"},"",{"$f":"IF(PLANTS!F562=\"\",\"\",PLANTS!F562)","v":"y"},"",0,null,25,"",null,0,{"$f":"IF(PLANTS!H562=\"\",\"\",IF(DE564=\"A\",PLANTS!H562,DE564))","v":"E"},20,null,null,null,null,null,null,null,null,null,null,null,null,null,null,null,null,null,null,null,null,null,null,null,null,null,"",0,"","","","",null,"","","VIOLA",{"$f":"IF(PLANTS!I562=\"\",\"\",IF(DC564=\"a\",PLANTS!I562,DMA!DC564))","v":2},{"$f":"IF(PLANTS!G562=\"\",\"\",IF(DD564=\"a\",PLANTS!G562,DMA!DD564))","v":25},null,null,null,null,null,null,null,null,null,{"$f":"PLANTS!I562","v":2},{"$f":"PLANTS!G562","v":25},{"$f":"PLANTS!H562","v":"E"},null,null,null,null,null,null,null,null,"",0,"",0]
[null,null,null,null,null,null,null,null,null,null,null,null,null,null,null,null,null,null,null,null,null,null,null,null,null,null,null,null,null,null,null,null,null,null,null,null,null,null,null,null,{"$f":"IF(PLANTS!A563=\"\",\"\",PLANTS!A563)","v":"VISO"},2,"",0,{"$f":"IF(PLANTS!C563=\"\",\"\",PLANTS!C563)","v":""},"",{"$f":"IF(PLANTS!D563=\"\",\"\",PLANTS!D563)","v":""},"",{"$f":"IF(PLANTS!E563=\"\",\"\",PLANTS!E563)","v":"y"},"",{"$f":"IF(PLANTS!F563=\"\",\"\",PLANTS!F563)","v":"y"},"",0,null,50,"",null,0,{"$f":"IF(PLANTS!H563=\"\",\"\",IF(DE565=\"A\",PLANTS!H563,DE565))","v":"M"},50,null,null,null,null,null,null,null,null,null,null,null,null,null,null,null,null,null,null,null,null,null,null,null,null,null,"",0,"","","","",null,"","","VISO",{"$f":"IF(PLANTS!I563=\"\",\"\",IF(DC565=\"a\",PLANTS!I563,DMA!DC565))","v":2},{"$f":"IF(PLANTS!G563=\"\",\"\",IF(DD565=\"a\",PLANTS!G563,DMA!DD565))","v":50},null,null,null,null,null,null,null,null,null,{"$f":"PLANTS!I563","v":2},{"$f":"PLANTS!G563","v":50},{"$f":"PLANTS!H563","v":"M"},null,null,null,null,null,null,null,null,"",0,"",0]
[null,null,null,null,null,null,null,null,null,null,null,null,null,null,null,null,null,null,null,null,null,null,null,null,null,null,null,null,null,null,null,null,null,null,null,null,null,null,null,null,{"$f":"IF(PLANTS!A564=\"\",\"\",PLANTS!A564)","v":"WD"},10,"",0,{"$f":"IF(PLANTS!C564=\"\",\"\",PLANTS!C564)","v":""},"",{"$f":"IF(PLANTS!D564=\"\",\"\",PLANTS!D564)","v":""},"",{"$f":"IF(PLANTS!E564=\"\",\"\",PLANTS!E564)","v":""},"",{"$f":"IF(PLANTS!F564=\"\",\"\",PLANTS!F564)","v":""},"",0,null,100,"",null,0,{"$f":"IF(PLANTS!H564=\"\",\"\",IF(DE566=\"A\",PLANTS!H564,DE566))","v":"L"},80,null,null,null,null,null,null,null,null,null,null,null,null,null,null,null,null,null,null,null,null,null,null,null,null,null,"","","","","","",null,"","","WD",{"$f":"IF(PLANTS!I564=\"\",\"\",IF(DC566=\"a\",PLANTS!I564,DMA!DC566))","v":10},{"$f":"IF(PLANTS!G564=\"\",\"\",IF(DD566=\"a\",PLANTS!G564,DMA!DD566))","v":100},null,null,null,null,null,null,null,null,null,{"$f":"PLANTS!I564","v":10},{"$f":"PLANTS!G564","v":100},{"$f":"PLANTS!H564","v":"L"},null,null,null,null,null,null,null,null,"",0,"",0]
[null,null,null,null,null,null,null,null,null,null,null,null,null,null,null,null,null,null,null,null,null,null,null,null,null,null,null,null,null,null,null,null,null,null,null,null,null,null,null,null,{"$f":"IF(PLANTS!A565=\"\",\"\",PLANTS!A565)","v":"XAST"},2,"",0,{"$f":"IF(PLANTS!C565=\"\",\"\",PLANTS!C565)","v":""},"",{"$f":"IF(PLANTS!D565=\"\",\"\",PLANTS!D565)","v":""},"",{"$f":"IF(PLANTS!E565=\"\",\"\",PLANTS!E565)","v":"y"},"",{"$f":"IF(PLANTS!F565=\"\",\"\",PLANTS!F565)","v":"y"},"",0,null,50,"",null,0,{"$f":"IF(PLANTS!H565=\"\",\"\",IF(DE567=\"A\",PLANTS!H565,DE567))","v":"E"},20,null,null,null,null,null,null,null,null,null,null,null,null,null,null,null,null,null,null,null,null,null,null,null,null,null,"",0,"","","","",null,"","","XAST",{"$f":"IF(PLANTS!I565=\"\",\"\",IF(DC567=\"a\",PLANTS!I565,DMA!DC567))","v":2},{"$f":"IF(PLANTS!G565=\"\",\"\",IF(DD567=\"a\",PLANTS!G565,DMA!DD567))","v":50},null,null,null,null,null,null,null,null,null,{"$f":"PLANTS!I565","v":2},{"$f":"PLANTS!G565","v":50},{"$f":"PLANTS!H565","v":"E"},null,null,null,null,null,null,null,null,"",0,"",0]
[null,null,null,null,null,null,null,null,null,null,null,null,null,null,null,null,null,null,null,null,null,null,null,null,null,null,null,null,null,null,null,null,null,null,null,null,null,null,null,null,{"$f":"IF(PLANTS!A566=\"\",\"\",PLANTS!A566)","v":""},"","",0,{"$f":"IF(PLANTS!C566=\"\",\"\",PLANTS!C566)","v":""},"",{"$f":"IF(PLANTS!D566=\"\",\"\",PLANTS!D566)","v":""},"",{"$f":"IF(PLANTS!E566=\"\",\"\",PLANTS!E566)","v":""},"",{"$f":"IF(PLANTS!F566=\"\",\"\",PLANTS!F566)","v":""},"",0,null,"","",null,"",{"$f":"IF(PLANTS!H566=\"\",\"\",IF(DE568=\"A\",PLANTS!H566,DE568))","v":""},"",null,null,null,null,null,null,null,null,null,null,null,null,null,null,null,null,null,null,null,null,null,null,null,null,null,"","","","","","",null,"","","",{"$f":"IF(PLANTS!I566=\"\",\"\",IF(DC568=\"a\",PLANTS!I566,DMA!DC568))","v":""},{"$f":"IF(PLANTS!G566=\"\",\"\",IF(DD568=\"a\",PLANTS!G566,DMA!DD568))","v":""},null,null,null,null,null,null,null,null,null,{"$f":"PLANTS!I566","v":0},{"$f":"PLANTS!G566","v":0},{"$f":"PLANTS!H566","v":0},null,null,null,null,null,null,null,null,"",0,"",""]
[null,null,null,null,null,null,null,null,null,null,null,null,null,null,null,null,null,null,null,null,null,null,null,null,null,null,null,null,null,null,null,null,null,null,null,null,null,null,null,null,{"$f":"IF(PLANTS!A567=\"\",\"\",PLANTS!A567)","v":""},"","",0,{"$f":"IF(PLANTS!C567=\"\",\"\",PLANTS!C567)","v":""},"",{"$f":"IF(PLANTS!D567=\"\",\"\",PLANTS!D567)","v":""},"",{"$f":"IF(PLANTS!E567=\"\",\"\",PLANTS!E567)","v":""},{"$f":"IF(AU569=\"y\",IF(AW569=\"y\",AV569,\"\"),\"\")","v":""},{"$f":"IF(PLANTS!F567=\"\",\"\",PLANTS!F567)","v":""},{"$f":"IF($AQ569=\"\",\"\",IF($AQ569>0,IF(AY569=\"y\",COUNTIF($B$5:$B$504,$AO569)/$AP$605,\"\"),\"\"))","v":""},{"$f":"IF(AQ569<>\"\",AQ569/AQ$604,0)","v":0},null,"","",null,{"$f":"IF(AP569=\"\",\"\",(BA569*AP569))","v":""},{"$f":"IF(PLANTS!H567=\"\",\"\",IF(DE569=\"A\",PLANTS!H567,DE569))","v":""},{"$f":"IF(BG569=\"\",\"\",IF(BG569=\"l\",80,IF(BG569=\"m\",50,IF(BG569=\"E\",20))))","v":""},null,null,null,null,null,null,null,null,null,null,null,null,null,null,null,null,null,null,null,null,null,null,null,null,null,"","","","","","",null,"","","",{"$f":"IF(PLANTS!I567=\"\",\"\",IF(DC569=\"a\",PLANTS!I567,DMA!DC569))","v":""},{"$f":"IF(PLANTS!G567=\"\",\"\",IF(DD569=\"a\",PLANTS!G567,DMA!DD569))","v":""},null,null,null,null,null,null,null,null,null,{"$f":"PLANTS!I567","v":0},{"$f":"PLANTS!G567","v":0},{"$f":"PLANTS!H567","v":0},null,null,null,null,null,null,null,null,"",0,"",""]
[null,null,null,null,null,null,null,null,null,null,null,null,null,null,null,null,null,null,null,null,null,null,null,null,null,null,null,null,null,null,null,null,null,null,null,null,null,null,null,null,{"$f":"IF(PLANTS!A568=\"\",\"\",PLANTS!A568)","v":""},"","",{"$f":"SUMIF(B$5:B$504,AO570,D$5:D$504)","v":0},{"$f":"IF(PLANTS!C568=\"\",\"\",PLANTS!C568)","v":""},{"$f":"IF($AQ570=\"\",\"\",IF($AQ570>0,IF(AS570=\"y\",COUNTIF(B$5:B$504,AO570)/AP$605,\"\"),\"\"))","v":""},{"$f":"IF(PLANTS!D568=\"\",\"\",PLANTS!D568)","v":""},{"$f":"IF($AQ570=\"\",\"\",IF($AQ570>0,IF(AU570=\"y\",COUNTIF($B$5:$B$504,$AO570)/$AP$605,\"\"),\"\"))","v":""},{"$f":"IF(PLANTS!E568=\"\",\"\",PLANTS!E568)","v":""},"",{"$f":"IF(PLANTS!F568=\"\",\"\",PLANTS!F568)","v":""},"",0,null,"","",null,"",{"$f":"IF(PLANTS!H568=\"\",\"\",IF(DE570=\"A\",PLANTS!H568,DE570))","v":""},"",null,null,null,null,null,null,null,null,null,null,null,null,null,null,null,null,null,null,null,null,null,null,null,null,null,"","","","","","",null,"","","",{"$f":"IF(PLANTS!I568=\"\",\"\",IF(DC570=\"a\",PLANTS!I568,DMA!DC570))","v":""},{"$f":"IF(PLANTS!G568=\"\",\"\",IF(DD570=\"a\",PLANTS!G568,DMA!DD570))","v":""},null,null,null,null,null,null,null,null,null,{"$f":"PLANTS!I568","v":0},{"$f":"PLANTS!G568","v":0},{"$f":"PLANTS!H568","v":0},null,null,null,null,null,null,null,null,"",0,"",""]
[null,null,null,null,null,null,null,null,null,null,null,null,null,null,null,null,null,null,null,null,null,null,null,null,null,null,null,null,null,null,null,null,null,null,null,null,null,null,null,null,{"$f":"IF(PLANTS!A569=\"\",\"\",PLANTS!A569)","v":""},"","",0,{"$f":"IF(PLANTS!C569=\"\",\"\",PLANTS!C569)","v":""},"",{"$f":"IF(PLANTS!D569=\"\",\"\",PLANTS!D569)","v":""},"",{"$f":"IF(PLANTS!E569=\"\",\"\",PLANTS!E569)","v":""},"",{"$f":"IF(PLANTS!F569=\"\",\"\",PLANTS!F569)","v":""},"",0,null,"","",null,"",{"$f":"IF(PLANTS!H569=\"\",\"\",IF(DE571=\"A\",PLANTS!H569,DE571))","v":""},"",null,null,"CALCULATION ECOLOGICAL STATUS",null,null,null,null,null,null,null,null,null,null,null,null,null,null,null,null,null,null,null,null,null,null,"","","","","","",null,"","","",{"$f":"IF(PLANTS!I569=\"\",\"\",IF(DC571=\"a\",PLANTS!I569,DMA!DC571))","v":""},{"$f":"IF(PLANTS!G569=\"\",\"\",IF(DD571=\"a\",PLANTS!G569,DMA!DD571))","v":""},null,null,null,null,null,null,null,null,null,{"$f":"PLANTS!I569","v":0},{"$f":"PLANTS!G569","v":0},{"$f":"PLANTS!H569","v":0},null,null,null,null,null,null,null,null,"",0,"",""]
[null,null,null,null,null,null,null,null,null,null,null,null,null,null,null,null,null,null,null,null,null,null,null,null,null,null,null,null,null,null,null,null,null,null,null,null,null,null,null,null,{"$f":"IF(PLANTS!A570=\"\",\"\",PLANTS!A570)","v":""},"","",0,{"$f":"IF(PLANTS!C570=\"\",\"\",PLANTS!C570)","v":""},"",{"$f":"IF(PLANTS!D570=\"\",\"\",PLANTS!D570)","v":""},"",{"$f":"IF(PLANTS!E570=\"\",\"\",PLANTS!E570)","v":""},"",{"$f":"IF(PLANTS!F570=\"\",\"\",PLANTS!F570)","v":""},"",0,null,"","",null,"",{"$f":"IF(PLANTS!H570=\"\",\"\",IF(DE572=\"A\",PLANTS!H570,DE572))","v":""},"",null,null,"St Gr cd","Substr","Group","% Lt seral",null,null,null,null,null,null,null,null,null,null,null,null,null,null,null,null,null,null,null,"","","","","","",null,"","","",{"$f":"IF(PLANTS!I570=\"\",\"\",IF(DC572=\"a\",PLANTS!I570,DMA!DC572))","v":""},{"$f":"IF(PLANTS!G570=\"\",\"\",IF(DD572=\"a\",PLANTS!G570,DMA!DD572))","v":""},null,null,null,null,null,null,null,null,null,{"$f":"PLANTS!I570","v":0},{"$f":"PLANTS!G570","v":0},{"$f":"PLANTS!H570","v":0},null,null,null,null,null,null,null,null,"",0,"",""]
[null,null,null,null,null,null,null,null,null,null,null,null,null,null,null,null,null,null,null,null,null,null,null,null,null,null,null,null,null,null,null,null,null,null,null,null,null,null,null,null,{"$f":"IF(PLANTS!A571=\"\",\"\",PLANTS!A571)","v":""},"","",0,{"$f":"IF(PLANTS!C571=\"\",\"\",PLANTS!C571)","v":""},"",{"$f":"IF(PLANTS!D571=\"\",\"\",PLANTS!D571)","v":""},"",{"$f":"IF(PLANTS!E571=\"\",\"\",PLANTS!E571)","v":""},"",{"$f":"IF(PLANTS!F571=\"\",\"\",PLANTS!F571)","v":""},"",0,null,"","",null,"",{"$f":"IF(PLANTS!H571=\"\",\"\",IF(DE573=\"A\",PLANTS!H571,DE573))","v":""},"",null,{"$f":"IF(Header!G18=\"\",\"\",IF(Header!G18=\"<.5\",0.49,IF(Header!G18=\"<2\",1,IF(Header!G18=\"2-4\",3,IF(Header!G18=\">4\",5,IF(Header!G18=\">10\",11,\"\"))))))","v":""},{"$f":"IF(BJ573<0.5,1,0)","v":0},"gr",1,0.98,{"$f":"IF(BK573=1,IF(BL573=Header!H$18,BN573,0),0)","v":0},null,null,null,null,null,null,null,null,null,null,null,null,null,null,null,null,null,null,"","","","","","",null,"","","",{"$f":"IF(PLANTS!I571=\"\",\"\",IF(DC573=\"a\",PLANTS!I571,DMA!DC573))","v":""},{"$f":"IF(PLANTS!G571=\"\",\"\",IF(DD573=\"a\",PLANTS!G571,DMA!DD573))","v":""},null,null,null,null,null,null,null,null,null,{"$f":"PLANTS!I571","v":0},{"$f":"PLANTS!G571","v":0},{"$f":"PLANTS!H571","v":0},null,null,null,null,null,null,null,null,"",0,"",""]
[null,null,null,null,null,null,null,null,null,null,null,null,null,null,null,null,null,null,null,null,null,null,null,null,null,null,null,null,null,null,null,null,null,null,null,null,null,null,null,null,{"$f":"IF(PLANTS!A572=\"\",\"\",PLANTS!A572)","v":""},"","",0,{"$f":"IF(PLANTS!C572=\"\",\"\",PLANTS!C572)","v":""},"",{"$f":"IF(PLANTS!D572=\"\",\"\",PLANTS!D572)","v":""},"",{"$f":"IF(PLANTS!E572=\"\",\"\",PLANTS!E572)","v":""},"",{"$f":"IF(PLANTS!F572=\"\",\"\",PLANTS!F572)","v":""},"",0,null,"","",null,"",{"$f":"IF(PLANTS!H572=\"\",\"\",IF(DE574=\"A\",PLANTS!H572,DE574))","v":""},"",null,null,{"$f":"IF(BJ573<0.5,1,0)","v":0},"cb",1,0.98,{"$f":"IF(BK574=1,IF(BL574=Header!H$18,BN574,0),0)","v":0},null,null,null,null,null,null,null,null,null,null,null,null,null,null,null,null,null,null,"","","","","","",null,"","","",{"$f":"IF(PLANTS!I572=\"\",\"\",IF(DC574=\"a\",PLANTS!I572,DMA!DC574))","v":""},{"$f":"IF(PLANTS!G572=\"\",\"\",IF(DD574=\"a\",PLANTS!G572,DMA!DD574))","v":""},null,null,null,null,null,null,null,null,null,{"$f":"PLANTS!I572","v":0},{"$f":"PLANTS!G572","v":0},{"$f":"PLANTS!H572","v":0},null,null,null,null,null,null,null,null,"",0,"",""]
[null,null,null,null,null,null,null,null,null,null,null,null,null,null,null,null,null,null,null,null,null,null,null,null,null,null,null,null,null,null,null,null,null,null,null,null,null,null,null,null,{"$f":"IF(PLANTS!A573=\"\",\"\",PLANTS!A573)","v":""},"","",0,{"$f":"IF(PLANTS!C573=\"\",\"\",PLANTS!C573)","v":""},"",{"$f":"IF(PLANTS!D573=\"\",\"\",PLANTS!D573)","v":""},"",{"$f":"IF(PLANTS!E573=\"\",\"\",PLANTS!E573)","v":""},"",{"$f":"IF(PLANTS!F573=\"\",\"\",PLANTS!F573)","v":""},"",0,null,{"$f":"CS575","v":""},{"$f":"IF(AQ575<>\"\",BA575*$BC575,\"\")","v":""},null,"",{"$f":"IF(PLANTS!H573=\"\",\"\",IF(DE575=\"A\",PLANTS!H573,DE575))","v":""},"",null,null,{"$f":"IF(BJ573<0.5,1,0)","v":0},"cons",1,0.98,{"$f":"IF(BK575=1,IF(BL575=Header!H$18,BN575,0),0)","v":0},null,null,null,null,null,null,null,null,null,null,null,null,null,null,null,null,null,null,"","","","","","",null,"","","",{"$f":"IF(PLANTS!I573=\"\",\"\",IF(DC575=\"a\",PLANTS!I573,DMA!DC575))","v":""},{"$f":"IF(PLANTS!G573=\"\",\"\",IF(DD575=\"a\",PLANTS!G573,DMA!DD575))","v":""},null,null,null,null,null,null,null,null,null,{"$f":"PLANTS!I573","v":0},{"$f":"PLANTS!G573","v":0},{"$f":"PLANTS!H573","v":0},null,null,null,null,null,null,null,null,"",0,"",""]
[null,null,null,null,null,null,null,null,null,null,null,null,null,null,null,null,null,null,null,null,null,null,null,null,null,null,null,null,null,null,null,null,null,null,null,null,null,null,null,null,{"$f":"IF(PLANTS!A574=\"\",\"\",PLANTS!A574)","v":""},"","",0,{"$f":"IF(PLANTS!C574=\"\",\"\",PLANTS!C574)","v":""},"",{"$f":"IF(PLANTS!D574=\"\",\"\",PLANTS!D574)","v":""},"",{"$f":"IF(PLANTS!E574=\"\",\"\",PLANTS!E574)","v":""},"",{"$f":"IF(PLANTS!F574=\"\",\"\",PLANTS!F574)","v":""},"",0,null,"","",null,"",{"$f":"IF(PLANTS!H574=\"\",\"\",IF(DE576=\"A\",PLANTS!H574,DE576))","v":""},"",null,null,{"$f":"IF(BJ573<0.5,1,0)","v":0},"nonc",2,0.9,{"$f":"IF(BK576=1,IF(BL576=Header!H$18,BN576,0),0)","v":0},null,null,null,null,null,null,null,null,null,null,null,null,null,null,null,null,null,null,"","","","","","",null,"","","",{"$f":"IF(PLANTS!I574=\"\",\"\",IF(DC576=\"a\",PLANTS!I574,DMA!DC576))","v":""},{"$f":"IF(PLANTS!G574=\"\",\"\",IF(DD576=\"a\",PLANTS!G574,DMA!DD576))","v":""},null,null,null,null,null,null,null,null,null,{"$f":"PLANTS!I574","v":0},{"$f":"PLANTS!G574","v":0},{"$f":"PLANTS!H574","v":0},null,null,null,null,null,null,null,null,"",0,"",""]
[null,null,null,null,null,null,null,null,null,null,null,null,null,null,null,null,null,null,null,null,null,null,null,null,null,null,null,null,null,null,null,null,null,null,null,null,null,null,null,null,{"$f":"IF(PLANTS!A575=\"\",\"\",PLANTS!A575)","v":""},"","",0,{"$f":"IF(PLANTS!C575=\"\",\"\",PLANTS!C575)","v":""},"",{"$f":"IF(PLANTS!D575=\"\",\"\",PLANTS!D575)","v":""},"",{"$f":"IF(PLANTS!E575=\"\",\"\",PLANTS!E575)","v":""},"",{"$f":"IF(PLANTS!F575=\"\",\"\",PLANTS!F575)","v":""},"",0,null,"","",null,"",{"$f":"IF(PLANTS!H575=\"\",\"\",IF(DE577=\"A\",PLANTS!H575,DE577))","v":""},"",null,null,{"$f":"IF(BJ$573=1,1,0)","v":0},"gr",3,0.9,{"$f":"IF(BK577=1,IF(BL577=Header!H$18,BN577,0),0)","v":0},null,null,null,null,null,null,null,null,null,null,null,null,null,null,null,null,null,null,"","","","","","",null,"","","",{"$f":"IF(PLANTS!I575=\"\",\"\",IF(DC577=\"a\",PLANTS!I575,DMA!DC577))","v":""},{"$f":"IF(PLANTS!G575=\"\",\"\",IF(DD577=\"a\",PLANTS!G575,DMA!DD577))","v":""},null,null,null,null,null,null,null,null,null,{"$f":"PLANTS!I575","v":0},{"$f":"PLANTS!G575","v":0},{"$f":"PLANTS!H575","v":0},null,null,null,null,null,null,null,null,"",0,"",""]
[null,null,null,null,null,null,null,null,null,null,null,null,null,null,null,null,null,null,null,null,null,null,null,null,null,null,null,null,null,null,null,null,null,null,null,null,null,null,null,null,{"$f":"IF(PLANTS!A576=\"\",\"\",PLANTS!A576)","v":""},"","",0,{"$f":"IF(PLANTS!C576=\"\",\"\",PLANTS!C576)","v":""},"",{"$f":"IF(PLANTS!D576=\"\",\"\",PLANTS!D576)","v":""},"",{"$f":"IF(PLANTS!E576=\"\",\"\",PLANTS!E576)","v":""},"",{"$f":"IF(PLANTS!F576=\"\",\"\",PLANTS!F576)","v":""},"",0,null,"","",null,"",{"$f":"IF(PLANTS!H576=\"\",\"\",IF(DE578=\"A\",PLANTS!H576,DE578))","v":""},"",null,null,{"$f":"IF(BJ$573=1,1,0)","v":0},"cb",3,0.9,{"$f":"IF(BK578=1,IF(BL578=Header!H$18,BN578,0),0)","v":0},null,null,null,null,null,null,null,null,null,null,null,null,null,null,null,null,null,null,"","","","","","",null,"","","",{"$f":"IF(PLANTS!I576=\"\",\"\",IF(DC578=\"a\",PLANTS!I576,DMA!DC578))","v":""},{"$f":"IF(PLANTS!G576=\"\",\"\",IF(DD578=\"a\",PLANTS!G576,DMA!DD578))","v":""},null,null,null,null,null,null,null,null,null,{"$f":"PLANTS!I576","v":0},{"$f":"PLANTS!G576","v":0},{"$f":"PLANTS!H576","v":0},null,null,null,null,null,null,null,null,"",0,"",""]
[null,null,null,null,null,null,null,null,null,null,null,null,null,null,null,null,null,null,null,null,null,null,null,null,null,null,null,null,null,null,null,null,null,null,null,null,null,null,null,null,{"$f":"IF(PLANTS!A577=\"\",\"\",PLANTS!A577)","v":""},"","",0,{"$f":"IF(PLANTS!C577=\"\",\"\",PLANTS!C577)","v":""},"",{"$f":"IF(PLANTS!D577=\"\",\"\",PLANTS!D577)","v":""},"",{"$f":"IF(PLANTS!E577=\"\",\"\",PLANTS!E577)","v":""},"",{"$f":"IF(PLANTS!F577=\"\",\"\",PLANTS!F577)","v":""},"",0,null,"","",null,"",{"$f":"IF(PLANTS!H577=\"\",\"\",IF(DE579=\"A\",PLANTS!H577,DE579))","v":""},"",null,null,{"$f":"IF(BJ$573=1,1,0)","v":0},"cons",3,0.9,{"$f":"IF(BK579=1,IF(BL579=Header!H$18,BN579,0),0)","v":0},null,null,null,null,null,null,null,null,null,null,null,null,null,null,null,null,null,null,"","","","","","",null,"","","",{"$f":"IF(PLANTS!I577=\"\",\"\",IF(DC579=\"a\",PLANTS!I577,DMA!DC579))","v":""},{"$f":"IF(PLANTS!G577=\"\",\"\",IF(DD579=\"a\",PLANTS!G577,DMA!DD579))","v":""},null,null,null,null,null,null,null,null,null,{"$f":"PLANTS!I577","v":0},{"$f":"PLANTS!G577","v":0},{"$f":"PLANTS!H577","v":0},null,null,null,null,null,null,null,null,"",0,"",""]
[null,null,null,null,null,null,null,null,null,null,null,null,null,null,null,null,null,null,null,null,null,null,null,null,null,null,null,null,null,null,null,null,null,null,null,null,null,null,null,null,{"$f":"IF(PLANTS!A578=\"\",\"\",PLANTS!A578)","v":""},{"$f":"CR580","v":""},"",0,{"$f":"IF(PLANTS!C578=\"\",\"\",PLANTS!C578)","v":""},"",{"$f":"IF(PLANTS!D578=\"\",\"\",PLANTS!D578)","v":""},"",{"$f":"IF(PLANTS!E578=\"\",\"\",PLANTS!E578)","v":""},"",{"$f":"IF(PLANTS!F578=\"\",\"\",PLANTS!F578)","v":""},"",0,null,"","",null,"",{"$f":"IF(PLANTS!H578=\"\",\"\",IF(DE580=\"A\",PLANTS!H578,DE580))","v":""},"",null,null,{"$f":"IF(BJ$573=1,1,0)","v":0},"nonc",4,0.85,{"$f":"IF(BK580=1,IF(BL580=Header!H$18,BN580,0),0)","v":0},null,null,null,null,null,null,null,null,null,null,null,null,null,null,null,null,null,null,"",{"$f":"IF(AY580=\"\",\"\",COUNTIF(B$5:B$503,AO580))","v":""},{"$f":"IF(AU580=\"\",\"\",COUNTIF(B$5:B$503,AO580))","v":""},{"$f":"IF(AS580=\"\",\"\",COUNTIF(B$5:B$503,AO580))","v":""},{"$f":"IF(AU580=\"\",\"\",IF(AW580=\"\",\"\",COUNTIF(B$5:B$503,AO580)))","v":""},{"$f":"IF(Q580=\"\",\"\",COUNTIF($AO$5:$AO$688,Q580))","v":""},null,{"$f":"IF(CQ580=\"\",\"\",IF(COUNTIF($B$5:$B$503,$CQ580)=0,\"\",SUMIF(B$5:B$503,CQ580,C$5:C$503)/COUNTIF($B$5:$B$503,$CQ580)))","v":""},{"$f":"IF(CQ580=\"\",\"\",IF(COUNTIF(B$5:B$503,CQ580)=0,\"\",COUNTIF(B$5:B$503,CQ580)/COUNTA(B$5:B$503)))","v":""},"",{"$f":"IF(PLANTS!I578=\"\",\"\",IF(DC580=\"a\",PLANTS!I578,DMA!DC580))","v":""},{"$f":"IF(PLANTS!G578=\"\",\"\",IF(DD580=\"a\",PLANTS!G578,DMA!DD580))","v":""},null,null,null,null,null,null,null,null,null,{"$f":"PLANTS!I578","v":0},{"$f":"PLANTS!G578","v":0},{"$f":"PLANTS!H578","v":0},null,null,null,null,null,null,null,null,{"$f":"IF(AO580=\"\",\"\",IF(COUNTIF($B$5:$B$504,$AO580)=0,\"\",SUMIF($B$5:$B$504,$AO580,$C$5:$C$504)*COUNTIF(B$5:B$504,AO580)))","v":""},{"$f":"IF(DN580<>\"\",DN580/DN$604,0)","v":0},"",""]
[null,null,null,null,null,null,null,null,null,null,null,null,null,null,null,null,null,null,null,null,null,null,null,null,null,null,null,null,null,null,null,null,null,null,null,null,null,null,null,null,{"$f":"IF(PLANTS!A579=\"\",\"\",PLANTS!A579)","v":""},"","",0,{"$f":"IF(PLANTS!C579=\"\",\"\",PLANTS!C579)","v":""},"",{"$f":"IF(PLANTS!D579=\"\",\"\",PLANTS!D579)","v":""},"",{"$f":"IF(PLANTS!E579=\"\",\"\",PLANTS!E579)","v":""},"",{"$f":"IF(PLANTS!F579=\"\",\"\",PLANTS!F579)","v":""},"",0,null,"","",null,"",{"$f":"IF(PLANTS!H579=\"\",\"\",IF(DE581=\"A\",PLANTS!H579,DE581))","v":""},"",null,null,{"$f":"IF(BJ$573=3,1,0)","v":0},"gr",5,0.85,{"$f":"IF(BK581=1,IF(BL581=Header!H$18,BN581,0),0)","v":0},null,null,null,null,null,null,null,null,null,null,null,null,null,null,null,null,null,null,"","","","","","",null,"","","",{"$f":"IF(PLANTS!I579=\"\",\"\",IF(DC581=\"a\",PLANTS!I579,DMA!DC581))","v":""},{"$f":"IF(PLANTS!G579=\"\",\"\",IF(DD581=\"a\",PLANTS!G579,DMA!DD581))","v":""},null,null,null,null,null,null,null,null,null,{"$f":"PLANTS!I579","v":0},{"$f":"PLANTS!G579","v":0},{"$f":"PLANTS!H579","v":0},null,null,null,null,null,null,null,null,"",0,"",""]
[null,null,null,null,null,null,null,null,null,null,null,null,null,null,null,null,null,null,null,null,null,null,null,null,null,null,null,null,null,null,null,null,null,null,null,null,null,null,null,null,{"$f":"IF(PLANTS!A580=\"\",\"\",PLANTS!A580)","v":""},"","",0,{"$f":"IF(PLANTS!C580=\"\",\"\",PLANTS!C580)","v":""},"",{"$f":"IF(PLANTS!D580=\"\",\"\",PLANTS!D580)","v":""},"",{"$f":"IF(PLANTS!E580=\"\",\"\",PLANTS!E580)","v":""},"",{"$f":"IF(PLANTS!F580=\"\",\"\",PLANTS!F580)","v":""},"",0,null,"","",null,"",{"$f":"IF(PLANTS!H580=\"\",\"\",IF(DE582=\"A\",PLANTS!H580,DE582))","v":""},"",null,null,{"$f":"IF(BJ$573=3,1,0)","v":0},"cb",5,0.85,{"$f":"IF(BK582=1,IF(BL582=Header!H$18,BN582,0),0)","v":0},null,null,null,null,null,null,null,null,null,null,null,null,null,null,null,null,null,null,"","","","","","",null,"","","",{"$f":"IF(PLANTS!I580=\"\",\"\",IF(DC582=\"a\",PLANTS!I580,DMA!DC582))","v":""},{"$f":"IF(PLANTS!G580=\"\",\"\",IF(DD582=\"a\",PLANTS!G580,DMA!DD582))","v":""},null,null,null,null,null,null,null,null,null,{"$f":"PLANTS!I580","v":0},{"$f":"PLANTS!G580","v":0},{"$f":"PLANTS!H580","v":0},null,null,null,null,null,null,null,null,"",0,{"$f":"IF($AQ582<>\"\",$DO582*$BC582,\"\")","v":""},""]
[null,null,null,null,null,null,null,null,null,null,null,null,null,null,null,null,null,null,null,null,null,null,null,null,null,null,null,null,null,null,null,null,null,null,null,null,null,null,null,null,{"$f":"IF(PLANTS!A581=\"\",\"\",PLANTS!A581)","v":""},"","",0,{"$f":"IF(PLANTS!C581=\"\",\"\",PLANTS!C581)","v":""},"",{"$f":"IF(PLANTS!D581=\"\",\"\",PLANTS!D581)","v":""},"",{"$f":"IF(PLANTS!E581=\"\",\"\",PLANTS!E581)","v":""},"",{"$f":"IF(PLANTS!F581=\"\",\"\",PLANTS!F581)","v":""},"",0,null,"","",null,"",{"$f":"IF(PLANTS!H581=\"\",\"\",IF(DE583=\"A\",PLANTS!H581,DE583))","v":""},"",null,null,{"$f":"IF(BJ$573=3,1,0)","v":0},"cons",5,0.85,{"$f":"IF(BK583=1,IF(BL583=Header!H$18,BN583,0),0)","v":0},null,null,null,null,null,null,null,null,null,null,null,null,null,null,null,null,null,null,"","","","","","",null,"","","",{"$f":"IF(PLANTS!I581=\"\",\"\",IF(DC583=\"a\",PLANTS!I581,DMA!DC583))","v":""},{"$f":"IF(PLANTS!G581=\"\",\"\",IF(DD583=\"a\",PLANTS!G581,DMA!DD583))","v":""},null,null,null,null,null,null,null,null,null,{"$f":"PLANTS!I581","v":0},{"$f":"PLANTS!G581","v":0},{"$f":"PLANTS!H581","v":0},null,null,null,null,null,null,null,null,"",0,"",""]
[null,null,null,null,null,null,null,null,null,null,null,null,null,null,null,null,null,null,null,null,null,null,null,null,null,null,null,null,null,null,null,null,null,null,null,null,null,null,null,null,{"$f":"IF(PLANTS!A582=\"\",\"\",PLANTS!A582)","v":""},"","",0,{"$f":"IF(PLANTS!C582=\"\",\"\",PLANTS!C582)","v":""},"",{"$f":"IF(PLANTS!D582=\"\",\"\",PLANTS!D582)","v":""},"",{"$f":"IF(PLANTS!E582=\"\",\"\",PLANTS!E582)","v":""},"",{"$f":"IF(PLANTS!F582=\"\",\"\",PLANTS!F582)","v":""},"",0,null,"","",null,"",{"$f":"IF(PLANTS!H582=\"\",\"\",IF(DE584=\"A\",PLANTS!H582,DE584))","v":""},"",null,null,{"$f":"IF(BJ$573=3,1,0)","v":0},"nonc",6,0.8,{"$f":"IF(BK584=1,IF(BL584=Header!H$18,BN584,0),0)","v":0},null,null,null,null,null,null,null,null,null,null,null,null,null,null,null,null,null,null,"","","","","","",null,"","","",{"$f":"IF(PLANTS!I582=\"\",\"\",IF(DC584=\"a\",PLANTS!I582,DMA!DC584))","v":""},{"$f":"IF(PLANTS!G582=\"\",\"\",IF(DD584=\"a\",PLANTS!G582,DMA!DD584))","v":""},null,null,null,null,null,null,null,null,null,{"$f":"PLANTS!I582","v":0},{"$f":"PLANTS!G582","v":0},{"$f":"PLANTS!H582","v":0},null,null,null,null,null,null,null,null,"",0,"",""]
[null,null,null,null,null,null,null,null,null,null,null,null,null,null,null,null,null,null,null,null,null,null,null,null,null,null,null,null,null,null,null,null,null,null,null,null,null,null,null,null,{"$f":"IF(PLANTS!A583=\"\",\"\",PLANTS!A583)","v":""},"","",0,{"$f":"IF(PLANTS!C583=\"\",\"\",PLANTS!C583)","v":""},"",{"$f":"IF(PLANTS!D583=\"\",\"\",PLANTS!D583)","v":""},"",{"$f":"IF(PLANTS!E583=\"\",\"\",PLANTS!E583)","v":""},"",{"$f":"IF(PLANTS!F583=\"\",\"\",PLANTS!F583)","v":""},"",0,null,"","",null,"",{"$f":"IF(PLANTS!H583=\"\",\"\",IF(DE585=\"A\",PLANTS!H583,DE585))","v":""},"",null,null,{"$f":"IF(BJ$573=5,1,0)","v":0},"nonc",7,0.8,{"$f":"IF(BK585=1,IF(BL585=Header!H$18,BN585,0),0)","v":0},null,null,null,null,null,null,null,null,null,null,null,null,null,null,null,null,null,null,"","","","","","",null,"","",{"$f":"AO585","v":""},{"$f":"IF(PLANTS!I583=\"\",\"\",IF(DC585=\"a\",PLANTS!I583,DMA!DC585))","v":""},{"$f":"IF(PLANTS!G583=\"\",\"\",IF(DD585=\"a\",PLANTS!G583,DMA!DD585))","v":""},null,null,null,null,null,null,null,null,null,{"$f":"PLANTS!I583","v":0},{"$f":"PLANTS!G583","v":0},{"$f":"PLANTS!H583","v":0},null,null,null,null,null,null,null,null,"",0,"",""]
[null,null,null,null,null,null,null,null,null,null,null,null,null,null,null,null,null,null,null,null,null,null,null,null,null,null,null,null,null,null,null,null,null,null,null,null,null,null,null,null,{"$f":"IF(PLANTS!A584=\"\",\"\",PLANTS!A584)","v":""},"","",0,{"$f":"IF(PLANTS!C584=\"\",\"\",PLANTS!C584)","v":""},"",{"$f":"IF(PLANTS!D584=\"\",\"\",PLANTS!D584)","v":""},"",{"$f":"IF(PLANTS!E584=\"\",\"\",PLANTS!E584)","v":""},"",{"$f":"IF(PLANTS!F584=\"\",\"\",PLANTS!F584)","v":""},"",0,null,"","",null,"",{"$f":"IF(PLANTS!H584=\"\",\"\",IF(DE586=\"A\",PLANTS!H584,DE586))","v":""},"",null,null,{"$f":"IF(BJ$573=5,1,0)","v":0},"gr",8,0.85,{"$f":"IF(BK586=1,IF(BL586=Header!H$18,BN586,0),0)","v":0},null,null,null,null,null,null,null,null,null,null,null,null,null,null,null,null,null,null,"","","","","","",null,"","","",{"$f":"IF(PLANTS!I584=\"\",\"\",IF(DC586=\"a\",PLANTS!I584,DMA!DC586))","v":""},{"$f":"IF(PLANTS!G584=\"\",\"\",IF(DD586=\"a\",PLANTS!G584,DMA!DD586))","v":""},null,null,null,null,null,null,null,null,null,{"$f":"PLANTS!I584","v":0},{"$f":"PLANTS!G584","v":0},{"$f":"PLANTS!H584","v":0},null,null,null,null,null,null,null,null,"",0,"",""]
[null,null,null,null,null,null,null,null,null,null,null,null,null,null,null,null,null,null,null,null,null,null,null,null,null,null,null,null,null,null,null,null,null,null,null,null,null,null,null,null,{"$f":"IF(PLANTS!A585=\"\",\"\",PLANTS!A585)","v":""},"","",0,{"$f":"IF(PLANTS!C585=\"\",\"\",PLANTS!C585)","v":""},"",{"$f":"IF(PLANTS!D585=\"\",\"\",PLANTS!D585)","v":""},"",{"$f":"IF(PLANTS!E585=\"\",\"\",PLANTS!E585)","v":""},"",{"$f":"IF(PLANTS!F585=\"\",\"\",PLANTS!F585)","v":""},"",0,null,"","",null,"",{"$f":"IF(PLANTS!H585=\"\",\"\",IF(DE587=\"A\",PLANTS!H585,DE587))","v":""},"",null,null,{"$f":"IF(BJ$573=5,1,0)","v":0},"cons",8,0.85,{"$f":"IF(BK587=1,IF(BL587=Header!H$18,BN587,0),0)","v":0},null,null,null,null,null,null,null,null,null,null,null,null,null,null,null,null,null,null,"","","","","","",null,"","","",{"$f":"IF(PLANTS!I585=\"\",\"\",IF(DC587=\"a\",PLANTS!I585,DMA!DC587))","v":""},{"$f":"IF(PLANTS!G585=\"\",\"\",IF(DD587=\"a\",PLANTS!G585,DMA!DD587))","v":""},null,null,null,null,null,null,null,null,null,{"$f":"PLANTS!I585","v":0},{"$f":"PLANTS!G585","v":0},{"$f":"PLANTS!H585","v":0},null,null,null,null,null,null,null,null,"",0,"",""]
[null,null,null,null,null,null,null,null,null,null,null,null,null,null,null,null,null,null,null,null,null,null,null,null,null,null,null,null,null,null,null,null,null,null,null,null,null,null,null,null,{"$f":"IF(PLANTS!A586=\"\",\"\",PLANTS!A586)","v":""},"","",0,{"$f":"IF(PLANTS!C586=\"\",\"\",PLANTS!C586)","v":""},"",{"$f":"IF(PLANTS!D586=\"\",\"\",PLANTS!D586)","v":""},"",{"$f":"IF(PLANTS!E586=\"\",\"\",PLANTS!E586)","v":""},"",{"$f":"IF(PLANTS!F586=\"\",\"\",PLANTS!F586)","v":""},"",0,null,"","",null,"",{"$f":"IF(PLANTS!H586=\"\",\"\",IF(DE588=\"A\",PLANTS!H586,DE588))","v":""},"",null,null,{"$f":"IF(BJ$573=5,1,0)","v":0},"cb",9,0.95,{"$f":"IF(BK588=1,IF(BL588=Header!H$18,BN588,0),0)","v":0},null,null,null,null,null,null,null,null,null,null,null,null,null,null,null,null,null,null,"","","","","","",null,"","","",{"$f":"IF(PLANTS!I586=\"\",\"\",IF(DC588=\"a\",PLANTS!I586,DMA!DC588))","v":""},{"$f":"IF(PLANTS!G586=\"\",\"\",IF(DD588=\"a\",PLANTS!G586,DMA!DD588))","v":""},null,null,null,null,null,null,null,null,null,{"$f":"PLANTS!I586","v":0},{"$f":"PLANTS!G586","v":0},{"$f":"PLANTS!H586","v":0},null,null,null,null,null,null,null,null,"",0,"",""]
[null,null,null,null,null,null,null,null,null,null,null,null,null,null,null,null,null,null,null,null,null,null,null,null,null,null,null,null,null,null,null,null,null,null,null,null,null,null,null,null,{"$f":"IF(PLANTS!A587=\"\",\"\",PLANTS!A587)","v":""},"","",0,{"$f":"IF(PLANTS!C587=\"\",\"\",PLANTS!C587)","v":""},"",{"$f":"IF(PLANTS!D587=\"\",\"\",PLANTS!D587)","v":""},"",{"$f":"IF(PLANTS!E587=\"\",\"\",PLANTS!E587)","v":""},"",{"$f":"IF(PLANTS!F587=\"\",\"\",PLANTS!F587)","v":""},"",0,null,"","",null,"",{"$f":"IF(PLANTS!H587=\"\",\"\",IF(DE589=\"A\",PLANTS!H587,DE589))","v":""},"",null,null,{"$f":"IF(BJ$573=5,1,0)","v":0},"bd",9,0.95,{"$f":"IF(BK589=1,IF(BL589=Header!H$18,BN589,0),0)","v":0},null,null,null,null,null,null,null,null,null,null,null,null,null,null,null,null,null,null,"","","","","","",null,"","","",{"$f":"IF(PLANTS!I587=\"\",\"\",IF(DC589=\"a\",PLANTS!I587,DMA!DC589))","v":""},{"$f":"IF(PLANTS!G587=\"\",\"\",IF(DD589=\"a\",PLANTS!G587,DMA!DD589))","v":""},null,null,null,null,null,null,null,null,null,{"$f":"PLANTS!I587","v":0},{"$f":"PLANTS!G587","v":0},{"$f":"PLANTS!H587","v":0},null,null,null,null,null,null,null,null,"",0,"",""]
[null,null,null,null,null,null,null,null,null,null,null,null,null,null,null,null,null,null,null,null,null,null,null,null,null,null,null,null,null,null,null,null,null,null,null,null,null,null,null,null,{"$f":"IF(PLANTS!A588=\"\",\"\",PLANTS!A588)","v":""},"","",0,{"$f":"IF(PLANTS!C588=\"\",\"\",PLANTS!C588)","v":""},"",{"$f":"IF(PLANTS!D588=\"\",\"\",PLANTS!D588)","v":""},"",{"$f":"IF(PLANTS!E588=\"\",\"\",PLANTS!E588)","v":""},"",{"$f":"IF(PLANTS!F588=\"\",\"\",PLANTS!F588)","v":""},"",0,null,"","",null,"",{"$f":"IF(PLANTS!H588=\"\",\"\",IF(DE590=\"A\",PLANTS!H588,DE590))","v":""},"",null,null,{"$f":"IF(BJ$573=11,1,0)","v":0},"bd",10,0.98,{"$f":"IF(BK590=1,IF(BL590=Header!H$18,BN590,0),0)","v":0},null,null,null,null,null,null,null,null,null,null,null,null,null,null,null,null,null,null,"","","","","","",null,"","","",{"$f":"IF(PLANTS!I588=\"\",\"\",IF(DC590=\"a\",PLANTS!I588,DMA!DC590))","v":""},{"$f":"IF(PLANTS!G588=\"\",\"\",IF(DD590=\"a\",PLANTS!G588,DMA!DD590))","v":""},null,null,null,null,null,null,null,null,null,{"$f":"PLANTS!I588","v":0},{"$f":"PLANTS!G588","v":0},{"$f":"PLANTS!H588","v":0},null,null,null,null,null,null,null,null,"",0,"",""]
[null,null,null,null,null,null,null,null,null,null,null,null,null,null,null,null,null,null,null,null,null,null,null,null,null,null,null,null,null,null,null,null,null,null,null,null,null,null,null,null,{"$f":"IF(PLANTS!A589=\"\",\"\",PLANTS!A589)","v":""},"","",0,{"$f":"IF(PLANTS!C589=\"\",\"\",PLANTS!C589)","v":""},"",{"$f":"IF(PLANTS!D589=\"\",\"\",PLANTS!D589)","v":""},"",{"$f":"IF(PLANTS!E589=\"\",\"\",PLANTS!E589)","v":""},"",{"$f":"IF(PLANTS!F589=\"\",\"\",PLANTS!F589)","v":""},"",0,null,"","",null,"",{"$f":"IF(PLANTS!H589=\"\",\"\",IF(DE591=\"A\",PLANTS!H589,DE591))","v":""},"",null,null,null,null,null,null,null,null,null,null,null,null,null,null,null,null,null,null,null,null,null,null,null,null,null,"","","","","","",null,"","","",{"$f":"IF(PLANTS!I589=\"\",\"\",IF(DC591=\"a\",PLANTS!I589,DMA!DC591))","v":""},{"$f":"IF(PLANTS!G589=\"\",\"\",IF(DD591=\"a\",PLANTS!G589,DMA!DD591))","v":""},null,null,null,null,null,null,null,null,null,{"$f":"PLANTS!I589","v":0},{"$f":"PLANTS!G589","v":0},{"$f":"PLANTS!H589","v":0},null,null,null,null,null,null,null,null,"",0,"",""]
[null,null,null,null,null,null,null,null,null,null,null,null,null,null,null,null,null,null,null,null,null,null,null,null,null,null,null,null,null,null,null,null,null,null,null,null,null,null,null,null,{"$f":"IF(PLANTS!A590=\"\",\"\",PLANTS!A590)","v":""},"","",0,{"$f":"IF(PLANTS!C590=\"\",\"\",PLANTS!C590)","v":""},"",{"$f":"IF(PLANTS!D590=\"\",\"\",PLANTS!D590)","v":""},"",{"$f":"IF(PLANTS!E590=\"\",\"\",PLANTS!E590)","v":""},"",{"$f":"IF(PLANTS!F590=\"\",\"\",PLANTS!F590)","v":""},"",0,null,"","",null,"",{"$f":"IF(PLANTS!H590=\"\",\"\",IF(DE592=\"A\",PLANTS!H590,DE592))","v":""},"",null,null,"Capability =",null,null,null,{"$f":"IF(SUM(BO573:BO590)=0,1,SUM(BO573:BO590))","v":1},null,null,null,null,null,null,null,null,null,null,null,null,null,null,null,null,null,null,"","","","","","",null,"","","",{"$f":"IF(PLANTS!I590=\"\",\"\",IF(DC592=\"a\",PLANTS!I590,DMA!DC592))","v":""},{"$f":"IF(PLANTS!G590=\"\",\"\",IF(DD592=\"a\",PLANTS!G590,DMA!DD592))","v":""},null,null,null,null,null,null,null,null,null,{"$f":"PLANTS!I590","v":0},{"$f":"PLANTS!G590","v":0},{"$f":"PLANTS!H590","v":0},null,null,null,null,null,null,null,null,"",0,"",""]
[null,null,null,null,null,null,null,null,null,null,null,null,null,null,null,null,null,null,null,null,null,null,null,null,null,null,null,null,null,null,null,null,null,null,null,null,null,null,null,null,{"$f":"IF(PLANTS!A591=\"\",\"\",PLANTS!A591)","v":""},"","",0,{"$f":"IF(PLANTS!C591=\"\",\"\",PLANTS!C591)","v":""},"",{"$f":"IF(PLANTS!D591=\"\",\"\",PLANTS!D591)","v":""},"",{"$f":"IF(PLANTS!E591=\"\",\"\",PLANTS!E591)","v":""},"",{"$f":"IF(PLANTS!F591=\"\",\"\",PLANTS!F591)","v":""},"",0,null,"","",null,"",{"$f":"IF(PLANTS!H591=\"\",\"\",IF(DE593=\"A\",PLANTS!H591,DE593))","v":""},"",null,null,null,null,null,null,null,null,null,null,null,null,null,null,null,null,null,null,null,null,null,null,null,null,null,"","","","","","",null,"","","",{"$f":"IF(PLANTS!I591=\"\",\"\",IF(DC593=\"a\",PLANTS!I591,DMA!DC593))","v":""},{"$f":"IF(PLANTS!G591=\"\",\"\",IF(DD593=\"a\",PLANTS!G591,DMA!DD593))","v":""},null,null,null,null,null,null,null,null,null,{"$f":"PLANTS!I591","v":0},{"$f":"PLANTS!G591","v":0},{"$f":"PLANTS!H591","v":0},null,null,null,null,null,null,null,null,"",0,"",""]
[null,null,null,null,null,null,null,null,null,null,null,null,null,null,null,null,null,null,null,null,null,null,null,null,null,null,null,null,null,null,null,null,null,null,null,null,null,null,null,null,{"$f":"IF(PLANTS!A592=\"\",\"\",PLANTS!A592)","v":""},"","",0,{"$f":"IF(PLANTS!C592=\"\",\"\",PLANTS!C592)","v":""},"",{"$f":"IF(PLANTS!D592=\"\",\"\",PLANTS!D592)","v":""},"",{"$f":"IF(PLANTS!E592=\"\",\"\",PLANTS!E592)","v":""},"",{"$f":"IF(PLANTS!F592=\"\",\"\",PLANTS!F592)","v":""},"",0,null,"","",null,"",{"$f":"IF(PLANTS!H592=\"\",\"\",IF(DE594=\"A\",PLANTS!H592,DE594))","v":""},"",null,null,null,null,null,null,null,null,null,null,null,null,null,null,null,null,null,null,null,null,null,null,null,null,null,"","","","","","",null,"","","",{"$f":"IF(PLANTS!I592=\"\",\"\",IF(DC594=\"a\",PLANTS!I592,DMA!DC594))","v":""},{"$f":"IF(PLANTS!G592=\"\",\"\",IF(DD594=\"a\",PLANTS!G592,DMA!DD594))","v":""},null,null,null,null,null,null,null,null,null,{"$f":"PLANTS!I592","v":0},{"$f":"PLANTS!G592","v":0},{"$f":"PLANTS!H592","v":0},null,null,null,null,null,null,null,null,"",0,"",""]
[null,null,null,null,null,null,null,null,null,null,null,null,null,null,null,null,null,null,null,null,null,null,null,null,null,null,null,null,null,null,null,null,null,null,null,null,null,null,null,null,{"$f":"IF(PLANTS!A593=\"\",\"\",PLANTS!A593)","v":""},"","",0,{"$f":"IF(PLANTS!C593=\"\",\"\",PLANTS!C593)","v":""},"",{"$f":"IF(PLANTS!D593=\"\",\"\",PLANTS!D593)","v":""},"",{"$f":"IF(PLANTS!E593=\"\",\"\",PLANTS!E593)","v":""},"",{"$f":"IF(PLANTS!F593=\"\",\"\",PLANTS!F593)","v":""},"",0,null,"","",null,"",{"$f":"IF(PLANTS!H593=\"\",\"\",IF(DE595=\"A\",PLANTS!H593,DE595))","v":""},"",null,null,null,null,null,null,null,null,null,null,null,null,null,null,null,null,null,null,null,null,null,null,null,null,null,"","","","","","",null,"","","",{"$f":"IF(PLANTS!I593=\"\",\"\",IF(DC595=\"a\",PLANTS!I593,DMA!DC595))","v":""},{"$f":"IF(PLANTS!G593=\"\",\"\",IF(DD595=\"a\",PLANTS!G593,DMA!DD595))","v":""},null,null,null,null,null,null,null,null,null,{"$f":"PLANTS!I593","v":0},{"$f":"PLANTS!G593","v":0},{"$f":"PLANTS!H593","v":0},null,null,null,null,null,null,null,null,"",0,"",{"$f":"IF(AP595=\"\",\"\",(DO595*$AP595))","v":""}]
[null,null,null,null,null,null,null,null,null,null,null,null,null,null,null,null,null,null,null,null,null,null,null,null,null,null,null,null,null,null,null,null,null,null,null,null,null,null,null,null,{"$f":"IF(PLANTS!A594=\"\",\"\",PLANTS!A594)","v":""},"","",0,{"$f":"IF(PLANTS!C594=\"\",\"\",PLANTS!C594)","v":""},"",{"$f":"IF(PLANTS!D594=\"\",\"\",PLANTS!D594)","v":""},"",{"$f":"IF(PLANTS!E594=\"\",\"\",PLANTS!E594)","v":""},"",{"$f":"IF(PLANTS!F594=\"\",\"\",PLANTS!F594)","v":""},"",0,null,"","",null,"",{"$f":"IF(PLANTS!H594=\"\",\"\",IF(DE596=\"A\",PLANTS!H594,DE596))","v":""},"",null,null,null,null,null,null,null,null,null,null,null,null,null,null,null,null,null,null,null,null,null,null,null,null,null,{"$f":"IF(AR596>0,IF($CF596=\"y\",AR596/$AQ$604,\"\"),\"\")","v":""},"","","","","",null,"","","",{"$f":"IF(PLANTS!I594=\"\",\"\",IF(DC596=\"a\",PLANTS!I594,DMA!DC596))","v":""},{"$f":"IF(PLANTS!G594=\"\",\"\",IF(DD596=\"a\",PLANTS!G594,DMA!DD596))","v":""},null,null,null,null,null,null,null,null,null,{"$f":"PLANTS!I594","v":0},{"$f":"PLANTS!G594","v":0},{"$f":"PLANTS!H594","v":0},null,null,null,null,null,null,null,null,"",0,"",""]
[null,null,null,null,null,null,null,null,null,null,null,null,null,null,null,null,null,null,null,null,null,null,null,null,null,null,null,null,null,null,null,null,null,null,null,null,null,null,null,null,{"$f":"IF(PLANTS!A595=\"\",\"\",PLANTS!A595)","v":""},"","",0,{"$f":"IF(PLANTS!C595=\"\",\"\",PLANTS!C595)","v":""},"",{"$f":"IF(PLANTS!D595=\"\",\"\",PLANTS!D595)","v":""},"",{"$f":"IF(PLANTS!E595=\"\",\"\",PLANTS!E595)","v":""},"",{"$f":"IF(PLANTS!F595=\"\",\"\",PLANTS!F595)","v":""},"",0,null,"","",null,"",{"$f":"IF(PLANTS!H595=\"\",\"\",IF(DE597=\"A\",PLANTS!H595,DE597))","v":""},"",null,null,null,"Veg Comp",null,null,null,null,null,null,null,null,null,null,null,null,null,null,null,null,null,null,null,null,null,"","","","","","",null,"","","",{"$f":"IF(PLANTS!I595=\"\",\"\",IF(DC597=\"a\",PLANTS!I595,DMA!DC597))","v":""},{"$f":"IF(PLANTS!G595=\"\",\"\",IF(DD597=\"a\",PLANTS!G595,DMA!DD597))","v":""},null,null,null,null,null,null,null,null,null,{"$f":"PLANTS!I595","v":0},{"$f":"PLANTS!G595","v":0},{"$f":"PLANTS!H595","v":0},null,null,null,null,null,null,null,null,"",0,"",""]
[null,null,null,null,null,null,null,null,null,null,null,null,null,null,null,null,null,null,null,null,null,null,null,null,null,null,null,null,null,null,null,null,null,null,null,null,null,null,null,null,{"$f":"IF(PLANTS!A596=\"\",\"\",PLANTS!A596)","v":""},"","",0,{"$f":"IF(PLANTS!C596=\"\",\"\",PLANTS!C596)","v":""},"",{"$f":"IF(PLANTS!D596=\"\",\"\",PLANTS!D596)","v":""},"",{"$f":"IF(PLANTS!E596=\"\",\"\",PLANTS!E596)","v":""},"",{"$f":"IF(PLANTS!F596=\"\",\"\",PLANTS!F596)","v":""},"",0,null,"","",null,"",{"$f":"IF(PLANTS!H596=\"\",\"\",IF(DE598=\"A\",PLANTS!H596,DE598))","v":""},"",null,null,"Early=",{"$f":"SUMIF($BG$5:$BG$603,\"E\",BA5:BA603)","v":0},null,{"$f":"SUM($BL$598:$BL$600)","v":0},"(Sum Early, Mid, Late)",null,null,null,null,null,null,null,null,null,null,null,null,null,null,null,null,null,null,"","","","","","",null,"","","",{"$f":"IF(PLANTS!I596=\"\",\"\",IF(DC598=\"a\",PLANTS!I596,DMA!DC598))","v":""},{"$f":"IF(PLANTS!G596=\"\",\"\",IF(DD598=\"a\",PLANTS!G596,DMA!DD598))","v":""},null,null,null,null,null,null,null,null,null,{"$f":"PLANTS!I596","v":0},{"$f":"PLANTS!G596","v":0},{"$f":"PLANTS!H596","v":0},null,null,null,null,null,null,null,null,"",0,"",""]
[null,null,null,null,null,null,null,null,null,null,null,null,null,null,null,null,null,null,null,null,null,null,null,null,null,null,null,null,null,null,null,null,null,null,null,null,null,null,null,null,{"$f":"IF(PLANTS!A597=\"\",\"\",PLANTS!A597)","v":""},"","",0,{"$f":"IF(PLANTS!C597=\"\",\"\",PLANTS!C597)","v":""},"",{"$f":"IF(PLANTS!D597=\"\",\"\",PLANTS!D597)","v":""},"",{"$f":"IF(PLANTS!E597=\"\",\"\",PLANTS!E597)","v":""},"",{"$f":"IF(PLANTS!F597=\"\",\"\",PLANTS!F597)","v":""},"",0,null,"","",null,"",{"$f":"IF(PLANTS!H597=\"\",\"\",IF(DE599=\"A\",PLANTS!H597,DE599))","v":""},"",null,null,"Mid=",{"$f":"SUMIF($BG$5:$BG$603,\"M\",BA5:BA603)","v":0},null,null,null,null,null,null,null,null,null,null,null,null,null,null,null,null,null,null,null,null,null,"","","","","","",null,"","","",{"$f":"IF(PLANTS!I597=\"\",\"\",IF(DC599=\"a\",PLANTS!I597,DMA!DC599))","v":""},{"$f":"IF(PLANTS!G597=\"\",\"\",IF(DD599=\"a\",PLANTS!G597,DMA!DD599))","v":""},null,null,null,null,null,null,null,null,null,{"$f":"PLANTS!I597","v":0},{"$f":"PLANTS!G597","v":0},{"$f":"PLANTS!H597","v":0},null,null,null,null,null,null,null,null,"",0,"",""]
[null,null,null,null,null,null,null,null,null,null,null,null,null,null,null,null,null,null,null,null,null,null,null,null,null,null,null,null,null,null,null,null,null,null,null,null,null,null,null,null,{"$f":"IF(PLANTS!A598=\"\",\"\",PLANTS!A598)","v":""},"","",0,{"$f":"IF(PLANTS!C598=\"\",\"\",PLANTS!C598)","v":""},"",{"$f":"IF(PLANTS!D598=\"\",\"\",PLANTS!D598)","v":""},"",{"$f":"IF(PLANTS!E598=\"\",\"\",PLANTS!E598)","v":""},"",{"$f":"IF(PLANTS!F598=\"\",\"\",PLANTS!F598)","v":""},"",0,null,"","",null,"",{"$f":"IF(PLANTS!H598=\"\",\"\",IF(DE600=\"A\",PLANTS!H598,DE600))","v":""},"",null,null,"Late=",{"$f":"SUMIF($BG$5:$BG$603,\"L\",BA5:BA603)","v":0},null,{"$f":"$BL$600+0.5*$BL$599","v":0},"w/o capability & modifer",null,null,null,null,null,null,null,null,null,null,null,null,null,null,null,null,null,null,"","","","","","",null,"","","",{"$f":"IF(PLANTS!I598=\"\",\"\",IF(DC600=\"a\",PLANTS!I598,DMA!DC600))","v":""},{"$f":"IF(PLANTS!G598=\"\",\"\",IF(DD600=\"a\",PLANTS!G598,DMA!DD600))","v":""},null,null,null,null,null,null,null,null,null,{"$f":"PLANTS!I598","v":0},{"$f":"PLANTS!G598","v":0},{"$f":"PLANTS!H598","v":0},null,null,null,null,null,null,null,null,"",0,"",""]
[null,null,null,null,null,null,null,null,null,null,null,null,null,null,null,null,null,null,null,null,null,null,null,null,null,null,null,null,null,null,null,null,null,null,null,null,null,null,null,null,{"$f":"IF(PLANTS!A599=\"\",\"\",PLANTS!A599)","v":""},"","",0,{"$f":"IF(PLANTS!C599=\"\",\"\",PLANTS!C599)","v":""},"",{"$f":"IF(PLANTS!D599=\"\",\"\",PLANTS!D599)","v":""},"",{"$f":"IF(PLANTS!E599=\"\",\"\",PLANTS!E599)","v":""},"",{"$f":"IF(PLANTS!F599=\"\",\"\",PLANTS!F599)","v":""},"",0,null,"","",null,"",{"$f":"IF(PLANTS!H599=\"\",\"\",IF(DE601=\"A\",PLANTS!H599,DE601))","v":""},"",null,null,"Eco stat=",{"$f":"IF((((BL600+0.5*BL599)/(BO592))-BL603)*100>100,100,(((BL600+0.5*BL599)/(BO592))-BL603)*100)","v":{"$error":"#VALUE!"}},null,null,null,null,null,null,null,null,null,null,null,null,null,null,null,null,null,null,null,null,null,"","","","","","",null,"","","",{"$f":"IF(PLANTS!I599=\"\",\"\",IF(DC601=\"a\",PLANTS!I599,DMA!DC601))","v":""},{"$f":"IF(PLANTS!G599=\"\",\"\",IF(DD601=\"a\",PLANTS!G599,DMA!DD601))","v":""},null,null,null,null,null,null,null,null,null,{"$f":"PLANTS!I599","v":0},{"$f":"PLANTS!G599","v":0},{"$f":"PLANTS!H599","v":0},null,null,null,null,null,null,null,null,"",0,"",""]
[null,null,null,null,null,null,null,null,null,null,null,null,null,null,null,null,null,null,null,null,null,null,null,null,null,null,null,null,null,null,null,null,null,null,null,null,null,null,null,null,{"$f":"IF(PLANTS!A600=\"\",\"\",PLANTS!A600)","v":""},"",{"$f":"IF(AO602=\"\",\"\",IF(COUNTIF(B$5:B$504,AO602)=0,\"\",SUMIF(B$5:B$504,AO602,C$5:C$504)))","v":""},0,{"$f":"IF(PLANTS!C600=\"\",\"\",PLANTS!C600)","v":""},"",{"$f":"IF(PLANTS!D600=\"\",\"\",PLANTS!D600)","v":""},"",{"$f":"IF(PLANTS!E600=\"\",\"\",PLANTS!E600)","v":""},"",{"$f":"IF(PLANTS!F600=\"\",\"\",PLANTS!F600)","v":""},"",0,null,"","",null,"",{"$f":"IF(PLANTS!H600=\"\",\"\",IF(DE602=\"A\",PLANTS!H600,DE602))","v":""},"",null,null,null,null,null,null,null,null,null,null,null,null,null,null,null,null,null,null,null,null,null,null,null,null,null,"","","","","","",null,"","","",{"$f":"IF(PLANTS!I600=\"\",\"\",IF(DC602=\"a\",PLANTS!I600,DMA!DC602))","v":""},{"$f":"IF(PLANTS!G600=\"\",\"\",IF(DD602=\"a\",PLANTS!G600,DMA!DD602))","v":""},null,null,null,null,null,null,null,null,null,{"$f":"PLANTS!I600","v":0},{"$f":"PLANTS!G600","v":0},{"$f":"PLANTS!H600","v":0},null,null,null,null,null,null,null,null,"",0,"",""]
[null,null,null,null,null,null,null,null,null,null,null,null,null,null,null,null,null,null,null,null,null,null,null,null,null,null,null,null,null,null,null,null,null,null,null,null,null,null,null,null,{"$f":"IF(PLANTS!A601=\"\",\"\",PLANTS!A601)","v":""},"",{"$f":"IF(AO603=\"\",\"\",IF(COUNTIF(B$5:B$504,AO603)=0,\"\",SUMIF(B$5:B$504,AO603,C$5:C$504)))","v":""},0,{"$f":"IF(PLANTS!C601=\"\",\"\",PLANTS!C601)","v":""},"",{"$f":"IF(PLANTS!D601=\"\",\"\",PLANTS!D601)","v":""},"",{"$f":"IF(PLANTS!E601=\"\",\"\",PLANTS!E601)","v":""},"",{"$f":"IF(PLANTS!F601=\"\",\"\",PLANTS!F601)","v":""},"",0,null,"","",null,"",{"$f":"IF(PLANTS!H601=\"\",\"\",IF(DE603=\"A\",PLANTS!H601,DE603))","v":""},"",null,null,"Modifier",{"$f":"IF(Header!F13=\"\",\"\",IF(Header!F13=\"n\",0,IF(Header!F13=\"y\",IF(Header!F14=\"y\",IF(Header!F15=\"y\",0,0.1),0.2),0.1)))","v":""},null,null,null,null,null,null,null,null,null,null,null,null,null,null,null,null,null,null,null,null,null,"","","","","","",null,"","","",{"$f":"IF(PLANTS!I601=\"\",\"\",IF(DC603=\"a\",PLANTS!I601,DMA!DC603))","v":""},{"$f":"IF(PLANTS!G601=\"\",\"\",IF(DD603=\"a\",PLANTS!G601,DMA!DD603))","v":""},null,null,null,null,null,null,null,null,null,{"$f":"PLANTS!I601","v":0},{"$f":"PLANTS!G601","v":0},{"$f":"PLANTS!H601","v":0},null,null,null,null,null,null,null,null,"",0,"",""]
[null,null,null,null,null,null,null,null,null,null,null,null,null,null,null,null,null,null,null,null,null,null,null,null,null,null,null,null,null,null,null,null,null,null,null,null,null,null,null,null,"PLANTS",{"$f":"COUNT(A5:A502)","v":1},{"$f":"SUM(AQ5:AQ603)","v":0},{"$f":"SUM(AR5:AR603)","v":0},null,{"$f":"SUM(AT5:AT603)","v":0},null,{"$f":"COUNT(AV5:AV603,\"<>\"\"\")","v":0},null,{"$f":"SUM(AX5:AX603)","v":0},null,{"$f":"SUM(AZ5:AZ603)","v":0},{"$f":"SUM(BA5:BA603)","v":0},"Site Wetland Rating",null,{"$f":"SUM(BD5:BD603)","v":0},null,{"$f":"SUM(BF5:BF603)","v":0},null,null,null,null,null,null,null,null,null,null,null,null,null,null,null,null,null,null,null,null,null,null,null,null,null,"% Forest=",null,{"$f":"CG505/AQ604","v":{"$error":"#DIV/0!"}},{"$f":"SUM(CI5:CI515)","v":0},{"$f":"SUM(CJ5:CJ515)","v":0},{"$f":"SUM(CK5:CK515)","v":0},{"$f":"SUM(CL5:CL515)","v":0},null,null,{"$f":"SUM(CO5:CO515)","v":0},{"$f":"SUM(CP5:CP515)","v":0},null,null,null,null,null,null,null,null,null,null,null,null,null,null,null,null,null,null,null,null,null,null,null,{"$f":"SUM(DN5:DN603)","v":0},{"$f":"SUM(DO5:DO603)","v":0},{"$f":"SUM(DP5:DP603)","v":0},{"$f":"SUM(DQ5:DQ603)","v":0}]
[null,null,null,null,null,null,null,null,null,null,null,null,null,null,null,null,null,null,null,null,null,null,null,null,null,null,null,null,null,null,null,null,null,null,null,null,null,null,null,null,"PLOTS",{"$f":"COUNTA(B5:B502)","v":0},{"$f":"COUNT(AQ5:AQ603)","v":0},{"$f":"AVERAGE(D5:D502)","v":{"$error":"#DIV/0!"}},null,null,null,null,null,null,null,null,null,null,null,null,null,null,null,null,null,null,null,null,null,null,null,null,null,null,null,null,null,null,null,null,null,null,null,null,null,null,null,null,null,null,null,null,null,null,null,null,null,null,null,null,null,null,null,null,null,null,null,null,null,null,null,null,null,null,null,null,null,null,null,null,null,{"$f":"COUNT(DN5:DN603)","v":0}]
[null,null,null,null,null,null,null,null,null,null,null,null,null,null,null,null,null,null,null,null,null,null,null,null,null,null,null,null,null,null,null,null,null,null,null,null,null,null,null,null,{"$f":"IF(PLANTS!A601=\"\",\"\",PLANTS!A601)","v":""},null,null,null,null,null,null,{"$f":"SUM(AV5:AV603)","v":0}]
[null,null,null,null,null,null,null,null,null,null,null,null,null,null,null,null,null,null,null,null,null,null,null,null,null,null,null,null,null,null,null,null,null,null,null,null,null,null,null,null,null,null,null,"Average Tree Height:",null,null,{"$f":"10^(-0.7083129+0.297*AR605)","v":{"$error":"#DIV/0!"}},null,null,null,null,null,null,null,null,null,null,null,null,null,null,null,null,null,null,null,null,null,null,null,null,null,null,null,null,null,null,null,null,null,null,null,null,null,null,null,null,null,null,null,null,null,null,null,null,null,null,null,null,null,null,null,null,null,null,null,null,null,null,null,null,null,null,null,null,null,null,null,"Veg Comp"]
[null,null,null,null,null,null,null,null,null,null,null,null,null,null,null,null,null,null,null,null,null,null,null,null,null,null,null,null,null,null,null,null,null,null,null,null,null,null,null,null,null,null,null,null,null,null,null,null,null,null,null,null,null,null,null,null,null,null,null,null,null,null,null,null,null,null,null,null,null,null,null,null,null,null,null,null,null,null,null,null,null,null,null,null,null,null,null,null,null,null,null,null,null,null,null,null,null,null,null,null,null,null,null,null,null,null,null,null,null,null,null,null,null,null,null,null,null,"Early=",{"$f":"SUMIF($BG$5:$BG$603,\"E\",DO5:DO603)","v":0},null,{"$f":"SUM($BL$598:$BL$600)","v":0},"(Sum Early, Mid, Late)"]
[null,null,null,null,null,null,null,null,null,null,null,null,null,null,null,null,null,null,null,null,null,null,null,null,null,null,null,null,null,null,null,null,null,null,null,null,null,null,null,null,null,null,null,null,null,null,null,null,null,null,null,null,null,null,null,null,null,null,null,null,null,null,null,null,null,null,null,null,null,null,null,null,null,null,null,null,null,null,null,null,null,null,null,null,null,null,null,null,null,null,null,null,null,null,null,null,null,null,null,null,null,null,null,null,null,null,null,null,null,null,null,null,null,null,null,null,null,"Mid=",{"$f":"SUMIF($BG$5:$BG$603,\"M\",DO5:DO603)","v":0}]
[null,null,null,null,null,null,null,null,null,null,null,null,null,null,null,null,null,null,null,null,null,null,null,null,null,null,null,null,null,null,null,null,null,null,null,null,null,null,null,null,null,null,null,null,null,null,null,null,null,null,null,null,null,null,null,null,null,null,null,null,null,null,null,null,null,null,null,null,null,null,null,null,null,null,null,null,null,null,null,null,null,null,null,null,null,null,null,null,null,null,null,null,null,null,null,null,null,null,null,null,null,null,null,null,null,null,null,null,null,null,null,null,null,null,null,null,null,"Late=",{"$f":"SUMIF($BG$5:$BG$603,\"L\",DO5:DO603)","v":0},null,{"$f":"$BL$600+0.5*$BL$599","v":0},"w/o capability & modifer"]
[null,null,null,null,null,null,null,null,null,null,null,null,null,null,null,null,null,null,null,null,null,null,null,null,null,null,null,null,null,null,null,null,null,null,null,null,null,null,null,null,null,null,null,null,null,null,null,null,null,null,null,null,null,null,null,null,null,null,null,null,null,null,null,null,null,null,null,null,null,null,null,null,null,null,null,null,null,null,null,null,null,null,null,null,null,null,null,null,null,null,null,null,null,null,null,null,null,null,null,null,null,null,null,null,null,null,null,null,null,null,null,null,null,null,null,null,null,"Eco stat=",{"$f":"IF((((DO610+0.5*DO609)/(SUM(BO576:BO590)))-DO613)*100>100,100,(((DO610+0.5*DO609)/(SUM(BO576:BO590)))-DO613)*100)","v":{"$error":"#DIV/0!"}}]
[]
[null,null,null,null,null,null,null,null,null,null,null,null,null,null,null,null,null,null,null,null,null,null,null,null,null,null,null,null,null,null,null,null,null,null,null,null,null,null,null,null,null,null,null,null,null,null,null,null,null,null,null,null,null,null,null,null,null,null,null,null,null,null,null,null,null,null,null,null,null,null,null,null,null,null,null,null,null,null,null,null,null,null,null,null,null,null,null,null,null,null,null,null,null,null,null,null,null,null,null,null,null,null,null,null,null,null,null,null,null,null,null,null,null,null,null,null,null,"Modifier",{"$f":"IF(Header!$F$13=\"y\",IF(Header!$F$14=\"n\",IF(Header!$F$15=\"n\",20,10),0)/100,0)","v":0}]
[]
[]
[]
[]
[]
[]
[]
[]
[]
[]
[]
[]
[]
[]
[]
[]
[]
[]
[]
[]
[]
[]
[]
[]
[]
[]
[]
[]
[]
[]
[]
[]
[]
[]
[]
[]
[]
[]
[]
[]
[]
[]
[]
[]
[]
[]
[]
[]
[]
[]
[]
[]
[]
[]
[]
[]
[]
[]
[]
[]
[]
[]
[]
[]
[]
[]
[]
[]
[]
[]
[]
[]
[]
[]
[null,null,null,null,null,null,null,null,null,null,null,null,null,null,null,null,null,null,null,null,null,null,null,null,null,null,null,null,null,null,null,null,null,null,null,null,null,null,null,null,"Plots:"]
[null,null,null,null,null,null,null,null,null,null,null,null,null,null,null,null,null,null,null,null,null,null,null,null,null,null,null,null,null,null,null,null,null,null,null,null,null,null,null,null,"Plants:"]

{"sheet":"Substr","index":3,"n_rows":83,"n_cols":27,"rows_kept":83,"cut":false,"hidden":false,"merged":[]}
["DATE:",null,"mm/dd/yyyy",null,null,null,null,null,null,null,null,null,null,null,null,null,null,null,null,null,"Krumbein Phi:",null,"W C Krumbein & L L Sloss, Stratigraphy and Sedimentation, 2nd edition (Freeman, San Francisco, 1963)."]
["Substrate Form",null,null,null,"Sample size needed:",null,null,{"$f":"IF(ISERROR(((Header!P2)^2*(O9)^2)/(O10)^2),\"\",((Header!P2)^2*(O9)^2)/(O10)^2)","v":""},null,"N=",{"$f":"COUNT(B5:K60)","v":0},null,"Metrics"]
["Record sizes in millimeters",null,null,"Did you use a gravelometer (y/n)?:"]
["Plot #","Pebble 1","Pebble 2","Pebble 3","Pebble 4","Pebble 5","Pebble 6","Pebble 7","Pebble 8","Pebble 9","Pebble 10","Note",null,"% Fines","Median particle size mm","D16","D50","D84"]
[2,null,null,null,null,null,null,null,null,null,null," ",null,{"$f":"COUNTIF(B5:K60,\"<6\")/K2","v":{"$error":"#DIV/0!"}},{"$f":"MEDIAN(B5:K60)","v":{"$error":"#NUM!"}},{"$f":"MAX(S14:S35)","v":{"$error":"#DIV/0!"}},{"$f":"MAX(T15:T30)","v":{"$error":"#DIV/0!"}},{"$f":"MAX(U15:U30)","v":{"$error":"#DIV/0!"}}]
[4,null,null,null,null,null,null,null,null,null,null," ",null,null,"φ",{"$f":"-LOG(P5,2)","v":{"$error":"#DIV/0!"}},{"$f":"-LOG(Q5,2)","v":{"$error":"#DIV/0!"}},{"$f":"-LOG(R5,2)","v":{"$error":"#DIV/0!"}}]
[6,null,null,null,null,null,null,null,null,null,null," ",null," "," "]
[8,null,null,null,null,null,null,null,null,null,null," "]
[10,null,null,null,null,null,null,null,null,null,null,null,null,"Std Dev",{"$f":"STDEV(B5:K60)","v":{"$error":"#DIV/0!"}}]
[12,null,null,null,null,null,null,null,null,null,null," ",null,"Margin of error",{"$f":"Header!G2*AVERAGE(B5:K60)","v":{"$error":"#DIV/0!"}}]
[14]
[16,null,null,null,null,null,null,null,null,null,null," ",null,null,null,null,null,null,null,null,null,null,null,"Cumulative Frequency Distribution"]
[18,null,null,null,null,null,null,null,null,null,null,null,null,"Class    Name","Particle Size Class (mm)","Total particles","Mid Point"," Cumulative %","D16","D50","D84","φ"]
[20,null,null,null,null,null,null,null,null,null,null," ",null,null,null,null,0,0]
[22,null,null,null,null,null,null,null,null,null,null,null,null,"Sand","<2",{"$f":"IF(COUNTIF(B$5:K$60,\"<=2\")=0,0.001,COUNTIF(B$5:K$60,\"<=2\"))","v":1E-3},2,{"$f":"IF(P15<>0,100*(P15/P$36),\"\")","v":{"$error":"#DIV/0!"}},{"$f":"IF($R15>=16,IF($R14<16,$Q15-(($R15-16)/($R15-$R14)*($Q15-$Q14)),\"\"),\"\")","v":{"$error":"#DIV/0!"}},{"$f":"IF($R15>=50,IF($R14<50,$Q15-(($R15-50)/($R15-$R14)*($Q15-$Q14)),\"\"),\"\")","v":{"$error":"#DIV/0!"}},{"$f":"IF($R15>=84,IF($R14<84,$Q15-(($R15-84)/($R15-$R14)*($Q15-$Q14)),\"\"),\"\")","v":{"$error":"#DIV/0!"}},-1]
[24,null,null,null,null,null,null,null,null,null,null," ",null,"VF Gravel","2 - 2.8",{"$f":"COUNTIF(B$5:K$60,\"<=2.8\")-P15","v":-1E-3},{"$f":"AVERAGE(2,2.8)","v":2.4},{"$f":"IF(A39<>\"\",100*SUM(P$15:P16)/P$36,\"\")","v":{"$error":"#DIV/0!"}},{"$f":"IF($R16>=16,IF($R15<16,$Q16-(($R16-16)/($R16-$R15)*($Q16-$Q15)),\"\"),\"\")","v":{"$error":"#DIV/0!"}},{"$f":"IF($R16>=50,IF($R15<50,$Q16-(($R16-50)/($R16-$R15)*($Q16-$Q15)),\"\"),\"\")","v":{"$error":"#DIV/0!"}},{"$f":"IF($R16>=84,IF($R15<84,$Q16-(($R16-84)/($R16-$R15)*($Q16-$Q15)),\"\"),\"\")","v":{"$error":"#DIV/0!"}},-1.5]
[26,null,null,null,null,null,null,null,null,null,null,null,null,"VF Gravel","2.8 - 4",{"$f":"COUNTIF(B$5:K$60,\"<=4\")-SUM(P$15:P16)","v":0},{"$f":"AVERAGE(2.8,4)","v":3.4},{"$f":"IF(A39<>\"\",100*SUM(P$15:P17)/P$36,\"\")","v":{"$error":"#DIV/0!"}},{"$error":"#DIV/0!"},{"$error":"#DIV/0!"},{"$error":"#DIV/0!"},-2]
[28,null,null,null,null,null,null,null,null,null,null," ",null,"Fine Gravel","4 - 5.6",{"$f":"COUNTIF(B$5:K$60,\"<=5.6\")-SUM(P$15:P17)","v":0},{"$f":"AVERAGE(4,5.6)","v":4.8},{"$f":"IF(A39<>\"\",100*SUM(P$15:P18)/P$36,\"\")","v":{"$error":"#DIV/0!"}},{"$error":"#DIV/0!"},{"$error":"#DIV/0!"},{"$error":"#DIV/0!"},-2.5]
[30,null,null,null,null,null,null,null,null,null,null,null,null,"Fine Gravel","5.6 - 8",{"$f":"COUNTIF(B$5:K$60,\"<=8\")-SUM(P$15:P18)","v":0},{"$f":"AVERAGE(5.6,8)","v":6.8},{"$f":"IF(A39<>\"\",100*SUM(P$15:P19)/P$36,\"\")","v":{"$error":"#DIV/0!"}},{"$error":"#DIV/0!"},{"$error":"#DIV/0!"},{"$error":"#DIV/0!"},-3]
[32,null,null,null,null,null,null,null,null,null,null," ",null,"Med. Gravel","8 - 11.3",{"$f":"COUNTIF(B$5:K$60,\"<=11.3\")-SUM(P$15:P19)","v":0},{"$f":"AVERAGE(8,11.3)","v":9.65},{"$f":"IF(A39<>\"\",100*SUM(P$15:P20)/P$36,\"\")","v":{"$error":"#DIV/0!"}},{"$error":"#DIV/0!"},{"$error":"#DIV/0!"},{"$error":"#DIV/0!"},-3.5]
[34,null,null,null,null,null,null,null,null,null,null,null,null,"Med. Gravel","11.3 - 16",{"$f":"COUNTIF(B$5:K$60,\"<=16\")-SUM(P$15:P20)","v":0},{"$f":"AVERAGE(11.3,16)","v":13.65},{"$f":"IF(A39<>\"\",100*SUM(P$15:P21)/P$36,\"\")","v":{"$error":"#DIV/0!"}},{"$error":"#DIV/0!"},{"$error":"#DIV/0!"},{"$error":"#DIV/0!"},-4]
[36,null,null,null,null,null,null,null,null,null,null," ",null,"Coarse Gravel","16 - 22.6",{"$f":"COUNTIF(B$5:K$60,\"<=22.6\")-SUM(P$15:P21)","v":0},{"$f":"AVERAGE(16,22.6)","v":19.3},{"$f":"IF(A39<>\"\",100*SUM(P$15:P22)/P$36,\"\")","v":{"$error":"#DIV/0!"}},{"$error":"#DIV/0!"},{"$error":"#DIV/0!"},{"$error":"#DIV/0!"},-4.5]
[38,null,null,null,null,null,null,null,null,null,null,null,null,"Coarse Gravel","22.6 - 32",{"$f":"COUNTIF(B$5:K$60,\"<=32\")-SUM(P$15:P22)","v":0},{"$f":"AVERAGE(22.6,32)","v":27.3},{"$f":"IF(A39<>\"\",100*SUM(P$15:P23)/P$36,\"\")","v":{"$error":"#DIV/0!"}},{"$error":"#DIV/0!"},{"$error":"#DIV/0!"},{"$error":"#DIV/0!"},-5]
[40,null,null,null,null,null,null,null,null,null,null," ",null,"VC Gravel","32 - 45.3",{"$f":"COUNTIF(B$5:K$60,\"<=45.3\")-SUM(P$15:P23)","v":0},{"$f":"AVERAGE(32,45.3)","v":38.65},{"$f":"IF(A39<>\"\",100*SUM(P$15:P24)/P$36,\"\")","v":{"$error":"#DIV/0!"}},{"$error":"#DIV/0!"},{"$error":"#DIV/0!"},{"$error":"#DIV/0!"},-5.5]
["Additional if needed:   add additional pebble count data in the rows below if needed.",null,null,null,null,null,null,null,null,null,null,null,null,"VC Gravel","45.3 - 64",{"$f":"COUNTIF(B$5:K$60,\"<=64\")-SUM(P$15:P24)","v":0},{"$f":"AVERAGE(45.3,64)","v":54.65},{"$f":"IF(A39<>\"\",100*SUM(P$15:P25)/P$36,\"\")","v":{"$error":"#DIV/0!"}},{"$error":"#DIV/0!"},{"$error":"#DIV/0!"},{"$error":"#DIV/0!"},-6]
[42,null,null,null,null,null,null,null,null,null,null," ",null,"Sm. Cobble","64 - 90.5",{"$f":"COUNTIF(B$5:K$60,\"<=90.5\")-SUM(P$15:P25)","v":0},{"$f":"AVERAGE(64,90.5)","v":77.25},{"$f":"IF(A39<>\"\",100*SUM(P$15:P26)/P$36,\"\")","v":{"$error":"#DIV/0!"}},{"$error":"#DIV/0!"},{"$error":"#DIV/0!"},{"$error":"#DIV/0!"},-6.5]
[44,null,null,null,null,null,null,null,null,null,null,null,null,"Sm. Cobble","90.5 - 128",{"$f":"COUNTIF(B$5:K$60,\"<=128\")-SUM(P$15:P26)","v":0},{"$f":"AVERAGE(90.5,128)","v":109.25},{"$f":"IF(A39<>\"\",100*SUM(P$15:P27)/P$36,\"\")","v":{"$error":"#DIV/0!"}},{"$error":"#DIV/0!"},{"$error":"#DIV/0!"},{"$error":"#DIV/0!"},-7]
[46,null,null,null,null,null,null,null,null,null,null," ",null,"Lg. Cobble","128 - 181",{"$f":"COUNTIF(B$5:K$60,\"<=181\")-SUM(P$15:P27)","v":0},{"$f":"AVERAGE(128,181)","v":154.5},{"$f":"IF(A39<>\"\",100*SUM(P$15:P28)/P$36,\"\")","v":{"$error":"#DIV/0!"}},{"$error":"#DIV/0!"},{"$error":"#DIV/0!"},{"$error":"#DIV/0!"},-7.5]
[48,null,null,null,null,null,null,null,null,null,null,null,null,"Lg. Cobble","181 - 256",{"$f":"COUNTIF(B$5:K$60,\"<=256\")-SUM(P$15:P28)","v":0},{"$f":"AVERAGE(181,256)","v":218.5},{"$f":"IF(A39<>\"\",100*SUM(P$15:P29)/P$36,\"\")","v":{"$error":"#DIV/0!"}},{"$error":"#DIV/0!"},{"$error":"#DIV/0!"},{"$error":"#DIV/0!"},-8]
[50,null,null,null,null,null,null,null,null,null,null," ",null,"Sm. Boulder","256 - 362",{"$f":"COUNTIF(B$5:K$60,\"<=362\")-SUM(P$15:P29)","v":0},{"$f":"AVERAGE(256,362)","v":309},{"$f":"IF(A39<>\"\",100*SUM(P$15:P30)/P$36,\"\")","v":{"$error":"#DIV/0!"}},{"$error":"#DIV/0!"},{"$error":"#DIV/0!"},{"$error":"#DIV/0!"},-8.5]
[52,null,null,null,null,null,null,null,null,null,null,null,null,"Sm. Boulder","362 - 512",{"$f":"COUNTIF(B$5:K$60,\"<=512\")-SUM(P$15:P30)","v":0},{"$f":"AVERAGE(362,512)","v":437},{"$f":"IF(A39<>\"\",100*SUM(P$15:P31)/P$36,\"\")","v":{"$error":"#DIV/0!"}},null,{"$f":"IF($R31>50,IF($R30<50,($R31-16)/($R31-$R30)*($Q31-$Q30)+$Q30,\"\"),\"\")","v":{"$error":"#DIV/0!"}},null,-9]
[54,null,null,null,null,null,null,null,null,null,null," ",null,"Med. Boulder","512 - 1024",{"$f":"COUNTIF(B$5:K$60,\"<=1024\")-SUM(P$15:P31)","v":0},{"$f":"AVERAGE(512,1024)","v":768},{"$f":"IF(A39<>\"\",100*SUM(P$15:P32)/P$36,\"\")","v":{"$error":"#DIV/0!"}},null,null,null,-9.5]
[56,null,null,null,null,null,null,null,null,null,null,null,null,"Lg. Boulder","1024 - 2048",{"$f":"COUNTIF(B$5:K$60,\"<=2048\")-SUM(P$15:P32)","v":0},{"$f":"AVERAGE(1024,2048)","v":1536},{"$f":"IF(A39<>\"\",100*SUM(P$15:P33)/P$36,\"\")","v":{"$error":"#DIV/0!"}},null,null,null,-10]
[58,null,null,null,null,null,null,null,null,null,null," ",null,"VL Boulder","2048 - 4096",{"$f":"COUNTIF(B$5:K$60,\"<=4096\")-SUM(P$15:P33)","v":0},{"$f":"AVERAGE(2048,4086)","v":3067},{"$f":"IF(A39<>\"\",100*SUM(P$15:P34)/P$36,\"\")","v":{"$error":"#DIV/0!"}},null,null,null,-11]
[60,null,null,null,null,null,null,null,null,null,null,null,null,"Bedrock",">4096 ",{"$f":"COUNTIF(B$5:K$60,\">4096\")","v":0},5000,{"$f":"IF(A39<>\"\",100*SUM(P$15:P35)/P$36,\"\")","v":{"$error":"#DIV/0!"}},null,null,null,-12,null,null,null,null,"φ"]
[62,null,null,null,null,null,null,null,null,null,null," ",null,null,"TOTAL",{"$f":"SUM(P15:P35)","v":0},null,null,null,"Particle size for which 30% of particles are smaller:",null,null,null,null,null,2.4,{"$f":"-LOG(Z36,2)","v":-1.2630344058337937}]
[64]
[66,null,null,null,null,null,null,null,null,null,null," ",null,null,2]
[68,null,null,null,null,null,null,null,null,null,null," ",null,null,2.8]
[70,null,null,null,null,null,null,null,null,null,null," ",null,null,4]
[72,null,null,null,null,null,null,null,null,null,null," ",null,null,5.6]
[74,null,null,null,null,null,null,null,null,null,null," ",null,null,8]
[76,null,null,null,null,null,null,null,null,null,null," ",null,null,11]
[78,null,null,null,null,null,null,null,null,null,null," ",null,null,16]
[80,null,null,null,null,null,null,null,null,null,null," ",null,null,22.6]
[82,null,null,null,null,null,null,null,null,null,null," ",null,null,32]
[84,null,null,null,null,null,null,null,null,null,null," ",null,null,45]
[86,null,null,null,null,null,null,null,null,null,null," ",null,null,64]
[88,null,null,null,null,null,null,null,null,null,null," ",null,null,90]
[90,null,null,null,null,null,null,null,null,null,null," ",null,null,128]
[92,null,null,null,null,null,null,null,null,null,null," ",null,null,180]
[94,null,null,null,null,null,null,null,null,null,null," ",null,null,190]
[96,null,null,null,null,null,null,null,null,null,null," ",null,null,200]
[98,null,null,null,null,null,null,null,null,null,null," ",null,null,210]
[100,null,null,null,null,null,null,null,null,null,null," ",null,null,220]
[102,null,null,null,null,null,null,null,null,null,null," ",null,null,230]
[104,null,null,null,null,null,null,null,null,null,null," ",null,null,240]
[106,null,null,null,null,null,null,null,null,null,null," ",null,null,250]
[108,null,null,null,null,null,null,null,null,null,null," ",null,null,260]
[110,null,null,null,null,null,null,null,null,null,null," ",null,null,270]
[null,null,null,null,null,null,null,null,null,null,null,null,null,null,280]
[null,null,null,null,null,null,null,null,null,null,null,null,null,null,290]
[null,null,null,null,null,null,null,null,null,null,null,null,null,null,300]
[null,null,null,null,null,null,null,null,null,null,null,null,null,null,310]
[null,null,null,null,null,null,null,null,null,null,null,null,null,null,320]
[null,null,null,null,null,null,null,null,null,null,null,null,null,null,330]
[null,null,null,null,null,null,null,null,null,null,null,null,null,null,340]
[null,null,null,null,null,null,null,null,null,null,null,null,null,null,350]
[null,null,null,null,null,null,null,null,null,null,null,null,null,null,360]
[null,null,null,null,null,null,null,null,null,null,null,null,null,null,370]
[null,null,null,null,null,null,null,null,null,null,null,null,null,null,380]
[null,null,null,null,null,null,null,null,null,null,null,null,null,null,390]
[null,null,null,null,null,null,null,null,null,null,null,null,null,null,400]
[null,null,null,null,null,null,null,null,null,null,null,null,null,null,410]
[null,null,null,null,null,null,null,null,null,null,null,null,null,null,420]
[null,null,null,null,null,null,null,null,null,null,null,null,null,null,430]
[null,null,null,null,null,null,null,null,null,null,null,null,null,null,440]
[null,null,null,null,null,null,null,null,null,null,null,null,null,null,450]
[null,null,null,null,null,null,null,null,null,null,null,null,null,null,460]
[null,null,null,null,null,null,null,null,null,null,null,null,null,null,470]
[null,null,null,null,null,null,null,null,null,null,null,null,null,null,480]
[null,null,null,null,null,null,null,null,null,null,null,null,null,null,490]
[null,null,null,null,null,null,null,null,null,null,null,null,null,null,500]

{"sheet":"Thal","index":4,"n_rows":504,"n_cols":23,"rows_kept":504,"cut":false,"hidden":false,"merged":[]}
["RESIDUAL POOL DEPTH AND POOL FREQUENCY"]
[]
["All Measured Pools and Riffles",null,null,null,null,null,null,null,null,null,null,null,"Excluding Pools less than .06 m deep (95% conf interval residual depth)",null,null,null,null,null,null,null,null,"LISTS"]
["Distance between measurements  ","Thalweg depth"," Riffle Crest (r) or Pool Bottom (p)","Running Distance","Riffle Crest depths","Pool depths","Pool Length","Riffle Length","Total Distance:",null,{"$f":"MAX(D:D)","v":0},"Meters","Riffle Crest depths","Pool depths","Pool Length","Riffle Length","Total Distance:",null,{"$f":"MAX(D:D)","v":0},"Meters",null,"Distance (m)","Depth (m)"]
[null,null,"r",{"$f":"A5","v":0},{"$f":"IF($B5=\"\",\"\",IF($C5=\"r\",$B5,\"\"))","v":""},{"$f":"IF($B5=\"\",\"\",IF($C5=\"p\",$B5,\"\"))","v":""},{"$f":"IF($B5=\"\",\"\",IF($C5=\"p\",($A5)*2,\"\"))","v":""},null,"Percent Pools:",null,{"$f":"IF(COUNT(G5:G280)>COUNT(H5:H280),SUM(G5:G280)/(K4+AVERAGE(H5:H280)),SUM(G5:G280)/(K4))","v":{"$error":"#DIV/0!"}},null,{"$f":"IF(B6-B5<0.06,\"\",IF($B5=\"\",\"\",IF($C5=\"r\",$B5,\"\")))","v":""},{"$f":"IF(B6-B5<0.06,\"\",IF($B5=\"\",\"\",IF($C5=\"p\",$B5,\"\")))","v":""},{"$f":"IF($B5=\"\",\"\",IF($C5=\"p\",($A5)*2,\"\"))","v":""},null,"Percent Pools:",null,{"$f":"IF(COUNT(O5:O280)>COUNT(P5:P280),SUM(O5:O280)/(S4+AVERAGE(P5:P280)),SUM(O5:O280)/(S4))","v":{"$error":"#DIV/0!"}},null,null,0.1,0.01]
[null,null,"p",{"$f":"A6+D5","v":0},{"$f":"IF(B6=\"\",\"\",IF(C6=\"r\",B6,\"\"))","v":""},{"$f":"IF(B6=\"\",\"\",IF(C6=\"p\",B6,\"\"))","v":""},{"$f":"IF(B6=\"\",\"\",IF(C6=\"p\",(A6)*2,\"\"))","v":""},{"$f":"IF($B7=\"\",\"\",IF($C6=\"p\",($A7)-0.5*$A6,\"\"))","v":""},"Number Pools:",null,{"$f":"COUNT(F5:F280)","v":0},null,{"$f":"IF(B7-B6<0.06,\"\",IF($B6=\"\",\"\",IF($C6=\"r\",$B6,\"\")))","v":""},{"$f":"IF(B6-B5<0.06,\"\",IF($B6=\"\",\"\",IF($C6=\"p\",$B6,\"\")))","v":""},{"$f":"IF(B6-B5<0.06,\"\",IF($B6=\"\",\"\",IF($C6=\"p\",($A6)*2,\"\")))","v":""},{"$f":"IF(B6-B5<0.06,\"\",IF($B7=\"\",\"\",IF($C6=\"p\",($A7)-0.5*$A6,\"\")))","v":""},"Number Pools:",null,{"$f":"COUNT(N5:N280)","v":0},null,null,0.2,0.02]
[null,null,"r",0,{"$f":"IF(B7=\"\",\"\",IF(C7=\"r\",B7,\"\"))","v":""},{"$f":"IF(B7=\"\",\"\",IF(C7=\"p\",B7,\"\"))","v":""},{"$f":"IF(B7=\"\",\"\",IF(C7=\"p\",(A7)*2,\"\"))","v":""},{"$f":"IF($B8=\"\",\"\",IF($C7=\"p\",($A8)-0.5*$A7,\"\"))","v":""},"Pool Frequency:",null,{"$f":"K6/MAX(D75:D348)*1609.344","v":{"$error":"#DIV/0!"}},"Per Mile","",{"$f":"IF(B7-B6<0.06,\"\",IF($B7=\"\",\"\",IF($C7=\"p\",$B7,\"\")))","v":""},{"$f":"IF(B7-B6<0.06,\"\",IF($B7=\"\",\"\",IF($C7=\"p\",($A7)*2,\"\")))","v":""},{"$f":"IF(B7-B6<0.06,\"\",IF($B8=\"\",\"\",IF($C7=\"p\",($A8)-0.5*$A7,\"\")))","v":""},"Pool Frequency:",null,{"$f":"S6/MAX(D75:D348)*1609.344","v":{"$error":"#DIV/0!"}},"Per Mile",null,0.3,0.03]
[null,null,"p",0,{"$f":"IF(B8=\"\",\"\",IF(C8=\"r\",B8,\"\"))","v":""},{"$f":"IF(B8=\"\",\"\",IF(C8=\"p\",B8,\"\"))","v":""},{"$f":"IF(B8=\"\",\"\",IF(C8=\"p\",IF(A8>A7,A8,(A8)*2),\"\"))","v":""},"","Residual Pool Depth:",null,{"$f":"AVERAGE(F5:F280)-AVERAGE(E5:E280)","v":{"$error":"#DIV/0!"}},"Meters","","","","","Residual Pool Depth:",null,{"$f":"AVERAGE(N5:N280)-AVERAGE(M5:M280)","v":{"$error":"#DIV/0!"}},"Meters",null,0.4,0.04]
[null,null,"r",0,{"$f":"IF(B9=\"\",\"\",IF(C9=\"r\",B9,\"\"))","v":""},{"$f":"IF(B9=\"\",\"\",IF(C9=\"p\",B9,\"\"))","v":""},{"$f":"IF(B9=\"\",\"\",IF(C9=\"p\",IF(A9>A8,A9,(A9)*2),\"\"))","v":""},"",null,null,null,null,"","","","",null,null,null,null,null,0.5,0.05]
[null,null,"p",0,"","","","","ALL DEPTHS",null,null,null,"","","","","ALL DEPTHS(exclude pools <.06)",null,null,null,null,0.6,0.06]
[null,null,"r",0,"","","","","MEAN",{"$f":"AVERAGE(E$5:F$280)","v":{"$error":"#DIV/0!"}},null,null,"","","","","MEAN",{"$f":"AVERAGE(M$5:N$280)","v":{"$error":"#DIV/0!"}},null,null,null,0.7,7.0000000000000007E-2]
[null,null,"p",0,"","","","","ST DEV",{"$f":"STDEV(E$5:F$280)","v":{"$error":"#DIV/0!"}},null,null,"","","","","ST DEV",{"$f":"STDEV(M$5:N$280)","v":{"$error":"#DIV/0!"}},null,null,null,0.8,0.08]
[null,null,"r",0,"","","","","COUNT",{"$f":"COUNT(E$5:F$280)","v":0},null,null,"","","","","COUNT",{"$f":"COUNT(M$5:N$280)","v":0},null,null,null,0.9,0.09]
[null,null,"p",0,"","","","","CI",{"$f":"CONFIDENCE(0.05,J12,J13)","v":{"$error":"#DIV/0!"}},null,null,"","","","","CI",{"$f":"CONFIDENCE(0.05,R12,R13)","v":{"$error":"#DIV/0!"}},null,null,null,1,0.1]
[null,null,"r",0,"","","","",null,null,null,null,"","","","",null,null,null,null,null,1.1000000000000001,0.11]
[null,null,"p",0,"","","","",null,null,null,null,"","","","",null,null,null,null,null,1.2,0.12]
[null,null,"r",0,"","","","",null,null,null,null,"","","","",null,null,null,null,null,1.3,0.13]
[null,null,"p",0,"","","","",null,null,null,null,"","","","",null,null,null,null,null,1.4,0.14000000000000001]
[null,null,"r",0,"","","","",null,null,null,null,"","","","",null,null,null,null,null,1.5,0.15]
[null,null,"p",0,"","","","",null,null,null,null,"","","","",null,null,null,null,null,1.6,0.16]
[null,null,"r",0,"","","","",null,null,null,null,"","","","",null,null,null,null,null,1.7,0.17]
[null,null,"p",0,"","","","",null,null,null,null,"","","","",null,null,null,null,null,1.8,0.18]
[null,null,"r",0,"","","","",null,null,null,null,"","","","",null,null,null,null,null,1.9,0.19]
[null,null,"p",0,"","","","",null,null,null,null,"","","","",null,null,null,null,null,2,0.2]
[null,null,"r",0,"","","","",null,null,null,null,"","","","",null,null,null,null,null,2.1,0.21]
[null,null,"p",0,"","","","",null,null,null,null,"","","","",null,null,null,null,null,2.2000000000000002,0.22]
[null,null,"r",0,"","","","",null,null,null,null,"","","","",null,null,null,null,null,2.2999999999999998,0.23]
[null,null,"p",0,"","","","",null,null,null,null,"","","","",null,null,null,null,null,2.4,0.24]
[null,null,"r",0,"","","","",null,null,null,null,"","","","",null,null,null,null,null,2.5,0.25]
[null,null,"p",0,"","","","",null,null,null,null,"","","","",null,null,null,null,null,2.6,0.26]
[null,null,"r",0,"","","","",null,null,null,null,"","","","",null,null,null,null,null,2.7,0.27]
[null,null,"p",0,"","","","",null,null,null,null,"","","","",null,null,null,null,null,2.8,0.28000000000000003]
[null,null,"r",0,"","","","",null,null,null,null,"","","","",null,null,null,null,null,2.9,0.28999999999999998]
[null,null,"p",0,"","","","",null,null,null,null,"","","","",null,null,null,null,null,3,0.3]
[null,null,"r",0,"","","","",null,null,null,null,"","","","",null,null,null,null,null,3.1,0.31]
[null,null,"p",0,"","","","",null,null,null,null,"","","","",null,null,null,null,null,3.2,0.32]
[null,null,"r",0,"","","","",null,null,null,null,"","","","",null,null,null,null,null,3.3,0.33]
[null,null,"p",0,"","","","",null,null,null,null,"","","","",null,null,null,null,null,3.4,0.34]
[null,null,"r",0,"","","","",null,null,null,null,"","","","",null,null,null,null,null,3.5,0.35]
[null,null,"p",0,"","","","",null,null,null,null,"","","","",null,null,null,null,null,3.6,0.36]
[null,null,"r",0,"","","","",null,null,null,null,"","","","",null,null,null,null,null,3.7,0.37]
[null,null,"p",0,"","","","",null,null,null,null,"","","","",null,null,null,null,null,3.8,0.38]
[null,null,"r",0,"","","","",null,null,null,null,"","","","",null,null,null,null,null,3.9,0.39]
[null,null,"p",0,"","","","",null,null,null,null,"","","","",null,null,null,null,null,4,0.4]
[null,null,"r",0,"","","","",null,null,null,null,"","","","",null,null,null,null,null,4.0999999999999996,0.41]
[null,null,"p",0,"","","","",null,null,null,null,"","","","",null,null,null,null,null,4.2,0.42]
[null,null,"r",0,"","","","",null,null,null,null,"","","","",null,null,null,null,null,4.3,0.43]
[null,null,"p",0,"","","","",null,null,null,null,"","","","",null,null,null,null,null,4.4000000000000004,0.44]
[null,null,"r",0,"","","","",null,null,null,null,"","","","",null,null,null,null,null,4.5,0.45]
[null,null,"p",0,"","","","",null,null,null,null,"","","","",null,null,null,null,null,4.5999999999999996,0.46]
[null,null,"r",0,"","","","",null,null,null,null,"","","","",null,null,null,null,null,4.7,0.47]
[null,null,"p",0,"","","","",null,null,null,null,"","","","",null,null,null,null,null,4.8,0.48]
[null,null,"r",0,"","","","",null,null,null,null,"","","","",null,null,null,null,null,4.9000000000000004,0.49]
[null,null,"p",0,"","","","",null,null,null,null,"","","","",null,null,null,null,null,5,0.5]
[null,null,"r",0,"","","","",null,null,null,null,"","","","",null,null,null,null,null,5.0999999999999996,0.51]
[null,null,"p",0,"","","","",null,null,null,null,"","","","",null,null,null,null,null,5.2,0.52]
[null,null,"r",0,"","","","",null,null,null,null,"","","","",null,null,null,null,null,5.3,0.53]
[null,null,"p",0,"","","","",null,null,null,null,"","","","",null,null,null,null,null,5.4,0.54]
[null,null,"r",0,"","","","",null,null,null,null,"","","","",null,null,null,null,null,5.5,0.55000000000000004]
[null,null,"p",0,"","","","",null,null,null,null,"","","","",null,null,null,null,null,5.6,0.56000000000000005]
[null,null,"r",0,"","","","",null,null,null,null,"","","","",null,null,null,null,null,5.7,0.56999999999999995]
[null,null,"p",0,"","","","",null,null,null,null,"","","","",null,null,null,null,null,5.8,0.57999999999999996]
[null,null,"r",0,"","","","",null,null,null,null,"","","","",null,null,null,null,null,5.9,0.59]
[null,null,"p",0,"","","","",null,null,null,null,"","","","",null,null,null,null,null,6,0.6]
[null,null,"r",0,"","","","",null,null,null,null,"","","","",null,null,null,null,null,6.1,0.61]
[null,null,"p",0,"","","","",null,null,null,null,"","","","",null,null,null,null,null,6.2,0.62]
[null,null,"r",0,"","","","",null,null,null,null,"","","","",null,null,null,null,null,6.3,0.63]
[null,null,"p",0,"","","","",null,null,null,null,"","","","",null,null,null,null,null,6.4,0.64]
[null,null,"r",0,"","","","",null,null,null,null,"","","","",null,null,null,null,null,6.5,0.65]
[null,null,"p",{"$f":"A70+D69","v":0},"","","","",null,null,null,null,{"$f":"IF(B71-B70<0.06,\"\",IF($B70=\"\",\"\",IF($C70=\"r\",$B70,\"\")))","v":""},"","","",null,null,null,null,null,6.6,0.66]
[null,null,"r",0,"","","",{"$f":"IF($B72=\"\",\"\",IF($C71=\"p\",($A72)-0.5*$A71,\"\"))","v":""},null,null,null,null,"",{"$f":"IF(B71-B70<0.06,\"\",IF($B71=\"\",\"\",IF($C71=\"p\",$B71,\"\")))","v":""},{"$f":"IF(B71-B70<0.06,\"\",IF($B71=\"\",\"\",IF($C71=\"p\",($A71)*2,\"\")))","v":""},{"$f":"IF(B71-B70<0.06,\"\",IF($B72=\"\",\"\",IF($C71=\"p\",($A72)-0.5*$A71,\"\")))","v":""},null,null,null,null,null,6.7,0.67]
[null,null,"p",0,"","","","",null,null,null,null,"","","","",null,null,null,null,null,6.8,0.68]
[null,null,"r",0,{"$f":"IF(B73=\"\",\"\",IF(C73=\"r\",B73,\"\"))","v":""},{"$f":"IF(B73=\"\",\"\",IF(C73=\"p\",B73,\"\"))","v":""},{"$f":"IF(B73=\"\",\"\",IF(C73=\"p\",IF(A73>A72,A73,(A73)*2),\"\"))","v":""},"",null,null,null,null,"","","","",null,null,null,null,null,6.9,0.69]
[null,null,"p",0,"","","","",null,null,null,null,"","","","",null,null,null,null,null,7,0.7]
[null,null,"r",0,"","","","",null,null,null,null,"","","","",null,null,null,null,null,7.1,0.71]
[null,null,"p",0,"","","","",null,null,null,null,"","","","",null,null,null,null,null,7.2,0.72]
[null,null,"r",0,"","","","",null,null,null,null,"","","","",null,null,null,null,null,7.3,0.73]
[null,null,"p",0,"","","","",null,null,null,null,"","","","",null,null,null,null,null,7.4,0.74]
[null,null,"r",0,"","","","",null,null,null,null,"","","","",null,null,null,null,null,7.5,0.75]
[null,null,"p",0,"","","","",null,null,null,null,"","","","",null,null,null,null,null,7.6,0.76]
[null,null,"r",0,"","","","",null,null,null,null,"","","","",null,null,null,null,null,7.7,0.77]
[null,null,"p",0,"","","","",null,null,null,null,"","","","",null,null,null,null,null,7.8,0.78]
[null,null,"r",0,"","","","",null,null,null,null,"","","","",null,null,null,null,null,7.9,0.79]
[null,null,"p",0,"","","","",null,null,null,null,"","","","",null,null,null,null,null,8,0.8]
[null,null,"r",0,"","","","",null,null,null,null,"","","","",null,null,null,null,null,8.1,0.81]
[null,null,"p",0,"","","","",null,null,null,null,"","","","",null,null,null,null,null,8.1999999999999993,0.82]
[null,null,"r",0,"","","","",null,null,null,null,"","","","",null,null,null,null,null,8.3000000000000007,0.83]
[null,null,"p",0,"","","","",null,null,null,null,"","","","",null,null,null,null,null,8.4,0.84]
[null,null,"r",0,"","","","",null,null,null,null,"","","","",null,null,null,null,null,8.5,0.85]
[null,null,"p",0,"","","","",null,null,null,null,"","","","",null,null,null,null,null,8.6,0.86]
[null,null,"r",0,"","","","",null,null,null,null,"","","","",null,null,null,null,null,8.6999999999999993,0.87]
[null,null,"p",0,"","","","",null,null,null,null,"","","","",null,null,null,null,null,8.8000000000000007,0.88]
[null,null,"r",0,"","","","",null,null,null,null,"","","","",null,null,null,null,null,8.9,0.89]
[null,null,"p",0,"","","","",null,null,null,null,"","","","",null,null,null,null,null,9,0.9]
[null,null,"r",0,"","","","",null,null,null,null,"","","","",null,null,null,null,null,9.1,0.91]
[null,null,"p",0,"","","","",null,null,null,null,"","","","",null,null,null,null,null,9.1999999999999993,0.92]
[null,null,"r",0,"","","","",null,null,null,null,"","","","",null,null,null,null,null,9.3000000000000007,0.93]
[null,null,"p",0,"","","","",null,null,null,null,"","","","",null,null,null,null,null,9.4,0.94]
[null,null,"r",0,"","","","",null,null,null,null,"","","","",null,null,null,null,null,9.5,0.95]
[null,null,"p",0,"","","","",null,null,null,null,"","","","",null,null,null,null,null,9.6,0.96]
[null,null,"r",0,"","","","",null,null,null,null,"","","","",null,null,null,null,null,9.6999999999999993,0.97]
[null,null,"p",0,"","","","",null,null,null,null,"","","","",null,null,null,null,null,9.8000000000000007,0.98]
[null,null,"r",0,"","","","",null,null,null,null,"","","","",null,null,null,null,null,9.9,0.99]
[null,null,"p",0,"","","","",null,null,null,null,"","","","",null,null,null,null,null,10,1]
[null,null,"r",0,"","","","",null,null,null,null,"","","","",null,null,null,null,null,10.1,1.01]
[null,null,"p",0,"","","","",null,null,null,null,"","","","",null,null,null,null,null,10.199999999999999,1.02]
[null,null,"r",0,"","","","",null,null,null,null,"","","","",null,null,null,null,null,10.3,1.03]
[null,null,"p",0,"","","","",null,null,null,null,"","","","",null,null,null,null,null,10.4,1.04]
[null,null,"r",0,"","","","",null,null,null,null,"","","","",null,null,null,null,null,10.5,1.05]
[null,null,"p",0,"","","","",null,null,null,null,"","","","",null,null,null,null,null,10.6,1.06]
[null,null,"r",0,"","","","",null,null,null,null,"","","","",null,null,null,null,null,10.7,1.07]
[null,null,"p",0,"","","","",null,null,null,null,"","","","",null,null,null,null,null,10.8,1.08]
[null,null,"r",0,"","","","",null,null,null,null,"","","","",null,null,null,null,null,10.9,1.0900000000000001]
[null,null,"p",0,"","","","",null,null,null,null,"","","","",null,null,null,null,null,11,1.1000000000000001]
[null,null,"r",0,"","","","",null,null,null,null,"","","","",null,null,null,null,null,11.1,1.1100000000000001]
[null,null,"p",0,"","","","",null,null,null,null,"","","","",null,null,null,null,null,11.2,1.1200000000000001]
[null,null,"r",0,"","","","",null,null,null,null,"","","","",null,null,null,null,null,11.3,1.1299999999999999]
[null,null,"p",0,"","","","",null,null,null,null,"","","","",null,null,null,null,null,11.4,1.1399999999999999]
[null,null,"r",0,"","","","",null,null,null,null,"","","","",null,null,null,null,null,11.5,1.1499999999999999]
[null,null,"p",0,"","","","",null,null,null,null,"","","","",null,null,null,null,null,11.6,1.1599999999999999]
[null,null,"r",0,"","","","",null,null,null,null,"","","","",null,null,null,null,null,11.7,1.17]
[null,null,"p",0,"","","","",null,null,null,null,"","","","",null,null,null,null,null,11.8,1.18]
[null,null,"r",0,"","","","",null,null,null,null,"","","","",null,null,null,null,null,11.9,1.19]
[null,null,"p",0,"","","","",null,null,null,null,"","","","",null,null,null,null,null,12,1.2]
[null,null,"r",0,"","","","",null,null,null,null,"","","","",null,null,null,null,null,12.1,1.21]
[null,null,"p",0,"","","","",null,null,null,null,"","","","",null,null,null,null,null,12.2,1.22]
[null,null,"r",0,"","","","",null,null,null,null,"","","","",null,null,null,null,null,12.3,1.23]
[null,null,"p",0,"","","","",null,null,null,null,"","","","",null,null,null,null,null,12.4,1.24]
[null,null,"r",0,"","","","",null,null,null,null,"","","","",null,null,null,null,null,12.5,1.25]
[null,null,"p",0,"","","","",null,null,null,null,"","","","",null,null,null,null,null,12.6,1.26]
[null,null,"r",0,"","","","",null,null,null,null,"","","","",null,null,null,null,null,12.7,1.27]
[null,null,"p",0,"","","","",null,null,null,null,"","","","",null,null,null,null,null,12.8,1.28]
[null,null,"r",0,"","","","",null,null,null,null,"","","","",null,null,null,null,null,12.9,1.29]
[null,null,"p",{"$f":"A134+D133","v":0},"","","","",null,null,null,null,{"$f":"IF(B135-B134<0.06,\"\",IF($B134=\"\",\"\",IF($C134=\"r\",$B134,\"\")))","v":""},"","","",null,null,null,null,null,13,1.3]
[null,null,"r",0,"","","",{"$f":"IF($B136=\"\",\"\",IF($C135=\"p\",($A136)-0.5*$A135,\"\"))","v":""},null,null,null,null,"",{"$f":"IF(B135-B134<0.06,\"\",IF($B135=\"\",\"\",IF($C135=\"p\",$B135,\"\")))","v":""},{"$f":"IF(B135-B134<0.06,\"\",IF($B135=\"\",\"\",IF($C135=\"p\",($A135)*2,\"\")))","v":""},{"$f":"IF(B135-B134<0.06,\"\",IF($B136=\"\",\"\",IF($C135=\"p\",($A136)-0.5*$A135,\"\")))","v":""},null,null,null,null,null,13.1,1.31]
[null,null,"p",0,"","","","",null,null,null,null,"","","","",null,null,null,null,null,13.2,1.32]
[null,null,"r",0,{"$f":"IF(B137=\"\",\"\",IF(C137=\"r\",B137,\"\"))","v":""},{"$f":"IF(B137=\"\",\"\",IF(C137=\"p\",B137,\"\"))","v":""},{"$f":"IF(B137=\"\",\"\",IF(C137=\"p\",IF(A137>A136,A137,(A137)*2),\"\"))","v":""},"",null,null,null,null,"","","","",null,null,null,null,null,13.3,1.33]
[null,null,"p",0,"","","","",null,null,null,null,"","","","",null,null,null,null,null,13.4,1.34]
[null,null,"r",0,"","","","",null,null,null,null,"","","","",null,null,null,null,null,13.5,1.35]
[null,null,"p",0,"","","","",null,null,null,null,"","","","",null,null,null,null,null,13.6,1.36]
[null,null,"r",0,"","","","",null,null,null,null,"","","","",null,null,null,null,null,13.7,1.37]
[null,null,"p",0,"","","","",null,null,null,null,"","","","",null,null,null,null,null,13.8,1.38]
[null,null,"r",0,"","","","",null,null,null,null,"","","","",null,null,null,null,null,13.9,1.39]
[null,null,"p",0,"","","","",null,null,null,null,"","","","",null,null,null,null,null,14,1.4]
[null,null,"r",0,"","","","",null,null,null,null,"","","","",null,null,null,null,null,14.1,1.41]
[null,null,"p",0,"","","","",null,null,null,null,"","","","",null,null,null,null,null,14.2,1.42]
[null,null,"r",0,"","","","",null,null,null,null,"","","","",null,null,null,null,null,14.3,1.43]
[null,null,"p",0,"","","","",null,null,null,null,"","","","",null,null,null,null,null,14.4,1.44]
[null,null,"r",0,"","","","",null,null,null,null,"","","","",null,null,null,null,null,14.5,1.45]
[null,null,"p",0,"","","","",null,null,null,null,"","","","",null,null,null,null,null,14.6,1.46]
[null,null,"r",0,"","","","",null,null,null,null,"","","","",null,null,null,null,null,14.7,1.47]
[null,null,"p",0,"","","","",null,null,null,null,"","","","",null,null,null,null,null,14.8,1.48]
[null,null,"r",0,"","","","",null,null,null,null,"","","","",null,null,null,null,null,14.9,1.49]
[null,null,"p",0,"","","","",null,null,null,null,"","","","",null,null,null,null,null,15,1.5]
[null,null,"r",0,"","","","",null,null,null,null,"","","","",null,null,null,null,null,15.1,1.51]
[null,null,"p",0,"","","","",null,null,null,null,"","","","",null,null,null,null,null,15.2,1.52]
[null,null,"r",0,"","","","",null,null,null,null,"","","","",null,null,null,null,null,15.3,1.53]
[null,null,"p",0,"","","","",null,null,null,null,"","","","",null,null,null,null,null,15.4,1.54]
[null,null,"r",0,"","","","",null,null,null,null,"","","","",null,null,null,null,null,15.5,1.55]
[null,null,"p",0,"","","","",null,null,null,null,"","","","",null,null,null,null,null,15.6,1.56]
[null,null,"r",0,"","","","",null,null,null,null,"","","","",null,null,null,null,null,15.7,1.57]
[null,null,"p",0,"","","","",null,null,null,null,"","","","",null,null,null,null,null,15.8,1.58]
[null,null,"r",0,"","","","",null,null,null,null,"","","","",null,null,null,null,null,15.9,1.59]
[null,null,"p",0,"","","","",null,null,null,null,"","","","",null,null,null,null,null,16,1.6]
[null,null,"r",0,"","","","",null,null,null,null,"","","","",null,null,null,null,null,16.100000000000001,1.61]
[null,null,"p",0,"","","","",null,null,null,null,"","","","",null,null,null,null,null,16.2,1.62]
[null,null,"r",0,"","","","",null,null,null,null,"","","","",null,null,null,null,null,16.3,1.63]
[null,null,"p",0,"","","","",null,null,null,null,"","","","",null,null,null,null,null,16.399999999999999,1.64]
[null,null,"r",0,"","","","",null,null,null,null,"","","","",null,null,null,null,null,16.5,1.65]
[null,null,"p",0,"","","","",null,null,null,null,"","","","",null,null,null,null,null,16.600000000000001,1.66]
[null,null,"r",0,"","","","",null,null,null,null,"","","","",null,null,null,null,null,16.7,1.67]
[null,null,"p",0,"","","","",null,null,null,null,"","","","",null,null,null,null,null,16.8,1.68]
[null,null,"r",0,"","","","",null,null,null,null,"","","","",null,null,null,null,null,16.899999999999999,1.69]
[null,null,"p",0,"","","","",null,null,null,null,"","","","",null,null,null,null,null,17,1.7]
[null,null,"r",0,"","","","",null,null,null,null,"","","","",null,null,null,null,null,17.100000000000001,1.71]
[null,null,"p",0,"","","","",null,null,null,null,"","","","",null,null,null,null,null,17.2,1.72]
[null,null,"r",0,"","","","",null,null,null,null,"","","","",null,null,null,null,null,17.3,1.73]
[null,null,"p",0,"","","","",null,null,null,null,"","","","",null,null,null,null,null,17.399999999999999,1.74]
[null,null,"r",0,"","","","",null,null,null,null,"","","","",null,null,null,null,null,17.5,1.75]
[null,null,"p",0,"","","","",null,null,null,null,"","","","",null,null,null,null,null,17.600000000000001,1.76]
[null,null,"r",0,"","","","",null,null,null,null,"","","","",null,null,null,null,null,17.7,1.77]
[null,null,"p",0,"","","","",null,null,null,null,"","","","",null,null,null,null,null,17.8,1.78]
[null,null,"r",0,"","","","",null,null,null,null,"","","","",null,null,null,null,null,17.899999999999999,1.79]
[null,null,"p",0,"","","","",null,null,null,null,"","","","",null,null,null,null,null,18,1.8]
[null,null,"r",0,"","","","",null,null,null,null,"","","","",null,null,null,null,null,18.100000000000001,1.81]
[null,null,"p",0,"","","","",null,null,null,null,"","","","",null,null,null,null,null,18.2,1.82]
[null,null,"r",0,"","","","",null,null,null,null,"","","","",null,null,null,null,null,18.3,1.83]
[null,null,"p",0,"","","","",null,null,null,null,"","","","",null,null,null,null,null,18.399999999999999,1.84]
[null,null,"r",0,"","","","",null,null,null,null,"","","","",null,null,null,null,null,18.5,1.85]
[null,null,"p",0,"","","","",null,null,null,null,"","","","",null,null,null,null,null,18.600000000000001,1.86]
[null,null,"r",0,"","","","",null,null,null,null,"","","","",null,null,null,null,null,18.7,1.87]
[null,null,"p",0,"","","","",null,null,null,null,"","","","",null,null,null,null,null,18.8,1.88]
[null,null,"r",0,"","","","",null,null,null,null,"","","","",null,null,null,null,null,18.899999999999999,1.89]
[null,null,"p",0,"","","","",null,null,null,null,"","","","",null,null,null,null,null,19,1.9]
[null,null,"r",0,"","","","",null,null,null,null,"","","","",null,null,null,null,null,19.100000000000001,1.91]
[null,null,"p",0,"","","","",null,null,null,null,"","","","",null,null,null,null,null,19.2,1.92]
[null,null,"r",0,"","","","",null,null,null,null,"","","","",null,null,null,null,null,19.3,1.93]
[null,null,"p",{"$f":"A198+D197","v":0},"","","","",null,null,null,null,{"$f":"IF(B199-B198<0.06,\"\",IF($B198=\"\",\"\",IF($C198=\"r\",$B198,\"\")))","v":""},"","","",null,null,null,null,null,19.399999999999999,1.94]
[null,null,"r",0,"","","",{"$f":"IF($B200=\"\",\"\",IF($C199=\"p\",($A200)-0.5*$A199,\"\"))","v":""},null,null,null,null,"",{"$f":"IF(B199-B198<0.06,\"\",IF($B199=\"\",\"\",IF($C199=\"p\",$B199,\"\")))","v":""},{"$f":"IF(B199-B198<0.06,\"\",IF($B199=\"\",\"\",IF($C199=\"p\",($A199)*2,\"\")))","v":""},{"$f":"IF(B199-B198<0.06,\"\",IF($B200=\"\",\"\",IF($C199=\"p\",($A200)-0.5*$A199,\"\")))","v":""},null,null,null,null,null,19.5,1.95]
[null,null,"p",0,"","","","",null,null,null,null,"","","","",null,null,null,null,null,19.600000000000001,1.96]
[null,null,"r",0,{"$f":"IF(B201=\"\",\"\",IF(C201=\"r\",B201,\"\"))","v":""},{"$f":"IF(B201=\"\",\"\",IF(C201=\"p\",B201,\"\"))","v":""},{"$f":"IF(B201=\"\",\"\",IF(C201=\"p\",IF(A201>A200,A201,(A201)*2),\"\"))","v":""},"",null,null,null,null,"","","","",null,null,null,null,null,19.7,1.97]
[null,null,"p",0,"","","","",null,null,null,null,"","","","",null,null,null,null,null,19.8,1.98]
[null,null,"r",0,"","","","",null,null,null,null,"","","","",null,null,null,null,null,19.899999999999999,1.99]
[null,null,"p",0,"","","","",null,null,null,null,"","","","",null,null,null,null,null,20,2]
[null,null,"r",0,"","","","",null,null,null,null,"","","","",null,null,null,null,null,20.100000000000001,2.0099999999999998]
[null,null,"p",0,"","","","",null,null,null,null,"","","","",null,null,null,null,null,20.2,2.02]
[null,null,"r",0,"","","","",null,null,null,null,"","","","",null,null,null,null,null,20.3,2.0299999999999998]
[null,null,"p",0,"","","","",null,null,null,null,"","","","",null,null,null,null,null,20.399999999999999,2.04]
[null,null,"r",0,"","","","",null,null,null,null,"","","","",null,null,null,null,null,20.5,2.0499999999999998]
[null,null,"p",0,"","","","",null,null,null,null,"","","","",null,null,null,null,null,20.6,2.06]
[null,null,"r",0,"","","","",null,null,null,null,"","","","",null,null,null,null,null,20.7,2.0699999999999998]
[null,null,"p",0,"","","","",null,null,null,null,"","","","",null,null,null,null,null,20.8,2.08]
[null,null,"r",0,"","","","",null,null,null,null,"","","","",null,null,null,null,null,20.9,2.09]
[null,null,"p",0,"","","","",null,null,null,null,"","","","",null,null,null,null,null,21,2.1]
[null,null,"r",0,"","","","",null,null,null,null,"","","","",null,null,null,null,null,21.1,2.11]
[null,null,"p",0,"","","","",null,null,null,null,"","","","",null,null,null,null,null,21.2,2.12]
[null,null,"r",0,"","","","",null,null,null,null,"","","","",null,null,null,null,null,21.3,2.13]
[null,null,"p",0,"","","","",null,null,null,null,"","","","",null,null,null,null,null,21.4,2.14]
[null,null,"r",0,"","","","",null,null,null,null,"","","","",null,null,null,null,null,21.5,2.15]
[null,null,"p",0,"","","","",null,null,null,null,"","","","",null,null,null,null,null,21.6,2.16]
[null,null,"r",0,"","","","",null,null,null,null,"","","","",null,null,null,null,null,21.7,2.17]
[null,null,"p",0,"","","","",null,null,null,null,"","","","",null,null,null,null,null,21.8,2.1800000000000002]
[null,null,"r",0,"","","","",null,null,null,null,"","","","",null,null,null,null,null,21.9,2.19]
[null,null,"p",0,"","","","",null,null,null,null,"","","","",null,null,null,null,null,22,2.2000000000000002]
[null,null,"r",0,"","","","",null,null,null,null,"","","","",null,null,null,null,null,22.1,2.21]
[null,null,"p",0,"","","","",null,null,null,null,"","","","",null,null,null,null,null,22.2,2.2200000000000002]
[null,null,"r",0,"","","","",null,null,null,null,"","","","",null,null,null,null,null,22.3,2.23]
[null,null,"p",0,"","","","",null,null,null,null,"","","","",null,null,null,null,null,22.4,2.2400000000000002]
[null,null,"r",0,"","","","",null,null,null,null,"","","","",null,null,null,null,null,22.5,2.25]
[null,null,"p",0,"","","","",null,null,null,null,"","","","",null,null,null,null,null,22.6,2.2599999999999998]
[null,null,"r",0,"","","","",null,null,null,null,"","","","",null,null,null,null,null,22.7,2.27]
[null,null,"p",0,"","","","",null,null,null,null,"","","","",null,null,null,null,null,22.8,2.2799999999999998]
[null,null,"r",0,"","","","",null,null,null,null,"","","","",null,null,null,null,null,22.9,2.29]
[null,null,"p",0,"","","","",null,null,null,null,"","","","",null,null,null,null,null,23,2.2999999999999998]
[null,null,"r",0,"","","","",null,null,null,null,"","","","",null,null,null,null,null,23.1,2.31]
[null,null,"p",0,"","","","",null,null,null,null,"","","","",null,null,null,null,null,23.2,2.3199999999999998]
[null,null,"r",0,"","","","",null,null,null,null,"","","","",null,null,null,null,null,23.3,2.33]
[null,null,"p",0,"","","","",null,null,null,null,"","","","",null,null,null,null,null,23.4,2.34]
[null,null,"r",0,"","","","",null,null,null,null,"","","","",null,null,null,null,null,23.5,2.35]
[null,null,"p",0,"","","","",null,null,null,null,"","","","",null,null,null,null,null,23.6,2.36]
[null,null,"r",0,"","","","",null,null,null,null,"","","","",null,null,null,null,null,23.7,2.37]
[null,null,"p",0,"","","","",null,null,null,null,"","","","",null,null,null,null,null,23.8,2.38]
[null,null,"r",0,"","","","",null,null,null,null,"","","","",null,null,null,null,null,23.9,2.39]
[null,null,"p",0,"","","","",null,null,null,null,"","","","",null,null,null,null,null,24,2.4]
[null,null,"r",0,"","","","",null,null,null,null,"","","","",null,null,null,null,null,24.1,2.41]
[null,null,"p",0,"","","","",null,null,null,null,"","","","",null,null,null,null,null,24.2,2.42]
[null,null,"r",0,"","","","",null,null,null,null,"","","","",null,null,null,null,null,24.3,2.4300000000000002]
[null,null,"p",0,"","","","",null,null,null,null,"","","","",null,null,null,null,null,24.4,2.44]
[null,null,"r",0,"","","","",null,null,null,null,"","","","",null,null,null,null,null,24.5,2.4500000000000002]
[null,null,"p",0,"","","","",null,null,null,null,"","","","",null,null,null,null,null,24.6,2.46]
[null,null,"r",0,"","","","",null,null,null,null,"","","","",null,null,null,null,null,24.7,2.4700000000000002]
[null,null,"p",0,"","","","",null,null,null,null,"","","","",null,null,null,null,null,24.8,2.48]
[null,null,"r",0,"","","","",null,null,null,null,"","","","",null,null,null,null,null,24.9,2.4900000000000002]
[null,null,"p",0,"","","","",null,null,null,null,"","","","",null,null,null,null,null,25,2.5]
[null,null,"r",0,"","","","",null,null,null,null,"","","","",null,null,null,null,null,25.1,2.5099999999999998]
[null,null,"p",0,"","","","",null,null,null,null,"","","","",null,null,null,null,null,25.2,2.52]
[null,null,"r",0,"","","","",null,null,null,null,"","","","",null,null,null,null,null,25.3,2.5299999999999998]
[null,null,"p",0,"","","","",null,null,null,null,"","","","",null,null,null,null,null,25.4,2.54]
[null,null,"r",0,"","","","",null,null,null,null,"","","","",null,null,null,null,null,25.5,2.5499999999999998]
[null,null,"p",0,"","","","",null,null,null,null,"","","","",null,null,null,null,null,25.6,2.56]
[null,null,"r",0,"","","","",null,null,null,null,"","","","",null,null,null,null,null,25.7,2.57]
[null,null,"p",{"$f":"A262+D261","v":0},"","","","",null,null,null,null,{"$f":"IF(B263-B262<0.06,\"\",IF($B262=\"\",\"\",IF($C262=\"r\",$B262,\"\")))","v":""},"","","",null,null,null,null,null,25.8,2.58]
[null,null,"r",0,"","","",{"$f":"IF($B264=\"\",\"\",IF($C263=\"p\",($A264)-0.5*$A263,\"\"))","v":""},null,null,null,null,"",{"$f":"IF(B263-B262<0.06,\"\",IF($B263=\"\",\"\",IF($C263=\"p\",$B263,\"\")))","v":""},{"$f":"IF(B263-B262<0.06,\"\",IF($B263=\"\",\"\",IF($C263=\"p\",($A263)*2,\"\")))","v":""},{"$f":"IF(B263-B262<0.06,\"\",IF($B264=\"\",\"\",IF($C263=\"p\",($A264)-0.5*$A263,\"\")))","v":""},null,null,null,null,null,25.9,2.59]
[null,null,"p",0,"","","","",null,null,null,null,"","","","",null,null,null,null,null,26,2.6]
[null,null,"r",0,{"$f":"IF(B265=\"\",\"\",IF(C265=\"r\",B265,\"\"))","v":""},{"$f":"IF(B265=\"\",\"\",IF(C265=\"p\",B265,\"\"))","v":""},{"$f":"IF(B265=\"\",\"\",IF(C265=\"p\",IF(A265>A264,A265,(A265)*2),\"\"))","v":""},"",null,null,null,null,"","","","",null,null,null,null,null,26.1,2.61]
[null,null,"p",0,"","","","",null,null,null,null,"","","","",null,null,null,null,null,26.2,2.62]
[null,null,"r",0,"","","","",null,null,null,null,"","","","",null,null,null,null,null,26.3,2.63]
[null,null,"p",0,"","","","",null,null,null,null,"","","","",null,null,null,null,null,26.4,2.64]
[null,null,"r",0,"","","","",null,null,null,null,"","","","",null,null,null,null,null,26.5,2.65]
[null,null,"p",0,"","","","",null,null,null,null,"","","","",null,null,null,null,null,26.6,2.66]
[null,null,"r",0,"","","","",null,null,null,null,"","","","",null,null,null,null,null,26.7,2.67]
[null,null,"p",0,"","","","",null,null,null,null,"","","","",null,null,null,null,null,26.8,2.68]
[null,null,"r",0,"","","","",null,null,null,null,"","","","",null,null,null,null,null,26.9,2.69]
[null,null,"p",0,"","","","",null,null,null,null,"","","","",null,null,null,null,null,27,2.7]
[null,null,"r",0,"","","","",null,null,null,null,"","","","",null,null,null,null,null,27.1,2.71]
[null,null,"p",0,"","","","",null,null,null,null,"","","","",null,null,null,null,null,27.2,2.72]
[null,null,"r",0,"","","","",null,null,null,null,"","","","",null,null,null,null,null,27.3,2.73]
[null,null,"p",0,"","","","",null,null,null,null,"","","","",null,null,null,null,null,27.4,2.74]
[null,null,"r",0,"","","","",null,null,null,null,"","","","",null,null,null,null,null,27.5,2.75]
[null,null,"p",0,"","","","",null,null,null,null,"","","","",null,null,null,null,null,27.6,2.76]
[null,null,"r",null,null,null,null,null,null,null,null,null,null,null,null,null,null,null,null,null,null,27.7,2.77]
[null,null,"p",null,null,null,null,null,null,null,null,null,null,null,null,null,null,null,null,null,null,27.8,2.78]
[null,null,null,null,null,null,null,null,null,null,null,null,null,null,null,null,null,null,null,null,null,27.9,2.79]
[null,null,null,null,null,null,null,null,null,null,null,null,null,null,null,null,null,null,null,null,null,28,2.8]
[null,null,null,null,null,null,null,null,null,null,null,null,null,null,null,null,null,null,null,null,null,28.1,2.81]
[null,null,null,null,null,null,null,null,null,null,null,null,null,null,null,null,null,null,null,null,null,28.2,2.82]
[null,null,null,null,null,null,null,null,null,null,null,null,null,null,null,null,null,null,null,null,null,28.3,2.83]
[null,null,null,null,null,null,null,null,null,null,null,null,null,null,null,null,null,null,null,null,null,28.4,2.84]
[null,null,null,null,null,null,null,null,null,null,null,null,null,null,null,null,null,null,null,null,null,28.5,2.85]
[null,null,null,null,null,null,null,null,null,null,null,null,null,null,null,null,null,null,null,null,null,28.6,2.86]
[null,null,null,null,null,null,null,null,null,null,null,null,null,null,null,null,null,null,null,null,null,28.7,2.87]
[null,null,null,null,null,null,null,null,null,null,null,null,null,null,null,null,null,null,null,null,null,28.8,2.88]
[null,null,null,null,null,null,null,null,null,null,null,null,null,null,null,null,null,null,null,null,null,28.9,2.89]
[null,null,null,null,null,null,null,null,null,null,null,null,null,null,null,null,null,null,null,null,null,29,2.9]
[null,null,null,null,null,null,null,null,null,null,null,null,null,null,null,null,null,null,null,null,null,29.1,2.91]
[null,null,null,null,null,null,null,null,null,null,null,null,null,null,null,null,null,null,null,null,null,29.2,2.92]
[null,null,null,null,null,null,null,null,null,null,null,null,null,null,null,null,null,null,null,null,null,29.3,2.93]
[null,null,null,null,null,null,null,null,null,null,null,null,null,null,null,null,null,null,null,null,null,29.4,2.94]
[null,null,null,null,null,null,null,null,null,null,null,null,null,null,null,null,null,null,null,null,null,29.5,2.95]
[null,null,null,null,null,null,null,null,null,null,null,null,null,null,null,null,null,null,null,null,null,29.6,2.96]
[null,null,null,null,null,null,null,null,null,null,null,null,null,null,null,null,null,null,null,null,null,29.7,2.97]
[null,null,null,null,null,null,null,null,null,null,null,null,null,null,null,null,null,null,null,null,null,29.8,2.98]
[null,null,null,null,null,null,null,null,null,null,null,null,null,null,null,null,null,null,null,null,null,29.9,2.99]
[null,null,null,null,null,null,null,null,null,null,null,null,null,null,null,null,null,null,null,null,null,30,3]
[null,null,null,null,null,null,null,null,null,null,null,null,null,null,null,null,null,null,null,null,null,30.1,3.01]
[null,null,null,null,null,null,null,null,null,null,null,null,null,null,null,null,null,null,null,null,null,30.2,3.02]
[null,null,null,null,null,null,null,null,null,null,null,null,null,null,null,null,null,null,null,null,null,30.3,3.03]
[null,null,null,null,null,null,null,null,null,null,null,null,null,null,null,null,null,null,null,null,null,30.4,3.04]
[null,null,null,null,null,null,null,null,null,null,null,null,null,null,null,null,null,null,null,null,null,30.5,3.05]
[null,null,null,null,null,null,null,null,null,null,null,null,null,null,null,null,null,null,null,null,null,30.6,3.06]
[null,null,null,null,null,null,null,null,null,null,null,null,null,null,null,null,null,null,null,null,null,30.7,3.07]
[null,null,null,null,null,null,null,null,null,null,null,null,null,null,null,null,null,null,null,null,null,30.8,3.08]
[null,null,null,null,null,null,null,null,null,null,null,null,null,null,null,null,null,null,null,null,null,30.9,3.09]
[null,null,null,null,null,null,null,null,null,null,null,null,null,null,null,null,null,null,null,null,null,31,3.1]
[null,null,null,null,null,null,null,null,null,null,null,null,null,null,null,null,null,null,null,null,null,31.1,3.11]
[null,null,null,null,null,null,null,null,null,null,null,null,null,null,null,null,null,null,null,null,null,31.2,3.12]
[null,null,null,null,null,null,null,null,null,null,null,null,null,null,null,null,null,null,null,null,null,31.3,3.13]
[null,null,null,null,null,null,null,null,null,null,null,null,null,null,null,null,null,null,null,null,null,31.4,3.14]
[null,null,null,null,null,null,null,null,null,null,null,null,null,null,null,null,null,null,null,null,null,31.5,3.15]
[null,null,null,null,null,null,null,null,null,null,null,null,null,null,null,null,null,null,null,null,null,31.6,3.16]
[null,null,null,null,null,null,null,null,null,null,null,null,null,null,null,null,null,null,null,null,null,31.7,3.17]
[null,null,null,null,null,null,null,null,null,null,null,null,null,null,null,null,null,null,null,null,null,31.8,3.18]
[null,null,null,null,null,null,null,null,null,null,null,null,null,null,null,null,null,null,null,null,null,31.9,3.19]
[null,null,null,null,null,null,null,null,null,null,null,null,null,null,null,null,null,null,null,null,null,32,3.2]
[null,null,null,null,null,null,null,null,null,null,null,null,null,null,null,null,null,null,null,null,null,32.1,3.21]
[null,null,null,null,null,null,null,null,null,null,null,null,null,null,null,null,null,null,null,null,null,32.200000000000003,3.22]
[null,null,null,null,null,null,null,null,null,null,null,null,null,null,null,null,null,null,null,null,null,32.299999999999997,3.23]
[null,null,null,null,null,null,null,null,null,null,null,null,null,null,null,null,null,null,null,null,null,32.399999999999899,3.24]
[null,null,null,null,null,null,null,null,null,null,null,null,null,null,null,null,null,null,null,null,null,32.5,3.25]
[null,null,null,null,null,null,null,null,null,null,null,null,null,null,null,null,null,null,null,null,null,32.6,3.26]
[null,null,null,null,null,null,null,null,null,null,null,null,null,null,null,null,null,null,null,null,null,32.699999999999903,3.27]
[null,null,null,null,null,null,null,null,null,null,null,null,null,null,null,null,null,null,null,null,null,32.799999999999898,3.28]
[null,null,null,null,null,null,null,null,null,null,null,null,null,null,null,null,null,null,null,null,null,32.899999999999899,3.29]
[null,null,null,null,null,null,null,null,null,null,null,null,null,null,null,null,null,null,null,null,null,32.999999999999901,3.3]
[null,null,null,null,null,null,null,null,null,null,null,null,null,null,null,null,null,null,null,null,null,33.099999999999902,3.31]
[null,null,null,null,null,null,null,null,null,null,null,null,null,null,null,null,null,null,null,null,null,33.199999999999903,3.32]
[null,null,null,null,null,null,null,null,null,null,null,null,null,null,null,null,null,null,null,null,null,33.299999999999898,3.33]
[null,null,null,null,null,null,null,null,null,null,null,null,null,null,null,null,null,null,null,null,null,33.399999999999899,3.34]
[null,null,null,null,null,null,null,null,null,null,null,null,null,null,null,null,null,null,null,null,null,33.499999999999901,3.35]
[null,null,null,null,null,null,null,null,null,null,null,null,null,null,null,null,null,null,null,null,null,33.599999999999902,3.36]
[null,null,null,null,null,null,null,null,null,null,null,null,null,null,null,null,null,null,null,null,null,33.699999999999903,3.37]
[null,null,null,null,null,null,null,null,null,null,null,null,null,null,null,null,null,null,null,null,null,33.799999999999898,3.38]
[null,null,null,null,null,null,null,null,null,null,null,null,null,null,null,null,null,null,null,null,null,33.899999999999899,3.39]
[null,null,null,null,null,null,null,null,null,null,null,null,null,null,null,null,null,null,null,null,null,33.999999999999901,3.4]
[null,null,null,null,null,null,null,null,null,null,null,null,null,null,null,null,null,null,null,null,null,34.099999999999902,3.41]
[null,null,null,null,null,null,null,null,null,null,null,null,null,null,null,null,null,null,null,null,null,34.199999999999903,3.42]
[null,null,null,null,null,null,null,null,null,null,null,null,null,null,null,null,null,null,null,null,null,34.299999999999898,3.43]
[null,null,null,null,null,null,null,null,null,null,null,null,null,null,null,null,null,null,null,null,null,34.399999999999899,3.44]
[null,null,null,null,null,null,null,null,null,null,null,null,null,null,null,null,null,null,null,null,null,34.499999999999901,3.45]
[null,null,null,null,null,null,null,null,null,null,null,null,null,null,null,null,null,null,null,null,null,34.599999999999902,3.46]
[null,null,null,null,null,null,null,null,null,null,null,null,null,null,null,null,null,null,null,null,null,34.699999999999903,3.47]
[null,null,null,null,null,null,null,null,null,null,null,null,null,null,null,null,null,null,null,null,null,34.799999999999898,3.48]
[null,null,null,null,null,null,null,null,null,null,null,null,null,null,null,null,null,null,null,null,null,34.899999999999899,3.49]
[null,null,null,null,null,null,null,null,null,null,null,null,null,null,null,null,null,null,null,null,null,34.999999999999901,3.5]
[null,null,null,null,null,null,null,null,null,null,null,null,null,null,null,null,null,null,null,null,null,35.099999999999902,3.51]
[null,null,null,null,null,null,null,null,null,null,null,null,null,null,null,null,null,null,null,null,null,35.199999999999903,3.52]
[null,null,null,null,null,null,null,null,null,null,null,null,null,null,null,null,null,null,null,null,null,35.299999999999898,3.53]
[null,null,null,null,null,null,null,null,null,null,null,null,null,null,null,null,null,null,null,null,null,35.399999999999899,3.54]
[null,null,null,null,null,null,null,null,null,null,null,null,null,null,null,null,null,null,null,null,null,35.499999999999901,3.55]
[null,null,null,null,null,null,null,null,null,null,null,null,null,null,null,null,null,null,null,null,null,35.599999999999902,3.56]
[null,null,null,null,null,null,null,null,null,null,null,null,null,null,null,null,null,null,null,null,null,35.699999999999903,3.57]
[null,null,null,null,null,null,null,null,null,null,null,null,null,null,null,null,null,null,null,null,null,35.799999999999898,3.58]
[null,null,null,null,null,null,null,null,null,null,null,null,null,null,null,null,null,null,null,null,null,35.899999999999899,3.59]
[null,null,null,null,null,null,null,null,null,null,null,null,null,null,null,null,null,null,null,null,null,35.999999999999901,3.6]
[null,null,null,null,null,null,null,null,null,null,null,null,null,null,null,null,null,null,null,null,null,36.099999999999902,3.61]
[null,null,null,null,null,null,null,null,null,null,null,null,null,null,null,null,null,null,null,null,null,36.199999999999903,3.62]
[null,null,null,null,null,null,null,null,null,null,null,null,null,null,null,null,null,null,null,null,null,36.299999999999898,3.63]
[null,null,null,null,null,null,null,null,null,null,null,null,null,null,null,null,null,null,null,null,null,36.399999999999899,3.64]
[null,null,null,null,null,null,null,null,null,null,null,null,null,null,null,null,null,null,null,null,null,36.499999999999901,3.65]
[null,null,null,null,null,null,null,null,null,null,null,null,null,null,null,null,null,null,null,null,null,36.599999999999902,3.66]
[null,null,null,null,null,null,null,null,null,null,null,null,null,null,null,null,null,null,null,null,null,36.699999999999903,3.67]
[null,null,null,null,null,null,null,null,null,null,null,null,null,null,null,null,null,null,null,null,null,36.799999999999898,3.68]
[null,null,null,null,null,null,null,null,null,null,null,null,null,null,null,null,null,null,null,null,null,36.899999999999899,3.69]
[null,null,null,null,null,null,null,null,null,null,null,null,null,null,null,null,null,null,null,null,null,36.999999999999901,3.7]
[null,null,null,null,null,null,null,null,null,null,null,null,null,null,null,null,null,null,null,null,null,37.099999999999902,3.71]
[null,null,null,null,null,null,null,null,null,null,null,null,null,null,null,null,null,null,null,null,null,37.199999999999903,3.72]
[null,null,null,null,null,null,null,null,null,null,null,null,null,null,null,null,null,null,null,null,null,37.299999999999898,3.73]
[null,null,null,null,null,null,null,null,null,null,null,null,null,null,null,null,null,null,null,null,null,37.3999999999998,3.74]
[null,null,null,null,null,null,null,null,null,null,null,null,null,null,null,null,null,null,null,null,null,37.499999999999801,3.75]
[null,null,null,null,null,null,null,null,null,null,null,null,null,null,null,null,null,null,null,null,null,37.599999999999802,3.76]
[null,null,null,null,null,null,null,null,null,null,null,null,null,null,null,null,null,null,null,null,null,37.699999999999797,3.77]
[null,null,null,null,null,null,null,null,null,null,null,null,null,null,null,null,null,null,null,null,null,37.799999999999798,3.78]
[null,null,null,null,null,null,null,null,null,null,null,null,null,null,null,null,null,null,null,null,null,37.8999999999998,3.79]
[null,null,null,null,null,null,null,null,null,null,null,null,null,null,null,null,null,null,null,null,null,37.999999999999801,3.8]
[null,null,null,null,null,null,null,null,null,null,null,null,null,null,null,null,null,null,null,null,null,38.099999999999802,3.81]
[null,null,null,null,null,null,null,null,null,null,null,null,null,null,null,null,null,null,null,null,null,38.199999999999797,3.82]
[null,null,null,null,null,null,null,null,null,null,null,null,null,null,null,null,null,null,null,null,null,38.299999999999798,3.83]
[null,null,null,null,null,null,null,null,null,null,null,null,null,null,null,null,null,null,null,null,null,38.3999999999998,3.84]
[null,null,null,null,null,null,null,null,null,null,null,null,null,null,null,null,null,null,null,null,null,38.499999999999801,3.85]
[null,null,null,null,null,null,null,null,null,null,null,null,null,null,null,null,null,null,null,null,null,38.599999999999802,3.86]
[null,null,null,null,null,null,null,null,null,null,null,null,null,null,null,null,null,null,null,null,null,38.699999999999797,3.87]
[null,null,null,null,null,null,null,null,null,null,null,null,null,null,null,null,null,null,null,null,null,38.799999999999798,3.88]
[null,null,null,null,null,null,null,null,null,null,null,null,null,null,null,null,null,null,null,null,null,38.8999999999998,3.89]
[null,null,null,null,null,null,null,null,null,null,null,null,null,null,null,null,null,null,null,null,null,38.999999999999801,3.9]
[null,null,null,null,null,null,null,null,null,null,null,null,null,null,null,null,null,null,null,null,null,39.099999999999802,3.91]
[null,null,null,null,null,null,null,null,null,null,null,null,null,null,null,null,null,null,null,null,null,39.199999999999797,3.92]
[null,null,null,null,null,null,null,null,null,null,null,null,null,null,null,null,null,null,null,null,null,39.299999999999798,3.93]
[null,null,null,null,null,null,null,null,null,null,null,null,null,null,null,null,null,null,null,null,null,39.3999999999998,3.94]
[null,null,null,null,null,null,null,null,null,null,null,null,null,null,null,null,null,null,null,null,null,39.499999999999801,3.95]
[null,null,null,null,null,null,null,null,null,null,null,null,null,null,null,null,null,null,null,null,null,39.599999999999802,3.96]
[null,null,null,null,null,null,null,null,null,null,null,null,null,null,null,null,null,null,null,null,null,39.699999999999797,3.97]
[null,null,null,null,null,null,null,null,null,null,null,null,null,null,null,null,null,null,null,null,null,39.799999999999798,3.98]
[null,null,null,null,null,null,null,null,null,null,null,null,null,null,null,null,null,null,null,null,null,39.8999999999998,3.99]
[null,null,null,null,null,null,null,null,null,null,null,null,null,null,null,null,null,null,null,null,null,39.999999999999801,4]
[null,null,null,null,null,null,null,null,null,null,null,null,null,null,null,null,null,null,null,null,null,40.099999999999802,4.01]
[null,null,null,null,null,null,null,null,null,null,null,null,null,null,null,null,null,null,null,null,null,40.199999999999797,4.0199999999999996]
[null,null,null,null,null,null,null,null,null,null,null,null,null,null,null,null,null,null,null,null,null,40.299999999999798,4.03]
[null,null,null,null,null,null,null,null,null,null,null,null,null,null,null,null,null,null,null,null,null,40.3999999999998,4.04]
[null,null,null,null,null,null,null,null,null,null,null,null,null,null,null,null,null,null,null,null,null,40.499999999999801,4.05]
[null,null,null,null,null,null,null,null,null,null,null,null,null,null,null,null,null,null,null,null,null,40.599999999999802,4.0599999999999996]
[null,null,null,null,null,null,null,null,null,null,null,null,null,null,null,null,null,null,null,null,null,40.699999999999797,4.07]
[null,null,null,null,null,null,null,null,null,null,null,null,null,null,null,null,null,null,null,null,null,40.799999999999798,4.08]
[null,null,null,null,null,null,null,null,null,null,null,null,null,null,null,null,null,null,null,null,null,40.8999999999998,4.09]
[null,null,null,null,null,null,null,null,null,null,null,null,null,null,null,null,null,null,null,null,null,40.999999999999801,4.0999999999999996]
[null,null,null,null,null,null,null,null,null,null,null,null,null,null,null,null,null,null,null,null,null,41.099999999999802,4.1100000000000003]
[null,null,null,null,null,null,null,null,null,null,null,null,null,null,null,null,null,null,null,null,null,41.199999999999797,4.12]
[null,null,null,null,null,null,null,null,null,null,null,null,null,null,null,null,null,null,null,null,null,41.299999999999798,4.13]
[null,null,null,null,null,null,null,null,null,null,null,null,null,null,null,null,null,null,null,null,null,41.3999999999998,4.1399999999999997]
[null,null,null,null,null,null,null,null,null,null,null,null,null,null,null,null,null,null,null,null,null,41.499999999999801,4.1500000000000004]
[null,null,null,null,null,null,null,null,null,null,null,null,null,null,null,null,null,null,null,null,null,41.599999999999802,4.16]
[null,null,null,null,null,null,null,null,null,null,null,null,null,null,null,null,null,null,null,null,null,41.699999999999797,4.17]
[null,null,null,null,null,null,null,null,null,null,null,null,null,null,null,null,null,null,null,null,null,41.799999999999798,4.18]
[null,null,null,null,null,null,null,null,null,null,null,null,null,null,null,null,null,null,null,null,null,41.8999999999997,4.1900000000000004]
[null,null,null,null,null,null,null,null,null,null,null,null,null,null,null,null,null,null,null,null,null,41.999999999999702,4.2]
[null,null,null,null,null,null,null,null,null,null,null,null,null,null,null,null,null,null,null,null,null,42.099999999999703,4.21]
[null,null,null,null,null,null,null,null,null,null,null,null,null,null,null,null,null,null,null,null,null,42.199999999999697,4.22]
[null,null,null,null,null,null,null,null,null,null,null,null,null,null,null,null,null,null,null,null,null,42.299999999999699,4.2300000000000004]
[null,null,null,null,null,null,null,null,null,null,null,null,null,null,null,null,null,null,null,null,null,42.3999999999997,4.24]
[null,null,null,null,null,null,null,null,null,null,null,null,null,null,null,null,null,null,null,null,null,42.499999999999702,4.25]
[null,null,null,null,null,null,null,null,null,null,null,null,null,null,null,null,null,null,null,null,null,42.599999999999703,4.26]
[null,null,null,null,null,null,null,null,null,null,null,null,null,null,null,null,null,null,null,null,null,42.699999999999697,4.2699999999999996]
[null,null,null,null,null,null,null,null,null,null,null,null,null,null,null,null,null,null,null,null,null,42.799999999999699,4.28]
[null,null,null,null,null,null,null,null,null,null,null,null,null,null,null,null,null,null,null,null,null,42.8999999999997,4.29]
[null,null,null,null,null,null,null,null,null,null,null,null,null,null,null,null,null,null,null,null,null,42.999999999999702,4.3]
[null,null,null,null,null,null,null,null,null,null,null,null,null,null,null,null,null,null,null,null,null,43.099999999999703,4.3099999999999996]
[null,null,null,null,null,null,null,null,null,null,null,null,null,null,null,null,null,null,null,null,null,43.199999999999697,4.32]
[null,null,null,null,null,null,null,null,null,null,null,null,null,null,null,null,null,null,null,null,null,43.299999999999699,4.33]
[null,null,null,null,null,null,null,null,null,null,null,null,null,null,null,null,null,null,null,null,null,43.3999999999997,4.34]
[null,null,null,null,null,null,null,null,null,null,null,null,null,null,null,null,null,null,null,null,null,43.499999999999702,4.3499999999999996]
[null,null,null,null,null,null,null,null,null,null,null,null,null,null,null,null,null,null,null,null,null,43.599999999999703,4.3600000000000003]
[null,null,null,null,null,null,null,null,null,null,null,null,null,null,null,null,null,null,null,null,null,43.699999999999697,4.37]
[null,null,null,null,null,null,null,null,null,null,null,null,null,null,null,null,null,null,null,null,null,43.799999999999699,4.38]
[null,null,null,null,null,null,null,null,null,null,null,null,null,null,null,null,null,null,null,null,null,43.8999999999997,4.3899999999999997]
[null,null,null,null,null,null,null,null,null,null,null,null,null,null,null,null,null,null,null,null,null,43.999999999999702,4.4000000000000004]
[null,null,null,null,null,null,null,null,null,null,null,null,null,null,null,null,null,null,null,null,null,44.099999999999703,4.41]
[null,null,null,null,null,null,null,null,null,null,null,null,null,null,null,null,null,null,null,null,null,44.199999999999697,4.42]
[null,null,null,null,null,null,null,null,null,null,null,null,null,null,null,null,null,null,null,null,null,44.299999999999699,4.43]
[null,null,null,null,null,null,null,null,null,null,null,null,null,null,null,null,null,null,null,null,null,44.3999999999997,4.4400000000000004]
[null,null,null,null,null,null,null,null,null,null,null,null,null,null,null,null,null,null,null,null,null,44.499999999999702,4.45]
[null,null,null,null,null,null,null,null,null,null,null,null,null,null,null,null,null,null,null,null,null,44.599999999999703,4.46]
[null,null,null,null,null,null,null,null,null,null,null,null,null,null,null,null,null,null,null,null,null,44.699999999999697,4.47]
[null,null,null,null,null,null,null,null,null,null,null,null,null,null,null,null,null,null,null,null,null,44.799999999999699,4.4800000000000004]
[null,null,null,null,null,null,null,null,null,null,null,null,null,null,null,null,null,null,null,null,null,44.8999999999997,4.49]
[null,null,null,null,null,null,null,null,null,null,null,null,null,null,null,null,null,null,null,null,null,44.999999999999702,4.5]
[null,null,null,null,null,null,null,null,null,null,null,null,null,null,null,null,null,null,null,null,null,45.099999999999703,4.51]
[null,null,null,null,null,null,null,null,null,null,null,null,null,null,null,null,null,null,null,null,null,45.199999999999697,4.5199999999999996]
[null,null,null,null,null,null,null,null,null,null,null,null,null,null,null,null,null,null,null,null,null,45.299999999999699,4.53]
[null,null,null,null,null,null,null,null,null,null,null,null,null,null,null,null,null,null,null,null,null,45.3999999999997,4.54]
[null,null,null,null,null,null,null,null,null,null,null,null,null,null,null,null,null,null,null,null,null,45.499999999999702,4.55]
[null,null,null,null,null,null,null,null,null,null,null,null,null,null,null,null,null,null,null,null,null,45.599999999999703,4.5599999999999996]
[null,null,null,null,null,null,null,null,null,null,null,null,null,null,null,null,null,null,null,null,null,45.699999999999697,4.57]
[null,null,null,null,null,null,null,null,null,null,null,null,null,null,null,null,null,null,null,null,null,45.799999999999699,4.58]
[null,null,null,null,null,null,null,null,null,null,null,null,null,null,null,null,null,null,null,null,null,45.8999999999997,4.59]
[null,null,null,null,null,null,null,null,null,null,null,null,null,null,null,null,null,null,null,null,null,45.999999999999702,4.5999999999999996]
[null,null,null,null,null,null,null,null,null,null,null,null,null,null,null,null,null,null,null,null,null,46.099999999999703,4.6100000000000003]
[null,null,null,null,null,null,null,null,null,null,null,null,null,null,null,null,null,null,null,null,null,46.199999999999697,4.62]
[null,null,null,null,null,null,null,null,null,null,null,null,null,null,null,null,null,null,null,null,null,46.299999999999699,4.63]
[null,null,null,null,null,null,null,null,null,null,null,null,null,null,null,null,null,null,null,null,null,46.3999999999997,4.6399999999999997]
[null,null,null,null,null,null,null,null,null,null,null,null,null,null,null,null,null,null,null,null,null,46.499999999999702,4.6500000000000004]
[null,null,null,null,null,null,null,null,null,null,null,null,null,null,null,null,null,null,null,null,null,46.599999999999604,4.66]
[null,null,null,null,null,null,null,null,null,null,null,null,null,null,null,null,null,null,null,null,null,46.699999999999598,4.67]
[null,null,null,null,null,null,null,null,null,null,null,null,null,null,null,null,null,null,null,null,null,46.799999999999599,4.68]
[null,null,null,null,null,null,null,null,null,null,null,null,null,null,null,null,null,null,null,null,null,46.899999999999601,4.6900000000000004]
[null,null,null,null,null,null,null,null,null,null,null,null,null,null,null,null,null,null,null,null,null,46.999999999999602,4.7]
[null,null,null,null,null,null,null,null,null,null,null,null,null,null,null,null,null,null,null,null,null,47.099999999999604,4.71]
[null,null,null,null,null,null,null,null,null,null,null,null,null,null,null,null,null,null,null,null,null,47.199999999999598,4.72]
[null,null,null,null,null,null,null,null,null,null,null,null,null,null,null,null,null,null,null,null,null,47.299999999999599,4.7300000000000004]
[null,null,null,null,null,null,null,null,null,null,null,null,null,null,null,null,null,null,null,null,null,47.399999999999601,4.74]
[null,null,null,null,null,null,null,null,null,null,null,null,null,null,null,null,null,null,null,null,null,47.499999999999602,4.75]
[null,null,null,null,null,null,null,null,null,null,null,null,null,null,null,null,null,null,null,null,null,47.599999999999604,4.76]
[null,null,null,null,null,null,null,null,null,null,null,null,null,null,null,null,null,null,null,null,null,47.699999999999598,4.7699999999999996]
[null,null,null,null,null,null,null,null,null,null,null,null,null,null,null,null,null,null,null,null,null,47.799999999999599,4.78]
[null,null,null,null,null,null,null,null,null,null,null,null,null,null,null,null,null,null,null,null,null,47.899999999999601,4.79]
[null,null,null,null,null,null,null,null,null,null,null,null,null,null,null,null,null,null,null,null,null,47.999999999999602,4.8]
[null,null,null,null,null,null,null,null,null,null,null,null,null,null,null,null,null,null,null,null,null,48.099999999999604,4.8099999999999996]
[null,null,null,null,null,null,null,null,null,null,null,null,null,null,null,null,null,null,null,null,null,48.199999999999598,4.82]
[null,null,null,null,null,null,null,null,null,null,null,null,null,null,null,null,null,null,null,null,null,48.299999999999599,4.83]
[null,null,null,null,null,null,null,null,null,null,null,null,null,null,null,null,null,null,null,null,null,48.399999999999601,4.84]
[null,null,null,null,null,null,null,null,null,null,null,null,null,null,null,null,null,null,null,null,null,48.499999999999602,4.8499999999999996]
[null,null,null,null,null,null,null,null,null,null,null,null,null,null,null,null,null,null,null,null,null,48.599999999999604,4.8600000000000003]
[null,null,null,null,null,null,null,null,null,null,null,null,null,null,null,null,null,null,null,null,null,48.699999999999598,4.87]
[null,null,null,null,null,null,null,null,null,null,null,null,null,null,null,null,null,null,null,null,null,48.799999999999599,4.88]
[null,null,null,null,null,null,null,null,null,null,null,null,null,null,null,null,null,null,null,null,null,48.899999999999601,4.8899999999999997]
[null,null,null,null,null,null,null,null,null,null,null,null,null,null,null,null,null,null,null,null,null,48.999999999999602,4.9000000000000004]
[null,null,null,null,null,null,null,null,null,null,null,null,null,null,null,null,null,null,null,null,null,49.099999999999604,4.91]
[null,null,null,null,null,null,null,null,null,null,null,null,null,null,null,null,null,null,null,null,null,49.199999999999598,4.92]
[null,null,null,null,null,null,null,null,null,null,null,null,null,null,null,null,null,null,null,null,null,49.299999999999599,4.93]
[null,null,null,null,null,null,null,null,null,null,null,null,null,null,null,null,null,null,null,null,null,49.399999999999601,4.9400000000000004]
[null,null,null,null,null,null,null,null,null,null,null,null,null,null,null,null,null,null,null,null,null,49.499999999999602,4.95]
[null,null,null,null,null,null,null,null,null,null,null,null,null,null,null,null,null,null,null,null,null,49.599999999999604,4.96]
[null,null,null,null,null,null,null,null,null,null,null,null,null,null,null,null,null,null,null,null,null,49.699999999999598,4.97]
[null,null,null,null,null,null,null,null,null,null,null,null,null,null,null,null,null,null,null,null,null,49.799999999999599,4.9800000000000004]
[null,null,null,null,null,null,null,null,null,null,null,null,null,null,null,null,null,null,null,null,null,49.899999999999601,4.99]
[null,null,null,null,null,null,null,null,null,null,null,null,null,null,null,null,null,null,null,null,null,49.999999999999602,5]

{"sheet":"Comments","index":5,"n_rows":1,"n_cols":2,"rows_kept":1,"cut":false,"hidden":false,"merged":[]}
["Plot No.","Comment"]

{"sheet":"Graphs","index":6,"n_rows":208,"n_cols":67,"rows_kept":208,"cut":false,"hidden":false,"merged":[]}
[]
[]
["RIPARIAN VEGETATION VARIABLES",null,null,null,null,null,"Plant Diversity Index ",null,null,null,null,null,null,null,null,null,null,null,null,null,null,null,null,null,null,null,null,null,null,null,null,null,null,null,"FREQUENCY DISTRIBUTIONS"]
[]
[null,null,null,"TOTAL*=",{"$f":"SUM(B13:B199)","v":0},null,{"$f":"IF(A13=\"\",\"\",COUNT(B13:B199)*AVERAGE(B13:B199)/STDEV(B13:B199))","v":""},null,null,null,null,null,null,null,null,null,null,null,null,null,null,null,null,null,null,null,null,null,null,null,null,null,null,null,"Plant Height",null,null,null,null,null,"Percentile Heights"]
[]
[null,null,null,"* If Total is not greater than 100, some species in the data are not accounted for in the analysis.  ",null,null,null,null,null,null,null,null,null,null,null,null,null,null,null,null,null,null,null,null,null,null,null,null,null,null,null,null,null,null,"Class  ","Height range","Total plants","Height","Frequency",null,"85th Percentile","50th Percentile","25th Percentile"]
[null,null,null,"   Check the plant codes to be certain that they are correct.",null,null,null,null,null,null,null,null,null,null,null,null,null,null,null,null,null,null,null,null,null,null,null,null,null,null,null,null,null,null,1,"<.5",{"$f":"COUNTIF(DMA!D$5:D$503,1)","v":0},0.4,{"$f":"IF(AK8<>0,100*(AK8/AK$14),\"\")","v":""}]
[" ",null,null,"** If corrections are made, clear the Species Plant Code list below then re-run the macro",null,null,null,null,null,null,null,null,null,null,null,null,null,null,null,null,null,null,null,null,null,null,null,null,null,null,null,null,null,null,2,".5 - 1",{"$f":"COUNTIF(DMA!D$5:D$503,2)","v":0},0.75,{"$f":"IF(AK9<>0,100*(SUM(AK8:AK9)/AK$14),\"\")","v":""},null,{"$f":"IF($AM9>=85,IF($AM8<85,$AL9-(($AM9-85)/($AM9-$AM8)*($AL9-$AL8)),\"\"),\"\")","v":""},{"$f":"IF($AM9>=50,IF($AM8<50,$AL9-(($AM9-50)/($AM9-$AM8)*($AL9-$AL8)),\"\"),\"\")","v":""},{"$f":"IF($AM9>=25,IF($AM8<25,$AL9-(($AM9-25)/($AM9-$AM8)*($AL9-$AL8)),\"\"),\"\")","v":""}]
[null,null,null,null,null,null,null,null,null,null,null,null,null,null,null,null,null,null,null,null,null,null,"              ALL WOODY SPECIES COMBINED",null,null,"ESTIMATED TOTAL POPULATION WOODY PLANTS",null,null,null,null,null,null,null,null,3,"1 - 2",{"$f":"COUNTIF(DMA!D$5:D$503,3)","v":0},1.5,{"$f":"IF(AK10<>0,100*(SUM(AK8:AK10)/AK$14),\"\")","v":""},null,{"$f":"IF($AM10>=85,IF($AM9<85,$AL10-(($AM10-85)/($AM10-$AM9)*($AL10-$AL9)),\"\"),\"\")","v":""},{"$f":"IF($AM10>=50,IF($AM9<50,$AL10-(($AM10-50)/($AM10-$AM9)*($AL10-$AL9)),\"\"),\"\")","v":""},{"$f":"IF($AM10>=25,IF($AM9<25,$AL10-(($AM10-25)/($AM10-$AM9)*($AL10-$AL9)),\"\"),\"\")","v":""}]
["               PLANT SPECIES COMPOSITION",null,null,null,"     STUBBLE HEIGHT",null,null,"  WOODY HEIGHT",null,null,"   WOODY USE",null,null,"WOODY SPECIES",null,"WOODY AGE Class",null,null," ",null,null," ",{"$f":"IF(SUM(AC13:AC55)=0,\"\",SUM(AC13:AC55)/SUM(P13:P199))","v":""},{"$f":"IF(SUM(AD13:AD55)=0,\"\",SUM(AD13:AD55)/SUM(Q13:Q199))","v":""},{"$f":"IF(SUM(AE13:AE55)=0,\"\",SUM(AE13:AE55)/SUM(R13:R199))","v":""},"Adjusted for sampling bias",null,null,null,null,null,null,null,null,4,"2 - 4",{"$f":"COUNTIF(DMA!D$5:D$503,4)","v":0},3,{"$f":"IF(AK11<>0,100*(SUM(AK8:AK11)/AK$14),\"\")","v":""},null,{"$f":"IF($AM11>=85,IF($AM10<85,$AL11-(($AM11-85)/($AM11-$AM10)*($AL11-$AL10)),\"\"),\"\")","v":""},{"$f":"IF($AM11>=50,IF($AM10<50,$AL11-(($AM11-50)/($AM11-$AM10)*($AL11-$AL10)),\"\"),\"\")","v":""},{"$f":"IF($AM11>=25,IF($AM10<25,$AL11-(($AM11-25)/($AM11-$AM10)*($AL11-$AL10)),\"\"),\"\")","v":""},null,null,null,null,null,null,null,null,"WOODY AGE Class - STATISTICS",null,null,null,null,null,null,null,null,null,null,null,null,"PLOTS"]
["Species Plant Code","Greenline Composition ","Cover","Constancy","Key Species","N","Avg Height (in)","Plant Code","N","Avg Height (mt)","Key Species","N","Avg Use (%)","Frequency              (N)","Key Species","Seedlings","Young","Mature","Rhizom-atous*","N","Plots","Avg plants per plot","Conf Interval as % of Estimated population - SEEDLINGS","Conf Interval as % of Estimated population - YOUNG","Conf Interval as % of Estimated population - MATURE","SEEDLINGS","YOUNG","MATURE",null,null,null,null,null,null,5,"4 - 8",{"$f":"COUNTIF(DMA!D$5:D$503,5)","v":0},6,{"$f":"IF(AK12<>0,100*(SUM(AK8:AK12)/AK$14),\"\")","v":""},null,{"$f":"IF($AM12>=85,IF($AM11<85,$AL12-(($AM12-85)/($AM12-$AM11)*($AL12-$AL11)),\"\"),\"\")","v":""},{"$f":"IF($AM12>=50,IF($AM11<50,$AL12-(($AM12-50)/($AM12-$AM11)*($AL12-$AL11)),\"\"),\"\")","v":""},{"$f":"IF($AM12>=25,IF($AM11<25,$AL12-(($AM12-25)/($AM12-$AM11)*($AL12-$AL11)),\"\"),\"\")","v":""},null,null,null,null,null,null,null,null,"Confidence Interval SEEDLINGS","Confidence Interval YOUNG","Confidence Interval MATURE","Standard deviation SEEDLINGS","Standard deviation YOUNG","Standard deviation MATURE","Average SEEDLINGS","Average YOUNG","Average MATURE",null,"Stubble Plants","Woody Plants",null,"Count seedlings","Count Young","Count Mature"]
[null,{"$f":"IF(A13=\"\",\"\",(SUMIF(DMA!$AO$5:$AO$604,$A13,DMA!$AQ$5:$AQ$603)/DMA!AQ$604))","v":""},{"$f":"IF(A13=\"\",\"\",(SUMIF(DMA!$CQ$5:$CQ$603,$A13,DMA!$CO$5:$CO$603))*0.01)","v":""},{"$f":"IF(B13=\"\",\"\",(SUMIF(DMA!$CQ$5:$CQ$603,$A13,DMA!$CP$5:$CP$603)))","v":""},{"$f":"IF(COUNTIF(DMA!I$5:I$503,Graphs!$A13)>0,Graphs!$A13,\"\")","v":""},{"$f":"IF(E13=\"\",\"\",COUNTIF(DMA!I$5:I$503,Graphs!E13))","v":""},{"$f":"IF(E13=\"\",\"\",SUMIF(DMA!I$5:I$503,Graphs!E13,DMA!J$5:J$503)/COUNTIF(DMA!I$5:I$503,Graphs!E13))","v":""},{"$f":"IF(SUMIF(DMA!B$5:B$503,Graphs!A13,DMA!D$5:D$503)>0,Graphs!A13,\"\")","v":""},{"$f":"IF(H13=\"\",\"\",COUNTIF(DMA!B$5:B$503,Graphs!A13))","v":""},{"$f":"IF(H13=\"\",\"\",10^(-0.7083129+0.297*(SUMIF(DMA!B$5:B$503,Graphs!H13,DMA!D$5:D$503)/COUNTIF(DMA!B$5:B$503,Graphs!H13))))","v":""},{"$f":"IF(COUNTIF(DMA!R$5:R$503,Graphs!$A13)>0,Graphs!$A13,\"\")","v":""},{"$f":"IF(K13=\"\",\"\",COUNTIF(DMA!R$5:R$503,Graphs!A13))","v":""},{"$f":"IF(K13=\"\",\"\",(SUMIF(DMA!R$5:R$503,Graphs!A13,DMA!S$5:S$503)/COUNTIF(DMA!R$5:R$503,Graphs!A13)))","v":""},{"$f":"IF(SUM(I13,L13,T13)=0,\"\",SUM(I13,L13,T13))","v":""},{"$f":"IF(COUNTIF(DMA!M$5:M$503,Graphs!$A13)>0,Graphs!$A13,\"\")","v":""},{"$f":"IF($O13=\"\",\"\",SUMIF(DMA!$M$5:$M$503,Graphs!$O13,DMA!N$5:N$503))","v":""},{"$f":"IF($O13=\"\",\"\",SUMIF(DMA!$M$5:$M$503,Graphs!$O13,DMA!O$5:O$503))","v":""},{"$f":"IF($O13=\"\",\"\",SUMIF(DMA!$M$5:$M$503,Graphs!$O13,DMA!P$5:P$503))","v":""},{"$f":"IF($O13=\"\",\"\",SUMIF(DMA!$M$5:$M$503,Graphs!$O13,DMA!Q$5:Q$503))","v":""},{"$f":"IF(O13=\"\",\"\",SUM(P13:S13))","v":""},{"$f":"IF(O13=\"\",\"\",COUNTIF(DMA!M$5:M$503,Graphs!A13))","v":""},{"$f":"IF(O13=\"\",\"\",T13/U13)","v":""},{"$f":"IF(AZ13=\"\",\"\",IF(P13=0,\"\",(AZ13/BF13)))","v":""},"","",{"$f":"IF(BF13=\"\",\"\",IF(BF13=0,\"\",BF13*BM13*6*1.8))","v":""},{"$f":"IF(BG13=\"\",\"\",IF(BG13=0,\"\",BG13*BN13*6*1.5))","v":""},{"$f":"IF(BH13=\"\",\"\",IF(BH13=0,\"\",BH13*BO13*6*0.5))","v":""},{"$f":"IF(W13=\"\",\"\",W13*P13)","v":""},{"$f":"IF(X13=\"\",\"\",X13*Q13)","v":""},"",null,null,null,6,">8",{"$f":"COUNTIF(DMA!D$5:D$503,6)","v":0},12,{"$f":"IF(AK13<>0,100*(SUM(AK8:AK13)/AK$14),\"\")","v":""},null,{"$f":"IF($AM13>=85,IF($AM12<85,$AL13-(($AM13-85)/($AM13-$AM12)*($AL13-$AL12)),\"\"),\"\")","v":""},{"$f":"IF($AM13>=50,IF($AM12<50,$AL13-(($AM13-50)/($AM13-$AM12)*($AL13-$AL12)),\"\"),\"\")","v":""},{"$f":"IF($AM13>=25,IF($AM12<25,$AL13-(($AM13-25)/($AM13-$AM12)*($AL13-$AL12)),\"\"),\"\")","v":""},null,null,null,null,null,null,null,null,{"$f":"IF(BC13=\"\",\"\",IF(BC13=1,\"\",IF(BC13=0,\"\",CONFIDENCE(0.05,BC13,BM13))))","v":""},{"$f":"IF(BD13=\"\",\"\",IF(BD13=1,\"\",IF(BD13=0,\"\",CONFIDENCE(0.05,BD13,BN13))))","v":""},{"$f":"IF(BE13=\"\",\"\",IF(BE13=1,\"\",IF(BE13=0,\"\",CONFIDENCE(0.05,BE13,BO13))))","v":""},{"$f":"IF(P13=\"\",\"\",IF(P13=0,\"\",SQRT(SUMIF(DMA!$DJ$5:$DJ$503,Graphs!$O13,DMA!DK$5:DK$503))/COUNTIF(DMA!$DJ$5:$DJ$503,Graphs!$O13)))","v":""},{"$f":"IF(Q13=\"\",\"\",IF(Q13=0,\"\",SQRT(SUMIF(DMA!$DJ$5:$DJ$503,Graphs!$O13,DMA!DL$5:DL$503))/COUNTIF(DMA!$DJ$5:$DJ$503,Graphs!$O13)))","v":""},{"$f":"IF(R13=\"\",\"\",IF(R13=0,\"\",SQRT(SUMIF(DMA!$DJ$5:$DJ$503,Graphs!$O13,DMA!DM$5:DM$503))/COUNTIF(DMA!$DJ$5:$DJ$503,Graphs!$O13)))","v":""},{"$f":"IF($P13=\"\",\"\",IF(P13=0,\"\",AVERAGEIF(DMA!$M$5:$M$503,Graphs!$O13,DMA!N$5:N$503)))","v":""},{"$f":"IF($Q13=\"\",\"\",IF(Q13=0,\"\",AVERAGEIF(DMA!$M$5:$M$503,Graphs!$O13,DMA!O$5:O$503)))","v":""},{"$f":"IF($R13=\"\",\"\",IF(R13=0,\"\",AVERAGEIF(DMA!$M$5:$M$503,Graphs!$O13,DMA!P$5:P$503)))","v":""},null,null,null,null,{"$f":"IF($O13=\"\",\"\",COUNTIFS(DMA!$M$5:$M$503,Graphs!$O13,DMA!N$5:N$503,\">0\"))","v":""},{"$f":"IF($O13=\"\",\"\",COUNTIFS(DMA!$M$5:$M$503,Graphs!$O13,DMA!O$5:O$503,\">0\"))","v":""},{"$f":"IF($O13=\"\",\"\",COUNTIFS(DMA!$M$5:$M$503,Graphs!$O13,DMA!P$5:P$503,\">0\"))","v":""}]
[null,{"$f":"IF(A14=\"\",\"\",(SUMIF(DMA!$AO$5:$AO$604,$A14,DMA!$AQ$5:$AQ$603)/DMA!AQ$604))","v":""},{"$f":"IF(A14=\"\",\"\",(SUMIF(DMA!$CQ$5:$CQ$603,$A14,DMA!$CO$5:$CO$603))*0.01)","v":""},{"$f":"IF(B14=\"\",\"\",(SUMIF(DMA!$CQ$5:$CQ$603,$A14,DMA!$CP$5:$CP$603)))","v":""},{"$f":"IF(COUNTIF(DMA!I$5:I$503,Graphs!$A14)>0,Graphs!$A14,\"\")","v":""},{"$f":"IF(E14=\"\",\"\",COUNTIF(DMA!I$5:I$503,Graphs!E14))","v":""},{"$f":"IF(E14=\"\",\"\",SUMIF(DMA!I$5:I$503,Graphs!E14,DMA!J$5:J$503)/COUNTIF(DMA!I$5:I$503,Graphs!E14))","v":""},{"$f":"IF(SUMIF(DMA!B$5:B$503,Graphs!A14,DMA!D$5:D$503)>0,Graphs!A14,\"\")","v":""},{"$f":"IF(H14=\"\",\"\",COUNTIF(DMA!B$5:B$503,Graphs!A14))","v":""},{"$f":"IF(H14=\"\",\"\",10^(-0.7083129+0.297*(SUMIF(DMA!B$5:B$503,Graphs!H14,DMA!D$5:D$503)/COUNTIF(DMA!B$5:B$503,Graphs!H14))))","v":""},{"$f":"IF(COUNTIF(DMA!R$5:R$503,Graphs!$A14)>0,Graphs!$A14,\"\")","v":""},{"$f":"IF(K14=\"\",\"\",COUNTIF(DMA!R$5:R$503,Graphs!A14))","v":""},{"$f":"IF(K14=\"\",\"\",(SUMIF(DMA!R$5:R$503,Graphs!A14,DMA!S$5:S$503)/COUNTIF(DMA!R$5:R$503,Graphs!A14)))","v":""},{"$f":"IF(SUM(I14,L14,T14)=0,\"\",SUM(I14,L14,T14))","v":""},{"$f":"IF(COUNTIF(DMA!M$5:M$503,Graphs!$A14)>0,Graphs!$A14,\"\")","v":""},{"$f":"IF($O14=\"\",\"\",SUMIF(DMA!$M$5:$M$503,Graphs!$O14,DMA!N$5:N$503))","v":""},{"$f":"IF($O14=\"\",\"\",SUMIF(DMA!$M$5:$M$503,Graphs!$O14,DMA!O$5:O$503))","v":""},{"$f":"IF($O14=\"\",\"\",SUMIF(DMA!$M$5:$M$503,Graphs!$O14,DMA!P$5:P$503))","v":""},{"$f":"IF($O14=\"\",\"\",SUMIF(DMA!$M$5:$M$503,Graphs!$O14,DMA!Q$5:Q$503))","v":""},{"$f":"IF(O14=\"\",\"\",SUM(P14:S14))","v":""},{"$f":"IF(O14=\"\",\"\",COUNTIF(DMA!M$5:M$503,Graphs!A14))","v":""},{"$f":"IF(O14=\"\",\"\",T14/U14)","v":""},{"$f":"IF(AZ14=\"\",\"\",IF(P14=0,\"\",(AZ14/BF14)))","v":""},{"$f":"IF(BA14=\"\",\"\",IF(Q14=0,\"\",(BA14/BG14)))","v":""},{"$f":"IF(BB14=\"\",\"\",IF(R14=0,\"\",(BB14/BH14)))","v":""},{"$f":"IF(BF14=\"\",\"\",IF(BF14=0,\"\",BF14*BM14*6*1.8))","v":""},{"$f":"IF(BG14=\"\",\"\",IF(BG14=0,\"\",BG14*BN14*6*1.5))","v":""},{"$f":"IF(BH14=\"\",\"\",IF(BH14=0,\"\",BH14*BO14*6*0.5))","v":""},{"$f":"IF(W14=\"\",\"\",W14*P14)","v":""},"","",null,null,null,"Total",null,{"$f":"SUM(AK8:AK13)","v":0},null,null,null,null,null,null,null,null,null,null,null,null,null,null,{"$f":"IF(BC14=\"\",\"\",IF(BC14=1,\"\",IF(BC14=0,\"\",CONFIDENCE(0.05,BC14,BM14))))","v":""},{"$f":"IF(BD14=\"\",\"\",IF(BD14=1,\"\",IF(BD14=0,\"\",CONFIDENCE(0.05,BD14,BN14))))","v":""},{"$f":"IF(BE14=\"\",\"\",IF(BE14=1,\"\",IF(BE14=0,\"\",CONFIDENCE(0.05,BE14,BO14))))","v":""},{"$f":"IF(P14=\"\",\"\",IF(P14=0,\"\",SQRT(SUMIF(DMA!$DJ$5:$DJ$503,Graphs!$O14,DMA!DK$5:DK$503))/COUNTIF(DMA!$DJ$5:$DJ$503,Graphs!$O14)))","v":""},{"$f":"IF(Q14=\"\",\"\",IF(Q14=0,\"\",SQRT(SUMIF(DMA!$DJ$5:$DJ$503,Graphs!$O14,DMA!DL$5:DL$503))/COUNTIF(DMA!$DJ$5:$DJ$503,Graphs!$O14)))","v":""},{"$f":"IF(R14=\"\",\"\",IF(R14=0,\"\",SQRT(SUMIF(DMA!$DJ$5:$DJ$503,Graphs!$O14,DMA!DM$5:DM$503))/COUNTIF(DMA!$DJ$5:$DJ$503,Graphs!$O14)))","v":""},{"$f":"IF($P14=\"\",\"\",IF(P14=0,\"\",AVERAGEIF(DMA!$M$5:$M$503,Graphs!$O14,DMA!N$5:N$503)))","v":""},{"$f":"IF($Q14=\"\",\"\",IF(Q14=0,\"\",AVERAGEIF(DMA!$M$5:$M$503,Graphs!$O14,DMA!O$5:O$503)))","v":""},{"$f":"IF($R14=\"\",\"\",IF(R14=0,\"\",AVERAGEIF(DMA!$M$5:$M$503,Graphs!$O14,DMA!P$5:P$503)))","v":""},null,null,null,null,{"$f":"IF($O14=\"\",\"\",COUNTIFS(DMA!$M$5:$M$503,Graphs!$O14,DMA!N$5:N$503,\">0\"))","v":""},{"$f":"IF($O14=\"\",\"\",COUNTIFS(DMA!$M$5:$M$503,Graphs!$O14,DMA!O$5:O$503,\">0\"))","v":""},{"$f":"IF($O14=\"\",\"\",COUNTIFS(DMA!$M$5:$M$503,Graphs!$O14,DMA!P$5:P$503,\">0\"))","v":""}]
[null,{"$f":"IF(A15=\"\",\"\",(SUMIF(DMA!$AO$5:$AO$604,$A15,DMA!$AQ$5:$AQ$603)/DMA!AQ$604))","v":""},{"$f":"IF(A15=\"\",\"\",(SUMIF(DMA!$CQ$5:$CQ$603,$A15,DMA!$CO$5:$CO$603))*0.01)","v":""},{"$f":"IF(B15=\"\",\"\",(SUMIF(DMA!$CQ$5:$CQ$603,$A15,DMA!$CP$5:$CP$603)))","v":""},{"$f":"IF(COUNTIF(DMA!I$5:I$503,Graphs!$A15)>0,Graphs!$A15,\"\")","v":""},{"$f":"IF(E15=\"\",\"\",COUNTIF(DMA!I$5:I$503,Graphs!E15))","v":""},{"$f":"IF(E15=\"\",\"\",SUMIF(DMA!I$5:I$503,Graphs!E15,DMA!J$5:J$503)/COUNTIF(DMA!I$5:I$503,Graphs!E15))","v":""},{"$f":"IF(SUMIF(DMA!B$5:B$503,Graphs!A15,DMA!D$5:D$503)>0,Graphs!A15,\"\")","v":""},{"$f":"IF(H15=\"\",\"\",COUNTIF(DMA!B$5:B$503,Graphs!A15))","v":""},{"$f":"IF(H15=\"\",\"\",10^(-0.7083129+0.297*(SUMIF(DMA!B$5:B$503,Graphs!H15,DMA!D$5:D$503)/COUNTIF(DMA!B$5:B$503,Graphs!H15))))","v":""},{"$f":"IF(COUNTIF(DMA!R$5:R$503,Graphs!$A15)>0,Graphs!$A15,\"\")","v":""},{"$f":"IF(K15=\"\",\"\",COUNTIF(DMA!R$5:R$503,Graphs!A15))","v":""},{"$f":"IF(K15=\"\",\"\",(SUMIF(DMA!R$5:R$503,Graphs!A15,DMA!S$5:S$503)/COUNTIF(DMA!R$5:R$503,Graphs!A15)))","v":""},"",{"$f":"IF(COUNTIF(DMA!M$5:M$503,Graphs!$A15)>0,Graphs!$A15,\"\")","v":""},{"$f":"IF($O15=\"\",\"\",SUMIF(DMA!$M$5:$M$503,Graphs!$O15,DMA!N$5:N$503))","v":""},{"$f":"IF($O15=\"\",\"\",SUMIF(DMA!$M$5:$M$503,Graphs!$O15,DMA!O$5:O$503))","v":""},{"$f":"IF($O15=\"\",\"\",SUMIF(DMA!$M$5:$M$503,Graphs!$O15,DMA!P$5:P$503))","v":""},{"$f":"IF($O15=\"\",\"\",SUMIF(DMA!$M$5:$M$503,Graphs!$O15,DMA!Q$5:Q$503))","v":""},"",{"$f":"IF(O15=\"\",\"\",COUNTIF(DMA!M$5:M$503,Graphs!A15))","v":""},"","","","","","","","","","",null,null,null,null,null,null,null,null,null,null,null,null,null,null,null,null,null,null,null,null,"","","",{"$f":"IF(P15=\"\",\"\",IF(P15=0,\"\",SQRT(SUMIF(DMA!$DJ$5:$DJ$503,Graphs!$O15,DMA!DK$5:DK$503))/COUNTIF(DMA!$DJ$5:$DJ$503,Graphs!$O15)))","v":""},{"$f":"IF(Q15=\"\",\"\",IF(Q15=0,\"\",SQRT(SUMIF(DMA!$DJ$5:$DJ$503,Graphs!$O15,DMA!DL$5:DL$503))/COUNTIF(DMA!$DJ$5:$DJ$503,Graphs!$O15)))","v":""},{"$f":"IF(R15=\"\",\"\",IF(R15=0,\"\",SQRT(SUMIF(DMA!$DJ$5:$DJ$503,Graphs!$O15,DMA!DM$5:DM$503))/COUNTIF(DMA!$DJ$5:$DJ$503,Graphs!$O15)))","v":""},{"$f":"IF($P15=\"\",\"\",IF(P15=0,\"\",AVERAGEIF(DMA!$M$5:$M$503,Graphs!$O15,DMA!N$5:N$503)))","v":""},{"$f":"IF($Q15=\"\",\"\",IF(Q15=0,\"\",AVERAGEIF(DMA!$M$5:$M$503,Graphs!$O15,DMA!O$5:O$503)))","v":""},{"$f":"IF($R15=\"\",\"\",IF(R15=0,\"\",AVERAGEIF(DMA!$M$5:$M$503,Graphs!$O15,DMA!P$5:P$503)))","v":""},null,null,null,null,{"$f":"IF($O15=\"\",\"\",COUNTIFS(DMA!$M$5:$M$503,Graphs!$O15,DMA!N$5:N$503,\">0\"))","v":""},{"$f":"IF($O15=\"\",\"\",COUNTIFS(DMA!$M$5:$M$503,Graphs!$O15,DMA!O$5:O$503,\">0\"))","v":""},{"$f":"IF($O15=\"\",\"\",COUNTIFS(DMA!$M$5:$M$503,Graphs!$O15,DMA!P$5:P$503,\">0\"))","v":""}]
[null,{"$f":"IF(A16=\"\",\"\",(SUMIF(DMA!$AO$5:$AO$604,$A16,DMA!$AQ$5:$AQ$603)/DMA!AQ$604))","v":""},{"$f":"IF(A16=\"\",\"\",(SUMIF(DMA!$CQ$5:$CQ$603,$A16,DMA!$CO$5:$CO$603))*0.01)","v":""},{"$f":"IF(B16=\"\",\"\",(SUMIF(DMA!$CQ$5:$CQ$603,$A16,DMA!$CP$5:$CP$603)))","v":""},{"$f":"IF(COUNTIF(DMA!I$5:I$503,Graphs!$A16)>0,Graphs!$A16,\"\")","v":""},{"$f":"IF(E16=\"\",\"\",COUNTIF(DMA!I$5:I$503,Graphs!E16))","v":""},{"$f":"IF(E16=\"\",\"\",SUMIF(DMA!I$5:I$503,Graphs!E16,DMA!J$5:J$503)/COUNTIF(DMA!I$5:I$503,Graphs!E16))","v":""},{"$f":"IF(SUMIF(DMA!B$5:B$503,Graphs!A16,DMA!D$5:D$503)>0,Graphs!A16,\"\")","v":""},{"$f":"IF(H16=\"\",\"\",COUNTIF(DMA!B$5:B$503,Graphs!A16))","v":""},{"$f":"IF(H16=\"\",\"\",10^(-0.7083129+0.297*(SUMIF(DMA!B$5:B$503,Graphs!H16,DMA!D$5:D$503)/COUNTIF(DMA!B$5:B$503,Graphs!H16))))","v":""},{"$f":"IF(COUNTIF(DMA!R$5:R$503,Graphs!$A16)>0,Graphs!$A16,\"\")","v":""},{"$f":"IF(K16=\"\",\"\",COUNTIF(DMA!R$5:R$503,Graphs!A16))","v":""},{"$f":"IF(K16=\"\",\"\",(SUMIF(DMA!R$5:R$503,Graphs!A16,DMA!S$5:S$503)/COUNTIF(DMA!R$5:R$503,Graphs!A16)))","v":""},"",{"$f":"IF(COUNTIF(DMA!M$5:M$503,Graphs!$A16)>0,Graphs!$A16,\"\")","v":""},{"$f":"IF($O16=\"\",\"\",SUMIF(DMA!$M$5:$M$503,Graphs!$O16,DMA!N$5:N$503))","v":""},{"$f":"IF($O16=\"\",\"\",SUMIF(DMA!$M$5:$M$503,Graphs!$O16,DMA!O$5:O$503))","v":""},{"$f":"IF($O16=\"\",\"\",SUMIF(DMA!$M$5:$M$503,Graphs!$O16,DMA!P$5:P$503))","v":""},{"$f":"IF($O16=\"\",\"\",SUMIF(DMA!$M$5:$M$503,Graphs!$O16,DMA!Q$5:Q$503))","v":""},"",{"$f":"IF(O16=\"\",\"\",COUNTIF(DMA!M$5:M$503,Graphs!A16))","v":""},"","","","","","","","","","",null,null,null,null,null,null,null,null,null,null,null,null,null,null,null,null,null,null,null,null,"","","",{"$f":"IF(P16=\"\",\"\",IF(P16=0,\"\",SQRT(SUMIF(DMA!$DJ$5:$DJ$503,Graphs!$O16,DMA!DK$5:DK$503))/COUNTIF(DMA!$DJ$5:$DJ$503,Graphs!$O16)))","v":""},{"$f":"IF(Q16=\"\",\"\",IF(Q16=0,\"\",SQRT(SUMIF(DMA!$DJ$5:$DJ$503,Graphs!$O16,DMA!DL$5:DL$503))/COUNTIF(DMA!$DJ$5:$DJ$503,Graphs!$O16)))","v":""},{"$f":"IF(R16=\"\",\"\",IF(R16=0,\"\",SQRT(SUMIF(DMA!$DJ$5:$DJ$503,Graphs!$O16,DMA!DM$5:DM$503))/COUNTIF(DMA!$DJ$5:$DJ$503,Graphs!$O16)))","v":""},{"$f":"IF($P16=\"\",\"\",IF(P16=0,\"\",AVERAGEIF(DMA!$M$5:$M$503,Graphs!$O16,DMA!N$5:N$503)))","v":""},{"$f":"IF($Q16=\"\",\"\",IF(Q16=0,\"\",AVERAGEIF(DMA!$M$5:$M$503,Graphs!$O16,DMA!O$5:O$503)))","v":""},{"$f":"IF($R16=\"\",\"\",IF(R16=0,\"\",AVERAGEIF(DMA!$M$5:$M$503,Graphs!$O16,DMA!P$5:P$503)))","v":""},null,null,null,null,{"$f":"IF($O16=\"\",\"\",COUNTIFS(DMA!$M$5:$M$503,Graphs!$O16,DMA!N$5:N$503,\">0\"))","v":""},{"$f":"IF($O16=\"\",\"\",COUNTIFS(DMA!$M$5:$M$503,Graphs!$O16,DMA!O$5:O$503,\">0\"))","v":""},{"$f":"IF($O16=\"\",\"\",COUNTIFS(DMA!$M$5:$M$503,Graphs!$O16,DMA!P$5:P$503,\">0\"))","v":""}]
[null,{"$f":"IF(A17=\"\",\"\",(SUMIF(DMA!$AO$5:$AO$604,$A17,DMA!$AQ$5:$AQ$603)/DMA!AQ$604))","v":""},{"$f":"IF(A17=\"\",\"\",(SUMIF(DMA!$CQ$5:$CQ$603,$A17,DMA!$CO$5:$CO$603))*0.01)","v":""},{"$f":"IF(B17=\"\",\"\",(SUMIF(DMA!$CQ$5:$CQ$603,$A17,DMA!$CP$5:$CP$603)))","v":""},{"$f":"IF(COUNTIF(DMA!I$5:I$503,Graphs!$A17)>0,Graphs!$A17,\"\")","v":""},{"$f":"IF(E17=\"\",\"\",COUNTIF(DMA!I$5:I$503,Graphs!E17))","v":""},{"$f":"IF(E17=\"\",\"\",SUMIF(DMA!I$5:I$503,Graphs!E17,DMA!J$5:J$503)/COUNTIF(DMA!I$5:I$503,Graphs!E17))","v":""},{"$f":"IF(SUMIF(DMA!B$5:B$503,Graphs!A17,DMA!D$5:D$503)>0,Graphs!A17,\"\")","v":""},{"$f":"IF(H17=\"\",\"\",COUNTIF(DMA!B$5:B$503,Graphs!A17))","v":""},{"$f":"IF(H17=\"\",\"\",10^(-0.7083129+0.297*(SUMIF(DMA!B$5:B$503,Graphs!H17,DMA!D$5:D$503)/COUNTIF(DMA!B$5:B$503,Graphs!H17))))","v":""},{"$f":"IF(COUNTIF(DMA!R$5:R$503,Graphs!$A17)>0,Graphs!$A17,\"\")","v":""},{"$f":"IF(K17=\"\",\"\",COUNTIF(DMA!R$5:R$503,Graphs!A17))","v":""},{"$f":"IF(K17=\"\",\"\",(SUMIF(DMA!R$5:R$503,Graphs!A17,DMA!S$5:S$503)/COUNTIF(DMA!R$5:R$503,Graphs!A17)))","v":""},"",{"$f":"IF(COUNTIF(DMA!M$5:M$503,Graphs!$A17)>0,Graphs!$A17,\"\")","v":""},{"$f":"IF($O17=\"\",\"\",SUMIF(DMA!$M$5:$M$503,Graphs!$O17,DMA!N$5:N$503))","v":""},{"$f":"IF($O17=\"\",\"\",SUMIF(DMA!$M$5:$M$503,Graphs!$O17,DMA!O$5:O$503))","v":""},{"$f":"IF($O17=\"\",\"\",SUMIF(DMA!$M$5:$M$503,Graphs!$O17,DMA!P$5:P$503))","v":""},{"$f":"IF($O17=\"\",\"\",SUMIF(DMA!$M$5:$M$503,Graphs!$O17,DMA!Q$5:Q$503))","v":""},"",{"$f":"IF(O17=\"\",\"\",COUNTIF(DMA!M$5:M$503,Graphs!A17))","v":""},"","","","","","","","","","",null,null,null,null,null,null,null,null,null,null,null,null,null,null,null,null,null,null,null,null,"","","",{"$f":"IF(P17=\"\",\"\",IF(P17=0,\"\",SQRT(SUMIF(DMA!$DJ$5:$DJ$503,Graphs!$O17,DMA!DK$5:DK$503))/COUNTIF(DMA!$DJ$5:$DJ$503,Graphs!$O17)))","v":""},{"$f":"IF(Q17=\"\",\"\",IF(Q17=0,\"\",SQRT(SUMIF(DMA!$DJ$5:$DJ$503,Graphs!$O17,DMA!DL$5:DL$503))/COUNTIF(DMA!$DJ$5:$DJ$503,Graphs!$O17)))","v":""},{"$f":"IF(R17=\"\",\"\",IF(R17=0,\"\",SQRT(SUMIF(DMA!$DJ$5:$DJ$503,Graphs!$O17,DMA!DM$5:DM$503))/COUNTIF(DMA!$DJ$5:$DJ$503,Graphs!$O17)))","v":""},{"$f":"IF($P17=\"\",\"\",IF(P17=0,\"\",AVERAGEIF(DMA!$M$5:$M$503,Graphs!$O17,DMA!N$5:N$503)))","v":""},{"$f":"IF($Q17=\"\",\"\",IF(Q17=0,\"\",AVERAGEIF(DMA!$M$5:$M$503,Graphs!$O17,DMA!O$5:O$503)))","v":""},{"$f":"IF($R17=\"\",\"\",IF(R17=0,\"\",AVERAGEIF(DMA!$M$5:$M$503,Graphs!$O17,DMA!P$5:P$503)))","v":""},null,null,null,null,{"$f":"IF($O17=\"\",\"\",COUNTIFS(DMA!$M$5:$M$503,Graphs!$O17,DMA!N$5:N$503,\">0\"))","v":""},{"$f":"IF($O17=\"\",\"\",COUNTIFS(DMA!$M$5:$M$503,Graphs!$O17,DMA!O$5:O$503,\">0\"))","v":""},{"$f":"IF($O17=\"\",\"\",COUNTIFS(DMA!$M$5:$M$503,Graphs!$O17,DMA!P$5:P$503,\">0\"))","v":""}]
[null,{"$f":"IF(A18=\"\",\"\",(SUMIF(DMA!$AO$5:$AO$604,$A18,DMA!$AQ$5:$AQ$603)/DMA!AQ$604))","v":""},{"$f":"IF(A18=\"\",\"\",(SUMIF(DMA!$CQ$5:$CQ$603,$A18,DMA!$CO$5:$CO$603))*0.01)","v":""},{"$f":"IF(B18=\"\",\"\",(SUMIF(DMA!$CQ$5:$CQ$603,$A18,DMA!$CP$5:$CP$603)))","v":""},{"$f":"IF(COUNTIF(DMA!I$5:I$503,Graphs!$A18)>0,Graphs!$A18,\"\")","v":""},{"$f":"IF(E18=\"\",\"\",COUNTIF(DMA!I$5:I$503,Graphs!E18))","v":""},{"$f":"IF(E18=\"\",\"\",SUMIF(DMA!I$5:I$503,Graphs!E18,DMA!J$5:J$503)/COUNTIF(DMA!I$5:I$503,Graphs!E18))","v":""},{"$f":"IF(SUMIF(DMA!B$5:B$503,Graphs!A18,DMA!D$5:D$503)>0,Graphs!A18,\"\")","v":""},{"$f":"IF(H18=\"\",\"\",COUNTIF(DMA!B$5:B$503,Graphs!A18))","v":""},{"$f":"IF(H18=\"\",\"\",10^(-0.7083129+0.297*(SUMIF(DMA!B$5:B$503,Graphs!H18,DMA!D$5:D$503)/COUNTIF(DMA!B$5:B$503,Graphs!H18))))","v":""},{"$f":"IF(COUNTIF(DMA!R$5:R$503,Graphs!$A18)>0,Graphs!$A18,\"\")","v":""},{"$f":"IF(K18=\"\",\"\",COUNTIF(DMA!R$5:R$503,Graphs!A18))","v":""},{"$f":"IF(K18=\"\",\"\",(SUMIF(DMA!R$5:R$503,Graphs!A18,DMA!S$5:S$503)/COUNTIF(DMA!R$5:R$503,Graphs!A18)))","v":""},"",{"$f":"IF(COUNTIF(DMA!M$5:M$503,Graphs!$A18)>0,Graphs!$A18,\"\")","v":""},{"$f":"IF($O18=\"\",\"\",SUMIF(DMA!$M$5:$M$503,Graphs!$O18,DMA!N$5:N$503))","v":""},{"$f":"IF($O18=\"\",\"\",SUMIF(DMA!$M$5:$M$503,Graphs!$O18,DMA!O$5:O$503))","v":""},{"$f":"IF($O18=\"\",\"\",SUMIF(DMA!$M$5:$M$503,Graphs!$O18,DMA!P$5:P$503))","v":""},{"$f":"IF($O18=\"\",\"\",SUMIF(DMA!$M$5:$M$503,Graphs!$O18,DMA!Q$5:Q$503))","v":""},"",{"$f":"IF(O18=\"\",\"\",COUNTIF(DMA!M$5:M$503,Graphs!A18))","v":""},"","","","","","","","","","",null,null,null,null,null,null,null,null,null,null,null,null,null,null,null,null,null,null,null,null,"","","",{"$f":"IF(P18=\"\",\"\",IF(P18=0,\"\",SQRT(SUMIF(DMA!$DJ$5:$DJ$503,Graphs!$O18,DMA!DK$5:DK$503))/COUNTIF(DMA!$DJ$5:$DJ$503,Graphs!$O18)))","v":""},{"$f":"IF(Q18=\"\",\"\",IF(Q18=0,\"\",SQRT(SUMIF(DMA!$DJ$5:$DJ$503,Graphs!$O18,DMA!DL$5:DL$503))/COUNTIF(DMA!$DJ$5:$DJ$503,Graphs!$O18)))","v":""},{"$f":"IF(R18=\"\",\"\",IF(R18=0,\"\",SQRT(SUMIF(DMA!$DJ$5:$DJ$503,Graphs!$O18,DMA!DM$5:DM$503))/COUNTIF(DMA!$DJ$5:$DJ$503,Graphs!$O18)))","v":""},{"$f":"IF($P18=\"\",\"\",IF(P18=0,\"\",AVERAGEIF(DMA!$M$5:$M$503,Graphs!$O18,DMA!N$5:N$503)))","v":""},{"$f":"IF($Q18=\"\",\"\",IF(Q18=0,\"\",AVERAGEIF(DMA!$M$5:$M$503,Graphs!$O18,DMA!O$5:O$503)))","v":""},{"$f":"IF($R18=\"\",\"\",IF(R18=0,\"\",AVERAGEIF(DMA!$M$5:$M$503,Graphs!$O18,DMA!P$5:P$503)))","v":""},null,null,null,null,{"$f":"IF($O18=\"\",\"\",COUNTIFS(DMA!$M$5:$M$503,Graphs!$O18,DMA!N$5:N$503,\">0\"))","v":""},{"$f":"IF($O18=\"\",\"\",COUNTIFS(DMA!$M$5:$M$503,Graphs!$O18,DMA!O$5:O$503,\">0\"))","v":""},{"$f":"IF($O18=\"\",\"\",COUNTIFS(DMA!$M$5:$M$503,Graphs!$O18,DMA!P$5:P$503,\">0\"))","v":""}]
[null,{"$f":"IF(A19=\"\",\"\",(SUMIF(DMA!$AO$5:$AO$604,$A19,DMA!$AQ$5:$AQ$603)/DMA!AQ$604))","v":""},{"$f":"IF(A19=\"\",\"\",(SUMIF(DMA!$CQ$5:$CQ$603,$A19,DMA!$CO$5:$CO$603))*0.01)","v":""},{"$f":"IF(B19=\"\",\"\",(SUMIF(DMA!$CQ$5:$CQ$603,$A19,DMA!$CP$5:$CP$603)))","v":""},{"$f":"IF(COUNTIF(DMA!I$5:I$503,Graphs!$A19)>0,Graphs!$A19,\"\")","v":""},{"$f":"IF(E19=\"\",\"\",COUNTIF(DMA!I$5:I$503,Graphs!E19))","v":""},{"$f":"IF(E19=\"\",\"\",SUMIF(DMA!I$5:I$503,Graphs!E19,DMA!J$5:J$503)/COUNTIF(DMA!I$5:I$503,Graphs!E19))","v":""},{"$f":"IF(SUMIF(DMA!B$5:B$503,Graphs!A19,DMA!D$5:D$503)>0,Graphs!A19,\"\")","v":""},{"$f":"IF(H19=\"\",\"\",COUNTIF(DMA!B$5:B$503,Graphs!A19))","v":""},{"$f":"IF(H19=\"\",\"\",10^(-0.7083129+0.297*(SUMIF(DMA!B$5:B$503,Graphs!H19,DMA!D$5:D$503)/COUNTIF(DMA!B$5:B$503,Graphs!H19))))","v":""},{"$f":"IF(COUNTIF(DMA!R$5:R$503,Graphs!$A19)>0,Graphs!$A19,\"\")","v":""},{"$f":"IF(K19=\"\",\"\",COUNTIF(DMA!R$5:R$503,Graphs!A19))","v":""},{"$f":"IF(K19=\"\",\"\",(SUMIF(DMA!R$5:R$503,Graphs!A19,DMA!S$5:S$503)/COUNTIF(DMA!R$5:R$503,Graphs!A19)))","v":""},"",{"$f":"IF(COUNTIF(DMA!M$5:M$503,Graphs!$A19)>0,Graphs!$A19,\"\")","v":""},{"$f":"IF($O19=\"\",\"\",SUMIF(DMA!$M$5:$M$503,Graphs!$O19,DMA!N$5:N$503))","v":""},{"$f":"IF($O19=\"\",\"\",SUMIF(DMA!$M$5:$M$503,Graphs!$O19,DMA!O$5:O$503))","v":""},{"$f":"IF($O19=\"\",\"\",SUMIF(DMA!$M$5:$M$503,Graphs!$O19,DMA!P$5:P$503))","v":""},{"$f":"IF($O19=\"\",\"\",SUMIF(DMA!$M$5:$M$503,Graphs!$O19,DMA!Q$5:Q$503))","v":""},"",{"$f":"IF(O19=\"\",\"\",COUNTIF(DMA!M$5:M$503,Graphs!A19))","v":""},"","","","","","","","","","",null,null,null,null,null,null,null,null,null,null,null,null,null,null,null,null,null,null,null,null,"","","",{"$f":"IF(P19=\"\",\"\",IF(P19=0,\"\",SQRT(SUMIF(DMA!$DJ$5:$DJ$503,Graphs!$O19,DMA!DK$5:DK$503))/COUNTIF(DMA!$DJ$5:$DJ$503,Graphs!$O19)))","v":""},{"$f":"IF(Q19=\"\",\"\",IF(Q19=0,\"\",SQRT(SUMIF(DMA!$DJ$5:$DJ$503,Graphs!$O19,DMA!DL$5:DL$503))/COUNTIF(DMA!$DJ$5:$DJ$503,Graphs!$O19)))","v":""},{"$f":"IF(R19=\"\",\"\",IF(R19=0,\"\",SQRT(SUMIF(DMA!$DJ$5:$DJ$503,Graphs!$O19,DMA!DM$5:DM$503))/COUNTIF(DMA!$DJ$5:$DJ$503,Graphs!$O19)))","v":""},{"$f":"IF($P19=\"\",\"\",IF(P19=0,\"\",AVERAGEIF(DMA!$M$5:$M$503,Graphs!$O19,DMA!N$5:N$503)))","v":""},{"$f":"IF($Q19=\"\",\"\",IF(Q19=0,\"\",AVERAGEIF(DMA!$M$5:$M$503,Graphs!$O19,DMA!O$5:O$503)))","v":""},{"$f":"IF($R19=\"\",\"\",IF(R19=0,\"\",AVERAGEIF(DMA!$M$5:$M$503,Graphs!$O19,DMA!P$5:P$503)))","v":""},null,null,null,null,{"$f":"IF($O19=\"\",\"\",COUNTIFS(DMA!$M$5:$M$503,Graphs!$O19,DMA!N$5:N$503,\">0\"))","v":""},{"$f":"IF($O19=\"\",\"\",COUNTIFS(DMA!$M$5:$M$503,Graphs!$O19,DMA!O$5:O$503,\">0\"))","v":""},{"$f":"IF($O19=\"\",\"\",COUNTIFS(DMA!$M$5:$M$503,Graphs!$O19,DMA!P$5:P$503,\">0\"))","v":""}]
[null,{"$f":"IF(A20=\"\",\"\",(SUMIF(DMA!$AO$5:$AO$604,$A20,DMA!$AQ$5:$AQ$603)/DMA!AQ$604))","v":""},{"$f":"IF(A20=\"\",\"\",(SUMIF(DMA!$CQ$5:$CQ$603,$A20,DMA!$CO$5:$CO$603))*0.01)","v":""},{"$f":"IF(B20=\"\",\"\",(SUMIF(DMA!$CQ$5:$CQ$603,$A20,DMA!$CP$5:$CP$603)))","v":""},{"$f":"IF(COUNTIF(DMA!I$5:I$503,Graphs!$A20)>0,Graphs!$A20,\"\")","v":""},{"$f":"IF(E20=\"\",\"\",COUNTIF(DMA!I$5:I$503,Graphs!E20))","v":""},{"$f":"IF(E20=\"\",\"\",SUMIF(DMA!I$5:I$503,Graphs!E20,DMA!J$5:J$503)/COUNTIF(DMA!I$5:I$503,Graphs!E20))","v":""},{"$f":"IF(SUMIF(DMA!B$5:B$503,Graphs!A20,DMA!D$5:D$503)>0,Graphs!A20,\"\")","v":""},{"$f":"IF(H20=\"\",\"\",COUNTIF(DMA!B$5:B$503,Graphs!A20))","v":""},{"$f":"IF(H20=\"\",\"\",10^(-0.7083129+0.297*(SUMIF(DMA!B$5:B$503,Graphs!H20,DMA!D$5:D$503)/COUNTIF(DMA!B$5:B$503,Graphs!H20))))","v":""},{"$f":"IF(COUNTIF(DMA!R$5:R$503,Graphs!$A20)>0,Graphs!$A20,\"\")","v":""},{"$f":"IF(K20=\"\",\"\",COUNTIF(DMA!R$5:R$503,Graphs!A20))","v":""},{"$f":"IF(K20=\"\",\"\",(SUMIF(DMA!R$5:R$503,Graphs!A20,DMA!S$5:S$503)/COUNTIF(DMA!R$5:R$503,Graphs!A20)))","v":""},"",{"$f":"IF(COUNTIF(DMA!M$5:M$503,Graphs!$A20)>0,Graphs!$A20,\"\")","v":""},{"$f":"IF($O20=\"\",\"\",SUMIF(DMA!$M$5:$M$503,Graphs!$O20,DMA!N$5:N$503))","v":""},{"$f":"IF($O20=\"\",\"\",SUMIF(DMA!$M$5:$M$503,Graphs!$O20,DMA!O$5:O$503))","v":""},{"$f":"IF($O20=\"\",\"\",SUMIF(DMA!$M$5:$M$503,Graphs!$O20,DMA!P$5:P$503))","v":""},{"$f":"IF($O20=\"\",\"\",SUMIF(DMA!$M$5:$M$503,Graphs!$O20,DMA!Q$5:Q$503))","v":""},"",{"$f":"IF(O20=\"\",\"\",COUNTIF(DMA!M$5:M$503,Graphs!A20))","v":""},"","","","","","","",{"$f":"IF(W164=\"\",\"\",W164*P164)","v":""},{"$f":"IF(X164=\"\",\"\",X164*Q164)","v":""},{"$f":"IF(Y164=\"\",\"\",Y164*R164)","v":""},null,null,null,null,null,null,null,null,null,null,null,null,null,null,null,null,null,null,null,null,"","","",{"$f":"IF(P20=\"\",\"\",IF(P20=0,\"\",SQRT(SUMIF(DMA!$DJ$5:$DJ$503,Graphs!$O20,DMA!DK$5:DK$503))/COUNTIF(DMA!$DJ$5:$DJ$503,Graphs!$O20)))","v":""},{"$f":"IF(Q20=\"\",\"\",IF(Q20=0,\"\",SQRT(SUMIF(DMA!$DJ$5:$DJ$503,Graphs!$O20,DMA!DL$5:DL$503))/COUNTIF(DMA!$DJ$5:$DJ$503,Graphs!$O20)))","v":""},{"$f":"IF(R20=\"\",\"\",IF(R20=0,\"\",SQRT(SUMIF(DMA!$DJ$5:$DJ$503,Graphs!$O20,DMA!DM$5:DM$503))/COUNTIF(DMA!$DJ$5:$DJ$503,Graphs!$O20)))","v":""},{"$f":"IF($P20=\"\",\"\",IF(P20=0,\"\",AVERAGEIF(DMA!$M$5:$M$503,Graphs!$O20,DMA!N$5:N$503)))","v":""},{"$f":"IF($Q20=\"\",\"\",IF(Q20=0,\"\",AVERAGEIF(DMA!$M$5:$M$503,Graphs!$O20,DMA!O$5:O$503)))","v":""},{"$f":"IF($R20=\"\",\"\",IF(R20=0,\"\",AVERAGEIF(DMA!$M$5:$M$503,Graphs!$O20,DMA!P$5:P$503)))","v":""},null,null,null,null,{"$f":"IF($O20=\"\",\"\",COUNTIFS(DMA!$M$5:$M$503,Graphs!$O20,DMA!N$5:N$503,\">0\"))","v":""},{"$f":"IF($O20=\"\",\"\",COUNTIFS(DMA!$M$5:$M$503,Graphs!$O20,DMA!O$5:O$503,\">0\"))","v":""},{"$f":"IF($O20=\"\",\"\",COUNTIFS(DMA!$M$5:$M$503,Graphs!$O20,DMA!P$5:P$503,\">0\"))","v":""}]
[null,{"$f":"IF(A21=\"\",\"\",(SUMIF(DMA!$AO$5:$AO$604,$A21,DMA!$AQ$5:$AQ$603)/DMA!AQ$604))","v":""},{"$f":"IF(A21=\"\",\"\",(SUMIF(DMA!$CQ$5:$CQ$603,$A21,DMA!$CO$5:$CO$603))*0.01)","v":""},{"$f":"IF(B21=\"\",\"\",(SUMIF(DMA!$CQ$5:$CQ$603,$A21,DMA!$CP$5:$CP$603)))","v":""},{"$f":"IF(COUNTIF(DMA!I$5:I$503,Graphs!$A21)>0,Graphs!$A21,\"\")","v":""},{"$f":"IF(E21=\"\",\"\",COUNTIF(DMA!I$5:I$503,Graphs!E21))","v":""},{"$f":"IF(E21=\"\",\"\",SUMIF(DMA!I$5:I$503,Graphs!E21,DMA!J$5:J$503)/COUNTIF(DMA!I$5:I$503,Graphs!E21))","v":""},{"$f":"IF(SUMIF(DMA!B$5:B$503,Graphs!A21,DMA!D$5:D$503)>0,Graphs!A21,\"\")","v":""},{"$f":"IF(H21=\"\",\"\",COUNTIF(DMA!B$5:B$503,Graphs!A21))","v":""},{"$f":"IF(H21=\"\",\"\",10^(-0.7083129+0.297*(SUMIF(DMA!B$5:B$503,Graphs!H21,DMA!D$5:D$503)/COUNTIF(DMA!B$5:B$503,Graphs!H21))))","v":""},{"$f":"IF(COUNTIF(DMA!R$5:R$503,Graphs!$A21)>0,Graphs!$A21,\"\")","v":""},{"$f":"IF(K21=\"\",\"\",COUNTIF(DMA!R$5:R$503,Graphs!A21))","v":""},{"$f":"IF(K21=\"\",\"\",(SUMIF(DMA!R$5:R$503,Graphs!A21,DMA!S$5:S$503)/COUNTIF(DMA!R$5:R$503,Graphs!A21)))","v":""},"",{"$f":"IF(COUNTIF(DMA!M$5:M$503,Graphs!$A21)>0,Graphs!$A21,\"\")","v":""},{"$f":"IF($O21=\"\",\"\",SUMIF(DMA!$M$5:$M$503,Graphs!$O21,DMA!N$5:N$503))","v":""},{"$f":"IF($O21=\"\",\"\",SUMIF(DMA!$M$5:$M$503,Graphs!$O21,DMA!O$5:O$503))","v":""},{"$f":"IF($O21=\"\",\"\",SUMIF(DMA!$M$5:$M$503,Graphs!$O21,DMA!P$5:P$503))","v":""},{"$f":"IF($O21=\"\",\"\",SUMIF(DMA!$M$5:$M$503,Graphs!$O21,DMA!Q$5:Q$503))","v":""},"",{"$f":"IF(O21=\"\",\"\",COUNTIF(DMA!M$5:M$503,Graphs!A21))","v":""},"","","","","","","","","","",null,null,null,null,null,null,null,null,null,null,null,null,null,null,null,null,null,null,null,null,"","","",{"$f":"IF(P21=\"\",\"\",IF(P21=0,\"\",SQRT(SUMIF(DMA!$DJ$5:$DJ$503,Graphs!$O21,DMA!DK$5:DK$503))/COUNTIF(DMA!$DJ$5:$DJ$503,Graphs!$O21)))","v":""},{"$f":"IF(Q21=\"\",\"\",IF(Q21=0,\"\",SQRT(SUMIF(DMA!$DJ$5:$DJ$503,Graphs!$O21,DMA!DL$5:DL$503))/COUNTIF(DMA!$DJ$5:$DJ$503,Graphs!$O21)))","v":""},{"$f":"IF(R21=\"\",\"\",IF(R21=0,\"\",SQRT(SUMIF(DMA!$DJ$5:$DJ$503,Graphs!$O21,DMA!DM$5:DM$503))/COUNTIF(DMA!$DJ$5:$DJ$503,Graphs!$O21)))","v":""},{"$f":"IF($P21=\"\",\"\",IF(P21=0,\"\",AVERAGEIF(DMA!$M$5:$M$503,Graphs!$O21,DMA!N$5:N$503)))","v":""},{"$f":"IF($Q21=\"\",\"\",IF(Q21=0,\"\",AVERAGEIF(DMA!$M$5:$M$503,Graphs!$O21,DMA!O$5:O$503)))","v":""},{"$f":"IF($R21=\"\",\"\",IF(R21=0,\"\",AVERAGEIF(DMA!$M$5:$M$503,Graphs!$O21,DMA!P$5:P$503)))","v":""},null,null,null,null,{"$f":"IF($O21=\"\",\"\",COUNTIFS(DMA!$M$5:$M$503,Graphs!$O21,DMA!N$5:N$503,\">0\"))","v":""},{"$f":"IF($O21=\"\",\"\",COUNTIFS(DMA!$M$5:$M$503,Graphs!$O21,DMA!O$5:O$503,\">0\"))","v":""},{"$f":"IF($O21=\"\",\"\",COUNTIFS(DMA!$M$5:$M$503,Graphs!$O21,DMA!P$5:P$503,\">0\"))","v":""}]
[null,{"$f":"IF(A22=\"\",\"\",(SUMIF(DMA!$AO$5:$AO$604,$A22,DMA!$AQ$5:$AQ$603)/DMA!AQ$604))","v":""},{"$f":"IF(A22=\"\",\"\",(SUMIF(DMA!$CQ$5:$CQ$603,$A22,DMA!$CO$5:$CO$603))*0.01)","v":""},{"$f":"IF(B22=\"\",\"\",(SUMIF(DMA!$CQ$5:$CQ$603,$A22,DMA!$CP$5:$CP$603)))","v":""},{"$f":"IF(COUNTIF(DMA!I$5:I$503,Graphs!$A22)>0,Graphs!$A22,\"\")","v":""},{"$f":"IF(E22=\"\",\"\",COUNTIF(DMA!I$5:I$503,Graphs!E22))","v":""},{"$f":"IF(E22=\"\",\"\",SUMIF(DMA!I$5:I$503,Graphs!E22,DMA!J$5:J$503)/COUNTIF(DMA!I$5:I$503,Graphs!E22))","v":""},{"$f":"IF(SUMIF(DMA!B$5:B$503,Graphs!A22,DMA!D$5:D$503)>0,Graphs!A22,\"\")","v":""},{"$f":"IF(H22=\"\",\"\",COUNTIF(DMA!B$5:B$503,Graphs!A22))","v":""},{"$f":"IF(H22=\"\",\"\",10^(-0.7083129+0.297*(SUMIF(DMA!B$5:B$503,Graphs!H22,DMA!D$5:D$503)/COUNTIF(DMA!B$5:B$503,Graphs!H22))))","v":""},{"$f":"IF(COUNTIF(DMA!R$5:R$503,Graphs!$A22)>0,Graphs!$A22,\"\")","v":""},{"$f":"IF(K22=\"\",\"\",COUNTIF(DMA!R$5:R$503,Graphs!A22))","v":""},{"$f":"IF(K22=\"\",\"\",(SUMIF(DMA!R$5:R$503,Graphs!A22,DMA!S$5:S$503)/COUNTIF(DMA!R$5:R$503,Graphs!A22)))","v":""},"",{"$f":"IF(COUNTIF(DMA!M$5:M$503,Graphs!$A22)>0,Graphs!$A22,\"\")","v":""},{"$f":"IF($O22=\"\",\"\",SUMIF(DMA!$M$5:$M$503,Graphs!$O22,DMA!N$5:N$503))","v":""},{"$f":"IF($O22=\"\",\"\",SUMIF(DMA!$M$5:$M$503,Graphs!$O22,DMA!O$5:O$503))","v":""},{"$f":"IF($O22=\"\",\"\",SUMIF(DMA!$M$5:$M$503,Graphs!$O22,DMA!P$5:P$503))","v":""},{"$f":"IF($O22=\"\",\"\",SUMIF(DMA!$M$5:$M$503,Graphs!$O22,DMA!Q$5:Q$503))","v":""},"",{"$f":"IF(O22=\"\",\"\",COUNTIF(DMA!M$5:M$503,Graphs!A22))","v":""},"","","","","","","","","","",null,null,null,null,null,null,null,null,null,null,null,null,null,null,null,null,null,null,null,null,"","","",{"$f":"IF(P22=\"\",\"\",IF(P22=0,\"\",SQRT(SUMIF(DMA!$DJ$5:$DJ$503,Graphs!$O22,DMA!DK$5:DK$503))/COUNTIF(DMA!$DJ$5:$DJ$503,Graphs!$O22)))","v":""},{"$f":"IF(Q22=\"\",\"\",IF(Q22=0,\"\",SQRT(SUMIF(DMA!$DJ$5:$DJ$503,Graphs!$O22,DMA!DL$5:DL$503))/COUNTIF(DMA!$DJ$5:$DJ$503,Graphs!$O22)))","v":""},{"$f":"IF(R22=\"\",\"\",IF(R22=0,\"\",SQRT(SUMIF(DMA!$DJ$5:$DJ$503,Graphs!$O22,DMA!DM$5:DM$503))/COUNTIF(DMA!$DJ$5:$DJ$503,Graphs!$O22)))","v":""},{"$f":"IF($P22=\"\",\"\",IF(P22=0,\"\",AVERAGEIF(DMA!$M$5:$M$503,Graphs!$O22,DMA!N$5:N$503)))","v":""},{"$f":"IF($Q22=\"\",\"\",IF(Q22=0,\"\",AVERAGEIF(DMA!$M$5:$M$503,Graphs!$O22,DMA!O$5:O$503)))","v":""},{"$f":"IF($R22=\"\",\"\",IF(R22=0,\"\",AVERAGEIF(DMA!$M$5:$M$503,Graphs!$O22,DMA!P$5:P$503)))","v":""},null,null,null,null,{"$f":"IF($O22=\"\",\"\",COUNTIFS(DMA!$M$5:$M$503,Graphs!$O22,DMA!N$5:N$503,\">0\"))","v":""},{"$f":"IF($O22=\"\",\"\",COUNTIFS(DMA!$M$5:$M$503,Graphs!$O22,DMA!O$5:O$503,\">0\"))","v":""},{"$f":"IF($O22=\"\",\"\",COUNTIFS(DMA!$M$5:$M$503,Graphs!$O22,DMA!P$5:P$503,\">0\"))","v":""}]
[null,{"$f":"IF(A23=\"\",\"\",(SUMIF(DMA!$AO$5:$AO$604,$A23,DMA!$AQ$5:$AQ$603)/DMA!AQ$604))","v":""},{"$f":"IF(A23=\"\",\"\",(SUMIF(DMA!$CQ$5:$CQ$603,$A23,DMA!$CO$5:$CO$603))*0.01)","v":""},{"$f":"IF(B23=\"\",\"\",(SUMIF(DMA!$CQ$5:$CQ$603,$A23,DMA!$CP$5:$CP$603)))","v":""},{"$f":"IF(COUNTIF(DMA!I$5:I$503,Graphs!$A23)>0,Graphs!$A23,\"\")","v":""},{"$f":"IF(E23=\"\",\"\",COUNTIF(DMA!I$5:I$503,Graphs!E23))","v":""},{"$f":"IF(E23=\"\",\"\",SUMIF(DMA!I$5:I$503,Graphs!E23,DMA!J$5:J$503)/COUNTIF(DMA!I$5:I$503,Graphs!E23))","v":""},{"$f":"IF(SUMIF(DMA!B$5:B$503,Graphs!A23,DMA!D$5:D$503)>0,Graphs!A23,\"\")","v":""},{"$f":"IF(H23=\"\",\"\",COUNTIF(DMA!B$5:B$503,Graphs!A23))","v":""},{"$f":"IF(H23=\"\",\"\",10^(-0.7083129+0.297*(SUMIF(DMA!B$5:B$503,Graphs!H23,DMA!D$5:D$503)/COUNTIF(DMA!B$5:B$503,Graphs!H23))))","v":""},{"$f":"IF(COUNTIF(DMA!R$5:R$503,Graphs!$A23)>0,Graphs!$A23,\"\")","v":""},{"$f":"IF(K23=\"\",\"\",COUNTIF(DMA!R$5:R$503,Graphs!A23))","v":""},{"$f":"IF(K23=\"\",\"\",(SUMIF(DMA!R$5:R$503,Graphs!A23,DMA!S$5:S$503)/COUNTIF(DMA!R$5:R$503,Graphs!A23)))","v":""},"",{"$f":"IF(COUNTIF(DMA!M$5:M$503,Graphs!$A23)>0,Graphs!$A23,\"\")","v":""},{"$f":"IF($O23=\"\",\"\",SUMIF(DMA!$M$5:$M$503,Graphs!$O23,DMA!N$5:N$503))","v":""},{"$f":"IF($O23=\"\",\"\",SUMIF(DMA!$M$5:$M$503,Graphs!$O23,DMA!O$5:O$503))","v":""},{"$f":"IF($O23=\"\",\"\",SUMIF(DMA!$M$5:$M$503,Graphs!$O23,DMA!P$5:P$503))","v":""},{"$f":"IF($O23=\"\",\"\",SUMIF(DMA!$M$5:$M$503,Graphs!$O23,DMA!Q$5:Q$503))","v":""},"",{"$f":"IF(O23=\"\",\"\",COUNTIF(DMA!M$5:M$503,Graphs!A23))","v":""},"","","","","","","","","","",null,null,null,null,null,null,null,null,null,null,null,null,null,null,null,null,null,null,null,null,"","","",{"$f":"IF(P23=\"\",\"\",IF(P23=0,\"\",SQRT(SUMIF(DMA!$DJ$5:$DJ$503,Graphs!$O23,DMA!DK$5:DK$503))/COUNTIF(DMA!$DJ$5:$DJ$503,Graphs!$O23)))","v":""},{"$f":"IF(Q23=\"\",\"\",IF(Q23=0,\"\",SQRT(SUMIF(DMA!$DJ$5:$DJ$503,Graphs!$O23,DMA!DL$5:DL$503))/COUNTIF(DMA!$DJ$5:$DJ$503,Graphs!$O23)))","v":""},{"$f":"IF(R23=\"\",\"\",IF(R23=0,\"\",SQRT(SUMIF(DMA!$DJ$5:$DJ$503,Graphs!$O23,DMA!DM$5:DM$503))/COUNTIF(DMA!$DJ$5:$DJ$503,Graphs!$O23)))","v":""},{"$f":"IF($P23=\"\",\"\",IF(P23=0,\"\",AVERAGEIF(DMA!$M$5:$M$503,Graphs!$O23,DMA!N$5:N$503)))","v":""},{"$f":"IF($Q23=\"\",\"\",IF(Q23=0,\"\",AVERAGEIF(DMA!$M$5:$M$503,Graphs!$O23,DMA!O$5:O$503)))","v":""},{"$f":"IF($R23=\"\",\"\",IF(R23=0,\"\",AVERAGEIF(DMA!$M$5:$M$503,Graphs!$O23,DMA!P$5:P$503)))","v":""},null,null,null,null,{"$f":"IF($O23=\"\",\"\",COUNTIFS(DMA!$M$5:$M$503,Graphs!$O23,DMA!N$5:N$503,\">0\"))","v":""},{"$f":"IF($O23=\"\",\"\",COUNTIFS(DMA!$M$5:$M$503,Graphs!$O23,DMA!O$5:O$503,\">0\"))","v":""},{"$f":"IF($O23=\"\",\"\",COUNTIFS(DMA!$M$5:$M$503,Graphs!$O23,DMA!P$5:P$503,\">0\"))","v":""}]
[null,{"$f":"IF(A24=\"\",\"\",(SUMIF(DMA!$AO$5:$AO$604,$A24,DMA!$AQ$5:$AQ$603)/DMA!AQ$604))","v":""},{"$f":"IF(A24=\"\",\"\",(SUMIF(DMA!$CQ$5:$CQ$603,$A24,DMA!$CO$5:$CO$603))*0.01)","v":""},{"$f":"IF(B24=\"\",\"\",(SUMIF(DMA!$CQ$5:$CQ$603,$A24,DMA!$CP$5:$CP$603)))","v":""},{"$f":"IF(COUNTIF(DMA!I$5:I$503,Graphs!$A24)>0,Graphs!$A24,\"\")","v":""},{"$f":"IF(E24=\"\",\"\",COUNTIF(DMA!I$5:I$503,Graphs!E24))","v":""},{"$f":"IF(E24=\"\",\"\",SUMIF(DMA!I$5:I$503,Graphs!E24,DMA!J$5:J$503)/COUNTIF(DMA!I$5:I$503,Graphs!E24))","v":""},{"$f":"IF(SUMIF(DMA!B$5:B$503,Graphs!A24,DMA!D$5:D$503)>0,Graphs!A24,\"\")","v":""},{"$f":"IF(H24=\"\",\"\",COUNTIF(DMA!B$5:B$503,Graphs!A24))","v":""},{"$f":"IF(H24=\"\",\"\",10^(-0.7083129+0.297*(SUMIF(DMA!B$5:B$503,Graphs!H24,DMA!D$5:D$503)/COUNTIF(DMA!B$5:B$503,Graphs!H24))))","v":""},{"$f":"IF(COUNTIF(DMA!R$5:R$503,Graphs!$A24)>0,Graphs!$A24,\"\")","v":""},{"$f":"IF(K24=\"\",\"\",COUNTIF(DMA!R$5:R$503,Graphs!A24))","v":""},{"$f":"IF(K24=\"\",\"\",(SUMIF(DMA!R$5:R$503,Graphs!A24,DMA!S$5:S$503)/COUNTIF(DMA!R$5:R$503,Graphs!A24)))","v":""},"",{"$f":"IF(COUNTIF(DMA!M$5:M$503,Graphs!$A24)>0,Graphs!$A24,\"\")","v":""},{"$f":"IF($O24=\"\",\"\",SUMIF(DMA!$M$5:$M$503,Graphs!$O24,DMA!N$5:N$503))","v":""},{"$f":"IF($O24=\"\",\"\",SUMIF(DMA!$M$5:$M$503,Graphs!$O24,DMA!O$5:O$503))","v":""},{"$f":"IF($O24=\"\",\"\",SUMIF(DMA!$M$5:$M$503,Graphs!$O24,DMA!P$5:P$503))","v":""},{"$f":"IF($O24=\"\",\"\",SUMIF(DMA!$M$5:$M$503,Graphs!$O24,DMA!Q$5:Q$503))","v":""},"",{"$f":"IF(O24=\"\",\"\",COUNTIF(DMA!M$5:M$503,Graphs!A24))","v":""},"","","","","","","","","","",null,null,null,null,null,null,null,null,null,null,null,null,null,null,null,null,null,null,null,null,"","","",{"$f":"IF(P24=\"\",\"\",IF(P24=0,\"\",SQRT(SUMIF(DMA!$DJ$5:$DJ$503,Graphs!$O24,DMA!DK$5:DK$503))/COUNTIF(DMA!$DJ$5:$DJ$503,Graphs!$O24)))","v":""},{"$f":"IF(Q24=\"\",\"\",IF(Q24=0,\"\",SQRT(SUMIF(DMA!$DJ$5:$DJ$503,Graphs!$O24,DMA!DL$5:DL$503))/COUNTIF(DMA!$DJ$5:$DJ$503,Graphs!$O24)))","v":""},{"$f":"IF(R24=\"\",\"\",IF(R24=0,\"\",SQRT(SUMIF(DMA!$DJ$5:$DJ$503,Graphs!$O24,DMA!DM$5:DM$503))/COUNTIF(DMA!$DJ$5:$DJ$503,Graphs!$O24)))","v":""},{"$f":"IF($P24=\"\",\"\",IF(P24=0,\"\",AVERAGEIF(DMA!$M$5:$M$503,Graphs!$O24,DMA!N$5:N$503)))","v":""},{"$f":"IF($Q24=\"\",\"\",IF(Q24=0,\"\",AVERAGEIF(DMA!$M$5:$M$503,Graphs!$O24,DMA!O$5:O$503)))","v":""},{"$f":"IF($R24=\"\",\"\",IF(R24=0,\"\",AVERAGEIF(DMA!$M$5:$M$503,Graphs!$O24,DMA!P$5:P$503)))","v":""},null,null,null,null,{"$f":"IF($O24=\"\",\"\",COUNTIFS(DMA!$M$5:$M$503,Graphs!$O24,DMA!N$5:N$503,\">0\"))","v":""},{"$f":"IF($O24=\"\",\"\",COUNTIFS(DMA!$M$5:$M$503,Graphs!$O24,DMA!O$5:O$503,\">0\"))","v":""},{"$f":"IF($O24=\"\",\"\",COUNTIFS(DMA!$M$5:$M$503,Graphs!$O24,DMA!P$5:P$503,\">0\"))","v":""}]
[null,{"$f":"IF(A25=\"\",\"\",(SUMIF(DMA!$AO$5:$AO$604,$A25,DMA!$AQ$5:$AQ$603)/DMA!AQ$604))","v":""},{"$f":"IF(A25=\"\",\"\",(SUMIF(DMA!$CQ$5:$CQ$603,$A25,DMA!$CO$5:$CO$603))*0.01)","v":""},{"$f":"IF(B25=\"\",\"\",(SUMIF(DMA!$CQ$5:$CQ$603,$A25,DMA!$CP$5:$CP$603)))","v":""},{"$f":"IF(COUNTIF(DMA!I$5:I$503,Graphs!$A25)>0,Graphs!$A25,\"\")","v":""},{"$f":"IF(E25=\"\",\"\",COUNTIF(DMA!I$5:I$503,Graphs!E25))","v":""},{"$f":"IF(E25=\"\",\"\",SUMIF(DMA!I$5:I$503,Graphs!E25,DMA!J$5:J$503)/COUNTIF(DMA!I$5:I$503,Graphs!E25))","v":""},{"$f":"IF(SUMIF(DMA!B$5:B$503,Graphs!A25,DMA!D$5:D$503)>0,Graphs!A25,\"\")","v":""},{"$f":"IF(H25=\"\",\"\",COUNTIF(DMA!B$5:B$503,Graphs!A25))","v":""},{"$f":"IF(H25=\"\",\"\",10^(-0.7083129+0.297*(SUMIF(DMA!B$5:B$503,Graphs!H25,DMA!D$5:D$503)/COUNTIF(DMA!B$5:B$503,Graphs!H25))))","v":""},{"$f":"IF(COUNTIF(DMA!R$5:R$503,Graphs!$A25)>0,Graphs!$A25,\"\")","v":""},{"$f":"IF(K25=\"\",\"\",COUNTIF(DMA!R$5:R$503,Graphs!A25))","v":""},{"$f":"IF(K25=\"\",\"\",(SUMIF(DMA!R$5:R$503,Graphs!A25,DMA!S$5:S$503)/COUNTIF(DMA!R$5:R$503,Graphs!A25)))","v":""},"",{"$f":"IF(COUNTIF(DMA!M$5:M$503,Graphs!$A25)>0,Graphs!$A25,\"\")","v":""},{"$f":"IF($O25=\"\",\"\",SUMIF(DMA!$M$5:$M$503,Graphs!$O25,DMA!N$5:N$503))","v":""},{"$f":"IF($O25=\"\",\"\",SUMIF(DMA!$M$5:$M$503,Graphs!$O25,DMA!O$5:O$503))","v":""},{"$f":"IF($O25=\"\",\"\",SUMIF(DMA!$M$5:$M$503,Graphs!$O25,DMA!P$5:P$503))","v":""},{"$f":"IF($O25=\"\",\"\",SUMIF(DMA!$M$5:$M$503,Graphs!$O25,DMA!Q$5:Q$503))","v":""},"",{"$f":"IF(O25=\"\",\"\",COUNTIF(DMA!M$5:M$503,Graphs!A25))","v":""},"","","","","","","","","","",null,null,null,null,null,null,null,null,null,null,null,null,null,null,null,null,null,null,null,null,"","","",{"$f":"IF(P25=\"\",\"\",IF(P25=0,\"\",SQRT(SUMIF(DMA!$DJ$5:$DJ$503,Graphs!$O25,DMA!DK$5:DK$503))/COUNTIF(DMA!$DJ$5:$DJ$503,Graphs!$O25)))","v":""},{"$f":"IF(Q25=\"\",\"\",IF(Q25=0,\"\",SQRT(SUMIF(DMA!$DJ$5:$DJ$503,Graphs!$O25,DMA!DL$5:DL$503))/COUNTIF(DMA!$DJ$5:$DJ$503,Graphs!$O25)))","v":""},{"$f":"IF(R25=\"\",\"\",IF(R25=0,\"\",SQRT(SUMIF(DMA!$DJ$5:$DJ$503,Graphs!$O25,DMA!DM$5:DM$503))/COUNTIF(DMA!$DJ$5:$DJ$503,Graphs!$O25)))","v":""},{"$f":"IF($P25=\"\",\"\",IF(P25=0,\"\",AVERAGEIF(DMA!$M$5:$M$503,Graphs!$O25,DMA!N$5:N$503)))","v":""},{"$f":"IF($Q25=\"\",\"\",IF(Q25=0,\"\",AVERAGEIF(DMA!$M$5:$M$503,Graphs!$O25,DMA!O$5:O$503)))","v":""},{"$f":"IF($R25=\"\",\"\",IF(R25=0,\"\",AVERAGEIF(DMA!$M$5:$M$503,Graphs!$O25,DMA!P$5:P$503)))","v":""},null,null,null,null,{"$f":"IF($O25=\"\",\"\",COUNTIFS(DMA!$M$5:$M$503,Graphs!$O25,DMA!N$5:N$503,\">0\"))","v":""},{"$f":"IF($O25=\"\",\"\",COUNTIFS(DMA!$M$5:$M$503,Graphs!$O25,DMA!O$5:O$503,\">0\"))","v":""},{"$f":"IF($O25=\"\",\"\",COUNTIFS(DMA!$M$5:$M$503,Graphs!$O25,DMA!P$5:P$503,\">0\"))","v":""}]
[null,{"$f":"IF(A26=\"\",\"\",(SUMIF(DMA!$AO$5:$AO$604,$A26,DMA!$AQ$5:$AQ$603)/DMA!AQ$604))","v":""},{"$f":"IF(A26=\"\",\"\",(SUMIF(DMA!$CQ$5:$CQ$603,$A26,DMA!$CO$5:$CO$603))*0.01)","v":""},{"$f":"IF(B26=\"\",\"\",(SUMIF(DMA!$CQ$5:$CQ$603,$A26,DMA!$CP$5:$CP$603)))","v":""},{"$f":"IF(COUNTIF(DMA!I$5:I$503,Graphs!$A26)>0,Graphs!$A26,\"\")","v":""},{"$f":"IF(E26=\"\",\"\",COUNTIF(DMA!I$5:I$503,Graphs!E26))","v":""},{"$f":"IF(E26=\"\",\"\",SUMIF(DMA!I$5:I$503,Graphs!E26,DMA!J$5:J$503)/COUNTIF(DMA!I$5:I$503,Graphs!E26))","v":""},{"$f":"IF(SUMIF(DMA!B$5:B$503,Graphs!A26,DMA!D$5:D$503)>0,Graphs!A26,\"\")","v":""},{"$f":"IF(H26=\"\",\"\",COUNTIF(DMA!B$5:B$503,Graphs!A26))","v":""},{"$f":"IF(H26=\"\",\"\",10^(-0.7083129+0.297*(SUMIF(DMA!B$5:B$503,Graphs!H26,DMA!D$5:D$503)/COUNTIF(DMA!B$5:B$503,Graphs!H26))))","v":""},{"$f":"IF(COUNTIF(DMA!R$5:R$503,Graphs!$A26)>0,Graphs!$A26,\"\")","v":""},{"$f":"IF(K26=\"\",\"\",COUNTIF(DMA!R$5:R$503,Graphs!A26))","v":""},{"$f":"IF(K26=\"\",\"\",(SUMIF(DMA!R$5:R$503,Graphs!A26,DMA!S$5:S$503)/COUNTIF(DMA!R$5:R$503,Graphs!A26)))","v":""},"",{"$f":"IF(COUNTIF(DMA!M$5:M$503,Graphs!$A26)>0,Graphs!$A26,\"\")","v":""},{"$f":"IF($O26=\"\",\"\",SUMIF(DMA!$M$5:$M$503,Graphs!$O26,DMA!N$5:N$503))","v":""},{"$f":"IF($O26=\"\",\"\",SUMIF(DMA!$M$5:$M$503,Graphs!$O26,DMA!O$5:O$503))","v":""},{"$f":"IF($O26=\"\",\"\",SUMIF(DMA!$M$5:$M$503,Graphs!$O26,DMA!P$5:P$503))","v":""},{"$f":"IF($O26=\"\",\"\",SUMIF(DMA!$M$5:$M$503,Graphs!$O26,DMA!Q$5:Q$503))","v":""},"",{"$f":"IF(O26=\"\",\"\",COUNTIF(DMA!M$5:M$503,Graphs!A26))","v":""},"","","","","","","","","","",null,null,null,null,null,null,null,null,null,null,null,null,null,null,null,null,null,null,null,null,"","","",{"$f":"IF(P26=\"\",\"\",IF(P26=0,\"\",SQRT(SUMIF(DMA!$DJ$5:$DJ$503,Graphs!$O26,DMA!DK$5:DK$503))/COUNTIF(DMA!$DJ$5:$DJ$503,Graphs!$O26)))","v":""},{"$f":"IF(Q26=\"\",\"\",IF(Q26=0,\"\",SQRT(SUMIF(DMA!$DJ$5:$DJ$503,Graphs!$O26,DMA!DL$5:DL$503))/COUNTIF(DMA!$DJ$5:$DJ$503,Graphs!$O26)))","v":""},{"$f":"IF(R26=\"\",\"\",IF(R26=0,\"\",SQRT(SUMIF(DMA!$DJ$5:$DJ$503,Graphs!$O26,DMA!DM$5:DM$503))/COUNTIF(DMA!$DJ$5:$DJ$503,Graphs!$O26)))","v":""},{"$f":"IF($P26=\"\",\"\",IF(P26=0,\"\",AVERAGEIF(DMA!$M$5:$M$503,Graphs!$O26,DMA!N$5:N$503)))","v":""},{"$f":"IF($Q26=\"\",\"\",IF(Q26=0,\"\",AVERAGEIF(DMA!$M$5:$M$503,Graphs!$O26,DMA!O$5:O$503)))","v":""},{"$f":"IF($R26=\"\",\"\",IF(R26=0,\"\",AVERAGEIF(DMA!$M$5:$M$503,Graphs!$O26,DMA!P$5:P$503)))","v":""},null,null,null,null,{"$f":"IF($O26=\"\",\"\",COUNTIFS(DMA!$M$5:$M$503,Graphs!$O26,DMA!N$5:N$503,\">0\"))","v":""},{"$f":"IF($O26=\"\",\"\",COUNTIFS(DMA!$M$5:$M$503,Graphs!$O26,DMA!O$5:O$503,\">0\"))","v":""},{"$f":"IF($O26=\"\",\"\",COUNTIFS(DMA!$M$5:$M$503,Graphs!$O26,DMA!P$5:P$503,\">0\"))","v":""}]
[null,{"$f":"IF(A27=\"\",\"\",(SUMIF(DMA!$AO$5:$AO$604,$A27,DMA!$AQ$5:$AQ$603)/DMA!AQ$604))","v":""},{"$f":"IF(A27=\"\",\"\",(SUMIF(DMA!$CQ$5:$CQ$603,$A27,DMA!$CO$5:$CO$603))*0.01)","v":""},{"$f":"IF(B27=\"\",\"\",(SUMIF(DMA!$CQ$5:$CQ$603,$A27,DMA!$CP$5:$CP$603)))","v":""},{"$f":"IF(COUNTIF(DMA!I$5:I$503,Graphs!$A27)>0,Graphs!$A27,\"\")","v":""},{"$f":"IF(E27=\"\",\"\",COUNTIF(DMA!I$5:I$503,Graphs!E27))","v":""},{"$f":"IF(E27=\"\",\"\",SUMIF(DMA!I$5:I$503,Graphs!E27,DMA!J$5:J$503)/COUNTIF(DMA!I$5:I$503,Graphs!E27))","v":""},{"$f":"IF(SUMIF(DMA!B$5:B$503,Graphs!A27,DMA!D$5:D$503)>0,Graphs!A27,\"\")","v":""},{"$f":"IF(H27=\"\",\"\",COUNTIF(DMA!B$5:B$503,Graphs!A27))","v":""},{"$f":"IF(H27=\"\",\"\",10^(-0.7083129+0.297*(SUMIF(DMA!B$5:B$503,Graphs!H27,DMA!D$5:D$503)/COUNTIF(DMA!B$5:B$503,Graphs!H27))))","v":""},{"$f":"IF(COUNTIF(DMA!R$5:R$503,Graphs!$A27)>0,Graphs!$A27,\"\")","v":""},{"$f":"IF(K27=\"\",\"\",COUNTIF(DMA!R$5:R$503,Graphs!A27))","v":""},{"$f":"IF(K27=\"\",\"\",(SUMIF(DMA!R$5:R$503,Graphs!A27,DMA!S$5:S$503)/COUNTIF(DMA!R$5:R$503,Graphs!A27)))","v":""},"",{"$f":"IF(COUNTIF(DMA!M$5:M$503,Graphs!$A27)>0,Graphs!$A27,\"\")","v":""},{"$f":"IF($O27=\"\",\"\",SUMIF(DMA!$M$5:$M$503,Graphs!$O27,DMA!N$5:N$503))","v":""},{"$f":"IF($O27=\"\",\"\",SUMIF(DMA!$M$5:$M$503,Graphs!$O27,DMA!O$5:O$503))","v":""},{"$f":"IF($O27=\"\",\"\",SUMIF(DMA!$M$5:$M$503,Graphs!$O27,DMA!P$5:P$503))","v":""},{"$f":"IF($O27=\"\",\"\",SUMIF(DMA!$M$5:$M$503,Graphs!$O27,DMA!Q$5:Q$503))","v":""},"",{"$f":"IF(O27=\"\",\"\",COUNTIF(DMA!M$5:M$503,Graphs!A27))","v":""},"","","","","","","","","","",null,null,null,null,null,null,null,null,null,null,null,null,null,null,null,null,null,null,null,null,"","","",{"$f":"IF(P27=\"\",\"\",IF(P27=0,\"\",SQRT(SUMIF(DMA!$DJ$5:$DJ$503,Graphs!$O27,DMA!DK$5:DK$503))/COUNTIF(DMA!$DJ$5:$DJ$503,Graphs!$O27)))","v":""},{"$f":"IF(Q27=\"\",\"\",IF(Q27=0,\"\",SQRT(SUMIF(DMA!$DJ$5:$DJ$503,Graphs!$O27,DMA!DL$5:DL$503))/COUNTIF(DMA!$DJ$5:$DJ$503,Graphs!$O27)))","v":""},{"$f":"IF(R27=\"\",\"\",IF(R27=0,\"\",SQRT(SUMIF(DMA!$DJ$5:$DJ$503,Graphs!$O27,DMA!DM$5:DM$503))/COUNTIF(DMA!$DJ$5:$DJ$503,Graphs!$O27)))","v":""},{"$f":"IF($P27=\"\",\"\",IF(P27=0,\"\",AVERAGEIF(DMA!$M$5:$M$503,Graphs!$O27,DMA!N$5:N$503)))","v":""},{"$f":"IF($Q27=\"\",\"\",IF(Q27=0,\"\",AVERAGEIF(DMA!$M$5:$M$503,Graphs!$O27,DMA!O$5:O$503)))","v":""},{"$f":"IF($R27=\"\",\"\",IF(R27=0,\"\",AVERAGEIF(DMA!$M$5:$M$503,Graphs!$O27,DMA!P$5:P$503)))","v":""},null,null,null,null,{"$f":"IF($O27=\"\",\"\",COUNTIFS(DMA!$M$5:$M$503,Graphs!$O27,DMA!N$5:N$503,\">0\"))","v":""},{"$f":"IF($O27=\"\",\"\",COUNTIFS(DMA!$M$5:$M$503,Graphs!$O27,DMA!O$5:O$503,\">0\"))","v":""},{"$f":"IF($O27=\"\",\"\",COUNTIFS(DMA!$M$5:$M$503,Graphs!$O27,DMA!P$5:P$503,\">0\"))","v":""}]
[null,{"$f":"IF(A28=\"\",\"\",(SUMIF(DMA!$AO$5:$AO$604,$A28,DMA!$AQ$5:$AQ$603)/DMA!AQ$604))","v":""},{"$f":"IF(A28=\"\",\"\",(SUMIF(DMA!$CQ$5:$CQ$603,$A28,DMA!$CO$5:$CO$603))*0.01)","v":""},{"$f":"IF(B28=\"\",\"\",(SUMIF(DMA!$CQ$5:$CQ$603,$A28,DMA!$CP$5:$CP$603)))","v":""},{"$f":"IF(COUNTIF(DMA!I$5:I$503,Graphs!$A28)>0,Graphs!$A28,\"\")","v":""},{"$f":"IF(E28=\"\",\"\",COUNTIF(DMA!I$5:I$503,Graphs!E28))","v":""},{"$f":"IF(E28=\"\",\"\",SUMIF(DMA!I$5:I$503,Graphs!E28,DMA!J$5:J$503)/COUNTIF(DMA!I$5:I$503,Graphs!E28))","v":""},{"$f":"IF(SUMIF(DMA!B$5:B$503,Graphs!A28,DMA!D$5:D$503)>0,Graphs!A28,\"\")","v":""},{"$f":"IF(H28=\"\",\"\",COUNTIF(DMA!B$5:B$503,Graphs!A28))","v":""},{"$f":"IF(H28=\"\",\"\",10^(-0.7083129+0.297*(SUMIF(DMA!B$5:B$503,Graphs!H28,DMA!D$5:D$503)/COUNTIF(DMA!B$5:B$503,Graphs!H28))))","v":""},{"$f":"IF(COUNTIF(DMA!R$5:R$503,Graphs!$A28)>0,Graphs!$A28,\"\")","v":""},{"$f":"IF(K28=\"\",\"\",COUNTIF(DMA!R$5:R$503,Graphs!A28))","v":""},{"$f":"IF(K28=\"\",\"\",(SUMIF(DMA!R$5:R$503,Graphs!A28,DMA!S$5:S$503)/COUNTIF(DMA!R$5:R$503,Graphs!A28)))","v":""},"",{"$f":"IF(COUNTIF(DMA!M$5:M$503,Graphs!$A28)>0,Graphs!$A28,\"\")","v":""},{"$f":"IF($O28=\"\",\"\",SUMIF(DMA!$M$5:$M$503,Graphs!$O28,DMA!N$5:N$503))","v":""},{"$f":"IF($O28=\"\",\"\",SUMIF(DMA!$M$5:$M$503,Graphs!$O28,DMA!O$5:O$503))","v":""},{"$f":"IF($O28=\"\",\"\",SUMIF(DMA!$M$5:$M$503,Graphs!$O28,DMA!P$5:P$503))","v":""},{"$f":"IF($O28=\"\",\"\",SUMIF(DMA!$M$5:$M$503,Graphs!$O28,DMA!Q$5:Q$503))","v":""},"",{"$f":"IF(O28=\"\",\"\",COUNTIF(DMA!M$5:M$503,Graphs!A28))","v":""},"","","","","","","","","","",null,null,null,null,null,null,null,null,null,null,null,null,null,null,null,null,null,null,null,null,"","","",{"$f":"IF(P28=\"\",\"\",IF(P28=0,\"\",SQRT(SUMIF(DMA!$DJ$5:$DJ$503,Graphs!$O28,DMA!DK$5:DK$503))/COUNTIF(DMA!$DJ$5:$DJ$503,Graphs!$O28)))","v":""},{"$f":"IF(Q28=\"\",\"\",IF(Q28=0,\"\",SQRT(SUMIF(DMA!$DJ$5:$DJ$503,Graphs!$O28,DMA!DL$5:DL$503))/COUNTIF(DMA!$DJ$5:$DJ$503,Graphs!$O28)))","v":""},{"$f":"IF(R28=\"\",\"\",IF(R28=0,\"\",SQRT(SUMIF(DMA!$DJ$5:$DJ$503,Graphs!$O28,DMA!DM$5:DM$503))/COUNTIF(DMA!$DJ$5:$DJ$503,Graphs!$O28)))","v":""},{"$f":"IF($P28=\"\",\"\",IF(P28=0,\"\",AVERAGEIF(DMA!$M$5:$M$503,Graphs!$O28,DMA!N$5:N$503)))","v":""},{"$f":"IF($Q28=\"\",\"\",IF(Q28=0,\"\",AVERAGEIF(DMA!$M$5:$M$503,Graphs!$O28,DMA!O$5:O$503)))","v":""},{"$f":"IF($R28=\"\",\"\",IF(R28=0,\"\",AVERAGEIF(DMA!$M$5:$M$503,Graphs!$O28,DMA!P$5:P$503)))","v":""},null,null,null,null,{"$f":"IF($O28=\"\",\"\",COUNTIFS(DMA!$M$5:$M$503,Graphs!$O28,DMA!N$5:N$503,\">0\"))","v":""},{"$f":"IF($O28=\"\",\"\",COUNTIFS(DMA!$M$5:$M$503,Graphs!$O28,DMA!O$5:O$503,\">0\"))","v":""},{"$f":"IF($O28=\"\",\"\",COUNTIFS(DMA!$M$5:$M$503,Graphs!$O28,DMA!P$5:P$503,\">0\"))","v":""}]
[null,{"$f":"IF(A29=\"\",\"\",(SUMIF(DMA!$AO$5:$AO$604,$A29,DMA!$AQ$5:$AQ$603)/DMA!AQ$604))","v":""},{"$f":"IF(A29=\"\",\"\",(SUMIF(DMA!$CQ$5:$CQ$603,$A29,DMA!$CO$5:$CO$603))*0.01)","v":""},{"$f":"IF(B29=\"\",\"\",(SUMIF(DMA!$CQ$5:$CQ$603,$A29,DMA!$CP$5:$CP$603)))","v":""},{"$f":"IF(COUNTIF(DMA!I$5:I$503,Graphs!$A29)>0,Graphs!$A29,\"\")","v":""},{"$f":"IF(E29=\"\",\"\",COUNTIF(DMA!I$5:I$503,Graphs!E29))","v":""},{"$f":"IF(E29=\"\",\"\",SUMIF(DMA!I$5:I$503,Graphs!E29,DMA!J$5:J$503)/COUNTIF(DMA!I$5:I$503,Graphs!E29))","v":""},{"$f":"IF(SUMIF(DMA!B$5:B$503,Graphs!A29,DMA!D$5:D$503)>0,Graphs!A29,\"\")","v":""},{"$f":"IF(H29=\"\",\"\",COUNTIF(DMA!B$5:B$503,Graphs!A29))","v":""},{"$f":"IF(H29=\"\",\"\",10^(-0.7083129+0.297*(SUMIF(DMA!B$5:B$503,Graphs!H29,DMA!D$5:D$503)/COUNTIF(DMA!B$5:B$503,Graphs!H29))))","v":""},{"$f":"IF(COUNTIF(DMA!R$5:R$503,Graphs!$A29)>0,Graphs!$A29,\"\")","v":""},{"$f":"IF(K29=\"\",\"\",COUNTIF(DMA!R$5:R$503,Graphs!A29))","v":""},{"$f":"IF(K29=\"\",\"\",(SUMIF(DMA!R$5:R$503,Graphs!A29,DMA!S$5:S$503)/COUNTIF(DMA!R$5:R$503,Graphs!A29)))","v":""},"",{"$f":"IF(COUNTIF(DMA!M$5:M$503,Graphs!$A29)>0,Graphs!$A29,\"\")","v":""},{"$f":"IF($O29=\"\",\"\",SUMIF(DMA!$M$5:$M$503,Graphs!$O29,DMA!N$5:N$503))","v":""},{"$f":"IF($O29=\"\",\"\",SUMIF(DMA!$M$5:$M$503,Graphs!$O29,DMA!O$5:O$503))","v":""},{"$f":"IF($O29=\"\",\"\",SUMIF(DMA!$M$5:$M$503,Graphs!$O29,DMA!P$5:P$503))","v":""},{"$f":"IF($O29=\"\",\"\",SUMIF(DMA!$M$5:$M$503,Graphs!$O29,DMA!Q$5:Q$503))","v":""},"",{"$f":"IF(O29=\"\",\"\",COUNTIF(DMA!M$5:M$503,Graphs!A29))","v":""},"","","","","","","","","","",null,null,null,null,null,null,null,null,null,null,null,null,null,null,null,null,null,null,null,null,"","","",{"$f":"IF(P29=\"\",\"\",IF(P29=0,\"\",SQRT(SUMIF(DMA!$DJ$5:$DJ$503,Graphs!$O29,DMA!DK$5:DK$503))/COUNTIF(DMA!$DJ$5:$DJ$503,Graphs!$O29)))","v":""},{"$f":"IF(Q29=\"\",\"\",IF(Q29=0,\"\",SQRT(SUMIF(DMA!$DJ$5:$DJ$503,Graphs!$O29,DMA!DL$5:DL$503))/COUNTIF(DMA!$DJ$5:$DJ$503,Graphs!$O29)))","v":""},{"$f":"IF(R29=\"\",\"\",IF(R29=0,\"\",SQRT(SUMIF(DMA!$DJ$5:$DJ$503,Graphs!$O29,DMA!DM$5:DM$503))/COUNTIF(DMA!$DJ$5:$DJ$503,Graphs!$O29)))","v":""},{"$f":"IF($P29=\"\",\"\",IF(P29=0,\"\",AVERAGEIF(DMA!$M$5:$M$503,Graphs!$O29,DMA!N$5:N$503)))","v":""},{"$f":"IF($Q29=\"\",\"\",IF(Q29=0,\"\",AVERAGEIF(DMA!$M$5:$M$503,Graphs!$O29,DMA!O$5:O$503)))","v":""},{"$f":"IF($R29=\"\",\"\",IF(R29=0,\"\",AVERAGEIF(DMA!$M$5:$M$503,Graphs!$O29,DMA!P$5:P$503)))","v":""},null,null,null,null,{"$f":"IF($O29=\"\",\"\",COUNTIFS(DMA!$M$5:$M$503,Graphs!$O29,DMA!N$5:N$503,\">0\"))","v":""},{"$f":"IF($O29=\"\",\"\",COUNTIFS(DMA!$M$5:$M$503,Graphs!$O29,DMA!O$5:O$503,\">0\"))","v":""},{"$f":"IF($O29=\"\",\"\",COUNTIFS(DMA!$M$5:$M$503,Graphs!$O29,DMA!P$5:P$503,\">0\"))","v":""}]
[null,{"$f":"IF(A30=\"\",\"\",(SUMIF(DMA!$AO$5:$AO$604,$A30,DMA!$AQ$5:$AQ$603)/DMA!AQ$604))","v":""},{"$f":"IF(A30=\"\",\"\",(SUMIF(DMA!$CQ$5:$CQ$603,$A30,DMA!$CO$5:$CO$603))*0.01)","v":""},{"$f":"IF(B30=\"\",\"\",(SUMIF(DMA!$CQ$5:$CQ$603,$A30,DMA!$CP$5:$CP$603)))","v":""},{"$f":"IF(COUNTIF(DMA!I$5:I$503,Graphs!$A30)>0,Graphs!$A30,\"\")","v":""},{"$f":"IF(E30=\"\",\"\",COUNTIF(DMA!I$5:I$503,Graphs!E30))","v":""},{"$f":"IF(E30=\"\",\"\",SUMIF(DMA!I$5:I$503,Graphs!E30,DMA!J$5:J$503)/COUNTIF(DMA!I$5:I$503,Graphs!E30))","v":""},{"$f":"IF(SUMIF(DMA!B$5:B$503,Graphs!A30,DMA!D$5:D$503)>0,Graphs!A30,\"\")","v":""},{"$f":"IF(H30=\"\",\"\",COUNTIF(DMA!B$5:B$503,Graphs!A30))","v":""},{"$f":"IF(H30=\"\",\"\",10^(-0.7083129+0.297*(SUMIF(DMA!B$5:B$503,Graphs!H30,DMA!D$5:D$503)/COUNTIF(DMA!B$5:B$503,Graphs!H30))))","v":""},{"$f":"IF(COUNTIF(DMA!R$5:R$503,Graphs!$A30)>0,Graphs!$A30,\"\")","v":""},{"$f":"IF(K30=\"\",\"\",COUNTIF(DMA!R$5:R$503,Graphs!A30))","v":""},{"$f":"IF(K30=\"\",\"\",(SUMIF(DMA!R$5:R$503,Graphs!A30,DMA!S$5:S$503)/COUNTIF(DMA!R$5:R$503,Graphs!A30)))","v":""},"",{"$f":"IF(COUNTIF(DMA!M$5:M$503,Graphs!$A30)>0,Graphs!$A30,\"\")","v":""},{"$f":"IF($O30=\"\",\"\",SUMIF(DMA!$M$5:$M$503,Graphs!$O30,DMA!N$5:N$503))","v":""},{"$f":"IF($O30=\"\",\"\",SUMIF(DMA!$M$5:$M$503,Graphs!$O30,DMA!O$5:O$503))","v":""},{"$f":"IF($O30=\"\",\"\",SUMIF(DMA!$M$5:$M$503,Graphs!$O30,DMA!P$5:P$503))","v":""},{"$f":"IF($O30=\"\",\"\",SUMIF(DMA!$M$5:$M$503,Graphs!$O30,DMA!Q$5:Q$503))","v":""},"",{"$f":"IF(O30=\"\",\"\",COUNTIF(DMA!M$5:M$503,Graphs!A30))","v":""},"","","","","","","","","","",null,null,null,null,null,null,null,null,null,null,null,null,null,null,null,null,null,null,null,null,"","","",{"$f":"IF(P30=\"\",\"\",IF(P30=0,\"\",SQRT(SUMIF(DMA!$DJ$5:$DJ$503,Graphs!$O30,DMA!DK$5:DK$503))/COUNTIF(DMA!$DJ$5:$DJ$503,Graphs!$O30)))","v":""},{"$f":"IF(Q30=\"\",\"\",IF(Q30=0,\"\",SQRT(SUMIF(DMA!$DJ$5:$DJ$503,Graphs!$O30,DMA!DL$5:DL$503))/COUNTIF(DMA!$DJ$5:$DJ$503,Graphs!$O30)))","v":""},{"$f":"IF(R30=\"\",\"\",IF(R30=0,\"\",SQRT(SUMIF(DMA!$DJ$5:$DJ$503,Graphs!$O30,DMA!DM$5:DM$503))/COUNTIF(DMA!$DJ$5:$DJ$503,Graphs!$O30)))","v":""},{"$f":"IF($P30=\"\",\"\",IF(P30=0,\"\",AVERAGEIF(DMA!$M$5:$M$503,Graphs!$O30,DMA!N$5:N$503)))","v":""},{"$f":"IF($Q30=\"\",\"\",IF(Q30=0,\"\",AVERAGEIF(DMA!$M$5:$M$503,Graphs!$O30,DMA!O$5:O$503)))","v":""},{"$f":"IF($R30=\"\",\"\",IF(R30=0,\"\",AVERAGEIF(DMA!$M$5:$M$503,Graphs!$O30,DMA!P$5:P$503)))","v":""},null,null,null,null,{"$f":"IF($O30=\"\",\"\",COUNTIFS(DMA!$M$5:$M$503,Graphs!$O30,DMA!N$5:N$503,\">0\"))","v":""},{"$f":"IF($O30=\"\",\"\",COUNTIFS(DMA!$M$5:$M$503,Graphs!$O30,DMA!O$5:O$503,\">0\"))","v":""},{"$f":"IF($O30=\"\",\"\",COUNTIFS(DMA!$M$5:$M$503,Graphs!$O30,DMA!P$5:P$503,\">0\"))","v":""}]
[null,{"$f":"IF(A31=\"\",\"\",(SUMIF(DMA!$AO$5:$AO$604,$A31,DMA!$AQ$5:$AQ$603)/DMA!AQ$604))","v":""},{"$f":"IF(A31=\"\",\"\",(SUMIF(DMA!$CQ$5:$CQ$603,$A31,DMA!$CO$5:$CO$603))*0.01)","v":""},{"$f":"IF(B31=\"\",\"\",(SUMIF(DMA!$CQ$5:$CQ$603,$A31,DMA!$CP$5:$CP$603)))","v":""},{"$f":"IF(COUNTIF(DMA!I$5:I$503,Graphs!$A31)>0,Graphs!$A31,\"\")","v":""},{"$f":"IF(E31=\"\",\"\",COUNTIF(DMA!I$5:I$503,Graphs!E31))","v":""},{"$f":"IF(E31=\"\",\"\",SUMIF(DMA!I$5:I$503,Graphs!E31,DMA!J$5:J$503)/COUNTIF(DMA!I$5:I$503,Graphs!E31))","v":""},{"$f":"IF(SUMIF(DMA!B$5:B$503,Graphs!A31,DMA!D$5:D$503)>0,Graphs!A31,\"\")","v":""},{"$f":"IF(H31=\"\",\"\",COUNTIF(DMA!B$5:B$503,Graphs!A31))","v":""},{"$f":"IF(H31=\"\",\"\",10^(-0.7083129+0.297*(SUMIF(DMA!B$5:B$503,Graphs!H31,DMA!D$5:D$503)/COUNTIF(DMA!B$5:B$503,Graphs!H31))))","v":""},{"$f":"IF(COUNTIF(DMA!R$5:R$503,Graphs!$A31)>0,Graphs!$A31,\"\")","v":""},{"$f":"IF(K31=\"\",\"\",COUNTIF(DMA!R$5:R$503,Graphs!A31))","v":""},{"$f":"IF(K31=\"\",\"\",(SUMIF(DMA!R$5:R$503,Graphs!A31,DMA!S$5:S$503)/COUNTIF(DMA!R$5:R$503,Graphs!A31)))","v":""},"",{"$f":"IF(COUNTIF(DMA!M$5:M$503,Graphs!$A31)>0,Graphs!$A31,\"\")","v":""},{"$f":"IF($O31=\"\",\"\",SUMIF(DMA!$M$5:$M$503,Graphs!$O31,DMA!N$5:N$503))","v":""},{"$f":"IF($O31=\"\",\"\",SUMIF(DMA!$M$5:$M$503,Graphs!$O31,DMA!O$5:O$503))","v":""},{"$f":"IF($O31=\"\",\"\",SUMIF(DMA!$M$5:$M$503,Graphs!$O31,DMA!P$5:P$503))","v":""},{"$f":"IF($O31=\"\",\"\",SUMIF(DMA!$M$5:$M$503,Graphs!$O31,DMA!Q$5:Q$503))","v":""},"",{"$f":"IF(O31=\"\",\"\",COUNTIF(DMA!M$5:M$503,Graphs!A31))","v":""},"","","","","","","","","","",null,null,null,null,null,null,null,null,null,null,null,null,null,null,null,null,null,null,null,null,"","","",{"$f":"IF(P31=\"\",\"\",IF(P31=0,\"\",SQRT(SUMIF(DMA!$DJ$5:$DJ$503,Graphs!$O31,DMA!DK$5:DK$503))/COUNTIF(DMA!$DJ$5:$DJ$503,Graphs!$O31)))","v":""},{"$f":"IF(Q31=\"\",\"\",IF(Q31=0,\"\",SQRT(SUMIF(DMA!$DJ$5:$DJ$503,Graphs!$O31,DMA!DL$5:DL$503))/COUNTIF(DMA!$DJ$5:$DJ$503,Graphs!$O31)))","v":""},{"$f":"IF(R31=\"\",\"\",IF(R31=0,\"\",SQRT(SUMIF(DMA!$DJ$5:$DJ$503,Graphs!$O31,DMA!DM$5:DM$503))/COUNTIF(DMA!$DJ$5:$DJ$503,Graphs!$O31)))","v":""},{"$f":"IF($P31=\"\",\"\",IF(P31=0,\"\",AVERAGEIF(DMA!$M$5:$M$503,Graphs!$O31,DMA!N$5:N$503)))","v":""},{"$f":"IF($Q31=\"\",\"\",IF(Q31=0,\"\",AVERAGEIF(DMA!$M$5:$M$503,Graphs!$O31,DMA!O$5:O$503)))","v":""},{"$f":"IF($R31=\"\",\"\",IF(R31=0,\"\",AVERAGEIF(DMA!$M$5:$M$503,Graphs!$O31,DMA!P$5:P$503)))","v":""},null,null,null,null,{"$f":"IF($O31=\"\",\"\",COUNTIFS(DMA!$M$5:$M$503,Graphs!$O31,DMA!N$5:N$503,\">0\"))","v":""},{"$f":"IF($O31=\"\",\"\",COUNTIFS(DMA!$M$5:$M$503,Graphs!$O31,DMA!O$5:O$503,\">0\"))","v":""},{"$f":"IF($O31=\"\",\"\",COUNTIFS(DMA!$M$5:$M$503,Graphs!$O31,DMA!P$5:P$503,\">0\"))","v":""}]
[null,{"$f":"IF(A32=\"\",\"\",(SUMIF(DMA!$AO$5:$AO$604,$A32,DMA!$AQ$5:$AQ$603)/DMA!AQ$604))","v":""},{"$f":"IF(A32=\"\",\"\",(SUMIF(DMA!$CQ$5:$CQ$603,$A32,DMA!$CO$5:$CO$603))*0.01)","v":""},{"$f":"IF(B32=\"\",\"\",(SUMIF(DMA!$CQ$5:$CQ$603,$A32,DMA!$CP$5:$CP$603)))","v":""},{"$f":"IF(COUNTIF(DMA!I$5:I$503,Graphs!$A32)>0,Graphs!$A32,\"\")","v":""},{"$f":"IF(E32=\"\",\"\",COUNTIF(DMA!I$5:I$503,Graphs!E32))","v":""},{"$f":"IF(E32=\"\",\"\",SUMIF(DMA!I$5:I$503,Graphs!E32,DMA!J$5:J$503)/COUNTIF(DMA!I$5:I$503,Graphs!E32))","v":""},{"$f":"IF(SUMIF(DMA!B$5:B$503,Graphs!A32,DMA!D$5:D$503)>0,Graphs!A32,\"\")","v":""},{"$f":"IF(H32=\"\",\"\",COUNTIF(DMA!B$5:B$503,Graphs!A32))","v":""},{"$f":"IF(H32=\"\",\"\",10^(-0.7083129+0.297*(SUMIF(DMA!B$5:B$503,Graphs!H32,DMA!D$5:D$503)/COUNTIF(DMA!B$5:B$503,Graphs!H32))))","v":""},{"$f":"IF(COUNTIF(DMA!R$5:R$503,Graphs!$A32)>0,Graphs!$A32,\"\")","v":""},{"$f":"IF(K32=\"\",\"\",COUNTIF(DMA!R$5:R$503,Graphs!A32))","v":""},{"$f":"IF(K32=\"\",\"\",(SUMIF(DMA!R$5:R$503,Graphs!A32,DMA!S$5:S$503)/COUNTIF(DMA!R$5:R$503,Graphs!A32)))","v":""},"",{"$f":"IF(COUNTIF(DMA!M$5:M$503,Graphs!$A32)>0,Graphs!$A32,\"\")","v":""},{"$f":"IF($O32=\"\",\"\",SUMIF(DMA!$M$5:$M$503,Graphs!$O32,DMA!N$5:N$503))","v":""},{"$f":"IF($O32=\"\",\"\",SUMIF(DMA!$M$5:$M$503,Graphs!$O32,DMA!O$5:O$503))","v":""},{"$f":"IF($O32=\"\",\"\",SUMIF(DMA!$M$5:$M$503,Graphs!$O32,DMA!P$5:P$503))","v":""},{"$f":"IF($O32=\"\",\"\",SUMIF(DMA!$M$5:$M$503,Graphs!$O32,DMA!Q$5:Q$503))","v":""},"",{"$f":"IF(O32=\"\",\"\",COUNTIF(DMA!M$5:M$503,Graphs!A32))","v":""},"","","","","","","","","","",null,null,null,null,null,null,null,null,null,null,null,null,null,null,null,null,null,null,null,null,"","","",{"$f":"IF(P32=\"\",\"\",IF(P32=0,\"\",SQRT(SUMIF(DMA!$DJ$5:$DJ$503,Graphs!$O32,DMA!DK$5:DK$503))/COUNTIF(DMA!$DJ$5:$DJ$503,Graphs!$O32)))","v":""},{"$f":"IF(Q32=\"\",\"\",IF(Q32=0,\"\",SQRT(SUMIF(DMA!$DJ$5:$DJ$503,Graphs!$O32,DMA!DL$5:DL$503))/COUNTIF(DMA!$DJ$5:$DJ$503,Graphs!$O32)))","v":""},{"$f":"IF(R32=\"\",\"\",IF(R32=0,\"\",SQRT(SUMIF(DMA!$DJ$5:$DJ$503,Graphs!$O32,DMA!DM$5:DM$503))/COUNTIF(DMA!$DJ$5:$DJ$503,Graphs!$O32)))","v":""},{"$f":"IF($P32=\"\",\"\",IF(P32=0,\"\",AVERAGEIF(DMA!$M$5:$M$503,Graphs!$O32,DMA!N$5:N$503)))","v":""},{"$f":"IF($Q32=\"\",\"\",IF(Q32=0,\"\",AVERAGEIF(DMA!$M$5:$M$503,Graphs!$O32,DMA!O$5:O$503)))","v":""},{"$f":"IF($R32=\"\",\"\",IF(R32=0,\"\",AVERAGEIF(DMA!$M$5:$M$503,Graphs!$O32,DMA!P$5:P$503)))","v":""},null,null,null,null,{"$f":"IF($O32=\"\",\"\",COUNTIFS(DMA!$M$5:$M$503,Graphs!$O32,DMA!N$5:N$503,\">0\"))","v":""},{"$f":"IF($O32=\"\",\"\",COUNTIFS(DMA!$M$5:$M$503,Graphs!$O32,DMA!O$5:O$503,\">0\"))","v":""},{"$f":"IF($O32=\"\",\"\",COUNTIFS(DMA!$M$5:$M$503,Graphs!$O32,DMA!P$5:P$503,\">0\"))","v":""}]
[null,{"$f":"IF(A33=\"\",\"\",(SUMIF(DMA!$AO$5:$AO$604,$A33,DMA!$AQ$5:$AQ$603)/DMA!AQ$604))","v":""},{"$f":"IF(A33=\"\",\"\",(SUMIF(DMA!$CQ$5:$CQ$603,$A33,DMA!$CO$5:$CO$603))*0.01)","v":""},{"$f":"IF(B33=\"\",\"\",(SUMIF(DMA!$CQ$5:$CQ$603,$A33,DMA!$CP$5:$CP$603)))","v":""},{"$f":"IF(COUNTIF(DMA!I$5:I$503,Graphs!$A33)>0,Graphs!$A33,\"\")","v":""},{"$f":"IF(E33=\"\",\"\",COUNTIF(DMA!I$5:I$503,Graphs!E33))","v":""},{"$f":"IF(E33=\"\",\"\",SUMIF(DMA!I$5:I$503,Graphs!E33,DMA!J$5:J$503)/COUNTIF(DMA!I$5:I$503,Graphs!E33))","v":""},{"$f":"IF(SUMIF(DMA!B$5:B$503,Graphs!A33,DMA!D$5:D$503)>0,Graphs!A33,\"\")","v":""},{"$f":"IF(H33=\"\",\"\",COUNTIF(DMA!B$5:B$503,Graphs!A33))","v":""},{"$f":"IF(H33=\"\",\"\",10^(-0.7083129+0.297*(SUMIF(DMA!B$5:B$503,Graphs!H33,DMA!D$5:D$503)/COUNTIF(DMA!B$5:B$503,Graphs!H33))))","v":""},{"$f":"IF(COUNTIF(DMA!R$5:R$503,Graphs!$A33)>0,Graphs!$A33,\"\")","v":""},{"$f":"IF(K33=\"\",\"\",COUNTIF(DMA!R$5:R$503,Graphs!A33))","v":""},{"$f":"IF(K33=\"\",\"\",(SUMIF(DMA!R$5:R$503,Graphs!A33,DMA!S$5:S$503)/COUNTIF(DMA!R$5:R$503,Graphs!A33)))","v":""},"",{"$f":"IF(COUNTIF(DMA!M$5:M$503,Graphs!$A33)>0,Graphs!$A33,\"\")","v":""},{"$f":"IF($O33=\"\",\"\",SUMIF(DMA!$M$5:$M$503,Graphs!$O33,DMA!N$5:N$503))","v":""},{"$f":"IF($O33=\"\",\"\",SUMIF(DMA!$M$5:$M$503,Graphs!$O33,DMA!O$5:O$503))","v":""},{"$f":"IF($O33=\"\",\"\",SUMIF(DMA!$M$5:$M$503,Graphs!$O33,DMA!P$5:P$503))","v":""},{"$f":"IF($O33=\"\",\"\",SUMIF(DMA!$M$5:$M$503,Graphs!$O33,DMA!Q$5:Q$503))","v":""},"",{"$f":"IF(O33=\"\",\"\",COUNTIF(DMA!M$5:M$503,Graphs!A33))","v":""},"","","","","","","","","","",null,null,null,null,null,null,null,null,null,null,null,null,null,null,null,null,null,null,null,null,"","","",{"$f":"IF(P33=\"\",\"\",IF(P33=0,\"\",SQRT(SUMIF(DMA!$DJ$5:$DJ$503,Graphs!$O33,DMA!DK$5:DK$503))/COUNTIF(DMA!$DJ$5:$DJ$503,Graphs!$O33)))","v":""},{"$f":"IF(Q33=\"\",\"\",IF(Q33=0,\"\",SQRT(SUMIF(DMA!$DJ$5:$DJ$503,Graphs!$O33,DMA!DL$5:DL$503))/COUNTIF(DMA!$DJ$5:$DJ$503,Graphs!$O33)))","v":""},{"$f":"IF(R33=\"\",\"\",IF(R33=0,\"\",SQRT(SUMIF(DMA!$DJ$5:$DJ$503,Graphs!$O33,DMA!DM$5:DM$503))/COUNTIF(DMA!$DJ$5:$DJ$503,Graphs!$O33)))","v":""},{"$f":"IF($P33=\"\",\"\",IF(P33=0,\"\",AVERAGEIF(DMA!$M$5:$M$503,Graphs!$O33,DMA!N$5:N$503)))","v":""},{"$f":"IF($Q33=\"\",\"\",IF(Q33=0,\"\",AVERAGEIF(DMA!$M$5:$M$503,Graphs!$O33,DMA!O$5:O$503)))","v":""},{"$f":"IF($R33=\"\",\"\",IF(R33=0,\"\",AVERAGEIF(DMA!$M$5:$M$503,Graphs!$O33,DMA!P$5:P$503)))","v":""},null,null,null,null,{"$f":"IF($O33=\"\",\"\",COUNTIFS(DMA!$M$5:$M$503,Graphs!$O33,DMA!N$5:N$503,\">0\"))","v":""},{"$f":"IF($O33=\"\",\"\",COUNTIFS(DMA!$M$5:$M$503,Graphs!$O33,DMA!O$5:O$503,\">0\"))","v":""},{"$f":"IF($O33=\"\",\"\",COUNTIFS(DMA!$M$5:$M$503,Graphs!$O33,DMA!P$5:P$503,\">0\"))","v":""}]
[null,{"$f":"IF(A34=\"\",\"\",(SUMIF(DMA!$AO$5:$AO$604,$A34,DMA!$AQ$5:$AQ$603)/DMA!AQ$604))","v":""},{"$f":"IF(A34=\"\",\"\",(SUMIF(DMA!$CQ$5:$CQ$603,$A34,DMA!$CO$5:$CO$603))*0.01)","v":""},{"$f":"IF(B34=\"\",\"\",(SUMIF(DMA!$CQ$5:$CQ$603,$A34,DMA!$CP$5:$CP$603)))","v":""},{"$f":"IF(COUNTIF(DMA!I$5:I$503,Graphs!$A34)>0,Graphs!$A34,\"\")","v":""},{"$f":"IF(E34=\"\",\"\",COUNTIF(DMA!I$5:I$503,Graphs!E34))","v":""},{"$f":"IF(E34=\"\",\"\",SUMIF(DMA!I$5:I$503,Graphs!E34,DMA!J$5:J$503)/COUNTIF(DMA!I$5:I$503,Graphs!E34))","v":""},{"$f":"IF(SUMIF(DMA!B$5:B$503,Graphs!A34,DMA!D$5:D$503)>0,Graphs!A34,\"\")","v":""},{"$f":"IF(H34=\"\",\"\",COUNTIF(DMA!B$5:B$503,Graphs!A34))","v":""},{"$f":"IF(H34=\"\",\"\",10^(-0.7083129+0.297*(SUMIF(DMA!B$5:B$503,Graphs!H34,DMA!D$5:D$503)/COUNTIF(DMA!B$5:B$503,Graphs!H34))))","v":""},{"$f":"IF(COUNTIF(DMA!R$5:R$503,Graphs!$A34)>0,Graphs!$A34,\"\")","v":""},{"$f":"IF(K34=\"\",\"\",COUNTIF(DMA!R$5:R$503,Graphs!A34))","v":""},{"$f":"IF(K34=\"\",\"\",(SUMIF(DMA!R$5:R$503,Graphs!A34,DMA!S$5:S$503)/COUNTIF(DMA!R$5:R$503,Graphs!A34)))","v":""},"",{"$f":"IF(COUNTIF(DMA!M$5:M$503,Graphs!$A34)>0,Graphs!$A34,\"\")","v":""},{"$f":"IF($O34=\"\",\"\",SUMIF(DMA!$M$5:$M$503,Graphs!$O34,DMA!N$5:N$503))","v":""},{"$f":"IF($O34=\"\",\"\",SUMIF(DMA!$M$5:$M$503,Graphs!$O34,DMA!O$5:O$503))","v":""},{"$f":"IF($O34=\"\",\"\",SUMIF(DMA!$M$5:$M$503,Graphs!$O34,DMA!P$5:P$503))","v":""},{"$f":"IF($O34=\"\",\"\",SUMIF(DMA!$M$5:$M$503,Graphs!$O34,DMA!Q$5:Q$503))","v":""},"",{"$f":"IF(O34=\"\",\"\",COUNTIF(DMA!M$5:M$503,Graphs!A34))","v":""},"","","","","","","","","","",null,null,null,null,null,null,null,null,null,null,null,null,null,null,null,null,null,null,null,null,"","","",{"$f":"IF(P34=\"\",\"\",IF(P34=0,\"\",SQRT(SUMIF(DMA!$DJ$5:$DJ$503,Graphs!$O34,DMA!DK$5:DK$503))/COUNTIF(DMA!$DJ$5:$DJ$503,Graphs!$O34)))","v":""},{"$f":"IF(Q34=\"\",\"\",IF(Q34=0,\"\",SQRT(SUMIF(DMA!$DJ$5:$DJ$503,Graphs!$O34,DMA!DL$5:DL$503))/COUNTIF(DMA!$DJ$5:$DJ$503,Graphs!$O34)))","v":""},{"$f":"IF(R34=\"\",\"\",IF(R34=0,\"\",SQRT(SUMIF(DMA!$DJ$5:$DJ$503,Graphs!$O34,DMA!DM$5:DM$503))/COUNTIF(DMA!$DJ$5:$DJ$503,Graphs!$O34)))","v":""},{"$f":"IF($P34=\"\",\"\",IF(P34=0,\"\",AVERAGEIF(DMA!$M$5:$M$503,Graphs!$O34,DMA!N$5:N$503)))","v":""},{"$f":"IF($Q34=\"\",\"\",IF(Q34=0,\"\",AVERAGEIF(DMA!$M$5:$M$503,Graphs!$O34,DMA!O$5:O$503)))","v":""},{"$f":"IF($R34=\"\",\"\",IF(R34=0,\"\",AVERAGEIF(DMA!$M$5:$M$503,Graphs!$O34,DMA!P$5:P$503)))","v":""},null,null,null,null,{"$f":"IF($O34=\"\",\"\",COUNTIFS(DMA!$M$5:$M$503,Graphs!$O34,DMA!N$5:N$503,\">0\"))","v":""},{"$f":"IF($O34=\"\",\"\",COUNTIFS(DMA!$M$5:$M$503,Graphs!$O34,DMA!O$5:O$503,\">0\"))","v":""},{"$f":"IF($O34=\"\",\"\",COUNTIFS(DMA!$M$5:$M$503,Graphs!$O34,DMA!P$5:P$503,\">0\"))","v":""}]
[null,{"$f":"IF(A35=\"\",\"\",(SUMIF(DMA!$AO$5:$AO$604,$A35,DMA!$AQ$5:$AQ$603)/DMA!AQ$604))","v":""},{"$f":"IF(A35=\"\",\"\",(SUMIF(DMA!$CQ$5:$CQ$603,$A35,DMA!$CO$5:$CO$603))*0.01)","v":""},{"$f":"IF(B35=\"\",\"\",(SUMIF(DMA!$CQ$5:$CQ$603,$A35,DMA!$CP$5:$CP$603)))","v":""},{"$f":"IF(COUNTIF(DMA!I$5:I$503,Graphs!$A35)>0,Graphs!$A35,\"\")","v":""},{"$f":"IF(E35=\"\",\"\",COUNTIF(DMA!I$5:I$503,Graphs!E35))","v":""},{"$f":"IF(E35=\"\",\"\",SUMIF(DMA!I$5:I$503,Graphs!E35,DMA!J$5:J$503)/COUNTIF(DMA!I$5:I$503,Graphs!E35))","v":""},{"$f":"IF(SUMIF(DMA!B$5:B$503,Graphs!A35,DMA!D$5:D$503)>0,Graphs!A35,\"\")","v":""},{"$f":"IF(H35=\"\",\"\",COUNTIF(DMA!B$5:B$503,Graphs!A35))","v":""},{"$f":"IF(H35=\"\",\"\",10^(-0.7083129+0.297*(SUMIF(DMA!B$5:B$503,Graphs!H35,DMA!D$5:D$503)/COUNTIF(DMA!B$5:B$503,Graphs!H35))))","v":""},{"$f":"IF(COUNTIF(DMA!R$5:R$503,Graphs!$A35)>0,Graphs!$A35,\"\")","v":""},{"$f":"IF(K35=\"\",\"\",COUNTIF(DMA!R$5:R$503,Graphs!A35))","v":""},{"$f":"IF(K35=\"\",\"\",(SUMIF(DMA!R$5:R$503,Graphs!A35,DMA!S$5:S$503)/COUNTIF(DMA!R$5:R$503,Graphs!A35)))","v":""},"",{"$f":"IF(COUNTIF(DMA!M$5:M$503,Graphs!$A35)>0,Graphs!$A35,\"\")","v":""},{"$f":"IF($O35=\"\",\"\",SUMIF(DMA!$M$5:$M$503,Graphs!$O35,DMA!N$5:N$503))","v":""},{"$f":"IF($O35=\"\",\"\",SUMIF(DMA!$M$5:$M$503,Graphs!$O35,DMA!O$5:O$503))","v":""},{"$f":"IF($O35=\"\",\"\",SUMIF(DMA!$M$5:$M$503,Graphs!$O35,DMA!P$5:P$503))","v":""},{"$f":"IF($O35=\"\",\"\",SUMIF(DMA!$M$5:$M$503,Graphs!$O35,DMA!Q$5:Q$503))","v":""},"",{"$f":"IF(O35=\"\",\"\",COUNTIF(DMA!M$5:M$503,Graphs!A35))","v":""},"","","","","","","","","","",null,null,null,null,null,null,null,null,null,null,"GGW",null,null,null,null,null,null,null,null,null,"","","",{"$f":"IF(P35=\"\",\"\",IF(P35=0,\"\",SQRT(SUMIF(DMA!$DJ$5:$DJ$503,Graphs!$O35,DMA!DK$5:DK$503))/COUNTIF(DMA!$DJ$5:$DJ$503,Graphs!$O35)))","v":""},{"$f":"IF(Q35=\"\",\"\",IF(Q35=0,\"\",SQRT(SUMIF(DMA!$DJ$5:$DJ$503,Graphs!$O35,DMA!DL$5:DL$503))/COUNTIF(DMA!$DJ$5:$DJ$503,Graphs!$O35)))","v":""},{"$f":"IF(R35=\"\",\"\",IF(R35=0,\"\",SQRT(SUMIF(DMA!$DJ$5:$DJ$503,Graphs!$O35,DMA!DM$5:DM$503))/COUNTIF(DMA!$DJ$5:$DJ$503,Graphs!$O35)))","v":""},{"$f":"IF($P35=\"\",\"\",IF(P35=0,\"\",AVERAGEIF(DMA!$M$5:$M$503,Graphs!$O35,DMA!N$5:N$503)))","v":""},{"$f":"IF($Q35=\"\",\"\",IF(Q35=0,\"\",AVERAGEIF(DMA!$M$5:$M$503,Graphs!$O35,DMA!O$5:O$503)))","v":""},{"$f":"IF($R35=\"\",\"\",IF(R35=0,\"\",AVERAGEIF(DMA!$M$5:$M$503,Graphs!$O35,DMA!P$5:P$503)))","v":""},null,null,null,null,{"$f":"IF($O35=\"\",\"\",COUNTIFS(DMA!$M$5:$M$503,Graphs!$O35,DMA!N$5:N$503,\">0\"))","v":""},{"$f":"IF($O35=\"\",\"\",COUNTIFS(DMA!$M$5:$M$503,Graphs!$O35,DMA!O$5:O$503,\">0\"))","v":""},{"$f":"IF($O35=\"\",\"\",COUNTIFS(DMA!$M$5:$M$503,Graphs!$O35,DMA!P$5:P$503,\">0\"))","v":""}]
[null,{"$f":"IF(A36=\"\",\"\",(SUMIF(DMA!$AO$5:$AO$604,$A36,DMA!$AQ$5:$AQ$603)/DMA!AQ$604))","v":""},{"$f":"IF(A36=\"\",\"\",(SUMIF(DMA!$CQ$5:$CQ$603,$A36,DMA!$CO$5:$CO$603))*0.01)","v":""},{"$f":"IF(B36=\"\",\"\",(SUMIF(DMA!$CQ$5:$CQ$603,$A36,DMA!$CP$5:$CP$603)))","v":""},{"$f":"IF(COUNTIF(DMA!I$5:I$503,Graphs!$A36)>0,Graphs!$A36,\"\")","v":""},{"$f":"IF(E36=\"\",\"\",COUNTIF(DMA!I$5:I$503,Graphs!E36))","v":""},{"$f":"IF(E36=\"\",\"\",SUMIF(DMA!I$5:I$503,Graphs!E36,DMA!J$5:J$503)/COUNTIF(DMA!I$5:I$503,Graphs!E36))","v":""},{"$f":"IF(SUMIF(DMA!B$5:B$503,Graphs!A36,DMA!D$5:D$503)>0,Graphs!A36,\"\")","v":""},{"$f":"IF(H36=\"\",\"\",COUNTIF(DMA!B$5:B$503,Graphs!A36))","v":""},{"$f":"IF(H36=\"\",\"\",10^(-0.7083129+0.297*(SUMIF(DMA!B$5:B$503,Graphs!H36,DMA!D$5:D$503)/COUNTIF(DMA!B$5:B$503,Graphs!H36))))","v":""},{"$f":"IF(COUNTIF(DMA!R$5:R$503,Graphs!$A36)>0,Graphs!$A36,\"\")","v":""},{"$f":"IF(K36=\"\",\"\",COUNTIF(DMA!R$5:R$503,Graphs!A36))","v":""},{"$f":"IF(K36=\"\",\"\",(SUMIF(DMA!R$5:R$503,Graphs!A36,DMA!S$5:S$503)/COUNTIF(DMA!R$5:R$503,Graphs!A36)))","v":""},"",{"$f":"IF(COUNTIF(DMA!M$5:M$503,Graphs!$A36)>0,Graphs!$A36,\"\")","v":""},{"$f":"IF($O36=\"\",\"\",SUMIF(DMA!$M$5:$M$503,Graphs!$O36,DMA!N$5:N$503))","v":""},{"$f":"IF($O36=\"\",\"\",SUMIF(DMA!$M$5:$M$503,Graphs!$O36,DMA!O$5:O$503))","v":""},{"$f":"IF($O36=\"\",\"\",SUMIF(DMA!$M$5:$M$503,Graphs!$O36,DMA!P$5:P$503))","v":""},{"$f":"IF($O36=\"\",\"\",SUMIF(DMA!$M$5:$M$503,Graphs!$O36,DMA!Q$5:Q$503))","v":""},"",{"$f":"IF(O36=\"\",\"\",COUNTIF(DMA!M$5:M$503,Graphs!A36))","v":""},"","","","","","","","","","",null,null,null,null,null,null,null,null,null,null,null,null,null,null,null,null,null,null,null,null,"","","",{"$f":"IF(P36=\"\",\"\",IF(P36=0,\"\",SQRT(SUMIF(DMA!$DJ$5:$DJ$503,Graphs!$O36,DMA!DK$5:DK$503))/COUNTIF(DMA!$DJ$5:$DJ$503,Graphs!$O36)))","v":""},{"$f":"IF(Q36=\"\",\"\",IF(Q36=0,\"\",SQRT(SUMIF(DMA!$DJ$5:$DJ$503,Graphs!$O36,DMA!DL$5:DL$503))/COUNTIF(DMA!$DJ$5:$DJ$503,Graphs!$O36)))","v":""},{"$f":"IF(R36=\"\",\"\",IF(R36=0,\"\",SQRT(SUMIF(DMA!$DJ$5:$DJ$503,Graphs!$O36,DMA!DM$5:DM$503))/COUNTIF(DMA!$DJ$5:$DJ$503,Graphs!$O36)))","v":""},{"$f":"IF($P36=\"\",\"\",IF(P36=0,\"\",AVERAGEIF(DMA!$M$5:$M$503,Graphs!$O36,DMA!N$5:N$503)))","v":""},{"$f":"IF($Q36=\"\",\"\",IF(Q36=0,\"\",AVERAGEIF(DMA!$M$5:$M$503,Graphs!$O36,DMA!O$5:O$503)))","v":""},{"$f":"IF($R36=\"\",\"\",IF(R36=0,\"\",AVERAGEIF(DMA!$M$5:$M$503,Graphs!$O36,DMA!P$5:P$503)))","v":""},null,null,null,null,{"$f":"IF($O36=\"\",\"\",COUNTIFS(DMA!$M$5:$M$503,Graphs!$O36,DMA!N$5:N$503,\">0\"))","v":""},{"$f":"IF($O36=\"\",\"\",COUNTIFS(DMA!$M$5:$M$503,Graphs!$O36,DMA!O$5:O$503,\">0\"))","v":""},{"$f":"IF($O36=\"\",\"\",COUNTIFS(DMA!$M$5:$M$503,Graphs!$O36,DMA!P$5:P$503,\">0\"))","v":""}]
[null,{"$f":"IF(A37=\"\",\"\",(SUMIF(DMA!$AO$5:$AO$604,$A37,DMA!$AQ$5:$AQ$603)/DMA!AQ$604))","v":""},{"$f":"IF(A37=\"\",\"\",(SUMIF(DMA!$CQ$5:$CQ$603,$A37,DMA!$CO$5:$CO$603))*0.01)","v":""},{"$f":"IF(B37=\"\",\"\",(SUMIF(DMA!$CQ$5:$CQ$603,$A37,DMA!$CP$5:$CP$603)))","v":""},{"$f":"IF(COUNTIF(DMA!I$5:I$503,Graphs!$A37)>0,Graphs!$A37,\"\")","v":""},{"$f":"IF(E37=\"\",\"\",COUNTIF(DMA!I$5:I$503,Graphs!E37))","v":""},{"$f":"IF(E37=\"\",\"\",SUMIF(DMA!I$5:I$503,Graphs!E37,DMA!J$5:J$503)/COUNTIF(DMA!I$5:I$503,Graphs!E37))","v":""},{"$f":"IF(SUMIF(DMA!B$5:B$503,Graphs!A37,DMA!D$5:D$503)>0,Graphs!A37,\"\")","v":""},{"$f":"IF(H37=\"\",\"\",COUNTIF(DMA!B$5:B$503,Graphs!A37))","v":""},{"$f":"IF(H37=\"\",\"\",10^(-0.7083129+0.297*(SUMIF(DMA!B$5:B$503,Graphs!H37,DMA!D$5:D$503)/COUNTIF(DMA!B$5:B$503,Graphs!H37))))","v":""},{"$f":"IF(COUNTIF(DMA!R$5:R$503,Graphs!$A37)>0,Graphs!$A37,\"\")","v":""},{"$f":"IF(K37=\"\",\"\",COUNTIF(DMA!R$5:R$503,Graphs!A37))","v":""},{"$f":"IF(K37=\"\",\"\",(SUMIF(DMA!R$5:R$503,Graphs!A37,DMA!S$5:S$503)/COUNTIF(DMA!R$5:R$503,Graphs!A37)))","v":""},"",{"$f":"IF(COUNTIF(DMA!M$5:M$503,Graphs!$A37)>0,Graphs!$A37,\"\")","v":""},{"$f":"IF($O37=\"\",\"\",SUMIF(DMA!$M$5:$M$503,Graphs!$O37,DMA!N$5:N$503))","v":""},{"$f":"IF($O37=\"\",\"\",SUMIF(DMA!$M$5:$M$503,Graphs!$O37,DMA!O$5:O$503))","v":""},{"$f":"IF($O37=\"\",\"\",SUMIF(DMA!$M$5:$M$503,Graphs!$O37,DMA!P$5:P$503))","v":""},{"$f":"IF($O37=\"\",\"\",SUMIF(DMA!$M$5:$M$503,Graphs!$O37,DMA!Q$5:Q$503))","v":""},"",{"$f":"IF(O37=\"\",\"\",COUNTIF(DMA!M$5:M$503,Graphs!A37))","v":""},"","","","","","","","","","",null,null,null,null,null,null,null,null,null,null,"Range (m)","Samples","Proportion","Bin","Cumulative",null,null,null,null,null,"","","",{"$f":"IF(P37=\"\",\"\",IF(P37=0,\"\",SQRT(SUMIF(DMA!$DJ$5:$DJ$503,Graphs!$O37,DMA!DK$5:DK$503))/COUNTIF(DMA!$DJ$5:$DJ$503,Graphs!$O37)))","v":""},{"$f":"IF(Q37=\"\",\"\",IF(Q37=0,\"\",SQRT(SUMIF(DMA!$DJ$5:$DJ$503,Graphs!$O37,DMA!DL$5:DL$503))/COUNTIF(DMA!$DJ$5:$DJ$503,Graphs!$O37)))","v":""},{"$f":"IF(R37=\"\",\"\",IF(R37=0,\"\",SQRT(SUMIF(DMA!$DJ$5:$DJ$503,Graphs!$O37,DMA!DM$5:DM$503))/COUNTIF(DMA!$DJ$5:$DJ$503,Graphs!$O37)))","v":""},{"$f":"IF($P37=\"\",\"\",IF(P37=0,\"\",AVERAGEIF(DMA!$M$5:$M$503,Graphs!$O37,DMA!N$5:N$503)))","v":""},{"$f":"IF($Q37=\"\",\"\",IF(Q37=0,\"\",AVERAGEIF(DMA!$M$5:$M$503,Graphs!$O37,DMA!O$5:O$503)))","v":""},{"$f":"IF($R37=\"\",\"\",IF(R37=0,\"\",AVERAGEIF(DMA!$M$5:$M$503,Graphs!$O37,DMA!P$5:P$503)))","v":""},null,null,null,null,{"$f":"IF($O37=\"\",\"\",COUNTIFS(DMA!$M$5:$M$503,Graphs!$O37,DMA!N$5:N$503,\">0\"))","v":""},{"$f":"IF($O37=\"\",\"\",COUNTIFS(DMA!$M$5:$M$503,Graphs!$O37,DMA!O$5:O$503,\">0\"))","v":""},{"$f":"IF($O37=\"\",\"\",COUNTIFS(DMA!$M$5:$M$503,Graphs!$O37,DMA!P$5:P$503,\">0\"))","v":""}]
[null,{"$f":"IF(A38=\"\",\"\",(SUMIF(DMA!$AO$5:$AO$604,$A38,DMA!$AQ$5:$AQ$603)/DMA!AQ$604))","v":""},{"$f":"IF(A38=\"\",\"\",(SUMIF(DMA!$CQ$5:$CQ$603,$A38,DMA!$CO$5:$CO$603))*0.01)","v":""},{"$f":"IF(B38=\"\",\"\",(SUMIF(DMA!$CQ$5:$CQ$603,$A38,DMA!$CP$5:$CP$603)))","v":""},{"$f":"IF(COUNTIF(DMA!I$5:I$503,Graphs!$A38)>0,Graphs!$A38,\"\")","v":""},{"$f":"IF(E38=\"\",\"\",COUNTIF(DMA!I$5:I$503,Graphs!E38))","v":""},{"$f":"IF(E38=\"\",\"\",SUMIF(DMA!I$5:I$503,Graphs!E38,DMA!J$5:J$503)/COUNTIF(DMA!I$5:I$503,Graphs!E38))","v":""},{"$f":"IF(SUMIF(DMA!B$5:B$503,Graphs!A38,DMA!D$5:D$503)>0,Graphs!A38,\"\")","v":""},{"$f":"IF(H38=\"\",\"\",COUNTIF(DMA!B$5:B$503,Graphs!A38))","v":""},{"$f":"IF(H38=\"\",\"\",10^(-0.7083129+0.297*(SUMIF(DMA!B$5:B$503,Graphs!H38,DMA!D$5:D$503)/COUNTIF(DMA!B$5:B$503,Graphs!H38))))","v":""},{"$f":"IF(COUNTIF(DMA!R$5:R$503,Graphs!$A38)>0,Graphs!$A38,\"\")","v":""},{"$f":"IF(K38=\"\",\"\",COUNTIF(DMA!R$5:R$503,Graphs!A38))","v":""},{"$f":"IF(K38=\"\",\"\",(SUMIF(DMA!R$5:R$503,Graphs!A38,DMA!S$5:S$503)/COUNTIF(DMA!R$5:R$503,Graphs!A38)))","v":""},"",{"$f":"IF(COUNTIF(DMA!M$5:M$503,Graphs!$A38)>0,Graphs!$A38,\"\")","v":""},{"$f":"IF($O38=\"\",\"\",SUMIF(DMA!$M$5:$M$503,Graphs!$O38,DMA!N$5:N$503))","v":""},{"$f":"IF($O38=\"\",\"\",SUMIF(DMA!$M$5:$M$503,Graphs!$O38,DMA!O$5:O$503))","v":""},{"$f":"IF($O38=\"\",\"\",SUMIF(DMA!$M$5:$M$503,Graphs!$O38,DMA!P$5:P$503))","v":""},{"$f":"IF($O38=\"\",\"\",SUMIF(DMA!$M$5:$M$503,Graphs!$O38,DMA!Q$5:Q$503))","v":""},"",{"$f":"IF(O38=\"\",\"\",COUNTIF(DMA!M$5:M$503,Graphs!A38))","v":""},"","","","","","","","","","",null,null,null,null,null,null,null,null,null,null,"<1",{"$f":"COUNTIF(DMA!K$5:K$503,\"<=1\")","v":0},{"$f":"IF(AQ38<>0,100*(AQ38/AQ$44),0)","v":0},1,{"$f":"AR38","v":0},null,null,null,null,null,"","","",{"$f":"IF(P38=\"\",\"\",IF(P38=0,\"\",SQRT(SUMIF(DMA!$DJ$5:$DJ$503,Graphs!$O38,DMA!DK$5:DK$503))/COUNTIF(DMA!$DJ$5:$DJ$503,Graphs!$O38)))","v":""},{"$f":"IF(Q38=\"\",\"\",IF(Q38=0,\"\",SQRT(SUMIF(DMA!$DJ$5:$DJ$503,Graphs!$O38,DMA!DL$5:DL$503))/COUNTIF(DMA!$DJ$5:$DJ$503,Graphs!$O38)))","v":""},{"$f":"IF(R38=\"\",\"\",IF(R38=0,\"\",SQRT(SUMIF(DMA!$DJ$5:$DJ$503,Graphs!$O38,DMA!DM$5:DM$503))/COUNTIF(DMA!$DJ$5:$DJ$503,Graphs!$O38)))","v":""},{"$f":"IF($P38=\"\",\"\",IF(P38=0,\"\",AVERAGEIF(DMA!$M$5:$M$503,Graphs!$O38,DMA!N$5:N$503)))","v":""},{"$f":"IF($Q38=\"\",\"\",IF(Q38=0,\"\",AVERAGEIF(DMA!$M$5:$M$503,Graphs!$O38,DMA!O$5:O$503)))","v":""},{"$f":"IF($R38=\"\",\"\",IF(R38=0,\"\",AVERAGEIF(DMA!$M$5:$M$503,Graphs!$O38,DMA!P$5:P$503)))","v":""},null,null,null,null,{"$f":"IF($O38=\"\",\"\",COUNTIFS(DMA!$M$5:$M$503,Graphs!$O38,DMA!N$5:N$503,\">0\"))","v":""},{"$f":"IF($O38=\"\",\"\",COUNTIFS(DMA!$M$5:$M$503,Graphs!$O38,DMA!O$5:O$503,\">0\"))","v":""},{"$f":"IF($O38=\"\",\"\",COUNTIFS(DMA!$M$5:$M$503,Graphs!$O38,DMA!P$5:P$503,\">0\"))","v":""}]
[null,{"$f":"IF(A39=\"\",\"\",(SUMIF(DMA!$AO$5:$AO$604,$A39,DMA!$AQ$5:$AQ$603)/DMA!AQ$604))","v":""},{"$f":"IF(A39=\"\",\"\",(SUMIF(DMA!$CQ$5:$CQ$603,$A39,DMA!$CO$5:$CO$603))*0.01)","v":""},{"$f":"IF(B39=\"\",\"\",(SUMIF(DMA!$CQ$5:$CQ$603,$A39,DMA!$CP$5:$CP$603)))","v":""},{"$f":"IF(COUNTIF(DMA!I$5:I$503,Graphs!$A39)>0,Graphs!$A39,\"\")","v":""},{"$f":"IF(E39=\"\",\"\",COUNTIF(DMA!I$5:I$503,Graphs!E39))","v":""},{"$f":"IF(E39=\"\",\"\",SUMIF(DMA!I$5:I$503,Graphs!E39,DMA!J$5:J$503)/COUNTIF(DMA!I$5:I$503,Graphs!E39))","v":""},{"$f":"IF(SUMIF(DMA!B$5:B$503,Graphs!A39,DMA!D$5:D$503)>0,Graphs!A39,\"\")","v":""},{"$f":"IF(H39=\"\",\"\",COUNTIF(DMA!B$5:B$503,Graphs!A39))","v":""},{"$f":"IF(H39=\"\",\"\",10^(-0.7083129+0.297*(SUMIF(DMA!B$5:B$503,Graphs!H39,DMA!D$5:D$503)/COUNTIF(DMA!B$5:B$503,Graphs!H39))))","v":""},{"$f":"IF(COUNTIF(DMA!R$5:R$503,Graphs!$A39)>0,Graphs!$A39,\"\")","v":""},{"$f":"IF(K39=\"\",\"\",COUNTIF(DMA!R$5:R$503,Graphs!A39))","v":""},{"$f":"IF(K39=\"\",\"\",(SUMIF(DMA!R$5:R$503,Graphs!A39,DMA!S$5:S$503)/COUNTIF(DMA!R$5:R$503,Graphs!A39)))","v":""},"",{"$f":"IF(COUNTIF(DMA!M$5:M$503,Graphs!$A39)>0,Graphs!$A39,\"\")","v":""},{"$f":"IF($O39=\"\",\"\",SUMIF(DMA!$M$5:$M$503,Graphs!$O39,DMA!N$5:N$503))","v":""},{"$f":"IF($O39=\"\",\"\",SUMIF(DMA!$M$5:$M$503,Graphs!$O39,DMA!O$5:O$503))","v":""},{"$f":"IF($O39=\"\",\"\",SUMIF(DMA!$M$5:$M$503,Graphs!$O39,DMA!P$5:P$503))","v":""},{"$f":"IF($O39=\"\",\"\",SUMIF(DMA!$M$5:$M$503,Graphs!$O39,DMA!Q$5:Q$503))","v":""},"",{"$f":"IF(O39=\"\",\"\",COUNTIF(DMA!M$5:M$503,Graphs!A39))","v":""},"","","","","","","","","","",null,null,null,null,null,null,null,null,null,null,"1 - 2",{"$f":"COUNTIF(DMA!K$5:K$503,\"<=2\")-AQ38","v":0},0,2,{"$f":"IF(AR39=\"\",\"\",AR39+AT38)","v":0},null,null,null,null,null,"","","",{"$f":"IF(P39=\"\",\"\",IF(P39=0,\"\",SQRT(SUMIF(DMA!$DJ$5:$DJ$503,Graphs!$O39,DMA!DK$5:DK$503))/COUNTIF(DMA!$DJ$5:$DJ$503,Graphs!$O39)))","v":""},{"$f":"IF(Q39=\"\",\"\",IF(Q39=0,\"\",SQRT(SUMIF(DMA!$DJ$5:$DJ$503,Graphs!$O39,DMA!DL$5:DL$503))/COUNTIF(DMA!$DJ$5:$DJ$503,Graphs!$O39)))","v":""},{"$f":"IF(R39=\"\",\"\",IF(R39=0,\"\",SQRT(SUMIF(DMA!$DJ$5:$DJ$503,Graphs!$O39,DMA!DM$5:DM$503))/COUNTIF(DMA!$DJ$5:$DJ$503,Graphs!$O39)))","v":""},{"$f":"IF($P39=\"\",\"\",IF(P39=0,\"\",AVERAGEIF(DMA!$M$5:$M$503,Graphs!$O39,DMA!N$5:N$503)))","v":""},{"$f":"IF($Q39=\"\",\"\",IF(Q39=0,\"\",AVERAGEIF(DMA!$M$5:$M$503,Graphs!$O39,DMA!O$5:O$503)))","v":""},{"$f":"IF($R39=\"\",\"\",IF(R39=0,\"\",AVERAGEIF(DMA!$M$5:$M$503,Graphs!$O39,DMA!P$5:P$503)))","v":""},null,null,null,null,{"$f":"IF($O39=\"\",\"\",COUNTIFS(DMA!$M$5:$M$503,Graphs!$O39,DMA!N$5:N$503,\">0\"))","v":""},{"$f":"IF($O39=\"\",\"\",COUNTIFS(DMA!$M$5:$M$503,Graphs!$O39,DMA!O$5:O$503,\">0\"))","v":""},{"$f":"IF($O39=\"\",\"\",COUNTIFS(DMA!$M$5:$M$503,Graphs!$O39,DMA!P$5:P$503,\">0\"))","v":""}]
[null,{"$f":"IF(A40=\"\",\"\",(SUMIF(DMA!$AO$5:$AO$604,$A40,DMA!$AQ$5:$AQ$603)/DMA!AQ$604))","v":""},{"$f":"IF(A40=\"\",\"\",(SUMIF(DMA!$CQ$5:$CQ$603,$A40,DMA!$CO$5:$CO$603))*0.01)","v":""},{"$f":"IF(B40=\"\",\"\",(SUMIF(DMA!$CQ$5:$CQ$603,$A40,DMA!$CP$5:$CP$603)))","v":""},{"$f":"IF(COUNTIF(DMA!I$5:I$503,Graphs!$A40)>0,Graphs!$A40,\"\")","v":""},{"$f":"IF(E40=\"\",\"\",COUNTIF(DMA!I$5:I$503,Graphs!E40))","v":""},{"$f":"IF(E40=\"\",\"\",SUMIF(DMA!I$5:I$503,Graphs!E40,DMA!J$5:J$503)/COUNTIF(DMA!I$5:I$503,Graphs!E40))","v":""},{"$f":"IF(SUMIF(DMA!B$5:B$503,Graphs!A40,DMA!D$5:D$503)>0,Graphs!A40,\"\")","v":""},{"$f":"IF(H40=\"\",\"\",COUNTIF(DMA!B$5:B$503,Graphs!A40))","v":""},{"$f":"IF(H40=\"\",\"\",10^(-0.7083129+0.297*(SUMIF(DMA!B$5:B$503,Graphs!H40,DMA!D$5:D$503)/COUNTIF(DMA!B$5:B$503,Graphs!H40))))","v":""},{"$f":"IF(COUNTIF(DMA!R$5:R$503,Graphs!$A40)>0,Graphs!$A40,\"\")","v":""},{"$f":"IF(K40=\"\",\"\",COUNTIF(DMA!R$5:R$503,Graphs!A40))","v":""},{"$f":"IF(K40=\"\",\"\",(SUMIF(DMA!R$5:R$503,Graphs!A40,DMA!S$5:S$503)/COUNTIF(DMA!R$5:R$503,Graphs!A40)))","v":""},"",{"$f":"IF(COUNTIF(DMA!M$5:M$503,Graphs!$A40)>0,Graphs!$A40,\"\")","v":""},{"$f":"IF($O40=\"\",\"\",SUMIF(DMA!$M$5:$M$503,Graphs!$O40,DMA!N$5:N$503))","v":""},{"$f":"IF($O40=\"\",\"\",SUMIF(DMA!$M$5:$M$503,Graphs!$O40,DMA!O$5:O$503))","v":""},{"$f":"IF($O40=\"\",\"\",SUMIF(DMA!$M$5:$M$503,Graphs!$O40,DMA!P$5:P$503))","v":""},{"$f":"IF($O40=\"\",\"\",SUMIF(DMA!$M$5:$M$503,Graphs!$O40,DMA!Q$5:Q$503))","v":""},"",{"$f":"IF(O40=\"\",\"\",COUNTIF(DMA!M$5:M$503,Graphs!A40))","v":""},"","","","","","","","","","",null,null,null,null,null,null,null,null,null,null,"2- 4",{"$f":"COUNTIF(DMA!K$5:K$503,\"<=4\")-SUM(AQ38:AQ39)","v":0},0,4,{"$f":"IF(AR40=\"\",\"\",AR40+AT39)","v":0},null,null,null,null,null,"","","",{"$f":"IF(P40=\"\",\"\",IF(P40=0,\"\",SQRT(SUMIF(DMA!$DJ$5:$DJ$503,Graphs!$O40,DMA!DK$5:DK$503))/COUNTIF(DMA!$DJ$5:$DJ$503,Graphs!$O40)))","v":""},{"$f":"IF(Q40=\"\",\"\",IF(Q40=0,\"\",SQRT(SUMIF(DMA!$DJ$5:$DJ$503,Graphs!$O40,DMA!DL$5:DL$503))/COUNTIF(DMA!$DJ$5:$DJ$503,Graphs!$O40)))","v":""},{"$f":"IF(R40=\"\",\"\",IF(R40=0,\"\",SQRT(SUMIF(DMA!$DJ$5:$DJ$503,Graphs!$O40,DMA!DM$5:DM$503))/COUNTIF(DMA!$DJ$5:$DJ$503,Graphs!$O40)))","v":""},{"$f":"IF($P40=\"\",\"\",IF(P40=0,\"\",AVERAGEIF(DMA!$M$5:$M$503,Graphs!$O40,DMA!N$5:N$503)))","v":""},{"$f":"IF($Q40=\"\",\"\",IF(Q40=0,\"\",AVERAGEIF(DMA!$M$5:$M$503,Graphs!$O40,DMA!O$5:O$503)))","v":""},{"$f":"IF($R40=\"\",\"\",IF(R40=0,\"\",AVERAGEIF(DMA!$M$5:$M$503,Graphs!$O40,DMA!P$5:P$503)))","v":""},null,null,null,null,{"$f":"IF($O40=\"\",\"\",COUNTIFS(DMA!$M$5:$M$503,Graphs!$O40,DMA!N$5:N$503,\">0\"))","v":""},{"$f":"IF($O40=\"\",\"\",COUNTIFS(DMA!$M$5:$M$503,Graphs!$O40,DMA!O$5:O$503,\">0\"))","v":""},{"$f":"IF($O40=\"\",\"\",COUNTIFS(DMA!$M$5:$M$503,Graphs!$O40,DMA!P$5:P$503,\">0\"))","v":""}]
[null,{"$f":"IF(A41=\"\",\"\",(SUMIF(DMA!$AO$5:$AO$604,$A41,DMA!$AQ$5:$AQ$603)/DMA!AQ$604))","v":""},{"$f":"IF(A41=\"\",\"\",(SUMIF(DMA!$CQ$5:$CQ$603,$A41,DMA!$CO$5:$CO$603))*0.01)","v":""},{"$f":"IF(B41=\"\",\"\",(SUMIF(DMA!$CQ$5:$CQ$603,$A41,DMA!$CP$5:$CP$603)))","v":""},{"$f":"IF(COUNTIF(DMA!I$5:I$503,Graphs!$A41)>0,Graphs!$A41,\"\")","v":""},{"$f":"IF(E41=\"\",\"\",COUNTIF(DMA!I$5:I$503,Graphs!E41))","v":""},{"$f":"IF(E41=\"\",\"\",SUMIF(DMA!I$5:I$503,Graphs!E41,DMA!J$5:J$503)/COUNTIF(DMA!I$5:I$503,Graphs!E41))","v":""},{"$f":"IF(SUMIF(DMA!B$5:B$503,Graphs!A41,DMA!D$5:D$503)>0,Graphs!A41,\"\")","v":""},{"$f":"IF(H41=\"\",\"\",COUNTIF(DMA!B$5:B$503,Graphs!A41))","v":""},{"$f":"IF(H41=\"\",\"\",10^(-0.7083129+0.297*(SUMIF(DMA!B$5:B$503,Graphs!H41,DMA!D$5:D$503)/COUNTIF(DMA!B$5:B$503,Graphs!H41))))","v":""},{"$f":"IF(COUNTIF(DMA!R$5:R$503,Graphs!$A41)>0,Graphs!$A41,\"\")","v":""},{"$f":"IF(K41=\"\",\"\",COUNTIF(DMA!R$5:R$503,Graphs!A41))","v":""},{"$f":"IF(K41=\"\",\"\",(SUMIF(DMA!R$5:R$503,Graphs!A41,DMA!S$5:S$503)/COUNTIF(DMA!R$5:R$503,Graphs!A41)))","v":""},"",{"$f":"IF(COUNTIF(DMA!M$5:M$503,Graphs!$A41)>0,Graphs!$A41,\"\")","v":""},{"$f":"IF($O41=\"\",\"\",SUMIF(DMA!$M$5:$M$503,Graphs!$O41,DMA!N$5:N$503))","v":""},{"$f":"IF($O41=\"\",\"\",SUMIF(DMA!$M$5:$M$503,Graphs!$O41,DMA!O$5:O$503))","v":""},{"$f":"IF($O41=\"\",\"\",SUMIF(DMA!$M$5:$M$503,Graphs!$O41,DMA!P$5:P$503))","v":""},{"$f":"IF($O41=\"\",\"\",SUMIF(DMA!$M$5:$M$503,Graphs!$O41,DMA!Q$5:Q$503))","v":""},"",{"$f":"IF(O41=\"\",\"\",COUNTIF(DMA!M$5:M$503,Graphs!A41))","v":""},"","","","","","","","","","",null,null,null,null,null,null,null,null,null,null,"4 - 6",{"$f":"COUNTIF(DMA!K$5:K$503,\"<=6\")-SUM(AQ38:AQ40)","v":0},0,6,{"$f":"IF(AR41=\"\",\"\",AR41+AT40)","v":0},null,null,null,null,null,"","","",{"$f":"IF(P41=\"\",\"\",IF(P41=0,\"\",SQRT(SUMIF(DMA!$DJ$5:$DJ$503,Graphs!$O41,DMA!DK$5:DK$503))/COUNTIF(DMA!$DJ$5:$DJ$503,Graphs!$O41)))","v":""},{"$f":"IF(Q41=\"\",\"\",IF(Q41=0,\"\",SQRT(SUMIF(DMA!$DJ$5:$DJ$503,Graphs!$O41,DMA!DL$5:DL$503))/COUNTIF(DMA!$DJ$5:$DJ$503,Graphs!$O41)))","v":""},{"$f":"IF(R41=\"\",\"\",IF(R41=0,\"\",SQRT(SUMIF(DMA!$DJ$5:$DJ$503,Graphs!$O41,DMA!DM$5:DM$503))/COUNTIF(DMA!$DJ$5:$DJ$503,Graphs!$O41)))","v":""},{"$f":"IF($P41=\"\",\"\",IF(P41=0,\"\",AVERAGEIF(DMA!$M$5:$M$503,Graphs!$O41,DMA!N$5:N$503)))","v":""},{"$f":"IF($Q41=\"\",\"\",IF(Q41=0,\"\",AVERAGEIF(DMA!$M$5:$M$503,Graphs!$O41,DMA!O$5:O$503)))","v":""},{"$f":"IF($R41=\"\",\"\",IF(R41=0,\"\",AVERAGEIF(DMA!$M$5:$M$503,Graphs!$O41,DMA!P$5:P$503)))","v":""},null,null,null,null,{"$f":"IF($O41=\"\",\"\",COUNTIFS(DMA!$M$5:$M$503,Graphs!$O41,DMA!N$5:N$503,\">0\"))","v":""},{"$f":"IF($O41=\"\",\"\",COUNTIFS(DMA!$M$5:$M$503,Graphs!$O41,DMA!O$5:O$503,\">0\"))","v":""},{"$f":"IF($O41=\"\",\"\",COUNTIFS(DMA!$M$5:$M$503,Graphs!$O41,DMA!P$5:P$503,\">0\"))","v":""}]
[null,{"$f":"IF(A42=\"\",\"\",(SUMIF(DMA!$AO$5:$AO$604,$A42,DMA!$AQ$5:$AQ$603)/DMA!AQ$604))","v":""},{"$f":"IF(A42=\"\",\"\",(SUMIF(DMA!$CQ$5:$CQ$603,$A42,DMA!$CO$5:$CO$603))*0.01)","v":""},{"$f":"IF(B42=\"\",\"\",(SUMIF(DMA!$CQ$5:$CQ$603,$A42,DMA!$CP$5:$CP$603)))","v":""},{"$f":"IF(COUNTIF(DMA!I$5:I$503,Graphs!$A42)>0,Graphs!$A42,\"\")","v":""},{"$f":"IF(E42=\"\",\"\",COUNTIF(DMA!I$5:I$503,Graphs!E42))","v":""},{"$f":"IF(E42=\"\",\"\",SUMIF(DMA!I$5:I$503,Graphs!E42,DMA!J$5:J$503)/COUNTIF(DMA!I$5:I$503,Graphs!E42))","v":""},{"$f":"IF(SUMIF(DMA!B$5:B$503,Graphs!A42,DMA!D$5:D$503)>0,Graphs!A42,\"\")","v":""},{"$f":"IF(H42=\"\",\"\",COUNTIF(DMA!B$5:B$503,Graphs!A42))","v":""},{"$f":"IF(H42=\"\",\"\",10^(-0.7083129+0.297*(SUMIF(DMA!B$5:B$503,Graphs!H42,DMA!D$5:D$503)/COUNTIF(DMA!B$5:B$503,Graphs!H42))))","v":""},{"$f":"IF(COUNTIF(DMA!R$5:R$503,Graphs!$A42)>0,Graphs!$A42,\"\")","v":""},{"$f":"IF(K42=\"\",\"\",COUNTIF(DMA!R$5:R$503,Graphs!A42))","v":""},{"$f":"IF(K42=\"\",\"\",(SUMIF(DMA!R$5:R$503,Graphs!A42,DMA!S$5:S$503)/COUNTIF(DMA!R$5:R$503,Graphs!A42)))","v":""},"",{"$f":"IF(COUNTIF(DMA!M$5:M$503,Graphs!$A42)>0,Graphs!$A42,\"\")","v":""},{"$f":"IF($O42=\"\",\"\",SUMIF(DMA!$M$5:$M$503,Graphs!$O42,DMA!N$5:N$503))","v":""},{"$f":"IF($O42=\"\",\"\",SUMIF(DMA!$M$5:$M$503,Graphs!$O42,DMA!O$5:O$503))","v":""},{"$f":"IF($O42=\"\",\"\",SUMIF(DMA!$M$5:$M$503,Graphs!$O42,DMA!P$5:P$503))","v":""},{"$f":"IF($O42=\"\",\"\",SUMIF(DMA!$M$5:$M$503,Graphs!$O42,DMA!Q$5:Q$503))","v":""},"",{"$f":"IF(O42=\"\",\"\",COUNTIF(DMA!M$5:M$503,Graphs!A42))","v":""},"","","","","","","","","","",null,null,null,null,null,null,null,null,null,null,"6 - 8",{"$f":"COUNTIF(DMA!K$5:K$503,\"<=8\")-SUM(AQ38:AQ41)","v":0},0,8,{"$f":"IF(AR42=\"\",\"\",AR42+AT41)","v":0},null,null,null,null,null,"","","",{"$f":"IF(P42=\"\",\"\",IF(P42=0,\"\",SQRT(SUMIF(DMA!$DJ$5:$DJ$503,Graphs!$O42,DMA!DK$5:DK$503))/COUNTIF(DMA!$DJ$5:$DJ$503,Graphs!$O42)))","v":""},{"$f":"IF(Q42=\"\",\"\",IF(Q42=0,\"\",SQRT(SUMIF(DMA!$DJ$5:$DJ$503,Graphs!$O42,DMA!DL$5:DL$503))/COUNTIF(DMA!$DJ$5:$DJ$503,Graphs!$O42)))","v":""},{"$f":"IF(R42=\"\",\"\",IF(R42=0,\"\",SQRT(SUMIF(DMA!$DJ$5:$DJ$503,Graphs!$O42,DMA!DM$5:DM$503))/COUNTIF(DMA!$DJ$5:$DJ$503,Graphs!$O42)))","v":""},{"$f":"IF($P42=\"\",\"\",IF(P42=0,\"\",AVERAGEIF(DMA!$M$5:$M$503,Graphs!$O42,DMA!N$5:N$503)))","v":""},{"$f":"IF($Q42=\"\",\"\",IF(Q42=0,\"\",AVERAGEIF(DMA!$M$5:$M$503,Graphs!$O42,DMA!O$5:O$503)))","v":""},{"$f":"IF($R42=\"\",\"\",IF(R42=0,\"\",AVERAGEIF(DMA!$M$5:$M$503,Graphs!$O42,DMA!P$5:P$503)))","v":""},null,null,null,null,{"$f":"IF($O42=\"\",\"\",COUNTIFS(DMA!$M$5:$M$503,Graphs!$O42,DMA!N$5:N$503,\">0\"))","v":""},{"$f":"IF($O42=\"\",\"\",COUNTIFS(DMA!$M$5:$M$503,Graphs!$O42,DMA!O$5:O$503,\">0\"))","v":""},{"$f":"IF($O42=\"\",\"\",COUNTIFS(DMA!$M$5:$M$503,Graphs!$O42,DMA!P$5:P$503,\">0\"))","v":""}]
[null,{"$f":"IF(A43=\"\",\"\",(SUMIF(DMA!$AO$5:$AO$604,$A43,DMA!$AQ$5:$AQ$603)/DMA!AQ$604))","v":""},{"$f":"IF(A43=\"\",\"\",(SUMIF(DMA!$CQ$5:$CQ$603,$A43,DMA!$CO$5:$CO$603))*0.01)","v":""},{"$f":"IF(B43=\"\",\"\",(SUMIF(DMA!$CQ$5:$CQ$603,$A43,DMA!$CP$5:$CP$603)))","v":""},{"$f":"IF(COUNTIF(DMA!I$5:I$503,Graphs!$A43)>0,Graphs!$A43,\"\")","v":""},{"$f":"IF(E43=\"\",\"\",COUNTIF(DMA!I$5:I$503,Graphs!E43))","v":""},{"$f":"IF(E43=\"\",\"\",SUMIF(DMA!I$5:I$503,Graphs!E43,DMA!J$5:J$503)/COUNTIF(DMA!I$5:I$503,Graphs!E43))","v":""},{"$f":"IF(SUMIF(DMA!B$5:B$503,Graphs!A43,DMA!D$5:D$503)>0,Graphs!A43,\"\")","v":""},{"$f":"IF(H43=\"\",\"\",COUNTIF(DMA!B$5:B$503,Graphs!A43))","v":""},{"$f":"IF(H43=\"\",\"\",10^(-0.7083129+0.297*(SUMIF(DMA!B$5:B$503,Graphs!H43,DMA!D$5:D$503)/COUNTIF(DMA!B$5:B$503,Graphs!H43))))","v":""},{"$f":"IF(COUNTIF(DMA!R$5:R$503,Graphs!$A43)>0,Graphs!$A43,\"\")","v":""},{"$f":"IF(K43=\"\",\"\",COUNTIF(DMA!R$5:R$503,Graphs!A43))","v":""},{"$f":"IF(K43=\"\",\"\",(SUMIF(DMA!R$5:R$503,Graphs!A43,DMA!S$5:S$503)/COUNTIF(DMA!R$5:R$503,Graphs!A43)))","v":""},"",{"$f":"IF(COUNTIF(DMA!M$5:M$503,Graphs!$A43)>0,Graphs!$A43,\"\")","v":""},{"$f":"IF($O43=\"\",\"\",SUMIF(DMA!$M$5:$M$503,Graphs!$O43,DMA!N$5:N$503))","v":""},{"$f":"IF($O43=\"\",\"\",SUMIF(DMA!$M$5:$M$503,Graphs!$O43,DMA!O$5:O$503))","v":""},{"$f":"IF($O43=\"\",\"\",SUMIF(DMA!$M$5:$M$503,Graphs!$O43,DMA!P$5:P$503))","v":""},{"$f":"IF($O43=\"\",\"\",SUMIF(DMA!$M$5:$M$503,Graphs!$O43,DMA!Q$5:Q$503))","v":""},"",{"$f":"IF(O43=\"\",\"\",COUNTIF(DMA!M$5:M$503,Graphs!A43))","v":""},"","","","","","","","","","",null,null,null,null,null,null,null,null,null,null,">8",{"$f":"COUNTIF(DMA!K$5:K$503,\">8\")","v":0},0,10,{"$f":"IF(AR43=\"\",\"\",AR43+AT42)","v":0},null,null,null,null,null,"","","",{"$f":"IF(P43=\"\",\"\",IF(P43=0,\"\",SQRT(SUMIF(DMA!$DJ$5:$DJ$503,Graphs!$O43,DMA!DK$5:DK$503))/COUNTIF(DMA!$DJ$5:$DJ$503,Graphs!$O43)))","v":""},{"$f":"IF(Q43=\"\",\"\",IF(Q43=0,\"\",SQRT(SUMIF(DMA!$DJ$5:$DJ$503,Graphs!$O43,DMA!DL$5:DL$503))/COUNTIF(DMA!$DJ$5:$DJ$503,Graphs!$O43)))","v":""},{"$f":"IF(R43=\"\",\"\",IF(R43=0,\"\",SQRT(SUMIF(DMA!$DJ$5:$DJ$503,Graphs!$O43,DMA!DM$5:DM$503))/COUNTIF(DMA!$DJ$5:$DJ$503,Graphs!$O43)))","v":""},{"$f":"IF($P43=\"\",\"\",IF(P43=0,\"\",AVERAGEIF(DMA!$M$5:$M$503,Graphs!$O43,DMA!N$5:N$503)))","v":""},{"$f":"IF($Q43=\"\",\"\",IF(Q43=0,\"\",AVERAGEIF(DMA!$M$5:$M$503,Graphs!$O43,DMA!O$5:O$503)))","v":""},{"$f":"IF($R43=\"\",\"\",IF(R43=0,\"\",AVERAGEIF(DMA!$M$5:$M$503,Graphs!$O43,DMA!P$5:P$503)))","v":""},null,null,null,null,{"$f":"IF($O43=\"\",\"\",COUNTIFS(DMA!$M$5:$M$503,Graphs!$O43,DMA!N$5:N$503,\">0\"))","v":""},{"$f":"IF($O43=\"\",\"\",COUNTIFS(DMA!$M$5:$M$503,Graphs!$O43,DMA!O$5:O$503,\">0\"))","v":""},{"$f":"IF($O43=\"\",\"\",COUNTIFS(DMA!$M$5:$M$503,Graphs!$O43,DMA!P$5:P$503,\">0\"))","v":""}]
[null,{"$f":"IF(A44=\"\",\"\",(SUMIF(DMA!$AO$5:$AO$604,$A44,DMA!$AQ$5:$AQ$603)/DMA!AQ$604))","v":""},{"$f":"IF(A44=\"\",\"\",(SUMIF(DMA!$CQ$5:$CQ$603,$A44,DMA!$CO$5:$CO$603))*0.01)","v":""},{"$f":"IF(B44=\"\",\"\",(SUMIF(DMA!$CQ$5:$CQ$603,$A44,DMA!$CP$5:$CP$603)))","v":""},{"$f":"IF(COUNTIF(DMA!I$5:I$503,Graphs!$A44)>0,Graphs!$A44,\"\")","v":""},{"$f":"IF(E44=\"\",\"\",COUNTIF(DMA!I$5:I$503,Graphs!E44))","v":""},{"$f":"IF(E44=\"\",\"\",SUMIF(DMA!I$5:I$503,Graphs!E44,DMA!J$5:J$503)/COUNTIF(DMA!I$5:I$503,Graphs!E44))","v":""},{"$f":"IF(SUMIF(DMA!B$5:B$503,Graphs!A44,DMA!D$5:D$503)>0,Graphs!A44,\"\")","v":""},{"$f":"IF(H44=\"\",\"\",COUNTIF(DMA!B$5:B$503,Graphs!A44))","v":""},{"$f":"IF(H44=\"\",\"\",10^(-0.7083129+0.297*(SUMIF(DMA!B$5:B$503,Graphs!H44,DMA!D$5:D$503)/COUNTIF(DMA!B$5:B$503,Graphs!H44))))","v":""},{"$f":"IF(COUNTIF(DMA!R$5:R$503,Graphs!$A44)>0,Graphs!$A44,\"\")","v":""},{"$f":"IF(K44=\"\",\"\",COUNTIF(DMA!R$5:R$503,Graphs!A44))","v":""},{"$f":"IF(K44=\"\",\"\",(SUMIF(DMA!R$5:R$503,Graphs!A44,DMA!S$5:S$503)/COUNTIF(DMA!R$5:R$503,Graphs!A44)))","v":""},"",{"$f":"IF(COUNTIF(DMA!M$5:M$503,Graphs!$A44)>0,Graphs!$A44,\"\")","v":""},{"$f":"IF($O44=\"\",\"\",SUMIF(DMA!$M$5:$M$503,Graphs!$O44,DMA!N$5:N$503))","v":""},{"$f":"IF($O44=\"\",\"\",SUMIF(DMA!$M$5:$M$503,Graphs!$O44,DMA!O$5:O$503))","v":""},{"$f":"IF($O44=\"\",\"\",SUMIF(DMA!$M$5:$M$503,Graphs!$O44,DMA!P$5:P$503))","v":""},{"$f":"IF($O44=\"\",\"\",SUMIF(DMA!$M$5:$M$503,Graphs!$O44,DMA!Q$5:Q$503))","v":""},"",{"$f":"IF(O44=\"\",\"\",COUNTIF(DMA!M$5:M$503,Graphs!A44))","v":""},"","","","","","","","","","",null,null,null,null,null,null,null,null,null,null,"Total",{"$f":"SUM(AQ38:AQ43)","v":0},null,null,null,null,null,null,null,null,"","","",{"$f":"IF(P44=\"\",\"\",IF(P44=0,\"\",SQRT(SUMIF(DMA!$DJ$5:$DJ$503,Graphs!$O44,DMA!DK$5:DK$503))/COUNTIF(DMA!$DJ$5:$DJ$503,Graphs!$O44)))","v":""},{"$f":"IF(Q44=\"\",\"\",IF(Q44=0,\"\",SQRT(SUMIF(DMA!$DJ$5:$DJ$503,Graphs!$O44,DMA!DL$5:DL$503))/COUNTIF(DMA!$DJ$5:$DJ$503,Graphs!$O44)))","v":""},{"$f":"IF(R44=\"\",\"\",IF(R44=0,\"\",SQRT(SUMIF(DMA!$DJ$5:$DJ$503,Graphs!$O44,DMA!DM$5:DM$503))/COUNTIF(DMA!$DJ$5:$DJ$503,Graphs!$O44)))","v":""},{"$f":"IF($P44=\"\",\"\",IF(P44=0,\"\",AVERAGEIF(DMA!$M$5:$M$503,Graphs!$O44,DMA!N$5:N$503)))","v":""},{"$f":"IF($Q44=\"\",\"\",IF(Q44=0,\"\",AVERAGEIF(DMA!$M$5:$M$503,Graphs!$O44,DMA!O$5:O$503)))","v":""},{"$f":"IF($R44=\"\",\"\",IF(R44=0,\"\",AVERAGEIF(DMA!$M$5:$M$503,Graphs!$O44,DMA!P$5:P$503)))","v":""},null,null,null,null,{"$f":"IF($O44=\"\",\"\",COUNTIFS(DMA!$M$5:$M$503,Graphs!$O44,DMA!N$5:N$503,\">0\"))","v":""},{"$f":"IF($O44=\"\",\"\",COUNTIFS(DMA!$M$5:$M$503,Graphs!$O44,DMA!O$5:O$503,\">0\"))","v":""},{"$f":"IF($O44=\"\",\"\",COUNTIFS(DMA!$M$5:$M$503,Graphs!$O44,DMA!P$5:P$503,\">0\"))","v":""}]
[null,{"$f":"IF(A45=\"\",\"\",(SUMIF(DMA!$AO$5:$AO$604,$A45,DMA!$AQ$5:$AQ$603)/DMA!AQ$604))","v":""},{"$f":"IF(A45=\"\",\"\",(SUMIF(DMA!$CQ$5:$CQ$603,$A45,DMA!$CO$5:$CO$603))*0.01)","v":""},{"$f":"IF(B45=\"\",\"\",(SUMIF(DMA!$CQ$5:$CQ$603,$A45,DMA!$CP$5:$CP$603)))","v":""},{"$f":"IF(COUNTIF(DMA!I$5:I$503,Graphs!$A45)>0,Graphs!$A45,\"\")","v":""},{"$f":"IF(E45=\"\",\"\",COUNTIF(DMA!I$5:I$503,Graphs!E45))","v":""},{"$f":"IF(E45=\"\",\"\",SUMIF(DMA!I$5:I$503,Graphs!E45,DMA!J$5:J$503)/COUNTIF(DMA!I$5:I$503,Graphs!E45))","v":""},{"$f":"IF(SUMIF(DMA!B$5:B$503,Graphs!A45,DMA!D$5:D$503)>0,Graphs!A45,\"\")","v":""},{"$f":"IF(H45=\"\",\"\",COUNTIF(DMA!B$5:B$503,Graphs!A45))","v":""},{"$f":"IF(H45=\"\",\"\",10^(-0.7083129+0.297*(SUMIF(DMA!B$5:B$503,Graphs!H45,DMA!D$5:D$503)/COUNTIF(DMA!B$5:B$503,Graphs!H45))))","v":""},{"$f":"IF(COUNTIF(DMA!R$5:R$503,Graphs!$A45)>0,Graphs!$A45,\"\")","v":""},{"$f":"IF(K45=\"\",\"\",COUNTIF(DMA!R$5:R$503,Graphs!A45))","v":""},{"$f":"IF(K45=\"\",\"\",(SUMIF(DMA!R$5:R$503,Graphs!A45,DMA!S$5:S$503)/COUNTIF(DMA!R$5:R$503,Graphs!A45)))","v":""},"",{"$f":"IF(COUNTIF(DMA!M$5:M$503,Graphs!$A45)>0,Graphs!$A45,\"\")","v":""},{"$f":"IF($O45=\"\",\"\",SUMIF(DMA!$M$5:$M$503,Graphs!$O45,DMA!N$5:N$503))","v":""},{"$f":"IF($O45=\"\",\"\",SUMIF(DMA!$M$5:$M$503,Graphs!$O45,DMA!O$5:O$503))","v":""},{"$f":"IF($O45=\"\",\"\",SUMIF(DMA!$M$5:$M$503,Graphs!$O45,DMA!P$5:P$503))","v":""},{"$f":"IF($O45=\"\",\"\",SUMIF(DMA!$M$5:$M$503,Graphs!$O45,DMA!Q$5:Q$503))","v":""},"",{"$f":"IF(O45=\"\",\"\",COUNTIF(DMA!M$5:M$503,Graphs!A45))","v":""},"","","","","","","","","","",null,null,null,null,null,null,null,null,null,null,null,null,null,null,null,null,null,null,null,null,"","","",{"$f":"IF(P45=\"\",\"\",IF(P45=0,\"\",SQRT(SUMIF(DMA!$DJ$5:$DJ$503,Graphs!$O45,DMA!DK$5:DK$503))/COUNTIF(DMA!$DJ$5:$DJ$503,Graphs!$O45)))","v":""},{"$f":"IF(Q45=\"\",\"\",IF(Q45=0,\"\",SQRT(SUMIF(DMA!$DJ$5:$DJ$503,Graphs!$O45,DMA!DL$5:DL$503))/COUNTIF(DMA!$DJ$5:$DJ$503,Graphs!$O45)))","v":""},{"$f":"IF(R45=\"\",\"\",IF(R45=0,\"\",SQRT(SUMIF(DMA!$DJ$5:$DJ$503,Graphs!$O45,DMA!DM$5:DM$503))/COUNTIF(DMA!$DJ$5:$DJ$503,Graphs!$O45)))","v":""},{"$f":"IF($P45=\"\",\"\",IF(P45=0,\"\",AVERAGEIF(DMA!$M$5:$M$503,Graphs!$O45,DMA!N$5:N$503)))","v":""},{"$f":"IF($Q45=\"\",\"\",IF(Q45=0,\"\",AVERAGEIF(DMA!$M$5:$M$503,Graphs!$O45,DMA!O$5:O$503)))","v":""},{"$f":"IF($R45=\"\",\"\",IF(R45=0,\"\",AVERAGEIF(DMA!$M$5:$M$503,Graphs!$O45,DMA!P$5:P$503)))","v":""},null,null,null,null,{"$f":"IF($O45=\"\",\"\",COUNTIFS(DMA!$M$5:$M$503,Graphs!$O45,DMA!N$5:N$503,\">0\"))","v":""},{"$f":"IF($O45=\"\",\"\",COUNTIFS(DMA!$M$5:$M$503,Graphs!$O45,DMA!O$5:O$503,\">0\"))","v":""},{"$f":"IF($O45=\"\",\"\",COUNTIFS(DMA!$M$5:$M$503,Graphs!$O45,DMA!P$5:P$503,\">0\"))","v":""}]
[null,{"$f":"IF(A46=\"\",\"\",(SUMIF(DMA!$AO$5:$AO$604,$A46,DMA!$AQ$5:$AQ$603)/DMA!AQ$604))","v":""},{"$f":"IF(A46=\"\",\"\",(SUMIF(DMA!$CQ$5:$CQ$603,$A46,DMA!$CO$5:$CO$603))*0.01)","v":""},{"$f":"IF(B46=\"\",\"\",(SUMIF(DMA!$CQ$5:$CQ$603,$A46,DMA!$CP$5:$CP$603)))","v":""},{"$f":"IF(COUNTIF(DMA!I$5:I$503,Graphs!$A46)>0,Graphs!$A46,\"\")","v":""},{"$f":"IF(E46=\"\",\"\",COUNTIF(DMA!I$5:I$503,Graphs!E46))","v":""},{"$f":"IF(E46=\"\",\"\",SUMIF(DMA!I$5:I$503,Graphs!E46,DMA!J$5:J$503)/COUNTIF(DMA!I$5:I$503,Graphs!E46))","v":""},{"$f":"IF(SUMIF(DMA!B$5:B$503,Graphs!A46,DMA!D$5:D$503)>0,Graphs!A46,\"\")","v":""},{"$f":"IF(H46=\"\",\"\",COUNTIF(DMA!B$5:B$503,Graphs!A46))","v":""},{"$f":"IF(H46=\"\",\"\",10^(-0.7083129+0.297*(SUMIF(DMA!B$5:B$503,Graphs!H46,DMA!D$5:D$503)/COUNTIF(DMA!B$5:B$503,Graphs!H46))))","v":""},{"$f":"IF(COUNTIF(DMA!R$5:R$503,Graphs!$A46)>0,Graphs!$A46,\"\")","v":""},{"$f":"IF(K46=\"\",\"\",COUNTIF(DMA!R$5:R$503,Graphs!A46))","v":""},{"$f":"IF(K46=\"\",\"\",(SUMIF(DMA!R$5:R$503,Graphs!A46,DMA!S$5:S$503)/COUNTIF(DMA!R$5:R$503,Graphs!A46)))","v":""},"",{"$f":"IF(COUNTIF(DMA!M$5:M$503,Graphs!$A46)>0,Graphs!$A46,\"\")","v":""},{"$f":"IF($O46=\"\",\"\",SUMIF(DMA!$M$5:$M$503,Graphs!$O46,DMA!N$5:N$503))","v":""},{"$f":"IF($O46=\"\",\"\",SUMIF(DMA!$M$5:$M$503,Graphs!$O46,DMA!O$5:O$503))","v":""},{"$f":"IF($O46=\"\",\"\",SUMIF(DMA!$M$5:$M$503,Graphs!$O46,DMA!P$5:P$503))","v":""},{"$f":"IF($O46=\"\",\"\",SUMIF(DMA!$M$5:$M$503,Graphs!$O46,DMA!Q$5:Q$503))","v":""},"",{"$f":"IF(O46=\"\",\"\",COUNTIF(DMA!M$5:M$503,Graphs!A46))","v":""},"","","","","","","","","","",null,null,null,null,null,null,null,null,null,null,null,null,null,null,null,null,null,null,null,null,"","","",{"$f":"IF(P46=\"\",\"\",IF(P46=0,\"\",SQRT(SUMIF(DMA!$DJ$5:$DJ$503,Graphs!$O46,DMA!DK$5:DK$503))/COUNTIF(DMA!$DJ$5:$DJ$503,Graphs!$O46)))","v":""},{"$f":"IF(Q46=\"\",\"\",IF(Q46=0,\"\",SQRT(SUMIF(DMA!$DJ$5:$DJ$503,Graphs!$O46,DMA!DL$5:DL$503))/COUNTIF(DMA!$DJ$5:$DJ$503,Graphs!$O46)))","v":""},{"$f":"IF(R46=\"\",\"\",IF(R46=0,\"\",SQRT(SUMIF(DMA!$DJ$5:$DJ$503,Graphs!$O46,DMA!DM$5:DM$503))/COUNTIF(DMA!$DJ$5:$DJ$503,Graphs!$O46)))","v":""},{"$f":"IF($P46=\"\",\"\",IF(P46=0,\"\",AVERAGEIF(DMA!$M$5:$M$503,Graphs!$O46,DMA!N$5:N$503)))","v":""},{"$f":"IF($Q46=\"\",\"\",IF(Q46=0,\"\",AVERAGEIF(DMA!$M$5:$M$503,Graphs!$O46,DMA!O$5:O$503)))","v":""},{"$f":"IF($R46=\"\",\"\",IF(R46=0,\"\",AVERAGEIF(DMA!$M$5:$M$503,Graphs!$O46,DMA!P$5:P$503)))","v":""},null,null,null,null,{"$f":"IF($O46=\"\",\"\",COUNTIFS(DMA!$M$5:$M$503,Graphs!$O46,DMA!N$5:N$503,\">0\"))","v":""},{"$f":"IF($O46=\"\",\"\",COUNTIFS(DMA!$M$5:$M$503,Graphs!$O46,DMA!O$5:O$503,\">0\"))","v":""},{"$f":"IF($O46=\"\",\"\",COUNTIFS(DMA!$M$5:$M$503,Graphs!$O46,DMA!P$5:P$503,\">0\"))","v":""}]
[null,{"$f":"IF(A47=\"\",\"\",(SUMIF(DMA!$AO$5:$AO$604,$A47,DMA!$AQ$5:$AQ$603)/DMA!AQ$604))","v":""},{"$f":"IF(A47=\"\",\"\",(SUMIF(DMA!$CQ$5:$CQ$603,$A47,DMA!$CO$5:$CO$603))*0.01)","v":""},{"$f":"IF(B47=\"\",\"\",(SUMIF(DMA!$CQ$5:$CQ$603,$A47,DMA!$CP$5:$CP$603)))","v":""},{"$f":"IF(COUNTIF(DMA!I$5:I$503,Graphs!$A47)>0,Graphs!$A47,\"\")","v":""},{"$f":"IF(E47=\"\",\"\",COUNTIF(DMA!I$5:I$503,Graphs!E47))","v":""},{"$f":"IF(E47=\"\",\"\",SUMIF(DMA!I$5:I$503,Graphs!E47,DMA!J$5:J$503)/COUNTIF(DMA!I$5:I$503,Graphs!E47))","v":""},{"$f":"IF(SUMIF(DMA!B$5:B$503,Graphs!A47,DMA!D$5:D$503)>0,Graphs!A47,\"\")","v":""},{"$f":"IF(H47=\"\",\"\",COUNTIF(DMA!B$5:B$503,Graphs!A47))","v":""},{"$f":"IF(H47=\"\",\"\",10^(-0.7083129+0.297*(SUMIF(DMA!B$5:B$503,Graphs!H47,DMA!D$5:D$503)/COUNTIF(DMA!B$5:B$503,Graphs!H47))))","v":""},{"$f":"IF(COUNTIF(DMA!R$5:R$503,Graphs!$A47)>0,Graphs!$A47,\"\")","v":""},{"$f":"IF(K47=\"\",\"\",COUNTIF(DMA!R$5:R$503,Graphs!A47))","v":""},{"$f":"IF(K47=\"\",\"\",(SUMIF(DMA!R$5:R$503,Graphs!A47,DMA!S$5:S$503)/COUNTIF(DMA!R$5:R$503,Graphs!A47)))","v":""},"",{"$f":"IF(COUNTIF(DMA!M$5:M$503,Graphs!$A47)>0,Graphs!$A47,\"\")","v":""},{"$f":"IF($O47=\"\",\"\",SUMIF(DMA!$M$5:$M$503,Graphs!$O47,DMA!N$5:N$503))","v":""},{"$f":"IF($O47=\"\",\"\",SUMIF(DMA!$M$5:$M$503,Graphs!$O47,DMA!O$5:O$503))","v":""},{"$f":"IF($O47=\"\",\"\",SUMIF(DMA!$M$5:$M$503,Graphs!$O47,DMA!P$5:P$503))","v":""},{"$f":"IF($O47=\"\",\"\",SUMIF(DMA!$M$5:$M$503,Graphs!$O47,DMA!Q$5:Q$503))","v":""},"",{"$f":"IF(O47=\"\",\"\",COUNTIF(DMA!M$5:M$503,Graphs!A47))","v":""},"","","","","","","","","","",null,null,null,null,null,null,null,null,null,null,null,null,null,null,null,null,null,null,null,null,"","","",{"$f":"IF(P47=\"\",\"\",IF(P47=0,\"\",SQRT(SUMIF(DMA!$DJ$5:$DJ$503,Graphs!$O47,DMA!DK$5:DK$503))/COUNTIF(DMA!$DJ$5:$DJ$503,Graphs!$O47)))","v":""},{"$f":"IF(Q47=\"\",\"\",IF(Q47=0,\"\",SQRT(SUMIF(DMA!$DJ$5:$DJ$503,Graphs!$O47,DMA!DL$5:DL$503))/COUNTIF(DMA!$DJ$5:$DJ$503,Graphs!$O47)))","v":""},{"$f":"IF(R47=\"\",\"\",IF(R47=0,\"\",SQRT(SUMIF(DMA!$DJ$5:$DJ$503,Graphs!$O47,DMA!DM$5:DM$503))/COUNTIF(DMA!$DJ$5:$DJ$503,Graphs!$O47)))","v":""},{"$f":"IF($P47=\"\",\"\",IF(P47=0,\"\",AVERAGEIF(DMA!$M$5:$M$503,Graphs!$O47,DMA!N$5:N$503)))","v":""},{"$f":"IF($Q47=\"\",\"\",IF(Q47=0,\"\",AVERAGEIF(DMA!$M$5:$M$503,Graphs!$O47,DMA!O$5:O$503)))","v":""},{"$f":"IF($R47=\"\",\"\",IF(R47=0,\"\",AVERAGEIF(DMA!$M$5:$M$503,Graphs!$O47,DMA!P$5:P$503)))","v":""},null,null,null,null,{"$f":"IF($O47=\"\",\"\",COUNTIFS(DMA!$M$5:$M$503,Graphs!$O47,DMA!N$5:N$503,\">0\"))","v":""},{"$f":"IF($O47=\"\",\"\",COUNTIFS(DMA!$M$5:$M$503,Graphs!$O47,DMA!O$5:O$503,\">0\"))","v":""},{"$f":"IF($O47=\"\",\"\",COUNTIFS(DMA!$M$5:$M$503,Graphs!$O47,DMA!P$5:P$503,\">0\"))","v":""}]
[null,{"$f":"IF(A48=\"\",\"\",(SUMIF(DMA!$AO$5:$AO$604,$A48,DMA!$AQ$5:$AQ$603)/DMA!AQ$604))","v":""},{"$f":"IF(A48=\"\",\"\",(SUMIF(DMA!$CQ$5:$CQ$603,$A48,DMA!$CO$5:$CO$603))*0.01)","v":""},{"$f":"IF(B48=\"\",\"\",(SUMIF(DMA!$CQ$5:$CQ$603,$A48,DMA!$CP$5:$CP$603)))","v":""},{"$f":"IF(COUNTIF(DMA!I$5:I$503,Graphs!$A48)>0,Graphs!$A48,\"\")","v":""},{"$f":"IF(E48=\"\",\"\",COUNTIF(DMA!I$5:I$503,Graphs!E48))","v":""},{"$f":"IF(E48=\"\",\"\",SUMIF(DMA!I$5:I$503,Graphs!E48,DMA!J$5:J$503)/COUNTIF(DMA!I$5:I$503,Graphs!E48))","v":""},{"$f":"IF(SUMIF(DMA!B$5:B$503,Graphs!A48,DMA!D$5:D$503)>0,Graphs!A48,\"\")","v":""},{"$f":"IF(H48=\"\",\"\",COUNTIF(DMA!B$5:B$503,Graphs!A48))","v":""},{"$f":"IF(H48=\"\",\"\",10^(-0.7083129+0.297*(SUMIF(DMA!B$5:B$503,Graphs!H48,DMA!D$5:D$503)/COUNTIF(DMA!B$5:B$503,Graphs!H48))))","v":""},{"$f":"IF(COUNTIF(DMA!R$5:R$503,Graphs!$A48)>0,Graphs!$A48,\"\")","v":""},{"$f":"IF(K48=\"\",\"\",COUNTIF(DMA!R$5:R$503,Graphs!A48))","v":""},{"$f":"IF(K48=\"\",\"\",(SUMIF(DMA!R$5:R$503,Graphs!A48,DMA!S$5:S$503)/COUNTIF(DMA!R$5:R$503,Graphs!A48)))","v":""},"",{"$f":"IF(COUNTIF(DMA!M$5:M$503,Graphs!$A48)>0,Graphs!$A48,\"\")","v":""},{"$f":"IF($O48=\"\",\"\",SUMIF(DMA!$M$5:$M$503,Graphs!$O48,DMA!N$5:N$503))","v":""},{"$f":"IF($O48=\"\",\"\",SUMIF(DMA!$M$5:$M$503,Graphs!$O48,DMA!O$5:O$503))","v":""},{"$f":"IF($O48=\"\",\"\",SUMIF(DMA!$M$5:$M$503,Graphs!$O48,DMA!P$5:P$503))","v":""},{"$f":"IF($O48=\"\",\"\",SUMIF(DMA!$M$5:$M$503,Graphs!$O48,DMA!Q$5:Q$503))","v":""},"",{"$f":"IF(O48=\"\",\"\",COUNTIF(DMA!M$5:M$503,Graphs!A48))","v":""},"","","","","","","","","","",null,null,null,null,null,null,null,null,null,null,null,null,null,null,null,null,null,null,null,null,"","","",{"$f":"IF(P48=\"\",\"\",IF(P48=0,\"\",SQRT(SUMIF(DMA!$DJ$5:$DJ$503,Graphs!$O48,DMA!DK$5:DK$503))/COUNTIF(DMA!$DJ$5:$DJ$503,Graphs!$O48)))","v":""},{"$f":"IF(Q48=\"\",\"\",IF(Q48=0,\"\",SQRT(SUMIF(DMA!$DJ$5:$DJ$503,Graphs!$O48,DMA!DL$5:DL$503))/COUNTIF(DMA!$DJ$5:$DJ$503,Graphs!$O48)))","v":""},{"$f":"IF(R48=\"\",\"\",IF(R48=0,\"\",SQRT(SUMIF(DMA!$DJ$5:$DJ$503,Graphs!$O48,DMA!DM$5:DM$503))/COUNTIF(DMA!$DJ$5:$DJ$503,Graphs!$O48)))","v":""},{"$f":"IF($P48=\"\",\"\",IF(P48=0,\"\",AVERAGEIF(DMA!$M$5:$M$503,Graphs!$O48,DMA!N$5:N$503)))","v":""},{"$f":"IF($Q48=\"\",\"\",IF(Q48=0,\"\",AVERAGEIF(DMA!$M$5:$M$503,Graphs!$O48,DMA!O$5:O$503)))","v":""},{"$f":"IF($R48=\"\",\"\",IF(R48=0,\"\",AVERAGEIF(DMA!$M$5:$M$503,Graphs!$O48,DMA!P$5:P$503)))","v":""},null,null,null,null,{"$f":"IF($O48=\"\",\"\",COUNTIFS(DMA!$M$5:$M$503,Graphs!$O48,DMA!N$5:N$503,\">0\"))","v":""},{"$f":"IF($O48=\"\",\"\",COUNTIFS(DMA!$M$5:$M$503,Graphs!$O48,DMA!O$5:O$503,\">0\"))","v":""},{"$f":"IF($O48=\"\",\"\",COUNTIFS(DMA!$M$5:$M$503,Graphs!$O48,DMA!P$5:P$503,\">0\"))","v":""}]
[null,{"$f":"IF(A49=\"\",\"\",(SUMIF(DMA!$AO$5:$AO$604,$A49,DMA!$AQ$5:$AQ$603)/DMA!AQ$604))","v":""},{"$f":"IF(A49=\"\",\"\",(SUMIF(DMA!$CQ$5:$CQ$603,$A49,DMA!$CO$5:$CO$603))*0.01)","v":""},{"$f":"IF(B49=\"\",\"\",(SUMIF(DMA!$CQ$5:$CQ$603,$A49,DMA!$CP$5:$CP$603)))","v":""},{"$f":"IF(COUNTIF(DMA!I$5:I$503,Graphs!$A49)>0,Graphs!$A49,\"\")","v":""},{"$f":"IF(E49=\"\",\"\",COUNTIF(DMA!I$5:I$503,Graphs!E49))","v":""},{"$f":"IF(E49=\"\",\"\",SUMIF(DMA!I$5:I$503,Graphs!E49,DMA!J$5:J$503)/COUNTIF(DMA!I$5:I$503,Graphs!E49))","v":""},{"$f":"IF(SUMIF(DMA!B$5:B$503,Graphs!A49,DMA!D$5:D$503)>0,Graphs!A49,\"\")","v":""},{"$f":"IF(H49=\"\",\"\",COUNTIF(DMA!B$5:B$503,Graphs!A49))","v":""},{"$f":"IF(H49=\"\",\"\",10^(-0.7083129+0.297*(SUMIF(DMA!B$5:B$503,Graphs!H49,DMA!D$5:D$503)/COUNTIF(DMA!B$5:B$503,Graphs!H49))))","v":""},{"$f":"IF(COUNTIF(DMA!R$5:R$503,Graphs!$A49)>0,Graphs!$A49,\"\")","v":""},{"$f":"IF(K49=\"\",\"\",COUNTIF(DMA!R$5:R$503,Graphs!A49))","v":""},{"$f":"IF(K49=\"\",\"\",(SUMIF(DMA!R$5:R$503,Graphs!A49,DMA!S$5:S$503)/COUNTIF(DMA!R$5:R$503,Graphs!A49)))","v":""},"",{"$f":"IF(COUNTIF(DMA!M$5:M$503,Graphs!$A49)>0,Graphs!$A49,\"\")","v":""},{"$f":"IF($O49=\"\",\"\",SUMIF(DMA!$M$5:$M$503,Graphs!$O49,DMA!N$5:N$503))","v":""},{"$f":"IF($O49=\"\",\"\",SUMIF(DMA!$M$5:$M$503,Graphs!$O49,DMA!O$5:O$503))","v":""},{"$f":"IF($O49=\"\",\"\",SUMIF(DMA!$M$5:$M$503,Graphs!$O49,DMA!P$5:P$503))","v":""},{"$f":"IF($O49=\"\",\"\",SUMIF(DMA!$M$5:$M$503,Graphs!$O49,DMA!Q$5:Q$503))","v":""},"",{"$f":"IF(O49=\"\",\"\",COUNTIF(DMA!M$5:M$503,Graphs!A49))","v":""},"","","","","","","","","","",null,null,null,null,null,null,null,null,null,null,null,null,null,null,null,null,null,null,null,null,"","","",{"$f":"IF(P49=\"\",\"\",IF(P49=0,\"\",SQRT(SUMIF(DMA!$DJ$5:$DJ$503,Graphs!$O49,DMA!DK$5:DK$503))/COUNTIF(DMA!$DJ$5:$DJ$503,Graphs!$O49)))","v":""},{"$f":"IF(Q49=\"\",\"\",IF(Q49=0,\"\",SQRT(SUMIF(DMA!$DJ$5:$DJ$503,Graphs!$O49,DMA!DL$5:DL$503))/COUNTIF(DMA!$DJ$5:$DJ$503,Graphs!$O49)))","v":""},{"$f":"IF(R49=\"\",\"\",IF(R49=0,\"\",SQRT(SUMIF(DMA!$DJ$5:$DJ$503,Graphs!$O49,DMA!DM$5:DM$503))/COUNTIF(DMA!$DJ$5:$DJ$503,Graphs!$O49)))","v":""},{"$f":"IF($P49=\"\",\"\",IF(P49=0,\"\",AVERAGEIF(DMA!$M$5:$M$503,Graphs!$O49,DMA!N$5:N$503)))","v":""},{"$f":"IF($Q49=\"\",\"\",IF(Q49=0,\"\",AVERAGEIF(DMA!$M$5:$M$503,Graphs!$O49,DMA!O$5:O$503)))","v":""},{"$f":"IF($R49=\"\",\"\",IF(R49=0,\"\",AVERAGEIF(DMA!$M$5:$M$503,Graphs!$O49,DMA!P$5:P$503)))","v":""},null,null,null,null,{"$f":"IF($O49=\"\",\"\",COUNTIFS(DMA!$M$5:$M$503,Graphs!$O49,DMA!N$5:N$503,\">0\"))","v":""},{"$f":"IF($O49=\"\",\"\",COUNTIFS(DMA!$M$5:$M$503,Graphs!$O49,DMA!O$5:O$503,\">0\"))","v":""},{"$f":"IF($O49=\"\",\"\",COUNTIFS(DMA!$M$5:$M$503,Graphs!$O49,DMA!P$5:P$503,\">0\"))","v":""}]
[null,{"$f":"IF(A50=\"\",\"\",(SUMIF(DMA!$AO$5:$AO$604,$A50,DMA!$AQ$5:$AQ$603)/DMA!AQ$604))","v":""},{"$f":"IF(A50=\"\",\"\",(SUMIF(DMA!$CQ$5:$CQ$603,$A50,DMA!$CO$5:$CO$603))*0.01)","v":""},{"$f":"IF(B50=\"\",\"\",(SUMIF(DMA!$CQ$5:$CQ$603,$A50,DMA!$CP$5:$CP$603)))","v":""},{"$f":"IF(COUNTIF(DMA!I$5:I$503,Graphs!$A50)>0,Graphs!$A50,\"\")","v":""},{"$f":"IF(E50=\"\",\"\",COUNTIF(DMA!I$5:I$503,Graphs!E50))","v":""},{"$f":"IF(E50=\"\",\"\",SUMIF(DMA!I$5:I$503,Graphs!E50,DMA!J$5:J$503)/COUNTIF(DMA!I$5:I$503,Graphs!E50))","v":""},{"$f":"IF(SUMIF(DMA!B$5:B$503,Graphs!A50,DMA!D$5:D$503)>0,Graphs!A50,\"\")","v":""},{"$f":"IF(H50=\"\",\"\",COUNTIF(DMA!B$5:B$503,Graphs!A50))","v":""},{"$f":"IF(H50=\"\",\"\",10^(-0.7083129+0.297*(SUMIF(DMA!B$5:B$503,Graphs!H50,DMA!D$5:D$503)/COUNTIF(DMA!B$5:B$503,Graphs!H50))))","v":""},{"$f":"IF(COUNTIF(DMA!R$5:R$503,Graphs!$A50)>0,Graphs!$A50,\"\")","v":""},{"$f":"IF(K50=\"\",\"\",COUNTIF(DMA!R$5:R$503,Graphs!A50))","v":""},{"$f":"IF(K50=\"\",\"\",(SUMIF(DMA!R$5:R$503,Graphs!A50,DMA!S$5:S$503)/COUNTIF(DMA!R$5:R$503,Graphs!A50)))","v":""},"",{"$f":"IF(COUNTIF(DMA!M$5:M$503,Graphs!$A50)>0,Graphs!$A50,\"\")","v":""},{"$f":"IF($O50=\"\",\"\",SUMIF(DMA!$M$5:$M$503,Graphs!$O50,DMA!N$5:N$503))","v":""},{"$f":"IF($O50=\"\",\"\",SUMIF(DMA!$M$5:$M$503,Graphs!$O50,DMA!O$5:O$503))","v":""},{"$f":"IF($O50=\"\",\"\",SUMIF(DMA!$M$5:$M$503,Graphs!$O50,DMA!P$5:P$503))","v":""},{"$f":"IF($O50=\"\",\"\",SUMIF(DMA!$M$5:$M$503,Graphs!$O50,DMA!Q$5:Q$503))","v":""},"",{"$f":"IF(O50=\"\",\"\",COUNTIF(DMA!M$5:M$503,Graphs!A50))","v":""},"","","","","","","","","","",null,null,null,null,null,null,null,null,null,null,null,null,null,null,null,null,null,null,null,null,"","","",{"$f":"IF(P50=\"\",\"\",IF(P50=0,\"\",SQRT(SUMIF(DMA!$DJ$5:$DJ$503,Graphs!$O50,DMA!DK$5:DK$503))/COUNTIF(DMA!$DJ$5:$DJ$503,Graphs!$O50)))","v":""},{"$f":"IF(Q50=\"\",\"\",IF(Q50=0,\"\",SQRT(SUMIF(DMA!$DJ$5:$DJ$503,Graphs!$O50,DMA!DL$5:DL$503))/COUNTIF(DMA!$DJ$5:$DJ$503,Graphs!$O50)))","v":""},{"$f":"IF(R50=\"\",\"\",IF(R50=0,\"\",SQRT(SUMIF(DMA!$DJ$5:$DJ$503,Graphs!$O50,DMA!DM$5:DM$503))/COUNTIF(DMA!$DJ$5:$DJ$503,Graphs!$O50)))","v":""},{"$f":"IF($P50=\"\",\"\",IF(P50=0,\"\",AVERAGEIF(DMA!$M$5:$M$503,Graphs!$O50,DMA!N$5:N$503)))","v":""},{"$f":"IF($Q50=\"\",\"\",IF(Q50=0,\"\",AVERAGEIF(DMA!$M$5:$M$503,Graphs!$O50,DMA!O$5:O$503)))","v":""},{"$f":"IF($R50=\"\",\"\",IF(R50=0,\"\",AVERAGEIF(DMA!$M$5:$M$503,Graphs!$O50,DMA!P$5:P$503)))","v":""},null,null,null,null,{"$f":"IF($O50=\"\",\"\",COUNTIFS(DMA!$M$5:$M$503,Graphs!$O50,DMA!N$5:N$503,\">0\"))","v":""},{"$f":"IF($O50=\"\",\"\",COUNTIFS(DMA!$M$5:$M$503,Graphs!$O50,DMA!O$5:O$503,\">0\"))","v":""},{"$f":"IF($O50=\"\",\"\",COUNTIFS(DMA!$M$5:$M$503,Graphs!$O50,DMA!P$5:P$503,\">0\"))","v":""}]
[null,{"$f":"IF(A51=\"\",\"\",(SUMIF(DMA!$AO$5:$AO$604,$A51,DMA!$AQ$5:$AQ$603)/DMA!AQ$604))","v":""},{"$f":"IF(A51=\"\",\"\",(SUMIF(DMA!$CQ$5:$CQ$603,$A51,DMA!$CO$5:$CO$603))*0.01)","v":""},{"$f":"IF(B51=\"\",\"\",(SUMIF(DMA!$CQ$5:$CQ$603,$A51,DMA!$CP$5:$CP$603)))","v":""},{"$f":"IF(COUNTIF(DMA!I$5:I$503,Graphs!$A51)>0,Graphs!$A51,\"\")","v":""},{"$f":"IF(E51=\"\",\"\",COUNTIF(DMA!I$5:I$503,Graphs!E51))","v":""},{"$f":"IF(E51=\"\",\"\",SUMIF(DMA!I$5:I$503,Graphs!E51,DMA!J$5:J$503)/COUNTIF(DMA!I$5:I$503,Graphs!E51))","v":""},{"$f":"IF(SUMIF(DMA!B$5:B$503,Graphs!A51,DMA!D$5:D$503)>0,Graphs!A51,\"\")","v":""},{"$f":"IF(H51=\"\",\"\",COUNTIF(DMA!B$5:B$503,Graphs!A51))","v":""},{"$f":"IF(H51=\"\",\"\",10^(-0.7083129+0.297*(SUMIF(DMA!B$5:B$503,Graphs!H51,DMA!D$5:D$503)/COUNTIF(DMA!B$5:B$503,Graphs!H51))))","v":""},{"$f":"IF(COUNTIF(DMA!R$5:R$503,Graphs!$A51)>0,Graphs!$A51,\"\")","v":""},{"$f":"IF(K51=\"\",\"\",COUNTIF(DMA!R$5:R$503,Graphs!A51))","v":""},{"$f":"IF(K51=\"\",\"\",(SUMIF(DMA!R$5:R$503,Graphs!A51,DMA!S$5:S$503)/COUNTIF(DMA!R$5:R$503,Graphs!A51)))","v":""},"",{"$f":"IF(COUNTIF(DMA!M$5:M$503,Graphs!$A51)>0,Graphs!$A51,\"\")","v":""},{"$f":"IF($O51=\"\",\"\",SUMIF(DMA!$M$5:$M$503,Graphs!$O51,DMA!N$5:N$503))","v":""},{"$f":"IF($O51=\"\",\"\",SUMIF(DMA!$M$5:$M$503,Graphs!$O51,DMA!O$5:O$503))","v":""},{"$f":"IF($O51=\"\",\"\",SUMIF(DMA!$M$5:$M$503,Graphs!$O51,DMA!P$5:P$503))","v":""},{"$f":"IF($O51=\"\",\"\",SUMIF(DMA!$M$5:$M$503,Graphs!$O51,DMA!Q$5:Q$503))","v":""},"",{"$f":"IF(O51=\"\",\"\",COUNTIF(DMA!M$5:M$503,Graphs!A51))","v":""},"","","","","","","","","","",null,null,null,null,null,null,null,null,null,null,null,null,null,null,null,null,null,null,null,null,"","","",{"$f":"IF(P51=\"\",\"\",IF(P51=0,\"\",SQRT(SUMIF(DMA!$DJ$5:$DJ$503,Graphs!$O51,DMA!DK$5:DK$503))/COUNTIF(DMA!$DJ$5:$DJ$503,Graphs!$O51)))","v":""},{"$f":"IF(Q51=\"\",\"\",IF(Q51=0,\"\",SQRT(SUMIF(DMA!$DJ$5:$DJ$503,Graphs!$O51,DMA!DL$5:DL$503))/COUNTIF(DMA!$DJ$5:$DJ$503,Graphs!$O51)))","v":""},{"$f":"IF(R51=\"\",\"\",IF(R51=0,\"\",SQRT(SUMIF(DMA!$DJ$5:$DJ$503,Graphs!$O51,DMA!DM$5:DM$503))/COUNTIF(DMA!$DJ$5:$DJ$503,Graphs!$O51)))","v":""},{"$f":"IF($P51=\"\",\"\",IF(P51=0,\"\",AVERAGEIF(DMA!$M$5:$M$503,Graphs!$O51,DMA!N$5:N$503)))","v":""},{"$f":"IF($Q51=\"\",\"\",IF(Q51=0,\"\",AVERAGEIF(DMA!$M$5:$M$503,Graphs!$O51,DMA!O$5:O$503)))","v":""},{"$f":"IF($R51=\"\",\"\",IF(R51=0,\"\",AVERAGEIF(DMA!$M$5:$M$503,Graphs!$O51,DMA!P$5:P$503)))","v":""},null,null,null,null,{"$f":"IF($O51=\"\",\"\",COUNTIFS(DMA!$M$5:$M$503,Graphs!$O51,DMA!N$5:N$503,\">0\"))","v":""},{"$f":"IF($O51=\"\",\"\",COUNTIFS(DMA!$M$5:$M$503,Graphs!$O51,DMA!O$5:O$503,\">0\"))","v":""},{"$f":"IF($O51=\"\",\"\",COUNTIFS(DMA!$M$5:$M$503,Graphs!$O51,DMA!P$5:P$503,\">0\"))","v":""}]
[null,{"$f":"IF(A52=\"\",\"\",(SUMIF(DMA!$AO$5:$AO$604,$A52,DMA!$AQ$5:$AQ$603)/DMA!AQ$604))","v":""},{"$f":"IF(A52=\"\",\"\",(SUMIF(DMA!$CQ$5:$CQ$603,$A52,DMA!$CO$5:$CO$603))*0.01)","v":""},{"$f":"IF(B52=\"\",\"\",(SUMIF(DMA!$CQ$5:$CQ$603,$A52,DMA!$CP$5:$CP$603)))","v":""},{"$f":"IF(COUNTIF(DMA!I$5:I$503,Graphs!$A52)>0,Graphs!$A52,\"\")","v":""},{"$f":"IF(E52=\"\",\"\",COUNTIF(DMA!I$5:I$503,Graphs!E52))","v":""},{"$f":"IF(E52=\"\",\"\",SUMIF(DMA!I$5:I$503,Graphs!E52,DMA!J$5:J$503)/COUNTIF(DMA!I$5:I$503,Graphs!E52))","v":""},{"$f":"IF(SUMIF(DMA!B$5:B$503,Graphs!A52,DMA!D$5:D$503)>0,Graphs!A52,\"\")","v":""},{"$f":"IF(H52=\"\",\"\",COUNTIF(DMA!B$5:B$503,Graphs!A52))","v":""},{"$f":"IF(H52=\"\",\"\",10^(-0.7083129+0.297*(SUMIF(DMA!B$5:B$503,Graphs!H52,DMA!D$5:D$503)/COUNTIF(DMA!B$5:B$503,Graphs!H52))))","v":""},{"$f":"IF(COUNTIF(DMA!R$5:R$503,Graphs!$A52)>0,Graphs!$A52,\"\")","v":""},{"$f":"IF(K52=\"\",\"\",COUNTIF(DMA!R$5:R$503,Graphs!A52))","v":""},{"$f":"IF(K52=\"\",\"\",(SUMIF(DMA!R$5:R$503,Graphs!A52,DMA!S$5:S$503)/COUNTIF(DMA!R$5:R$503,Graphs!A52)))","v":""},"",{"$f":"IF(COUNTIF(DMA!M$5:M$503,Graphs!$A52)>0,Graphs!$A52,\"\")","v":""},{"$f":"IF($O52=\"\",\"\",SUMIF(DMA!$M$5:$M$503,Graphs!$O52,DMA!N$5:N$503))","v":""},{"$f":"IF($O52=\"\",\"\",SUMIF(DMA!$M$5:$M$503,Graphs!$O52,DMA!O$5:O$503))","v":""},{"$f":"IF($O52=\"\",\"\",SUMIF(DMA!$M$5:$M$503,Graphs!$O52,DMA!P$5:P$503))","v":""},{"$f":"IF($O52=\"\",\"\",SUMIF(DMA!$M$5:$M$503,Graphs!$O52,DMA!Q$5:Q$503))","v":""},"",{"$f":"IF(O52=\"\",\"\",COUNTIF(DMA!M$5:M$503,Graphs!A52))","v":""},"","","","","","","","","","",null,null,null,null,null,null,null,null,null,null,null,null,null,null,null,null,null,null,null,null,"","","",{"$f":"IF(P52=\"\",\"\",IF(P52=0,\"\",SQRT(SUMIF(DMA!$DJ$5:$DJ$503,Graphs!$O52,DMA!DK$5:DK$503))/COUNTIF(DMA!$DJ$5:$DJ$503,Graphs!$O52)))","v":""},{"$f":"IF(Q52=\"\",\"\",IF(Q52=0,\"\",SQRT(SUMIF(DMA!$DJ$5:$DJ$503,Graphs!$O52,DMA!DL$5:DL$503))/COUNTIF(DMA!$DJ$5:$DJ$503,Graphs!$O52)))","v":""},{"$f":"IF(R52=\"\",\"\",IF(R52=0,\"\",SQRT(SUMIF(DMA!$DJ$5:$DJ$503,Graphs!$O52,DMA!DM$5:DM$503))/COUNTIF(DMA!$DJ$5:$DJ$503,Graphs!$O52)))","v":""},{"$f":"IF($P52=\"\",\"\",IF(P52=0,\"\",AVERAGEIF(DMA!$M$5:$M$503,Graphs!$O52,DMA!N$5:N$503)))","v":""},{"$f":"IF($Q52=\"\",\"\",IF(Q52=0,\"\",AVERAGEIF(DMA!$M$5:$M$503,Graphs!$O52,DMA!O$5:O$503)))","v":""},{"$f":"IF($R52=\"\",\"\",IF(R52=0,\"\",AVERAGEIF(DMA!$M$5:$M$503,Graphs!$O52,DMA!P$5:P$503)))","v":""},null,null,null,null,{"$f":"IF($O52=\"\",\"\",COUNTIFS(DMA!$M$5:$M$503,Graphs!$O52,DMA!N$5:N$503,\">0\"))","v":""},{"$f":"IF($O52=\"\",\"\",COUNTIFS(DMA!$M$5:$M$503,Graphs!$O52,DMA!O$5:O$503,\">0\"))","v":""},{"$f":"IF($O52=\"\",\"\",COUNTIFS(DMA!$M$5:$M$503,Graphs!$O52,DMA!P$5:P$503,\">0\"))","v":""}]
[null,{"$f":"IF(A53=\"\",\"\",(SUMIF(DMA!$AO$5:$AO$604,$A53,DMA!$AQ$5:$AQ$603)/DMA!AQ$604))","v":""},{"$f":"IF(A53=\"\",\"\",(SUMIF(DMA!$CQ$5:$CQ$603,$A53,DMA!$CO$5:$CO$603))*0.01)","v":""},{"$f":"IF(B53=\"\",\"\",(SUMIF(DMA!$CQ$5:$CQ$603,$A53,DMA!$CP$5:$CP$603)))","v":""},{"$f":"IF(COUNTIF(DMA!I$5:I$503,Graphs!$A53)>0,Graphs!$A53,\"\")","v":""},{"$f":"IF(E53=\"\",\"\",COUNTIF(DMA!I$5:I$503,Graphs!E53))","v":""},{"$f":"IF(E53=\"\",\"\",SUMIF(DMA!I$5:I$503,Graphs!E53,DMA!J$5:J$503)/COUNTIF(DMA!I$5:I$503,Graphs!E53))","v":""},{"$f":"IF(SUMIF(DMA!B$5:B$503,Graphs!A53,DMA!D$5:D$503)>0,Graphs!A53,\"\")","v":""},{"$f":"IF(H53=\"\",\"\",COUNTIF(DMA!B$5:B$503,Graphs!A53))","v":""},{"$f":"IF(H53=\"\",\"\",10^(-0.7083129+0.297*(SUMIF(DMA!B$5:B$503,Graphs!H53,DMA!D$5:D$503)/COUNTIF(DMA!B$5:B$503,Graphs!H53))))","v":""},{"$f":"IF(COUNTIF(DMA!R$5:R$503,Graphs!$A53)>0,Graphs!$A53,\"\")","v":""},{"$f":"IF(K53=\"\",\"\",COUNTIF(DMA!R$5:R$503,Graphs!A53))","v":""},{"$f":"IF(K53=\"\",\"\",(SUMIF(DMA!R$5:R$503,Graphs!A53,DMA!S$5:S$503)/COUNTIF(DMA!R$5:R$503,Graphs!A53)))","v":""},"",{"$f":"IF(COUNTIF(DMA!M$5:M$503,Graphs!$A53)>0,Graphs!$A53,\"\")","v":""},{"$f":"IF($O53=\"\",\"\",SUMIF(DMA!$M$5:$M$503,Graphs!$O53,DMA!N$5:N$503))","v":""},{"$f":"IF($O53=\"\",\"\",SUMIF(DMA!$M$5:$M$503,Graphs!$O53,DMA!O$5:O$503))","v":""},{"$f":"IF($O53=\"\",\"\",SUMIF(DMA!$M$5:$M$503,Graphs!$O53,DMA!P$5:P$503))","v":""},{"$f":"IF($O53=\"\",\"\",SUMIF(DMA!$M$5:$M$503,Graphs!$O53,DMA!Q$5:Q$503))","v":""},"",{"$f":"IF(O53=\"\",\"\",COUNTIF(DMA!M$5:M$503,Graphs!A53))","v":""},"","","","","","","","","","",null,null,null,null,null,null,null,null,null,null,null,null,null,null,null,null,null,null,null,null,"","","",{"$f":"IF(P53=\"\",\"\",IF(P53=0,\"\",SQRT(SUMIF(DMA!$DJ$5:$DJ$503,Graphs!$O53,DMA!DK$5:DK$503))/COUNTIF(DMA!$DJ$5:$DJ$503,Graphs!$O53)))","v":""},{"$f":"IF(Q53=\"\",\"\",IF(Q53=0,\"\",SQRT(SUMIF(DMA!$DJ$5:$DJ$503,Graphs!$O53,DMA!DL$5:DL$503))/COUNTIF(DMA!$DJ$5:$DJ$503,Graphs!$O53)))","v":""},{"$f":"IF(R53=\"\",\"\",IF(R53=0,\"\",SQRT(SUMIF(DMA!$DJ$5:$DJ$503,Graphs!$O53,DMA!DM$5:DM$503))/COUNTIF(DMA!$DJ$5:$DJ$503,Graphs!$O53)))","v":""},{"$f":"IF($P53=\"\",\"\",IF(P53=0,\"\",AVERAGEIF(DMA!$M$5:$M$503,Graphs!$O53,DMA!N$5:N$503)))","v":""},{"$f":"IF($Q53=\"\",\"\",IF(Q53=0,\"\",AVERAGEIF(DMA!$M$5:$M$503,Graphs!$O53,DMA!O$5:O$503)))","v":""},{"$f":"IF($R53=\"\",\"\",IF(R53=0,\"\",AVERAGEIF(DMA!$M$5:$M$503,Graphs!$O53,DMA!P$5:P$503)))","v":""},null,null,null,null,{"$f":"IF($O53=\"\",\"\",COUNTIFS(DMA!$M$5:$M$503,Graphs!$O53,DMA!N$5:N$503,\">0\"))","v":""},{"$f":"IF($O53=\"\",\"\",COUNTIFS(DMA!$M$5:$M$503,Graphs!$O53,DMA!O$5:O$503,\">0\"))","v":""},{"$f":"IF($O53=\"\",\"\",COUNTIFS(DMA!$M$5:$M$503,Graphs!$O53,DMA!P$5:P$503,\">0\"))","v":""}]
[null,{"$f":"IF(A54=\"\",\"\",(SUMIF(DMA!$AO$5:$AO$604,$A54,DMA!$AQ$5:$AQ$603)/DMA!AQ$604))","v":""},{"$f":"IF(A54=\"\",\"\",(SUMIF(DMA!$CQ$5:$CQ$603,$A54,DMA!$CO$5:$CO$603))*0.01)","v":""},{"$f":"IF(B54=\"\",\"\",(SUMIF(DMA!$CQ$5:$CQ$603,$A54,DMA!$CP$5:$CP$603)))","v":""},{"$f":"IF(COUNTIF(DMA!I$5:I$503,Graphs!$A54)>0,Graphs!$A54,\"\")","v":""},{"$f":"IF(E54=\"\",\"\",COUNTIF(DMA!I$5:I$503,Graphs!E54))","v":""},{"$f":"IF(E54=\"\",\"\",SUMIF(DMA!I$5:I$503,Graphs!E54,DMA!J$5:J$503)/COUNTIF(DMA!I$5:I$503,Graphs!E54))","v":""},{"$f":"IF(SUMIF(DMA!B$5:B$503,Graphs!A54,DMA!D$5:D$503)>0,Graphs!A54,\"\")","v":""},{"$f":"IF(H54=\"\",\"\",COUNTIF(DMA!B$5:B$503,Graphs!A54))","v":""},{"$f":"IF(H54=\"\",\"\",10^(-0.7083129+0.297*(SUMIF(DMA!B$5:B$503,Graphs!H54,DMA!D$5:D$503)/COUNTIF(DMA!B$5:B$503,Graphs!H54))))","v":""},{"$f":"IF(COUNTIF(DMA!R$5:R$503,Graphs!$A54)>0,Graphs!$A54,\"\")","v":""},{"$f":"IF(K54=\"\",\"\",COUNTIF(DMA!R$5:R$503,Graphs!A54))","v":""},{"$f":"IF(K54=\"\",\"\",(SUMIF(DMA!R$5:R$503,Graphs!A54,DMA!S$5:S$503)/COUNTIF(DMA!R$5:R$503,Graphs!A54)))","v":""},"",{"$f":"IF(COUNTIF(DMA!M$5:M$503,Graphs!$A54)>0,Graphs!$A54,\"\")","v":""},{"$f":"IF($O54=\"\",\"\",SUMIF(DMA!$M$5:$M$503,Graphs!$O54,DMA!N$5:N$503))","v":""},{"$f":"IF($O54=\"\",\"\",SUMIF(DMA!$M$5:$M$503,Graphs!$O54,DMA!O$5:O$503))","v":""},{"$f":"IF($O54=\"\",\"\",SUMIF(DMA!$M$5:$M$503,Graphs!$O54,DMA!P$5:P$503))","v":""},{"$f":"IF($O54=\"\",\"\",SUMIF(DMA!$M$5:$M$503,Graphs!$O54,DMA!Q$5:Q$503))","v":""},"",{"$f":"IF(O54=\"\",\"\",COUNTIF(DMA!M$5:M$503,Graphs!A54))","v":""},"","","","","","","","","","",null,null,null,null,null,null,null,null,null,null,null,null,null,null,null,null,null,null,null,null,"","","",{"$f":"IF(P54=\"\",\"\",IF(P54=0,\"\",SQRT(SUMIF(DMA!$DJ$5:$DJ$503,Graphs!$O54,DMA!DK$5:DK$503))/COUNTIF(DMA!$DJ$5:$DJ$503,Graphs!$O54)))","v":""},{"$f":"IF(Q54=\"\",\"\",IF(Q54=0,\"\",SQRT(SUMIF(DMA!$DJ$5:$DJ$503,Graphs!$O54,DMA!DL$5:DL$503))/COUNTIF(DMA!$DJ$5:$DJ$503,Graphs!$O54)))","v":""},{"$f":"IF(R54=\"\",\"\",IF(R54=0,\"\",SQRT(SUMIF(DMA!$DJ$5:$DJ$503,Graphs!$O54,DMA!DM$5:DM$503))/COUNTIF(DMA!$DJ$5:$DJ$503,Graphs!$O54)))","v":""},{"$f":"IF($P54=\"\",\"\",IF(P54=0,\"\",AVERAGEIF(DMA!$M$5:$M$503,Graphs!$O54,DMA!N$5:N$503)))","v":""},{"$f":"IF($Q54=\"\",\"\",IF(Q54=0,\"\",AVERAGEIF(DMA!$M$5:$M$503,Graphs!$O54,DMA!O$5:O$503)))","v":""},{"$f":"IF($R54=\"\",\"\",IF(R54=0,\"\",AVERAGEIF(DMA!$M$5:$M$503,Graphs!$O54,DMA!P$5:P$503)))","v":""},null,null,null,null,{"$f":"IF($O54=\"\",\"\",COUNTIFS(DMA!$M$5:$M$503,Graphs!$O54,DMA!N$5:N$503,\">0\"))","v":""},{"$f":"IF($O54=\"\",\"\",COUNTIFS(DMA!$M$5:$M$503,Graphs!$O54,DMA!O$5:O$503,\">0\"))","v":""},{"$f":"IF($O54=\"\",\"\",COUNTIFS(DMA!$M$5:$M$503,Graphs!$O54,DMA!P$5:P$503,\">0\"))","v":""}]
[null,{"$f":"IF(A55=\"\",\"\",(SUMIF(DMA!$AO$5:$AO$604,$A55,DMA!$AQ$5:$AQ$603)/DMA!AQ$604))","v":""},{"$f":"IF(A55=\"\",\"\",(SUMIF(DMA!$CQ$5:$CQ$603,$A55,DMA!$CO$5:$CO$603))*0.01)","v":""},{"$f":"IF(B55=\"\",\"\",(SUMIF(DMA!$CQ$5:$CQ$603,$A55,DMA!$CP$5:$CP$603)))","v":""},{"$f":"IF(COUNTIF(DMA!I$5:I$503,Graphs!$A55)>0,Graphs!$A55,\"\")","v":""},{"$f":"IF(E55=\"\",\"\",COUNTIF(DMA!I$5:I$503,Graphs!E55))","v":""},{"$f":"IF(E55=\"\",\"\",SUMIF(DMA!I$5:I$503,Graphs!E55,DMA!J$5:J$503)/COUNTIF(DMA!I$5:I$503,Graphs!E55))","v":""},{"$f":"IF(SUMIF(DMA!B$5:B$503,Graphs!A55,DMA!D$5:D$503)>0,Graphs!A55,\"\")","v":""},{"$f":"IF(H55=\"\",\"\",COUNTIF(DMA!B$5:B$503,Graphs!A55))","v":""},{"$f":"IF(H55=\"\",\"\",10^(-0.7083129+0.297*(SUMIF(DMA!B$5:B$503,Graphs!H55,DMA!D$5:D$503)/COUNTIF(DMA!B$5:B$503,Graphs!H55))))","v":""},{"$f":"IF(COUNTIF(DMA!R$5:R$503,Graphs!$A55)>0,Graphs!$A55,\"\")","v":""},{"$f":"IF(K55=\"\",\"\",COUNTIF(DMA!R$5:R$503,Graphs!A55))","v":""},{"$f":"IF(K55=\"\",\"\",(SUMIF(DMA!R$5:R$503,Graphs!A55,DMA!S$5:S$503)/COUNTIF(DMA!R$5:R$503,Graphs!A55)))","v":""},"",{"$f":"IF(COUNTIF(DMA!M$5:M$503,Graphs!$A55)>0,Graphs!$A55,\"\")","v":""},{"$f":"IF($O55=\"\",\"\",SUMIF(DMA!$M$5:$M$503,Graphs!$O55,DMA!N$5:N$503))","v":""},{"$f":"IF($O55=\"\",\"\",SUMIF(DMA!$M$5:$M$503,Graphs!$O55,DMA!O$5:O$503))","v":""},{"$f":"IF($O55=\"\",\"\",SUMIF(DMA!$M$5:$M$503,Graphs!$O55,DMA!P$5:P$503))","v":""},{"$f":"IF($O55=\"\",\"\",SUMIF(DMA!$M$5:$M$503,Graphs!$O55,DMA!Q$5:Q$503))","v":""},"",{"$f":"IF(O55=\"\",\"\",COUNTIF(DMA!M$5:M$503,Graphs!A55))","v":""},"","","","","","","","","","",null,null,null,null,null,null,null,null,null,null,null,null,null,null,null,null,null,null,null,null,"","","",{"$f":"IF(P55=\"\",\"\",IF(P55=0,\"\",SQRT(SUMIF(DMA!$DJ$5:$DJ$503,Graphs!$O55,DMA!DK$5:DK$503))/COUNTIF(DMA!$DJ$5:$DJ$503,Graphs!$O55)))","v":""},{"$f":"IF(Q55=\"\",\"\",IF(Q55=0,\"\",SQRT(SUMIF(DMA!$DJ$5:$DJ$503,Graphs!$O55,DMA!DL$5:DL$503))/COUNTIF(DMA!$DJ$5:$DJ$503,Graphs!$O55)))","v":""},{"$f":"IF(R55=\"\",\"\",IF(R55=0,\"\",SQRT(SUMIF(DMA!$DJ$5:$DJ$503,Graphs!$O55,DMA!DM$5:DM$503))/COUNTIF(DMA!$DJ$5:$DJ$503,Graphs!$O55)))","v":""},{"$f":"IF($P55=\"\",\"\",IF(P55=0,\"\",AVERAGEIF(DMA!$M$5:$M$503,Graphs!$O55,DMA!N$5:N$503)))","v":""},{"$f":"IF($Q55=\"\",\"\",IF(Q55=0,\"\",AVERAGEIF(DMA!$M$5:$M$503,Graphs!$O55,DMA!O$5:O$503)))","v":""},{"$f":"IF($R55=\"\",\"\",IF(R55=0,\"\",AVERAGEIF(DMA!$M$5:$M$503,Graphs!$O55,DMA!P$5:P$503)))","v":""},null,null,null,null,{"$f":"IF($O55=\"\",\"\",COUNTIFS(DMA!$M$5:$M$503,Graphs!$O55,DMA!N$5:N$503,\">0\"))","v":""},{"$f":"IF($O55=\"\",\"\",COUNTIFS(DMA!$M$5:$M$503,Graphs!$O55,DMA!O$5:O$503,\">0\"))","v":""},{"$f":"IF($O55=\"\",\"\",COUNTIFS(DMA!$M$5:$M$503,Graphs!$O55,DMA!P$5:P$503,\">0\"))","v":""}]
[null,{"$f":"IF(A56=\"\",\"\",(SUMIF(DMA!$AO$5:$AO$604,$A56,DMA!$AQ$5:$AQ$603)/DMA!AQ$604))","v":""},{"$f":"IF(A56=\"\",\"\",(SUMIF(DMA!$CQ$5:$CQ$603,$A56,DMA!$CO$5:$CO$603))*0.01)","v":""},{"$f":"IF(B56=\"\",\"\",(SUMIF(DMA!$CQ$5:$CQ$603,$A56,DMA!$CP$5:$CP$603)))","v":""},{"$f":"IF(COUNTIF(DMA!I$5:I$503,Graphs!$A56)>0,Graphs!$A56,\"\")","v":""},{"$f":"IF(E56=\"\",\"\",COUNTIF(DMA!I$5:I$503,Graphs!E56))","v":""},{"$f":"IF(E56=\"\",\"\",SUMIF(DMA!I$5:I$503,Graphs!E56,DMA!J$5:J$503)/COUNTIF(DMA!I$5:I$503,Graphs!E56))","v":""},{"$f":"IF(SUMIF(DMA!B$5:B$503,Graphs!A56,DMA!D$5:D$503)>0,Graphs!A56,\"\")","v":""},{"$f":"IF(H56=\"\",\"\",COUNTIF(DMA!B$5:B$503,Graphs!A56))","v":""},{"$f":"IF(H56=\"\",\"\",10^(-0.7083129+0.297*(SUMIF(DMA!B$5:B$503,Graphs!H56,DMA!D$5:D$503)/COUNTIF(DMA!B$5:B$503,Graphs!H56))))","v":""},{"$f":"IF(COUNTIF(DMA!R$5:R$503,Graphs!$A56)>0,Graphs!$A56,\"\")","v":""},{"$f":"IF(K56=\"\",\"\",COUNTIF(DMA!R$5:R$503,Graphs!A56))","v":""},{"$f":"IF(K56=\"\",\"\",(SUMIF(DMA!R$5:R$503,Graphs!A56,DMA!S$5:S$503)/COUNTIF(DMA!R$5:R$503,Graphs!A56)))","v":""},"",{"$f":"IF(COUNTIF(DMA!M$5:M$503,Graphs!$A56)>0,Graphs!$A56,\"\")","v":""},{"$f":"IF($O56=\"\",\"\",SUMIF(DMA!$M$5:$M$503,Graphs!$O56,DMA!N$5:N$503))","v":""},{"$f":"IF($O56=\"\",\"\",SUMIF(DMA!$M$5:$M$503,Graphs!$O56,DMA!O$5:O$503))","v":""},{"$f":"IF($O56=\"\",\"\",SUMIF(DMA!$M$5:$M$503,Graphs!$O56,DMA!P$5:P$503))","v":""},{"$f":"IF($O56=\"\",\"\",SUMIF(DMA!$M$5:$M$503,Graphs!$O56,DMA!Q$5:Q$503))","v":""},"",{"$f":"IF(O56=\"\",\"\",COUNTIF(DMA!M$5:M$503,Graphs!A56))","v":""},"","","","","","","",null,null,null,null,null,null,null,null,null,null,null,null,null,null,null,null,null,null,null,null,null,null,null,{"$f":"IF(BC56=\"\",\"\",IF(BC56=1,\"\",IF(BC56=0,\"\",CONFIDENCE(0.05,BC56,BM56))))","v":""},{"$f":"IF(BD56=\"\",\"\",IF(BD56=1,\"\",IF(BD56=0,\"\",CONFIDENCE(0.05,BD56,BN56))))","v":""},{"$f":"IF(BE56=\"\",\"\",IF(BE56=1,\"\",IF(BE56=0,\"\",CONFIDENCE(0.05,BE56,BO56))))","v":""},{"$f":"IF(P56=\"\",\"\",IF(P56=0,\"\",SQRT(SUMIF(DMA!$DJ$5:$DJ$503,Graphs!$O56,DMA!DK$5:DK$503))/COUNTIF(DMA!$DJ$5:$DJ$503,Graphs!$O56)))","v":""},{"$f":"IF(Q56=\"\",\"\",IF(Q56=0,\"\",SQRT(SUMIF(DMA!$DJ$5:$DJ$503,Graphs!$O56,DMA!DL$5:DL$503))/COUNTIF(DMA!$DJ$5:$DJ$503,Graphs!$O56)))","v":""},{"$f":"IF(R56=\"\",\"\",IF(R56=0,\"\",SQRT(SUMIF(DMA!$DJ$5:$DJ$503,Graphs!$O56,DMA!DM$5:DM$503))/COUNTIF(DMA!$DJ$5:$DJ$503,Graphs!$O56)))","v":""},{"$f":"IF($P56=\"\",\"\",IF(P56=0,\"\",AVERAGEIF(DMA!$M$5:$M$503,Graphs!$O56,DMA!N$5:N$503)))","v":""},{"$f":"IF($Q56=\"\",\"\",IF(Q56=0,\"\",AVERAGEIF(DMA!$M$5:$M$503,Graphs!$O56,DMA!O$5:O$503)))","v":""},{"$f":"IF($R56=\"\",\"\",IF(R56=0,\"\",AVERAGEIF(DMA!$M$5:$M$503,Graphs!$O56,DMA!P$5:P$503)))","v":""}]
[null,{"$f":"IF(A57=\"\",\"\",(SUMIF(DMA!$AO$5:$AO$604,$A57,DMA!$AQ$5:$AQ$603)/DMA!AQ$604))","v":""},{"$f":"IF(A57=\"\",\"\",(SUMIF(DMA!$CQ$5:$CQ$603,$A57,DMA!$CO$5:$CO$603))*0.01)","v":""},{"$f":"IF(B57=\"\",\"\",(SUMIF(DMA!$CQ$5:$CQ$603,$A57,DMA!$CP$5:$CP$603)))","v":""},{"$f":"IF(COUNTIF(DMA!I$5:I$503,Graphs!$A57)>0,Graphs!$A57,\"\")","v":""},{"$f":"IF(E57=\"\",\"\",COUNTIF(DMA!I$5:I$503,Graphs!E57))","v":""},{"$f":"IF(E57=\"\",\"\",SUMIF(DMA!I$5:I$503,Graphs!E57,DMA!J$5:J$503)/COUNTIF(DMA!I$5:I$503,Graphs!E57))","v":""},{"$f":"IF(SUMIF(DMA!B$5:B$503,Graphs!A57,DMA!D$5:D$503)>0,Graphs!A57,\"\")","v":""},{"$f":"IF(H57=\"\",\"\",COUNTIF(DMA!B$5:B$503,Graphs!A57))","v":""},{"$f":"IF(H57=\"\",\"\",10^(-0.7083129+0.297*(SUMIF(DMA!B$5:B$503,Graphs!H57,DMA!D$5:D$503)/COUNTIF(DMA!B$5:B$503,Graphs!H57))))","v":""},{"$f":"IF(COUNTIF(DMA!R$5:R$503,Graphs!$A57)>0,Graphs!$A57,\"\")","v":""},{"$f":"IF(K57=\"\",\"\",COUNTIF(DMA!R$5:R$503,Graphs!A57))","v":""},{"$f":"IF(K57=\"\",\"\",(SUMIF(DMA!R$5:R$503,Graphs!A57,DMA!S$5:S$503)/COUNTIF(DMA!R$5:R$503,Graphs!A57)))","v":""},"",{"$f":"IF(COUNTIF(DMA!M$5:M$503,Graphs!$A57)>0,Graphs!$A57,\"\")","v":""},{"$f":"IF($O57=\"\",\"\",SUMIF(DMA!$M$5:$M$503,Graphs!$O57,DMA!N$5:N$503))","v":""},{"$f":"IF($O57=\"\",\"\",SUMIF(DMA!$M$5:$M$503,Graphs!$O57,DMA!O$5:O$503))","v":""},{"$f":"IF($O57=\"\",\"\",SUMIF(DMA!$M$5:$M$503,Graphs!$O57,DMA!P$5:P$503))","v":""},{"$f":"IF($O57=\"\",\"\",SUMIF(DMA!$M$5:$M$503,Graphs!$O57,DMA!Q$5:Q$503))","v":""},"",{"$f":"IF(O57=\"\",\"\",COUNTIF(DMA!M$5:M$503,Graphs!A57))","v":""},"","","","","","","",null,null,null,null,null,null,null,null,null,null,null,null,null,null,null,null,null,null,null,null,null,null,null,"","","",{"$f":"IF(P57=\"\",\"\",IF(P57=0,\"\",SQRT(SUMIF(DMA!$DJ$5:$DJ$503,Graphs!$O57,DMA!DK$5:DK$503))/COUNTIF(DMA!$DJ$5:$DJ$503,Graphs!$O57)))","v":""},{"$f":"IF(Q57=\"\",\"\",IF(Q57=0,\"\",SQRT(SUMIF(DMA!$DJ$5:$DJ$503,Graphs!$O57,DMA!DL$5:DL$503))/COUNTIF(DMA!$DJ$5:$DJ$503,Graphs!$O57)))","v":""},{"$f":"IF(R57=\"\",\"\",IF(R57=0,\"\",SQRT(SUMIF(DMA!$DJ$5:$DJ$503,Graphs!$O57,DMA!DM$5:DM$503))/COUNTIF(DMA!$DJ$5:$DJ$503,Graphs!$O57)))","v":""},{"$f":"IF($P57=\"\",\"\",IF(P57=0,\"\",AVERAGEIF(DMA!$M$5:$M$503,Graphs!$O57,DMA!N$5:N$503)))","v":""},{"$f":"IF($Q57=\"\",\"\",IF(Q57=0,\"\",AVERAGEIF(DMA!$M$5:$M$503,Graphs!$O57,DMA!O$5:O$503)))","v":""},{"$f":"IF($R57=\"\",\"\",IF(R57=0,\"\",AVERAGEIF(DMA!$M$5:$M$503,Graphs!$O57,DMA!P$5:P$503)))","v":""}]
[null,{"$f":"IF(A58=\"\",\"\",(SUMIF(DMA!$AO$5:$AO$604,$A58,DMA!$AQ$5:$AQ$603)/DMA!AQ$604))","v":""},{"$f":"IF(A58=\"\",\"\",(SUMIF(DMA!$CQ$5:$CQ$603,$A58,DMA!$CO$5:$CO$603))*0.01)","v":""},{"$f":"IF(B58=\"\",\"\",(SUMIF(DMA!$CQ$5:$CQ$603,$A58,DMA!$CP$5:$CP$603)))","v":""},{"$f":"IF(COUNTIF(DMA!I$5:I$503,Graphs!$A58)>0,Graphs!$A58,\"\")","v":""},{"$f":"IF(E58=\"\",\"\",COUNTIF(DMA!I$5:I$503,Graphs!E58))","v":""},{"$f":"IF(E58=\"\",\"\",SUMIF(DMA!I$5:I$503,Graphs!E58,DMA!J$5:J$503)/COUNTIF(DMA!I$5:I$503,Graphs!E58))","v":""},{"$f":"IF(SUMIF(DMA!B$5:B$503,Graphs!A58,DMA!D$5:D$503)>0,Graphs!A58,\"\")","v":""},{"$f":"IF(H58=\"\",\"\",COUNTIF(DMA!B$5:B$503,Graphs!A58))","v":""},{"$f":"IF(H58=\"\",\"\",10^(-0.7083129+0.297*(SUMIF(DMA!B$5:B$503,Graphs!H58,DMA!D$5:D$503)/COUNTIF(DMA!B$5:B$503,Graphs!H58))))","v":""},{"$f":"IF(COUNTIF(DMA!R$5:R$503,Graphs!$A58)>0,Graphs!$A58,\"\")","v":""},{"$f":"IF(K58=\"\",\"\",COUNTIF(DMA!R$5:R$503,Graphs!A58))","v":""},{"$f":"IF(K58=\"\",\"\",(SUMIF(DMA!R$5:R$503,Graphs!A58,DMA!S$5:S$503)/COUNTIF(DMA!R$5:R$503,Graphs!A58)))","v":""},"",{"$f":"IF(COUNTIF(DMA!M$5:M$503,Graphs!$A58)>0,Graphs!$A58,\"\")","v":""},{"$f":"IF($O58=\"\",\"\",SUMIF(DMA!$M$5:$M$503,Graphs!$O58,DMA!N$5:N$503))","v":""},{"$f":"IF($O58=\"\",\"\",SUMIF(DMA!$M$5:$M$503,Graphs!$O58,DMA!O$5:O$503))","v":""},{"$f":"IF($O58=\"\",\"\",SUMIF(DMA!$M$5:$M$503,Graphs!$O58,DMA!P$5:P$503))","v":""},{"$f":"IF($O58=\"\",\"\",SUMIF(DMA!$M$5:$M$503,Graphs!$O58,DMA!Q$5:Q$503))","v":""},"",{"$f":"IF(O58=\"\",\"\",COUNTIF(DMA!M$5:M$503,Graphs!A58))","v":""},"","","","","","","",null,null,null,null,null,null,null,null,null,null,null,null,null,null,null,null,null,null,null,null,null,null,null,"","","",{"$f":"IF(P58=\"\",\"\",IF(P58=0,\"\",SQRT(SUMIF(DMA!$DJ$5:$DJ$503,Graphs!$O58,DMA!DK$5:DK$503))/COUNTIF(DMA!$DJ$5:$DJ$503,Graphs!$O58)))","v":""},{"$f":"IF(Q58=\"\",\"\",IF(Q58=0,\"\",SQRT(SUMIF(DMA!$DJ$5:$DJ$503,Graphs!$O58,DMA!DL$5:DL$503))/COUNTIF(DMA!$DJ$5:$DJ$503,Graphs!$O58)))","v":""},{"$f":"IF(R58=\"\",\"\",IF(R58=0,\"\",SQRT(SUMIF(DMA!$DJ$5:$DJ$503,Graphs!$O58,DMA!DM$5:DM$503))/COUNTIF(DMA!$DJ$5:$DJ$503,Graphs!$O58)))","v":""},{"$f":"IF($P58=\"\",\"\",IF(P58=0,\"\",AVERAGEIF(DMA!$M$5:$M$503,Graphs!$O58,DMA!N$5:N$503)))","v":""},{"$f":"IF($Q58=\"\",\"\",IF(Q58=0,\"\",AVERAGEIF(DMA!$M$5:$M$503,Graphs!$O58,DMA!O$5:O$503)))","v":""},{"$f":"IF($R58=\"\",\"\",IF(R58=0,\"\",AVERAGEIF(DMA!$M$5:$M$503,Graphs!$O58,DMA!P$5:P$503)))","v":""}]
[null,{"$f":"IF(A59=\"\",\"\",(SUMIF(DMA!$AO$5:$AO$604,$A59,DMA!$AQ$5:$AQ$603)/DMA!AQ$604))","v":""},{"$f":"IF(A59=\"\",\"\",(SUMIF(DMA!$CQ$5:$CQ$603,$A59,DMA!$CO$5:$CO$603))*0.01)","v":""},{"$f":"IF(B59=\"\",\"\",(SUMIF(DMA!$CQ$5:$CQ$603,$A59,DMA!$CP$5:$CP$603)))","v":""},{"$f":"IF(COUNTIF(DMA!I$5:I$503,Graphs!$A59)>0,Graphs!$A59,\"\")","v":""},{"$f":"IF(E59=\"\",\"\",COUNTIF(DMA!I$5:I$503,Graphs!E59))","v":""},{"$f":"IF(E59=\"\",\"\",SUMIF(DMA!I$5:I$503,Graphs!E59,DMA!J$5:J$503)/COUNTIF(DMA!I$5:I$503,Graphs!E59))","v":""},{"$f":"IF(SUMIF(DMA!B$5:B$503,Graphs!A59,DMA!D$5:D$503)>0,Graphs!A59,\"\")","v":""},{"$f":"IF(H59=\"\",\"\",COUNTIF(DMA!B$5:B$503,Graphs!A59))","v":""},{"$f":"IF(H59=\"\",\"\",10^(-0.7083129+0.297*(SUMIF(DMA!B$5:B$503,Graphs!H59,DMA!D$5:D$503)/COUNTIF(DMA!B$5:B$503,Graphs!H59))))","v":""},{"$f":"IF(COUNTIF(DMA!R$5:R$503,Graphs!$A59)>0,Graphs!$A59,\"\")","v":""},{"$f":"IF(K59=\"\",\"\",COUNTIF(DMA!R$5:R$503,Graphs!A59))","v":""},{"$f":"IF(K59=\"\",\"\",(SUMIF(DMA!R$5:R$503,Graphs!A59,DMA!S$5:S$503)/COUNTIF(DMA!R$5:R$503,Graphs!A59)))","v":""},"",{"$f":"IF(COUNTIF(DMA!M$5:M$503,Graphs!$A59)>0,Graphs!$A59,\"\")","v":""},{"$f":"IF($O59=\"\",\"\",SUMIF(DMA!$M$5:$M$503,Graphs!$O59,DMA!N$5:N$503))","v":""},{"$f":"IF($O59=\"\",\"\",SUMIF(DMA!$M$5:$M$503,Graphs!$O59,DMA!O$5:O$503))","v":""},{"$f":"IF($O59=\"\",\"\",SUMIF(DMA!$M$5:$M$503,Graphs!$O59,DMA!P$5:P$503))","v":""},{"$f":"IF($O59=\"\",\"\",SUMIF(DMA!$M$5:$M$503,Graphs!$O59,DMA!Q$5:Q$503))","v":""},"",{"$f":"IF(O59=\"\",\"\",COUNTIF(DMA!M$5:M$503,Graphs!A59))","v":""},"","","","","","","",null,null,null,null,null,null,null,null,null,null,null,null,null,null,null,null,null,null,null,null,null,null,null,"","","",{"$f":"IF(P59=\"\",\"\",IF(P59=0,\"\",SQRT(SUMIF(DMA!$DJ$5:$DJ$503,Graphs!$O59,DMA!DK$5:DK$503))/COUNTIF(DMA!$DJ$5:$DJ$503,Graphs!$O59)))","v":""},{"$f":"IF(Q59=\"\",\"\",IF(Q59=0,\"\",SQRT(SUMIF(DMA!$DJ$5:$DJ$503,Graphs!$O59,DMA!DL$5:DL$503))/COUNTIF(DMA!$DJ$5:$DJ$503,Graphs!$O59)))","v":""},{"$f":"IF(R59=\"\",\"\",IF(R59=0,\"\",SQRT(SUMIF(DMA!$DJ$5:$DJ$503,Graphs!$O59,DMA!DM$5:DM$503))/COUNTIF(DMA!$DJ$5:$DJ$503,Graphs!$O59)))","v":""},{"$f":"IF($P59=\"\",\"\",IF(P59=0,\"\",AVERAGEIF(DMA!$M$5:$M$503,Graphs!$O59,DMA!N$5:N$503)))","v":""},{"$f":"IF($Q59=\"\",\"\",IF(Q59=0,\"\",AVERAGEIF(DMA!$M$5:$M$503,Graphs!$O59,DMA!O$5:O$503)))","v":""},{"$f":"IF($R59=\"\",\"\",IF(R59=0,\"\",AVERAGEIF(DMA!$M$5:$M$503,Graphs!$O59,DMA!P$5:P$503)))","v":""}]
[null,{"$f":"IF(A60=\"\",\"\",(SUMIF(DMA!$AO$5:$AO$604,$A60,DMA!$AQ$5:$AQ$603)/DMA!AQ$604))","v":""},{"$f":"IF(A60=\"\",\"\",(SUMIF(DMA!$CQ$5:$CQ$603,$A60,DMA!$CO$5:$CO$603))*0.01)","v":""},{"$f":"IF(B60=\"\",\"\",(SUMIF(DMA!$CQ$5:$CQ$603,$A60,DMA!$CP$5:$CP$603)))","v":""},{"$f":"IF(COUNTIF(DMA!I$5:I$503,Graphs!$A60)>0,Graphs!$A60,\"\")","v":""},{"$f":"IF(E60=\"\",\"\",COUNTIF(DMA!I$5:I$503,Graphs!E60))","v":""},{"$f":"IF(E60=\"\",\"\",SUMIF(DMA!I$5:I$503,Graphs!E60,DMA!J$5:J$503)/COUNTIF(DMA!I$5:I$503,Graphs!E60))","v":""},{"$f":"IF(SUMIF(DMA!B$5:B$503,Graphs!A60,DMA!D$5:D$503)>0,Graphs!A60,\"\")","v":""},{"$f":"IF(H60=\"\",\"\",COUNTIF(DMA!B$5:B$503,Graphs!A60))","v":""},{"$f":"IF(H60=\"\",\"\",10^(-0.7083129+0.297*(SUMIF(DMA!B$5:B$503,Graphs!H60,DMA!D$5:D$503)/COUNTIF(DMA!B$5:B$503,Graphs!H60))))","v":""},{"$f":"IF(COUNTIF(DMA!R$5:R$503,Graphs!$A60)>0,Graphs!$A60,\"\")","v":""},{"$f":"IF(K60=\"\",\"\",COUNTIF(DMA!R$5:R$503,Graphs!A60))","v":""},{"$f":"IF(K60=\"\",\"\",(SUMIF(DMA!R$5:R$503,Graphs!A60,DMA!S$5:S$503)/COUNTIF(DMA!R$5:R$503,Graphs!A60)))","v":""},"",{"$f":"IF(COUNTIF(DMA!M$5:M$503,Graphs!$A60)>0,Graphs!$A60,\"\")","v":""},{"$f":"IF($O60=\"\",\"\",SUMIF(DMA!$M$5:$M$503,Graphs!$O60,DMA!N$5:N$503))","v":""},{"$f":"IF($O60=\"\",\"\",SUMIF(DMA!$M$5:$M$503,Graphs!$O60,DMA!O$5:O$503))","v":""},{"$f":"IF($O60=\"\",\"\",SUMIF(DMA!$M$5:$M$503,Graphs!$O60,DMA!P$5:P$503))","v":""},{"$f":"IF($O60=\"\",\"\",SUMIF(DMA!$M$5:$M$503,Graphs!$O60,DMA!Q$5:Q$503))","v":""},"",{"$f":"IF(O60=\"\",\"\",COUNTIF(DMA!M$5:M$503,Graphs!A60))","v":""},"","","","","","","",null,null,null,null,null,null,null,null,null,null,null,null,null,null,null,null,null,null,null,null,null,null,null,"","","",{"$f":"IF(P60=\"\",\"\",IF(P60=0,\"\",SQRT(SUMIF(DMA!$DJ$5:$DJ$503,Graphs!$O60,DMA!DK$5:DK$503))/COUNTIF(DMA!$DJ$5:$DJ$503,Graphs!$O60)))","v":""},{"$f":"IF(Q60=\"\",\"\",IF(Q60=0,\"\",SQRT(SUMIF(DMA!$DJ$5:$DJ$503,Graphs!$O60,DMA!DL$5:DL$503))/COUNTIF(DMA!$DJ$5:$DJ$503,Graphs!$O60)))","v":""},{"$f":"IF(R60=\"\",\"\",IF(R60=0,\"\",SQRT(SUMIF(DMA!$DJ$5:$DJ$503,Graphs!$O60,DMA!DM$5:DM$503))/COUNTIF(DMA!$DJ$5:$DJ$503,Graphs!$O60)))","v":""},{"$f":"IF($P60=\"\",\"\",IF(P60=0,\"\",AVERAGEIF(DMA!$M$5:$M$503,Graphs!$O60,DMA!N$5:N$503)))","v":""},{"$f":"IF($Q60=\"\",\"\",IF(Q60=0,\"\",AVERAGEIF(DMA!$M$5:$M$503,Graphs!$O60,DMA!O$5:O$503)))","v":""},{"$f":"IF($R60=\"\",\"\",IF(R60=0,\"\",AVERAGEIF(DMA!$M$5:$M$503,Graphs!$O60,DMA!P$5:P$503)))","v":""}]
[null,{"$f":"IF(A61=\"\",\"\",(SUMIF(DMA!$AO$5:$AO$604,$A61,DMA!$AQ$5:$AQ$603)/DMA!AQ$604))","v":""},{"$f":"IF(A61=\"\",\"\",(SUMIF(DMA!$CQ$5:$CQ$603,$A61,DMA!$CO$5:$CO$603))*0.01)","v":""},{"$f":"IF(B61=\"\",\"\",(SUMIF(DMA!$CQ$5:$CQ$603,$A61,DMA!$CP$5:$CP$603)))","v":""},{"$f":"IF(COUNTIF(DMA!I$5:I$503,Graphs!$A61)>0,Graphs!$A61,\"\")","v":""},{"$f":"IF(E61=\"\",\"\",COUNTIF(DMA!I$5:I$503,Graphs!E61))","v":""},{"$f":"IF(E61=\"\",\"\",SUMIF(DMA!I$5:I$503,Graphs!E61,DMA!J$5:J$503)/COUNTIF(DMA!I$5:I$503,Graphs!E61))","v":""},{"$f":"IF(SUMIF(DMA!B$5:B$503,Graphs!A61,DMA!D$5:D$503)>0,Graphs!A61,\"\")","v":""},{"$f":"IF(H61=\"\",\"\",COUNTIF(DMA!B$5:B$503,Graphs!A61))","v":""},{"$f":"IF(H61=\"\",\"\",10^(-0.7083129+0.297*(SUMIF(DMA!B$5:B$503,Graphs!H61,DMA!D$5:D$503)/COUNTIF(DMA!B$5:B$503,Graphs!H61))))","v":""},{"$f":"IF(COUNTIF(DMA!R$5:R$503,Graphs!$A61)>0,Graphs!$A61,\"\")","v":""},{"$f":"IF(K61=\"\",\"\",COUNTIF(DMA!R$5:R$503,Graphs!A61))","v":""},{"$f":"IF(K61=\"\",\"\",(SUMIF(DMA!R$5:R$503,Graphs!A61,DMA!S$5:S$503)/COUNTIF(DMA!R$5:R$503,Graphs!A61)))","v":""},"",{"$f":"IF(COUNTIF(DMA!M$5:M$503,Graphs!$A61)>0,Graphs!$A61,\"\")","v":""},{"$f":"IF($O61=\"\",\"\",SUMIF(DMA!$M$5:$M$503,Graphs!$O61,DMA!N$5:N$503))","v":""},{"$f":"IF($O61=\"\",\"\",SUMIF(DMA!$M$5:$M$503,Graphs!$O61,DMA!O$5:O$503))","v":""},{"$f":"IF($O61=\"\",\"\",SUMIF(DMA!$M$5:$M$503,Graphs!$O61,DMA!P$5:P$503))","v":""},{"$f":"IF($O61=\"\",\"\",SUMIF(DMA!$M$5:$M$503,Graphs!$O61,DMA!Q$5:Q$503))","v":""},"",{"$f":"IF(O61=\"\",\"\",COUNTIF(DMA!M$5:M$503,Graphs!A61))","v":""},"","","","","","","",null,null,null,null,null,null,null,null,null,null,null,null,null,null,null,null,null,null,null,null,null,null,null,"","","",{"$f":"IF(P61=\"\",\"\",IF(P61=0,\"\",SQRT(SUMIF(DMA!$DJ$5:$DJ$503,Graphs!$O61,DMA!DK$5:DK$503))/COUNTIF(DMA!$DJ$5:$DJ$503,Graphs!$O61)))","v":""},{"$f":"IF(Q61=\"\",\"\",IF(Q61=0,\"\",SQRT(SUMIF(DMA!$DJ$5:$DJ$503,Graphs!$O61,DMA!DL$5:DL$503))/COUNTIF(DMA!$DJ$5:$DJ$503,Graphs!$O61)))","v":""},{"$f":"IF(R61=\"\",\"\",IF(R61=0,\"\",SQRT(SUMIF(DMA!$DJ$5:$DJ$503,Graphs!$O61,DMA!DM$5:DM$503))/COUNTIF(DMA!$DJ$5:$DJ$503,Graphs!$O61)))","v":""},{"$f":"IF($P61=\"\",\"\",IF(P61=0,\"\",AVERAGEIF(DMA!$M$5:$M$503,Graphs!$O61,DMA!N$5:N$503)))","v":""},{"$f":"IF($Q61=\"\",\"\",IF(Q61=0,\"\",AVERAGEIF(DMA!$M$5:$M$503,Graphs!$O61,DMA!O$5:O$503)))","v":""},{"$f":"IF($R61=\"\",\"\",IF(R61=0,\"\",AVERAGEIF(DMA!$M$5:$M$503,Graphs!$O61,DMA!P$5:P$503)))","v":""}]
[null,{"$f":"IF(A62=\"\",\"\",(SUMIF(DMA!$AO$5:$AO$604,$A62,DMA!$AQ$5:$AQ$603)/DMA!AQ$604))","v":""},{"$f":"IF(A62=\"\",\"\",(SUMIF(DMA!$CQ$5:$CQ$603,$A62,DMA!$CO$5:$CO$603))*0.01)","v":""},{"$f":"IF(B62=\"\",\"\",(SUMIF(DMA!$CQ$5:$CQ$603,$A62,DMA!$CP$5:$CP$603)))","v":""},{"$f":"IF(COUNTIF(DMA!I$5:I$503,Graphs!$A62)>0,Graphs!$A62,\"\")","v":""},{"$f":"IF(E62=\"\",\"\",COUNTIF(DMA!I$5:I$503,Graphs!E62))","v":""},{"$f":"IF(E62=\"\",\"\",SUMIF(DMA!I$5:I$503,Graphs!E62,DMA!J$5:J$503)/COUNTIF(DMA!I$5:I$503,Graphs!E62))","v":""},{"$f":"IF(SUMIF(DMA!B$5:B$503,Graphs!A62,DMA!D$5:D$503)>0,Graphs!A62,\"\")","v":""},{"$f":"IF(H62=\"\",\"\",COUNTIF(DMA!B$5:B$503,Graphs!A62))","v":""},{"$f":"IF(H62=\"\",\"\",10^(-0.7083129+0.297*(SUMIF(DMA!B$5:B$503,Graphs!H62,DMA!D$5:D$503)/COUNTIF(DMA!B$5:B$503,Graphs!H62))))","v":""},{"$f":"IF(COUNTIF(DMA!R$5:R$503,Graphs!$A62)>0,Graphs!$A62,\"\")","v":""},{"$f":"IF(K62=\"\",\"\",COUNTIF(DMA!R$5:R$503,Graphs!A62))","v":""},{"$f":"IF(K62=\"\",\"\",(SUMIF(DMA!R$5:R$503,Graphs!A62,DMA!S$5:S$503)/COUNTIF(DMA!R$5:R$503,Graphs!A62)))","v":""},"",{"$f":"IF(COUNTIF(DMA!M$5:M$503,Graphs!$A62)>0,Graphs!$A62,\"\")","v":""},{"$f":"IF($O62=\"\",\"\",SUMIF(DMA!$M$5:$M$503,Graphs!$O62,DMA!N$5:N$503))","v":""},{"$f":"IF($O62=\"\",\"\",SUMIF(DMA!$M$5:$M$503,Graphs!$O62,DMA!O$5:O$503))","v":""},{"$f":"IF($O62=\"\",\"\",SUMIF(DMA!$M$5:$M$503,Graphs!$O62,DMA!P$5:P$503))","v":""},{"$f":"IF($O62=\"\",\"\",SUMIF(DMA!$M$5:$M$503,Graphs!$O62,DMA!Q$5:Q$503))","v":""},"",{"$f":"IF(O62=\"\",\"\",COUNTIF(DMA!M$5:M$503,Graphs!A62))","v":""},"","","","","","","",null,null,null,null,null,null,null,null,null,null,null,null,null,null,null,null,null,null,null,null,null,null,null,"","","",{"$f":"IF(P62=\"\",\"\",IF(P62=0,\"\",SQRT(SUMIF(DMA!$DJ$5:$DJ$503,Graphs!$O62,DMA!DK$5:DK$503))/COUNTIF(DMA!$DJ$5:$DJ$503,Graphs!$O62)))","v":""},{"$f":"IF(Q62=\"\",\"\",IF(Q62=0,\"\",SQRT(SUMIF(DMA!$DJ$5:$DJ$503,Graphs!$O62,DMA!DL$5:DL$503))/COUNTIF(DMA!$DJ$5:$DJ$503,Graphs!$O62)))","v":""},{"$f":"IF(R62=\"\",\"\",IF(R62=0,\"\",SQRT(SUMIF(DMA!$DJ$5:$DJ$503,Graphs!$O62,DMA!DM$5:DM$503))/COUNTIF(DMA!$DJ$5:$DJ$503,Graphs!$O62)))","v":""},{"$f":"IF($P62=\"\",\"\",IF(P62=0,\"\",AVERAGEIF(DMA!$M$5:$M$503,Graphs!$O62,DMA!N$5:N$503)))","v":""},{"$f":"IF($Q62=\"\",\"\",IF(Q62=0,\"\",AVERAGEIF(DMA!$M$5:$M$503,Graphs!$O62,DMA!O$5:O$503)))","v":""},{"$f":"IF($R62=\"\",\"\",IF(R62=0,\"\",AVERAGEIF(DMA!$M$5:$M$503,Graphs!$O62,DMA!P$5:P$503)))","v":""}]
[null,{"$f":"IF(A63=\"\",\"\",(SUMIF(DMA!$AO$5:$AO$604,$A63,DMA!$AQ$5:$AQ$603)/DMA!AQ$604))","v":""},{"$f":"IF(A63=\"\",\"\",(SUMIF(DMA!$CQ$5:$CQ$603,$A63,DMA!$CO$5:$CO$603))*0.01)","v":""},{"$f":"IF(B63=\"\",\"\",(SUMIF(DMA!$CQ$5:$CQ$603,$A63,DMA!$CP$5:$CP$603)))","v":""},{"$f":"IF(COUNTIF(DMA!I$5:I$503,Graphs!$A63)>0,Graphs!$A63,\"\")","v":""},{"$f":"IF(E63=\"\",\"\",COUNTIF(DMA!I$5:I$503,Graphs!E63))","v":""},{"$f":"IF(E63=\"\",\"\",SUMIF(DMA!I$5:I$503,Graphs!E63,DMA!J$5:J$503)/COUNTIF(DMA!I$5:I$503,Graphs!E63))","v":""},{"$f":"IF(SUMIF(DMA!B$5:B$503,Graphs!A63,DMA!D$5:D$503)>0,Graphs!A63,\"\")","v":""},{"$f":"IF(H63=\"\",\"\",COUNTIF(DMA!B$5:B$503,Graphs!A63))","v":""},{"$f":"IF(H63=\"\",\"\",10^(-0.7083129+0.297*(SUMIF(DMA!B$5:B$503,Graphs!H63,DMA!D$5:D$503)/COUNTIF(DMA!B$5:B$503,Graphs!H63))))","v":""},{"$f":"IF(COUNTIF(DMA!R$5:R$503,Graphs!$A63)>0,Graphs!$A63,\"\")","v":""},{"$f":"IF(K63=\"\",\"\",COUNTIF(DMA!R$5:R$503,Graphs!A63))","v":""},{"$f":"IF(K63=\"\",\"\",(SUMIF(DMA!R$5:R$503,Graphs!A63,DMA!S$5:S$503)/COUNTIF(DMA!R$5:R$503,Graphs!A63)))","v":""},"",{"$f":"IF(COUNTIF(DMA!M$5:M$503,Graphs!$A63)>0,Graphs!$A63,\"\")","v":""},{"$f":"IF($O63=\"\",\"\",SUMIF(DMA!$M$5:$M$503,Graphs!$O63,DMA!N$5:N$503))","v":""},{"$f":"IF($O63=\"\",\"\",SUMIF(DMA!$M$5:$M$503,Graphs!$O63,DMA!O$5:O$503))","v":""},{"$f":"IF($O63=\"\",\"\",SUMIF(DMA!$M$5:$M$503,Graphs!$O63,DMA!P$5:P$503))","v":""},{"$f":"IF($O63=\"\",\"\",SUMIF(DMA!$M$5:$M$503,Graphs!$O63,DMA!Q$5:Q$503))","v":""},"",{"$f":"IF(O63=\"\",\"\",COUNTIF(DMA!M$5:M$503,Graphs!A63))","v":""},"","","","","","","",null,null,null,null,null,null,null,null,null,null,null,null,null,null,null,null,null,null,null,null,null,null,null,"","","",{"$f":"IF(P63=\"\",\"\",IF(P63=0,\"\",SQRT(SUMIF(DMA!$DJ$5:$DJ$503,Graphs!$O63,DMA!DK$5:DK$503))/COUNTIF(DMA!$DJ$5:$DJ$503,Graphs!$O63)))","v":""},{"$f":"IF(Q63=\"\",\"\",IF(Q63=0,\"\",SQRT(SUMIF(DMA!$DJ$5:$DJ$503,Graphs!$O63,DMA!DL$5:DL$503))/COUNTIF(DMA!$DJ$5:$DJ$503,Graphs!$O63)))","v":""},{"$f":"IF(R63=\"\",\"\",IF(R63=0,\"\",SQRT(SUMIF(DMA!$DJ$5:$DJ$503,Graphs!$O63,DMA!DM$5:DM$503))/COUNTIF(DMA!$DJ$5:$DJ$503,Graphs!$O63)))","v":""},{"$f":"IF($P63=\"\",\"\",IF(P63=0,\"\",AVERAGEIF(DMA!$M$5:$M$503,Graphs!$O63,DMA!N$5:N$503)))","v":""},{"$f":"IF($Q63=\"\",\"\",IF(Q63=0,\"\",AVERAGEIF(DMA!$M$5:$M$503,Graphs!$O63,DMA!O$5:O$503)))","v":""},{"$f":"IF($R63=\"\",\"\",IF(R63=0,\"\",AVERAGEIF(DMA!$M$5:$M$503,Graphs!$O63,DMA!P$5:P$503)))","v":""}]
[null,{"$f":"IF(A64=\"\",\"\",(SUMIF(DMA!$AO$5:$AO$604,$A64,DMA!$AQ$5:$AQ$603)/DMA!AQ$604))","v":""},{"$f":"IF(A64=\"\",\"\",(SUMIF(DMA!$CQ$5:$CQ$603,$A64,DMA!$CO$5:$CO$603))*0.01)","v":""},{"$f":"IF(B64=\"\",\"\",(SUMIF(DMA!$CQ$5:$CQ$603,$A64,DMA!$CP$5:$CP$603)))","v":""},{"$f":"IF(COUNTIF(DMA!I$5:I$503,Graphs!$A64)>0,Graphs!$A64,\"\")","v":""},{"$f":"IF(E64=\"\",\"\",COUNTIF(DMA!I$5:I$503,Graphs!E64))","v":""},{"$f":"IF(E64=\"\",\"\",SUMIF(DMA!I$5:I$503,Graphs!E64,DMA!J$5:J$503)/COUNTIF(DMA!I$5:I$503,Graphs!E64))","v":""},{"$f":"IF(SUMIF(DMA!B$5:B$503,Graphs!A64,DMA!D$5:D$503)>0,Graphs!A64,\"\")","v":""},{"$f":"IF(H64=\"\",\"\",COUNTIF(DMA!B$5:B$503,Graphs!A64))","v":""},{"$f":"IF(H64=\"\",\"\",10^(-0.7083129+0.297*(SUMIF(DMA!B$5:B$503,Graphs!H64,DMA!D$5:D$503)/COUNTIF(DMA!B$5:B$503,Graphs!H64))))","v":""},{"$f":"IF(COUNTIF(DMA!R$5:R$503,Graphs!$A64)>0,Graphs!$A64,\"\")","v":""},{"$f":"IF(K64=\"\",\"\",COUNTIF(DMA!R$5:R$503,Graphs!A64))","v":""},{"$f":"IF(K64=\"\",\"\",(SUMIF(DMA!R$5:R$503,Graphs!A64,DMA!S$5:S$503)/COUNTIF(DMA!R$5:R$503,Graphs!A64)))","v":""},"",{"$f":"IF(COUNTIF(DMA!M$5:M$503,Graphs!$A64)>0,Graphs!$A64,\"\")","v":""},{"$f":"IF($O64=\"\",\"\",SUMIF(DMA!$M$5:$M$503,Graphs!$O64,DMA!N$5:N$503))","v":""},{"$f":"IF($O64=\"\",\"\",SUMIF(DMA!$M$5:$M$503,Graphs!$O64,DMA!O$5:O$503))","v":""},{"$f":"IF($O64=\"\",\"\",SUMIF(DMA!$M$5:$M$503,Graphs!$O64,DMA!P$5:P$503))","v":""},{"$f":"IF($O64=\"\",\"\",SUMIF(DMA!$M$5:$M$503,Graphs!$O64,DMA!Q$5:Q$503))","v":""},"",{"$f":"IF(O64=\"\",\"\",COUNTIF(DMA!M$5:M$503,Graphs!A64))","v":""},"","","","","","","",null,null,null,null,null,null,null,null,null,null,null,null,null,null,null,null,null,null,null,null,null,null,null,"","","",{"$f":"IF(P64=\"\",\"\",IF(P64=0,\"\",SQRT(SUMIF(DMA!$DJ$5:$DJ$503,Graphs!$O64,DMA!DK$5:DK$503))/COUNTIF(DMA!$DJ$5:$DJ$503,Graphs!$O64)))","v":""},{"$f":"IF(Q64=\"\",\"\",IF(Q64=0,\"\",SQRT(SUMIF(DMA!$DJ$5:$DJ$503,Graphs!$O64,DMA!DL$5:DL$503))/COUNTIF(DMA!$DJ$5:$DJ$503,Graphs!$O64)))","v":""},{"$f":"IF(R64=\"\",\"\",IF(R64=0,\"\",SQRT(SUMIF(DMA!$DJ$5:$DJ$503,Graphs!$O64,DMA!DM$5:DM$503))/COUNTIF(DMA!$DJ$5:$DJ$503,Graphs!$O64)))","v":""},{"$f":"IF($P64=\"\",\"\",IF(P64=0,\"\",AVERAGEIF(DMA!$M$5:$M$503,Graphs!$O64,DMA!N$5:N$503)))","v":""},{"$f":"IF($Q64=\"\",\"\",IF(Q64=0,\"\",AVERAGEIF(DMA!$M$5:$M$503,Graphs!$O64,DMA!O$5:O$503)))","v":""},{"$f":"IF($R64=\"\",\"\",IF(R64=0,\"\",AVERAGEIF(DMA!$M$5:$M$503,Graphs!$O64,DMA!P$5:P$503)))","v":""}]
[null,{"$f":"IF(A65=\"\",\"\",(SUMIF(DMA!$AO$5:$AO$604,$A65,DMA!$AQ$5:$AQ$603)/DMA!AQ$604))","v":""},{"$f":"IF(A65=\"\",\"\",(SUMIF(DMA!$CQ$5:$CQ$603,$A65,DMA!$CO$5:$CO$603))*0.01)","v":""},{"$f":"IF(B65=\"\",\"\",(SUMIF(DMA!$CQ$5:$CQ$603,$A65,DMA!$CP$5:$CP$603)))","v":""},{"$f":"IF(COUNTIF(DMA!I$5:I$503,Graphs!$A65)>0,Graphs!$A65,\"\")","v":""},{"$f":"IF(E65=\"\",\"\",COUNTIF(DMA!I$5:I$503,Graphs!E65))","v":""},{"$f":"IF(E65=\"\",\"\",SUMIF(DMA!I$5:I$503,Graphs!E65,DMA!J$5:J$503)/COUNTIF(DMA!I$5:I$503,Graphs!E65))","v":""},{"$f":"IF(SUMIF(DMA!B$5:B$503,Graphs!A65,DMA!D$5:D$503)>0,Graphs!A65,\"\")","v":""},{"$f":"IF(H65=\"\",\"\",COUNTIF(DMA!B$5:B$503,Graphs!A65))","v":""},{"$f":"IF(H65=\"\",\"\",10^(-0.7083129+0.297*(SUMIF(DMA!B$5:B$503,Graphs!H65,DMA!D$5:D$503)/COUNTIF(DMA!B$5:B$503,Graphs!H65))))","v":""},{"$f":"IF(COUNTIF(DMA!R$5:R$503,Graphs!$A65)>0,Graphs!$A65,\"\")","v":""},{"$f":"IF(K65=\"\",\"\",COUNTIF(DMA!R$5:R$503,Graphs!A65))","v":""},{"$f":"IF(K65=\"\",\"\",(SUMIF(DMA!R$5:R$503,Graphs!A65,DMA!S$5:S$503)/COUNTIF(DMA!R$5:R$503,Graphs!A65)))","v":""},"",{"$f":"IF(COUNTIF(DMA!M$5:M$503,Graphs!$A65)>0,Graphs!$A65,\"\")","v":""},{"$f":"IF($O65=\"\",\"\",SUMIF(DMA!$M$5:$M$503,Graphs!$O65,DMA!N$5:N$503))","v":""},{"$f":"IF($O65=\"\",\"\",SUMIF(DMA!$M$5:$M$503,Graphs!$O65,DMA!O$5:O$503))","v":""},{"$f":"IF($O65=\"\",\"\",SUMIF(DMA!$M$5:$M$503,Graphs!$O65,DMA!P$5:P$503))","v":""},{"$f":"IF($O65=\"\",\"\",SUMIF(DMA!$M$5:$M$503,Graphs!$O65,DMA!Q$5:Q$503))","v":""},"",{"$f":"IF(O65=\"\",\"\",COUNTIF(DMA!M$5:M$503,Graphs!A65))","v":""},"","","","","","","",null,null,null,null,null,null,null,null,null,null,null,null,null,null,null,null,null,null,null,null,null,null,null,"","","",{"$f":"IF(P65=\"\",\"\",IF(P65=0,\"\",SQRT(SUMIF(DMA!$DJ$5:$DJ$503,Graphs!$O65,DMA!DK$5:DK$503))/COUNTIF(DMA!$DJ$5:$DJ$503,Graphs!$O65)))","v":""},{"$f":"IF(Q65=\"\",\"\",IF(Q65=0,\"\",SQRT(SUMIF(DMA!$DJ$5:$DJ$503,Graphs!$O65,DMA!DL$5:DL$503))/COUNTIF(DMA!$DJ$5:$DJ$503,Graphs!$O65)))","v":""},{"$f":"IF(R65=\"\",\"\",IF(R65=0,\"\",SQRT(SUMIF(DMA!$DJ$5:$DJ$503,Graphs!$O65,DMA!DM$5:DM$503))/COUNTIF(DMA!$DJ$5:$DJ$503,Graphs!$O65)))","v":""},{"$f":"IF($P65=\"\",\"\",IF(P65=0,\"\",AVERAGEIF(DMA!$M$5:$M$503,Graphs!$O65,DMA!N$5:N$503)))","v":""},{"$f":"IF($Q65=\"\",\"\",IF(Q65=0,\"\",AVERAGEIF(DMA!$M$5:$M$503,Graphs!$O65,DMA!O$5:O$503)))","v":""},{"$f":"IF($R65=\"\",\"\",IF(R65=0,\"\",AVERAGEIF(DMA!$M$5:$M$503,Graphs!$O65,DMA!P$5:P$503)))","v":""}]
[null,{"$f":"IF(A66=\"\",\"\",(SUMIF(DMA!$AO$5:$AO$604,$A66,DMA!$AQ$5:$AQ$603)/DMA!AQ$604))","v":""},{"$f":"IF(A66=\"\",\"\",(SUMIF(DMA!$CQ$5:$CQ$603,$A66,DMA!$CO$5:$CO$603))*0.01)","v":""},{"$f":"IF(B66=\"\",\"\",(SUMIF(DMA!$CQ$5:$CQ$603,$A66,DMA!$CP$5:$CP$603)))","v":""},{"$f":"IF(COUNTIF(DMA!I$5:I$503,Graphs!$A66)>0,Graphs!$A66,\"\")","v":""},{"$f":"IF(E66=\"\",\"\",COUNTIF(DMA!I$5:I$503,Graphs!E66))","v":""},{"$f":"IF(E66=\"\",\"\",SUMIF(DMA!I$5:I$503,Graphs!E66,DMA!J$5:J$503)/COUNTIF(DMA!I$5:I$503,Graphs!E66))","v":""},{"$f":"IF(SUMIF(DMA!B$5:B$503,Graphs!A66,DMA!D$5:D$503)>0,Graphs!A66,\"\")","v":""},{"$f":"IF(H66=\"\",\"\",COUNTIF(DMA!B$5:B$503,Graphs!A66))","v":""},{"$f":"IF(H66=\"\",\"\",10^(-0.7083129+0.297*(SUMIF(DMA!B$5:B$503,Graphs!H66,DMA!D$5:D$503)/COUNTIF(DMA!B$5:B$503,Graphs!H66))))","v":""},{"$f":"IF(COUNTIF(DMA!R$5:R$503,Graphs!$A66)>0,Graphs!$A66,\"\")","v":""},{"$f":"IF(K66=\"\",\"\",COUNTIF(DMA!R$5:R$503,Graphs!A66))","v":""},{"$f":"IF(K66=\"\",\"\",(SUMIF(DMA!R$5:R$503,Graphs!A66,DMA!S$5:S$503)/COUNTIF(DMA!R$5:R$503,Graphs!A66)))","v":""},"",{"$f":"IF(COUNTIF(DMA!M$5:M$503,Graphs!$A66)>0,Graphs!$A66,\"\")","v":""},{"$f":"IF($O66=\"\",\"\",SUMIF(DMA!$M$5:$M$503,Graphs!$O66,DMA!N$5:N$503))","v":""},{"$f":"IF($O66=\"\",\"\",SUMIF(DMA!$M$5:$M$503,Graphs!$O66,DMA!O$5:O$503))","v":""},{"$f":"IF($O66=\"\",\"\",SUMIF(DMA!$M$5:$M$503,Graphs!$O66,DMA!P$5:P$503))","v":""},{"$f":"IF($O66=\"\",\"\",SUMIF(DMA!$M$5:$M$503,Graphs!$O66,DMA!Q$5:Q$503))","v":""},"",{"$f":"IF(O66=\"\",\"\",COUNTIF(DMA!M$5:M$503,Graphs!A66))","v":""},"","","","","","","",null,null,null,null,null,null,null,null,null,null,null,null,null,null,null,null,null,null,null,null,null,null,null,"","","",{"$f":"IF(P66=\"\",\"\",IF(P66=0,\"\",SQRT(SUMIF(DMA!$DJ$5:$DJ$503,Graphs!$O66,DMA!DK$5:DK$503))/COUNTIF(DMA!$DJ$5:$DJ$503,Graphs!$O66)))","v":""},{"$f":"IF(Q66=\"\",\"\",IF(Q66=0,\"\",SQRT(SUMIF(DMA!$DJ$5:$DJ$503,Graphs!$O66,DMA!DL$5:DL$503))/COUNTIF(DMA!$DJ$5:$DJ$503,Graphs!$O66)))","v":""},{"$f":"IF(R66=\"\",\"\",IF(R66=0,\"\",SQRT(SUMIF(DMA!$DJ$5:$DJ$503,Graphs!$O66,DMA!DM$5:DM$503))/COUNTIF(DMA!$DJ$5:$DJ$503,Graphs!$O66)))","v":""},{"$f":"IF($P66=\"\",\"\",IF(P66=0,\"\",AVERAGEIF(DMA!$M$5:$M$503,Graphs!$O66,DMA!N$5:N$503)))","v":""},{"$f":"IF($Q66=\"\",\"\",IF(Q66=0,\"\",AVERAGEIF(DMA!$M$5:$M$503,Graphs!$O66,DMA!O$5:O$503)))","v":""},{"$f":"IF($R66=\"\",\"\",IF(R66=0,\"\",AVERAGEIF(DMA!$M$5:$M$503,Graphs!$O66,DMA!P$5:P$503)))","v":""}]
[null,{"$f":"IF(A67=\"\",\"\",(SUMIF(DMA!$AO$5:$AO$604,$A67,DMA!$AQ$5:$AQ$603)/DMA!AQ$604))","v":""},{"$f":"IF(A67=\"\",\"\",(SUMIF(DMA!$CQ$5:$CQ$603,$A67,DMA!$CO$5:$CO$603))*0.01)","v":""},{"$f":"IF(B67=\"\",\"\",(SUMIF(DMA!$CQ$5:$CQ$603,$A67,DMA!$CP$5:$CP$603)))","v":""},{"$f":"IF(COUNTIF(DMA!I$5:I$503,Graphs!$A67)>0,Graphs!$A67,\"\")","v":""},{"$f":"IF(E67=\"\",\"\",COUNTIF(DMA!I$5:I$503,Graphs!E67))","v":""},{"$f":"IF(E67=\"\",\"\",SUMIF(DMA!I$5:I$503,Graphs!E67,DMA!J$5:J$503)/COUNTIF(DMA!I$5:I$503,Graphs!E67))","v":""},{"$f":"IF(SUMIF(DMA!B$5:B$503,Graphs!A67,DMA!D$5:D$503)>0,Graphs!A67,\"\")","v":""},{"$f":"IF(H67=\"\",\"\",COUNTIF(DMA!B$5:B$503,Graphs!A67))","v":""},{"$f":"IF(H67=\"\",\"\",10^(-0.7083129+0.297*(SUMIF(DMA!B$5:B$503,Graphs!H67,DMA!D$5:D$503)/COUNTIF(DMA!B$5:B$503,Graphs!H67))))","v":""},{"$f":"IF(COUNTIF(DMA!R$5:R$503,Graphs!$A67)>0,Graphs!$A67,\"\")","v":""},{"$f":"IF(K67=\"\",\"\",COUNTIF(DMA!R$5:R$503,Graphs!A67))","v":""},{"$f":"IF(K67=\"\",\"\",(SUMIF(DMA!R$5:R$503,Graphs!A67,DMA!S$5:S$503)/COUNTIF(DMA!R$5:R$503,Graphs!A67)))","v":""},"",{"$f":"IF(COUNTIF(DMA!M$5:M$503,Graphs!$A67)>0,Graphs!$A67,\"\")","v":""},{"$f":"IF($O67=\"\",\"\",SUMIF(DMA!$M$5:$M$503,Graphs!$O67,DMA!N$5:N$503))","v":""},{"$f":"IF($O67=\"\",\"\",SUMIF(DMA!$M$5:$M$503,Graphs!$O67,DMA!O$5:O$503))","v":""},{"$f":"IF($O67=\"\",\"\",SUMIF(DMA!$M$5:$M$503,Graphs!$O67,DMA!P$5:P$503))","v":""},{"$f":"IF($O67=\"\",\"\",SUMIF(DMA!$M$5:$M$503,Graphs!$O67,DMA!Q$5:Q$503))","v":""},"",{"$f":"IF(O67=\"\",\"\",COUNTIF(DMA!M$5:M$503,Graphs!A67))","v":""},"","","","","","","",null,null,null,null,null,null,null,null,null,null,null,null,null,null,null,null,null,null,null,null,null,null,null,"","","",{"$f":"IF(P67=\"\",\"\",IF(P67=0,\"\",SQRT(SUMIF(DMA!$DJ$5:$DJ$503,Graphs!$O67,DMA!DK$5:DK$503))/COUNTIF(DMA!$DJ$5:$DJ$503,Graphs!$O67)))","v":""},{"$f":"IF(Q67=\"\",\"\",IF(Q67=0,\"\",SQRT(SUMIF(DMA!$DJ$5:$DJ$503,Graphs!$O67,DMA!DL$5:DL$503))/COUNTIF(DMA!$DJ$5:$DJ$503,Graphs!$O67)))","v":""},{"$f":"IF(R67=\"\",\"\",IF(R67=0,\"\",SQRT(SUMIF(DMA!$DJ$5:$DJ$503,Graphs!$O67,DMA!DM$5:DM$503))/COUNTIF(DMA!$DJ$5:$DJ$503,Graphs!$O67)))","v":""},{"$f":"IF($P67=\"\",\"\",IF(P67=0,\"\",AVERAGEIF(DMA!$M$5:$M$503,Graphs!$O67,DMA!N$5:N$503)))","v":""},{"$f":"IF($Q67=\"\",\"\",IF(Q67=0,\"\",AVERAGEIF(DMA!$M$5:$M$503,Graphs!$O67,DMA!O$5:O$503)))","v":""},{"$f":"IF($R67=\"\",\"\",IF(R67=0,\"\",AVERAGEIF(DMA!$M$5:$M$503,Graphs!$O67,DMA!P$5:P$503)))","v":""}]
[null,{"$f":"IF(A68=\"\",\"\",(SUMIF(DMA!$AO$5:$AO$604,$A68,DMA!$AQ$5:$AQ$603)/DMA!AQ$604))","v":""},{"$f":"IF(A68=\"\",\"\",(SUMIF(DMA!$CQ$5:$CQ$603,$A68,DMA!$CO$5:$CO$603))*0.01)","v":""},{"$f":"IF(B68=\"\",\"\",(SUMIF(DMA!$CQ$5:$CQ$603,$A68,DMA!$CP$5:$CP$603)))","v":""},{"$f":"IF(COUNTIF(DMA!I$5:I$503,Graphs!$A68)>0,Graphs!$A68,\"\")","v":""},{"$f":"IF(E68=\"\",\"\",COUNTIF(DMA!I$5:I$503,Graphs!E68))","v":""},{"$f":"IF(E68=\"\",\"\",SUMIF(DMA!I$5:I$503,Graphs!E68,DMA!J$5:J$503)/COUNTIF(DMA!I$5:I$503,Graphs!E68))","v":""},{"$f":"IF(SUMIF(DMA!B$5:B$503,Graphs!A68,DMA!D$5:D$503)>0,Graphs!A68,\"\")","v":""},{"$f":"IF(H68=\"\",\"\",COUNTIF(DMA!B$5:B$503,Graphs!A68))","v":""},{"$f":"IF(H68=\"\",\"\",10^(-0.7083129+0.297*(SUMIF(DMA!B$5:B$503,Graphs!H68,DMA!D$5:D$503)/COUNTIF(DMA!B$5:B$503,Graphs!H68))))","v":""},{"$f":"IF(COUNTIF(DMA!R$5:R$503,Graphs!$A68)>0,Graphs!$A68,\"\")","v":""},{"$f":"IF(K68=\"\",\"\",COUNTIF(DMA!R$5:R$503,Graphs!A68))","v":""},{"$f":"IF(K68=\"\",\"\",(SUMIF(DMA!R$5:R$503,Graphs!A68,DMA!S$5:S$503)/COUNTIF(DMA!R$5:R$503,Graphs!A68)))","v":""},"",{"$f":"IF(COUNTIF(DMA!M$5:M$503,Graphs!$A68)>0,Graphs!$A68,\"\")","v":""},{"$f":"IF($O68=\"\",\"\",SUMIF(DMA!$M$5:$M$503,Graphs!$O68,DMA!N$5:N$503))","v":""},{"$f":"IF($O68=\"\",\"\",SUMIF(DMA!$M$5:$M$503,Graphs!$O68,DMA!O$5:O$503))","v":""},{"$f":"IF($O68=\"\",\"\",SUMIF(DMA!$M$5:$M$503,Graphs!$O68,DMA!P$5:P$503))","v":""},{"$f":"IF($O68=\"\",\"\",SUMIF(DMA!$M$5:$M$503,Graphs!$O68,DMA!Q$5:Q$503))","v":""},"",{"$f":"IF(O68=\"\",\"\",COUNTIF(DMA!M$5:M$503,Graphs!A68))","v":""},"","","","","","","",null,null,null,null,null,null,null,null,null,null,null,null,null,null,null,null,null,null,null,null,null,null,null,"","","",{"$f":"IF(P68=\"\",\"\",IF(P68=0,\"\",SQRT(SUMIF(DMA!$DJ$5:$DJ$503,Graphs!$O68,DMA!DK$5:DK$503))/COUNTIF(DMA!$DJ$5:$DJ$503,Graphs!$O68)))","v":""},{"$f":"IF(Q68=\"\",\"\",IF(Q68=0,\"\",SQRT(SUMIF(DMA!$DJ$5:$DJ$503,Graphs!$O68,DMA!DL$5:DL$503))/COUNTIF(DMA!$DJ$5:$DJ$503,Graphs!$O68)))","v":""},{"$f":"IF(R68=\"\",\"\",IF(R68=0,\"\",SQRT(SUMIF(DMA!$DJ$5:$DJ$503,Graphs!$O68,DMA!DM$5:DM$503))/COUNTIF(DMA!$DJ$5:$DJ$503,Graphs!$O68)))","v":""},{"$f":"IF($P68=\"\",\"\",IF(P68=0,\"\",AVERAGEIF(DMA!$M$5:$M$503,Graphs!$O68,DMA!N$5:N$503)))","v":""},{"$f":"IF($Q68=\"\",\"\",IF(Q68=0,\"\",AVERAGEIF(DMA!$M$5:$M$503,Graphs!$O68,DMA!O$5:O$503)))","v":""},{"$f":"IF($R68=\"\",\"\",IF(R68=0,\"\",AVERAGEIF(DMA!$M$5:$M$503,Graphs!$O68,DMA!P$5:P$503)))","v":""}]
[null,{"$f":"IF(A69=\"\",\"\",(SUMIF(DMA!$AO$5:$AO$604,$A69,DMA!$AQ$5:$AQ$603)/DMA!AQ$604))","v":""},{"$f":"IF(A69=\"\",\"\",(SUMIF(DMA!$CQ$5:$CQ$603,$A69,DMA!$CO$5:$CO$603))*0.01)","v":""},{"$f":"IF(B69=\"\",\"\",(SUMIF(DMA!$CQ$5:$CQ$603,$A69,DMA!$CP$5:$CP$603)))","v":""},{"$f":"IF(COUNTIF(DMA!I$5:I$503,Graphs!$A69)>0,Graphs!$A69,\"\")","v":""},{"$f":"IF(E69=\"\",\"\",COUNTIF(DMA!I$5:I$503,Graphs!E69))","v":""},{"$f":"IF(E69=\"\",\"\",SUMIF(DMA!I$5:I$503,Graphs!E69,DMA!J$5:J$503)/COUNTIF(DMA!I$5:I$503,Graphs!E69))","v":""},{"$f":"IF(SUMIF(DMA!B$5:B$503,Graphs!A69,DMA!D$5:D$503)>0,Graphs!A69,\"\")","v":""},{"$f":"IF(H69=\"\",\"\",COUNTIF(DMA!B$5:B$503,Graphs!A69))","v":""},{"$f":"IF(H69=\"\",\"\",10^(-0.7083129+0.297*(SUMIF(DMA!B$5:B$503,Graphs!H69,DMA!D$5:D$503)/COUNTIF(DMA!B$5:B$503,Graphs!H69))))","v":""},{"$f":"IF(COUNTIF(DMA!R$5:R$503,Graphs!$A69)>0,Graphs!$A69,\"\")","v":""},{"$f":"IF(K69=\"\",\"\",COUNTIF(DMA!R$5:R$503,Graphs!A69))","v":""},{"$f":"IF(K69=\"\",\"\",(SUMIF(DMA!R$5:R$503,Graphs!A69,DMA!S$5:S$503)/COUNTIF(DMA!R$5:R$503,Graphs!A69)))","v":""},"",{"$f":"IF(COUNTIF(DMA!M$5:M$503,Graphs!$A69)>0,Graphs!$A69,\"\")","v":""},{"$f":"IF($O69=\"\",\"\",SUMIF(DMA!$M$5:$M$503,Graphs!$O69,DMA!N$5:N$503))","v":""},{"$f":"IF($O69=\"\",\"\",SUMIF(DMA!$M$5:$M$503,Graphs!$O69,DMA!O$5:O$503))","v":""},{"$f":"IF($O69=\"\",\"\",SUMIF(DMA!$M$5:$M$503,Graphs!$O69,DMA!P$5:P$503))","v":""},{"$f":"IF($O69=\"\",\"\",SUMIF(DMA!$M$5:$M$503,Graphs!$O69,DMA!Q$5:Q$503))","v":""},"",{"$f":"IF(O69=\"\",\"\",COUNTIF(DMA!M$5:M$503,Graphs!A69))","v":""},"","","","","","","",null,null,null,null,null,null,null,null,null,null,null,null,null,null,null,null,null,null,null,null,null,null,null,"","","",{"$f":"IF(P69=\"\",\"\",IF(P69=0,\"\",SQRT(SUMIF(DMA!$DJ$5:$DJ$503,Graphs!$O69,DMA!DK$5:DK$503))/COUNTIF(DMA!$DJ$5:$DJ$503,Graphs!$O69)))","v":""},{"$f":"IF(Q69=\"\",\"\",IF(Q69=0,\"\",SQRT(SUMIF(DMA!$DJ$5:$DJ$503,Graphs!$O69,DMA!DL$5:DL$503))/COUNTIF(DMA!$DJ$5:$DJ$503,Graphs!$O69)))","v":""},{"$f":"IF(R69=\"\",\"\",IF(R69=0,\"\",SQRT(SUMIF(DMA!$DJ$5:$DJ$503,Graphs!$O69,DMA!DM$5:DM$503))/COUNTIF(DMA!$DJ$5:$DJ$503,Graphs!$O69)))","v":""},{"$f":"IF($P69=\"\",\"\",IF(P69=0,\"\",AVERAGEIF(DMA!$M$5:$M$503,Graphs!$O69,DMA!N$5:N$503)))","v":""},{"$f":"IF($Q69=\"\",\"\",IF(Q69=0,\"\",AVERAGEIF(DMA!$M$5:$M$503,Graphs!$O69,DMA!O$5:O$503)))","v":""},{"$f":"IF($R69=\"\",\"\",IF(R69=0,\"\",AVERAGEIF(DMA!$M$5:$M$503,Graphs!$O69,DMA!P$5:P$503)))","v":""}]
[null,{"$f":"IF(A70=\"\",\"\",(SUMIF(DMA!$AO$5:$AO$604,$A70,DMA!$AQ$5:$AQ$603)/DMA!AQ$604))","v":""},{"$f":"IF(A70=\"\",\"\",(SUMIF(DMA!$CQ$5:$CQ$603,$A70,DMA!$CO$5:$CO$603))*0.01)","v":""},{"$f":"IF(B70=\"\",\"\",(SUMIF(DMA!$CQ$5:$CQ$603,$A70,DMA!$CP$5:$CP$603)))","v":""},{"$f":"IF(COUNTIF(DMA!I$5:I$503,Graphs!$A70)>0,Graphs!$A70,\"\")","v":""},{"$f":"IF(E70=\"\",\"\",COUNTIF(DMA!I$5:I$503,Graphs!E70))","v":""},{"$f":"IF(E70=\"\",\"\",SUMIF(DMA!I$5:I$503,Graphs!E70,DMA!J$5:J$503)/COUNTIF(DMA!I$5:I$503,Graphs!E70))","v":""},{"$f":"IF(SUMIF(DMA!B$5:B$503,Graphs!A70,DMA!D$5:D$503)>0,Graphs!A70,\"\")","v":""},{"$f":"IF(H70=\"\",\"\",COUNTIF(DMA!B$5:B$503,Graphs!A70))","v":""},{"$f":"IF(H70=\"\",\"\",10^(-0.7083129+0.297*(SUMIF(DMA!B$5:B$503,Graphs!H70,DMA!D$5:D$503)/COUNTIF(DMA!B$5:B$503,Graphs!H70))))","v":""},{"$f":"IF(COUNTIF(DMA!R$5:R$503,Graphs!$A70)>0,Graphs!$A70,\"\")","v":""},{"$f":"IF(K70=\"\",\"\",COUNTIF(DMA!R$5:R$503,Graphs!A70))","v":""},{"$f":"IF(K70=\"\",\"\",(SUMIF(DMA!R$5:R$503,Graphs!A70,DMA!S$5:S$503)/COUNTIF(DMA!R$5:R$503,Graphs!A70)))","v":""},"",{"$f":"IF(COUNTIF(DMA!M$5:M$503,Graphs!$A70)>0,Graphs!$A70,\"\")","v":""},{"$f":"IF($O70=\"\",\"\",SUMIF(DMA!$M$5:$M$503,Graphs!$O70,DMA!N$5:N$503))","v":""},{"$f":"IF($O70=\"\",\"\",SUMIF(DMA!$M$5:$M$503,Graphs!$O70,DMA!O$5:O$503))","v":""},{"$f":"IF($O70=\"\",\"\",SUMIF(DMA!$M$5:$M$503,Graphs!$O70,DMA!P$5:P$503))","v":""},{"$f":"IF($O70=\"\",\"\",SUMIF(DMA!$M$5:$M$503,Graphs!$O70,DMA!Q$5:Q$503))","v":""},"",{"$f":"IF(O70=\"\",\"\",COUNTIF(DMA!M$5:M$503,Graphs!A70))","v":""},"","","","","","","",null,null,null,null,null,null,null,null,null,null,null,null,null,null,null,null,null,null,null,null,null,null,null,"","","",{"$f":"IF(P70=\"\",\"\",IF(P70=0,\"\",SQRT(SUMIF(DMA!$DJ$5:$DJ$503,Graphs!$O70,DMA!DK$5:DK$503))/COUNTIF(DMA!$DJ$5:$DJ$503,Graphs!$O70)))","v":""},{"$f":"IF(Q70=\"\",\"\",IF(Q70=0,\"\",SQRT(SUMIF(DMA!$DJ$5:$DJ$503,Graphs!$O70,DMA!DL$5:DL$503))/COUNTIF(DMA!$DJ$5:$DJ$503,Graphs!$O70)))","v":""},{"$f":"IF(R70=\"\",\"\",IF(R70=0,\"\",SQRT(SUMIF(DMA!$DJ$5:$DJ$503,Graphs!$O70,DMA!DM$5:DM$503))/COUNTIF(DMA!$DJ$5:$DJ$503,Graphs!$O70)))","v":""},{"$f":"IF($P70=\"\",\"\",IF(P70=0,\"\",AVERAGEIF(DMA!$M$5:$M$503,Graphs!$O70,DMA!N$5:N$503)))","v":""},{"$f":"IF($Q70=\"\",\"\",IF(Q70=0,\"\",AVERAGEIF(DMA!$M$5:$M$503,Graphs!$O70,DMA!O$5:O$503)))","v":""},{"$f":"IF($R70=\"\",\"\",IF(R70=0,\"\",AVERAGEIF(DMA!$M$5:$M$503,Graphs!$O70,DMA!P$5:P$503)))","v":""}]
[null,{"$f":"IF(A71=\"\",\"\",(SUMIF(DMA!$AO$5:$AO$604,$A71,DMA!$AQ$5:$AQ$603)/DMA!AQ$604))","v":""},{"$f":"IF(A71=\"\",\"\",(SUMIF(DMA!$CQ$5:$CQ$603,$A71,DMA!$CO$5:$CO$603))*0.01)","v":""},{"$f":"IF(B71=\"\",\"\",(SUMIF(DMA!$CQ$5:$CQ$603,$A71,DMA!$CP$5:$CP$603)))","v":""},{"$f":"IF(COUNTIF(DMA!I$5:I$503,Graphs!$A71)>0,Graphs!$A71,\"\")","v":""},{"$f":"IF(E71=\"\",\"\",COUNTIF(DMA!I$5:I$503,Graphs!E71))","v":""},{"$f":"IF(E71=\"\",\"\",SUMIF(DMA!I$5:I$503,Graphs!E71,DMA!J$5:J$503)/COUNTIF(DMA!I$5:I$503,Graphs!E71))","v":""},{"$f":"IF(SUMIF(DMA!B$5:B$503,Graphs!A71,DMA!D$5:D$503)>0,Graphs!A71,\"\")","v":""},{"$f":"IF(H71=\"\",\"\",COUNTIF(DMA!B$5:B$503,Graphs!A71))","v":""},{"$f":"IF(H71=\"\",\"\",10^(-0.7083129+0.297*(SUMIF(DMA!B$5:B$503,Graphs!H71,DMA!D$5:D$503)/COUNTIF(DMA!B$5:B$503,Graphs!H71))))","v":""},{"$f":"IF(COUNTIF(DMA!R$5:R$503,Graphs!$A71)>0,Graphs!$A71,\"\")","v":""},{"$f":"IF(K71=\"\",\"\",COUNTIF(DMA!R$5:R$503,Graphs!A71))","v":""},{"$f":"IF(K71=\"\",\"\",(SUMIF(DMA!R$5:R$503,Graphs!A71,DMA!S$5:S$503)/COUNTIF(DMA!R$5:R$503,Graphs!A71)))","v":""},"",{"$f":"IF(COUNTIF(DMA!M$5:M$503,Graphs!$A71)>0,Graphs!$A71,\"\")","v":""},{"$f":"IF($O71=\"\",\"\",SUMIF(DMA!$M$5:$M$503,Graphs!$O71,DMA!N$5:N$503))","v":""},{"$f":"IF($O71=\"\",\"\",SUMIF(DMA!$M$5:$M$503,Graphs!$O71,DMA!O$5:O$503))","v":""},{"$f":"IF($O71=\"\",\"\",SUMIF(DMA!$M$5:$M$503,Graphs!$O71,DMA!P$5:P$503))","v":""},{"$f":"IF($O71=\"\",\"\",SUMIF(DMA!$M$5:$M$503,Graphs!$O71,DMA!Q$5:Q$503))","v":""},"",{"$f":"IF(O71=\"\",\"\",COUNTIF(DMA!M$5:M$503,Graphs!A71))","v":""},"","","","","","","",null,null,null,null,null,null,null,null,null,null,null,null,null,null,null,null,null,null,null,null,null,null,null,"","","",{"$f":"IF(P71=\"\",\"\",IF(P71=0,\"\",SQRT(SUMIF(DMA!$DJ$5:$DJ$503,Graphs!$O71,DMA!DK$5:DK$503))/COUNTIF(DMA!$DJ$5:$DJ$503,Graphs!$O71)))","v":""},{"$f":"IF(Q71=\"\",\"\",IF(Q71=0,\"\",SQRT(SUMIF(DMA!$DJ$5:$DJ$503,Graphs!$O71,DMA!DL$5:DL$503))/COUNTIF(DMA!$DJ$5:$DJ$503,Graphs!$O71)))","v":""},{"$f":"IF(R71=\"\",\"\",IF(R71=0,\"\",SQRT(SUMIF(DMA!$DJ$5:$DJ$503,Graphs!$O71,DMA!DM$5:DM$503))/COUNTIF(DMA!$DJ$5:$DJ$503,Graphs!$O71)))","v":""},{"$f":"IF($P71=\"\",\"\",IF(P71=0,\"\",AVERAGEIF(DMA!$M$5:$M$503,Graphs!$O71,DMA!N$5:N$503)))","v":""},{"$f":"IF($Q71=\"\",\"\",IF(Q71=0,\"\",AVERAGEIF(DMA!$M$5:$M$503,Graphs!$O71,DMA!O$5:O$503)))","v":""},{"$f":"IF($R71=\"\",\"\",IF(R71=0,\"\",AVERAGEIF(DMA!$M$5:$M$503,Graphs!$O71,DMA!P$5:P$503)))","v":""}]
[null,{"$f":"IF(A72=\"\",\"\",(SUMIF(DMA!$AO$5:$AO$604,$A72,DMA!$AQ$5:$AQ$603)/DMA!AQ$604))","v":""},{"$f":"IF(A72=\"\",\"\",(SUMIF(DMA!$CQ$5:$CQ$603,$A72,DMA!$CO$5:$CO$603))*0.01)","v":""},{"$f":"IF(B72=\"\",\"\",(SUMIF(DMA!$CQ$5:$CQ$603,$A72,DMA!$CP$5:$CP$603)))","v":""},{"$f":"IF(COUNTIF(DMA!I$5:I$503,Graphs!$A72)>0,Graphs!$A72,\"\")","v":""},{"$f":"IF(E72=\"\",\"\",COUNTIF(DMA!I$5:I$503,Graphs!E72))","v":""},{"$f":"IF(E72=\"\",\"\",SUMIF(DMA!I$5:I$503,Graphs!E72,DMA!J$5:J$503)/COUNTIF(DMA!I$5:I$503,Graphs!E72))","v":""},{"$f":"IF(SUMIF(DMA!B$5:B$503,Graphs!A72,DMA!D$5:D$503)>0,Graphs!A72,\"\")","v":""},{"$f":"IF(H72=\"\",\"\",COUNTIF(DMA!B$5:B$503,Graphs!A72))","v":""},{"$f":"IF(H72=\"\",\"\",10^(-0.7083129+0.297*(SUMIF(DMA!B$5:B$503,Graphs!H72,DMA!D$5:D$503)/COUNTIF(DMA!B$5:B$503,Graphs!H72))))","v":""},{"$f":"IF(COUNTIF(DMA!R$5:R$503,Graphs!$A72)>0,Graphs!$A72,\"\")","v":""},{"$f":"IF(K72=\"\",\"\",COUNTIF(DMA!R$5:R$503,Graphs!A72))","v":""},{"$f":"IF(K72=\"\",\"\",(SUMIF(DMA!R$5:R$503,Graphs!A72,DMA!S$5:S$503)/COUNTIF(DMA!R$5:R$503,Graphs!A72)))","v":""},"",{"$f":"IF(COUNTIF(DMA!M$5:M$503,Graphs!$A72)>0,Graphs!$A72,\"\")","v":""},{"$f":"IF($O72=\"\",\"\",SUMIF(DMA!$M$5:$M$503,Graphs!$O72,DMA!N$5:N$503))","v":""},{"$f":"IF($O72=\"\",\"\",SUMIF(DMA!$M$5:$M$503,Graphs!$O72,DMA!O$5:O$503))","v":""},{"$f":"IF($O72=\"\",\"\",SUMIF(DMA!$M$5:$M$503,Graphs!$O72,DMA!P$5:P$503))","v":""},{"$f":"IF($O72=\"\",\"\",SUMIF(DMA!$M$5:$M$503,Graphs!$O72,DMA!Q$5:Q$503))","v":""},"",{"$f":"IF(O72=\"\",\"\",COUNTIF(DMA!M$5:M$503,Graphs!A72))","v":""},"","","","","","","",null,null,null,null,null,null,null,null,null,null,null,null,null,null,null,null,null,null,null,null,null,null,null,"","","",{"$f":"IF(P72=\"\",\"\",IF(P72=0,\"\",SQRT(SUMIF(DMA!$DJ$5:$DJ$503,Graphs!$O72,DMA!DK$5:DK$503))/COUNTIF(DMA!$DJ$5:$DJ$503,Graphs!$O72)))","v":""},{"$f":"IF(Q72=\"\",\"\",IF(Q72=0,\"\",SQRT(SUMIF(DMA!$DJ$5:$DJ$503,Graphs!$O72,DMA!DL$5:DL$503))/COUNTIF(DMA!$DJ$5:$DJ$503,Graphs!$O72)))","v":""},{"$f":"IF(R72=\"\",\"\",IF(R72=0,\"\",SQRT(SUMIF(DMA!$DJ$5:$DJ$503,Graphs!$O72,DMA!DM$5:DM$503))/COUNTIF(DMA!$DJ$5:$DJ$503,Graphs!$O72)))","v":""},{"$f":"IF($P72=\"\",\"\",IF(P72=0,\"\",AVERAGEIF(DMA!$M$5:$M$503,Graphs!$O72,DMA!N$5:N$503)))","v":""},{"$f":"IF($Q72=\"\",\"\",IF(Q72=0,\"\",AVERAGEIF(DMA!$M$5:$M$503,Graphs!$O72,DMA!O$5:O$503)))","v":""},{"$f":"IF($R72=\"\",\"\",IF(R72=0,\"\",AVERAGEIF(DMA!$M$5:$M$503,Graphs!$O72,DMA!P$5:P$503)))","v":""}]
[null,{"$f":"IF(A73=\"\",\"\",(SUMIF(DMA!$AO$5:$AO$604,$A73,DMA!$AQ$5:$AQ$603)/DMA!AQ$604))","v":""},{"$f":"IF(A73=\"\",\"\",(SUMIF(DMA!$CQ$5:$CQ$603,$A73,DMA!$CO$5:$CO$603))*0.01)","v":""},{"$f":"IF(B73=\"\",\"\",(SUMIF(DMA!$CQ$5:$CQ$603,$A73,DMA!$CP$5:$CP$603)))","v":""},{"$f":"IF(COUNTIF(DMA!I$5:I$503,Graphs!$A73)>0,Graphs!$A73,\"\")","v":""},{"$f":"IF(E73=\"\",\"\",COUNTIF(DMA!I$5:I$503,Graphs!E73))","v":""},{"$f":"IF(E73=\"\",\"\",SUMIF(DMA!I$5:I$503,Graphs!E73,DMA!J$5:J$503)/COUNTIF(DMA!I$5:I$503,Graphs!E73))","v":""},{"$f":"IF(SUMIF(DMA!B$5:B$503,Graphs!A73,DMA!D$5:D$503)>0,Graphs!A73,\"\")","v":""},{"$f":"IF(H73=\"\",\"\",COUNTIF(DMA!B$5:B$503,Graphs!A73))","v":""},{"$f":"IF(H73=\"\",\"\",10^(-0.7083129+0.297*(SUMIF(DMA!B$5:B$503,Graphs!H73,DMA!D$5:D$503)/COUNTIF(DMA!B$5:B$503,Graphs!H73))))","v":""},{"$f":"IF(COUNTIF(DMA!R$5:R$503,Graphs!$A73)>0,Graphs!$A73,\"\")","v":""},{"$f":"IF(K73=\"\",\"\",COUNTIF(DMA!R$5:R$503,Graphs!A73))","v":""},{"$f":"IF(K73=\"\",\"\",(SUMIF(DMA!R$5:R$503,Graphs!A73,DMA!S$5:S$503)/COUNTIF(DMA!R$5:R$503,Graphs!A73)))","v":""},"",{"$f":"IF(COUNTIF(DMA!M$5:M$503,Graphs!$A73)>0,Graphs!$A73,\"\")","v":""},{"$f":"IF($O73=\"\",\"\",SUMIF(DMA!$M$5:$M$503,Graphs!$O73,DMA!N$5:N$503))","v":""},{"$f":"IF($O73=\"\",\"\",SUMIF(DMA!$M$5:$M$503,Graphs!$O73,DMA!O$5:O$503))","v":""},{"$f":"IF($O73=\"\",\"\",SUMIF(DMA!$M$5:$M$503,Graphs!$O73,DMA!P$5:P$503))","v":""},{"$f":"IF($O73=\"\",\"\",SUMIF(DMA!$M$5:$M$503,Graphs!$O73,DMA!Q$5:Q$503))","v":""},"",{"$f":"IF(O73=\"\",\"\",COUNTIF(DMA!M$5:M$503,Graphs!A73))","v":""},"","","","","","","",null,null,null,null,null,null,null,null,null,null,null,null,null,null,null,null,null,null,null,null,null,null,null,"","","",{"$f":"IF(P73=\"\",\"\",IF(P73=0,\"\",SQRT(SUMIF(DMA!$DJ$5:$DJ$503,Graphs!$O73,DMA!DK$5:DK$503))/COUNTIF(DMA!$DJ$5:$DJ$503,Graphs!$O73)))","v":""},{"$f":"IF(Q73=\"\",\"\",IF(Q73=0,\"\",SQRT(SUMIF(DMA!$DJ$5:$DJ$503,Graphs!$O73,DMA!DL$5:DL$503))/COUNTIF(DMA!$DJ$5:$DJ$503,Graphs!$O73)))","v":""},{"$f":"IF(R73=\"\",\"\",IF(R73=0,\"\",SQRT(SUMIF(DMA!$DJ$5:$DJ$503,Graphs!$O73,DMA!DM$5:DM$503))/COUNTIF(DMA!$DJ$5:$DJ$503,Graphs!$O73)))","v":""},{"$f":"IF($P73=\"\",\"\",IF(P73=0,\"\",AVERAGEIF(DMA!$M$5:$M$503,Graphs!$O73,DMA!N$5:N$503)))","v":""},{"$f":"IF($Q73=\"\",\"\",IF(Q73=0,\"\",AVERAGEIF(DMA!$M$5:$M$503,Graphs!$O73,DMA!O$5:O$503)))","v":""},{"$f":"IF($R73=\"\",\"\",IF(R73=0,\"\",AVERAGEIF(DMA!$M$5:$M$503,Graphs!$O73,DMA!P$5:P$503)))","v":""}]
[null,{"$f":"IF(A74=\"\",\"\",(SUMIF(DMA!$AO$5:$AO$604,$A74,DMA!$AQ$5:$AQ$603)/DMA!AQ$604))","v":""},{"$f":"IF(A74=\"\",\"\",(SUMIF(DMA!$CQ$5:$CQ$603,$A74,DMA!$CO$5:$CO$603))*0.01)","v":""},{"$f":"IF(B74=\"\",\"\",(SUMIF(DMA!$CQ$5:$CQ$603,$A74,DMA!$CP$5:$CP$603)))","v":""},{"$f":"IF(COUNTIF(DMA!I$5:I$503,Graphs!$A74)>0,Graphs!$A74,\"\")","v":""},{"$f":"IF(E74=\"\",\"\",COUNTIF(DMA!I$5:I$503,Graphs!E74))","v":""},{"$f":"IF(E74=\"\",\"\",SUMIF(DMA!I$5:I$503,Graphs!E74,DMA!J$5:J$503)/COUNTIF(DMA!I$5:I$503,Graphs!E74))","v":""},{"$f":"IF(SUMIF(DMA!B$5:B$503,Graphs!A74,DMA!D$5:D$503)>0,Graphs!A74,\"\")","v":""},{"$f":"IF(H74=\"\",\"\",COUNTIF(DMA!B$5:B$503,Graphs!A74))","v":""},{"$f":"IF(H74=\"\",\"\",10^(-0.7083129+0.297*(SUMIF(DMA!B$5:B$503,Graphs!H74,DMA!D$5:D$503)/COUNTIF(DMA!B$5:B$503,Graphs!H74))))","v":""},{"$f":"IF(COUNTIF(DMA!R$5:R$503,Graphs!$A74)>0,Graphs!$A74,\"\")","v":""},{"$f":"IF(K74=\"\",\"\",COUNTIF(DMA!R$5:R$503,Graphs!A74))","v":""},{"$f":"IF(K74=\"\",\"\",(SUMIF(DMA!R$5:R$503,Graphs!A74,DMA!S$5:S$503)/COUNTIF(DMA!R$5:R$503,Graphs!A74)))","v":""},"",{"$f":"IF(COUNTIF(DMA!M$5:M$503,Graphs!$A74)>0,Graphs!$A74,\"\")","v":""},{"$f":"IF($O74=\"\",\"\",SUMIF(DMA!$M$5:$M$503,Graphs!$O74,DMA!N$5:N$503))","v":""},{"$f":"IF($O74=\"\",\"\",SUMIF(DMA!$M$5:$M$503,Graphs!$O74,DMA!O$5:O$503))","v":""},{"$f":"IF($O74=\"\",\"\",SUMIF(DMA!$M$5:$M$503,Graphs!$O74,DMA!P$5:P$503))","v":""},{"$f":"IF($O74=\"\",\"\",SUMIF(DMA!$M$5:$M$503,Graphs!$O74,DMA!Q$5:Q$503))","v":""},"",{"$f":"IF(O74=\"\",\"\",COUNTIF(DMA!M$5:M$503,Graphs!A74))","v":""},"","","","","","","",null,null,null,null,null,null,null,null,null,null,null,null,null,null,null,null,null,null,null,null,null,null,null,"","","",{"$f":"IF(P74=\"\",\"\",IF(P74=0,\"\",SQRT(SUMIF(DMA!$DJ$5:$DJ$503,Graphs!$O74,DMA!DK$5:DK$503))/COUNTIF(DMA!$DJ$5:$DJ$503,Graphs!$O74)))","v":""},{"$f":"IF(Q74=\"\",\"\",IF(Q74=0,\"\",SQRT(SUMIF(DMA!$DJ$5:$DJ$503,Graphs!$O74,DMA!DL$5:DL$503))/COUNTIF(DMA!$DJ$5:$DJ$503,Graphs!$O74)))","v":""},{"$f":"IF(R74=\"\",\"\",IF(R74=0,\"\",SQRT(SUMIF(DMA!$DJ$5:$DJ$503,Graphs!$O74,DMA!DM$5:DM$503))/COUNTIF(DMA!$DJ$5:$DJ$503,Graphs!$O74)))","v":""},{"$f":"IF($P74=\"\",\"\",IF(P74=0,\"\",AVERAGEIF(DMA!$M$5:$M$503,Graphs!$O74,DMA!N$5:N$503)))","v":""},{"$f":"IF($Q74=\"\",\"\",IF(Q74=0,\"\",AVERAGEIF(DMA!$M$5:$M$503,Graphs!$O74,DMA!O$5:O$503)))","v":""},{"$f":"IF($R74=\"\",\"\",IF(R74=0,\"\",AVERAGEIF(DMA!$M$5:$M$503,Graphs!$O74,DMA!P$5:P$503)))","v":""}]
[null,{"$f":"IF(A75=\"\",\"\",(SUMIF(DMA!$AO$5:$AO$604,$A75,DMA!$AQ$5:$AQ$603)/DMA!AQ$604))","v":""},{"$f":"IF(A75=\"\",\"\",(SUMIF(DMA!$CQ$5:$CQ$603,$A75,DMA!$CO$5:$CO$603))*0.01)","v":""},{"$f":"IF(B75=\"\",\"\",(SUMIF(DMA!$CQ$5:$CQ$603,$A75,DMA!$CP$5:$CP$603)))","v":""},{"$f":"IF(COUNTIF(DMA!I$5:I$503,Graphs!$A75)>0,Graphs!$A75,\"\")","v":""},{"$f":"IF(E75=\"\",\"\",COUNTIF(DMA!I$5:I$503,Graphs!E75))","v":""},{"$f":"IF(E75=\"\",\"\",SUMIF(DMA!I$5:I$503,Graphs!E75,DMA!J$5:J$503)/COUNTIF(DMA!I$5:I$503,Graphs!E75))","v":""},{"$f":"IF(SUMIF(DMA!B$5:B$503,Graphs!A75,DMA!D$5:D$503)>0,Graphs!A75,\"\")","v":""},{"$f":"IF(H75=\"\",\"\",COUNTIF(DMA!B$5:B$503,Graphs!A75))","v":""},{"$f":"IF(H75=\"\",\"\",10^(-0.7083129+0.297*(SUMIF(DMA!B$5:B$503,Graphs!H75,DMA!D$5:D$503)/COUNTIF(DMA!B$5:B$503,Graphs!H75))))","v":""},{"$f":"IF(COUNTIF(DMA!R$5:R$503,Graphs!$A75)>0,Graphs!$A75,\"\")","v":""},{"$f":"IF(K75=\"\",\"\",COUNTIF(DMA!R$5:R$503,Graphs!A75))","v":""},{"$f":"IF(K75=\"\",\"\",(SUMIF(DMA!R$5:R$503,Graphs!A75,DMA!S$5:S$503)/COUNTIF(DMA!R$5:R$503,Graphs!A75)))","v":""},"",{"$f":"IF(COUNTIF(DMA!M$5:M$503,Graphs!$A75)>0,Graphs!$A75,\"\")","v":""},{"$f":"IF($O75=\"\",\"\",SUMIF(DMA!$M$5:$M$503,Graphs!$O75,DMA!N$5:N$503))","v":""},{"$f":"IF($O75=\"\",\"\",SUMIF(DMA!$M$5:$M$503,Graphs!$O75,DMA!O$5:O$503))","v":""},{"$f":"IF($O75=\"\",\"\",SUMIF(DMA!$M$5:$M$503,Graphs!$O75,DMA!P$5:P$503))","v":""},{"$f":"IF($O75=\"\",\"\",SUMIF(DMA!$M$5:$M$503,Graphs!$O75,DMA!Q$5:Q$503))","v":""},"",{"$f":"IF(O75=\"\",\"\",COUNTIF(DMA!M$5:M$503,Graphs!A75))","v":""},"","","","","","","",null,null,null,null,null,null,null,null,null,null,null,null,null,null,null,null,null,null,null,null,null,null,null,"","","",{"$f":"IF(P75=\"\",\"\",IF(P75=0,\"\",SQRT(SUMIF(DMA!$DJ$5:$DJ$503,Graphs!$O75,DMA!DK$5:DK$503))/COUNTIF(DMA!$DJ$5:$DJ$503,Graphs!$O75)))","v":""},{"$f":"IF(Q75=\"\",\"\",IF(Q75=0,\"\",SQRT(SUMIF(DMA!$DJ$5:$DJ$503,Graphs!$O75,DMA!DL$5:DL$503))/COUNTIF(DMA!$DJ$5:$DJ$503,Graphs!$O75)))","v":""},{"$f":"IF(R75=\"\",\"\",IF(R75=0,\"\",SQRT(SUMIF(DMA!$DJ$5:$DJ$503,Graphs!$O75,DMA!DM$5:DM$503))/COUNTIF(DMA!$DJ$5:$DJ$503,Graphs!$O75)))","v":""},{"$f":"IF($P75=\"\",\"\",IF(P75=0,\"\",AVERAGEIF(DMA!$M$5:$M$503,Graphs!$O75,DMA!N$5:N$503)))","v":""},{"$f":"IF($Q75=\"\",\"\",IF(Q75=0,\"\",AVERAGEIF(DMA!$M$5:$M$503,Graphs!$O75,DMA!O$5:O$503)))","v":""},{"$f":"IF($R75=\"\",\"\",IF(R75=0,\"\",AVERAGEIF(DMA!$M$5:$M$503,Graphs!$O75,DMA!P$5:P$503)))","v":""}]
[null,{"$f":"IF(A76=\"\",\"\",(SUMIF(DMA!$AO$5:$AO$604,$A76,DMA!$AQ$5:$AQ$603)/DMA!AQ$604))","v":""},{"$f":"IF(A76=\"\",\"\",(SUMIF(DMA!$CQ$5:$CQ$603,$A76,DMA!$CO$5:$CO$603))*0.01)","v":""},{"$f":"IF(B76=\"\",\"\",(SUMIF(DMA!$CQ$5:$CQ$603,$A76,DMA!$CP$5:$CP$603)))","v":""},{"$f":"IF(COUNTIF(DMA!I$5:I$503,Graphs!$A76)>0,Graphs!$A76,\"\")","v":""},{"$f":"IF(E76=\"\",\"\",COUNTIF(DMA!I$5:I$503,Graphs!E76))","v":""},{"$f":"IF(E76=\"\",\"\",SUMIF(DMA!I$5:I$503,Graphs!E76,DMA!J$5:J$503)/COUNTIF(DMA!I$5:I$503,Graphs!E76))","v":""},{"$f":"IF(SUMIF(DMA!B$5:B$503,Graphs!A76,DMA!D$5:D$503)>0,Graphs!A76,\"\")","v":""},{"$f":"IF(H76=\"\",\"\",COUNTIF(DMA!B$5:B$503,Graphs!A76))","v":""},{"$f":"IF(H76=\"\",\"\",10^(-0.7083129+0.297*(SUMIF(DMA!B$5:B$503,Graphs!H76,DMA!D$5:D$503)/COUNTIF(DMA!B$5:B$503,Graphs!H76))))","v":""},{"$f":"IF(COUNTIF(DMA!R$5:R$503,Graphs!$A76)>0,Graphs!$A76,\"\")","v":""},{"$f":"IF(K76=\"\",\"\",COUNTIF(DMA!R$5:R$503,Graphs!A76))","v":""},{"$f":"IF(K76=\"\",\"\",(SUMIF(DMA!R$5:R$503,Graphs!A76,DMA!S$5:S$503)/COUNTIF(DMA!R$5:R$503,Graphs!A76)))","v":""},"",{"$f":"IF(COUNTIF(DMA!M$5:M$503,Graphs!$A76)>0,Graphs!$A76,\"\")","v":""},{"$f":"IF($O76=\"\",\"\",SUMIF(DMA!$M$5:$M$503,Graphs!$O76,DMA!N$5:N$503))","v":""},{"$f":"IF($O76=\"\",\"\",SUMIF(DMA!$M$5:$M$503,Graphs!$O76,DMA!O$5:O$503))","v":""},{"$f":"IF($O76=\"\",\"\",SUMIF(DMA!$M$5:$M$503,Graphs!$O76,DMA!P$5:P$503))","v":""},{"$f":"IF($O76=\"\",\"\",SUMIF(DMA!$M$5:$M$503,Graphs!$O76,DMA!Q$5:Q$503))","v":""},"",{"$f":"IF(O76=\"\",\"\",COUNTIF(DMA!M$5:M$503,Graphs!A76))","v":""},"","","","","","","",null,null,null,null,null,null,null,null,null,null,null,null,null,null,null,null,null,null,null,null,null,null,null,"","","",{"$f":"IF(P76=\"\",\"\",IF(P76=0,\"\",SQRT(SUMIF(DMA!$DJ$5:$DJ$503,Graphs!$O76,DMA!DK$5:DK$503))/COUNTIF(DMA!$DJ$5:$DJ$503,Graphs!$O76)))","v":""},{"$f":"IF(Q76=\"\",\"\",IF(Q76=0,\"\",SQRT(SUMIF(DMA!$DJ$5:$DJ$503,Graphs!$O76,DMA!DL$5:DL$503))/COUNTIF(DMA!$DJ$5:$DJ$503,Graphs!$O76)))","v":""},{"$f":"IF(R76=\"\",\"\",IF(R76=0,\"\",SQRT(SUMIF(DMA!$DJ$5:$DJ$503,Graphs!$O76,DMA!DM$5:DM$503))/COUNTIF(DMA!$DJ$5:$DJ$503,Graphs!$O76)))","v":""},{"$f":"IF($P76=\"\",\"\",IF(P76=0,\"\",AVERAGEIF(DMA!$M$5:$M$503,Graphs!$O76,DMA!N$5:N$503)))","v":""},{"$f":"IF($Q76=\"\",\"\",IF(Q76=0,\"\",AVERAGEIF(DMA!$M$5:$M$503,Graphs!$O76,DMA!O$5:O$503)))","v":""},{"$f":"IF($R76=\"\",\"\",IF(R76=0,\"\",AVERAGEIF(DMA!$M$5:$M$503,Graphs!$O76,DMA!P$5:P$503)))","v":""}]
[null,{"$f":"IF(A77=\"\",\"\",(SUMIF(DMA!$AO$5:$AO$604,$A77,DMA!$AQ$5:$AQ$603)/DMA!AQ$604))","v":""},{"$f":"IF(A77=\"\",\"\",(SUMIF(DMA!$CQ$5:$CQ$603,$A77,DMA!$CO$5:$CO$603))*0.01)","v":""},{"$f":"IF(B77=\"\",\"\",(SUMIF(DMA!$CQ$5:$CQ$603,$A77,DMA!$CP$5:$CP$603)))","v":""},{"$f":"IF(COUNTIF(DMA!I$5:I$503,Graphs!$A77)>0,Graphs!$A77,\"\")","v":""},{"$f":"IF(E77=\"\",\"\",COUNTIF(DMA!I$5:I$503,Graphs!E77))","v":""},{"$f":"IF(E77=\"\",\"\",SUMIF(DMA!I$5:I$503,Graphs!E77,DMA!J$5:J$503)/COUNTIF(DMA!I$5:I$503,Graphs!E77))","v":""},{"$f":"IF(SUMIF(DMA!B$5:B$503,Graphs!A77,DMA!D$5:D$503)>0,Graphs!A77,\"\")","v":""},{"$f":"IF(H77=\"\",\"\",COUNTIF(DMA!B$5:B$503,Graphs!A77))","v":""},{"$f":"IF(H77=\"\",\"\",10^(-0.7083129+0.297*(SUMIF(DMA!B$5:B$503,Graphs!H77,DMA!D$5:D$503)/COUNTIF(DMA!B$5:B$503,Graphs!H77))))","v":""},{"$f":"IF(COUNTIF(DMA!R$5:R$503,Graphs!$A77)>0,Graphs!$A77,\"\")","v":""},{"$f":"IF(K77=\"\",\"\",COUNTIF(DMA!R$5:R$503,Graphs!A77))","v":""},{"$f":"IF(K77=\"\",\"\",(SUMIF(DMA!R$5:R$503,Graphs!A77,DMA!S$5:S$503)/COUNTIF(DMA!R$5:R$503,Graphs!A77)))","v":""},"",{"$f":"IF(COUNTIF(DMA!M$5:M$503,Graphs!$A77)>0,Graphs!$A77,\"\")","v":""},{"$f":"IF($O77=\"\",\"\",SUMIF(DMA!$M$5:$M$503,Graphs!$O77,DMA!N$5:N$503))","v":""},{"$f":"IF($O77=\"\",\"\",SUMIF(DMA!$M$5:$M$503,Graphs!$O77,DMA!O$5:O$503))","v":""},{"$f":"IF($O77=\"\",\"\",SUMIF(DMA!$M$5:$M$503,Graphs!$O77,DMA!P$5:P$503))","v":""},{"$f":"IF($O77=\"\",\"\",SUMIF(DMA!$M$5:$M$503,Graphs!$O77,DMA!Q$5:Q$503))","v":""},"",{"$f":"IF(O77=\"\",\"\",COUNTIF(DMA!M$5:M$503,Graphs!A77))","v":""},"","","","","","","",null,null,null,null,null,null,null,null,null,null,null,null,null,null,null,null,null,null,null,null,null,null,null,"","","",{"$f":"IF(P77=\"\",\"\",IF(P77=0,\"\",SQRT(SUMIF(DMA!$DJ$5:$DJ$503,Graphs!$O77,DMA!DK$5:DK$503))/COUNTIF(DMA!$DJ$5:$DJ$503,Graphs!$O77)))","v":""},{"$f":"IF(Q77=\"\",\"\",IF(Q77=0,\"\",SQRT(SUMIF(DMA!$DJ$5:$DJ$503,Graphs!$O77,DMA!DL$5:DL$503))/COUNTIF(DMA!$DJ$5:$DJ$503,Graphs!$O77)))","v":""},{"$f":"IF(R77=\"\",\"\",IF(R77=0,\"\",SQRT(SUMIF(DMA!$DJ$5:$DJ$503,Graphs!$O77,DMA!DM$5:DM$503))/COUNTIF(DMA!$DJ$5:$DJ$503,Graphs!$O77)))","v":""},{"$f":"IF($P77=\"\",\"\",IF(P77=0,\"\",AVERAGEIF(DMA!$M$5:$M$503,Graphs!$O77,DMA!N$5:N$503)))","v":""},{"$f":"IF($Q77=\"\",\"\",IF(Q77=0,\"\",AVERAGEIF(DMA!$M$5:$M$503,Graphs!$O77,DMA!O$5:O$503)))","v":""},{"$f":"IF($R77=\"\",\"\",IF(R77=0,\"\",AVERAGEIF(DMA!$M$5:$M$503,Graphs!$O77,DMA!P$5:P$503)))","v":""}]
[null,{"$f":"IF(A78=\"\",\"\",(SUMIF(DMA!$AO$5:$AO$604,$A78,DMA!$AQ$5:$AQ$603)/DMA!AQ$604))","v":""},{"$f":"IF(A78=\"\",\"\",(SUMIF(DMA!$CQ$5:$CQ$603,$A78,DMA!$CO$5:$CO$603))*0.01)","v":""},{"$f":"IF(B78=\"\",\"\",(SUMIF(DMA!$CQ$5:$CQ$603,$A78,DMA!$CP$5:$CP$603)))","v":""},{"$f":"IF(COUNTIF(DMA!I$5:I$503,Graphs!$A78)>0,Graphs!$A78,\"\")","v":""},{"$f":"IF(E78=\"\",\"\",COUNTIF(DMA!I$5:I$503,Graphs!E78))","v":""},{"$f":"IF(E78=\"\",\"\",SUMIF(DMA!I$5:I$503,Graphs!E78,DMA!J$5:J$503)/COUNTIF(DMA!I$5:I$503,Graphs!E78))","v":""},{"$f":"IF(SUMIF(DMA!B$5:B$503,Graphs!A78,DMA!D$5:D$503)>0,Graphs!A78,\"\")","v":""},{"$f":"IF(H78=\"\",\"\",COUNTIF(DMA!B$5:B$503,Graphs!A78))","v":""},{"$f":"IF(H78=\"\",\"\",10^(-0.7083129+0.297*(SUMIF(DMA!B$5:B$503,Graphs!H78,DMA!D$5:D$503)/COUNTIF(DMA!B$5:B$503,Graphs!H78))))","v":""},{"$f":"IF(COUNTIF(DMA!R$5:R$503,Graphs!$A78)>0,Graphs!$A78,\"\")","v":""},{"$f":"IF(K78=\"\",\"\",COUNTIF(DMA!R$5:R$503,Graphs!A78))","v":""},{"$f":"IF(K78=\"\",\"\",(SUMIF(DMA!R$5:R$503,Graphs!A78,DMA!S$5:S$503)/COUNTIF(DMA!R$5:R$503,Graphs!A78)))","v":""},{"$f":"IF(SUM(I78,L78,T78)=0,\"\",SUM(I78,L78,T78))","v":""},{"$f":"IF(COUNTIF(DMA!M$5:M$503,Graphs!$A78)>0,Graphs!$A78,\"\")","v":""},{"$f":"IF($O78=\"\",\"\",SUMIF(DMA!$M$5:$M$503,Graphs!$O78,DMA!N$5:N$503))","v":""},{"$f":"IF($O78=\"\",\"\",SUMIF(DMA!$M$5:$M$503,Graphs!$O78,DMA!O$5:O$503))","v":""},{"$f":"IF($O78=\"\",\"\",SUMIF(DMA!$M$5:$M$503,Graphs!$O78,DMA!P$5:P$503))","v":""},{"$f":"IF($O78=\"\",\"\",SUMIF(DMA!$M$5:$M$503,Graphs!$O78,DMA!Q$5:Q$503))","v":""},{"$f":"IF(O78=\"\",\"\",SUM(P78:S78))","v":""},{"$f":"IF(O78=\"\",\"\",COUNTIF(DMA!M$5:M$503,Graphs!A78))","v":""},{"$f":"IF(O78=\"\",\"\",T78/U78)","v":""},{"$f":"IF(AZ78=\"\",\"\",IF(P78=0,\"\",(AZ78/BF78)))","v":""},{"$f":"IF(BA78=\"\",\"\",IF(Q78=0,\"\",(BA78/BG78)))","v":""},{"$f":"IF(BB78=\"\",\"\",IF(R78=0,\"\",(BB78/BH78)))","v":""},{"$f":"IF(BF78=\"\",\"\",IF(BF78=0,\"\",BF78*BM78*6*1.8))","v":""},{"$f":"IF(BG78=\"\",\"\",IF(BG78=0,\"\",BG78*BN78*6*1.5))","v":""},{"$f":"IF(BH78=\"\",\"\",IF(BH78=0,\"\",BH78*BO78*6*0.5))","v":""},null,null,null,null,null,null,null,null,null,null,null,null,null,null,null,null,null,null,null,null,null,null,null,"","","",{"$f":"IF(P78=\"\",\"\",IF(P78=0,\"\",SQRT(SUMIF(DMA!$DJ$5:$DJ$503,Graphs!$O78,DMA!DK$5:DK$503))/COUNTIF(DMA!$DJ$5:$DJ$503,Graphs!$O78)))","v":""},{"$f":"IF(Q78=\"\",\"\",IF(Q78=0,\"\",SQRT(SUMIF(DMA!$DJ$5:$DJ$503,Graphs!$O78,DMA!DL$5:DL$503))/COUNTIF(DMA!$DJ$5:$DJ$503,Graphs!$O78)))","v":""},{"$f":"IF(R78=\"\",\"\",IF(R78=0,\"\",SQRT(SUMIF(DMA!$DJ$5:$DJ$503,Graphs!$O78,DMA!DM$5:DM$503))/COUNTIF(DMA!$DJ$5:$DJ$503,Graphs!$O78)))","v":""},{"$f":"IF($P78=\"\",\"\",IF(P78=0,\"\",AVERAGEIF(DMA!$M$5:$M$503,Graphs!$O78,DMA!N$5:N$503)))","v":""},{"$f":"IF($Q78=\"\",\"\",IF(Q78=0,\"\",AVERAGEIF(DMA!$M$5:$M$503,Graphs!$O78,DMA!O$5:O$503)))","v":""},{"$f":"IF($R78=\"\",\"\",IF(R78=0,\"\",AVERAGEIF(DMA!$M$5:$M$503,Graphs!$O78,DMA!P$5:P$503)))","v":""}]
[null,{"$f":"IF(A79=\"\",\"\",(SUMIF(DMA!$AO$5:$AO$604,$A79,DMA!$AQ$5:$AQ$603)/DMA!AQ$604))","v":""},{"$f":"IF(A79=\"\",\"\",(SUMIF(DMA!$CQ$5:$CQ$603,$A79,DMA!$CO$5:$CO$603))*0.01)","v":""},{"$f":"IF(B79=\"\",\"\",(SUMIF(DMA!$CQ$5:$CQ$603,$A79,DMA!$CP$5:$CP$603)))","v":""},{"$f":"IF(COUNTIF(DMA!I$5:I$503,Graphs!$A79)>0,Graphs!$A79,\"\")","v":""},{"$f":"IF(E79=\"\",\"\",COUNTIF(DMA!I$5:I$503,Graphs!E79))","v":""},{"$f":"IF(E79=\"\",\"\",SUMIF(DMA!I$5:I$503,Graphs!E79,DMA!J$5:J$503)/COUNTIF(DMA!I$5:I$503,Graphs!E79))","v":""},{"$f":"IF(SUMIF(DMA!B$5:B$503,Graphs!A79,DMA!D$5:D$503)>0,Graphs!A79,\"\")","v":""},{"$f":"IF(H79=\"\",\"\",COUNTIF(DMA!B$5:B$503,Graphs!A79))","v":""},{"$f":"IF(H79=\"\",\"\",10^(-0.7083129+0.297*(SUMIF(DMA!B$5:B$503,Graphs!H79,DMA!D$5:D$503)/COUNTIF(DMA!B$5:B$503,Graphs!H79))))","v":""},{"$f":"IF(COUNTIF(DMA!R$5:R$503,Graphs!$A79)>0,Graphs!$A79,\"\")","v":""},{"$f":"IF(K79=\"\",\"\",COUNTIF(DMA!R$5:R$503,Graphs!A79))","v":""},{"$f":"IF(K79=\"\",\"\",(SUMIF(DMA!R$5:R$503,Graphs!A79,DMA!S$5:S$503)/COUNTIF(DMA!R$5:R$503,Graphs!A79)))","v":""},"",{"$f":"IF(COUNTIF(DMA!M$5:M$503,Graphs!$A79)>0,Graphs!$A79,\"\")","v":""},{"$f":"IF($O79=\"\",\"\",SUMIF(DMA!$M$5:$M$503,Graphs!$O79,DMA!N$5:N$503))","v":""},{"$f":"IF($O79=\"\",\"\",SUMIF(DMA!$M$5:$M$503,Graphs!$O79,DMA!O$5:O$503))","v":""},{"$f":"IF($O79=\"\",\"\",SUMIF(DMA!$M$5:$M$503,Graphs!$O79,DMA!P$5:P$503))","v":""},{"$f":"IF($O79=\"\",\"\",SUMIF(DMA!$M$5:$M$503,Graphs!$O79,DMA!Q$5:Q$503))","v":""},"",{"$f":"IF(O79=\"\",\"\",COUNTIF(DMA!M$5:M$503,Graphs!A79))","v":""},"","","","","","","",null,null,null,null,null,null,null,null,null,null,null,null,null,null,null,null,null,null,null,null,null,null,null,"","","",{"$f":"IF(P79=\"\",\"\",IF(P79=0,\"\",SQRT(SUMIF(DMA!$DJ$5:$DJ$503,Graphs!$O79,DMA!DK$5:DK$503))/COUNTIF(DMA!$DJ$5:$DJ$503,Graphs!$O79)))","v":""},{"$f":"IF(Q79=\"\",\"\",IF(Q79=0,\"\",SQRT(SUMIF(DMA!$DJ$5:$DJ$503,Graphs!$O79,DMA!DL$5:DL$503))/COUNTIF(DMA!$DJ$5:$DJ$503,Graphs!$O79)))","v":""},{"$f":"IF(R79=\"\",\"\",IF(R79=0,\"\",SQRT(SUMIF(DMA!$DJ$5:$DJ$503,Graphs!$O79,DMA!DM$5:DM$503))/COUNTIF(DMA!$DJ$5:$DJ$503,Graphs!$O79)))","v":""},{"$f":"IF($P79=\"\",\"\",IF(P79=0,\"\",AVERAGEIF(DMA!$M$5:$M$503,Graphs!$O79,DMA!N$5:N$503)))","v":""},{"$f":"IF($Q79=\"\",\"\",IF(Q79=0,\"\",AVERAGEIF(DMA!$M$5:$M$503,Graphs!$O79,DMA!O$5:O$503)))","v":""},{"$f":"IF($R79=\"\",\"\",IF(R79=0,\"\",AVERAGEIF(DMA!$M$5:$M$503,Graphs!$O79,DMA!P$5:P$503)))","v":""}]
[null,{"$f":"IF(A80=\"\",\"\",(SUMIF(DMA!$AO$5:$AO$604,$A80,DMA!$AQ$5:$AQ$603)/DMA!AQ$604))","v":""},{"$f":"IF(A80=\"\",\"\",(SUMIF(DMA!$CQ$5:$CQ$603,$A80,DMA!$CO$5:$CO$603))*0.01)","v":""},{"$f":"IF(B80=\"\",\"\",(SUMIF(DMA!$CQ$5:$CQ$603,$A80,DMA!$CP$5:$CP$603)))","v":""},{"$f":"IF(COUNTIF(DMA!I$5:I$503,Graphs!$A80)>0,Graphs!$A80,\"\")","v":""},{"$f":"IF(E80=\"\",\"\",COUNTIF(DMA!I$5:I$503,Graphs!E80))","v":""},{"$f":"IF(E80=\"\",\"\",SUMIF(DMA!I$5:I$503,Graphs!E80,DMA!J$5:J$503)/COUNTIF(DMA!I$5:I$503,Graphs!E80))","v":""},{"$f":"IF(SUMIF(DMA!B$5:B$503,Graphs!A80,DMA!D$5:D$503)>0,Graphs!A80,\"\")","v":""},{"$f":"IF(H80=\"\",\"\",COUNTIF(DMA!B$5:B$503,Graphs!A80))","v":""},{"$f":"IF(H80=\"\",\"\",10^(-0.7083129+0.297*(SUMIF(DMA!B$5:B$503,Graphs!H80,DMA!D$5:D$503)/COUNTIF(DMA!B$5:B$503,Graphs!H80))))","v":""},{"$f":"IF(COUNTIF(DMA!R$5:R$503,Graphs!$A80)>0,Graphs!$A80,\"\")","v":""},{"$f":"IF(K80=\"\",\"\",COUNTIF(DMA!R$5:R$503,Graphs!A80))","v":""},{"$f":"IF(K80=\"\",\"\",(SUMIF(DMA!R$5:R$503,Graphs!A80,DMA!S$5:S$503)/COUNTIF(DMA!R$5:R$503,Graphs!A80)))","v":""},"",{"$f":"IF(COUNTIF(DMA!M$5:M$503,Graphs!$A80)>0,Graphs!$A80,\"\")","v":""},{"$f":"IF($O80=\"\",\"\",SUMIF(DMA!$M$5:$M$503,Graphs!$O80,DMA!N$5:N$503))","v":""},{"$f":"IF($O80=\"\",\"\",SUMIF(DMA!$M$5:$M$503,Graphs!$O80,DMA!O$5:O$503))","v":""},{"$f":"IF($O80=\"\",\"\",SUMIF(DMA!$M$5:$M$503,Graphs!$O80,DMA!P$5:P$503))","v":""},{"$f":"IF($O80=\"\",\"\",SUMIF(DMA!$M$5:$M$503,Graphs!$O80,DMA!Q$5:Q$503))","v":""},"",{"$f":"IF(O80=\"\",\"\",COUNTIF(DMA!M$5:M$503,Graphs!A80))","v":""},"","","","","","","",null,null,null,null,null,null,null,null,null,null,null,null,null,null,null,null,null,null,null,null,null,null,null,"","","",{"$f":"IF(P80=\"\",\"\",IF(P80=0,\"\",SQRT(SUMIF(DMA!$DJ$5:$DJ$503,Graphs!$O80,DMA!DK$5:DK$503))/COUNTIF(DMA!$DJ$5:$DJ$503,Graphs!$O80)))","v":""},{"$f":"IF(Q80=\"\",\"\",IF(Q80=0,\"\",SQRT(SUMIF(DMA!$DJ$5:$DJ$503,Graphs!$O80,DMA!DL$5:DL$503))/COUNTIF(DMA!$DJ$5:$DJ$503,Graphs!$O80)))","v":""},{"$f":"IF(R80=\"\",\"\",IF(R80=0,\"\",SQRT(SUMIF(DMA!$DJ$5:$DJ$503,Graphs!$O80,DMA!DM$5:DM$503))/COUNTIF(DMA!$DJ$5:$DJ$503,Graphs!$O80)))","v":""},{"$f":"IF($P80=\"\",\"\",IF(P80=0,\"\",AVERAGEIF(DMA!$M$5:$M$503,Graphs!$O80,DMA!N$5:N$503)))","v":""},{"$f":"IF($Q80=\"\",\"\",IF(Q80=0,\"\",AVERAGEIF(DMA!$M$5:$M$503,Graphs!$O80,DMA!O$5:O$503)))","v":""},{"$f":"IF($R80=\"\",\"\",IF(R80=0,\"\",AVERAGEIF(DMA!$M$5:$M$503,Graphs!$O80,DMA!P$5:P$503)))","v":""}]
[null,{"$f":"IF(A81=\"\",\"\",(SUMIF(DMA!$AO$5:$AO$604,$A81,DMA!$AQ$5:$AQ$603)/DMA!AQ$604))","v":""},{"$f":"IF(A81=\"\",\"\",(SUMIF(DMA!$CQ$5:$CQ$603,$A81,DMA!$CO$5:$CO$603))*0.01)","v":""},{"$f":"IF(B81=\"\",\"\",(SUMIF(DMA!$CQ$5:$CQ$603,$A81,DMA!$CP$5:$CP$603)))","v":""},{"$f":"IF(COUNTIF(DMA!I$5:I$503,Graphs!$A81)>0,Graphs!$A81,\"\")","v":""},{"$f":"IF(E81=\"\",\"\",COUNTIF(DMA!I$5:I$503,Graphs!E81))","v":""},{"$f":"IF(E81=\"\",\"\",SUMIF(DMA!I$5:I$503,Graphs!E81,DMA!J$5:J$503)/COUNTIF(DMA!I$5:I$503,Graphs!E81))","v":""},{"$f":"IF(SUMIF(DMA!B$5:B$503,Graphs!A81,DMA!D$5:D$503)>0,Graphs!A81,\"\")","v":""},{"$f":"IF(H81=\"\",\"\",COUNTIF(DMA!B$5:B$503,Graphs!A81))","v":""},{"$f":"IF(H81=\"\",\"\",10^(-0.7083129+0.297*(SUMIF(DMA!B$5:B$503,Graphs!H81,DMA!D$5:D$503)/COUNTIF(DMA!B$5:B$503,Graphs!H81))))","v":""},{"$f":"IF(COUNTIF(DMA!R$5:R$503,Graphs!$A81)>0,Graphs!$A81,\"\")","v":""},{"$f":"IF(K81=\"\",\"\",COUNTIF(DMA!R$5:R$503,Graphs!A81))","v":""},{"$f":"IF(K81=\"\",\"\",(SUMIF(DMA!R$5:R$503,Graphs!A81,DMA!S$5:S$503)/COUNTIF(DMA!R$5:R$503,Graphs!A81)))","v":""},"",{"$f":"IF(COUNTIF(DMA!M$5:M$503,Graphs!$A81)>0,Graphs!$A81,\"\")","v":""},{"$f":"IF($O81=\"\",\"\",SUMIF(DMA!$M$5:$M$503,Graphs!$O81,DMA!N$5:N$503))","v":""},{"$f":"IF($O81=\"\",\"\",SUMIF(DMA!$M$5:$M$503,Graphs!$O81,DMA!O$5:O$503))","v":""},{"$f":"IF($O81=\"\",\"\",SUMIF(DMA!$M$5:$M$503,Graphs!$O81,DMA!P$5:P$503))","v":""},{"$f":"IF($O81=\"\",\"\",SUMIF(DMA!$M$5:$M$503,Graphs!$O81,DMA!Q$5:Q$503))","v":""},"",{"$f":"IF(O81=\"\",\"\",COUNTIF(DMA!M$5:M$503,Graphs!A81))","v":""},"","","","","","","",null,null,null,null,null,null,null,null,null,null,null,null,null,null,null,null,null,null,null,null,null,null,null,"","","",{"$f":"IF(P81=\"\",\"\",IF(P81=0,\"\",SQRT(SUMIF(DMA!$DJ$5:$DJ$503,Graphs!$O81,DMA!DK$5:DK$503))/COUNTIF(DMA!$DJ$5:$DJ$503,Graphs!$O81)))","v":""},{"$f":"IF(Q81=\"\",\"\",IF(Q81=0,\"\",SQRT(SUMIF(DMA!$DJ$5:$DJ$503,Graphs!$O81,DMA!DL$5:DL$503))/COUNTIF(DMA!$DJ$5:$DJ$503,Graphs!$O81)))","v":""},{"$f":"IF(R81=\"\",\"\",IF(R81=0,\"\",SQRT(SUMIF(DMA!$DJ$5:$DJ$503,Graphs!$O81,DMA!DM$5:DM$503))/COUNTIF(DMA!$DJ$5:$DJ$503,Graphs!$O81)))","v":""},{"$f":"IF($P81=\"\",\"\",IF(P81=0,\"\",AVERAGEIF(DMA!$M$5:$M$503,Graphs!$O81,DMA!N$5:N$503)))","v":""},{"$f":"IF($Q81=\"\",\"\",IF(Q81=0,\"\",AVERAGEIF(DMA!$M$5:$M$503,Graphs!$O81,DMA!O$5:O$503)))","v":""},{"$f":"IF($R81=\"\",\"\",IF(R81=0,\"\",AVERAGEIF(DMA!$M$5:$M$503,Graphs!$O81,DMA!P$5:P$503)))","v":""}]
[null,{"$f":"IF(A82=\"\",\"\",(SUMIF(DMA!$AO$5:$AO$604,$A82,DMA!$AQ$5:$AQ$603)/DMA!AQ$604))","v":""},{"$f":"IF(A82=\"\",\"\",(SUMIF(DMA!$CQ$5:$CQ$603,$A82,DMA!$CO$5:$CO$603))*0.01)","v":""},{"$f":"IF(B82=\"\",\"\",(SUMIF(DMA!$CQ$5:$CQ$603,$A82,DMA!$CP$5:$CP$603)))","v":""},{"$f":"IF(COUNTIF(DMA!I$5:I$503,Graphs!$A82)>0,Graphs!$A82,\"\")","v":""},{"$f":"IF(E82=\"\",\"\",COUNTIF(DMA!I$5:I$503,Graphs!E82))","v":""},{"$f":"IF(E82=\"\",\"\",SUMIF(DMA!I$5:I$503,Graphs!E82,DMA!J$5:J$503)/COUNTIF(DMA!I$5:I$503,Graphs!E82))","v":""},{"$f":"IF(SUMIF(DMA!B$5:B$503,Graphs!A82,DMA!D$5:D$503)>0,Graphs!A82,\"\")","v":""},{"$f":"IF(H82=\"\",\"\",COUNTIF(DMA!B$5:B$503,Graphs!A82))","v":""},{"$f":"IF(H82=\"\",\"\",10^(-0.7083129+0.297*(SUMIF(DMA!B$5:B$503,Graphs!H82,DMA!D$5:D$503)/COUNTIF(DMA!B$5:B$503,Graphs!H82))))","v":""},{"$f":"IF(COUNTIF(DMA!R$5:R$503,Graphs!$A82)>0,Graphs!$A82,\"\")","v":""},{"$f":"IF(K82=\"\",\"\",COUNTIF(DMA!R$5:R$503,Graphs!A82))","v":""},{"$f":"IF(K82=\"\",\"\",(SUMIF(DMA!R$5:R$503,Graphs!A82,DMA!S$5:S$503)/COUNTIF(DMA!R$5:R$503,Graphs!A82)))","v":""},"",{"$f":"IF(COUNTIF(DMA!M$5:M$503,Graphs!$A82)>0,Graphs!$A82,\"\")","v":""},{"$f":"IF($O82=\"\",\"\",SUMIF(DMA!$M$5:$M$503,Graphs!$O82,DMA!N$5:N$503))","v":""},{"$f":"IF($O82=\"\",\"\",SUMIF(DMA!$M$5:$M$503,Graphs!$O82,DMA!O$5:O$503))","v":""},{"$f":"IF($O82=\"\",\"\",SUMIF(DMA!$M$5:$M$503,Graphs!$O82,DMA!P$5:P$503))","v":""},{"$f":"IF($O82=\"\",\"\",SUMIF(DMA!$M$5:$M$503,Graphs!$O82,DMA!Q$5:Q$503))","v":""},"",{"$f":"IF(O82=\"\",\"\",COUNTIF(DMA!M$5:M$503,Graphs!A82))","v":""},"","","","","","","",null,null,null,null,null,null,null,null,null,null,null,null,null,null,null,null,null,null,null,null,null,null,null,"","","",{"$f":"IF(P82=\"\",\"\",IF(P82=0,\"\",SQRT(SUMIF(DMA!$DJ$5:$DJ$503,Graphs!$O82,DMA!DK$5:DK$503))/COUNTIF(DMA!$DJ$5:$DJ$503,Graphs!$O82)))","v":""},{"$f":"IF(Q82=\"\",\"\",IF(Q82=0,\"\",SQRT(SUMIF(DMA!$DJ$5:$DJ$503,Graphs!$O82,DMA!DL$5:DL$503))/COUNTIF(DMA!$DJ$5:$DJ$503,Graphs!$O82)))","v":""},{"$f":"IF(R82=\"\",\"\",IF(R82=0,\"\",SQRT(SUMIF(DMA!$DJ$5:$DJ$503,Graphs!$O82,DMA!DM$5:DM$503))/COUNTIF(DMA!$DJ$5:$DJ$503,Graphs!$O82)))","v":""},{"$f":"IF($P82=\"\",\"\",IF(P82=0,\"\",AVERAGEIF(DMA!$M$5:$M$503,Graphs!$O82,DMA!N$5:N$503)))","v":""},{"$f":"IF($Q82=\"\",\"\",IF(Q82=0,\"\",AVERAGEIF(DMA!$M$5:$M$503,Graphs!$O82,DMA!O$5:O$503)))","v":""},{"$f":"IF($R82=\"\",\"\",IF(R82=0,\"\",AVERAGEIF(DMA!$M$5:$M$503,Graphs!$O82,DMA!P$5:P$503)))","v":""}]
[null,{"$f":"IF(A83=\"\",\"\",(SUMIF(DMA!$AO$5:$AO$604,$A83,DMA!$AQ$5:$AQ$603)/DMA!AQ$604))","v":""},{"$f":"IF(A83=\"\",\"\",(SUMIF(DMA!$CQ$5:$CQ$603,$A83,DMA!$CO$5:$CO$603))*0.01)","v":""},{"$f":"IF(B83=\"\",\"\",(SUMIF(DMA!$CQ$5:$CQ$603,$A83,DMA!$CP$5:$CP$603)))","v":""},{"$f":"IF(COUNTIF(DMA!I$5:I$503,Graphs!$A83)>0,Graphs!$A83,\"\")","v":""},{"$f":"IF(E83=\"\",\"\",COUNTIF(DMA!I$5:I$503,Graphs!E83))","v":""},{"$f":"IF(E83=\"\",\"\",SUMIF(DMA!I$5:I$503,Graphs!E83,DMA!J$5:J$503)/COUNTIF(DMA!I$5:I$503,Graphs!E83))","v":""},{"$f":"IF(SUMIF(DMA!B$5:B$503,Graphs!A83,DMA!D$5:D$503)>0,Graphs!A83,\"\")","v":""},{"$f":"IF(H83=\"\",\"\",COUNTIF(DMA!B$5:B$503,Graphs!A83))","v":""},{"$f":"IF(H83=\"\",\"\",10^(-0.7083129+0.297*(SUMIF(DMA!B$5:B$503,Graphs!H83,DMA!D$5:D$503)/COUNTIF(DMA!B$5:B$503,Graphs!H83))))","v":""},{"$f":"IF(COUNTIF(DMA!R$5:R$503,Graphs!$A83)>0,Graphs!$A83,\"\")","v":""},{"$f":"IF(K83=\"\",\"\",COUNTIF(DMA!R$5:R$503,Graphs!A83))","v":""},{"$f":"IF(K83=\"\",\"\",(SUMIF(DMA!R$5:R$503,Graphs!A83,DMA!S$5:S$503)/COUNTIF(DMA!R$5:R$503,Graphs!A83)))","v":""},"",{"$f":"IF(COUNTIF(DMA!M$5:M$503,Graphs!$A83)>0,Graphs!$A83,\"\")","v":""},{"$f":"IF($O83=\"\",\"\",SUMIF(DMA!$M$5:$M$503,Graphs!$O83,DMA!N$5:N$503))","v":""},{"$f":"IF($O83=\"\",\"\",SUMIF(DMA!$M$5:$M$503,Graphs!$O83,DMA!O$5:O$503))","v":""},{"$f":"IF($O83=\"\",\"\",SUMIF(DMA!$M$5:$M$503,Graphs!$O83,DMA!P$5:P$503))","v":""},{"$f":"IF($O83=\"\",\"\",SUMIF(DMA!$M$5:$M$503,Graphs!$O83,DMA!Q$5:Q$503))","v":""},"",{"$f":"IF(O83=\"\",\"\",COUNTIF(DMA!M$5:M$503,Graphs!A83))","v":""},"","","","","","","",null,null,null,null,null,null,null,null,null,null,null,null,null,null,null,null,null,null,null,null,null,null,null,"","","",{"$f":"IF(P83=\"\",\"\",IF(P83=0,\"\",SQRT(SUMIF(DMA!$DJ$5:$DJ$503,Graphs!$O83,DMA!DK$5:DK$503))/COUNTIF(DMA!$DJ$5:$DJ$503,Graphs!$O83)))","v":""},{"$f":"IF(Q83=\"\",\"\",IF(Q83=0,\"\",SQRT(SUMIF(DMA!$DJ$5:$DJ$503,Graphs!$O83,DMA!DL$5:DL$503))/COUNTIF(DMA!$DJ$5:$DJ$503,Graphs!$O83)))","v":""},{"$f":"IF(R83=\"\",\"\",IF(R83=0,\"\",SQRT(SUMIF(DMA!$DJ$5:$DJ$503,Graphs!$O83,DMA!DM$5:DM$503))/COUNTIF(DMA!$DJ$5:$DJ$503,Graphs!$O83)))","v":""},{"$f":"IF($P83=\"\",\"\",IF(P83=0,\"\",AVERAGEIF(DMA!$M$5:$M$503,Graphs!$O83,DMA!N$5:N$503)))","v":""},{"$f":"IF($Q83=\"\",\"\",IF(Q83=0,\"\",AVERAGEIF(DMA!$M$5:$M$503,Graphs!$O83,DMA!O$5:O$503)))","v":""},{"$f":"IF($R83=\"\",\"\",IF(R83=0,\"\",AVERAGEIF(DMA!$M$5:$M$503,Graphs!$O83,DMA!P$5:P$503)))","v":""}]
[null,{"$f":"IF(A84=\"\",\"\",(SUMIF(DMA!$AO$5:$AO$604,$A84,DMA!$AQ$5:$AQ$603)/DMA!AQ$604))","v":""},{"$f":"IF(A84=\"\",\"\",(SUMIF(DMA!$CQ$5:$CQ$603,$A84,DMA!$CO$5:$CO$603))*0.01)","v":""},{"$f":"IF(B84=\"\",\"\",(SUMIF(DMA!$CQ$5:$CQ$603,$A84,DMA!$CP$5:$CP$603)))","v":""},{"$f":"IF(COUNTIF(DMA!I$5:I$503,Graphs!$A84)>0,Graphs!$A84,\"\")","v":""},{"$f":"IF(E84=\"\",\"\",COUNTIF(DMA!I$5:I$503,Graphs!E84))","v":""},{"$f":"IF(E84=\"\",\"\",SUMIF(DMA!I$5:I$503,Graphs!E84,DMA!J$5:J$503)/COUNTIF(DMA!I$5:I$503,Graphs!E84))","v":""},{"$f":"IF(SUMIF(DMA!B$5:B$503,Graphs!A84,DMA!D$5:D$503)>0,Graphs!A84,\"\")","v":""},{"$f":"IF(H84=\"\",\"\",COUNTIF(DMA!B$5:B$503,Graphs!A84))","v":""},{"$f":"IF(H84=\"\",\"\",10^(-0.7083129+0.297*(SUMIF(DMA!B$5:B$503,Graphs!H84,DMA!D$5:D$503)/COUNTIF(DMA!B$5:B$503,Graphs!H84))))","v":""},{"$f":"IF(COUNTIF(DMA!R$5:R$503,Graphs!$A84)>0,Graphs!$A84,\"\")","v":""},{"$f":"IF(K84=\"\",\"\",COUNTIF(DMA!R$5:R$503,Graphs!A84))","v":""},{"$f":"IF(K84=\"\",\"\",(SUMIF(DMA!R$5:R$503,Graphs!A84,DMA!S$5:S$503)/COUNTIF(DMA!R$5:R$503,Graphs!A84)))","v":""},"",{"$f":"IF(COUNTIF(DMA!M$5:M$503,Graphs!$A84)>0,Graphs!$A84,\"\")","v":""},{"$f":"IF($O84=\"\",\"\",SUMIF(DMA!$M$5:$M$503,Graphs!$O84,DMA!N$5:N$503))","v":""},{"$f":"IF($O84=\"\",\"\",SUMIF(DMA!$M$5:$M$503,Graphs!$O84,DMA!O$5:O$503))","v":""},{"$f":"IF($O84=\"\",\"\",SUMIF(DMA!$M$5:$M$503,Graphs!$O84,DMA!P$5:P$503))","v":""},{"$f":"IF($O84=\"\",\"\",SUMIF(DMA!$M$5:$M$503,Graphs!$O84,DMA!Q$5:Q$503))","v":""},"",{"$f":"IF(O84=\"\",\"\",COUNTIF(DMA!M$5:M$503,Graphs!A84))","v":""},"","","","","","","",null,null,null,null,null,null,null,null,null,null,null,null,null,null,null,null,null,null,null,null,null,null,null,"","","",{"$f":"IF(P84=\"\",\"\",IF(P84=0,\"\",SQRT(SUMIF(DMA!$DJ$5:$DJ$503,Graphs!$O84,DMA!DK$5:DK$503))/COUNTIF(DMA!$DJ$5:$DJ$503,Graphs!$O84)))","v":""},{"$f":"IF(Q84=\"\",\"\",IF(Q84=0,\"\",SQRT(SUMIF(DMA!$DJ$5:$DJ$503,Graphs!$O84,DMA!DL$5:DL$503))/COUNTIF(DMA!$DJ$5:$DJ$503,Graphs!$O84)))","v":""},{"$f":"IF(R84=\"\",\"\",IF(R84=0,\"\",SQRT(SUMIF(DMA!$DJ$5:$DJ$503,Graphs!$O84,DMA!DM$5:DM$503))/COUNTIF(DMA!$DJ$5:$DJ$503,Graphs!$O84)))","v":""},{"$f":"IF($P84=\"\",\"\",IF(P84=0,\"\",AVERAGEIF(DMA!$M$5:$M$503,Graphs!$O84,DMA!N$5:N$503)))","v":""},{"$f":"IF($Q84=\"\",\"\",IF(Q84=0,\"\",AVERAGEIF(DMA!$M$5:$M$503,Graphs!$O84,DMA!O$5:O$503)))","v":""},{"$f":"IF($R84=\"\",\"\",IF(R84=0,\"\",AVERAGEIF(DMA!$M$5:$M$503,Graphs!$O84,DMA!P$5:P$503)))","v":""}]
[null,{"$f":"IF(A85=\"\",\"\",(SUMIF(DMA!$AO$5:$AO$604,$A85,DMA!$AQ$5:$AQ$603)/DMA!AQ$604))","v":""},{"$f":"IF(A85=\"\",\"\",(SUMIF(DMA!$CQ$5:$CQ$603,$A85,DMA!$CO$5:$CO$603))*0.01)","v":""},{"$f":"IF(B85=\"\",\"\",(SUMIF(DMA!$CQ$5:$CQ$603,$A85,DMA!$CP$5:$CP$603)))","v":""},{"$f":"IF(COUNTIF(DMA!I$5:I$503,Graphs!$A85)>0,Graphs!$A85,\"\")","v":""},{"$f":"IF(E85=\"\",\"\",COUNTIF(DMA!I$5:I$503,Graphs!E85))","v":""},{"$f":"IF(E85=\"\",\"\",SUMIF(DMA!I$5:I$503,Graphs!E85,DMA!J$5:J$503)/COUNTIF(DMA!I$5:I$503,Graphs!E85))","v":""},{"$f":"IF(SUMIF(DMA!B$5:B$503,Graphs!A85,DMA!D$5:D$503)>0,Graphs!A85,\"\")","v":""},{"$f":"IF(H85=\"\",\"\",COUNTIF(DMA!B$5:B$503,Graphs!A85))","v":""},{"$f":"IF(H85=\"\",\"\",10^(-0.7083129+0.297*(SUMIF(DMA!B$5:B$503,Graphs!H85,DMA!D$5:D$503)/COUNTIF(DMA!B$5:B$503,Graphs!H85))))","v":""},{"$f":"IF(COUNTIF(DMA!R$5:R$503,Graphs!$A85)>0,Graphs!$A85,\"\")","v":""},{"$f":"IF(K85=\"\",\"\",COUNTIF(DMA!R$5:R$503,Graphs!A85))","v":""},{"$f":"IF(K85=\"\",\"\",(SUMIF(DMA!R$5:R$503,Graphs!A85,DMA!S$5:S$503)/COUNTIF(DMA!R$5:R$503,Graphs!A85)))","v":""},"",{"$f":"IF(COUNTIF(DMA!M$5:M$503,Graphs!$A85)>0,Graphs!$A85,\"\")","v":""},{"$f":"IF($O85=\"\",\"\",SUMIF(DMA!$M$5:$M$503,Graphs!$O85,DMA!N$5:N$503))","v":""},{"$f":"IF($O85=\"\",\"\",SUMIF(DMA!$M$5:$M$503,Graphs!$O85,DMA!O$5:O$503))","v":""},{"$f":"IF($O85=\"\",\"\",SUMIF(DMA!$M$5:$M$503,Graphs!$O85,DMA!P$5:P$503))","v":""},{"$f":"IF($O85=\"\",\"\",SUMIF(DMA!$M$5:$M$503,Graphs!$O85,DMA!Q$5:Q$503))","v":""},"",{"$f":"IF(O85=\"\",\"\",COUNTIF(DMA!M$5:M$503,Graphs!A85))","v":""},"","","","","","","",null,null,null,null,null,null,null,null,null,null,null,null,null,null,null,null,null,null,null,null,null,null,null,"","","",{"$f":"IF(P85=\"\",\"\",IF(P85=0,\"\",SQRT(SUMIF(DMA!$DJ$5:$DJ$503,Graphs!$O85,DMA!DK$5:DK$503))/COUNTIF(DMA!$DJ$5:$DJ$503,Graphs!$O85)))","v":""},{"$f":"IF(Q85=\"\",\"\",IF(Q85=0,\"\",SQRT(SUMIF(DMA!$DJ$5:$DJ$503,Graphs!$O85,DMA!DL$5:DL$503))/COUNTIF(DMA!$DJ$5:$DJ$503,Graphs!$O85)))","v":""},{"$f":"IF(R85=\"\",\"\",IF(R85=0,\"\",SQRT(SUMIF(DMA!$DJ$5:$DJ$503,Graphs!$O85,DMA!DM$5:DM$503))/COUNTIF(DMA!$DJ$5:$DJ$503,Graphs!$O85)))","v":""},{"$f":"IF($P85=\"\",\"\",IF(P85=0,\"\",AVERAGEIF(DMA!$M$5:$M$503,Graphs!$O85,DMA!N$5:N$503)))","v":""},{"$f":"IF($Q85=\"\",\"\",IF(Q85=0,\"\",AVERAGEIF(DMA!$M$5:$M$503,Graphs!$O85,DMA!O$5:O$503)))","v":""},{"$f":"IF($R85=\"\",\"\",IF(R85=0,\"\",AVERAGEIF(DMA!$M$5:$M$503,Graphs!$O85,DMA!P$5:P$503)))","v":""}]
[null,{"$f":"IF(A86=\"\",\"\",(SUMIF(DMA!$AO$5:$AO$604,$A86,DMA!$AQ$5:$AQ$603)/DMA!AQ$604))","v":""},{"$f":"IF(A86=\"\",\"\",(SUMIF(DMA!$CQ$5:$CQ$603,$A86,DMA!$CO$5:$CO$603))*0.01)","v":""},{"$f":"IF(B86=\"\",\"\",(SUMIF(DMA!$CQ$5:$CQ$603,$A86,DMA!$CP$5:$CP$603)))","v":""},{"$f":"IF(COUNTIF(DMA!I$5:I$503,Graphs!$A86)>0,Graphs!$A86,\"\")","v":""},{"$f":"IF(E86=\"\",\"\",COUNTIF(DMA!I$5:I$503,Graphs!E86))","v":""},{"$f":"IF(E86=\"\",\"\",SUMIF(DMA!I$5:I$503,Graphs!E86,DMA!J$5:J$503)/COUNTIF(DMA!I$5:I$503,Graphs!E86))","v":""},{"$f":"IF(SUMIF(DMA!B$5:B$503,Graphs!A86,DMA!D$5:D$503)>0,Graphs!A86,\"\")","v":""},{"$f":"IF(H86=\"\",\"\",COUNTIF(DMA!B$5:B$503,Graphs!A86))","v":""},{"$f":"IF(H86=\"\",\"\",10^(-0.7083129+0.297*(SUMIF(DMA!B$5:B$503,Graphs!H86,DMA!D$5:D$503)/COUNTIF(DMA!B$5:B$503,Graphs!H86))))","v":""},{"$f":"IF(COUNTIF(DMA!R$5:R$503,Graphs!$A86)>0,Graphs!$A86,\"\")","v":""},{"$f":"IF(K86=\"\",\"\",COUNTIF(DMA!R$5:R$503,Graphs!A86))","v":""},{"$f":"IF(K86=\"\",\"\",(SUMIF(DMA!R$5:R$503,Graphs!A86,DMA!S$5:S$503)/COUNTIF(DMA!R$5:R$503,Graphs!A86)))","v":""},"",{"$f":"IF(COUNTIF(DMA!M$5:M$503,Graphs!$A86)>0,Graphs!$A86,\"\")","v":""},{"$f":"IF($O86=\"\",\"\",SUMIF(DMA!$M$5:$M$503,Graphs!$O86,DMA!N$5:N$503))","v":""},{"$f":"IF($O86=\"\",\"\",SUMIF(DMA!$M$5:$M$503,Graphs!$O86,DMA!O$5:O$503))","v":""},{"$f":"IF($O86=\"\",\"\",SUMIF(DMA!$M$5:$M$503,Graphs!$O86,DMA!P$5:P$503))","v":""},{"$f":"IF($O86=\"\",\"\",SUMIF(DMA!$M$5:$M$503,Graphs!$O86,DMA!Q$5:Q$503))","v":""},"",{"$f":"IF(O86=\"\",\"\",COUNTIF(DMA!M$5:M$503,Graphs!A86))","v":""},"","","","","","","",null,null,null,null,null,null,null,null,null,null,null,null,null,null,null,null,null,null,null,null,null,null,null,"","","",{"$f":"IF(P86=\"\",\"\",IF(P86=0,\"\",SQRT(SUMIF(DMA!$DJ$5:$DJ$503,Graphs!$O86,DMA!DK$5:DK$503))/COUNTIF(DMA!$DJ$5:$DJ$503,Graphs!$O86)))","v":""},{"$f":"IF(Q86=\"\",\"\",IF(Q86=0,\"\",SQRT(SUMIF(DMA!$DJ$5:$DJ$503,Graphs!$O86,DMA!DL$5:DL$503))/COUNTIF(DMA!$DJ$5:$DJ$503,Graphs!$O86)))","v":""},{"$f":"IF(R86=\"\",\"\",IF(R86=0,\"\",SQRT(SUMIF(DMA!$DJ$5:$DJ$503,Graphs!$O86,DMA!DM$5:DM$503))/COUNTIF(DMA!$DJ$5:$DJ$503,Graphs!$O86)))","v":""},{"$f":"IF($P86=\"\",\"\",IF(P86=0,\"\",AVERAGEIF(DMA!$M$5:$M$503,Graphs!$O86,DMA!N$5:N$503)))","v":""},{"$f":"IF($Q86=\"\",\"\",IF(Q86=0,\"\",AVERAGEIF(DMA!$M$5:$M$503,Graphs!$O86,DMA!O$5:O$503)))","v":""},{"$f":"IF($R86=\"\",\"\",IF(R86=0,\"\",AVERAGEIF(DMA!$M$5:$M$503,Graphs!$O86,DMA!P$5:P$503)))","v":""}]
[null,{"$f":"IF(A87=\"\",\"\",(SUMIF(DMA!$AO$5:$AO$604,$A87,DMA!$AQ$5:$AQ$603)/DMA!AQ$604))","v":""},{"$f":"IF(A87=\"\",\"\",(SUMIF(DMA!$CQ$5:$CQ$603,$A87,DMA!$CO$5:$CO$603))*0.01)","v":""},{"$f":"IF(B87=\"\",\"\",(SUMIF(DMA!$CQ$5:$CQ$603,$A87,DMA!$CP$5:$CP$603)))","v":""},{"$f":"IF(COUNTIF(DMA!I$5:I$503,Graphs!$A87)>0,Graphs!$A87,\"\")","v":""},{"$f":"IF(E87=\"\",\"\",COUNTIF(DMA!I$5:I$503,Graphs!E87))","v":""},{"$f":"IF(E87=\"\",\"\",SUMIF(DMA!I$5:I$503,Graphs!E87,DMA!J$5:J$503)/COUNTIF(DMA!I$5:I$503,Graphs!E87))","v":""},{"$f":"IF(SUMIF(DMA!B$5:B$503,Graphs!A87,DMA!D$5:D$503)>0,Graphs!A87,\"\")","v":""},{"$f":"IF(H87=\"\",\"\",COUNTIF(DMA!B$5:B$503,Graphs!A87))","v":""},{"$f":"IF(H87=\"\",\"\",10^(-0.7083129+0.297*(SUMIF(DMA!B$5:B$503,Graphs!H87,DMA!D$5:D$503)/COUNTIF(DMA!B$5:B$503,Graphs!H87))))","v":""},{"$f":"IF(COUNTIF(DMA!R$5:R$503,Graphs!$A87)>0,Graphs!$A87,\"\")","v":""},{"$f":"IF(K87=\"\",\"\",COUNTIF(DMA!R$5:R$503,Graphs!A87))","v":""},{"$f":"IF(K87=\"\",\"\",(SUMIF(DMA!R$5:R$503,Graphs!A87,DMA!S$5:S$503)/COUNTIF(DMA!R$5:R$503,Graphs!A87)))","v":""},"",{"$f":"IF(COUNTIF(DMA!M$5:M$503,Graphs!$A87)>0,Graphs!$A87,\"\")","v":""},{"$f":"IF($O87=\"\",\"\",SUMIF(DMA!$M$5:$M$503,Graphs!$O87,DMA!N$5:N$503))","v":""},{"$f":"IF($O87=\"\",\"\",SUMIF(DMA!$M$5:$M$503,Graphs!$O87,DMA!O$5:O$503))","v":""},{"$f":"IF($O87=\"\",\"\",SUMIF(DMA!$M$5:$M$503,Graphs!$O87,DMA!P$5:P$503))","v":""},{"$f":"IF($O87=\"\",\"\",SUMIF(DMA!$M$5:$M$503,Graphs!$O87,DMA!Q$5:Q$503))","v":""},"",{"$f":"IF(O87=\"\",\"\",COUNTIF(DMA!M$5:M$503,Graphs!A87))","v":""},"","","","","","","",null,null,null,null,null,null,null,null,null,null,null,null,null,null,null,null,null,null,null,null,null,null,null,"","","",{"$f":"IF(P87=\"\",\"\",IF(P87=0,\"\",SQRT(SUMIF(DMA!$DJ$5:$DJ$503,Graphs!$O87,DMA!DK$5:DK$503))/COUNTIF(DMA!$DJ$5:$DJ$503,Graphs!$O87)))","v":""},{"$f":"IF(Q87=\"\",\"\",IF(Q87=0,\"\",SQRT(SUMIF(DMA!$DJ$5:$DJ$503,Graphs!$O87,DMA!DL$5:DL$503))/COUNTIF(DMA!$DJ$5:$DJ$503,Graphs!$O87)))","v":""},{"$f":"IF(R87=\"\",\"\",IF(R87=0,\"\",SQRT(SUMIF(DMA!$DJ$5:$DJ$503,Graphs!$O87,DMA!DM$5:DM$503))/COUNTIF(DMA!$DJ$5:$DJ$503,Graphs!$O87)))","v":""},{"$f":"IF($P87=\"\",\"\",IF(P87=0,\"\",AVERAGEIF(DMA!$M$5:$M$503,Graphs!$O87,DMA!N$5:N$503)))","v":""},{"$f":"IF($Q87=\"\",\"\",IF(Q87=0,\"\",AVERAGEIF(DMA!$M$5:$M$503,Graphs!$O87,DMA!O$5:O$503)))","v":""},{"$f":"IF($R87=\"\",\"\",IF(R87=0,\"\",AVERAGEIF(DMA!$M$5:$M$503,Graphs!$O87,DMA!P$5:P$503)))","v":""}]
[null,{"$f":"IF(A88=\"\",\"\",(SUMIF(DMA!$AO$5:$AO$604,$A88,DMA!$AQ$5:$AQ$603)/DMA!AQ$604))","v":""},{"$f":"IF(A88=\"\",\"\",(SUMIF(DMA!$CQ$5:$CQ$603,$A88,DMA!$CO$5:$CO$603))*0.01)","v":""},{"$f":"IF(B88=\"\",\"\",(SUMIF(DMA!$CQ$5:$CQ$603,$A88,DMA!$CP$5:$CP$603)))","v":""},{"$f":"IF(COUNTIF(DMA!I$5:I$503,Graphs!$A88)>0,Graphs!$A88,\"\")","v":""},{"$f":"IF(E88=\"\",\"\",COUNTIF(DMA!I$5:I$503,Graphs!E88))","v":""},{"$f":"IF(E88=\"\",\"\",SUMIF(DMA!I$5:I$503,Graphs!E88,DMA!J$5:J$503)/COUNTIF(DMA!I$5:I$503,Graphs!E88))","v":""},{"$f":"IF(SUMIF(DMA!B$5:B$503,Graphs!A88,DMA!D$5:D$503)>0,Graphs!A88,\"\")","v":""},{"$f":"IF(H88=\"\",\"\",COUNTIF(DMA!B$5:B$503,Graphs!A88))","v":""},{"$f":"IF(H88=\"\",\"\",10^(-0.7083129+0.297*(SUMIF(DMA!B$5:B$503,Graphs!H88,DMA!D$5:D$503)/COUNTIF(DMA!B$5:B$503,Graphs!H88))))","v":""},{"$f":"IF(COUNTIF(DMA!R$5:R$503,Graphs!$A88)>0,Graphs!$A88,\"\")","v":""},{"$f":"IF(K88=\"\",\"\",COUNTIF(DMA!R$5:R$503,Graphs!A88))","v":""},{"$f":"IF(K88=\"\",\"\",(SUMIF(DMA!R$5:R$503,Graphs!A88,DMA!S$5:S$503)/COUNTIF(DMA!R$5:R$503,Graphs!A88)))","v":""},"",{"$f":"IF(COUNTIF(DMA!M$5:M$503,Graphs!$A88)>0,Graphs!$A88,\"\")","v":""},{"$f":"IF($O88=\"\",\"\",SUMIF(DMA!$M$5:$M$503,Graphs!$O88,DMA!N$5:N$503))","v":""},{"$f":"IF($O88=\"\",\"\",SUMIF(DMA!$M$5:$M$503,Graphs!$O88,DMA!O$5:O$503))","v":""},{"$f":"IF($O88=\"\",\"\",SUMIF(DMA!$M$5:$M$503,Graphs!$O88,DMA!P$5:P$503))","v":""},{"$f":"IF($O88=\"\",\"\",SUMIF(DMA!$M$5:$M$503,Graphs!$O88,DMA!Q$5:Q$503))","v":""},"",{"$f":"IF(O88=\"\",\"\",COUNTIF(DMA!M$5:M$503,Graphs!A88))","v":""},"","","","","","","",null,null,null,null,null,null,null,null,null,null,null,null,null,null,null,null,null,null,null,null,null,null,null,"","","",{"$f":"IF(P88=\"\",\"\",IF(P88=0,\"\",SQRT(SUMIF(DMA!$DJ$5:$DJ$503,Graphs!$O88,DMA!DK$5:DK$503))/COUNTIF(DMA!$DJ$5:$DJ$503,Graphs!$O88)))","v":""},{"$f":"IF(Q88=\"\",\"\",IF(Q88=0,\"\",SQRT(SUMIF(DMA!$DJ$5:$DJ$503,Graphs!$O88,DMA!DL$5:DL$503))/COUNTIF(DMA!$DJ$5:$DJ$503,Graphs!$O88)))","v":""},{"$f":"IF(R88=\"\",\"\",IF(R88=0,\"\",SQRT(SUMIF(DMA!$DJ$5:$DJ$503,Graphs!$O88,DMA!DM$5:DM$503))/COUNTIF(DMA!$DJ$5:$DJ$503,Graphs!$O88)))","v":""},{"$f":"IF($P88=\"\",\"\",IF(P88=0,\"\",AVERAGEIF(DMA!$M$5:$M$503,Graphs!$O88,DMA!N$5:N$503)))","v":""},{"$f":"IF($Q88=\"\",\"\",IF(Q88=0,\"\",AVERAGEIF(DMA!$M$5:$M$503,Graphs!$O88,DMA!O$5:O$503)))","v":""},{"$f":"IF($R88=\"\",\"\",IF(R88=0,\"\",AVERAGEIF(DMA!$M$5:$M$503,Graphs!$O88,DMA!P$5:P$503)))","v":""}]
[null,{"$f":"IF(A89=\"\",\"\",(SUMIF(DMA!$AO$5:$AO$604,$A89,DMA!$AQ$5:$AQ$603)/DMA!AQ$604))","v":""},{"$f":"IF(A89=\"\",\"\",(SUMIF(DMA!$CQ$5:$CQ$603,$A89,DMA!$CO$5:$CO$603))*0.01)","v":""},{"$f":"IF(B89=\"\",\"\",(SUMIF(DMA!$CQ$5:$CQ$603,$A89,DMA!$CP$5:$CP$603)))","v":""},{"$f":"IF(COUNTIF(DMA!I$5:I$503,Graphs!$A89)>0,Graphs!$A89,\"\")","v":""},{"$f":"IF(E89=\"\",\"\",COUNTIF(DMA!I$5:I$503,Graphs!E89))","v":""},{"$f":"IF(E89=\"\",\"\",SUMIF(DMA!I$5:I$503,Graphs!E89,DMA!J$5:J$503)/COUNTIF(DMA!I$5:I$503,Graphs!E89))","v":""},{"$f":"IF(SUMIF(DMA!B$5:B$503,Graphs!A89,DMA!D$5:D$503)>0,Graphs!A89,\"\")","v":""},{"$f":"IF(H89=\"\",\"\",COUNTIF(DMA!B$5:B$503,Graphs!A89))","v":""},{"$f":"IF(H89=\"\",\"\",10^(-0.7083129+0.297*(SUMIF(DMA!B$5:B$503,Graphs!H89,DMA!D$5:D$503)/COUNTIF(DMA!B$5:B$503,Graphs!H89))))","v":""},{"$f":"IF(COUNTIF(DMA!R$5:R$503,Graphs!$A89)>0,Graphs!$A89,\"\")","v":""},{"$f":"IF(K89=\"\",\"\",COUNTIF(DMA!R$5:R$503,Graphs!A89))","v":""},{"$f":"IF(K89=\"\",\"\",(SUMIF(DMA!R$5:R$503,Graphs!A89,DMA!S$5:S$503)/COUNTIF(DMA!R$5:R$503,Graphs!A89)))","v":""},"",{"$f":"IF(COUNTIF(DMA!M$5:M$503,Graphs!$A89)>0,Graphs!$A89,\"\")","v":""},{"$f":"IF($O89=\"\",\"\",SUMIF(DMA!$M$5:$M$503,Graphs!$O89,DMA!N$5:N$503))","v":""},{"$f":"IF($O89=\"\",\"\",SUMIF(DMA!$M$5:$M$503,Graphs!$O89,DMA!O$5:O$503))","v":""},{"$f":"IF($O89=\"\",\"\",SUMIF(DMA!$M$5:$M$503,Graphs!$O89,DMA!P$5:P$503))","v":""},{"$f":"IF($O89=\"\",\"\",SUMIF(DMA!$M$5:$M$503,Graphs!$O89,DMA!Q$5:Q$503))","v":""},"",{"$f":"IF(O89=\"\",\"\",COUNTIF(DMA!M$5:M$503,Graphs!A89))","v":""},"","","","","","","",null,null,null,null,null,null,null,null,null,null,null,null,null,null,null,null,null,null,null,null,null,null,null,"","","",{"$f":"IF(P89=\"\",\"\",IF(P89=0,\"\",SQRT(SUMIF(DMA!$DJ$5:$DJ$503,Graphs!$O89,DMA!DK$5:DK$503))/COUNTIF(DMA!$DJ$5:$DJ$503,Graphs!$O89)))","v":""},{"$f":"IF(Q89=\"\",\"\",IF(Q89=0,\"\",SQRT(SUMIF(DMA!$DJ$5:$DJ$503,Graphs!$O89,DMA!DL$5:DL$503))/COUNTIF(DMA!$DJ$5:$DJ$503,Graphs!$O89)))","v":""},{"$f":"IF(R89=\"\",\"\",IF(R89=0,\"\",SQRT(SUMIF(DMA!$DJ$5:$DJ$503,Graphs!$O89,DMA!DM$5:DM$503))/COUNTIF(DMA!$DJ$5:$DJ$503,Graphs!$O89)))","v":""},{"$f":"IF($P89=\"\",\"\",IF(P89=0,\"\",AVERAGEIF(DMA!$M$5:$M$503,Graphs!$O89,DMA!N$5:N$503)))","v":""},{"$f":"IF($Q89=\"\",\"\",IF(Q89=0,\"\",AVERAGEIF(DMA!$M$5:$M$503,Graphs!$O89,DMA!O$5:O$503)))","v":""},{"$f":"IF($R89=\"\",\"\",IF(R89=0,\"\",AVERAGEIF(DMA!$M$5:$M$503,Graphs!$O89,DMA!P$5:P$503)))","v":""}]
[null,{"$f":"IF(A90=\"\",\"\",(SUMIF(DMA!$AO$5:$AO$604,$A90,DMA!$AQ$5:$AQ$603)/DMA!AQ$604))","v":""},{"$f":"IF(A90=\"\",\"\",(SUMIF(DMA!$CQ$5:$CQ$603,$A90,DMA!$CO$5:$CO$603))*0.01)","v":""},{"$f":"IF(B90=\"\",\"\",(SUMIF(DMA!$CQ$5:$CQ$603,$A90,DMA!$CP$5:$CP$603)))","v":""},{"$f":"IF(COUNTIF(DMA!I$5:I$503,Graphs!$A90)>0,Graphs!$A90,\"\")","v":""},{"$f":"IF(E90=\"\",\"\",COUNTIF(DMA!I$5:I$503,Graphs!E90))","v":""},{"$f":"IF(E90=\"\",\"\",SUMIF(DMA!I$5:I$503,Graphs!E90,DMA!J$5:J$503)/COUNTIF(DMA!I$5:I$503,Graphs!E90))","v":""},{"$f":"IF(SUMIF(DMA!B$5:B$503,Graphs!A90,DMA!D$5:D$503)>0,Graphs!A90,\"\")","v":""},{"$f":"IF(H90=\"\",\"\",COUNTIF(DMA!B$5:B$503,Graphs!A90))","v":""},{"$f":"IF(H90=\"\",\"\",10^(-0.7083129+0.297*(SUMIF(DMA!B$5:B$503,Graphs!H90,DMA!D$5:D$503)/COUNTIF(DMA!B$5:B$503,Graphs!H90))))","v":""},{"$f":"IF(COUNTIF(DMA!R$5:R$503,Graphs!$A90)>0,Graphs!$A90,\"\")","v":""},{"$f":"IF(K90=\"\",\"\",COUNTIF(DMA!R$5:R$503,Graphs!A90))","v":""},{"$f":"IF(K90=\"\",\"\",(SUMIF(DMA!R$5:R$503,Graphs!A90,DMA!S$5:S$503)/COUNTIF(DMA!R$5:R$503,Graphs!A90)))","v":""},"",{"$f":"IF(COUNTIF(DMA!M$5:M$503,Graphs!$A90)>0,Graphs!$A90,\"\")","v":""},{"$f":"IF($O90=\"\",\"\",SUMIF(DMA!$M$5:$M$503,Graphs!$O90,DMA!N$5:N$503))","v":""},{"$f":"IF($O90=\"\",\"\",SUMIF(DMA!$M$5:$M$503,Graphs!$O90,DMA!O$5:O$503))","v":""},{"$f":"IF($O90=\"\",\"\",SUMIF(DMA!$M$5:$M$503,Graphs!$O90,DMA!P$5:P$503))","v":""},{"$f":"IF($O90=\"\",\"\",SUMIF(DMA!$M$5:$M$503,Graphs!$O90,DMA!Q$5:Q$503))","v":""},"",{"$f":"IF(O90=\"\",\"\",COUNTIF(DMA!M$5:M$503,Graphs!A90))","v":""},"","","","","","","",null,null,null,null,null,null,null,null,null,null,null,null,null,null,null,null,null,null,null,null,null,null,null,"","","",{"$f":"IF(P90=\"\",\"\",IF(P90=0,\"\",SQRT(SUMIF(DMA!$DJ$5:$DJ$503,Graphs!$O90,DMA!DK$5:DK$503))/COUNTIF(DMA!$DJ$5:$DJ$503,Graphs!$O90)))","v":""},{"$f":"IF(Q90=\"\",\"\",IF(Q90=0,\"\",SQRT(SUMIF(DMA!$DJ$5:$DJ$503,Graphs!$O90,DMA!DL$5:DL$503))/COUNTIF(DMA!$DJ$5:$DJ$503,Graphs!$O90)))","v":""},{"$f":"IF(R90=\"\",\"\",IF(R90=0,\"\",SQRT(SUMIF(DMA!$DJ$5:$DJ$503,Graphs!$O90,DMA!DM$5:DM$503))/COUNTIF(DMA!$DJ$5:$DJ$503,Graphs!$O90)))","v":""},{"$f":"IF($P90=\"\",\"\",IF(P90=0,\"\",AVERAGEIF(DMA!$M$5:$M$503,Graphs!$O90,DMA!N$5:N$503)))","v":""},{"$f":"IF($Q90=\"\",\"\",IF(Q90=0,\"\",AVERAGEIF(DMA!$M$5:$M$503,Graphs!$O90,DMA!O$5:O$503)))","v":""},{"$f":"IF($R90=\"\",\"\",IF(R90=0,\"\",AVERAGEIF(DMA!$M$5:$M$503,Graphs!$O90,DMA!P$5:P$503)))","v":""}]
[null,{"$f":"IF(A91=\"\",\"\",(SUMIF(DMA!$AO$5:$AO$604,$A91,DMA!$AQ$5:$AQ$603)/DMA!AQ$604))","v":""},{"$f":"IF(A91=\"\",\"\",(SUMIF(DMA!$CQ$5:$CQ$603,$A91,DMA!$CO$5:$CO$603))*0.01)","v":""},{"$f":"IF(B91=\"\",\"\",(SUMIF(DMA!$CQ$5:$CQ$603,$A91,DMA!$CP$5:$CP$603)))","v":""},{"$f":"IF(COUNTIF(DMA!I$5:I$503,Graphs!$A91)>0,Graphs!$A91,\"\")","v":""},{"$f":"IF(E91=\"\",\"\",COUNTIF(DMA!I$5:I$503,Graphs!E91))","v":""},{"$f":"IF(E91=\"\",\"\",SUMIF(DMA!I$5:I$503,Graphs!E91,DMA!J$5:J$503)/COUNTIF(DMA!I$5:I$503,Graphs!E91))","v":""},{"$f":"IF(SUMIF(DMA!B$5:B$503,Graphs!A91,DMA!D$5:D$503)>0,Graphs!A91,\"\")","v":""},{"$f":"IF(H91=\"\",\"\",COUNTIF(DMA!B$5:B$503,Graphs!A91))","v":""},{"$f":"IF(H91=\"\",\"\",10^(-0.7083129+0.297*(SUMIF(DMA!B$5:B$503,Graphs!H91,DMA!D$5:D$503)/COUNTIF(DMA!B$5:B$503,Graphs!H91))))","v":""},{"$f":"IF(COUNTIF(DMA!R$5:R$503,Graphs!$A91)>0,Graphs!$A91,\"\")","v":""},{"$f":"IF(K91=\"\",\"\",COUNTIF(DMA!R$5:R$503,Graphs!A91))","v":""},{"$f":"IF(K91=\"\",\"\",(SUMIF(DMA!R$5:R$503,Graphs!A91,DMA!S$5:S$503)/COUNTIF(DMA!R$5:R$503,Graphs!A91)))","v":""},"",{"$f":"IF(COUNTIF(DMA!M$5:M$503,Graphs!$A91)>0,Graphs!$A91,\"\")","v":""},{"$f":"IF($O91=\"\",\"\",SUMIF(DMA!$M$5:$M$503,Graphs!$O91,DMA!N$5:N$503))","v":""},{"$f":"IF($O91=\"\",\"\",SUMIF(DMA!$M$5:$M$503,Graphs!$O91,DMA!O$5:O$503))","v":""},{"$f":"IF($O91=\"\",\"\",SUMIF(DMA!$M$5:$M$503,Graphs!$O91,DMA!P$5:P$503))","v":""},{"$f":"IF($O91=\"\",\"\",SUMIF(DMA!$M$5:$M$503,Graphs!$O91,DMA!Q$5:Q$503))","v":""},"",{"$f":"IF(O91=\"\",\"\",COUNTIF(DMA!M$5:M$503,Graphs!A91))","v":""},"","","","","","","",null,null,null,null,null,null,null,null,null,null,null,null,null,null,null,null,null,null,null,null,null,null,null,"","","",{"$f":"IF(P91=\"\",\"\",IF(P91=0,\"\",SQRT(SUMIF(DMA!$DJ$5:$DJ$503,Graphs!$O91,DMA!DK$5:DK$503))/COUNTIF(DMA!$DJ$5:$DJ$503,Graphs!$O91)))","v":""},{"$f":"IF(Q91=\"\",\"\",IF(Q91=0,\"\",SQRT(SUMIF(DMA!$DJ$5:$DJ$503,Graphs!$O91,DMA!DL$5:DL$503))/COUNTIF(DMA!$DJ$5:$DJ$503,Graphs!$O91)))","v":""},{"$f":"IF(R91=\"\",\"\",IF(R91=0,\"\",SQRT(SUMIF(DMA!$DJ$5:$DJ$503,Graphs!$O91,DMA!DM$5:DM$503))/COUNTIF(DMA!$DJ$5:$DJ$503,Graphs!$O91)))","v":""},{"$f":"IF($P91=\"\",\"\",IF(P91=0,\"\",AVERAGEIF(DMA!$M$5:$M$503,Graphs!$O91,DMA!N$5:N$503)))","v":""},{"$f":"IF($Q91=\"\",\"\",IF(Q91=0,\"\",AVERAGEIF(DMA!$M$5:$M$503,Graphs!$O91,DMA!O$5:O$503)))","v":""},{"$f":"IF($R91=\"\",\"\",IF(R91=0,\"\",AVERAGEIF(DMA!$M$5:$M$503,Graphs!$O91,DMA!P$5:P$503)))","v":""}]
[null,{"$f":"IF(A92=\"\",\"\",(SUMIF(DMA!$AO$5:$AO$604,$A92,DMA!$AQ$5:$AQ$603)/DMA!AQ$604))","v":""},{"$f":"IF(A92=\"\",\"\",(SUMIF(DMA!$CQ$5:$CQ$603,$A92,DMA!$CO$5:$CO$603))*0.01)","v":""},{"$f":"IF(B92=\"\",\"\",(SUMIF(DMA!$CQ$5:$CQ$603,$A92,DMA!$CP$5:$CP$603)))","v":""},{"$f":"IF(COUNTIF(DMA!I$5:I$503,Graphs!$A92)>0,Graphs!$A92,\"\")","v":""},{"$f":"IF(E92=\"\",\"\",COUNTIF(DMA!I$5:I$503,Graphs!E92))","v":""},{"$f":"IF(E92=\"\",\"\",SUMIF(DMA!I$5:I$503,Graphs!E92,DMA!J$5:J$503)/COUNTIF(DMA!I$5:I$503,Graphs!E92))","v":""},{"$f":"IF(SUMIF(DMA!B$5:B$503,Graphs!A92,DMA!D$5:D$503)>0,Graphs!A92,\"\")","v":""},{"$f":"IF(H92=\"\",\"\",COUNTIF(DMA!B$5:B$503,Graphs!A92))","v":""},{"$f":"IF(H92=\"\",\"\",10^(-0.7083129+0.297*(SUMIF(DMA!B$5:B$503,Graphs!H92,DMA!D$5:D$503)/COUNTIF(DMA!B$5:B$503,Graphs!H92))))","v":""},{"$f":"IF(COUNTIF(DMA!R$5:R$503,Graphs!$A92)>0,Graphs!$A92,\"\")","v":""},{"$f":"IF(K92=\"\",\"\",COUNTIF(DMA!R$5:R$503,Graphs!A92))","v":""},{"$f":"IF(K92=\"\",\"\",(SUMIF(DMA!R$5:R$503,Graphs!A92,DMA!S$5:S$503)/COUNTIF(DMA!R$5:R$503,Graphs!A92)))","v":""},"",{"$f":"IF(COUNTIF(DMA!M$5:M$503,Graphs!$A92)>0,Graphs!$A92,\"\")","v":""},{"$f":"IF($O92=\"\",\"\",SUMIF(DMA!$M$5:$M$503,Graphs!$O92,DMA!N$5:N$503))","v":""},{"$f":"IF($O92=\"\",\"\",SUMIF(DMA!$M$5:$M$503,Graphs!$O92,DMA!O$5:O$503))","v":""},{"$f":"IF($O92=\"\",\"\",SUMIF(DMA!$M$5:$M$503,Graphs!$O92,DMA!P$5:P$503))","v":""},{"$f":"IF($O92=\"\",\"\",SUMIF(DMA!$M$5:$M$503,Graphs!$O92,DMA!Q$5:Q$503))","v":""},"",{"$f":"IF(O92=\"\",\"\",COUNTIF(DMA!M$5:M$503,Graphs!A92))","v":""},"","","","","","","",null,null,null,null,null,null,null,null,null,null,null,null,null,null,null,null,null,null,null,null,null,null,null,"","","",{"$f":"IF(P92=\"\",\"\",IF(P92=0,\"\",SQRT(SUMIF(DMA!$DJ$5:$DJ$503,Graphs!$O92,DMA!DK$5:DK$503))/COUNTIF(DMA!$DJ$5:$DJ$503,Graphs!$O92)))","v":""},{"$f":"IF(Q92=\"\",\"\",IF(Q92=0,\"\",SQRT(SUMIF(DMA!$DJ$5:$DJ$503,Graphs!$O92,DMA!DL$5:DL$503))/COUNTIF(DMA!$DJ$5:$DJ$503,Graphs!$O92)))","v":""},{"$f":"IF(R92=\"\",\"\",IF(R92=0,\"\",SQRT(SUMIF(DMA!$DJ$5:$DJ$503,Graphs!$O92,DMA!DM$5:DM$503))/COUNTIF(DMA!$DJ$5:$DJ$503,Graphs!$O92)))","v":""},{"$f":"IF($P92=\"\",\"\",IF(P92=0,\"\",AVERAGEIF(DMA!$M$5:$M$503,Graphs!$O92,DMA!N$5:N$503)))","v":""},{"$f":"IF($Q92=\"\",\"\",IF(Q92=0,\"\",AVERAGEIF(DMA!$M$5:$M$503,Graphs!$O92,DMA!O$5:O$503)))","v":""},{"$f":"IF($R92=\"\",\"\",IF(R92=0,\"\",AVERAGEIF(DMA!$M$5:$M$503,Graphs!$O92,DMA!P$5:P$503)))","v":""}]
[null,{"$f":"IF(A93=\"\",\"\",(SUMIF(DMA!$AO$5:$AO$604,$A93,DMA!$AQ$5:$AQ$603)/DMA!AQ$604))","v":""},{"$f":"IF(A93=\"\",\"\",(SUMIF(DMA!$CQ$5:$CQ$603,$A93,DMA!$CO$5:$CO$603))*0.01)","v":""},{"$f":"IF(B93=\"\",\"\",(SUMIF(DMA!$CQ$5:$CQ$603,$A93,DMA!$CP$5:$CP$603)))","v":""},{"$f":"IF(COUNTIF(DMA!I$5:I$503,Graphs!$A93)>0,Graphs!$A93,\"\")","v":""},{"$f":"IF(E93=\"\",\"\",COUNTIF(DMA!I$5:I$503,Graphs!E93))","v":""},{"$f":"IF(E93=\"\",\"\",SUMIF(DMA!I$5:I$503,Graphs!E93,DMA!J$5:J$503)/COUNTIF(DMA!I$5:I$503,Graphs!E93))","v":""},{"$f":"IF(SUMIF(DMA!B$5:B$503,Graphs!A93,DMA!D$5:D$503)>0,Graphs!A93,\"\")","v":""},{"$f":"IF(H93=\"\",\"\",COUNTIF(DMA!B$5:B$503,Graphs!A93))","v":""},{"$f":"IF(H93=\"\",\"\",10^(-0.7083129+0.297*(SUMIF(DMA!B$5:B$503,Graphs!H93,DMA!D$5:D$503)/COUNTIF(DMA!B$5:B$503,Graphs!H93))))","v":""},{"$f":"IF(COUNTIF(DMA!R$5:R$503,Graphs!$A93)>0,Graphs!$A93,\"\")","v":""},{"$f":"IF(K93=\"\",\"\",COUNTIF(DMA!R$5:R$503,Graphs!A93))","v":""},{"$f":"IF(K93=\"\",\"\",(SUMIF(DMA!R$5:R$503,Graphs!A93,DMA!S$5:S$503)/COUNTIF(DMA!R$5:R$503,Graphs!A93)))","v":""},"",{"$f":"IF(COUNTIF(DMA!M$5:M$503,Graphs!$A93)>0,Graphs!$A93,\"\")","v":""},{"$f":"IF($O93=\"\",\"\",SUMIF(DMA!$M$5:$M$503,Graphs!$O93,DMA!N$5:N$503))","v":""},{"$f":"IF($O93=\"\",\"\",SUMIF(DMA!$M$5:$M$503,Graphs!$O93,DMA!O$5:O$503))","v":""},{"$f":"IF($O93=\"\",\"\",SUMIF(DMA!$M$5:$M$503,Graphs!$O93,DMA!P$5:P$503))","v":""},{"$f":"IF($O93=\"\",\"\",SUMIF(DMA!$M$5:$M$503,Graphs!$O93,DMA!Q$5:Q$503))","v":""},"",{"$f":"IF(O93=\"\",\"\",COUNTIF(DMA!M$5:M$503,Graphs!A93))","v":""},"","","","","","","",null,null,null,null,null,null,null,null,null,null,null,null,null,null,null,null,null,null,null,null,null,null,null,"","","",{"$f":"IF(P93=\"\",\"\",IF(P93=0,\"\",SQRT(SUMIF(DMA!$DJ$5:$DJ$503,Graphs!$O93,DMA!DK$5:DK$503))/COUNTIF(DMA!$DJ$5:$DJ$503,Graphs!$O93)))","v":""},{"$f":"IF(Q93=\"\",\"\",IF(Q93=0,\"\",SQRT(SUMIF(DMA!$DJ$5:$DJ$503,Graphs!$O93,DMA!DL$5:DL$503))/COUNTIF(DMA!$DJ$5:$DJ$503,Graphs!$O93)))","v":""},{"$f":"IF(R93=\"\",\"\",IF(R93=0,\"\",SQRT(SUMIF(DMA!$DJ$5:$DJ$503,Graphs!$O93,DMA!DM$5:DM$503))/COUNTIF(DMA!$DJ$5:$DJ$503,Graphs!$O93)))","v":""},{"$f":"IF($P93=\"\",\"\",IF(P93=0,\"\",AVERAGEIF(DMA!$M$5:$M$503,Graphs!$O93,DMA!N$5:N$503)))","v":""},{"$f":"IF($Q93=\"\",\"\",IF(Q93=0,\"\",AVERAGEIF(DMA!$M$5:$M$503,Graphs!$O93,DMA!O$5:O$503)))","v":""},{"$f":"IF($R93=\"\",\"\",IF(R93=0,\"\",AVERAGEIF(DMA!$M$5:$M$503,Graphs!$O93,DMA!P$5:P$503)))","v":""}]
[null,{"$f":"IF(A94=\"\",\"\",(SUMIF(DMA!$AO$5:$AO$604,$A94,DMA!$AQ$5:$AQ$603)/DMA!AQ$604))","v":""},{"$f":"IF(A94=\"\",\"\",(SUMIF(DMA!$CQ$5:$CQ$603,$A94,DMA!$CO$5:$CO$603))*0.01)","v":""},{"$f":"IF(B94=\"\",\"\",(SUMIF(DMA!$CQ$5:$CQ$603,$A94,DMA!$CP$5:$CP$603)))","v":""},{"$f":"IF(COUNTIF(DMA!I$5:I$503,Graphs!$A94)>0,Graphs!$A94,\"\")","v":""},{"$f":"IF(E94=\"\",\"\",COUNTIF(DMA!I$5:I$503,Graphs!E94))","v":""},{"$f":"IF(E94=\"\",\"\",SUMIF(DMA!I$5:I$503,Graphs!E94,DMA!J$5:J$503)/COUNTIF(DMA!I$5:I$503,Graphs!E94))","v":""},{"$f":"IF(SUMIF(DMA!B$5:B$503,Graphs!A94,DMA!D$5:D$503)>0,Graphs!A94,\"\")","v":""},{"$f":"IF(H94=\"\",\"\",COUNTIF(DMA!B$5:B$503,Graphs!A94))","v":""},{"$f":"IF(H94=\"\",\"\",10^(-0.7083129+0.297*(SUMIF(DMA!B$5:B$503,Graphs!H94,DMA!D$5:D$503)/COUNTIF(DMA!B$5:B$503,Graphs!H94))))","v":""},{"$f":"IF(COUNTIF(DMA!R$5:R$503,Graphs!$A94)>0,Graphs!$A94,\"\")","v":""},{"$f":"IF(K94=\"\",\"\",COUNTIF(DMA!R$5:R$503,Graphs!A94))","v":""},{"$f":"IF(K94=\"\",\"\",(SUMIF(DMA!R$5:R$503,Graphs!A94,DMA!S$5:S$503)/COUNTIF(DMA!R$5:R$503,Graphs!A94)))","v":""},"",{"$f":"IF(COUNTIF(DMA!M$5:M$503,Graphs!$A94)>0,Graphs!$A94,\"\")","v":""},{"$f":"IF($O94=\"\",\"\",SUMIF(DMA!$M$5:$M$503,Graphs!$O94,DMA!N$5:N$503))","v":""},{"$f":"IF($O94=\"\",\"\",SUMIF(DMA!$M$5:$M$503,Graphs!$O94,DMA!O$5:O$503))","v":""},{"$f":"IF($O94=\"\",\"\",SUMIF(DMA!$M$5:$M$503,Graphs!$O94,DMA!P$5:P$503))","v":""},{"$f":"IF($O94=\"\",\"\",SUMIF(DMA!$M$5:$M$503,Graphs!$O94,DMA!Q$5:Q$503))","v":""},"",{"$f":"IF(O94=\"\",\"\",COUNTIF(DMA!M$5:M$503,Graphs!A94))","v":""},"","","","","","","",null,null,null,null,null,null,null,null,null,null,null,null,null,null,null,null,null,null,null,null,null,null,null,"","","",{"$f":"IF(P94=\"\",\"\",IF(P94=0,\"\",SQRT(SUMIF(DMA!$DJ$5:$DJ$503,Graphs!$O94,DMA!DK$5:DK$503))/COUNTIF(DMA!$DJ$5:$DJ$503,Graphs!$O94)))","v":""},{"$f":"IF(Q94=\"\",\"\",IF(Q94=0,\"\",SQRT(SUMIF(DMA!$DJ$5:$DJ$503,Graphs!$O94,DMA!DL$5:DL$503))/COUNTIF(DMA!$DJ$5:$DJ$503,Graphs!$O94)))","v":""},{"$f":"IF(R94=\"\",\"\",IF(R94=0,\"\",SQRT(SUMIF(DMA!$DJ$5:$DJ$503,Graphs!$O94,DMA!DM$5:DM$503))/COUNTIF(DMA!$DJ$5:$DJ$503,Graphs!$O94)))","v":""},{"$f":"IF($P94=\"\",\"\",IF(P94=0,\"\",AVERAGEIF(DMA!$M$5:$M$503,Graphs!$O94,DMA!N$5:N$503)))","v":""},{"$f":"IF($Q94=\"\",\"\",IF(Q94=0,\"\",AVERAGEIF(DMA!$M$5:$M$503,Graphs!$O94,DMA!O$5:O$503)))","v":""},{"$f":"IF($R94=\"\",\"\",IF(R94=0,\"\",AVERAGEIF(DMA!$M$5:$M$503,Graphs!$O94,DMA!P$5:P$503)))","v":""}]
[null,{"$f":"IF(A95=\"\",\"\",(SUMIF(DMA!$AO$5:$AO$604,$A95,DMA!$AQ$5:$AQ$603)/DMA!AQ$604))","v":""},{"$f":"IF(A95=\"\",\"\",(SUMIF(DMA!$CQ$5:$CQ$603,$A95,DMA!$CO$5:$CO$603))*0.01)","v":""},{"$f":"IF(B95=\"\",\"\",(SUMIF(DMA!$CQ$5:$CQ$603,$A95,DMA!$CP$5:$CP$603)))","v":""},{"$f":"IF(COUNTIF(DMA!I$5:I$503,Graphs!$A95)>0,Graphs!$A95,\"\")","v":""},{"$f":"IF(E95=\"\",\"\",COUNTIF(DMA!I$5:I$503,Graphs!E95))","v":""},{"$f":"IF(E95=\"\",\"\",SUMIF(DMA!I$5:I$503,Graphs!E95,DMA!J$5:J$503)/COUNTIF(DMA!I$5:I$503,Graphs!E95))","v":""},{"$f":"IF(SUMIF(DMA!B$5:B$503,Graphs!A95,DMA!D$5:D$503)>0,Graphs!A95,\"\")","v":""},{"$f":"IF(H95=\"\",\"\",COUNTIF(DMA!B$5:B$503,Graphs!A95))","v":""},{"$f":"IF(H95=\"\",\"\",10^(-0.7083129+0.297*(SUMIF(DMA!B$5:B$503,Graphs!H95,DMA!D$5:D$503)/COUNTIF(DMA!B$5:B$503,Graphs!H95))))","v":""},{"$f":"IF(COUNTIF(DMA!R$5:R$503,Graphs!$A95)>0,Graphs!$A95,\"\")","v":""},{"$f":"IF(K95=\"\",\"\",COUNTIF(DMA!R$5:R$503,Graphs!A95))","v":""},{"$f":"IF(K95=\"\",\"\",(SUMIF(DMA!R$5:R$503,Graphs!A95,DMA!S$5:S$503)/COUNTIF(DMA!R$5:R$503,Graphs!A95)))","v":""},"",{"$f":"IF(COUNTIF(DMA!M$5:M$503,Graphs!$A95)>0,Graphs!$A95,\"\")","v":""},{"$f":"IF($O95=\"\",\"\",SUMIF(DMA!$M$5:$M$503,Graphs!$O95,DMA!N$5:N$503))","v":""},{"$f":"IF($O95=\"\",\"\",SUMIF(DMA!$M$5:$M$503,Graphs!$O95,DMA!O$5:O$503))","v":""},{"$f":"IF($O95=\"\",\"\",SUMIF(DMA!$M$5:$M$503,Graphs!$O95,DMA!P$5:P$503))","v":""},{"$f":"IF($O95=\"\",\"\",SUMIF(DMA!$M$5:$M$503,Graphs!$O95,DMA!Q$5:Q$503))","v":""},"",{"$f":"IF(O95=\"\",\"\",COUNTIF(DMA!M$5:M$503,Graphs!A95))","v":""},"","","","","","","",null,null,null,null,null,null,null,null,null,null,null,null,null,null,null,null,null,null,null,null,null,null,null,"","","",{"$f":"IF(P95=\"\",\"\",IF(P95=0,\"\",SQRT(SUMIF(DMA!$DJ$5:$DJ$503,Graphs!$O95,DMA!DK$5:DK$503))/COUNTIF(DMA!$DJ$5:$DJ$503,Graphs!$O95)))","v":""},{"$f":"IF(Q95=\"\",\"\",IF(Q95=0,\"\",SQRT(SUMIF(DMA!$DJ$5:$DJ$503,Graphs!$O95,DMA!DL$5:DL$503))/COUNTIF(DMA!$DJ$5:$DJ$503,Graphs!$O95)))","v":""},{"$f":"IF(R95=\"\",\"\",IF(R95=0,\"\",SQRT(SUMIF(DMA!$DJ$5:$DJ$503,Graphs!$O95,DMA!DM$5:DM$503))/COUNTIF(DMA!$DJ$5:$DJ$503,Graphs!$O95)))","v":""},{"$f":"IF($P95=\"\",\"\",IF(P95=0,\"\",AVERAGEIF(DMA!$M$5:$M$503,Graphs!$O95,DMA!N$5:N$503)))","v":""},{"$f":"IF($Q95=\"\",\"\",IF(Q95=0,\"\",AVERAGEIF(DMA!$M$5:$M$503,Graphs!$O95,DMA!O$5:O$503)))","v":""},{"$f":"IF($R95=\"\",\"\",IF(R95=0,\"\",AVERAGEIF(DMA!$M$5:$M$503,Graphs!$O95,DMA!P$5:P$503)))","v":""}]
[null,{"$f":"IF(A96=\"\",\"\",(SUMIF(DMA!$AO$5:$AO$604,$A96,DMA!$AQ$5:$AQ$603)/DMA!AQ$604))","v":""},{"$f":"IF(A96=\"\",\"\",(SUMIF(DMA!$CQ$5:$CQ$603,$A96,DMA!$CO$5:$CO$603))*0.01)","v":""},{"$f":"IF(B96=\"\",\"\",(SUMIF(DMA!$CQ$5:$CQ$603,$A96,DMA!$CP$5:$CP$603)))","v":""},{"$f":"IF(COUNTIF(DMA!I$5:I$503,Graphs!$A96)>0,Graphs!$A96,\"\")","v":""},{"$f":"IF(E96=\"\",\"\",COUNTIF(DMA!I$5:I$503,Graphs!E96))","v":""},{"$f":"IF(E96=\"\",\"\",SUMIF(DMA!I$5:I$503,Graphs!E96,DMA!J$5:J$503)/COUNTIF(DMA!I$5:I$503,Graphs!E96))","v":""},{"$f":"IF(SUMIF(DMA!B$5:B$503,Graphs!A96,DMA!D$5:D$503)>0,Graphs!A96,\"\")","v":""},{"$f":"IF(H96=\"\",\"\",COUNTIF(DMA!B$5:B$503,Graphs!A96))","v":""},{"$f":"IF(H96=\"\",\"\",10^(-0.7083129+0.297*(SUMIF(DMA!B$5:B$503,Graphs!H96,DMA!D$5:D$503)/COUNTIF(DMA!B$5:B$503,Graphs!H96))))","v":""},{"$f":"IF(COUNTIF(DMA!R$5:R$503,Graphs!$A96)>0,Graphs!$A96,\"\")","v":""},{"$f":"IF(K96=\"\",\"\",COUNTIF(DMA!R$5:R$503,Graphs!A96))","v":""},{"$f":"IF(K96=\"\",\"\",(SUMIF(DMA!R$5:R$503,Graphs!A96,DMA!S$5:S$503)/COUNTIF(DMA!R$5:R$503,Graphs!A96)))","v":""},"",{"$f":"IF(COUNTIF(DMA!M$5:M$503,Graphs!$A96)>0,Graphs!$A96,\"\")","v":""},{"$f":"IF($O96=\"\",\"\",SUMIF(DMA!$M$5:$M$503,Graphs!$O96,DMA!N$5:N$503))","v":""},{"$f":"IF($O96=\"\",\"\",SUMIF(DMA!$M$5:$M$503,Graphs!$O96,DMA!O$5:O$503))","v":""},{"$f":"IF($O96=\"\",\"\",SUMIF(DMA!$M$5:$M$503,Graphs!$O96,DMA!P$5:P$503))","v":""},{"$f":"IF($O96=\"\",\"\",SUMIF(DMA!$M$5:$M$503,Graphs!$O96,DMA!Q$5:Q$503))","v":""},"",{"$f":"IF(O96=\"\",\"\",COUNTIF(DMA!M$5:M$503,Graphs!A96))","v":""},"","","","","","","",null,null,null,null,null,null,null,null,null,null,null,null,null,null,null,null,null,null,null,null,null,null,null,"","","",{"$f":"IF(P96=\"\",\"\",IF(P96=0,\"\",SQRT(SUMIF(DMA!$DJ$5:$DJ$503,Graphs!$O96,DMA!DK$5:DK$503))/COUNTIF(DMA!$DJ$5:$DJ$503,Graphs!$O96)))","v":""},{"$f":"IF(Q96=\"\",\"\",IF(Q96=0,\"\",SQRT(SUMIF(DMA!$DJ$5:$DJ$503,Graphs!$O96,DMA!DL$5:DL$503))/COUNTIF(DMA!$DJ$5:$DJ$503,Graphs!$O96)))","v":""},{"$f":"IF(R96=\"\",\"\",IF(R96=0,\"\",SQRT(SUMIF(DMA!$DJ$5:$DJ$503,Graphs!$O96,DMA!DM$5:DM$503))/COUNTIF(DMA!$DJ$5:$DJ$503,Graphs!$O96)))","v":""},{"$f":"IF($P96=\"\",\"\",IF(P96=0,\"\",AVERAGEIF(DMA!$M$5:$M$503,Graphs!$O96,DMA!N$5:N$503)))","v":""},{"$f":"IF($Q96=\"\",\"\",IF(Q96=0,\"\",AVERAGEIF(DMA!$M$5:$M$503,Graphs!$O96,DMA!O$5:O$503)))","v":""},{"$f":"IF($R96=\"\",\"\",IF(R96=0,\"\",AVERAGEIF(DMA!$M$5:$M$503,Graphs!$O96,DMA!P$5:P$503)))","v":""}]
[null,{"$f":"IF(A97=\"\",\"\",(SUMIF(DMA!$AO$5:$AO$604,$A97,DMA!$AQ$5:$AQ$603)/DMA!AQ$604))","v":""},{"$f":"IF(A97=\"\",\"\",(SUMIF(DMA!$CQ$5:$CQ$603,$A97,DMA!$CO$5:$CO$603))*0.01)","v":""},{"$f":"IF(B97=\"\",\"\",(SUMIF(DMA!$CQ$5:$CQ$603,$A97,DMA!$CP$5:$CP$603)))","v":""},{"$f":"IF(COUNTIF(DMA!I$5:I$503,Graphs!$A97)>0,Graphs!$A97,\"\")","v":""},{"$f":"IF(E97=\"\",\"\",COUNTIF(DMA!I$5:I$503,Graphs!E97))","v":""},{"$f":"IF(E97=\"\",\"\",SUMIF(DMA!I$5:I$503,Graphs!E97,DMA!J$5:J$503)/COUNTIF(DMA!I$5:I$503,Graphs!E97))","v":""},{"$f":"IF(SUMIF(DMA!B$5:B$503,Graphs!A97,DMA!D$5:D$503)>0,Graphs!A97,\"\")","v":""},{"$f":"IF(H97=\"\",\"\",COUNTIF(DMA!B$5:B$503,Graphs!A97))","v":""},{"$f":"IF(H97=\"\",\"\",10^(-0.7083129+0.297*(SUMIF(DMA!B$5:B$503,Graphs!H97,DMA!D$5:D$503)/COUNTIF(DMA!B$5:B$503,Graphs!H97))))","v":""},{"$f":"IF(COUNTIF(DMA!R$5:R$503,Graphs!$A97)>0,Graphs!$A97,\"\")","v":""},{"$f":"IF(K97=\"\",\"\",COUNTIF(DMA!R$5:R$503,Graphs!A97))","v":""},{"$f":"IF(K97=\"\",\"\",(SUMIF(DMA!R$5:R$503,Graphs!A97,DMA!S$5:S$503)/COUNTIF(DMA!R$5:R$503,Graphs!A97)))","v":""},"",{"$f":"IF(COUNTIF(DMA!M$5:M$503,Graphs!$A97)>0,Graphs!$A97,\"\")","v":""},{"$f":"IF($O97=\"\",\"\",SUMIF(DMA!$M$5:$M$503,Graphs!$O97,DMA!N$5:N$503))","v":""},{"$f":"IF($O97=\"\",\"\",SUMIF(DMA!$M$5:$M$503,Graphs!$O97,DMA!O$5:O$503))","v":""},{"$f":"IF($O97=\"\",\"\",SUMIF(DMA!$M$5:$M$503,Graphs!$O97,DMA!P$5:P$503))","v":""},{"$f":"IF($O97=\"\",\"\",SUMIF(DMA!$M$5:$M$503,Graphs!$O97,DMA!Q$5:Q$503))","v":""},"",{"$f":"IF(O97=\"\",\"\",COUNTIF(DMA!M$5:M$503,Graphs!A97))","v":""},"","","","","","","",null,null,null,null,null,null,null,null,null,null,null,null,null,null,null,null,null,null,null,null,null,null,null,"","","",{"$f":"IF(P97=\"\",\"\",IF(P97=0,\"\",SQRT(SUMIF(DMA!$DJ$5:$DJ$503,Graphs!$O97,DMA!DK$5:DK$503))/COUNTIF(DMA!$DJ$5:$DJ$503,Graphs!$O97)))","v":""},{"$f":"IF(Q97=\"\",\"\",IF(Q97=0,\"\",SQRT(SUMIF(DMA!$DJ$5:$DJ$503,Graphs!$O97,DMA!DL$5:DL$503))/COUNTIF(DMA!$DJ$5:$DJ$503,Graphs!$O97)))","v":""},{"$f":"IF(R97=\"\",\"\",IF(R97=0,\"\",SQRT(SUMIF(DMA!$DJ$5:$DJ$503,Graphs!$O97,DMA!DM$5:DM$503))/COUNTIF(DMA!$DJ$5:$DJ$503,Graphs!$O97)))","v":""},{"$f":"IF($P97=\"\",\"\",IF(P97=0,\"\",AVERAGEIF(DMA!$M$5:$M$503,Graphs!$O97,DMA!N$5:N$503)))","v":""},{"$f":"IF($Q97=\"\",\"\",IF(Q97=0,\"\",AVERAGEIF(DMA!$M$5:$M$503,Graphs!$O97,DMA!O$5:O$503)))","v":""},{"$f":"IF($R97=\"\",\"\",IF(R97=0,\"\",AVERAGEIF(DMA!$M$5:$M$503,Graphs!$O97,DMA!P$5:P$503)))","v":""}]
[null,{"$f":"IF(A98=\"\",\"\",(SUMIF(DMA!$AO$5:$AO$604,$A98,DMA!$AQ$5:$AQ$603)/DMA!AQ$604))","v":""},{"$f":"IF(A98=\"\",\"\",(SUMIF(DMA!$CQ$5:$CQ$603,$A98,DMA!$CO$5:$CO$603))*0.01)","v":""},{"$f":"IF(B98=\"\",\"\",(SUMIF(DMA!$CQ$5:$CQ$603,$A98,DMA!$CP$5:$CP$603)))","v":""},{"$f":"IF(COUNTIF(DMA!I$5:I$503,Graphs!$A98)>0,Graphs!$A98,\"\")","v":""},{"$f":"IF(E98=\"\",\"\",COUNTIF(DMA!I$5:I$503,Graphs!E98))","v":""},{"$f":"IF(E98=\"\",\"\",SUMIF(DMA!I$5:I$503,Graphs!E98,DMA!J$5:J$503)/COUNTIF(DMA!I$5:I$503,Graphs!E98))","v":""},{"$f":"IF(SUMIF(DMA!B$5:B$503,Graphs!A98,DMA!D$5:D$503)>0,Graphs!A98,\"\")","v":""},{"$f":"IF(H98=\"\",\"\",COUNTIF(DMA!B$5:B$503,Graphs!A98))","v":""},{"$f":"IF(H98=\"\",\"\",10^(-0.7083129+0.297*(SUMIF(DMA!B$5:B$503,Graphs!H98,DMA!D$5:D$503)/COUNTIF(DMA!B$5:B$503,Graphs!H98))))","v":""},{"$f":"IF(COUNTIF(DMA!R$5:R$503,Graphs!$A98)>0,Graphs!$A98,\"\")","v":""},{"$f":"IF(K98=\"\",\"\",COUNTIF(DMA!R$5:R$503,Graphs!A98))","v":""},{"$f":"IF(K98=\"\",\"\",(SUMIF(DMA!R$5:R$503,Graphs!A98,DMA!S$5:S$503)/COUNTIF(DMA!R$5:R$503,Graphs!A98)))","v":""},"",{"$f":"IF(COUNTIF(DMA!M$5:M$503,Graphs!$A98)>0,Graphs!$A98,\"\")","v":""},{"$f":"IF($O98=\"\",\"\",SUMIF(DMA!$M$5:$M$503,Graphs!$O98,DMA!N$5:N$503))","v":""},{"$f":"IF($O98=\"\",\"\",SUMIF(DMA!$M$5:$M$503,Graphs!$O98,DMA!O$5:O$503))","v":""},{"$f":"IF($O98=\"\",\"\",SUMIF(DMA!$M$5:$M$503,Graphs!$O98,DMA!P$5:P$503))","v":""},{"$f":"IF($O98=\"\",\"\",SUMIF(DMA!$M$5:$M$503,Graphs!$O98,DMA!Q$5:Q$503))","v":""},"",{"$f":"IF(O98=\"\",\"\",COUNTIF(DMA!M$5:M$503,Graphs!A98))","v":""},"","","","","","","",null,null,null,null,null,null,null,null,null,null,null,null,null,null,null,null,null,null,null,null,null,null,null,"","","",{"$f":"IF(P98=\"\",\"\",IF(P98=0,\"\",SQRT(SUMIF(DMA!$DJ$5:$DJ$503,Graphs!$O98,DMA!DK$5:DK$503))/COUNTIF(DMA!$DJ$5:$DJ$503,Graphs!$O98)))","v":""},{"$f":"IF(Q98=\"\",\"\",IF(Q98=0,\"\",SQRT(SUMIF(DMA!$DJ$5:$DJ$503,Graphs!$O98,DMA!DL$5:DL$503))/COUNTIF(DMA!$DJ$5:$DJ$503,Graphs!$O98)))","v":""},{"$f":"IF(R98=\"\",\"\",IF(R98=0,\"\",SQRT(SUMIF(DMA!$DJ$5:$DJ$503,Graphs!$O98,DMA!DM$5:DM$503))/COUNTIF(DMA!$DJ$5:$DJ$503,Graphs!$O98)))","v":""},{"$f":"IF($P98=\"\",\"\",IF(P98=0,\"\",AVERAGEIF(DMA!$M$5:$M$503,Graphs!$O98,DMA!N$5:N$503)))","v":""},{"$f":"IF($Q98=\"\",\"\",IF(Q98=0,\"\",AVERAGEIF(DMA!$M$5:$M$503,Graphs!$O98,DMA!O$5:O$503)))","v":""},{"$f":"IF($R98=\"\",\"\",IF(R98=0,\"\",AVERAGEIF(DMA!$M$5:$M$503,Graphs!$O98,DMA!P$5:P$503)))","v":""}]
[null,{"$f":"IF(A99=\"\",\"\",(SUMIF(DMA!$AO$5:$AO$604,$A99,DMA!$AQ$5:$AQ$603)/DMA!AQ$604))","v":""},{"$f":"IF(A99=\"\",\"\",(SUMIF(DMA!$CQ$5:$CQ$603,$A99,DMA!$CO$5:$CO$603))*0.01)","v":""},{"$f":"IF(B99=\"\",\"\",(SUMIF(DMA!$CQ$5:$CQ$603,$A99,DMA!$CP$5:$CP$603)))","v":""},{"$f":"IF(COUNTIF(DMA!I$5:I$503,Graphs!$A99)>0,Graphs!$A99,\"\")","v":""},{"$f":"IF(E99=\"\",\"\",COUNTIF(DMA!I$5:I$503,Graphs!E99))","v":""},{"$f":"IF(E99=\"\",\"\",SUMIF(DMA!I$5:I$503,Graphs!E99,DMA!J$5:J$503)/COUNTIF(DMA!I$5:I$503,Graphs!E99))","v":""},{"$f":"IF(SUMIF(DMA!B$5:B$503,Graphs!A99,DMA!D$5:D$503)>0,Graphs!A99,\"\")","v":""},{"$f":"IF(H99=\"\",\"\",COUNTIF(DMA!B$5:B$503,Graphs!A99))","v":""},{"$f":"IF(H99=\"\",\"\",10^(-0.7083129+0.297*(SUMIF(DMA!B$5:B$503,Graphs!H99,DMA!D$5:D$503)/COUNTIF(DMA!B$5:B$503,Graphs!H99))))","v":""},{"$f":"IF(COUNTIF(DMA!R$5:R$503,Graphs!$A99)>0,Graphs!$A99,\"\")","v":""},{"$f":"IF(K99=\"\",\"\",COUNTIF(DMA!R$5:R$503,Graphs!A99))","v":""},{"$f":"IF(K99=\"\",\"\",(SUMIF(DMA!R$5:R$503,Graphs!A99,DMA!S$5:S$503)/COUNTIF(DMA!R$5:R$503,Graphs!A99)))","v":""},"",{"$f":"IF(COUNTIF(DMA!M$5:M$503,Graphs!$A99)>0,Graphs!$A99,\"\")","v":""},{"$f":"IF($O99=\"\",\"\",SUMIF(DMA!$M$5:$M$503,Graphs!$O99,DMA!N$5:N$503))","v":""},{"$f":"IF($O99=\"\",\"\",SUMIF(DMA!$M$5:$M$503,Graphs!$O99,DMA!O$5:O$503))","v":""},{"$f":"IF($O99=\"\",\"\",SUMIF(DMA!$M$5:$M$503,Graphs!$O99,DMA!P$5:P$503))","v":""},{"$f":"IF($O99=\"\",\"\",SUMIF(DMA!$M$5:$M$503,Graphs!$O99,DMA!Q$5:Q$503))","v":""},"",{"$f":"IF(O99=\"\",\"\",COUNTIF(DMA!M$5:M$503,Graphs!A99))","v":""},"","","","","","","",null,null,null,null,null,null,null,null,null,null,null,null,null,null,null,null,null,null,null,null,null,null,null,"","","",{"$f":"IF(P99=\"\",\"\",IF(P99=0,\"\",SQRT(SUMIF(DMA!$DJ$5:$DJ$503,Graphs!$O99,DMA!DK$5:DK$503))/COUNTIF(DMA!$DJ$5:$DJ$503,Graphs!$O99)))","v":""},{"$f":"IF(Q99=\"\",\"\",IF(Q99=0,\"\",SQRT(SUMIF(DMA!$DJ$5:$DJ$503,Graphs!$O99,DMA!DL$5:DL$503))/COUNTIF(DMA!$DJ$5:$DJ$503,Graphs!$O99)))","v":""},{"$f":"IF(R99=\"\",\"\",IF(R99=0,\"\",SQRT(SUMIF(DMA!$DJ$5:$DJ$503,Graphs!$O99,DMA!DM$5:DM$503))/COUNTIF(DMA!$DJ$5:$DJ$503,Graphs!$O99)))","v":""},{"$f":"IF($P99=\"\",\"\",IF(P99=0,\"\",AVERAGEIF(DMA!$M$5:$M$503,Graphs!$O99,DMA!N$5:N$503)))","v":""},{"$f":"IF($Q99=\"\",\"\",IF(Q99=0,\"\",AVERAGEIF(DMA!$M$5:$M$503,Graphs!$O99,DMA!O$5:O$503)))","v":""},{"$f":"IF($R99=\"\",\"\",IF(R99=0,\"\",AVERAGEIF(DMA!$M$5:$M$503,Graphs!$O99,DMA!P$5:P$503)))","v":""}]
[null,{"$f":"IF(A100=\"\",\"\",(SUMIF(DMA!$AO$5:$AO$604,$A100,DMA!$AQ$5:$AQ$603)/DMA!AQ$604))","v":""},{"$f":"IF(A100=\"\",\"\",(SUMIF(DMA!$CQ$5:$CQ$603,$A100,DMA!$CO$5:$CO$603))*0.01)","v":""},{"$f":"IF(B100=\"\",\"\",(SUMIF(DMA!$CQ$5:$CQ$603,$A100,DMA!$CP$5:$CP$603)))","v":""},{"$f":"IF(COUNTIF(DMA!I$5:I$503,Graphs!$A100)>0,Graphs!$A100,\"\")","v":""},{"$f":"IF(E100=\"\",\"\",COUNTIF(DMA!I$5:I$503,Graphs!E100))","v":""},{"$f":"IF(E100=\"\",\"\",SUMIF(DMA!I$5:I$503,Graphs!E100,DMA!J$5:J$503)/COUNTIF(DMA!I$5:I$503,Graphs!E100))","v":""},{"$f":"IF(SUMIF(DMA!B$5:B$503,Graphs!A100,DMA!D$5:D$503)>0,Graphs!A100,\"\")","v":""},{"$f":"IF(H100=\"\",\"\",COUNTIF(DMA!B$5:B$503,Graphs!A100))","v":""},{"$f":"IF(H100=\"\",\"\",10^(-0.7083129+0.297*(SUMIF(DMA!B$5:B$503,Graphs!H100,DMA!D$5:D$503)/COUNTIF(DMA!B$5:B$503,Graphs!H100))))","v":""},{"$f":"IF(COUNTIF(DMA!R$5:R$503,Graphs!$A100)>0,Graphs!$A100,\"\")","v":""},{"$f":"IF(K100=\"\",\"\",COUNTIF(DMA!R$5:R$503,Graphs!A100))","v":""},{"$f":"IF(K100=\"\",\"\",(SUMIF(DMA!R$5:R$503,Graphs!A100,DMA!S$5:S$503)/COUNTIF(DMA!R$5:R$503,Graphs!A100)))","v":""},"",{"$f":"IF(COUNTIF(DMA!M$5:M$503,Graphs!$A100)>0,Graphs!$A100,\"\")","v":""},{"$f":"IF($O100=\"\",\"\",SUMIF(DMA!$M$5:$M$503,Graphs!$O100,DMA!N$5:N$503))","v":""},{"$f":"IF($O100=\"\",\"\",SUMIF(DMA!$M$5:$M$503,Graphs!$O100,DMA!O$5:O$503))","v":""},{"$f":"IF($O100=\"\",\"\",SUMIF(DMA!$M$5:$M$503,Graphs!$O100,DMA!P$5:P$503))","v":""},{"$f":"IF($O100=\"\",\"\",SUMIF(DMA!$M$5:$M$503,Graphs!$O100,DMA!Q$5:Q$503))","v":""},"",{"$f":"IF(O100=\"\",\"\",COUNTIF(DMA!M$5:M$503,Graphs!A100))","v":""},"","","","","","","",null,null,null,null,null,null,null,null,null,null,null,null,null,null,null,null,null,null,null,null,null,null,null,"","","",{"$f":"IF(P100=\"\",\"\",IF(P100=0,\"\",SQRT(SUMIF(DMA!$DJ$5:$DJ$503,Graphs!$O100,DMA!DK$5:DK$503))/COUNTIF(DMA!$DJ$5:$DJ$503,Graphs!$O100)))","v":""},{"$f":"IF(Q100=\"\",\"\",IF(Q100=0,\"\",SQRT(SUMIF(DMA!$DJ$5:$DJ$503,Graphs!$O100,DMA!DL$5:DL$503))/COUNTIF(DMA!$DJ$5:$DJ$503,Graphs!$O100)))","v":""},{"$f":"IF(R100=\"\",\"\",IF(R100=0,\"\",SQRT(SUMIF(DMA!$DJ$5:$DJ$503,Graphs!$O100,DMA!DM$5:DM$503))/COUNTIF(DMA!$DJ$5:$DJ$503,Graphs!$O100)))","v":""},{"$f":"IF($P100=\"\",\"\",IF(P100=0,\"\",AVERAGEIF(DMA!$M$5:$M$503,Graphs!$O100,DMA!N$5:N$503)))","v":""},{"$f":"IF($Q100=\"\",\"\",IF(Q100=0,\"\",AVERAGEIF(DMA!$M$5:$M$503,Graphs!$O100,DMA!O$5:O$503)))","v":""},{"$f":"IF($R100=\"\",\"\",IF(R100=0,\"\",AVERAGEIF(DMA!$M$5:$M$503,Graphs!$O100,DMA!P$5:P$503)))","v":""}]
[null,{"$f":"IF(A101=\"\",\"\",(SUMIF(DMA!$AO$5:$AO$604,$A101,DMA!$AQ$5:$AQ$603)/DMA!AQ$604))","v":""},{"$f":"IF(A101=\"\",\"\",(SUMIF(DMA!$CQ$5:$CQ$603,$A101,DMA!$CO$5:$CO$603))*0.01)","v":""},{"$f":"IF(B101=\"\",\"\",(SUMIF(DMA!$CQ$5:$CQ$603,$A101,DMA!$CP$5:$CP$603)))","v":""},{"$f":"IF(COUNTIF(DMA!I$5:I$503,Graphs!$A101)>0,Graphs!$A101,\"\")","v":""},{"$f":"IF(E101=\"\",\"\",COUNTIF(DMA!I$5:I$503,Graphs!E101))","v":""},{"$f":"IF(E101=\"\",\"\",SUMIF(DMA!I$5:I$503,Graphs!E101,DMA!J$5:J$503)/COUNTIF(DMA!I$5:I$503,Graphs!E101))","v":""},{"$f":"IF(SUMIF(DMA!B$5:B$503,Graphs!A101,DMA!D$5:D$503)>0,Graphs!A101,\"\")","v":""},{"$f":"IF(H101=\"\",\"\",COUNTIF(DMA!B$5:B$503,Graphs!A101))","v":""},{"$f":"IF(H101=\"\",\"\",10^(-0.7083129+0.297*(SUMIF(DMA!B$5:B$503,Graphs!H101,DMA!D$5:D$503)/COUNTIF(DMA!B$5:B$503,Graphs!H101))))","v":""},{"$f":"IF(COUNTIF(DMA!R$5:R$503,Graphs!$A101)>0,Graphs!$A101,\"\")","v":""},{"$f":"IF(K101=\"\",\"\",COUNTIF(DMA!R$5:R$503,Graphs!A101))","v":""},{"$f":"IF(K101=\"\",\"\",(SUMIF(DMA!R$5:R$503,Graphs!A101,DMA!S$5:S$503)/COUNTIF(DMA!R$5:R$503,Graphs!A101)))","v":""},"",{"$f":"IF(COUNTIF(DMA!M$5:M$503,Graphs!$A101)>0,Graphs!$A101,\"\")","v":""},{"$f":"IF($O101=\"\",\"\",SUMIF(DMA!$M$5:$M$503,Graphs!$O101,DMA!N$5:N$503))","v":""},{"$f":"IF($O101=\"\",\"\",SUMIF(DMA!$M$5:$M$503,Graphs!$O101,DMA!O$5:O$503))","v":""},{"$f":"IF($O101=\"\",\"\",SUMIF(DMA!$M$5:$M$503,Graphs!$O101,DMA!P$5:P$503))","v":""},{"$f":"IF($O101=\"\",\"\",SUMIF(DMA!$M$5:$M$503,Graphs!$O101,DMA!Q$5:Q$503))","v":""},"",{"$f":"IF(O101=\"\",\"\",COUNTIF(DMA!M$5:M$503,Graphs!A101))","v":""},"","","","","","","",null,null,null,null,null,null,null,null,null,null,null,null,null,null,null,null,null,null,null,null,null,null,null,"","","",{"$f":"IF(P101=\"\",\"\",IF(P101=0,\"\",SQRT(SUMIF(DMA!$DJ$5:$DJ$503,Graphs!$O101,DMA!DK$5:DK$503))/COUNTIF(DMA!$DJ$5:$DJ$503,Graphs!$O101)))","v":""},{"$f":"IF(Q101=\"\",\"\",IF(Q101=0,\"\",SQRT(SUMIF(DMA!$DJ$5:$DJ$503,Graphs!$O101,DMA!DL$5:DL$503))/COUNTIF(DMA!$DJ$5:$DJ$503,Graphs!$O101)))","v":""},{"$f":"IF(R101=\"\",\"\",IF(R101=0,\"\",SQRT(SUMIF(DMA!$DJ$5:$DJ$503,Graphs!$O101,DMA!DM$5:DM$503))/COUNTIF(DMA!$DJ$5:$DJ$503,Graphs!$O101)))","v":""},{"$f":"IF($P101=\"\",\"\",IF(P101=0,\"\",AVERAGEIF(DMA!$M$5:$M$503,Graphs!$O101,DMA!N$5:N$503)))","v":""},{"$f":"IF($Q101=\"\",\"\",IF(Q101=0,\"\",AVERAGEIF(DMA!$M$5:$M$503,Graphs!$O101,DMA!O$5:O$503)))","v":""},{"$f":"IF($R101=\"\",\"\",IF(R101=0,\"\",AVERAGEIF(DMA!$M$5:$M$503,Graphs!$O101,DMA!P$5:P$503)))","v":""}]
[null,{"$f":"IF(A102=\"\",\"\",(SUMIF(DMA!$AO$5:$AO$604,$A102,DMA!$AQ$5:$AQ$603)/DMA!AQ$604))","v":""},{"$f":"IF(A102=\"\",\"\",(SUMIF(DMA!$CQ$5:$CQ$603,$A102,DMA!$CO$5:$CO$603))*0.01)","v":""},{"$f":"IF(B102=\"\",\"\",(SUMIF(DMA!$CQ$5:$CQ$603,$A102,DMA!$CP$5:$CP$603)))","v":""},{"$f":"IF(COUNTIF(DMA!I$5:I$503,Graphs!$A102)>0,Graphs!$A102,\"\")","v":""},{"$f":"IF(E102=\"\",\"\",COUNTIF(DMA!I$5:I$503,Graphs!E102))","v":""},{"$f":"IF(E102=\"\",\"\",SUMIF(DMA!I$5:I$503,Graphs!E102,DMA!J$5:J$503)/COUNTIF(DMA!I$5:I$503,Graphs!E102))","v":""},{"$f":"IF(SUMIF(DMA!B$5:B$503,Graphs!A102,DMA!D$5:D$503)>0,Graphs!A102,\"\")","v":""},{"$f":"IF(H102=\"\",\"\",COUNTIF(DMA!B$5:B$503,Graphs!A102))","v":""},{"$f":"IF(H102=\"\",\"\",10^(-0.7083129+0.297*(SUMIF(DMA!B$5:B$503,Graphs!H102,DMA!D$5:D$503)/COUNTIF(DMA!B$5:B$503,Graphs!H102))))","v":""},{"$f":"IF(COUNTIF(DMA!R$5:R$503,Graphs!$A102)>0,Graphs!$A102,\"\")","v":""},{"$f":"IF(K102=\"\",\"\",COUNTIF(DMA!R$5:R$503,Graphs!A102))","v":""},{"$f":"IF(K102=\"\",\"\",(SUMIF(DMA!R$5:R$503,Graphs!A102,DMA!S$5:S$503)/COUNTIF(DMA!R$5:R$503,Graphs!A102)))","v":""},"",{"$f":"IF(COUNTIF(DMA!M$5:M$503,Graphs!$A102)>0,Graphs!$A102,\"\")","v":""},{"$f":"IF($O102=\"\",\"\",SUMIF(DMA!$M$5:$M$503,Graphs!$O102,DMA!N$5:N$503))","v":""},{"$f":"IF($O102=\"\",\"\",SUMIF(DMA!$M$5:$M$503,Graphs!$O102,DMA!O$5:O$503))","v":""},{"$f":"IF($O102=\"\",\"\",SUMIF(DMA!$M$5:$M$503,Graphs!$O102,DMA!P$5:P$503))","v":""},{"$f":"IF($O102=\"\",\"\",SUMIF(DMA!$M$5:$M$503,Graphs!$O102,DMA!Q$5:Q$503))","v":""},"",{"$f":"IF(O102=\"\",\"\",COUNTIF(DMA!M$5:M$503,Graphs!A102))","v":""},"","","","","","","",null,null,null,null,null,null,null,null,null,null,null,null,null,null,null,null,null,null,null,null,null,null,null,"","","",{"$f":"IF(P102=\"\",\"\",IF(P102=0,\"\",SQRT(SUMIF(DMA!$DJ$5:$DJ$503,Graphs!$O102,DMA!DK$5:DK$503))/COUNTIF(DMA!$DJ$5:$DJ$503,Graphs!$O102)))","v":""},{"$f":"IF(Q102=\"\",\"\",IF(Q102=0,\"\",SQRT(SUMIF(DMA!$DJ$5:$DJ$503,Graphs!$O102,DMA!DL$5:DL$503))/COUNTIF(DMA!$DJ$5:$DJ$503,Graphs!$O102)))","v":""},{"$f":"IF(R102=\"\",\"\",IF(R102=0,\"\",SQRT(SUMIF(DMA!$DJ$5:$DJ$503,Graphs!$O102,DMA!DM$5:DM$503))/COUNTIF(DMA!$DJ$5:$DJ$503,Graphs!$O102)))","v":""},{"$f":"IF($P102=\"\",\"\",IF(P102=0,\"\",AVERAGEIF(DMA!$M$5:$M$503,Graphs!$O102,DMA!N$5:N$503)))","v":""},{"$f":"IF($Q102=\"\",\"\",IF(Q102=0,\"\",AVERAGEIF(DMA!$M$5:$M$503,Graphs!$O102,DMA!O$5:O$503)))","v":""},{"$f":"IF($R102=\"\",\"\",IF(R102=0,\"\",AVERAGEIF(DMA!$M$5:$M$503,Graphs!$O102,DMA!P$5:P$503)))","v":""}]
[null,{"$f":"IF(A103=\"\",\"\",(SUMIF(DMA!$AO$5:$AO$604,$A103,DMA!$AQ$5:$AQ$603)/DMA!AQ$604))","v":""},{"$f":"IF(A103=\"\",\"\",(SUMIF(DMA!$CQ$5:$CQ$603,$A103,DMA!$CO$5:$CO$603))*0.01)","v":""},{"$f":"IF(B103=\"\",\"\",(SUMIF(DMA!$CQ$5:$CQ$603,$A103,DMA!$CP$5:$CP$603)))","v":""},{"$f":"IF(COUNTIF(DMA!I$5:I$503,Graphs!$A103)>0,Graphs!$A103,\"\")","v":""},{"$f":"IF(E103=\"\",\"\",COUNTIF(DMA!I$5:I$503,Graphs!E103))","v":""},{"$f":"IF(E103=\"\",\"\",SUMIF(DMA!I$5:I$503,Graphs!E103,DMA!J$5:J$503)/COUNTIF(DMA!I$5:I$503,Graphs!E103))","v":""},{"$f":"IF(SUMIF(DMA!B$5:B$503,Graphs!A103,DMA!D$5:D$503)>0,Graphs!A103,\"\")","v":""},{"$f":"IF(H103=\"\",\"\",COUNTIF(DMA!B$5:B$503,Graphs!A103))","v":""},{"$f":"IF(H103=\"\",\"\",10^(-0.7083129+0.297*(SUMIF(DMA!B$5:B$503,Graphs!H103,DMA!D$5:D$503)/COUNTIF(DMA!B$5:B$503,Graphs!H103))))","v":""},{"$f":"IF(COUNTIF(DMA!R$5:R$503,Graphs!$A103)>0,Graphs!$A103,\"\")","v":""},{"$f":"IF(K103=\"\",\"\",COUNTIF(DMA!R$5:R$503,Graphs!A103))","v":""},{"$f":"IF(K103=\"\",\"\",(SUMIF(DMA!R$5:R$503,Graphs!A103,DMA!S$5:S$503)/COUNTIF(DMA!R$5:R$503,Graphs!A103)))","v":""},"",{"$f":"IF(COUNTIF(DMA!M$5:M$503,Graphs!$A103)>0,Graphs!$A103,\"\")","v":""},{"$f":"IF($O103=\"\",\"\",SUMIF(DMA!$M$5:$M$503,Graphs!$O103,DMA!N$5:N$503))","v":""},{"$f":"IF($O103=\"\",\"\",SUMIF(DMA!$M$5:$M$503,Graphs!$O103,DMA!O$5:O$503))","v":""},{"$f":"IF($O103=\"\",\"\",SUMIF(DMA!$M$5:$M$503,Graphs!$O103,DMA!P$5:P$503))","v":""},{"$f":"IF($O103=\"\",\"\",SUMIF(DMA!$M$5:$M$503,Graphs!$O103,DMA!Q$5:Q$503))","v":""},"",{"$f":"IF(O103=\"\",\"\",COUNTIF(DMA!M$5:M$503,Graphs!A103))","v":""},"","","","","","","",null,null,null,null,null,null,null,null,null,null,null,null,null,null,null,null,null,null,null,null,null,null,null,"","","",{"$f":"IF(P103=\"\",\"\",IF(P103=0,\"\",SQRT(SUMIF(DMA!$DJ$5:$DJ$503,Graphs!$O103,DMA!DK$5:DK$503))/COUNTIF(DMA!$DJ$5:$DJ$503,Graphs!$O103)))","v":""},{"$f":"IF(Q103=\"\",\"\",IF(Q103=0,\"\",SQRT(SUMIF(DMA!$DJ$5:$DJ$503,Graphs!$O103,DMA!DL$5:DL$503))/COUNTIF(DMA!$DJ$5:$DJ$503,Graphs!$O103)))","v":""},{"$f":"IF(R103=\"\",\"\",IF(R103=0,\"\",SQRT(SUMIF(DMA!$DJ$5:$DJ$503,Graphs!$O103,DMA!DM$5:DM$503))/COUNTIF(DMA!$DJ$5:$DJ$503,Graphs!$O103)))","v":""},{"$f":"IF($P103=\"\",\"\",IF(P103=0,\"\",AVERAGEIF(DMA!$M$5:$M$503,Graphs!$O103,DMA!N$5:N$503)))","v":""},{"$f":"IF($Q103=\"\",\"\",IF(Q103=0,\"\",AVERAGEIF(DMA!$M$5:$M$503,Graphs!$O103,DMA!O$5:O$503)))","v":""},{"$f":"IF($R103=\"\",\"\",IF(R103=0,\"\",AVERAGEIF(DMA!$M$5:$M$503,Graphs!$O103,DMA!P$5:P$503)))","v":""}]
[null,{"$f":"IF(A104=\"\",\"\",(SUMIF(DMA!$AO$5:$AO$604,$A104,DMA!$AQ$5:$AQ$603)/DMA!AQ$604))","v":""},{"$f":"IF(A104=\"\",\"\",(SUMIF(DMA!$CQ$5:$CQ$603,$A104,DMA!$CO$5:$CO$603))*0.01)","v":""},{"$f":"IF(B104=\"\",\"\",(SUMIF(DMA!$CQ$5:$CQ$603,$A104,DMA!$CP$5:$CP$603)))","v":""},{"$f":"IF(COUNTIF(DMA!I$5:I$503,Graphs!$A104)>0,Graphs!$A104,\"\")","v":""},{"$f":"IF(E104=\"\",\"\",COUNTIF(DMA!I$5:I$503,Graphs!E104))","v":""},{"$f":"IF(E104=\"\",\"\",SUMIF(DMA!I$5:I$503,Graphs!E104,DMA!J$5:J$503)/COUNTIF(DMA!I$5:I$503,Graphs!E104))","v":""},{"$f":"IF(SUMIF(DMA!B$5:B$503,Graphs!A104,DMA!D$5:D$503)>0,Graphs!A104,\"\")","v":""},{"$f":"IF(H104=\"\",\"\",COUNTIF(DMA!B$5:B$503,Graphs!A104))","v":""},{"$f":"IF(H104=\"\",\"\",10^(-0.7083129+0.297*(SUMIF(DMA!B$5:B$503,Graphs!H104,DMA!D$5:D$503)/COUNTIF(DMA!B$5:B$503,Graphs!H104))))","v":""},{"$f":"IF(COUNTIF(DMA!R$5:R$503,Graphs!$A104)>0,Graphs!$A104,\"\")","v":""},{"$f":"IF(K104=\"\",\"\",COUNTIF(DMA!R$5:R$503,Graphs!A104))","v":""},{"$f":"IF(K104=\"\",\"\",(SUMIF(DMA!R$5:R$503,Graphs!A104,DMA!S$5:S$503)/COUNTIF(DMA!R$5:R$503,Graphs!A104)))","v":""},"",{"$f":"IF(COUNTIF(DMA!M$5:M$503,Graphs!$A104)>0,Graphs!$A104,\"\")","v":""},{"$f":"IF($O104=\"\",\"\",SUMIF(DMA!$M$5:$M$503,Graphs!$O104,DMA!N$5:N$503))","v":""},{"$f":"IF($O104=\"\",\"\",SUMIF(DMA!$M$5:$M$503,Graphs!$O104,DMA!O$5:O$503))","v":""},{"$f":"IF($O104=\"\",\"\",SUMIF(DMA!$M$5:$M$503,Graphs!$O104,DMA!P$5:P$503))","v":""},{"$f":"IF($O104=\"\",\"\",SUMIF(DMA!$M$5:$M$503,Graphs!$O104,DMA!Q$5:Q$503))","v":""},"",{"$f":"IF(O104=\"\",\"\",COUNTIF(DMA!M$5:M$503,Graphs!A104))","v":""},"","","","","","","",null,null,null,null,null,null,null,null,null,null,null,null,null,null,null,null,null,null,null,null,null,null,null,"","","",{"$f":"IF(P104=\"\",\"\",IF(P104=0,\"\",SQRT(SUMIF(DMA!$DJ$5:$DJ$503,Graphs!$O104,DMA!DK$5:DK$503))/COUNTIF(DMA!$DJ$5:$DJ$503,Graphs!$O104)))","v":""},{"$f":"IF(Q104=\"\",\"\",IF(Q104=0,\"\",SQRT(SUMIF(DMA!$DJ$5:$DJ$503,Graphs!$O104,DMA!DL$5:DL$503))/COUNTIF(DMA!$DJ$5:$DJ$503,Graphs!$O104)))","v":""},{"$f":"IF(R104=\"\",\"\",IF(R104=0,\"\",SQRT(SUMIF(DMA!$DJ$5:$DJ$503,Graphs!$O104,DMA!DM$5:DM$503))/COUNTIF(DMA!$DJ$5:$DJ$503,Graphs!$O104)))","v":""},{"$f":"IF($P104=\"\",\"\",IF(P104=0,\"\",AVERAGEIF(DMA!$M$5:$M$503,Graphs!$O104,DMA!N$5:N$503)))","v":""},{"$f":"IF($Q104=\"\",\"\",IF(Q104=0,\"\",AVERAGEIF(DMA!$M$5:$M$503,Graphs!$O104,DMA!O$5:O$503)))","v":""},{"$f":"IF($R104=\"\",\"\",IF(R104=0,\"\",AVERAGEIF(DMA!$M$5:$M$503,Graphs!$O104,DMA!P$5:P$503)))","v":""}]
[null,{"$f":"IF(A105=\"\",\"\",(SUMIF(DMA!$AO$5:$AO$604,$A105,DMA!$AQ$5:$AQ$603)/DMA!AQ$604))","v":""},{"$f":"IF(A105=\"\",\"\",(SUMIF(DMA!$CQ$5:$CQ$603,$A105,DMA!$CO$5:$CO$603))*0.01)","v":""},{"$f":"IF(B105=\"\",\"\",(SUMIF(DMA!$CQ$5:$CQ$603,$A105,DMA!$CP$5:$CP$603)))","v":""},{"$f":"IF(COUNTIF(DMA!I$5:I$503,Graphs!$A105)>0,Graphs!$A105,\"\")","v":""},{"$f":"IF(E105=\"\",\"\",COUNTIF(DMA!I$5:I$503,Graphs!E105))","v":""},{"$f":"IF(E105=\"\",\"\",SUMIF(DMA!I$5:I$503,Graphs!E105,DMA!J$5:J$503)/COUNTIF(DMA!I$5:I$503,Graphs!E105))","v":""},{"$f":"IF(SUMIF(DMA!B$5:B$503,Graphs!A105,DMA!D$5:D$503)>0,Graphs!A105,\"\")","v":""},{"$f":"IF(H105=\"\",\"\",COUNTIF(DMA!B$5:B$503,Graphs!A105))","v":""},{"$f":"IF(H105=\"\",\"\",10^(-0.7083129+0.297*(SUMIF(DMA!B$5:B$503,Graphs!H105,DMA!D$5:D$503)/COUNTIF(DMA!B$5:B$503,Graphs!H105))))","v":""},{"$f":"IF(COUNTIF(DMA!R$5:R$503,Graphs!$A105)>0,Graphs!$A105,\"\")","v":""},{"$f":"IF(K105=\"\",\"\",COUNTIF(DMA!R$5:R$503,Graphs!A105))","v":""},{"$f":"IF(K105=\"\",\"\",(SUMIF(DMA!R$5:R$503,Graphs!A105,DMA!S$5:S$503)/COUNTIF(DMA!R$5:R$503,Graphs!A105)))","v":""},"",{"$f":"IF(COUNTIF(DMA!M$5:M$503,Graphs!$A105)>0,Graphs!$A105,\"\")","v":""},{"$f":"IF($O105=\"\",\"\",SUMIF(DMA!$M$5:$M$503,Graphs!$O105,DMA!N$5:N$503))","v":""},{"$f":"IF($O105=\"\",\"\",SUMIF(DMA!$M$5:$M$503,Graphs!$O105,DMA!O$5:O$503))","v":""},{"$f":"IF($O105=\"\",\"\",SUMIF(DMA!$M$5:$M$503,Graphs!$O105,DMA!P$5:P$503))","v":""},{"$f":"IF($O105=\"\",\"\",SUMIF(DMA!$M$5:$M$503,Graphs!$O105,DMA!Q$5:Q$503))","v":""},"",{"$f":"IF(O105=\"\",\"\",COUNTIF(DMA!M$5:M$503,Graphs!A105))","v":""},"","","","","","","",null,null,null,null,null,null,null,null,null,null,null,null,null,null,null,null,null,null,null,null,null,null,null,"","","",{"$f":"IF(P105=\"\",\"\",IF(P105=0,\"\",SQRT(SUMIF(DMA!$DJ$5:$DJ$503,Graphs!$O105,DMA!DK$5:DK$503))/COUNTIF(DMA!$DJ$5:$DJ$503,Graphs!$O105)))","v":""},{"$f":"IF(Q105=\"\",\"\",IF(Q105=0,\"\",SQRT(SUMIF(DMA!$DJ$5:$DJ$503,Graphs!$O105,DMA!DL$5:DL$503))/COUNTIF(DMA!$DJ$5:$DJ$503,Graphs!$O105)))","v":""},{"$f":"IF(R105=\"\",\"\",IF(R105=0,\"\",SQRT(SUMIF(DMA!$DJ$5:$DJ$503,Graphs!$O105,DMA!DM$5:DM$503))/COUNTIF(DMA!$DJ$5:$DJ$503,Graphs!$O105)))","v":""},{"$f":"IF($P105=\"\",\"\",IF(P105=0,\"\",AVERAGEIF(DMA!$M$5:$M$503,Graphs!$O105,DMA!N$5:N$503)))","v":""},{"$f":"IF($Q105=\"\",\"\",IF(Q105=0,\"\",AVERAGEIF(DMA!$M$5:$M$503,Graphs!$O105,DMA!O$5:O$503)))","v":""},{"$f":"IF($R105=\"\",\"\",IF(R105=0,\"\",AVERAGEIF(DMA!$M$5:$M$503,Graphs!$O105,DMA!P$5:P$503)))","v":""}]
[null,{"$f":"IF(A106=\"\",\"\",(SUMIF(DMA!$AO$5:$AO$604,$A106,DMA!$AQ$5:$AQ$603)/DMA!AQ$604))","v":""},{"$f":"IF(A106=\"\",\"\",(SUMIF(DMA!$CQ$5:$CQ$603,$A106,DMA!$CO$5:$CO$603))*0.01)","v":""},{"$f":"IF(B106=\"\",\"\",(SUMIF(DMA!$CQ$5:$CQ$603,$A106,DMA!$CP$5:$CP$603)))","v":""},{"$f":"IF(COUNTIF(DMA!I$5:I$503,Graphs!$A106)>0,Graphs!$A106,\"\")","v":""},{"$f":"IF(E106=\"\",\"\",COUNTIF(DMA!I$5:I$503,Graphs!E106))","v":""},{"$f":"IF(E106=\"\",\"\",SUMIF(DMA!I$5:I$503,Graphs!E106,DMA!J$5:J$503)/COUNTIF(DMA!I$5:I$503,Graphs!E106))","v":""},{"$f":"IF(SUMIF(DMA!B$5:B$503,Graphs!A106,DMA!D$5:D$503)>0,Graphs!A106,\"\")","v":""},{"$f":"IF(H106=\"\",\"\",COUNTIF(DMA!B$5:B$503,Graphs!A106))","v":""},{"$f":"IF(H106=\"\",\"\",10^(-0.7083129+0.297*(SUMIF(DMA!B$5:B$503,Graphs!H106,DMA!D$5:D$503)/COUNTIF(DMA!B$5:B$503,Graphs!H106))))","v":""},{"$f":"IF(COUNTIF(DMA!R$5:R$503,Graphs!$A106)>0,Graphs!$A106,\"\")","v":""},{"$f":"IF(K106=\"\",\"\",COUNTIF(DMA!R$5:R$503,Graphs!A106))","v":""},{"$f":"IF(K106=\"\",\"\",(SUMIF(DMA!R$5:R$503,Graphs!A106,DMA!S$5:S$503)/COUNTIF(DMA!R$5:R$503,Graphs!A106)))","v":""},"",{"$f":"IF(COUNTIF(DMA!M$5:M$503,Graphs!$A106)>0,Graphs!$A106,\"\")","v":""},{"$f":"IF($O106=\"\",\"\",SUMIF(DMA!$M$5:$M$503,Graphs!$O106,DMA!N$5:N$503))","v":""},{"$f":"IF($O106=\"\",\"\",SUMIF(DMA!$M$5:$M$503,Graphs!$O106,DMA!O$5:O$503))","v":""},{"$f":"IF($O106=\"\",\"\",SUMIF(DMA!$M$5:$M$503,Graphs!$O106,DMA!P$5:P$503))","v":""},{"$f":"IF($O106=\"\",\"\",SUMIF(DMA!$M$5:$M$503,Graphs!$O106,DMA!Q$5:Q$503))","v":""},"",{"$f":"IF(O106=\"\",\"\",COUNTIF(DMA!M$5:M$503,Graphs!A106))","v":""},"","","","","","","",null,null,null,null,null,null,null,null,null,null,null,null,null,null,null,null,null,null,null,null,null,null,null,"","","",{"$f":"IF(P106=\"\",\"\",IF(P106=0,\"\",SQRT(SUMIF(DMA!$DJ$5:$DJ$503,Graphs!$O106,DMA!DK$5:DK$503))/COUNTIF(DMA!$DJ$5:$DJ$503,Graphs!$O106)))","v":""},{"$f":"IF(Q106=\"\",\"\",IF(Q106=0,\"\",SQRT(SUMIF(DMA!$DJ$5:$DJ$503,Graphs!$O106,DMA!DL$5:DL$503))/COUNTIF(DMA!$DJ$5:$DJ$503,Graphs!$O106)))","v":""},{"$f":"IF(R106=\"\",\"\",IF(R106=0,\"\",SQRT(SUMIF(DMA!$DJ$5:$DJ$503,Graphs!$O106,DMA!DM$5:DM$503))/COUNTIF(DMA!$DJ$5:$DJ$503,Graphs!$O106)))","v":""},{"$f":"IF($P106=\"\",\"\",IF(P106=0,\"\",AVERAGEIF(DMA!$M$5:$M$503,Graphs!$O106,DMA!N$5:N$503)))","v":""},{"$f":"IF($Q106=\"\",\"\",IF(Q106=0,\"\",AVERAGEIF(DMA!$M$5:$M$503,Graphs!$O106,DMA!O$5:O$503)))","v":""},{"$f":"IF($R106=\"\",\"\",IF(R106=0,\"\",AVERAGEIF(DMA!$M$5:$M$503,Graphs!$O106,DMA!P$5:P$503)))","v":""}]
[null,{"$f":"IF(A107=\"\",\"\",(SUMIF(DMA!$AO$5:$AO$604,$A107,DMA!$AQ$5:$AQ$603)/DMA!AQ$604))","v":""},{"$f":"IF(A107=\"\",\"\",(SUMIF(DMA!$CQ$5:$CQ$603,$A107,DMA!$CO$5:$CO$603))*0.01)","v":""},{"$f":"IF(B107=\"\",\"\",(SUMIF(DMA!$CQ$5:$CQ$603,$A107,DMA!$CP$5:$CP$603)))","v":""},{"$f":"IF(COUNTIF(DMA!I$5:I$503,Graphs!$A107)>0,Graphs!$A107,\"\")","v":""},{"$f":"IF(E107=\"\",\"\",COUNTIF(DMA!I$5:I$503,Graphs!E107))","v":""},{"$f":"IF(E107=\"\",\"\",SUMIF(DMA!I$5:I$503,Graphs!E107,DMA!J$5:J$503)/COUNTIF(DMA!I$5:I$503,Graphs!E107))","v":""},{"$f":"IF(SUMIF(DMA!B$5:B$503,Graphs!A107,DMA!D$5:D$503)>0,Graphs!A107,\"\")","v":""},{"$f":"IF(H107=\"\",\"\",COUNTIF(DMA!B$5:B$503,Graphs!A107))","v":""},{"$f":"IF(H107=\"\",\"\",10^(-0.7083129+0.297*(SUMIF(DMA!B$5:B$503,Graphs!H107,DMA!D$5:D$503)/COUNTIF(DMA!B$5:B$503,Graphs!H107))))","v":""},{"$f":"IF(COUNTIF(DMA!R$5:R$503,Graphs!$A107)>0,Graphs!$A107,\"\")","v":""},{"$f":"IF(K107=\"\",\"\",COUNTIF(DMA!R$5:R$503,Graphs!A107))","v":""},{"$f":"IF(K107=\"\",\"\",(SUMIF(DMA!R$5:R$503,Graphs!A107,DMA!S$5:S$503)/COUNTIF(DMA!R$5:R$503,Graphs!A107)))","v":""},"",{"$f":"IF(COUNTIF(DMA!M$5:M$503,Graphs!$A107)>0,Graphs!$A107,\"\")","v":""},{"$f":"IF($O107=\"\",\"\",SUMIF(DMA!$M$5:$M$503,Graphs!$O107,DMA!N$5:N$503))","v":""},{"$f":"IF($O107=\"\",\"\",SUMIF(DMA!$M$5:$M$503,Graphs!$O107,DMA!O$5:O$503))","v":""},{"$f":"IF($O107=\"\",\"\",SUMIF(DMA!$M$5:$M$503,Graphs!$O107,DMA!P$5:P$503))","v":""},{"$f":"IF($O107=\"\",\"\",SUMIF(DMA!$M$5:$M$503,Graphs!$O107,DMA!Q$5:Q$503))","v":""},"",{"$f":"IF(O107=\"\",\"\",COUNTIF(DMA!M$5:M$503,Graphs!A107))","v":""},"","","","","","","",null,null,null,null,null,null,null,null,null,null,null,null,null,null,null,null,null,null,null,null,null,null,null,"","","",{"$f":"IF(P107=\"\",\"\",IF(P107=0,\"\",SQRT(SUMIF(DMA!$DJ$5:$DJ$503,Graphs!$O107,DMA!DK$5:DK$503))/COUNTIF(DMA!$DJ$5:$DJ$503,Graphs!$O107)))","v":""},{"$f":"IF(Q107=\"\",\"\",IF(Q107=0,\"\",SQRT(SUMIF(DMA!$DJ$5:$DJ$503,Graphs!$O107,DMA!DL$5:DL$503))/COUNTIF(DMA!$DJ$5:$DJ$503,Graphs!$O107)))","v":""},{"$f":"IF(R107=\"\",\"\",IF(R107=0,\"\",SQRT(SUMIF(DMA!$DJ$5:$DJ$503,Graphs!$O107,DMA!DM$5:DM$503))/COUNTIF(DMA!$DJ$5:$DJ$503,Graphs!$O107)))","v":""},{"$f":"IF($P107=\"\",\"\",IF(P107=0,\"\",AVERAGEIF(DMA!$M$5:$M$503,Graphs!$O107,DMA!N$5:N$503)))","v":""},{"$f":"IF($Q107=\"\",\"\",IF(Q107=0,\"\",AVERAGEIF(DMA!$M$5:$M$503,Graphs!$O107,DMA!O$5:O$503)))","v":""},{"$f":"IF($R107=\"\",\"\",IF(R107=0,\"\",AVERAGEIF(DMA!$M$5:$M$503,Graphs!$O107,DMA!P$5:P$503)))","v":""}]
[null,{"$f":"IF(A108=\"\",\"\",(SUMIF(DMA!$AO$5:$AO$604,$A108,DMA!$AQ$5:$AQ$603)/DMA!AQ$604))","v":""},{"$f":"IF(A108=\"\",\"\",(SUMIF(DMA!$CQ$5:$CQ$603,$A108,DMA!$CO$5:$CO$603))*0.01)","v":""},{"$f":"IF(B108=\"\",\"\",(SUMIF(DMA!$CQ$5:$CQ$603,$A108,DMA!$CP$5:$CP$603)))","v":""},{"$f":"IF(COUNTIF(DMA!I$5:I$503,Graphs!$A108)>0,Graphs!$A108,\"\")","v":""},{"$f":"IF(E108=\"\",\"\",COUNTIF(DMA!I$5:I$503,Graphs!E108))","v":""},{"$f":"IF(E108=\"\",\"\",SUMIF(DMA!I$5:I$503,Graphs!E108,DMA!J$5:J$503)/COUNTIF(DMA!I$5:I$503,Graphs!E108))","v":""},{"$f":"IF(SUMIF(DMA!B$5:B$503,Graphs!A108,DMA!D$5:D$503)>0,Graphs!A108,\"\")","v":""},{"$f":"IF(H108=\"\",\"\",COUNTIF(DMA!B$5:B$503,Graphs!A108))","v":""},{"$f":"IF(H108=\"\",\"\",10^(-0.7083129+0.297*(SUMIF(DMA!B$5:B$503,Graphs!H108,DMA!D$5:D$503)/COUNTIF(DMA!B$5:B$503,Graphs!H108))))","v":""},{"$f":"IF(COUNTIF(DMA!R$5:R$503,Graphs!$A108)>0,Graphs!$A108,\"\")","v":""},{"$f":"IF(K108=\"\",\"\",COUNTIF(DMA!R$5:R$503,Graphs!A108))","v":""},{"$f":"IF(K108=\"\",\"\",(SUMIF(DMA!R$5:R$503,Graphs!A108,DMA!S$5:S$503)/COUNTIF(DMA!R$5:R$503,Graphs!A108)))","v":""},"",{"$f":"IF(COUNTIF(DMA!M$5:M$503,Graphs!$A108)>0,Graphs!$A108,\"\")","v":""},{"$f":"IF($O108=\"\",\"\",SUMIF(DMA!$M$5:$M$503,Graphs!$O108,DMA!N$5:N$503))","v":""},{"$f":"IF($O108=\"\",\"\",SUMIF(DMA!$M$5:$M$503,Graphs!$O108,DMA!O$5:O$503))","v":""},{"$f":"IF($O108=\"\",\"\",SUMIF(DMA!$M$5:$M$503,Graphs!$O108,DMA!P$5:P$503))","v":""},{"$f":"IF($O108=\"\",\"\",SUMIF(DMA!$M$5:$M$503,Graphs!$O108,DMA!Q$5:Q$503))","v":""},"",{"$f":"IF(O108=\"\",\"\",COUNTIF(DMA!M$5:M$503,Graphs!A108))","v":""},"","","","","","","",null,null,null,null,null,null,null,null,null,null,null,null,null,null,null,null,null,null,null,null,null,null,null,"","","",{"$f":"IF(P108=\"\",\"\",IF(P108=0,\"\",SQRT(SUMIF(DMA!$DJ$5:$DJ$503,Graphs!$O108,DMA!DK$5:DK$503))/COUNTIF(DMA!$DJ$5:$DJ$503,Graphs!$O108)))","v":""},{"$f":"IF(Q108=\"\",\"\",IF(Q108=0,\"\",SQRT(SUMIF(DMA!$DJ$5:$DJ$503,Graphs!$O108,DMA!DL$5:DL$503))/COUNTIF(DMA!$DJ$5:$DJ$503,Graphs!$O108)))","v":""},{"$f":"IF(R108=\"\",\"\",IF(R108=0,\"\",SQRT(SUMIF(DMA!$DJ$5:$DJ$503,Graphs!$O108,DMA!DM$5:DM$503))/COUNTIF(DMA!$DJ$5:$DJ$503,Graphs!$O108)))","v":""},{"$f":"IF($P108=\"\",\"\",IF(P108=0,\"\",AVERAGEIF(DMA!$M$5:$M$503,Graphs!$O108,DMA!N$5:N$503)))","v":""},{"$f":"IF($Q108=\"\",\"\",IF(Q108=0,\"\",AVERAGEIF(DMA!$M$5:$M$503,Graphs!$O108,DMA!O$5:O$503)))","v":""},{"$f":"IF($R108=\"\",\"\",IF(R108=0,\"\",AVERAGEIF(DMA!$M$5:$M$503,Graphs!$O108,DMA!P$5:P$503)))","v":""}]
[null,{"$f":"IF(A109=\"\",\"\",(SUMIF(DMA!$AO$5:$AO$604,$A109,DMA!$AQ$5:$AQ$603)/DMA!AQ$604))","v":""},{"$f":"IF(A109=\"\",\"\",(SUMIF(DMA!$CQ$5:$CQ$603,$A109,DMA!$CO$5:$CO$603))*0.01)","v":""},{"$f":"IF(B109=\"\",\"\",(SUMIF(DMA!$CQ$5:$CQ$603,$A109,DMA!$CP$5:$CP$603)))","v":""},{"$f":"IF(COUNTIF(DMA!I$5:I$503,Graphs!$A109)>0,Graphs!$A109,\"\")","v":""},{"$f":"IF(E109=\"\",\"\",COUNTIF(DMA!I$5:I$503,Graphs!E109))","v":""},{"$f":"IF(E109=\"\",\"\",SUMIF(DMA!I$5:I$503,Graphs!E109,DMA!J$5:J$503)/COUNTIF(DMA!I$5:I$503,Graphs!E109))","v":""},{"$f":"IF(SUMIF(DMA!B$5:B$503,Graphs!A109,DMA!D$5:D$503)>0,Graphs!A109,\"\")","v":""},{"$f":"IF(H109=\"\",\"\",COUNTIF(DMA!B$5:B$503,Graphs!A109))","v":""},{"$f":"IF(H109=\"\",\"\",10^(-0.7083129+0.297*(SUMIF(DMA!B$5:B$503,Graphs!H109,DMA!D$5:D$503)/COUNTIF(DMA!B$5:B$503,Graphs!H109))))","v":""},{"$f":"IF(COUNTIF(DMA!R$5:R$503,Graphs!$A109)>0,Graphs!$A109,\"\")","v":""},{"$f":"IF(K109=\"\",\"\",COUNTIF(DMA!R$5:R$503,Graphs!A109))","v":""},{"$f":"IF(K109=\"\",\"\",(SUMIF(DMA!R$5:R$503,Graphs!A109,DMA!S$5:S$503)/COUNTIF(DMA!R$5:R$503,Graphs!A109)))","v":""},"",{"$f":"IF(COUNTIF(DMA!M$5:M$503,Graphs!$A109)>0,Graphs!$A109,\"\")","v":""},{"$f":"IF($O109=\"\",\"\",SUMIF(DMA!$M$5:$M$503,Graphs!$O109,DMA!N$5:N$503))","v":""},{"$f":"IF($O109=\"\",\"\",SUMIF(DMA!$M$5:$M$503,Graphs!$O109,DMA!O$5:O$503))","v":""},{"$f":"IF($O109=\"\",\"\",SUMIF(DMA!$M$5:$M$503,Graphs!$O109,DMA!P$5:P$503))","v":""},{"$f":"IF($O109=\"\",\"\",SUMIF(DMA!$M$5:$M$503,Graphs!$O109,DMA!Q$5:Q$503))","v":""},"",{"$f":"IF(O109=\"\",\"\",COUNTIF(DMA!M$5:M$503,Graphs!A109))","v":""},"","","","","","","",null,null,null,null,null,null,null,null,null,null,null,null,null,null,null,null,null,null,null,null,null,null,null,"","","",{"$f":"IF(P109=\"\",\"\",IF(P109=0,\"\",SQRT(SUMIF(DMA!$DJ$5:$DJ$503,Graphs!$O109,DMA!DK$5:DK$503))/COUNTIF(DMA!$DJ$5:$DJ$503,Graphs!$O109)))","v":""},{"$f":"IF(Q109=\"\",\"\",IF(Q109=0,\"\",SQRT(SUMIF(DMA!$DJ$5:$DJ$503,Graphs!$O109,DMA!DL$5:DL$503))/COUNTIF(DMA!$DJ$5:$DJ$503,Graphs!$O109)))","v":""},{"$f":"IF(R109=\"\",\"\",IF(R109=0,\"\",SQRT(SUMIF(DMA!$DJ$5:$DJ$503,Graphs!$O109,DMA!DM$5:DM$503))/COUNTIF(DMA!$DJ$5:$DJ$503,Graphs!$O109)))","v":""},{"$f":"IF($P109=\"\",\"\",IF(P109=0,\"\",AVERAGEIF(DMA!$M$5:$M$503,Graphs!$O109,DMA!N$5:N$503)))","v":""},{"$f":"IF($Q109=\"\",\"\",IF(Q109=0,\"\",AVERAGEIF(DMA!$M$5:$M$503,Graphs!$O109,DMA!O$5:O$503)))","v":""},{"$f":"IF($R109=\"\",\"\",IF(R109=0,\"\",AVERAGEIF(DMA!$M$5:$M$503,Graphs!$O109,DMA!P$5:P$503)))","v":""}]
[null,{"$f":"IF(A110=\"\",\"\",(SUMIF(DMA!$AO$5:$AO$604,$A110,DMA!$AQ$5:$AQ$603)/DMA!AQ$604))","v":""},{"$f":"IF(A110=\"\",\"\",(SUMIF(DMA!$CQ$5:$CQ$603,$A110,DMA!$CO$5:$CO$603))*0.01)","v":""},{"$f":"IF(B110=\"\",\"\",(SUMIF(DMA!$CQ$5:$CQ$603,$A110,DMA!$CP$5:$CP$603)))","v":""},{"$f":"IF(COUNTIF(DMA!I$5:I$503,Graphs!$A110)>0,Graphs!$A110,\"\")","v":""},{"$f":"IF(E110=\"\",\"\",COUNTIF(DMA!I$5:I$503,Graphs!E110))","v":""},{"$f":"IF(E110=\"\",\"\",SUMIF(DMA!I$5:I$503,Graphs!E110,DMA!J$5:J$503)/COUNTIF(DMA!I$5:I$503,Graphs!E110))","v":""},{"$f":"IF(SUMIF(DMA!B$5:B$503,Graphs!A110,DMA!D$5:D$503)>0,Graphs!A110,\"\")","v":""},{"$f":"IF(H110=\"\",\"\",COUNTIF(DMA!B$5:B$503,Graphs!A110))","v":""},{"$f":"IF(H110=\"\",\"\",10^(-0.7083129+0.297*(SUMIF(DMA!B$5:B$503,Graphs!H110,DMA!D$5:D$503)/COUNTIF(DMA!B$5:B$503,Graphs!H110))))","v":""},{"$f":"IF(COUNTIF(DMA!R$5:R$503,Graphs!$A110)>0,Graphs!$A110,\"\")","v":""},{"$f":"IF(K110=\"\",\"\",COUNTIF(DMA!R$5:R$503,Graphs!A110))","v":""},{"$f":"IF(K110=\"\",\"\",(SUMIF(DMA!R$5:R$503,Graphs!A110,DMA!S$5:S$503)/COUNTIF(DMA!R$5:R$503,Graphs!A110)))","v":""},"",{"$f":"IF(COUNTIF(DMA!M$5:M$503,Graphs!$A110)>0,Graphs!$A110,\"\")","v":""},{"$f":"IF($O110=\"\",\"\",SUMIF(DMA!$M$5:$M$503,Graphs!$O110,DMA!N$5:N$503))","v":""},{"$f":"IF($O110=\"\",\"\",SUMIF(DMA!$M$5:$M$503,Graphs!$O110,DMA!O$5:O$503))","v":""},{"$f":"IF($O110=\"\",\"\",SUMIF(DMA!$M$5:$M$503,Graphs!$O110,DMA!P$5:P$503))","v":""},{"$f":"IF($O110=\"\",\"\",SUMIF(DMA!$M$5:$M$503,Graphs!$O110,DMA!Q$5:Q$503))","v":""},"",{"$f":"IF(O110=\"\",\"\",COUNTIF(DMA!M$5:M$503,Graphs!A110))","v":""},"","","","","","","",null,null,null,null,null,null,null,null,null,null,null,null,null,null,null,null,null,null,null,null,null,null,null,"","","",{"$f":"IF(P110=\"\",\"\",IF(P110=0,\"\",SQRT(SUMIF(DMA!$DJ$5:$DJ$503,Graphs!$O110,DMA!DK$5:DK$503))/COUNTIF(DMA!$DJ$5:$DJ$503,Graphs!$O110)))","v":""},{"$f":"IF(Q110=\"\",\"\",IF(Q110=0,\"\",SQRT(SUMIF(DMA!$DJ$5:$DJ$503,Graphs!$O110,DMA!DL$5:DL$503))/COUNTIF(DMA!$DJ$5:$DJ$503,Graphs!$O110)))","v":""},{"$f":"IF(R110=\"\",\"\",IF(R110=0,\"\",SQRT(SUMIF(DMA!$DJ$5:$DJ$503,Graphs!$O110,DMA!DM$5:DM$503))/COUNTIF(DMA!$DJ$5:$DJ$503,Graphs!$O110)))","v":""},{"$f":"IF($P110=\"\",\"\",IF(P110=0,\"\",AVERAGEIF(DMA!$M$5:$M$503,Graphs!$O110,DMA!N$5:N$503)))","v":""},{"$f":"IF($Q110=\"\",\"\",IF(Q110=0,\"\",AVERAGEIF(DMA!$M$5:$M$503,Graphs!$O110,DMA!O$5:O$503)))","v":""},{"$f":"IF($R110=\"\",\"\",IF(R110=0,\"\",AVERAGEIF(DMA!$M$5:$M$503,Graphs!$O110,DMA!P$5:P$503)))","v":""}]
[null,{"$f":"IF(A111=\"\",\"\",(SUMIF(DMA!$AO$5:$AO$604,$A111,DMA!$AQ$5:$AQ$603)/DMA!AQ$604))","v":""},{"$f":"IF(A111=\"\",\"\",(SUMIF(DMA!$CQ$5:$CQ$603,$A111,DMA!$CO$5:$CO$603))*0.01)","v":""},{"$f":"IF(B111=\"\",\"\",(SUMIF(DMA!$CQ$5:$CQ$603,$A111,DMA!$CP$5:$CP$603)))","v":""},{"$f":"IF(COUNTIF(DMA!I$5:I$503,Graphs!$A111)>0,Graphs!$A111,\"\")","v":""},{"$f":"IF(E111=\"\",\"\",COUNTIF(DMA!I$5:I$503,Graphs!E111))","v":""},{"$f":"IF(E111=\"\",\"\",SUMIF(DMA!I$5:I$503,Graphs!E111,DMA!J$5:J$503)/COUNTIF(DMA!I$5:I$503,Graphs!E111))","v":""},{"$f":"IF(SUMIF(DMA!B$5:B$503,Graphs!A111,DMA!D$5:D$503)>0,Graphs!A111,\"\")","v":""},{"$f":"IF(H111=\"\",\"\",COUNTIF(DMA!B$5:B$503,Graphs!A111))","v":""},{"$f":"IF(H111=\"\",\"\",10^(-0.7083129+0.297*(SUMIF(DMA!B$5:B$503,Graphs!H111,DMA!D$5:D$503)/COUNTIF(DMA!B$5:B$503,Graphs!H111))))","v":""},{"$f":"IF(COUNTIF(DMA!R$5:R$503,Graphs!$A111)>0,Graphs!$A111,\"\")","v":""},{"$f":"IF(K111=\"\",\"\",COUNTIF(DMA!R$5:R$503,Graphs!A111))","v":""},{"$f":"IF(K111=\"\",\"\",(SUMIF(DMA!R$5:R$503,Graphs!A111,DMA!S$5:S$503)/COUNTIF(DMA!R$5:R$503,Graphs!A111)))","v":""},"",{"$f":"IF(COUNTIF(DMA!M$5:M$503,Graphs!$A111)>0,Graphs!$A111,\"\")","v":""},{"$f":"IF($O111=\"\",\"\",SUMIF(DMA!$M$5:$M$503,Graphs!$O111,DMA!N$5:N$503))","v":""},{"$f":"IF($O111=\"\",\"\",SUMIF(DMA!$M$5:$M$503,Graphs!$O111,DMA!O$5:O$503))","v":""},{"$f":"IF($O111=\"\",\"\",SUMIF(DMA!$M$5:$M$503,Graphs!$O111,DMA!P$5:P$503))","v":""},{"$f":"IF($O111=\"\",\"\",SUMIF(DMA!$M$5:$M$503,Graphs!$O111,DMA!Q$5:Q$503))","v":""},"",{"$f":"IF(O111=\"\",\"\",COUNTIF(DMA!M$5:M$503,Graphs!A111))","v":""},"","","","","","","",null,null,null,null,null,null,null,null,null,null,null,null,null,null,null,null,null,null,null,null,null,null,null,"","","",{"$f":"IF(P111=\"\",\"\",IF(P111=0,\"\",SQRT(SUMIF(DMA!$DJ$5:$DJ$503,Graphs!$O111,DMA!DK$5:DK$503))/COUNTIF(DMA!$DJ$5:$DJ$503,Graphs!$O111)))","v":""},{"$f":"IF(Q111=\"\",\"\",IF(Q111=0,\"\",SQRT(SUMIF(DMA!$DJ$5:$DJ$503,Graphs!$O111,DMA!DL$5:DL$503))/COUNTIF(DMA!$DJ$5:$DJ$503,Graphs!$O111)))","v":""},{"$f":"IF(R111=\"\",\"\",IF(R111=0,\"\",SQRT(SUMIF(DMA!$DJ$5:$DJ$503,Graphs!$O111,DMA!DM$5:DM$503))/COUNTIF(DMA!$DJ$5:$DJ$503,Graphs!$O111)))","v":""},{"$f":"IF($P111=\"\",\"\",IF(P111=0,\"\",AVERAGEIF(DMA!$M$5:$M$503,Graphs!$O111,DMA!N$5:N$503)))","v":""},{"$f":"IF($Q111=\"\",\"\",IF(Q111=0,\"\",AVERAGEIF(DMA!$M$5:$M$503,Graphs!$O111,DMA!O$5:O$503)))","v":""},{"$f":"IF($R111=\"\",\"\",IF(R111=0,\"\",AVERAGEIF(DMA!$M$5:$M$503,Graphs!$O111,DMA!P$5:P$503)))","v":""}]
[null,{"$f":"IF(A112=\"\",\"\",(SUMIF(DMA!$AO$5:$AO$604,$A112,DMA!$AQ$5:$AQ$603)/DMA!AQ$604))","v":""},{"$f":"IF(A112=\"\",\"\",(SUMIF(DMA!$CQ$5:$CQ$603,$A112,DMA!$CO$5:$CO$603))*0.01)","v":""},{"$f":"IF(B112=\"\",\"\",(SUMIF(DMA!$CQ$5:$CQ$603,$A112,DMA!$CP$5:$CP$603)))","v":""},{"$f":"IF(COUNTIF(DMA!I$5:I$503,Graphs!$A112)>0,Graphs!$A112,\"\")","v":""},{"$f":"IF(E112=\"\",\"\",COUNTIF(DMA!I$5:I$503,Graphs!E112))","v":""},{"$f":"IF(E112=\"\",\"\",SUMIF(DMA!I$5:I$503,Graphs!E112,DMA!J$5:J$503)/COUNTIF(DMA!I$5:I$503,Graphs!E112))","v":""},{"$f":"IF(SUMIF(DMA!B$5:B$503,Graphs!A112,DMA!D$5:D$503)>0,Graphs!A112,\"\")","v":""},{"$f":"IF(H112=\"\",\"\",COUNTIF(DMA!B$5:B$503,Graphs!A112))","v":""},{"$f":"IF(H112=\"\",\"\",10^(-0.7083129+0.297*(SUMIF(DMA!B$5:B$503,Graphs!H112,DMA!D$5:D$503)/COUNTIF(DMA!B$5:B$503,Graphs!H112))))","v":""},{"$f":"IF(COUNTIF(DMA!R$5:R$503,Graphs!$A112)>0,Graphs!$A112,\"\")","v":""},{"$f":"IF(K112=\"\",\"\",COUNTIF(DMA!R$5:R$503,Graphs!A112))","v":""},{"$f":"IF(K112=\"\",\"\",(SUMIF(DMA!R$5:R$503,Graphs!A112,DMA!S$5:S$503)/COUNTIF(DMA!R$5:R$503,Graphs!A112)))","v":""},"",{"$f":"IF(COUNTIF(DMA!M$5:M$503,Graphs!$A112)>0,Graphs!$A112,\"\")","v":""},{"$f":"IF($O112=\"\",\"\",SUMIF(DMA!$M$5:$M$503,Graphs!$O112,DMA!N$5:N$503))","v":""},{"$f":"IF($O112=\"\",\"\",SUMIF(DMA!$M$5:$M$503,Graphs!$O112,DMA!O$5:O$503))","v":""},{"$f":"IF($O112=\"\",\"\",SUMIF(DMA!$M$5:$M$503,Graphs!$O112,DMA!P$5:P$503))","v":""},{"$f":"IF($O112=\"\",\"\",SUMIF(DMA!$M$5:$M$503,Graphs!$O112,DMA!Q$5:Q$503))","v":""},"",{"$f":"IF(O112=\"\",\"\",COUNTIF(DMA!M$5:M$503,Graphs!A112))","v":""},"","","","","","","",null,null,null,null,null,null,null,null,null,null,null,null,null,null,null,null,null,null,null,null,null,null,null,"","","",{"$f":"IF(P112=\"\",\"\",IF(P112=0,\"\",SQRT(SUMIF(DMA!$DJ$5:$DJ$503,Graphs!$O112,DMA!DK$5:DK$503))/COUNTIF(DMA!$DJ$5:$DJ$503,Graphs!$O112)))","v":""},{"$f":"IF(Q112=\"\",\"\",IF(Q112=0,\"\",SQRT(SUMIF(DMA!$DJ$5:$DJ$503,Graphs!$O112,DMA!DL$5:DL$503))/COUNTIF(DMA!$DJ$5:$DJ$503,Graphs!$O112)))","v":""},{"$f":"IF(R112=\"\",\"\",IF(R112=0,\"\",SQRT(SUMIF(DMA!$DJ$5:$DJ$503,Graphs!$O112,DMA!DM$5:DM$503))/COUNTIF(DMA!$DJ$5:$DJ$503,Graphs!$O112)))","v":""},{"$f":"IF($P112=\"\",\"\",IF(P112=0,\"\",AVERAGEIF(DMA!$M$5:$M$503,Graphs!$O112,DMA!N$5:N$503)))","v":""},{"$f":"IF($Q112=\"\",\"\",IF(Q112=0,\"\",AVERAGEIF(DMA!$M$5:$M$503,Graphs!$O112,DMA!O$5:O$503)))","v":""},{"$f":"IF($R112=\"\",\"\",IF(R112=0,\"\",AVERAGEIF(DMA!$M$5:$M$503,Graphs!$O112,DMA!P$5:P$503)))","v":""}]
[null,{"$f":"IF(A113=\"\",\"\",(SUMIF(DMA!$AO$5:$AO$604,$A113,DMA!$AQ$5:$AQ$603)/DMA!AQ$604))","v":""},{"$f":"IF(A113=\"\",\"\",(SUMIF(DMA!$CQ$5:$CQ$603,$A113,DMA!$CO$5:$CO$603))*0.01)","v":""},{"$f":"IF(B113=\"\",\"\",(SUMIF(DMA!$CQ$5:$CQ$603,$A113,DMA!$CP$5:$CP$603)))","v":""},{"$f":"IF(COUNTIF(DMA!I$5:I$503,Graphs!$A113)>0,Graphs!$A113,\"\")","v":""},{"$f":"IF(E113=\"\",\"\",COUNTIF(DMA!I$5:I$503,Graphs!E113))","v":""},{"$f":"IF(E113=\"\",\"\",SUMIF(DMA!I$5:I$503,Graphs!E113,DMA!J$5:J$503)/COUNTIF(DMA!I$5:I$503,Graphs!E113))","v":""},{"$f":"IF(SUMIF(DMA!B$5:B$503,Graphs!A113,DMA!D$5:D$503)>0,Graphs!A113,\"\")","v":""},{"$f":"IF(H113=\"\",\"\",COUNTIF(DMA!B$5:B$503,Graphs!A113))","v":""},{"$f":"IF(H113=\"\",\"\",10^(-0.7083129+0.297*(SUMIF(DMA!B$5:B$503,Graphs!H113,DMA!D$5:D$503)/COUNTIF(DMA!B$5:B$503,Graphs!H113))))","v":""},{"$f":"IF(COUNTIF(DMA!R$5:R$503,Graphs!$A113)>0,Graphs!$A113,\"\")","v":""},{"$f":"IF(K113=\"\",\"\",COUNTIF(DMA!R$5:R$503,Graphs!A113))","v":""},{"$f":"IF(K113=\"\",\"\",(SUMIF(DMA!R$5:R$503,Graphs!A113,DMA!S$5:S$503)/COUNTIF(DMA!R$5:R$503,Graphs!A113)))","v":""},"",{"$f":"IF(COUNTIF(DMA!M$5:M$503,Graphs!$A113)>0,Graphs!$A113,\"\")","v":""},{"$f":"IF($O113=\"\",\"\",SUMIF(DMA!$M$5:$M$503,Graphs!$O113,DMA!N$5:N$503))","v":""},{"$f":"IF($O113=\"\",\"\",SUMIF(DMA!$M$5:$M$503,Graphs!$O113,DMA!O$5:O$503))","v":""},{"$f":"IF($O113=\"\",\"\",SUMIF(DMA!$M$5:$M$503,Graphs!$O113,DMA!P$5:P$503))","v":""},{"$f":"IF($O113=\"\",\"\",SUMIF(DMA!$M$5:$M$503,Graphs!$O113,DMA!Q$5:Q$503))","v":""},"",{"$f":"IF(O113=\"\",\"\",COUNTIF(DMA!M$5:M$503,Graphs!A113))","v":""},"","","","","","","",null,null,null,null,null,null,null,null,null,null,null,null,null,null,null,null,null,null,null,null,null,null,null,"","","",{"$f":"IF(P113=\"\",\"\",IF(P113=0,\"\",SQRT(SUMIF(DMA!$DJ$5:$DJ$503,Graphs!$O113,DMA!DK$5:DK$503))/COUNTIF(DMA!$DJ$5:$DJ$503,Graphs!$O113)))","v":""},{"$f":"IF(Q113=\"\",\"\",IF(Q113=0,\"\",SQRT(SUMIF(DMA!$DJ$5:$DJ$503,Graphs!$O113,DMA!DL$5:DL$503))/COUNTIF(DMA!$DJ$5:$DJ$503,Graphs!$O113)))","v":""},{"$f":"IF(R113=\"\",\"\",IF(R113=0,\"\",SQRT(SUMIF(DMA!$DJ$5:$DJ$503,Graphs!$O113,DMA!DM$5:DM$503))/COUNTIF(DMA!$DJ$5:$DJ$503,Graphs!$O113)))","v":""},{"$f":"IF($P113=\"\",\"\",IF(P113=0,\"\",AVERAGEIF(DMA!$M$5:$M$503,Graphs!$O113,DMA!N$5:N$503)))","v":""},{"$f":"IF($Q113=\"\",\"\",IF(Q113=0,\"\",AVERAGEIF(DMA!$M$5:$M$503,Graphs!$O113,DMA!O$5:O$503)))","v":""},{"$f":"IF($R113=\"\",\"\",IF(R113=0,\"\",AVERAGEIF(DMA!$M$5:$M$503,Graphs!$O113,DMA!P$5:P$503)))","v":""}]
[null,{"$f":"IF(A114=\"\",\"\",(SUMIF(DMA!$AO$5:$AO$604,$A114,DMA!$AQ$5:$AQ$603)/DMA!AQ$604))","v":""},{"$f":"IF(A114=\"\",\"\",(SUMIF(DMA!$CQ$5:$CQ$603,$A114,DMA!$CO$5:$CO$603))*0.01)","v":""},{"$f":"IF(B114=\"\",\"\",(SUMIF(DMA!$CQ$5:$CQ$603,$A114,DMA!$CP$5:$CP$603)))","v":""},{"$f":"IF(COUNTIF(DMA!I$5:I$503,Graphs!$A114)>0,Graphs!$A114,\"\")","v":""},{"$f":"IF(E114=\"\",\"\",COUNTIF(DMA!I$5:I$503,Graphs!E114))","v":""},{"$f":"IF(E114=\"\",\"\",SUMIF(DMA!I$5:I$503,Graphs!E114,DMA!J$5:J$503)/COUNTIF(DMA!I$5:I$503,Graphs!E114))","v":""},{"$f":"IF(SUMIF(DMA!B$5:B$503,Graphs!A114,DMA!D$5:D$503)>0,Graphs!A114,\"\")","v":""},{"$f":"IF(H114=\"\",\"\",COUNTIF(DMA!B$5:B$503,Graphs!A114))","v":""},{"$f":"IF(H114=\"\",\"\",10^(-0.7083129+0.297*(SUMIF(DMA!B$5:B$503,Graphs!H114,DMA!D$5:D$503)/COUNTIF(DMA!B$5:B$503,Graphs!H114))))","v":""},{"$f":"IF(COUNTIF(DMA!R$5:R$503,Graphs!$A114)>0,Graphs!$A114,\"\")","v":""},{"$f":"IF(K114=\"\",\"\",COUNTIF(DMA!R$5:R$503,Graphs!A114))","v":""},{"$f":"IF(K114=\"\",\"\",(SUMIF(DMA!R$5:R$503,Graphs!A114,DMA!S$5:S$503)/COUNTIF(DMA!R$5:R$503,Graphs!A114)))","v":""},"",{"$f":"IF(COUNTIF(DMA!M$5:M$503,Graphs!$A114)>0,Graphs!$A114,\"\")","v":""},{"$f":"IF($O114=\"\",\"\",SUMIF(DMA!$M$5:$M$503,Graphs!$O114,DMA!N$5:N$503))","v":""},{"$f":"IF($O114=\"\",\"\",SUMIF(DMA!$M$5:$M$503,Graphs!$O114,DMA!O$5:O$503))","v":""},{"$f":"IF($O114=\"\",\"\",SUMIF(DMA!$M$5:$M$503,Graphs!$O114,DMA!P$5:P$503))","v":""},{"$f":"IF($O114=\"\",\"\",SUMIF(DMA!$M$5:$M$503,Graphs!$O114,DMA!Q$5:Q$503))","v":""},"",{"$f":"IF(O114=\"\",\"\",COUNTIF(DMA!M$5:M$503,Graphs!A114))","v":""},"","","","","","","",null,null,null,null,null,null,null,null,null,null,null,null,null,null,null,null,null,null,null,null,null,null,null,"","","",{"$f":"IF(P114=\"\",\"\",IF(P114=0,\"\",SQRT(SUMIF(DMA!$DJ$5:$DJ$503,Graphs!$O114,DMA!DK$5:DK$503))/COUNTIF(DMA!$DJ$5:$DJ$503,Graphs!$O114)))","v":""},{"$f":"IF(Q114=\"\",\"\",IF(Q114=0,\"\",SQRT(SUMIF(DMA!$DJ$5:$DJ$503,Graphs!$O114,DMA!DL$5:DL$503))/COUNTIF(DMA!$DJ$5:$DJ$503,Graphs!$O114)))","v":""},{"$f":"IF(R114=\"\",\"\",IF(R114=0,\"\",SQRT(SUMIF(DMA!$DJ$5:$DJ$503,Graphs!$O114,DMA!DM$5:DM$503))/COUNTIF(DMA!$DJ$5:$DJ$503,Graphs!$O114)))","v":""},{"$f":"IF($P114=\"\",\"\",IF(P114=0,\"\",AVERAGEIF(DMA!$M$5:$M$503,Graphs!$O114,DMA!N$5:N$503)))","v":""},{"$f":"IF($Q114=\"\",\"\",IF(Q114=0,\"\",AVERAGEIF(DMA!$M$5:$M$503,Graphs!$O114,DMA!O$5:O$503)))","v":""},{"$f":"IF($R114=\"\",\"\",IF(R114=0,\"\",AVERAGEIF(DMA!$M$5:$M$503,Graphs!$O114,DMA!P$5:P$503)))","v":""}]
[null,{"$f":"IF(A115=\"\",\"\",(SUMIF(DMA!$AO$5:$AO$604,$A115,DMA!$AQ$5:$AQ$603)/DMA!AQ$604))","v":""},{"$f":"IF(A115=\"\",\"\",(SUMIF(DMA!$CQ$5:$CQ$603,$A115,DMA!$CO$5:$CO$603))*0.01)","v":""},{"$f":"IF(B115=\"\",\"\",(SUMIF(DMA!$CQ$5:$CQ$603,$A115,DMA!$CP$5:$CP$603)))","v":""},{"$f":"IF(COUNTIF(DMA!I$5:I$503,Graphs!$A115)>0,Graphs!$A115,\"\")","v":""},{"$f":"IF(E115=\"\",\"\",COUNTIF(DMA!I$5:I$503,Graphs!E115))","v":""},{"$f":"IF(E115=\"\",\"\",SUMIF(DMA!I$5:I$503,Graphs!E115,DMA!J$5:J$503)/COUNTIF(DMA!I$5:I$503,Graphs!E115))","v":""},{"$f":"IF(SUMIF(DMA!B$5:B$503,Graphs!A115,DMA!D$5:D$503)>0,Graphs!A115,\"\")","v":""},{"$f":"IF(H115=\"\",\"\",COUNTIF(DMA!B$5:B$503,Graphs!A115))","v":""},{"$f":"IF(H115=\"\",\"\",10^(-0.7083129+0.297*(SUMIF(DMA!B$5:B$503,Graphs!H115,DMA!D$5:D$503)/COUNTIF(DMA!B$5:B$503,Graphs!H115))))","v":""},{"$f":"IF(COUNTIF(DMA!R$5:R$503,Graphs!$A115)>0,Graphs!$A115,\"\")","v":""},{"$f":"IF(K115=\"\",\"\",COUNTIF(DMA!R$5:R$503,Graphs!A115))","v":""},{"$f":"IF(K115=\"\",\"\",(SUMIF(DMA!R$5:R$503,Graphs!A115,DMA!S$5:S$503)/COUNTIF(DMA!R$5:R$503,Graphs!A115)))","v":""},"",{"$f":"IF(COUNTIF(DMA!M$5:M$503,Graphs!$A115)>0,Graphs!$A115,\"\")","v":""},{"$f":"IF($O115=\"\",\"\",SUMIF(DMA!$M$5:$M$503,Graphs!$O115,DMA!N$5:N$503))","v":""},{"$f":"IF($O115=\"\",\"\",SUMIF(DMA!$M$5:$M$503,Graphs!$O115,DMA!O$5:O$503))","v":""},{"$f":"IF($O115=\"\",\"\",SUMIF(DMA!$M$5:$M$503,Graphs!$O115,DMA!P$5:P$503))","v":""},{"$f":"IF($O115=\"\",\"\",SUMIF(DMA!$M$5:$M$503,Graphs!$O115,DMA!Q$5:Q$503))","v":""},"",{"$f":"IF(O115=\"\",\"\",COUNTIF(DMA!M$5:M$503,Graphs!A115))","v":""},"","","","","","","",null,null,null,null,null,null,null,null,null,null,null,null,null,null,null,null,null,null,null,null,null,null,null,"","","",{"$f":"IF(P115=\"\",\"\",IF(P115=0,\"\",SQRT(SUMIF(DMA!$DJ$5:$DJ$503,Graphs!$O115,DMA!DK$5:DK$503))/COUNTIF(DMA!$DJ$5:$DJ$503,Graphs!$O115)))","v":""},{"$f":"IF(Q115=\"\",\"\",IF(Q115=0,\"\",SQRT(SUMIF(DMA!$DJ$5:$DJ$503,Graphs!$O115,DMA!DL$5:DL$503))/COUNTIF(DMA!$DJ$5:$DJ$503,Graphs!$O115)))","v":""},{"$f":"IF(R115=\"\",\"\",IF(R115=0,\"\",SQRT(SUMIF(DMA!$DJ$5:$DJ$503,Graphs!$O115,DMA!DM$5:DM$503))/COUNTIF(DMA!$DJ$5:$DJ$503,Graphs!$O115)))","v":""},{"$f":"IF($P115=\"\",\"\",IF(P115=0,\"\",AVERAGEIF(DMA!$M$5:$M$503,Graphs!$O115,DMA!N$5:N$503)))","v":""},{"$f":"IF($Q115=\"\",\"\",IF(Q115=0,\"\",AVERAGEIF(DMA!$M$5:$M$503,Graphs!$O115,DMA!O$5:O$503)))","v":""},{"$f":"IF($R115=\"\",\"\",IF(R115=0,\"\",AVERAGEIF(DMA!$M$5:$M$503,Graphs!$O115,DMA!P$5:P$503)))","v":""}]
[null,{"$f":"IF(A116=\"\",\"\",(SUMIF(DMA!$AO$5:$AO$604,$A116,DMA!$AQ$5:$AQ$603)/DMA!AQ$604))","v":""},{"$f":"IF(A116=\"\",\"\",(SUMIF(DMA!$CQ$5:$CQ$603,$A116,DMA!$CO$5:$CO$603))*0.01)","v":""},{"$f":"IF(B116=\"\",\"\",(SUMIF(DMA!$CQ$5:$CQ$603,$A116,DMA!$CP$5:$CP$603)))","v":""},{"$f":"IF(COUNTIF(DMA!I$5:I$503,Graphs!$A116)>0,Graphs!$A116,\"\")","v":""},{"$f":"IF(E116=\"\",\"\",COUNTIF(DMA!I$5:I$503,Graphs!E116))","v":""},{"$f":"IF(E116=\"\",\"\",SUMIF(DMA!I$5:I$503,Graphs!E116,DMA!J$5:J$503)/COUNTIF(DMA!I$5:I$503,Graphs!E116))","v":""},{"$f":"IF(SUMIF(DMA!B$5:B$503,Graphs!A116,DMA!D$5:D$503)>0,Graphs!A116,\"\")","v":""},{"$f":"IF(H116=\"\",\"\",COUNTIF(DMA!B$5:B$503,Graphs!A116))","v":""},{"$f":"IF(H116=\"\",\"\",10^(-0.7083129+0.297*(SUMIF(DMA!B$5:B$503,Graphs!H116,DMA!D$5:D$503)/COUNTIF(DMA!B$5:B$503,Graphs!H116))))","v":""},{"$f":"IF(COUNTIF(DMA!R$5:R$503,Graphs!$A116)>0,Graphs!$A116,\"\")","v":""},{"$f":"IF(K116=\"\",\"\",COUNTIF(DMA!R$5:R$503,Graphs!A116))","v":""},{"$f":"IF(K116=\"\",\"\",(SUMIF(DMA!R$5:R$503,Graphs!A116,DMA!S$5:S$503)/COUNTIF(DMA!R$5:R$503,Graphs!A116)))","v":""},"",{"$f":"IF(COUNTIF(DMA!M$5:M$503,Graphs!$A116)>0,Graphs!$A116,\"\")","v":""},{"$f":"IF($O116=\"\",\"\",SUMIF(DMA!$M$5:$M$503,Graphs!$O116,DMA!N$5:N$503))","v":""},{"$f":"IF($O116=\"\",\"\",SUMIF(DMA!$M$5:$M$503,Graphs!$O116,DMA!O$5:O$503))","v":""},{"$f":"IF($O116=\"\",\"\",SUMIF(DMA!$M$5:$M$503,Graphs!$O116,DMA!P$5:P$503))","v":""},{"$f":"IF($O116=\"\",\"\",SUMIF(DMA!$M$5:$M$503,Graphs!$O116,DMA!Q$5:Q$503))","v":""},"",{"$f":"IF(O116=\"\",\"\",COUNTIF(DMA!M$5:M$503,Graphs!A116))","v":""},"","","","","","","",null,null,null,null,null,null,null,null,null,null,null,null,null,null,null,null,null,null,null,null,null,null,null,"","","",{"$f":"IF(P116=\"\",\"\",IF(P116=0,\"\",SQRT(SUMIF(DMA!$DJ$5:$DJ$503,Graphs!$O116,DMA!DK$5:DK$503))/COUNTIF(DMA!$DJ$5:$DJ$503,Graphs!$O116)))","v":""},{"$f":"IF(Q116=\"\",\"\",IF(Q116=0,\"\",SQRT(SUMIF(DMA!$DJ$5:$DJ$503,Graphs!$O116,DMA!DL$5:DL$503))/COUNTIF(DMA!$DJ$5:$DJ$503,Graphs!$O116)))","v":""},{"$f":"IF(R116=\"\",\"\",IF(R116=0,\"\",SQRT(SUMIF(DMA!$DJ$5:$DJ$503,Graphs!$O116,DMA!DM$5:DM$503))/COUNTIF(DMA!$DJ$5:$DJ$503,Graphs!$O116)))","v":""},{"$f":"IF($P116=\"\",\"\",IF(P116=0,\"\",AVERAGEIF(DMA!$M$5:$M$503,Graphs!$O116,DMA!N$5:N$503)))","v":""},{"$f":"IF($Q116=\"\",\"\",IF(Q116=0,\"\",AVERAGEIF(DMA!$M$5:$M$503,Graphs!$O116,DMA!O$5:O$503)))","v":""},{"$f":"IF($R116=\"\",\"\",IF(R116=0,\"\",AVERAGEIF(DMA!$M$5:$M$503,Graphs!$O116,DMA!P$5:P$503)))","v":""}]
[null,{"$f":"IF(A117=\"\",\"\",(SUMIF(DMA!$AO$5:$AO$604,$A117,DMA!$AQ$5:$AQ$603)/DMA!AQ$604))","v":""},{"$f":"IF(A117=\"\",\"\",(SUMIF(DMA!$CQ$5:$CQ$603,$A117,DMA!$CO$5:$CO$603))*0.01)","v":""},{"$f":"IF(B117=\"\",\"\",(SUMIF(DMA!$CQ$5:$CQ$603,$A117,DMA!$CP$5:$CP$603)))","v":""},{"$f":"IF(COUNTIF(DMA!I$5:I$503,Graphs!$A117)>0,Graphs!$A117,\"\")","v":""},{"$f":"IF(E117=\"\",\"\",COUNTIF(DMA!I$5:I$503,Graphs!E117))","v":""},{"$f":"IF(E117=\"\",\"\",SUMIF(DMA!I$5:I$503,Graphs!E117,DMA!J$5:J$503)/COUNTIF(DMA!I$5:I$503,Graphs!E117))","v":""},{"$f":"IF(SUMIF(DMA!B$5:B$503,Graphs!A117,DMA!D$5:D$503)>0,Graphs!A117,\"\")","v":""},{"$f":"IF(H117=\"\",\"\",COUNTIF(DMA!B$5:B$503,Graphs!A117))","v":""},{"$f":"IF(H117=\"\",\"\",10^(-0.7083129+0.297*(SUMIF(DMA!B$5:B$503,Graphs!H117,DMA!D$5:D$503)/COUNTIF(DMA!B$5:B$503,Graphs!H117))))","v":""},{"$f":"IF(COUNTIF(DMA!R$5:R$503,Graphs!$A117)>0,Graphs!$A117,\"\")","v":""},{"$f":"IF(K117=\"\",\"\",COUNTIF(DMA!R$5:R$503,Graphs!A117))","v":""},{"$f":"IF(K117=\"\",\"\",(SUMIF(DMA!R$5:R$503,Graphs!A117,DMA!S$5:S$503)/COUNTIF(DMA!R$5:R$503,Graphs!A117)))","v":""},"",{"$f":"IF(COUNTIF(DMA!M$5:M$503,Graphs!$A117)>0,Graphs!$A117,\"\")","v":""},{"$f":"IF($O117=\"\",\"\",SUMIF(DMA!$M$5:$M$503,Graphs!$O117,DMA!N$5:N$503))","v":""},{"$f":"IF($O117=\"\",\"\",SUMIF(DMA!$M$5:$M$503,Graphs!$O117,DMA!O$5:O$503))","v":""},{"$f":"IF($O117=\"\",\"\",SUMIF(DMA!$M$5:$M$503,Graphs!$O117,DMA!P$5:P$503))","v":""},{"$f":"IF($O117=\"\",\"\",SUMIF(DMA!$M$5:$M$503,Graphs!$O117,DMA!Q$5:Q$503))","v":""},"",{"$f":"IF(O117=\"\",\"\",COUNTIF(DMA!M$5:M$503,Graphs!A117))","v":""},"","","","","","","",null,null,null,null,null,null,null,null,null,null,null,null,null,null,null,null,null,null,null,null,null,null,null,"","","",{"$f":"IF(P117=\"\",\"\",IF(P117=0,\"\",SQRT(SUMIF(DMA!$DJ$5:$DJ$503,Graphs!$O117,DMA!DK$5:DK$503))/COUNTIF(DMA!$DJ$5:$DJ$503,Graphs!$O117)))","v":""},{"$f":"IF(Q117=\"\",\"\",IF(Q117=0,\"\",SQRT(SUMIF(DMA!$DJ$5:$DJ$503,Graphs!$O117,DMA!DL$5:DL$503))/COUNTIF(DMA!$DJ$5:$DJ$503,Graphs!$O117)))","v":""},{"$f":"IF(R117=\"\",\"\",IF(R117=0,\"\",SQRT(SUMIF(DMA!$DJ$5:$DJ$503,Graphs!$O117,DMA!DM$5:DM$503))/COUNTIF(DMA!$DJ$5:$DJ$503,Graphs!$O117)))","v":""},{"$f":"IF($P117=\"\",\"\",IF(P117=0,\"\",AVERAGEIF(DMA!$M$5:$M$503,Graphs!$O117,DMA!N$5:N$503)))","v":""},{"$f":"IF($Q117=\"\",\"\",IF(Q117=0,\"\",AVERAGEIF(DMA!$M$5:$M$503,Graphs!$O117,DMA!O$5:O$503)))","v":""},{"$f":"IF($R117=\"\",\"\",IF(R117=0,\"\",AVERAGEIF(DMA!$M$5:$M$503,Graphs!$O117,DMA!P$5:P$503)))","v":""}]
[null,{"$f":"IF(A118=\"\",\"\",(SUMIF(DMA!$AO$5:$AO$604,$A118,DMA!$AQ$5:$AQ$603)/DMA!AQ$604))","v":""},{"$f":"IF(A118=\"\",\"\",(SUMIF(DMA!$CQ$5:$CQ$603,$A118,DMA!$CO$5:$CO$603))*0.01)","v":""},{"$f":"IF(B118=\"\",\"\",(SUMIF(DMA!$CQ$5:$CQ$603,$A118,DMA!$CP$5:$CP$603)))","v":""},{"$f":"IF(COUNTIF(DMA!I$5:I$503,Graphs!$A118)>0,Graphs!$A118,\"\")","v":""},{"$f":"IF(E118=\"\",\"\",COUNTIF(DMA!I$5:I$503,Graphs!E118))","v":""},{"$f":"IF(E118=\"\",\"\",SUMIF(DMA!I$5:I$503,Graphs!E118,DMA!J$5:J$503)/COUNTIF(DMA!I$5:I$503,Graphs!E118))","v":""},{"$f":"IF(SUMIF(DMA!B$5:B$503,Graphs!A118,DMA!D$5:D$503)>0,Graphs!A118,\"\")","v":""},{"$f":"IF(H118=\"\",\"\",COUNTIF(DMA!B$5:B$503,Graphs!A118))","v":""},{"$f":"IF(H118=\"\",\"\",10^(-0.7083129+0.297*(SUMIF(DMA!B$5:B$503,Graphs!H118,DMA!D$5:D$503)/COUNTIF(DMA!B$5:B$503,Graphs!H118))))","v":""},{"$f":"IF(COUNTIF(DMA!R$5:R$503,Graphs!$A118)>0,Graphs!$A118,\"\")","v":""},{"$f":"IF(K118=\"\",\"\",COUNTIF(DMA!R$5:R$503,Graphs!A118))","v":""},{"$f":"IF(K118=\"\",\"\",(SUMIF(DMA!R$5:R$503,Graphs!A118,DMA!S$5:S$503)/COUNTIF(DMA!R$5:R$503,Graphs!A118)))","v":""},"",{"$f":"IF(COUNTIF(DMA!M$5:M$503,Graphs!$A118)>0,Graphs!$A118,\"\")","v":""},{"$f":"IF($O118=\"\",\"\",SUMIF(DMA!$M$5:$M$503,Graphs!$O118,DMA!N$5:N$503))","v":""},{"$f":"IF($O118=\"\",\"\",SUMIF(DMA!$M$5:$M$503,Graphs!$O118,DMA!O$5:O$503))","v":""},{"$f":"IF($O118=\"\",\"\",SUMIF(DMA!$M$5:$M$503,Graphs!$O118,DMA!P$5:P$503))","v":""},{"$f":"IF($O118=\"\",\"\",SUMIF(DMA!$M$5:$M$503,Graphs!$O118,DMA!Q$5:Q$503))","v":""},"",{"$f":"IF(O118=\"\",\"\",COUNTIF(DMA!M$5:M$503,Graphs!A118))","v":""},"","","","","","","",null,null,null,null,null,null,null,null,null,null,null,null,null,null,null,null,null,null,null,null,null,null,null,"","","",{"$f":"IF(P118=\"\",\"\",IF(P118=0,\"\",SQRT(SUMIF(DMA!$DJ$5:$DJ$503,Graphs!$O118,DMA!DK$5:DK$503))/COUNTIF(DMA!$DJ$5:$DJ$503,Graphs!$O118)))","v":""},{"$f":"IF(Q118=\"\",\"\",IF(Q118=0,\"\",SQRT(SUMIF(DMA!$DJ$5:$DJ$503,Graphs!$O118,DMA!DL$5:DL$503))/COUNTIF(DMA!$DJ$5:$DJ$503,Graphs!$O118)))","v":""},{"$f":"IF(R118=\"\",\"\",IF(R118=0,\"\",SQRT(SUMIF(DMA!$DJ$5:$DJ$503,Graphs!$O118,DMA!DM$5:DM$503))/COUNTIF(DMA!$DJ$5:$DJ$503,Graphs!$O118)))","v":""},{"$f":"IF($P118=\"\",\"\",IF(P118=0,\"\",AVERAGEIF(DMA!$M$5:$M$503,Graphs!$O118,DMA!N$5:N$503)))","v":""},{"$f":"IF($Q118=\"\",\"\",IF(Q118=0,\"\",AVERAGEIF(DMA!$M$5:$M$503,Graphs!$O118,DMA!O$5:O$503)))","v":""},{"$f":"IF($R118=\"\",\"\",IF(R118=0,\"\",AVERAGEIF(DMA!$M$5:$M$503,Graphs!$O118,DMA!P$5:P$503)))","v":""}]
[null,{"$f":"IF(A119=\"\",\"\",(SUMIF(DMA!$AO$5:$AO$604,$A119,DMA!$AQ$5:$AQ$603)/DMA!AQ$604))","v":""},{"$f":"IF(A119=\"\",\"\",(SUMIF(DMA!$CQ$5:$CQ$603,$A119,DMA!$CO$5:$CO$603))*0.01)","v":""},{"$f":"IF(B119=\"\",\"\",(SUMIF(DMA!$CQ$5:$CQ$603,$A119,DMA!$CP$5:$CP$603)))","v":""},{"$f":"IF(COUNTIF(DMA!I$5:I$503,Graphs!$A119)>0,Graphs!$A119,\"\")","v":""},{"$f":"IF(E119=\"\",\"\",COUNTIF(DMA!I$5:I$503,Graphs!E119))","v":""},{"$f":"IF(E119=\"\",\"\",SUMIF(DMA!I$5:I$503,Graphs!E119,DMA!J$5:J$503)/COUNTIF(DMA!I$5:I$503,Graphs!E119))","v":""},{"$f":"IF(SUMIF(DMA!B$5:B$503,Graphs!A119,DMA!D$5:D$503)>0,Graphs!A119,\"\")","v":""},{"$f":"IF(H119=\"\",\"\",COUNTIF(DMA!B$5:B$503,Graphs!A119))","v":""},{"$f":"IF(H119=\"\",\"\",10^(-0.7083129+0.297*(SUMIF(DMA!B$5:B$503,Graphs!H119,DMA!D$5:D$503)/COUNTIF(DMA!B$5:B$503,Graphs!H119))))","v":""},{"$f":"IF(COUNTIF(DMA!R$5:R$503,Graphs!$A119)>0,Graphs!$A119,\"\")","v":""},{"$f":"IF(K119=\"\",\"\",COUNTIF(DMA!R$5:R$503,Graphs!A119))","v":""},{"$f":"IF(K119=\"\",\"\",(SUMIF(DMA!R$5:R$503,Graphs!A119,DMA!S$5:S$503)/COUNTIF(DMA!R$5:R$503,Graphs!A119)))","v":""},"",{"$f":"IF(COUNTIF(DMA!M$5:M$503,Graphs!$A119)>0,Graphs!$A119,\"\")","v":""},{"$f":"IF($O119=\"\",\"\",SUMIF(DMA!$M$5:$M$503,Graphs!$O119,DMA!N$5:N$503))","v":""},{"$f":"IF($O119=\"\",\"\",SUMIF(DMA!$M$5:$M$503,Graphs!$O119,DMA!O$5:O$503))","v":""},{"$f":"IF($O119=\"\",\"\",SUMIF(DMA!$M$5:$M$503,Graphs!$O119,DMA!P$5:P$503))","v":""},{"$f":"IF($O119=\"\",\"\",SUMIF(DMA!$M$5:$M$503,Graphs!$O119,DMA!Q$5:Q$503))","v":""},"",{"$f":"IF(O119=\"\",\"\",COUNTIF(DMA!M$5:M$503,Graphs!A119))","v":""},"","","","","","","",null,null,null,null,null,null,null,null,null,null,null,null,null,null,null,null,null,null,null,null,null,null,null,"","","",{"$f":"IF(P119=\"\",\"\",IF(P119=0,\"\",SQRT(SUMIF(DMA!$DJ$5:$DJ$503,Graphs!$O119,DMA!DK$5:DK$503))/COUNTIF(DMA!$DJ$5:$DJ$503,Graphs!$O119)))","v":""},{"$f":"IF(Q119=\"\",\"\",IF(Q119=0,\"\",SQRT(SUMIF(DMA!$DJ$5:$DJ$503,Graphs!$O119,DMA!DL$5:DL$503))/COUNTIF(DMA!$DJ$5:$DJ$503,Graphs!$O119)))","v":""},{"$f":"IF(R119=\"\",\"\",IF(R119=0,\"\",SQRT(SUMIF(DMA!$DJ$5:$DJ$503,Graphs!$O119,DMA!DM$5:DM$503))/COUNTIF(DMA!$DJ$5:$DJ$503,Graphs!$O119)))","v":""},{"$f":"IF($P119=\"\",\"\",IF(P119=0,\"\",AVERAGEIF(DMA!$M$5:$M$503,Graphs!$O119,DMA!N$5:N$503)))","v":""},{"$f":"IF($Q119=\"\",\"\",IF(Q119=0,\"\",AVERAGEIF(DMA!$M$5:$M$503,Graphs!$O119,DMA!O$5:O$503)))","v":""},{"$f":"IF($R119=\"\",\"\",IF(R119=0,\"\",AVERAGEIF(DMA!$M$5:$M$503,Graphs!$O119,DMA!P$5:P$503)))","v":""}]
[null,{"$f":"IF(A120=\"\",\"\",(SUMIF(DMA!$AO$5:$AO$604,$A120,DMA!$AQ$5:$AQ$603)/DMA!AQ$604))","v":""},{"$f":"IF(A120=\"\",\"\",(SUMIF(DMA!$CQ$5:$CQ$603,$A120,DMA!$CO$5:$CO$603))*0.01)","v":""},{"$f":"IF(B120=\"\",\"\",(SUMIF(DMA!$CQ$5:$CQ$603,$A120,DMA!$CP$5:$CP$603)))","v":""},{"$f":"IF(COUNTIF(DMA!I$5:I$503,Graphs!$A120)>0,Graphs!$A120,\"\")","v":""},{"$f":"IF(E120=\"\",\"\",COUNTIF(DMA!I$5:I$503,Graphs!E120))","v":""},{"$f":"IF(E120=\"\",\"\",SUMIF(DMA!I$5:I$503,Graphs!E120,DMA!J$5:J$503)/COUNTIF(DMA!I$5:I$503,Graphs!E120))","v":""},{"$f":"IF(SUMIF(DMA!B$5:B$503,Graphs!A120,DMA!D$5:D$503)>0,Graphs!A120,\"\")","v":""},{"$f":"IF(H120=\"\",\"\",COUNTIF(DMA!B$5:B$503,Graphs!A120))","v":""},{"$f":"IF(H120=\"\",\"\",10^(-0.7083129+0.297*(SUMIF(DMA!B$5:B$503,Graphs!H120,DMA!D$5:D$503)/COUNTIF(DMA!B$5:B$503,Graphs!H120))))","v":""},{"$f":"IF(COUNTIF(DMA!R$5:R$503,Graphs!$A120)>0,Graphs!$A120,\"\")","v":""},{"$f":"IF(K120=\"\",\"\",COUNTIF(DMA!R$5:R$503,Graphs!A120))","v":""},{"$f":"IF(K120=\"\",\"\",(SUMIF(DMA!R$5:R$503,Graphs!A120,DMA!S$5:S$503)/COUNTIF(DMA!R$5:R$503,Graphs!A120)))","v":""},"",{"$f":"IF(COUNTIF(DMA!M$5:M$503,Graphs!$A120)>0,Graphs!$A120,\"\")","v":""},{"$f":"IF($O120=\"\",\"\",SUMIF(DMA!$M$5:$M$503,Graphs!$O120,DMA!N$5:N$503))","v":""},{"$f":"IF($O120=\"\",\"\",SUMIF(DMA!$M$5:$M$503,Graphs!$O120,DMA!O$5:O$503))","v":""},{"$f":"IF($O120=\"\",\"\",SUMIF(DMA!$M$5:$M$503,Graphs!$O120,DMA!P$5:P$503))","v":""},{"$f":"IF($O120=\"\",\"\",SUMIF(DMA!$M$5:$M$503,Graphs!$O120,DMA!Q$5:Q$503))","v":""},"",{"$f":"IF(O120=\"\",\"\",COUNTIF(DMA!M$5:M$503,Graphs!A120))","v":""},"","","","","","","",null,null,null,null,null,null,null,null,null,null,null,null,null,null,null,null,null,null,null,null,null,null,null,{"$f":"IF(BC120=\"\",\"\",IF(BC120=1,\"\",IF(BC120=0,\"\",CONFIDENCE(0.05,BC120,BM120))))","v":""},{"$f":"IF(BD120=\"\",\"\",IF(BD120=1,\"\",IF(BD120=0,\"\",CONFIDENCE(0.05,BD120,BN120))))","v":""},{"$f":"IF(BE120=\"\",\"\",IF(BE120=1,\"\",IF(BE120=0,\"\",CONFIDENCE(0.05,BE120,BO120))))","v":""},{"$f":"IF(P120=\"\",\"\",IF(P120=0,\"\",SQRT(SUMIF(DMA!$DJ$5:$DJ$503,Graphs!$O120,DMA!DK$5:DK$503))/COUNTIF(DMA!$DJ$5:$DJ$503,Graphs!$O120)))","v":""},{"$f":"IF(Q120=\"\",\"\",IF(Q120=0,\"\",SQRT(SUMIF(DMA!$DJ$5:$DJ$503,Graphs!$O120,DMA!DL$5:DL$503))/COUNTIF(DMA!$DJ$5:$DJ$503,Graphs!$O120)))","v":""},{"$f":"IF(R120=\"\",\"\",IF(R120=0,\"\",SQRT(SUMIF(DMA!$DJ$5:$DJ$503,Graphs!$O120,DMA!DM$5:DM$503))/COUNTIF(DMA!$DJ$5:$DJ$503,Graphs!$O120)))","v":""},{"$f":"IF($P120=\"\",\"\",IF(P120=0,\"\",AVERAGEIF(DMA!$M$5:$M$503,Graphs!$O120,DMA!N$5:N$503)))","v":""},{"$f":"IF($Q120=\"\",\"\",IF(Q120=0,\"\",AVERAGEIF(DMA!$M$5:$M$503,Graphs!$O120,DMA!O$5:O$503)))","v":""},{"$f":"IF($R120=\"\",\"\",IF(R120=0,\"\",AVERAGEIF(DMA!$M$5:$M$503,Graphs!$O120,DMA!P$5:P$503)))","v":""}]
[null,{"$f":"IF(A121=\"\",\"\",(SUMIF(DMA!$AO$5:$AO$604,$A121,DMA!$AQ$5:$AQ$603)/DMA!AQ$604))","v":""},{"$f":"IF(A121=\"\",\"\",(SUMIF(DMA!$CQ$5:$CQ$603,$A121,DMA!$CO$5:$CO$603))*0.01)","v":""},{"$f":"IF(B121=\"\",\"\",(SUMIF(DMA!$CQ$5:$CQ$603,$A121,DMA!$CP$5:$CP$603)))","v":""},{"$f":"IF(COUNTIF(DMA!I$5:I$503,Graphs!$A121)>0,Graphs!$A121,\"\")","v":""},{"$f":"IF(E121=\"\",\"\",COUNTIF(DMA!I$5:I$503,Graphs!E121))","v":""},{"$f":"IF(E121=\"\",\"\",SUMIF(DMA!I$5:I$503,Graphs!E121,DMA!J$5:J$503)/COUNTIF(DMA!I$5:I$503,Graphs!E121))","v":""},{"$f":"IF(SUMIF(DMA!B$5:B$503,Graphs!A121,DMA!D$5:D$503)>0,Graphs!A121,\"\")","v":""},{"$f":"IF(H121=\"\",\"\",COUNTIF(DMA!B$5:B$503,Graphs!A121))","v":""},{"$f":"IF(H121=\"\",\"\",10^(-0.7083129+0.297*(SUMIF(DMA!B$5:B$503,Graphs!H121,DMA!D$5:D$503)/COUNTIF(DMA!B$5:B$503,Graphs!H121))))","v":""},{"$f":"IF(COUNTIF(DMA!R$5:R$503,Graphs!$A121)>0,Graphs!$A121,\"\")","v":""},{"$f":"IF(K121=\"\",\"\",COUNTIF(DMA!R$5:R$503,Graphs!A121))","v":""},{"$f":"IF(K121=\"\",\"\",(SUMIF(DMA!R$5:R$503,Graphs!A121,DMA!S$5:S$503)/COUNTIF(DMA!R$5:R$503,Graphs!A121)))","v":""},"",{"$f":"IF(COUNTIF(DMA!M$5:M$503,Graphs!$A121)>0,Graphs!$A121,\"\")","v":""},{"$f":"IF($O121=\"\",\"\",SUMIF(DMA!$M$5:$M$503,Graphs!$O121,DMA!N$5:N$503))","v":""},{"$f":"IF($O121=\"\",\"\",SUMIF(DMA!$M$5:$M$503,Graphs!$O121,DMA!O$5:O$503))","v":""},{"$f":"IF($O121=\"\",\"\",SUMIF(DMA!$M$5:$M$503,Graphs!$O121,DMA!P$5:P$503))","v":""},{"$f":"IF($O121=\"\",\"\",SUMIF(DMA!$M$5:$M$503,Graphs!$O121,DMA!Q$5:Q$503))","v":""},"",{"$f":"IF(O121=\"\",\"\",COUNTIF(DMA!M$5:M$503,Graphs!A121))","v":""},"","","","","","","",null,null,null,null,null,null,null,null,null,null,null,null,null,null,null,null,null,null,null,null,null,null,null,"","","",{"$f":"IF(P121=\"\",\"\",IF(P121=0,\"\",SQRT(SUMIF(DMA!$DJ$5:$DJ$503,Graphs!$O121,DMA!DK$5:DK$503))/COUNTIF(DMA!$DJ$5:$DJ$503,Graphs!$O121)))","v":""},{"$f":"IF(Q121=\"\",\"\",IF(Q121=0,\"\",SQRT(SUMIF(DMA!$DJ$5:$DJ$503,Graphs!$O121,DMA!DL$5:DL$503))/COUNTIF(DMA!$DJ$5:$DJ$503,Graphs!$O121)))","v":""},{"$f":"IF(R121=\"\",\"\",IF(R121=0,\"\",SQRT(SUMIF(DMA!$DJ$5:$DJ$503,Graphs!$O121,DMA!DM$5:DM$503))/COUNTIF(DMA!$DJ$5:$DJ$503,Graphs!$O121)))","v":""},{"$f":"IF($P121=\"\",\"\",IF(P121=0,\"\",AVERAGEIF(DMA!$M$5:$M$503,Graphs!$O121,DMA!N$5:N$503)))","v":""},{"$f":"IF($Q121=\"\",\"\",IF(Q121=0,\"\",AVERAGEIF(DMA!$M$5:$M$503,Graphs!$O121,DMA!O$5:O$503)))","v":""},{"$f":"IF($R121=\"\",\"\",IF(R121=0,\"\",AVERAGEIF(DMA!$M$5:$M$503,Graphs!$O121,DMA!P$5:P$503)))","v":""}]
[null,{"$f":"IF(A122=\"\",\"\",(SUMIF(DMA!$AO$5:$AO$604,$A122,DMA!$AQ$5:$AQ$603)/DMA!AQ$604))","v":""},{"$f":"IF(A122=\"\",\"\",(SUMIF(DMA!$CQ$5:$CQ$603,$A122,DMA!$CO$5:$CO$603))*0.01)","v":""},{"$f":"IF(B122=\"\",\"\",(SUMIF(DMA!$CQ$5:$CQ$603,$A122,DMA!$CP$5:$CP$603)))","v":""},{"$f":"IF(COUNTIF(DMA!I$5:I$503,Graphs!$A122)>0,Graphs!$A122,\"\")","v":""},{"$f":"IF(E122=\"\",\"\",COUNTIF(DMA!I$5:I$503,Graphs!E122))","v":""},{"$f":"IF(E122=\"\",\"\",SUMIF(DMA!I$5:I$503,Graphs!E122,DMA!J$5:J$503)/COUNTIF(DMA!I$5:I$503,Graphs!E122))","v":""},{"$f":"IF(SUMIF(DMA!B$5:B$503,Graphs!A122,DMA!D$5:D$503)>0,Graphs!A122,\"\")","v":""},{"$f":"IF(H122=\"\",\"\",COUNTIF(DMA!B$5:B$503,Graphs!A122))","v":""},{"$f":"IF(H122=\"\",\"\",10^(-0.7083129+0.297*(SUMIF(DMA!B$5:B$503,Graphs!H122,DMA!D$5:D$503)/COUNTIF(DMA!B$5:B$503,Graphs!H122))))","v":""},{"$f":"IF(COUNTIF(DMA!R$5:R$503,Graphs!$A122)>0,Graphs!$A122,\"\")","v":""},{"$f":"IF(K122=\"\",\"\",COUNTIF(DMA!R$5:R$503,Graphs!A122))","v":""},{"$f":"IF(K122=\"\",\"\",(SUMIF(DMA!R$5:R$503,Graphs!A122,DMA!S$5:S$503)/COUNTIF(DMA!R$5:R$503,Graphs!A122)))","v":""},"",{"$f":"IF(COUNTIF(DMA!M$5:M$503,Graphs!$A122)>0,Graphs!$A122,\"\")","v":""},{"$f":"IF($O122=\"\",\"\",SUMIF(DMA!$M$5:$M$503,Graphs!$O122,DMA!N$5:N$503))","v":""},{"$f":"IF($O122=\"\",\"\",SUMIF(DMA!$M$5:$M$503,Graphs!$O122,DMA!O$5:O$503))","v":""},{"$f":"IF($O122=\"\",\"\",SUMIF(DMA!$M$5:$M$503,Graphs!$O122,DMA!P$5:P$503))","v":""},{"$f":"IF($O122=\"\",\"\",SUMIF(DMA!$M$5:$M$503,Graphs!$O122,DMA!Q$5:Q$503))","v":""},"",{"$f":"IF(O122=\"\",\"\",COUNTIF(DMA!M$5:M$503,Graphs!A122))","v":""},"","","","","","","",null,null,null,null,null,null,null,null,null,null,null,null,null,null,null,null,null,null,null,null,null,null,null,"","","",{"$f":"IF(P122=\"\",\"\",IF(P122=0,\"\",SQRT(SUMIF(DMA!$DJ$5:$DJ$503,Graphs!$O122,DMA!DK$5:DK$503))/COUNTIF(DMA!$DJ$5:$DJ$503,Graphs!$O122)))","v":""},{"$f":"IF(Q122=\"\",\"\",IF(Q122=0,\"\",SQRT(SUMIF(DMA!$DJ$5:$DJ$503,Graphs!$O122,DMA!DL$5:DL$503))/COUNTIF(DMA!$DJ$5:$DJ$503,Graphs!$O122)))","v":""},{"$f":"IF(R122=\"\",\"\",IF(R122=0,\"\",SQRT(SUMIF(DMA!$DJ$5:$DJ$503,Graphs!$O122,DMA!DM$5:DM$503))/COUNTIF(DMA!$DJ$5:$DJ$503,Graphs!$O122)))","v":""},{"$f":"IF($P122=\"\",\"\",IF(P122=0,\"\",AVERAGEIF(DMA!$M$5:$M$503,Graphs!$O122,DMA!N$5:N$503)))","v":""},{"$f":"IF($Q122=\"\",\"\",IF(Q122=0,\"\",AVERAGEIF(DMA!$M$5:$M$503,Graphs!$O122,DMA!O$5:O$503)))","v":""},{"$f":"IF($R122=\"\",\"\",IF(R122=0,\"\",AVERAGEIF(DMA!$M$5:$M$503,Graphs!$O122,DMA!P$5:P$503)))","v":""}]
[null,{"$f":"IF(A123=\"\",\"\",(SUMIF(DMA!$AO$5:$AO$604,$A123,DMA!$AQ$5:$AQ$603)/DMA!AQ$604))","v":""},{"$f":"IF(A123=\"\",\"\",(SUMIF(DMA!$CQ$5:$CQ$603,$A123,DMA!$CO$5:$CO$603))*0.01)","v":""},{"$f":"IF(B123=\"\",\"\",(SUMIF(DMA!$CQ$5:$CQ$603,$A123,DMA!$CP$5:$CP$603)))","v":""},{"$f":"IF(COUNTIF(DMA!I$5:I$503,Graphs!$A123)>0,Graphs!$A123,\"\")","v":""},{"$f":"IF(E123=\"\",\"\",COUNTIF(DMA!I$5:I$503,Graphs!E123))","v":""},{"$f":"IF(E123=\"\",\"\",SUMIF(DMA!I$5:I$503,Graphs!E123,DMA!J$5:J$503)/COUNTIF(DMA!I$5:I$503,Graphs!E123))","v":""},{"$f":"IF(SUMIF(DMA!B$5:B$503,Graphs!A123,DMA!D$5:D$503)>0,Graphs!A123,\"\")","v":""},{"$f":"IF(H123=\"\",\"\",COUNTIF(DMA!B$5:B$503,Graphs!A123))","v":""},{"$f":"IF(H123=\"\",\"\",10^(-0.7083129+0.297*(SUMIF(DMA!B$5:B$503,Graphs!H123,DMA!D$5:D$503)/COUNTIF(DMA!B$5:B$503,Graphs!H123))))","v":""},{"$f":"IF(COUNTIF(DMA!R$5:R$503,Graphs!$A123)>0,Graphs!$A123,\"\")","v":""},{"$f":"IF(K123=\"\",\"\",COUNTIF(DMA!R$5:R$503,Graphs!A123))","v":""},{"$f":"IF(K123=\"\",\"\",(SUMIF(DMA!R$5:R$503,Graphs!A123,DMA!S$5:S$503)/COUNTIF(DMA!R$5:R$503,Graphs!A123)))","v":""},"",{"$f":"IF(COUNTIF(DMA!M$5:M$503,Graphs!$A123)>0,Graphs!$A123,\"\")","v":""},{"$f":"IF($O123=\"\",\"\",SUMIF(DMA!$M$5:$M$503,Graphs!$O123,DMA!N$5:N$503))","v":""},{"$f":"IF($O123=\"\",\"\",SUMIF(DMA!$M$5:$M$503,Graphs!$O123,DMA!O$5:O$503))","v":""},{"$f":"IF($O123=\"\",\"\",SUMIF(DMA!$M$5:$M$503,Graphs!$O123,DMA!P$5:P$503))","v":""},{"$f":"IF($O123=\"\",\"\",SUMIF(DMA!$M$5:$M$503,Graphs!$O123,DMA!Q$5:Q$503))","v":""},"",{"$f":"IF(O123=\"\",\"\",COUNTIF(DMA!M$5:M$503,Graphs!A123))","v":""},"","","","","","","",null,null,null,null,null,null,null,null,null,null,null,null,null,null,null,null,null,null,null,null,null,null,null,"","","",{"$f":"IF(P123=\"\",\"\",IF(P123=0,\"\",SQRT(SUMIF(DMA!$DJ$5:$DJ$503,Graphs!$O123,DMA!DK$5:DK$503))/COUNTIF(DMA!$DJ$5:$DJ$503,Graphs!$O123)))","v":""},{"$f":"IF(Q123=\"\",\"\",IF(Q123=0,\"\",SQRT(SUMIF(DMA!$DJ$5:$DJ$503,Graphs!$O123,DMA!DL$5:DL$503))/COUNTIF(DMA!$DJ$5:$DJ$503,Graphs!$O123)))","v":""},{"$f":"IF(R123=\"\",\"\",IF(R123=0,\"\",SQRT(SUMIF(DMA!$DJ$5:$DJ$503,Graphs!$O123,DMA!DM$5:DM$503))/COUNTIF(DMA!$DJ$5:$DJ$503,Graphs!$O123)))","v":""},{"$f":"IF($P123=\"\",\"\",IF(P123=0,\"\",AVERAGEIF(DMA!$M$5:$M$503,Graphs!$O123,DMA!N$5:N$503)))","v":""},{"$f":"IF($Q123=\"\",\"\",IF(Q123=0,\"\",AVERAGEIF(DMA!$M$5:$M$503,Graphs!$O123,DMA!O$5:O$503)))","v":""},{"$f":"IF($R123=\"\",\"\",IF(R123=0,\"\",AVERAGEIF(DMA!$M$5:$M$503,Graphs!$O123,DMA!P$5:P$503)))","v":""}]
[null,{"$f":"IF(A124=\"\",\"\",(SUMIF(DMA!$AO$5:$AO$604,$A124,DMA!$AQ$5:$AQ$603)/DMA!AQ$604))","v":""},{"$f":"IF(A124=\"\",\"\",(SUMIF(DMA!$CQ$5:$CQ$603,$A124,DMA!$CO$5:$CO$603))*0.01)","v":""},{"$f":"IF(B124=\"\",\"\",(SUMIF(DMA!$CQ$5:$CQ$603,$A124,DMA!$CP$5:$CP$603)))","v":""},{"$f":"IF(COUNTIF(DMA!I$5:I$503,Graphs!$A124)>0,Graphs!$A124,\"\")","v":""},{"$f":"IF(E124=\"\",\"\",COUNTIF(DMA!I$5:I$503,Graphs!E124))","v":""},{"$f":"IF(E124=\"\",\"\",SUMIF(DMA!I$5:I$503,Graphs!E124,DMA!J$5:J$503)/COUNTIF(DMA!I$5:I$503,Graphs!E124))","v":""},{"$f":"IF(SUMIF(DMA!B$5:B$503,Graphs!A124,DMA!D$5:D$503)>0,Graphs!A124,\"\")","v":""},{"$f":"IF(H124=\"\",\"\",COUNTIF(DMA!B$5:B$503,Graphs!A124))","v":""},{"$f":"IF(H124=\"\",\"\",10^(-0.7083129+0.297*(SUMIF(DMA!B$5:B$503,Graphs!H124,DMA!D$5:D$503)/COUNTIF(DMA!B$5:B$503,Graphs!H124))))","v":""},{"$f":"IF(COUNTIF(DMA!R$5:R$503,Graphs!$A124)>0,Graphs!$A124,\"\")","v":""},{"$f":"IF(K124=\"\",\"\",COUNTIF(DMA!R$5:R$503,Graphs!A124))","v":""},{"$f":"IF(K124=\"\",\"\",(SUMIF(DMA!R$5:R$503,Graphs!A124,DMA!S$5:S$503)/COUNTIF(DMA!R$5:R$503,Graphs!A124)))","v":""},"",{"$f":"IF(COUNTIF(DMA!M$5:M$503,Graphs!$A124)>0,Graphs!$A124,\"\")","v":""},{"$f":"IF($O124=\"\",\"\",SUMIF(DMA!$M$5:$M$503,Graphs!$O124,DMA!N$5:N$503))","v":""},{"$f":"IF($O124=\"\",\"\",SUMIF(DMA!$M$5:$M$503,Graphs!$O124,DMA!O$5:O$503))","v":""},{"$f":"IF($O124=\"\",\"\",SUMIF(DMA!$M$5:$M$503,Graphs!$O124,DMA!P$5:P$503))","v":""},{"$f":"IF($O124=\"\",\"\",SUMIF(DMA!$M$5:$M$503,Graphs!$O124,DMA!Q$5:Q$503))","v":""},"",{"$f":"IF(O124=\"\",\"\",COUNTIF(DMA!M$5:M$503,Graphs!A124))","v":""},"","","","","","","",null,null,null,null,null,null,null,null,null,null,null,null,null,null,null,null,null,null,null,null,null,null,null,"","","",{"$f":"IF(P124=\"\",\"\",IF(P124=0,\"\",SQRT(SUMIF(DMA!$DJ$5:$DJ$503,Graphs!$O124,DMA!DK$5:DK$503))/COUNTIF(DMA!$DJ$5:$DJ$503,Graphs!$O124)))","v":""},{"$f":"IF(Q124=\"\",\"\",IF(Q124=0,\"\",SQRT(SUMIF(DMA!$DJ$5:$DJ$503,Graphs!$O124,DMA!DL$5:DL$503))/COUNTIF(DMA!$DJ$5:$DJ$503,Graphs!$O124)))","v":""},{"$f":"IF(R124=\"\",\"\",IF(R124=0,\"\",SQRT(SUMIF(DMA!$DJ$5:$DJ$503,Graphs!$O124,DMA!DM$5:DM$503))/COUNTIF(DMA!$DJ$5:$DJ$503,Graphs!$O124)))","v":""},{"$f":"IF($P124=\"\",\"\",IF(P124=0,\"\",AVERAGEIF(DMA!$M$5:$M$503,Graphs!$O124,DMA!N$5:N$503)))","v":""},{"$f":"IF($Q124=\"\",\"\",IF(Q124=0,\"\",AVERAGEIF(DMA!$M$5:$M$503,Graphs!$O124,DMA!O$5:O$503)))","v":""},{"$f":"IF($R124=\"\",\"\",IF(R124=0,\"\",AVERAGEIF(DMA!$M$5:$M$503,Graphs!$O124,DMA!P$5:P$503)))","v":""}]
[null,{"$f":"IF(A125=\"\",\"\",(SUMIF(DMA!$AO$5:$AO$604,$A125,DMA!$AQ$5:$AQ$603)/DMA!AQ$604))","v":""},{"$f":"IF(A125=\"\",\"\",(SUMIF(DMA!$CQ$5:$CQ$603,$A125,DMA!$CO$5:$CO$603))*0.01)","v":""},{"$f":"IF(B125=\"\",\"\",(SUMIF(DMA!$CQ$5:$CQ$603,$A125,DMA!$CP$5:$CP$603)))","v":""},{"$f":"IF(COUNTIF(DMA!I$5:I$503,Graphs!$A125)>0,Graphs!$A125,\"\")","v":""},{"$f":"IF(E125=\"\",\"\",COUNTIF(DMA!I$5:I$503,Graphs!E125))","v":""},{"$f":"IF(E125=\"\",\"\",SUMIF(DMA!I$5:I$503,Graphs!E125,DMA!J$5:J$503)/COUNTIF(DMA!I$5:I$503,Graphs!E125))","v":""},{"$f":"IF(SUMIF(DMA!B$5:B$503,Graphs!A125,DMA!D$5:D$503)>0,Graphs!A125,\"\")","v":""},{"$f":"IF(H125=\"\",\"\",COUNTIF(DMA!B$5:B$503,Graphs!A125))","v":""},{"$f":"IF(H125=\"\",\"\",10^(-0.7083129+0.297*(SUMIF(DMA!B$5:B$503,Graphs!H125,DMA!D$5:D$503)/COUNTIF(DMA!B$5:B$503,Graphs!H125))))","v":""},{"$f":"IF(COUNTIF(DMA!R$5:R$503,Graphs!$A125)>0,Graphs!$A125,\"\")","v":""},{"$f":"IF(K125=\"\",\"\",COUNTIF(DMA!R$5:R$503,Graphs!A125))","v":""},{"$f":"IF(K125=\"\",\"\",(SUMIF(DMA!R$5:R$503,Graphs!A125,DMA!S$5:S$503)/COUNTIF(DMA!R$5:R$503,Graphs!A125)))","v":""},"",{"$f":"IF(COUNTIF(DMA!M$5:M$503,Graphs!$A125)>0,Graphs!$A125,\"\")","v":""},{"$f":"IF($O125=\"\",\"\",SUMIF(DMA!$M$5:$M$503,Graphs!$O125,DMA!N$5:N$503))","v":""},{"$f":"IF($O125=\"\",\"\",SUMIF(DMA!$M$5:$M$503,Graphs!$O125,DMA!O$5:O$503))","v":""},{"$f":"IF($O125=\"\",\"\",SUMIF(DMA!$M$5:$M$503,Graphs!$O125,DMA!P$5:P$503))","v":""},{"$f":"IF($O125=\"\",\"\",SUMIF(DMA!$M$5:$M$503,Graphs!$O125,DMA!Q$5:Q$503))","v":""},"",{"$f":"IF(O125=\"\",\"\",COUNTIF(DMA!M$5:M$503,Graphs!A125))","v":""},"","","","","","","",null,null,null,null,null,null,null,null,null,null,null,null,null,null,null,null,null,null,null,null,null,null,null,"","","",{"$f":"IF(P125=\"\",\"\",IF(P125=0,\"\",SQRT(SUMIF(DMA!$DJ$5:$DJ$503,Graphs!$O125,DMA!DK$5:DK$503))/COUNTIF(DMA!$DJ$5:$DJ$503,Graphs!$O125)))","v":""},{"$f":"IF(Q125=\"\",\"\",IF(Q125=0,\"\",SQRT(SUMIF(DMA!$DJ$5:$DJ$503,Graphs!$O125,DMA!DL$5:DL$503))/COUNTIF(DMA!$DJ$5:$DJ$503,Graphs!$O125)))","v":""},{"$f":"IF(R125=\"\",\"\",IF(R125=0,\"\",SQRT(SUMIF(DMA!$DJ$5:$DJ$503,Graphs!$O125,DMA!DM$5:DM$503))/COUNTIF(DMA!$DJ$5:$DJ$503,Graphs!$O125)))","v":""},{"$f":"IF($P125=\"\",\"\",IF(P125=0,\"\",AVERAGEIF(DMA!$M$5:$M$503,Graphs!$O125,DMA!N$5:N$503)))","v":""},{"$f":"IF($Q125=\"\",\"\",IF(Q125=0,\"\",AVERAGEIF(DMA!$M$5:$M$503,Graphs!$O125,DMA!O$5:O$503)))","v":""},{"$f":"IF($R125=\"\",\"\",IF(R125=0,\"\",AVERAGEIF(DMA!$M$5:$M$503,Graphs!$O125,DMA!P$5:P$503)))","v":""}]
[null,{"$f":"IF(A126=\"\",\"\",(SUMIF(DMA!$AO$5:$AO$604,$A126,DMA!$AQ$5:$AQ$603)/DMA!AQ$604))","v":""},{"$f":"IF(A126=\"\",\"\",(SUMIF(DMA!$CQ$5:$CQ$603,$A126,DMA!$CO$5:$CO$603))*0.01)","v":""},{"$f":"IF(B126=\"\",\"\",(SUMIF(DMA!$CQ$5:$CQ$603,$A126,DMA!$CP$5:$CP$603)))","v":""},{"$f":"IF(COUNTIF(DMA!I$5:I$503,Graphs!$A126)>0,Graphs!$A126,\"\")","v":""},{"$f":"IF(E126=\"\",\"\",COUNTIF(DMA!I$5:I$503,Graphs!E126))","v":""},{"$f":"IF(E126=\"\",\"\",SUMIF(DMA!I$5:I$503,Graphs!E126,DMA!J$5:J$503)/COUNTIF(DMA!I$5:I$503,Graphs!E126))","v":""},{"$f":"IF(SUMIF(DMA!B$5:B$503,Graphs!A126,DMA!D$5:D$503)>0,Graphs!A126,\"\")","v":""},{"$f":"IF(H126=\"\",\"\",COUNTIF(DMA!B$5:B$503,Graphs!A126))","v":""},{"$f":"IF(H126=\"\",\"\",10^(-0.7083129+0.297*(SUMIF(DMA!B$5:B$503,Graphs!H126,DMA!D$5:D$503)/COUNTIF(DMA!B$5:B$503,Graphs!H126))))","v":""},{"$f":"IF(COUNTIF(DMA!R$5:R$503,Graphs!$A126)>0,Graphs!$A126,\"\")","v":""},{"$f":"IF(K126=\"\",\"\",COUNTIF(DMA!R$5:R$503,Graphs!A126))","v":""},{"$f":"IF(K126=\"\",\"\",(SUMIF(DMA!R$5:R$503,Graphs!A126,DMA!S$5:S$503)/COUNTIF(DMA!R$5:R$503,Graphs!A126)))","v":""},"",{"$f":"IF(COUNTIF(DMA!M$5:M$503,Graphs!$A126)>0,Graphs!$A126,\"\")","v":""},{"$f":"IF($O126=\"\",\"\",SUMIF(DMA!$M$5:$M$503,Graphs!$O126,DMA!N$5:N$503))","v":""},{"$f":"IF($O126=\"\",\"\",SUMIF(DMA!$M$5:$M$503,Graphs!$O126,DMA!O$5:O$503))","v":""},{"$f":"IF($O126=\"\",\"\",SUMIF(DMA!$M$5:$M$503,Graphs!$O126,DMA!P$5:P$503))","v":""},{"$f":"IF($O126=\"\",\"\",SUMIF(DMA!$M$5:$M$503,Graphs!$O126,DMA!Q$5:Q$503))","v":""},"",{"$f":"IF(O126=\"\",\"\",COUNTIF(DMA!M$5:M$503,Graphs!A126))","v":""},"","","","","","","",null,null,null,null,null,null,null,null,null,null,null,null,null,null,null,null,null,null,null,null,null,null,null,"","","",{"$f":"IF(P126=\"\",\"\",IF(P126=0,\"\",SQRT(SUMIF(DMA!$DJ$5:$DJ$503,Graphs!$O126,DMA!DK$5:DK$503))/COUNTIF(DMA!$DJ$5:$DJ$503,Graphs!$O126)))","v":""},{"$f":"IF(Q126=\"\",\"\",IF(Q126=0,\"\",SQRT(SUMIF(DMA!$DJ$5:$DJ$503,Graphs!$O126,DMA!DL$5:DL$503))/COUNTIF(DMA!$DJ$5:$DJ$503,Graphs!$O126)))","v":""},{"$f":"IF(R126=\"\",\"\",IF(R126=0,\"\",SQRT(SUMIF(DMA!$DJ$5:$DJ$503,Graphs!$O126,DMA!DM$5:DM$503))/COUNTIF(DMA!$DJ$5:$DJ$503,Graphs!$O126)))","v":""},{"$f":"IF($P126=\"\",\"\",IF(P126=0,\"\",AVERAGEIF(DMA!$M$5:$M$503,Graphs!$O126,DMA!N$5:N$503)))","v":""},{"$f":"IF($Q126=\"\",\"\",IF(Q126=0,\"\",AVERAGEIF(DMA!$M$5:$M$503,Graphs!$O126,DMA!O$5:O$503)))","v":""},{"$f":"IF($R126=\"\",\"\",IF(R126=0,\"\",AVERAGEIF(DMA!$M$5:$M$503,Graphs!$O126,DMA!P$5:P$503)))","v":""}]
[null,{"$f":"IF(A127=\"\",\"\",(SUMIF(DMA!$AO$5:$AO$604,$A127,DMA!$AQ$5:$AQ$603)/DMA!AQ$604))","v":""},{"$f":"IF(A127=\"\",\"\",(SUMIF(DMA!$CQ$5:$CQ$603,$A127,DMA!$CO$5:$CO$603))*0.01)","v":""},{"$f":"IF(B127=\"\",\"\",(SUMIF(DMA!$CQ$5:$CQ$603,$A127,DMA!$CP$5:$CP$603)))","v":""},{"$f":"IF(COUNTIF(DMA!I$5:I$503,Graphs!$A127)>0,Graphs!$A127,\"\")","v":""},{"$f":"IF(E127=\"\",\"\",COUNTIF(DMA!I$5:I$503,Graphs!E127))","v":""},{"$f":"IF(E127=\"\",\"\",SUMIF(DMA!I$5:I$503,Graphs!E127,DMA!J$5:J$503)/COUNTIF(DMA!I$5:I$503,Graphs!E127))","v":""},{"$f":"IF(SUMIF(DMA!B$5:B$503,Graphs!A127,DMA!D$5:D$503)>0,Graphs!A127,\"\")","v":""},{"$f":"IF(H127=\"\",\"\",COUNTIF(DMA!B$5:B$503,Graphs!A127))","v":""},{"$f":"IF(H127=\"\",\"\",10^(-0.7083129+0.297*(SUMIF(DMA!B$5:B$503,Graphs!H127,DMA!D$5:D$503)/COUNTIF(DMA!B$5:B$503,Graphs!H127))))","v":""},{"$f":"IF(COUNTIF(DMA!R$5:R$503,Graphs!$A127)>0,Graphs!$A127,\"\")","v":""},{"$f":"IF(K127=\"\",\"\",COUNTIF(DMA!R$5:R$503,Graphs!A127))","v":""},{"$f":"IF(K127=\"\",\"\",(SUMIF(DMA!R$5:R$503,Graphs!A127,DMA!S$5:S$503)/COUNTIF(DMA!R$5:R$503,Graphs!A127)))","v":""},"",{"$f":"IF(COUNTIF(DMA!M$5:M$503,Graphs!$A127)>0,Graphs!$A127,\"\")","v":""},{"$f":"IF($O127=\"\",\"\",SUMIF(DMA!$M$5:$M$503,Graphs!$O127,DMA!N$5:N$503))","v":""},{"$f":"IF($O127=\"\",\"\",SUMIF(DMA!$M$5:$M$503,Graphs!$O127,DMA!O$5:O$503))","v":""},{"$f":"IF($O127=\"\",\"\",SUMIF(DMA!$M$5:$M$503,Graphs!$O127,DMA!P$5:P$503))","v":""},{"$f":"IF($O127=\"\",\"\",SUMIF(DMA!$M$5:$M$503,Graphs!$O127,DMA!Q$5:Q$503))","v":""},"",{"$f":"IF(O127=\"\",\"\",COUNTIF(DMA!M$5:M$503,Graphs!A127))","v":""},"","","","","","","",null,null,null,null,null,null,null,null,null,null,null,null,null,null,null,null,null,null,null,null,null,null,null,"","","",{"$f":"IF(P127=\"\",\"\",IF(P127=0,\"\",SQRT(SUMIF(DMA!$DJ$5:$DJ$503,Graphs!$O127,DMA!DK$5:DK$503))/COUNTIF(DMA!$DJ$5:$DJ$503,Graphs!$O127)))","v":""},{"$f":"IF(Q127=\"\",\"\",IF(Q127=0,\"\",SQRT(SUMIF(DMA!$DJ$5:$DJ$503,Graphs!$O127,DMA!DL$5:DL$503))/COUNTIF(DMA!$DJ$5:$DJ$503,Graphs!$O127)))","v":""},{"$f":"IF(R127=\"\",\"\",IF(R127=0,\"\",SQRT(SUMIF(DMA!$DJ$5:$DJ$503,Graphs!$O127,DMA!DM$5:DM$503))/COUNTIF(DMA!$DJ$5:$DJ$503,Graphs!$O127)))","v":""},{"$f":"IF($P127=\"\",\"\",IF(P127=0,\"\",AVERAGEIF(DMA!$M$5:$M$503,Graphs!$O127,DMA!N$5:N$503)))","v":""},{"$f":"IF($Q127=\"\",\"\",IF(Q127=0,\"\",AVERAGEIF(DMA!$M$5:$M$503,Graphs!$O127,DMA!O$5:O$503)))","v":""},{"$f":"IF($R127=\"\",\"\",IF(R127=0,\"\",AVERAGEIF(DMA!$M$5:$M$503,Graphs!$O127,DMA!P$5:P$503)))","v":""}]
[null,{"$f":"IF(A128=\"\",\"\",(SUMIF(DMA!$AO$5:$AO$604,$A128,DMA!$AQ$5:$AQ$603)/DMA!AQ$604))","v":""},{"$f":"IF(A128=\"\",\"\",(SUMIF(DMA!$CQ$5:$CQ$603,$A128,DMA!$CO$5:$CO$603))*0.01)","v":""},{"$f":"IF(B128=\"\",\"\",(SUMIF(DMA!$CQ$5:$CQ$603,$A128,DMA!$CP$5:$CP$603)))","v":""},{"$f":"IF(COUNTIF(DMA!I$5:I$503,Graphs!$A128)>0,Graphs!$A128,\"\")","v":""},{"$f":"IF(E128=\"\",\"\",COUNTIF(DMA!I$5:I$503,Graphs!E128))","v":""},{"$f":"IF(E128=\"\",\"\",SUMIF(DMA!I$5:I$503,Graphs!E128,DMA!J$5:J$503)/COUNTIF(DMA!I$5:I$503,Graphs!E128))","v":""},{"$f":"IF(SUMIF(DMA!B$5:B$503,Graphs!A128,DMA!D$5:D$503)>0,Graphs!A128,\"\")","v":""},{"$f":"IF(H128=\"\",\"\",COUNTIF(DMA!B$5:B$503,Graphs!A128))","v":""},{"$f":"IF(H128=\"\",\"\",10^(-0.7083129+0.297*(SUMIF(DMA!B$5:B$503,Graphs!H128,DMA!D$5:D$503)/COUNTIF(DMA!B$5:B$503,Graphs!H128))))","v":""},{"$f":"IF(COUNTIF(DMA!R$5:R$503,Graphs!$A128)>0,Graphs!$A128,\"\")","v":""},{"$f":"IF(K128=\"\",\"\",COUNTIF(DMA!R$5:R$503,Graphs!A128))","v":""},{"$f":"IF(K128=\"\",\"\",(SUMIF(DMA!R$5:R$503,Graphs!A128,DMA!S$5:S$503)/COUNTIF(DMA!R$5:R$503,Graphs!A128)))","v":""},"",{"$f":"IF(COUNTIF(DMA!M$5:M$503,Graphs!$A128)>0,Graphs!$A128,\"\")","v":""},{"$f":"IF($O128=\"\",\"\",SUMIF(DMA!$M$5:$M$503,Graphs!$O128,DMA!N$5:N$503))","v":""},{"$f":"IF($O128=\"\",\"\",SUMIF(DMA!$M$5:$M$503,Graphs!$O128,DMA!O$5:O$503))","v":""},{"$f":"IF($O128=\"\",\"\",SUMIF(DMA!$M$5:$M$503,Graphs!$O128,DMA!P$5:P$503))","v":""},{"$f":"IF($O128=\"\",\"\",SUMIF(DMA!$M$5:$M$503,Graphs!$O128,DMA!Q$5:Q$503))","v":""},"",{"$f":"IF(O128=\"\",\"\",COUNTIF(DMA!M$5:M$503,Graphs!A128))","v":""},"","","","","","","",null,null,null,null,null,null,null,null,null,null,null,null,null,null,null,null,null,null,null,null,null,null,null,"","","",{"$f":"IF(P128=\"\",\"\",IF(P128=0,\"\",SQRT(SUMIF(DMA!$DJ$5:$DJ$503,Graphs!$O128,DMA!DK$5:DK$503))/COUNTIF(DMA!$DJ$5:$DJ$503,Graphs!$O128)))","v":""},{"$f":"IF(Q128=\"\",\"\",IF(Q128=0,\"\",SQRT(SUMIF(DMA!$DJ$5:$DJ$503,Graphs!$O128,DMA!DL$5:DL$503))/COUNTIF(DMA!$DJ$5:$DJ$503,Graphs!$O128)))","v":""},{"$f":"IF(R128=\"\",\"\",IF(R128=0,\"\",SQRT(SUMIF(DMA!$DJ$5:$DJ$503,Graphs!$O128,DMA!DM$5:DM$503))/COUNTIF(DMA!$DJ$5:$DJ$503,Graphs!$O128)))","v":""},{"$f":"IF($P128=\"\",\"\",IF(P128=0,\"\",AVERAGEIF(DMA!$M$5:$M$503,Graphs!$O128,DMA!N$5:N$503)))","v":""},{"$f":"IF($Q128=\"\",\"\",IF(Q128=0,\"\",AVERAGEIF(DMA!$M$5:$M$503,Graphs!$O128,DMA!O$5:O$503)))","v":""},{"$f":"IF($R128=\"\",\"\",IF(R128=0,\"\",AVERAGEIF(DMA!$M$5:$M$503,Graphs!$O128,DMA!P$5:P$503)))","v":""}]
[null,{"$f":"IF(A129=\"\",\"\",(SUMIF(DMA!$AO$5:$AO$604,$A129,DMA!$AQ$5:$AQ$603)/DMA!AQ$604))","v":""},{"$f":"IF(A129=\"\",\"\",(SUMIF(DMA!$CQ$5:$CQ$603,$A129,DMA!$CO$5:$CO$603))*0.01)","v":""},{"$f":"IF(B129=\"\",\"\",(SUMIF(DMA!$CQ$5:$CQ$603,$A129,DMA!$CP$5:$CP$603)))","v":""},{"$f":"IF(COUNTIF(DMA!I$5:I$503,Graphs!$A129)>0,Graphs!$A129,\"\")","v":""},{"$f":"IF(E129=\"\",\"\",COUNTIF(DMA!I$5:I$503,Graphs!E129))","v":""},{"$f":"IF(E129=\"\",\"\",SUMIF(DMA!I$5:I$503,Graphs!E129,DMA!J$5:J$503)/COUNTIF(DMA!I$5:I$503,Graphs!E129))","v":""},{"$f":"IF(SUMIF(DMA!B$5:B$503,Graphs!A129,DMA!D$5:D$503)>0,Graphs!A129,\"\")","v":""},{"$f":"IF(H129=\"\",\"\",COUNTIF(DMA!B$5:B$503,Graphs!A129))","v":""},{"$f":"IF(H129=\"\",\"\",10^(-0.7083129+0.297*(SUMIF(DMA!B$5:B$503,Graphs!H129,DMA!D$5:D$503)/COUNTIF(DMA!B$5:B$503,Graphs!H129))))","v":""},{"$f":"IF(COUNTIF(DMA!R$5:R$503,Graphs!$A129)>0,Graphs!$A129,\"\")","v":""},{"$f":"IF(K129=\"\",\"\",COUNTIF(DMA!R$5:R$503,Graphs!A129))","v":""},{"$f":"IF(K129=\"\",\"\",(SUMIF(DMA!R$5:R$503,Graphs!A129,DMA!S$5:S$503)/COUNTIF(DMA!R$5:R$503,Graphs!A129)))","v":""},"",{"$f":"IF(COUNTIF(DMA!M$5:M$503,Graphs!$A129)>0,Graphs!$A129,\"\")","v":""},{"$f":"IF($O129=\"\",\"\",SUMIF(DMA!$M$5:$M$503,Graphs!$O129,DMA!N$5:N$503))","v":""},{"$f":"IF($O129=\"\",\"\",SUMIF(DMA!$M$5:$M$503,Graphs!$O129,DMA!O$5:O$503))","v":""},{"$f":"IF($O129=\"\",\"\",SUMIF(DMA!$M$5:$M$503,Graphs!$O129,DMA!P$5:P$503))","v":""},{"$f":"IF($O129=\"\",\"\",SUMIF(DMA!$M$5:$M$503,Graphs!$O129,DMA!Q$5:Q$503))","v":""},"",{"$f":"IF(O129=\"\",\"\",COUNTIF(DMA!M$5:M$503,Graphs!A129))","v":""},"","","","","","","",null,null,null,null,null,null,null,null,null,null,null,null,null,null,null,null,null,null,null,null,null,null,null,"","","",{"$f":"IF(P129=\"\",\"\",IF(P129=0,\"\",SQRT(SUMIF(DMA!$DJ$5:$DJ$503,Graphs!$O129,DMA!DK$5:DK$503))/COUNTIF(DMA!$DJ$5:$DJ$503,Graphs!$O129)))","v":""},{"$f":"IF(Q129=\"\",\"\",IF(Q129=0,\"\",SQRT(SUMIF(DMA!$DJ$5:$DJ$503,Graphs!$O129,DMA!DL$5:DL$503))/COUNTIF(DMA!$DJ$5:$DJ$503,Graphs!$O129)))","v":""},{"$f":"IF(R129=\"\",\"\",IF(R129=0,\"\",SQRT(SUMIF(DMA!$DJ$5:$DJ$503,Graphs!$O129,DMA!DM$5:DM$503))/COUNTIF(DMA!$DJ$5:$DJ$503,Graphs!$O129)))","v":""},{"$f":"IF($P129=\"\",\"\",IF(P129=0,\"\",AVERAGEIF(DMA!$M$5:$M$503,Graphs!$O129,DMA!N$5:N$503)))","v":""},{"$f":"IF($Q129=\"\",\"\",IF(Q129=0,\"\",AVERAGEIF(DMA!$M$5:$M$503,Graphs!$O129,DMA!O$5:O$503)))","v":""},{"$f":"IF($R129=\"\",\"\",IF(R129=0,\"\",AVERAGEIF(DMA!$M$5:$M$503,Graphs!$O129,DMA!P$5:P$503)))","v":""}]
[null,{"$f":"IF(A130=\"\",\"\",(SUMIF(DMA!$AO$5:$AO$604,$A130,DMA!$AQ$5:$AQ$603)/DMA!AQ$604))","v":""},{"$f":"IF(A130=\"\",\"\",(SUMIF(DMA!$CQ$5:$CQ$603,$A130,DMA!$CO$5:$CO$603))*0.01)","v":""},{"$f":"IF(B130=\"\",\"\",(SUMIF(DMA!$CQ$5:$CQ$603,$A130,DMA!$CP$5:$CP$603)))","v":""},{"$f":"IF(COUNTIF(DMA!I$5:I$503,Graphs!$A130)>0,Graphs!$A130,\"\")","v":""},{"$f":"IF(E130=\"\",\"\",COUNTIF(DMA!I$5:I$503,Graphs!E130))","v":""},{"$f":"IF(E130=\"\",\"\",SUMIF(DMA!I$5:I$503,Graphs!E130,DMA!J$5:J$503)/COUNTIF(DMA!I$5:I$503,Graphs!E130))","v":""},{"$f":"IF(SUMIF(DMA!B$5:B$503,Graphs!A130,DMA!D$5:D$503)>0,Graphs!A130,\"\")","v":""},{"$f":"IF(H130=\"\",\"\",COUNTIF(DMA!B$5:B$503,Graphs!A130))","v":""},{"$f":"IF(H130=\"\",\"\",10^(-0.7083129+0.297*(SUMIF(DMA!B$5:B$503,Graphs!H130,DMA!D$5:D$503)/COUNTIF(DMA!B$5:B$503,Graphs!H130))))","v":""},{"$f":"IF(COUNTIF(DMA!R$5:R$503,Graphs!$A130)>0,Graphs!$A130,\"\")","v":""},{"$f":"IF(K130=\"\",\"\",COUNTIF(DMA!R$5:R$503,Graphs!A130))","v":""},{"$f":"IF(K130=\"\",\"\",(SUMIF(DMA!R$5:R$503,Graphs!A130,DMA!S$5:S$503)/COUNTIF(DMA!R$5:R$503,Graphs!A130)))","v":""},"",{"$f":"IF(COUNTIF(DMA!M$5:M$503,Graphs!$A130)>0,Graphs!$A130,\"\")","v":""},{"$f":"IF($O130=\"\",\"\",SUMIF(DMA!$M$5:$M$503,Graphs!$O130,DMA!N$5:N$503))","v":""},{"$f":"IF($O130=\"\",\"\",SUMIF(DMA!$M$5:$M$503,Graphs!$O130,DMA!O$5:O$503))","v":""},{"$f":"IF($O130=\"\",\"\",SUMIF(DMA!$M$5:$M$503,Graphs!$O130,DMA!P$5:P$503))","v":""},{"$f":"IF($O130=\"\",\"\",SUMIF(DMA!$M$5:$M$503,Graphs!$O130,DMA!Q$5:Q$503))","v":""},"",{"$f":"IF(O130=\"\",\"\",COUNTIF(DMA!M$5:M$503,Graphs!A130))","v":""},"","","","","","","",null,null,null,null,null,null,null,null,null,null,null,null,null,null,null,null,null,null,null,null,null,null,null,"","","",{"$f":"IF(P130=\"\",\"\",IF(P130=0,\"\",SQRT(SUMIF(DMA!$DJ$5:$DJ$503,Graphs!$O130,DMA!DK$5:DK$503))/COUNTIF(DMA!$DJ$5:$DJ$503,Graphs!$O130)))","v":""},{"$f":"IF(Q130=\"\",\"\",IF(Q130=0,\"\",SQRT(SUMIF(DMA!$DJ$5:$DJ$503,Graphs!$O130,DMA!DL$5:DL$503))/COUNTIF(DMA!$DJ$5:$DJ$503,Graphs!$O130)))","v":""},{"$f":"IF(R130=\"\",\"\",IF(R130=0,\"\",SQRT(SUMIF(DMA!$DJ$5:$DJ$503,Graphs!$O130,DMA!DM$5:DM$503))/COUNTIF(DMA!$DJ$5:$DJ$503,Graphs!$O130)))","v":""},{"$f":"IF($P130=\"\",\"\",IF(P130=0,\"\",AVERAGEIF(DMA!$M$5:$M$503,Graphs!$O130,DMA!N$5:N$503)))","v":""},{"$f":"IF($Q130=\"\",\"\",IF(Q130=0,\"\",AVERAGEIF(DMA!$M$5:$M$503,Graphs!$O130,DMA!O$5:O$503)))","v":""},{"$f":"IF($R130=\"\",\"\",IF(R130=0,\"\",AVERAGEIF(DMA!$M$5:$M$503,Graphs!$O130,DMA!P$5:P$503)))","v":""}]
[null,{"$f":"IF(A131=\"\",\"\",(SUMIF(DMA!$AO$5:$AO$604,$A131,DMA!$AQ$5:$AQ$603)/DMA!AQ$604))","v":""},{"$f":"IF(A131=\"\",\"\",(SUMIF(DMA!$CQ$5:$CQ$603,$A131,DMA!$CO$5:$CO$603))*0.01)","v":""},{"$f":"IF(B131=\"\",\"\",(SUMIF(DMA!$CQ$5:$CQ$603,$A131,DMA!$CP$5:$CP$603)))","v":""},{"$f":"IF(COUNTIF(DMA!I$5:I$503,Graphs!$A131)>0,Graphs!$A131,\"\")","v":""},{"$f":"IF(E131=\"\",\"\",COUNTIF(DMA!I$5:I$503,Graphs!E131))","v":""},{"$f":"IF(E131=\"\",\"\",SUMIF(DMA!I$5:I$503,Graphs!E131,DMA!J$5:J$503)/COUNTIF(DMA!I$5:I$503,Graphs!E131))","v":""},{"$f":"IF(SUMIF(DMA!B$5:B$503,Graphs!A131,DMA!D$5:D$503)>0,Graphs!A131,\"\")","v":""},{"$f":"IF(H131=\"\",\"\",COUNTIF(DMA!B$5:B$503,Graphs!A131))","v":""},{"$f":"IF(H131=\"\",\"\",10^(-0.7083129+0.297*(SUMIF(DMA!B$5:B$503,Graphs!H131,DMA!D$5:D$503)/COUNTIF(DMA!B$5:B$503,Graphs!H131))))","v":""},{"$f":"IF(COUNTIF(DMA!R$5:R$503,Graphs!$A131)>0,Graphs!$A131,\"\")","v":""},{"$f":"IF(K131=\"\",\"\",COUNTIF(DMA!R$5:R$503,Graphs!A131))","v":""},{"$f":"IF(K131=\"\",\"\",(SUMIF(DMA!R$5:R$503,Graphs!A131,DMA!S$5:S$503)/COUNTIF(DMA!R$5:R$503,Graphs!A131)))","v":""},"",{"$f":"IF(COUNTIF(DMA!M$5:M$503,Graphs!$A131)>0,Graphs!$A131,\"\")","v":""},{"$f":"IF($O131=\"\",\"\",SUMIF(DMA!$M$5:$M$503,Graphs!$O131,DMA!N$5:N$503))","v":""},{"$f":"IF($O131=\"\",\"\",SUMIF(DMA!$M$5:$M$503,Graphs!$O131,DMA!O$5:O$503))","v":""},{"$f":"IF($O131=\"\",\"\",SUMIF(DMA!$M$5:$M$503,Graphs!$O131,DMA!P$5:P$503))","v":""},{"$f":"IF($O131=\"\",\"\",SUMIF(DMA!$M$5:$M$503,Graphs!$O131,DMA!Q$5:Q$503))","v":""},"",{"$f":"IF(O131=\"\",\"\",COUNTIF(DMA!M$5:M$503,Graphs!A131))","v":""},"","","","","","","",null,null,null,null,null,null,null,null,null,null,null,null,null,null,null,null,null,null,null,null,null,null,null,"","","",{"$f":"IF(P131=\"\",\"\",IF(P131=0,\"\",SQRT(SUMIF(DMA!$DJ$5:$DJ$503,Graphs!$O131,DMA!DK$5:DK$503))/COUNTIF(DMA!$DJ$5:$DJ$503,Graphs!$O131)))","v":""},{"$f":"IF(Q131=\"\",\"\",IF(Q131=0,\"\",SQRT(SUMIF(DMA!$DJ$5:$DJ$503,Graphs!$O131,DMA!DL$5:DL$503))/COUNTIF(DMA!$DJ$5:$DJ$503,Graphs!$O131)))","v":""},{"$f":"IF(R131=\"\",\"\",IF(R131=0,\"\",SQRT(SUMIF(DMA!$DJ$5:$DJ$503,Graphs!$O131,DMA!DM$5:DM$503))/COUNTIF(DMA!$DJ$5:$DJ$503,Graphs!$O131)))","v":""},{"$f":"IF($P131=\"\",\"\",IF(P131=0,\"\",AVERAGEIF(DMA!$M$5:$M$503,Graphs!$O131,DMA!N$5:N$503)))","v":""},{"$f":"IF($Q131=\"\",\"\",IF(Q131=0,\"\",AVERAGEIF(DMA!$M$5:$M$503,Graphs!$O131,DMA!O$5:O$503)))","v":""},{"$f":"IF($R131=\"\",\"\",IF(R131=0,\"\",AVERAGEIF(DMA!$M$5:$M$503,Graphs!$O131,DMA!P$5:P$503)))","v":""}]
[null,{"$f":"IF(A132=\"\",\"\",(SUMIF(DMA!$AO$5:$AO$604,$A132,DMA!$AQ$5:$AQ$603)/DMA!AQ$604))","v":""},{"$f":"IF(A132=\"\",\"\",(SUMIF(DMA!$CQ$5:$CQ$603,$A132,DMA!$CO$5:$CO$603))*0.01)","v":""},{"$f":"IF(B132=\"\",\"\",(SUMIF(DMA!$CQ$5:$CQ$603,$A132,DMA!$CP$5:$CP$603)))","v":""},{"$f":"IF(COUNTIF(DMA!I$5:I$503,Graphs!$A132)>0,Graphs!$A132,\"\")","v":""},{"$f":"IF(E132=\"\",\"\",COUNTIF(DMA!I$5:I$503,Graphs!E132))","v":""},{"$f":"IF(E132=\"\",\"\",SUMIF(DMA!I$5:I$503,Graphs!E132,DMA!J$5:J$503)/COUNTIF(DMA!I$5:I$503,Graphs!E132))","v":""},{"$f":"IF(SUMIF(DMA!B$5:B$503,Graphs!A132,DMA!D$5:D$503)>0,Graphs!A132,\"\")","v":""},{"$f":"IF(H132=\"\",\"\",COUNTIF(DMA!B$5:B$503,Graphs!A132))","v":""},{"$f":"IF(H132=\"\",\"\",10^(-0.7083129+0.297*(SUMIF(DMA!B$5:B$503,Graphs!H132,DMA!D$5:D$503)/COUNTIF(DMA!B$5:B$503,Graphs!H132))))","v":""},{"$f":"IF(COUNTIF(DMA!R$5:R$503,Graphs!$A132)>0,Graphs!$A132,\"\")","v":""},{"$f":"IF(K132=\"\",\"\",COUNTIF(DMA!R$5:R$503,Graphs!A132))","v":""},{"$f":"IF(K132=\"\",\"\",(SUMIF(DMA!R$5:R$503,Graphs!A132,DMA!S$5:S$503)/COUNTIF(DMA!R$5:R$503,Graphs!A132)))","v":""},"",{"$f":"IF(COUNTIF(DMA!M$5:M$503,Graphs!$A132)>0,Graphs!$A132,\"\")","v":""},{"$f":"IF($O132=\"\",\"\",SUMIF(DMA!$M$5:$M$503,Graphs!$O132,DMA!N$5:N$503))","v":""},{"$f":"IF($O132=\"\",\"\",SUMIF(DMA!$M$5:$M$503,Graphs!$O132,DMA!O$5:O$503))","v":""},{"$f":"IF($O132=\"\",\"\",SUMIF(DMA!$M$5:$M$503,Graphs!$O132,DMA!P$5:P$503))","v":""},{"$f":"IF($O132=\"\",\"\",SUMIF(DMA!$M$5:$M$503,Graphs!$O132,DMA!Q$5:Q$503))","v":""},"",{"$f":"IF(O132=\"\",\"\",COUNTIF(DMA!M$5:M$503,Graphs!A132))","v":""},"","","","","","","",null,null,null,null,null,null,null,null,null,null,null,null,null,null,null,null,null,null,null,null,null,null,null,"","","",{"$f":"IF(P132=\"\",\"\",IF(P132=0,\"\",SQRT(SUMIF(DMA!$DJ$5:$DJ$503,Graphs!$O132,DMA!DK$5:DK$503))/COUNTIF(DMA!$DJ$5:$DJ$503,Graphs!$O132)))","v":""},{"$f":"IF(Q132=\"\",\"\",IF(Q132=0,\"\",SQRT(SUMIF(DMA!$DJ$5:$DJ$503,Graphs!$O132,DMA!DL$5:DL$503))/COUNTIF(DMA!$DJ$5:$DJ$503,Graphs!$O132)))","v":""},{"$f":"IF(R132=\"\",\"\",IF(R132=0,\"\",SQRT(SUMIF(DMA!$DJ$5:$DJ$503,Graphs!$O132,DMA!DM$5:DM$503))/COUNTIF(DMA!$DJ$5:$DJ$503,Graphs!$O132)))","v":""},{"$f":"IF($P132=\"\",\"\",IF(P132=0,\"\",AVERAGEIF(DMA!$M$5:$M$503,Graphs!$O132,DMA!N$5:N$503)))","v":""},{"$f":"IF($Q132=\"\",\"\",IF(Q132=0,\"\",AVERAGEIF(DMA!$M$5:$M$503,Graphs!$O132,DMA!O$5:O$503)))","v":""},{"$f":"IF($R132=\"\",\"\",IF(R132=0,\"\",AVERAGEIF(DMA!$M$5:$M$503,Graphs!$O132,DMA!P$5:P$503)))","v":""}]
[null,{"$f":"IF(A133=\"\",\"\",(SUMIF(DMA!$AO$5:$AO$604,$A133,DMA!$AQ$5:$AQ$603)/DMA!AQ$604))","v":""},{"$f":"IF(A133=\"\",\"\",(SUMIF(DMA!$CQ$5:$CQ$603,$A133,DMA!$CO$5:$CO$603))*0.01)","v":""},{"$f":"IF(B133=\"\",\"\",(SUMIF(DMA!$CQ$5:$CQ$603,$A133,DMA!$CP$5:$CP$603)))","v":""},{"$f":"IF(COUNTIF(DMA!I$5:I$503,Graphs!$A133)>0,Graphs!$A133,\"\")","v":""},{"$f":"IF(E133=\"\",\"\",COUNTIF(DMA!I$5:I$503,Graphs!E133))","v":""},{"$f":"IF(E133=\"\",\"\",SUMIF(DMA!I$5:I$503,Graphs!E133,DMA!J$5:J$503)/COUNTIF(DMA!I$5:I$503,Graphs!E133))","v":""},{"$f":"IF(SUMIF(DMA!B$5:B$503,Graphs!A133,DMA!D$5:D$503)>0,Graphs!A133,\"\")","v":""},{"$f":"IF(H133=\"\",\"\",COUNTIF(DMA!B$5:B$503,Graphs!A133))","v":""},{"$f":"IF(H133=\"\",\"\",10^(-0.7083129+0.297*(SUMIF(DMA!B$5:B$503,Graphs!H133,DMA!D$5:D$503)/COUNTIF(DMA!B$5:B$503,Graphs!H133))))","v":""},{"$f":"IF(COUNTIF(DMA!R$5:R$503,Graphs!$A133)>0,Graphs!$A133,\"\")","v":""},{"$f":"IF(K133=\"\",\"\",COUNTIF(DMA!R$5:R$503,Graphs!A133))","v":""},{"$f":"IF(K133=\"\",\"\",(SUMIF(DMA!R$5:R$503,Graphs!A133,DMA!S$5:S$503)/COUNTIF(DMA!R$5:R$503,Graphs!A133)))","v":""},"",{"$f":"IF(COUNTIF(DMA!M$5:M$503,Graphs!$A133)>0,Graphs!$A133,\"\")","v":""},{"$f":"IF($O133=\"\",\"\",SUMIF(DMA!$M$5:$M$503,Graphs!$O133,DMA!N$5:N$503))","v":""},{"$f":"IF($O133=\"\",\"\",SUMIF(DMA!$M$5:$M$503,Graphs!$O133,DMA!O$5:O$503))","v":""},{"$f":"IF($O133=\"\",\"\",SUMIF(DMA!$M$5:$M$503,Graphs!$O133,DMA!P$5:P$503))","v":""},{"$f":"IF($O133=\"\",\"\",SUMIF(DMA!$M$5:$M$503,Graphs!$O133,DMA!Q$5:Q$503))","v":""},"",{"$f":"IF(O133=\"\",\"\",COUNTIF(DMA!M$5:M$503,Graphs!A133))","v":""},"","","","","","","",null,null,null,null,null,null,null,null,null,null,null,null,null,null,null,null,null,null,null,null,null,null,null,"","","",{"$f":"IF(P133=\"\",\"\",IF(P133=0,\"\",SQRT(SUMIF(DMA!$DJ$5:$DJ$503,Graphs!$O133,DMA!DK$5:DK$503))/COUNTIF(DMA!$DJ$5:$DJ$503,Graphs!$O133)))","v":""},{"$f":"IF(Q133=\"\",\"\",IF(Q133=0,\"\",SQRT(SUMIF(DMA!$DJ$5:$DJ$503,Graphs!$O133,DMA!DL$5:DL$503))/COUNTIF(DMA!$DJ$5:$DJ$503,Graphs!$O133)))","v":""},{"$f":"IF(R133=\"\",\"\",IF(R133=0,\"\",SQRT(SUMIF(DMA!$DJ$5:$DJ$503,Graphs!$O133,DMA!DM$5:DM$503))/COUNTIF(DMA!$DJ$5:$DJ$503,Graphs!$O133)))","v":""},{"$f":"IF($P133=\"\",\"\",IF(P133=0,\"\",AVERAGEIF(DMA!$M$5:$M$503,Graphs!$O133,DMA!N$5:N$503)))","v":""},{"$f":"IF($Q133=\"\",\"\",IF(Q133=0,\"\",AVERAGEIF(DMA!$M$5:$M$503,Graphs!$O133,DMA!O$5:O$503)))","v":""},{"$f":"IF($R133=\"\",\"\",IF(R133=0,\"\",AVERAGEIF(DMA!$M$5:$M$503,Graphs!$O133,DMA!P$5:P$503)))","v":""}]
[null,{"$f":"IF(A134=\"\",\"\",(SUMIF(DMA!$AO$5:$AO$604,$A134,DMA!$AQ$5:$AQ$603)/DMA!AQ$604))","v":""},{"$f":"IF(A134=\"\",\"\",(SUMIF(DMA!$CQ$5:$CQ$603,$A134,DMA!$CO$5:$CO$603))*0.01)","v":""},{"$f":"IF(B134=\"\",\"\",(SUMIF(DMA!$CQ$5:$CQ$603,$A134,DMA!$CP$5:$CP$603)))","v":""},{"$f":"IF(COUNTIF(DMA!I$5:I$503,Graphs!$A134)>0,Graphs!$A134,\"\")","v":""},{"$f":"IF(E134=\"\",\"\",COUNTIF(DMA!I$5:I$503,Graphs!E134))","v":""},{"$f":"IF(E134=\"\",\"\",SUMIF(DMA!I$5:I$503,Graphs!E134,DMA!J$5:J$503)/COUNTIF(DMA!I$5:I$503,Graphs!E134))","v":""},{"$f":"IF(SUMIF(DMA!B$5:B$503,Graphs!A134,DMA!D$5:D$503)>0,Graphs!A134,\"\")","v":""},{"$f":"IF(H134=\"\",\"\",COUNTIF(DMA!B$5:B$503,Graphs!A134))","v":""},{"$f":"IF(H134=\"\",\"\",10^(-0.7083129+0.297*(SUMIF(DMA!B$5:B$503,Graphs!H134,DMA!D$5:D$503)/COUNTIF(DMA!B$5:B$503,Graphs!H134))))","v":""},{"$f":"IF(COUNTIF(DMA!R$5:R$503,Graphs!$A134)>0,Graphs!$A134,\"\")","v":""},{"$f":"IF(K134=\"\",\"\",COUNTIF(DMA!R$5:R$503,Graphs!A134))","v":""},{"$f":"IF(K134=\"\",\"\",(SUMIF(DMA!R$5:R$503,Graphs!A134,DMA!S$5:S$503)/COUNTIF(DMA!R$5:R$503,Graphs!A134)))","v":""},"",{"$f":"IF(COUNTIF(DMA!M$5:M$503,Graphs!$A134)>0,Graphs!$A134,\"\")","v":""},{"$f":"IF($O134=\"\",\"\",SUMIF(DMA!$M$5:$M$503,Graphs!$O134,DMA!N$5:N$503))","v":""},{"$f":"IF($O134=\"\",\"\",SUMIF(DMA!$M$5:$M$503,Graphs!$O134,DMA!O$5:O$503))","v":""},{"$f":"IF($O134=\"\",\"\",SUMIF(DMA!$M$5:$M$503,Graphs!$O134,DMA!P$5:P$503))","v":""},{"$f":"IF($O134=\"\",\"\",SUMIF(DMA!$M$5:$M$503,Graphs!$O134,DMA!Q$5:Q$503))","v":""},"",{"$f":"IF(O134=\"\",\"\",COUNTIF(DMA!M$5:M$503,Graphs!A134))","v":""},"","","","","","","",null,null,null,null,null,null,null,null,null,null,null,null,null,null,null,null,null,null,null,null,null,null,null,"","","",{"$f":"IF(P134=\"\",\"\",IF(P134=0,\"\",SQRT(SUMIF(DMA!$DJ$5:$DJ$503,Graphs!$O134,DMA!DK$5:DK$503))/COUNTIF(DMA!$DJ$5:$DJ$503,Graphs!$O134)))","v":""},{"$f":"IF(Q134=\"\",\"\",IF(Q134=0,\"\",SQRT(SUMIF(DMA!$DJ$5:$DJ$503,Graphs!$O134,DMA!DL$5:DL$503))/COUNTIF(DMA!$DJ$5:$DJ$503,Graphs!$O134)))","v":""},{"$f":"IF(R134=\"\",\"\",IF(R134=0,\"\",SQRT(SUMIF(DMA!$DJ$5:$DJ$503,Graphs!$O134,DMA!DM$5:DM$503))/COUNTIF(DMA!$DJ$5:$DJ$503,Graphs!$O134)))","v":""},{"$f":"IF($P134=\"\",\"\",IF(P134=0,\"\",AVERAGEIF(DMA!$M$5:$M$503,Graphs!$O134,DMA!N$5:N$503)))","v":""},{"$f":"IF($Q134=\"\",\"\",IF(Q134=0,\"\",AVERAGEIF(DMA!$M$5:$M$503,Graphs!$O134,DMA!O$5:O$503)))","v":""},{"$f":"IF($R134=\"\",\"\",IF(R134=0,\"\",AVERAGEIF(DMA!$M$5:$M$503,Graphs!$O134,DMA!P$5:P$503)))","v":""}]
[null,{"$f":"IF(A135=\"\",\"\",(SUMIF(DMA!$AO$5:$AO$604,$A135,DMA!$AQ$5:$AQ$603)/DMA!AQ$604))","v":""},{"$f":"IF(A135=\"\",\"\",(SUMIF(DMA!$CQ$5:$CQ$603,$A135,DMA!$CO$5:$CO$603))*0.01)","v":""},{"$f":"IF(B135=\"\",\"\",(SUMIF(DMA!$CQ$5:$CQ$603,$A135,DMA!$CP$5:$CP$603)))","v":""},{"$f":"IF(COUNTIF(DMA!I$5:I$503,Graphs!$A135)>0,Graphs!$A135,\"\")","v":""},{"$f":"IF(E135=\"\",\"\",COUNTIF(DMA!I$5:I$503,Graphs!E135))","v":""},{"$f":"IF(E135=\"\",\"\",SUMIF(DMA!I$5:I$503,Graphs!E135,DMA!J$5:J$503)/COUNTIF(DMA!I$5:I$503,Graphs!E135))","v":""},{"$f":"IF(SUMIF(DMA!B$5:B$503,Graphs!A135,DMA!D$5:D$503)>0,Graphs!A135,\"\")","v":""},{"$f":"IF(H135=\"\",\"\",COUNTIF(DMA!B$5:B$503,Graphs!A135))","v":""},{"$f":"IF(H135=\"\",\"\",10^(-0.7083129+0.297*(SUMIF(DMA!B$5:B$503,Graphs!H135,DMA!D$5:D$503)/COUNTIF(DMA!B$5:B$503,Graphs!H135))))","v":""},{"$f":"IF(COUNTIF(DMA!R$5:R$503,Graphs!$A135)>0,Graphs!$A135,\"\")","v":""},{"$f":"IF(K135=\"\",\"\",COUNTIF(DMA!R$5:R$503,Graphs!A135))","v":""},{"$f":"IF(K135=\"\",\"\",(SUMIF(DMA!R$5:R$503,Graphs!A135,DMA!S$5:S$503)/COUNTIF(DMA!R$5:R$503,Graphs!A135)))","v":""},"",{"$f":"IF(COUNTIF(DMA!M$5:M$503,Graphs!$A135)>0,Graphs!$A135,\"\")","v":""},{"$f":"IF($O135=\"\",\"\",SUMIF(DMA!$M$5:$M$503,Graphs!$O135,DMA!N$5:N$503))","v":""},{"$f":"IF($O135=\"\",\"\",SUMIF(DMA!$M$5:$M$503,Graphs!$O135,DMA!O$5:O$503))","v":""},{"$f":"IF($O135=\"\",\"\",SUMIF(DMA!$M$5:$M$503,Graphs!$O135,DMA!P$5:P$503))","v":""},{"$f":"IF($O135=\"\",\"\",SUMIF(DMA!$M$5:$M$503,Graphs!$O135,DMA!Q$5:Q$503))","v":""},"",{"$f":"IF(O135=\"\",\"\",COUNTIF(DMA!M$5:M$503,Graphs!A135))","v":""},"","","","","","","",null,null,null,null,null,null,null,null,null,null,null,null,null,null,null,null,null,null,null,null,null,null,null,"","","",{"$f":"IF(P135=\"\",\"\",IF(P135=0,\"\",SQRT(SUMIF(DMA!$DJ$5:$DJ$503,Graphs!$O135,DMA!DK$5:DK$503))/COUNTIF(DMA!$DJ$5:$DJ$503,Graphs!$O135)))","v":""},{"$f":"IF(Q135=\"\",\"\",IF(Q135=0,\"\",SQRT(SUMIF(DMA!$DJ$5:$DJ$503,Graphs!$O135,DMA!DL$5:DL$503))/COUNTIF(DMA!$DJ$5:$DJ$503,Graphs!$O135)))","v":""},{"$f":"IF(R135=\"\",\"\",IF(R135=0,\"\",SQRT(SUMIF(DMA!$DJ$5:$DJ$503,Graphs!$O135,DMA!DM$5:DM$503))/COUNTIF(DMA!$DJ$5:$DJ$503,Graphs!$O135)))","v":""},{"$f":"IF($P135=\"\",\"\",IF(P135=0,\"\",AVERAGEIF(DMA!$M$5:$M$503,Graphs!$O135,DMA!N$5:N$503)))","v":""},{"$f":"IF($Q135=\"\",\"\",IF(Q135=0,\"\",AVERAGEIF(DMA!$M$5:$M$503,Graphs!$O135,DMA!O$5:O$503)))","v":""},{"$f":"IF($R135=\"\",\"\",IF(R135=0,\"\",AVERAGEIF(DMA!$M$5:$M$503,Graphs!$O135,DMA!P$5:P$503)))","v":""}]
[null,{"$f":"IF(A136=\"\",\"\",(SUMIF(DMA!$AO$5:$AO$604,$A136,DMA!$AQ$5:$AQ$603)/DMA!AQ$604))","v":""},{"$f":"IF(A136=\"\",\"\",(SUMIF(DMA!$CQ$5:$CQ$603,$A136,DMA!$CO$5:$CO$603))*0.01)","v":""},{"$f":"IF(B136=\"\",\"\",(SUMIF(DMA!$CQ$5:$CQ$603,$A136,DMA!$CP$5:$CP$603)))","v":""},{"$f":"IF(COUNTIF(DMA!I$5:I$503,Graphs!$A136)>0,Graphs!$A136,\"\")","v":""},{"$f":"IF(E136=\"\",\"\",COUNTIF(DMA!I$5:I$503,Graphs!E136))","v":""},{"$f":"IF(E136=\"\",\"\",SUMIF(DMA!I$5:I$503,Graphs!E136,DMA!J$5:J$503)/COUNTIF(DMA!I$5:I$503,Graphs!E136))","v":""},{"$f":"IF(SUMIF(DMA!B$5:B$503,Graphs!A136,DMA!D$5:D$503)>0,Graphs!A136,\"\")","v":""},{"$f":"IF(H136=\"\",\"\",COUNTIF(DMA!B$5:B$503,Graphs!A136))","v":""},{"$f":"IF(H136=\"\",\"\",10^(-0.7083129+0.297*(SUMIF(DMA!B$5:B$503,Graphs!H136,DMA!D$5:D$503)/COUNTIF(DMA!B$5:B$503,Graphs!H136))))","v":""},{"$f":"IF(COUNTIF(DMA!R$5:R$503,Graphs!$A136)>0,Graphs!$A136,\"\")","v":""},{"$f":"IF(K136=\"\",\"\",COUNTIF(DMA!R$5:R$503,Graphs!A136))","v":""},{"$f":"IF(K136=\"\",\"\",(SUMIF(DMA!R$5:R$503,Graphs!A136,DMA!S$5:S$503)/COUNTIF(DMA!R$5:R$503,Graphs!A136)))","v":""},"",{"$f":"IF(COUNTIF(DMA!M$5:M$503,Graphs!$A136)>0,Graphs!$A136,\"\")","v":""},{"$f":"IF($O136=\"\",\"\",SUMIF(DMA!$M$5:$M$503,Graphs!$O136,DMA!N$5:N$503))","v":""},{"$f":"IF($O136=\"\",\"\",SUMIF(DMA!$M$5:$M$503,Graphs!$O136,DMA!O$5:O$503))","v":""},{"$f":"IF($O136=\"\",\"\",SUMIF(DMA!$M$5:$M$503,Graphs!$O136,DMA!P$5:P$503))","v":""},{"$f":"IF($O136=\"\",\"\",SUMIF(DMA!$M$5:$M$503,Graphs!$O136,DMA!Q$5:Q$503))","v":""},"",{"$f":"IF(O136=\"\",\"\",COUNTIF(DMA!M$5:M$503,Graphs!A136))","v":""},"","","","","","","",null,null,null,null,null,null,null,null,null,null,null,null,null,null,null,null,null,null,null,null,null,null,null,"","","",{"$f":"IF(P136=\"\",\"\",IF(P136=0,\"\",SQRT(SUMIF(DMA!$DJ$5:$DJ$503,Graphs!$O136,DMA!DK$5:DK$503))/COUNTIF(DMA!$DJ$5:$DJ$503,Graphs!$O136)))","v":""},{"$f":"IF(Q136=\"\",\"\",IF(Q136=0,\"\",SQRT(SUMIF(DMA!$DJ$5:$DJ$503,Graphs!$O136,DMA!DL$5:DL$503))/COUNTIF(DMA!$DJ$5:$DJ$503,Graphs!$O136)))","v":""},{"$f":"IF(R136=\"\",\"\",IF(R136=0,\"\",SQRT(SUMIF(DMA!$DJ$5:$DJ$503,Graphs!$O136,DMA!DM$5:DM$503))/COUNTIF(DMA!$DJ$5:$DJ$503,Graphs!$O136)))","v":""},{"$f":"IF($P136=\"\",\"\",IF(P136=0,\"\",AVERAGEIF(DMA!$M$5:$M$503,Graphs!$O136,DMA!N$5:N$503)))","v":""},{"$f":"IF($Q136=\"\",\"\",IF(Q136=0,\"\",AVERAGEIF(DMA!$M$5:$M$503,Graphs!$O136,DMA!O$5:O$503)))","v":""},{"$f":"IF($R136=\"\",\"\",IF(R136=0,\"\",AVERAGEIF(DMA!$M$5:$M$503,Graphs!$O136,DMA!P$5:P$503)))","v":""}]
[null,{"$f":"IF(A137=\"\",\"\",(SUMIF(DMA!$AO$5:$AO$604,$A137,DMA!$AQ$5:$AQ$603)/DMA!AQ$604))","v":""},{"$f":"IF(A137=\"\",\"\",(SUMIF(DMA!$CQ$5:$CQ$603,$A137,DMA!$CO$5:$CO$603))*0.01)","v":""},{"$f":"IF(B137=\"\",\"\",(SUMIF(DMA!$CQ$5:$CQ$603,$A137,DMA!$CP$5:$CP$603)))","v":""},{"$f":"IF(COUNTIF(DMA!I$5:I$503,Graphs!$A137)>0,Graphs!$A137,\"\")","v":""},{"$f":"IF(E137=\"\",\"\",COUNTIF(DMA!I$5:I$503,Graphs!E137))","v":""},{"$f":"IF(E137=\"\",\"\",SUMIF(DMA!I$5:I$503,Graphs!E137,DMA!J$5:J$503)/COUNTIF(DMA!I$5:I$503,Graphs!E137))","v":""},{"$f":"IF(SUMIF(DMA!B$5:B$503,Graphs!A137,DMA!D$5:D$503)>0,Graphs!A137,\"\")","v":""},{"$f":"IF(H137=\"\",\"\",COUNTIF(DMA!B$5:B$503,Graphs!A137))","v":""},{"$f":"IF(H137=\"\",\"\",10^(-0.7083129+0.297*(SUMIF(DMA!B$5:B$503,Graphs!H137,DMA!D$5:D$503)/COUNTIF(DMA!B$5:B$503,Graphs!H137))))","v":""},{"$f":"IF(COUNTIF(DMA!R$5:R$503,Graphs!$A137)>0,Graphs!$A137,\"\")","v":""},{"$f":"IF(K137=\"\",\"\",COUNTIF(DMA!R$5:R$503,Graphs!A137))","v":""},{"$f":"IF(K137=\"\",\"\",(SUMIF(DMA!R$5:R$503,Graphs!A137,DMA!S$5:S$503)/COUNTIF(DMA!R$5:R$503,Graphs!A137)))","v":""},"",{"$f":"IF(COUNTIF(DMA!M$5:M$503,Graphs!$A137)>0,Graphs!$A137,\"\")","v":""},{"$f":"IF($O137=\"\",\"\",SUMIF(DMA!$M$5:$M$503,Graphs!$O137,DMA!N$5:N$503))","v":""},{"$f":"IF($O137=\"\",\"\",SUMIF(DMA!$M$5:$M$503,Graphs!$O137,DMA!O$5:O$503))","v":""},{"$f":"IF($O137=\"\",\"\",SUMIF(DMA!$M$5:$M$503,Graphs!$O137,DMA!P$5:P$503))","v":""},{"$f":"IF($O137=\"\",\"\",SUMIF(DMA!$M$5:$M$503,Graphs!$O137,DMA!Q$5:Q$503))","v":""},"",{"$f":"IF(O137=\"\",\"\",COUNTIF(DMA!M$5:M$503,Graphs!A137))","v":""},"","","","","","","",null,null,null,null,null,null,null,null,null,null,null,null,null,null,null,null,null,null,null,null,null,null,null,"","","",{"$f":"IF(P137=\"\",\"\",IF(P137=0,\"\",SQRT(SUMIF(DMA!$DJ$5:$DJ$503,Graphs!$O137,DMA!DK$5:DK$503))/COUNTIF(DMA!$DJ$5:$DJ$503,Graphs!$O137)))","v":""},{"$f":"IF(Q137=\"\",\"\",IF(Q137=0,\"\",SQRT(SUMIF(DMA!$DJ$5:$DJ$503,Graphs!$O137,DMA!DL$5:DL$503))/COUNTIF(DMA!$DJ$5:$DJ$503,Graphs!$O137)))","v":""},{"$f":"IF(R137=\"\",\"\",IF(R137=0,\"\",SQRT(SUMIF(DMA!$DJ$5:$DJ$503,Graphs!$O137,DMA!DM$5:DM$503))/COUNTIF(DMA!$DJ$5:$DJ$503,Graphs!$O137)))","v":""},{"$f":"IF($P137=\"\",\"\",IF(P137=0,\"\",AVERAGEIF(DMA!$M$5:$M$503,Graphs!$O137,DMA!N$5:N$503)))","v":""},{"$f":"IF($Q137=\"\",\"\",IF(Q137=0,\"\",AVERAGEIF(DMA!$M$5:$M$503,Graphs!$O137,DMA!O$5:O$503)))","v":""},{"$f":"IF($R137=\"\",\"\",IF(R137=0,\"\",AVERAGEIF(DMA!$M$5:$M$503,Graphs!$O137,DMA!P$5:P$503)))","v":""}]
[null,{"$f":"IF(A138=\"\",\"\",(SUMIF(DMA!$AO$5:$AO$604,$A138,DMA!$AQ$5:$AQ$603)/DMA!AQ$604))","v":""},{"$f":"IF(A138=\"\",\"\",(SUMIF(DMA!$CQ$5:$CQ$603,$A138,DMA!$CO$5:$CO$603))*0.01)","v":""},{"$f":"IF(B138=\"\",\"\",(SUMIF(DMA!$CQ$5:$CQ$603,$A138,DMA!$CP$5:$CP$603)))","v":""},{"$f":"IF(COUNTIF(DMA!I$5:I$503,Graphs!$A138)>0,Graphs!$A138,\"\")","v":""},{"$f":"IF(E138=\"\",\"\",COUNTIF(DMA!I$5:I$503,Graphs!E138))","v":""},{"$f":"IF(E138=\"\",\"\",SUMIF(DMA!I$5:I$503,Graphs!E138,DMA!J$5:J$503)/COUNTIF(DMA!I$5:I$503,Graphs!E138))","v":""},{"$f":"IF(SUMIF(DMA!B$5:B$503,Graphs!A138,DMA!D$5:D$503)>0,Graphs!A138,\"\")","v":""},{"$f":"IF(H138=\"\",\"\",COUNTIF(DMA!B$5:B$503,Graphs!A138))","v":""},{"$f":"IF(H138=\"\",\"\",10^(-0.7083129+0.297*(SUMIF(DMA!B$5:B$503,Graphs!H138,DMA!D$5:D$503)/COUNTIF(DMA!B$5:B$503,Graphs!H138))))","v":""},{"$f":"IF(COUNTIF(DMA!R$5:R$503,Graphs!$A138)>0,Graphs!$A138,\"\")","v":""},{"$f":"IF(K138=\"\",\"\",COUNTIF(DMA!R$5:R$503,Graphs!A138))","v":""},{"$f":"IF(K138=\"\",\"\",(SUMIF(DMA!R$5:R$503,Graphs!A138,DMA!S$5:S$503)/COUNTIF(DMA!R$5:R$503,Graphs!A138)))","v":""},"",{"$f":"IF(COUNTIF(DMA!M$5:M$503,Graphs!$A138)>0,Graphs!$A138,\"\")","v":""},{"$f":"IF($O138=\"\",\"\",SUMIF(DMA!$M$5:$M$503,Graphs!$O138,DMA!N$5:N$503))","v":""},{"$f":"IF($O138=\"\",\"\",SUMIF(DMA!$M$5:$M$503,Graphs!$O138,DMA!O$5:O$503))","v":""},{"$f":"IF($O138=\"\",\"\",SUMIF(DMA!$M$5:$M$503,Graphs!$O138,DMA!P$5:P$503))","v":""},{"$f":"IF($O138=\"\",\"\",SUMIF(DMA!$M$5:$M$503,Graphs!$O138,DMA!Q$5:Q$503))","v":""},"",{"$f":"IF(O138=\"\",\"\",COUNTIF(DMA!M$5:M$503,Graphs!A138))","v":""},"","","","","","","",null,null,null,null,null,null,null,null,null,null,null,null,null,null,null,null,null,null,null,null,null,null,null,"","","",{"$f":"IF(P138=\"\",\"\",IF(P138=0,\"\",SQRT(SUMIF(DMA!$DJ$5:$DJ$503,Graphs!$O138,DMA!DK$5:DK$503))/COUNTIF(DMA!$DJ$5:$DJ$503,Graphs!$O138)))","v":""},{"$f":"IF(Q138=\"\",\"\",IF(Q138=0,\"\",SQRT(SUMIF(DMA!$DJ$5:$DJ$503,Graphs!$O138,DMA!DL$5:DL$503))/COUNTIF(DMA!$DJ$5:$DJ$503,Graphs!$O138)))","v":""},{"$f":"IF(R138=\"\",\"\",IF(R138=0,\"\",SQRT(SUMIF(DMA!$DJ$5:$DJ$503,Graphs!$O138,DMA!DM$5:DM$503))/COUNTIF(DMA!$DJ$5:$DJ$503,Graphs!$O138)))","v":""},{"$f":"IF($P138=\"\",\"\",IF(P138=0,\"\",AVERAGEIF(DMA!$M$5:$M$503,Graphs!$O138,DMA!N$5:N$503)))","v":""},{"$f":"IF($Q138=\"\",\"\",IF(Q138=0,\"\",AVERAGEIF(DMA!$M$5:$M$503,Graphs!$O138,DMA!O$5:O$503)))","v":""},{"$f":"IF($R138=\"\",\"\",IF(R138=0,\"\",AVERAGEIF(DMA!$M$5:$M$503,Graphs!$O138,DMA!P$5:P$503)))","v":""}]
[null,{"$f":"IF(A139=\"\",\"\",(SUMIF(DMA!$AO$5:$AO$604,$A139,DMA!$AQ$5:$AQ$603)/DMA!AQ$604))","v":""},{"$f":"IF(A139=\"\",\"\",(SUMIF(DMA!$CQ$5:$CQ$603,$A139,DMA!$CO$5:$CO$603))*0.01)","v":""},{"$f":"IF(B139=\"\",\"\",(SUMIF(DMA!$CQ$5:$CQ$603,$A139,DMA!$CP$5:$CP$603)))","v":""},{"$f":"IF(COUNTIF(DMA!I$5:I$503,Graphs!$A139)>0,Graphs!$A139,\"\")","v":""},{"$f":"IF(E139=\"\",\"\",COUNTIF(DMA!I$5:I$503,Graphs!E139))","v":""},{"$f":"IF(E139=\"\",\"\",SUMIF(DMA!I$5:I$503,Graphs!E139,DMA!J$5:J$503)/COUNTIF(DMA!I$5:I$503,Graphs!E139))","v":""},{"$f":"IF(SUMIF(DMA!B$5:B$503,Graphs!A139,DMA!D$5:D$503)>0,Graphs!A139,\"\")","v":""},{"$f":"IF(H139=\"\",\"\",COUNTIF(DMA!B$5:B$503,Graphs!A139))","v":""},{"$f":"IF(H139=\"\",\"\",10^(-0.7083129+0.297*(SUMIF(DMA!B$5:B$503,Graphs!H139,DMA!D$5:D$503)/COUNTIF(DMA!B$5:B$503,Graphs!H139))))","v":""},{"$f":"IF(COUNTIF(DMA!R$5:R$503,Graphs!$A139)>0,Graphs!$A139,\"\")","v":""},{"$f":"IF(K139=\"\",\"\",COUNTIF(DMA!R$5:R$503,Graphs!A139))","v":""},{"$f":"IF(K139=\"\",\"\",(SUMIF(DMA!R$5:R$503,Graphs!A139,DMA!S$5:S$503)/COUNTIF(DMA!R$5:R$503,Graphs!A139)))","v":""},"",{"$f":"IF(COUNTIF(DMA!M$5:M$503,Graphs!$A139)>0,Graphs!$A139,\"\")","v":""},{"$f":"IF($O139=\"\",\"\",SUMIF(DMA!$M$5:$M$503,Graphs!$O139,DMA!N$5:N$503))","v":""},{"$f":"IF($O139=\"\",\"\",SUMIF(DMA!$M$5:$M$503,Graphs!$O139,DMA!O$5:O$503))","v":""},{"$f":"IF($O139=\"\",\"\",SUMIF(DMA!$M$5:$M$503,Graphs!$O139,DMA!P$5:P$503))","v":""},{"$f":"IF($O139=\"\",\"\",SUMIF(DMA!$M$5:$M$503,Graphs!$O139,DMA!Q$5:Q$503))","v":""},"",{"$f":"IF(O139=\"\",\"\",COUNTIF(DMA!M$5:M$503,Graphs!A139))","v":""},"","","","","","","",null,null,null,null,null,null,null,null,null,null,null,null,null,null,null,null,null,null,null,null,null,null,null,"","","",{"$f":"IF(P139=\"\",\"\",IF(P139=0,\"\",SQRT(SUMIF(DMA!$DJ$5:$DJ$503,Graphs!$O139,DMA!DK$5:DK$503))/COUNTIF(DMA!$DJ$5:$DJ$503,Graphs!$O139)))","v":""},{"$f":"IF(Q139=\"\",\"\",IF(Q139=0,\"\",SQRT(SUMIF(DMA!$DJ$5:$DJ$503,Graphs!$O139,DMA!DL$5:DL$503))/COUNTIF(DMA!$DJ$5:$DJ$503,Graphs!$O139)))","v":""},{"$f":"IF(R139=\"\",\"\",IF(R139=0,\"\",SQRT(SUMIF(DMA!$DJ$5:$DJ$503,Graphs!$O139,DMA!DM$5:DM$503))/COUNTIF(DMA!$DJ$5:$DJ$503,Graphs!$O139)))","v":""},{"$f":"IF($P139=\"\",\"\",IF(P139=0,\"\",AVERAGEIF(DMA!$M$5:$M$503,Graphs!$O139,DMA!N$5:N$503)))","v":""},{"$f":"IF($Q139=\"\",\"\",IF(Q139=0,\"\",AVERAGEIF(DMA!$M$5:$M$503,Graphs!$O139,DMA!O$5:O$503)))","v":""},{"$f":"IF($R139=\"\",\"\",IF(R139=0,\"\",AVERAGEIF(DMA!$M$5:$M$503,Graphs!$O139,DMA!P$5:P$503)))","v":""}]
[null,{"$f":"IF(A140=\"\",\"\",(SUMIF(DMA!$AO$5:$AO$604,$A140,DMA!$AQ$5:$AQ$603)/DMA!AQ$604))","v":""},{"$f":"IF(A140=\"\",\"\",(SUMIF(DMA!$CQ$5:$CQ$603,$A140,DMA!$CO$5:$CO$603))*0.01)","v":""},{"$f":"IF(B140=\"\",\"\",(SUMIF(DMA!$CQ$5:$CQ$603,$A140,DMA!$CP$5:$CP$603)))","v":""},{"$f":"IF(COUNTIF(DMA!I$5:I$503,Graphs!$A140)>0,Graphs!$A140,\"\")","v":""},{"$f":"IF(E140=\"\",\"\",COUNTIF(DMA!I$5:I$503,Graphs!E140))","v":""},{"$f":"IF(E140=\"\",\"\",SUMIF(DMA!I$5:I$503,Graphs!E140,DMA!J$5:J$503)/COUNTIF(DMA!I$5:I$503,Graphs!E140))","v":""},{"$f":"IF(SUMIF(DMA!B$5:B$503,Graphs!A140,DMA!D$5:D$503)>0,Graphs!A140,\"\")","v":""},{"$f":"IF(H140=\"\",\"\",COUNTIF(DMA!B$5:B$503,Graphs!A140))","v":""},{"$f":"IF(H140=\"\",\"\",10^(-0.7083129+0.297*(SUMIF(DMA!B$5:B$503,Graphs!H140,DMA!D$5:D$503)/COUNTIF(DMA!B$5:B$503,Graphs!H140))))","v":""},{"$f":"IF(COUNTIF(DMA!R$5:R$503,Graphs!$A140)>0,Graphs!$A140,\"\")","v":""},{"$f":"IF(K140=\"\",\"\",COUNTIF(DMA!R$5:R$503,Graphs!A140))","v":""},{"$f":"IF(K140=\"\",\"\",(SUMIF(DMA!R$5:R$503,Graphs!A140,DMA!S$5:S$503)/COUNTIF(DMA!R$5:R$503,Graphs!A140)))","v":""},"",{"$f":"IF(COUNTIF(DMA!M$5:M$503,Graphs!$A140)>0,Graphs!$A140,\"\")","v":""},{"$f":"IF($O140=\"\",\"\",SUMIF(DMA!$M$5:$M$503,Graphs!$O140,DMA!N$5:N$503))","v":""},{"$f":"IF($O140=\"\",\"\",SUMIF(DMA!$M$5:$M$503,Graphs!$O140,DMA!O$5:O$503))","v":""},{"$f":"IF($O140=\"\",\"\",SUMIF(DMA!$M$5:$M$503,Graphs!$O140,DMA!P$5:P$503))","v":""},{"$f":"IF($O140=\"\",\"\",SUMIF(DMA!$M$5:$M$503,Graphs!$O140,DMA!Q$5:Q$503))","v":""},"",{"$f":"IF(O140=\"\",\"\",COUNTIF(DMA!M$5:M$503,Graphs!A140))","v":""},"","","","","","","",null,null,null,null,null,null,null,null,null,null,null,null,null,null,null,null,null,null,null,null,null,null,null,"","","",{"$f":"IF(P140=\"\",\"\",IF(P140=0,\"\",SQRT(SUMIF(DMA!$DJ$5:$DJ$503,Graphs!$O140,DMA!DK$5:DK$503))/COUNTIF(DMA!$DJ$5:$DJ$503,Graphs!$O140)))","v":""},{"$f":"IF(Q140=\"\",\"\",IF(Q140=0,\"\",SQRT(SUMIF(DMA!$DJ$5:$DJ$503,Graphs!$O140,DMA!DL$5:DL$503))/COUNTIF(DMA!$DJ$5:$DJ$503,Graphs!$O140)))","v":""},{"$f":"IF(R140=\"\",\"\",IF(R140=0,\"\",SQRT(SUMIF(DMA!$DJ$5:$DJ$503,Graphs!$O140,DMA!DM$5:DM$503))/COUNTIF(DMA!$DJ$5:$DJ$503,Graphs!$O140)))","v":""},{"$f":"IF($P140=\"\",\"\",IF(P140=0,\"\",AVERAGEIF(DMA!$M$5:$M$503,Graphs!$O140,DMA!N$5:N$503)))","v":""},{"$f":"IF($Q140=\"\",\"\",IF(Q140=0,\"\",AVERAGEIF(DMA!$M$5:$M$503,Graphs!$O140,DMA!O$5:O$503)))","v":""},{"$f":"IF($R140=\"\",\"\",IF(R140=0,\"\",AVERAGEIF(DMA!$M$5:$M$503,Graphs!$O140,DMA!P$5:P$503)))","v":""}]
[null,{"$f":"IF(A141=\"\",\"\",(SUMIF(DMA!$AO$5:$AO$604,$A141,DMA!$AQ$5:$AQ$603)/DMA!AQ$604))","v":""},{"$f":"IF(A141=\"\",\"\",(SUMIF(DMA!$CQ$5:$CQ$603,$A141,DMA!$CO$5:$CO$603))*0.01)","v":""},{"$f":"IF(B141=\"\",\"\",(SUMIF(DMA!$CQ$5:$CQ$603,$A141,DMA!$CP$5:$CP$603)))","v":""},{"$f":"IF(COUNTIF(DMA!I$5:I$503,Graphs!$A141)>0,Graphs!$A141,\"\")","v":""},{"$f":"IF(E141=\"\",\"\",COUNTIF(DMA!I$5:I$503,Graphs!E141))","v":""},{"$f":"IF(E141=\"\",\"\",SUMIF(DMA!I$5:I$503,Graphs!E141,DMA!J$5:J$503)/COUNTIF(DMA!I$5:I$503,Graphs!E141))","v":""},{"$f":"IF(SUMIF(DMA!B$5:B$503,Graphs!A141,DMA!D$5:D$503)>0,Graphs!A141,\"\")","v":""},{"$f":"IF(H141=\"\",\"\",COUNTIF(DMA!B$5:B$503,Graphs!A141))","v":""},{"$f":"IF(H141=\"\",\"\",10^(-0.7083129+0.297*(SUMIF(DMA!B$5:B$503,Graphs!H141,DMA!D$5:D$503)/COUNTIF(DMA!B$5:B$503,Graphs!H141))))","v":""},{"$f":"IF(COUNTIF(DMA!R$5:R$503,Graphs!$A141)>0,Graphs!$A141,\"\")","v":""},{"$f":"IF(K141=\"\",\"\",COUNTIF(DMA!R$5:R$503,Graphs!A141))","v":""},{"$f":"IF(K141=\"\",\"\",(SUMIF(DMA!R$5:R$503,Graphs!A141,DMA!S$5:S$503)/COUNTIF(DMA!R$5:R$503,Graphs!A141)))","v":""},"",{"$f":"IF(COUNTIF(DMA!M$5:M$503,Graphs!$A141)>0,Graphs!$A141,\"\")","v":""},{"$f":"IF($O141=\"\",\"\",SUMIF(DMA!$M$5:$M$503,Graphs!$O141,DMA!N$5:N$503))","v":""},{"$f":"IF($O141=\"\",\"\",SUMIF(DMA!$M$5:$M$503,Graphs!$O141,DMA!O$5:O$503))","v":""},{"$f":"IF($O141=\"\",\"\",SUMIF(DMA!$M$5:$M$503,Graphs!$O141,DMA!P$5:P$503))","v":""},{"$f":"IF($O141=\"\",\"\",SUMIF(DMA!$M$5:$M$503,Graphs!$O141,DMA!Q$5:Q$503))","v":""},"",{"$f":"IF(O141=\"\",\"\",COUNTIF(DMA!M$5:M$503,Graphs!A141))","v":""},"","","","","","","",null,null,null,null,null,null,null,null,null,null,null,null,null,null,null,null,null,null,null,null,null,null,null,"","","",{"$f":"IF(P141=\"\",\"\",IF(P141=0,\"\",SQRT(SUMIF(DMA!$DJ$5:$DJ$503,Graphs!$O141,DMA!DK$5:DK$503))/COUNTIF(DMA!$DJ$5:$DJ$503,Graphs!$O141)))","v":""},{"$f":"IF(Q141=\"\",\"\",IF(Q141=0,\"\",SQRT(SUMIF(DMA!$DJ$5:$DJ$503,Graphs!$O141,DMA!DL$5:DL$503))/COUNTIF(DMA!$DJ$5:$DJ$503,Graphs!$O141)))","v":""},{"$f":"IF(R141=\"\",\"\",IF(R141=0,\"\",SQRT(SUMIF(DMA!$DJ$5:$DJ$503,Graphs!$O141,DMA!DM$5:DM$503))/COUNTIF(DMA!$DJ$5:$DJ$503,Graphs!$O141)))","v":""},{"$f":"IF($P141=\"\",\"\",IF(P141=0,\"\",AVERAGEIF(DMA!$M$5:$M$503,Graphs!$O141,DMA!N$5:N$503)))","v":""},{"$f":"IF($Q141=\"\",\"\",IF(Q141=0,\"\",AVERAGEIF(DMA!$M$5:$M$503,Graphs!$O141,DMA!O$5:O$503)))","v":""},{"$f":"IF($R141=\"\",\"\",IF(R141=0,\"\",AVERAGEIF(DMA!$M$5:$M$503,Graphs!$O141,DMA!P$5:P$503)))","v":""}]
[null,{"$f":"IF(A142=\"\",\"\",(SUMIF(DMA!$AO$5:$AO$604,$A142,DMA!$AQ$5:$AQ$603)/DMA!AQ$604))","v":""},{"$f":"IF(A142=\"\",\"\",(SUMIF(DMA!$CQ$5:$CQ$603,$A142,DMA!$CO$5:$CO$603))*0.01)","v":""},{"$f":"IF(B142=\"\",\"\",(SUMIF(DMA!$CQ$5:$CQ$603,$A142,DMA!$CP$5:$CP$603)))","v":""},{"$f":"IF(COUNTIF(DMA!I$5:I$503,Graphs!$A142)>0,Graphs!$A142,\"\")","v":""},{"$f":"IF(E142=\"\",\"\",COUNTIF(DMA!I$5:I$503,Graphs!E142))","v":""},{"$f":"IF(E142=\"\",\"\",SUMIF(DMA!I$5:I$503,Graphs!E142,DMA!J$5:J$503)/COUNTIF(DMA!I$5:I$503,Graphs!E142))","v":""},{"$f":"IF(SUMIF(DMA!B$5:B$503,Graphs!A142,DMA!D$5:D$503)>0,Graphs!A142,\"\")","v":""},{"$f":"IF(H142=\"\",\"\",COUNTIF(DMA!B$5:B$503,Graphs!A142))","v":""},{"$f":"IF(H142=\"\",\"\",10^(-0.7083129+0.297*(SUMIF(DMA!B$5:B$503,Graphs!H142,DMA!D$5:D$503)/COUNTIF(DMA!B$5:B$503,Graphs!H142))))","v":""},{"$f":"IF(COUNTIF(DMA!R$5:R$503,Graphs!$A142)>0,Graphs!$A142,\"\")","v":""},{"$f":"IF(K142=\"\",\"\",COUNTIF(DMA!R$5:R$503,Graphs!A142))","v":""},{"$f":"IF(K142=\"\",\"\",(SUMIF(DMA!R$5:R$503,Graphs!A142,DMA!S$5:S$503)/COUNTIF(DMA!R$5:R$503,Graphs!A142)))","v":""},{"$f":"IF(SUM(I142,L142,T142)=0,\"\",SUM(I142,L142,T142))","v":""},{"$f":"IF(COUNTIF(DMA!M$5:M$503,Graphs!$A142)>0,Graphs!$A142,\"\")","v":""},{"$f":"IF($O142=\"\",\"\",SUMIF(DMA!$M$5:$M$503,Graphs!$O142,DMA!N$5:N$503))","v":""},{"$f":"IF($O142=\"\",\"\",SUMIF(DMA!$M$5:$M$503,Graphs!$O142,DMA!O$5:O$503))","v":""},{"$f":"IF($O142=\"\",\"\",SUMIF(DMA!$M$5:$M$503,Graphs!$O142,DMA!P$5:P$503))","v":""},{"$f":"IF($O142=\"\",\"\",SUMIF(DMA!$M$5:$M$503,Graphs!$O142,DMA!Q$5:Q$503))","v":""},{"$f":"IF(O142=\"\",\"\",SUM(P142:S142))","v":""},{"$f":"IF(O142=\"\",\"\",COUNTIF(DMA!M$5:M$503,Graphs!A142))","v":""},{"$f":"IF(O142=\"\",\"\",T142/U142)","v":""},{"$f":"IF(AZ142=\"\",\"\",IF(P142=0,\"\",(AZ142/BF142)))","v":""},{"$f":"IF(BA142=\"\",\"\",IF(Q142=0,\"\",(BA142/BG142)))","v":""},{"$f":"IF(BB142=\"\",\"\",IF(R142=0,\"\",(BB142/BH142)))","v":""},{"$f":"IF(BF142=\"\",\"\",IF(BF142=0,\"\",BF142*BM142*6*1.8))","v":""},{"$f":"IF(BG142=\"\",\"\",IF(BG142=0,\"\",BG142*BN142*6*1.5))","v":""},{"$f":"IF(BH142=\"\",\"\",IF(BH142=0,\"\",BH142*BO142*6*0.5))","v":""},null,null,null,null,null,null,null,null,null,null,null,null,null,null,null,null,null,null,null,null,null,null,null,"","","",{"$f":"IF(P142=\"\",\"\",IF(P142=0,\"\",SQRT(SUMIF(DMA!$DJ$5:$DJ$503,Graphs!$O142,DMA!DK$5:DK$503))/COUNTIF(DMA!$DJ$5:$DJ$503,Graphs!$O142)))","v":""},{"$f":"IF(Q142=\"\",\"\",IF(Q142=0,\"\",SQRT(SUMIF(DMA!$DJ$5:$DJ$503,Graphs!$O142,DMA!DL$5:DL$503))/COUNTIF(DMA!$DJ$5:$DJ$503,Graphs!$O142)))","v":""},{"$f":"IF(R142=\"\",\"\",IF(R142=0,\"\",SQRT(SUMIF(DMA!$DJ$5:$DJ$503,Graphs!$O142,DMA!DM$5:DM$503))/COUNTIF(DMA!$DJ$5:$DJ$503,Graphs!$O142)))","v":""},{"$f":"IF($P142=\"\",\"\",IF(P142=0,\"\",AVERAGEIF(DMA!$M$5:$M$503,Graphs!$O142,DMA!N$5:N$503)))","v":""},{"$f":"IF($Q142=\"\",\"\",IF(Q142=0,\"\",AVERAGEIF(DMA!$M$5:$M$503,Graphs!$O142,DMA!O$5:O$503)))","v":""},{"$f":"IF($R142=\"\",\"\",IF(R142=0,\"\",AVERAGEIF(DMA!$M$5:$M$503,Graphs!$O142,DMA!P$5:P$503)))","v":""}]
[null,{"$f":"IF(A143=\"\",\"\",(SUMIF(DMA!$AO$5:$AO$604,$A143,DMA!$AQ$5:$AQ$603)/DMA!AQ$604))","v":""},{"$f":"IF(A143=\"\",\"\",(SUMIF(DMA!$CQ$5:$CQ$603,$A143,DMA!$CO$5:$CO$603))*0.01)","v":""},{"$f":"IF(B143=\"\",\"\",(SUMIF(DMA!$CQ$5:$CQ$603,$A143,DMA!$CP$5:$CP$603)))","v":""},{"$f":"IF(COUNTIF(DMA!I$5:I$503,Graphs!$A143)>0,Graphs!$A143,\"\")","v":""},{"$f":"IF(E143=\"\",\"\",COUNTIF(DMA!I$5:I$503,Graphs!E143))","v":""},{"$f":"IF(E143=\"\",\"\",SUMIF(DMA!I$5:I$503,Graphs!E143,DMA!J$5:J$503)/COUNTIF(DMA!I$5:I$503,Graphs!E143))","v":""},{"$f":"IF(SUMIF(DMA!B$5:B$503,Graphs!A143,DMA!D$5:D$503)>0,Graphs!A143,\"\")","v":""},{"$f":"IF(H143=\"\",\"\",COUNTIF(DMA!B$5:B$503,Graphs!A143))","v":""},{"$f":"IF(H143=\"\",\"\",10^(-0.7083129+0.297*(SUMIF(DMA!B$5:B$503,Graphs!H143,DMA!D$5:D$503)/COUNTIF(DMA!B$5:B$503,Graphs!H143))))","v":""},{"$f":"IF(COUNTIF(DMA!R$5:R$503,Graphs!$A143)>0,Graphs!$A143,\"\")","v":""},{"$f":"IF(K143=\"\",\"\",COUNTIF(DMA!R$5:R$503,Graphs!A143))","v":""},{"$f":"IF(K143=\"\",\"\",(SUMIF(DMA!R$5:R$503,Graphs!A143,DMA!S$5:S$503)/COUNTIF(DMA!R$5:R$503,Graphs!A143)))","v":""},"",{"$f":"IF(COUNTIF(DMA!M$5:M$503,Graphs!$A143)>0,Graphs!$A143,\"\")","v":""},{"$f":"IF($O143=\"\",\"\",SUMIF(DMA!$M$5:$M$503,Graphs!$O143,DMA!N$5:N$503))","v":""},{"$f":"IF($O143=\"\",\"\",SUMIF(DMA!$M$5:$M$503,Graphs!$O143,DMA!O$5:O$503))","v":""},{"$f":"IF($O143=\"\",\"\",SUMIF(DMA!$M$5:$M$503,Graphs!$O143,DMA!P$5:P$503))","v":""},{"$f":"IF($O143=\"\",\"\",SUMIF(DMA!$M$5:$M$503,Graphs!$O143,DMA!Q$5:Q$503))","v":""},"",{"$f":"IF(O143=\"\",\"\",COUNTIF(DMA!M$5:M$503,Graphs!A143))","v":""},"","","","","","","",null,null,null,null,null,null,null,null,null,null,null,null,null,null,null,null,null,null,null,null,null,null,null,"","","",{"$f":"IF(P143=\"\",\"\",IF(P143=0,\"\",SQRT(SUMIF(DMA!$DJ$5:$DJ$503,Graphs!$O143,DMA!DK$5:DK$503))/COUNTIF(DMA!$DJ$5:$DJ$503,Graphs!$O143)))","v":""},{"$f":"IF(Q143=\"\",\"\",IF(Q143=0,\"\",SQRT(SUMIF(DMA!$DJ$5:$DJ$503,Graphs!$O143,DMA!DL$5:DL$503))/COUNTIF(DMA!$DJ$5:$DJ$503,Graphs!$O143)))","v":""},{"$f":"IF(R143=\"\",\"\",IF(R143=0,\"\",SQRT(SUMIF(DMA!$DJ$5:$DJ$503,Graphs!$O143,DMA!DM$5:DM$503))/COUNTIF(DMA!$DJ$5:$DJ$503,Graphs!$O143)))","v":""},{"$f":"IF($P143=\"\",\"\",IF(P143=0,\"\",AVERAGEIF(DMA!$M$5:$M$503,Graphs!$O143,DMA!N$5:N$503)))","v":""},{"$f":"IF($Q143=\"\",\"\",IF(Q143=0,\"\",AVERAGEIF(DMA!$M$5:$M$503,Graphs!$O143,DMA!O$5:O$503)))","v":""},{"$f":"IF($R143=\"\",\"\",IF(R143=0,\"\",AVERAGEIF(DMA!$M$5:$M$503,Graphs!$O143,DMA!P$5:P$503)))","v":""}]
[null,{"$f":"IF(A144=\"\",\"\",(SUMIF(DMA!$AO$5:$AO$604,$A144,DMA!$AQ$5:$AQ$603)/DMA!AQ$604))","v":""},{"$f":"IF(A144=\"\",\"\",(SUMIF(DMA!$CQ$5:$CQ$603,$A144,DMA!$CO$5:$CO$603))*0.01)","v":""},{"$f":"IF(B144=\"\",\"\",(SUMIF(DMA!$CQ$5:$CQ$603,$A144,DMA!$CP$5:$CP$603)))","v":""},{"$f":"IF(COUNTIF(DMA!I$5:I$503,Graphs!$A144)>0,Graphs!$A144,\"\")","v":""},{"$f":"IF(E144=\"\",\"\",COUNTIF(DMA!I$5:I$503,Graphs!E144))","v":""},{"$f":"IF(E144=\"\",\"\",SUMIF(DMA!I$5:I$503,Graphs!E144,DMA!J$5:J$503)/COUNTIF(DMA!I$5:I$503,Graphs!E144))","v":""},{"$f":"IF(SUMIF(DMA!B$5:B$503,Graphs!A144,DMA!D$5:D$503)>0,Graphs!A144,\"\")","v":""},{"$f":"IF(H144=\"\",\"\",COUNTIF(DMA!B$5:B$503,Graphs!A144))","v":""},{"$f":"IF(H144=\"\",\"\",10^(-0.7083129+0.297*(SUMIF(DMA!B$5:B$503,Graphs!H144,DMA!D$5:D$503)/COUNTIF(DMA!B$5:B$503,Graphs!H144))))","v":""},{"$f":"IF(COUNTIF(DMA!R$5:R$503,Graphs!$A144)>0,Graphs!$A144,\"\")","v":""},{"$f":"IF(K144=\"\",\"\",COUNTIF(DMA!R$5:R$503,Graphs!A144))","v":""},{"$f":"IF(K144=\"\",\"\",(SUMIF(DMA!R$5:R$503,Graphs!A144,DMA!S$5:S$503)/COUNTIF(DMA!R$5:R$503,Graphs!A144)))","v":""},"",{"$f":"IF(COUNTIF(DMA!M$5:M$503,Graphs!$A144)>0,Graphs!$A144,\"\")","v":""},{"$f":"IF($O144=\"\",\"\",SUMIF(DMA!$M$5:$M$503,Graphs!$O144,DMA!N$5:N$503))","v":""},{"$f":"IF($O144=\"\",\"\",SUMIF(DMA!$M$5:$M$503,Graphs!$O144,DMA!O$5:O$503))","v":""},{"$f":"IF($O144=\"\",\"\",SUMIF(DMA!$M$5:$M$503,Graphs!$O144,DMA!P$5:P$503))","v":""},{"$f":"IF($O144=\"\",\"\",SUMIF(DMA!$M$5:$M$503,Graphs!$O144,DMA!Q$5:Q$503))","v":""},"",{"$f":"IF(O144=\"\",\"\",COUNTIF(DMA!M$5:M$503,Graphs!A144))","v":""},"","","","","","","",null,null,null,null,null,null,null,null,null,null,null,null,null,null,null,null,null,null,null,null,null,null,null,"","","",{"$f":"IF(P144=\"\",\"\",IF(P144=0,\"\",SQRT(SUMIF(DMA!$DJ$5:$DJ$503,Graphs!$O144,DMA!DK$5:DK$503))/COUNTIF(DMA!$DJ$5:$DJ$503,Graphs!$O144)))","v":""},{"$f":"IF(Q144=\"\",\"\",IF(Q144=0,\"\",SQRT(SUMIF(DMA!$DJ$5:$DJ$503,Graphs!$O144,DMA!DL$5:DL$503))/COUNTIF(DMA!$DJ$5:$DJ$503,Graphs!$O144)))","v":""},{"$f":"IF(R144=\"\",\"\",IF(R144=0,\"\",SQRT(SUMIF(DMA!$DJ$5:$DJ$503,Graphs!$O144,DMA!DM$5:DM$503))/COUNTIF(DMA!$DJ$5:$DJ$503,Graphs!$O144)))","v":""},{"$f":"IF($P144=\"\",\"\",IF(P144=0,\"\",AVERAGEIF(DMA!$M$5:$M$503,Graphs!$O144,DMA!N$5:N$503)))","v":""},{"$f":"IF($Q144=\"\",\"\",IF(Q144=0,\"\",AVERAGEIF(DMA!$M$5:$M$503,Graphs!$O144,DMA!O$5:O$503)))","v":""},{"$f":"IF($R144=\"\",\"\",IF(R144=0,\"\",AVERAGEIF(DMA!$M$5:$M$503,Graphs!$O144,DMA!P$5:P$503)))","v":""}]
[null,{"$f":"IF(A145=\"\",\"\",(SUMIF(DMA!$AO$5:$AO$604,$A145,DMA!$AQ$5:$AQ$603)/DMA!AQ$604))","v":""},{"$f":"IF(A145=\"\",\"\",(SUMIF(DMA!$CQ$5:$CQ$603,$A145,DMA!$CO$5:$CO$603))*0.01)","v":""},{"$f":"IF(B145=\"\",\"\",(SUMIF(DMA!$CQ$5:$CQ$603,$A145,DMA!$CP$5:$CP$603)))","v":""},{"$f":"IF(COUNTIF(DMA!I$5:I$503,Graphs!$A145)>0,Graphs!$A145,\"\")","v":""},{"$f":"IF(E145=\"\",\"\",COUNTIF(DMA!I$5:I$503,Graphs!E145))","v":""},{"$f":"IF(E145=\"\",\"\",SUMIF(DMA!I$5:I$503,Graphs!E145,DMA!J$5:J$503)/COUNTIF(DMA!I$5:I$503,Graphs!E145))","v":""},{"$f":"IF(SUMIF(DMA!B$5:B$503,Graphs!A145,DMA!D$5:D$503)>0,Graphs!A145,\"\")","v":""},{"$f":"IF(H145=\"\",\"\",COUNTIF(DMA!B$5:B$503,Graphs!A145))","v":""},{"$f":"IF(H145=\"\",\"\",10^(-0.7083129+0.297*(SUMIF(DMA!B$5:B$503,Graphs!H145,DMA!D$5:D$503)/COUNTIF(DMA!B$5:B$503,Graphs!H145))))","v":""},{"$f":"IF(COUNTIF(DMA!R$5:R$503,Graphs!$A145)>0,Graphs!$A145,\"\")","v":""},{"$f":"IF(K145=\"\",\"\",COUNTIF(DMA!R$5:R$503,Graphs!A145))","v":""},{"$f":"IF(K145=\"\",\"\",(SUMIF(DMA!R$5:R$503,Graphs!A145,DMA!S$5:S$503)/COUNTIF(DMA!R$5:R$503,Graphs!A145)))","v":""},"",{"$f":"IF(COUNTIF(DMA!M$5:M$503,Graphs!$A145)>0,Graphs!$A145,\"\")","v":""},{"$f":"IF($O145=\"\",\"\",SUMIF(DMA!$M$5:$M$503,Graphs!$O145,DMA!N$5:N$503))","v":""},{"$f":"IF($O145=\"\",\"\",SUMIF(DMA!$M$5:$M$503,Graphs!$O145,DMA!O$5:O$503))","v":""},{"$f":"IF($O145=\"\",\"\",SUMIF(DMA!$M$5:$M$503,Graphs!$O145,DMA!P$5:P$503))","v":""},{"$f":"IF($O145=\"\",\"\",SUMIF(DMA!$M$5:$M$503,Graphs!$O145,DMA!Q$5:Q$503))","v":""},"",{"$f":"IF(O145=\"\",\"\",COUNTIF(DMA!M$5:M$503,Graphs!A145))","v":""},"","","","","","","",null,null,null,null,null,null,null,null,null,null,null,null,null,null,null,null,null,null,null,null,null,null,null,"","","",{"$f":"IF(P145=\"\",\"\",IF(P145=0,\"\",SQRT(SUMIF(DMA!$DJ$5:$DJ$503,Graphs!$O145,DMA!DK$5:DK$503))/COUNTIF(DMA!$DJ$5:$DJ$503,Graphs!$O145)))","v":""},{"$f":"IF(Q145=\"\",\"\",IF(Q145=0,\"\",SQRT(SUMIF(DMA!$DJ$5:$DJ$503,Graphs!$O145,DMA!DL$5:DL$503))/COUNTIF(DMA!$DJ$5:$DJ$503,Graphs!$O145)))","v":""},{"$f":"IF(R145=\"\",\"\",IF(R145=0,\"\",SQRT(SUMIF(DMA!$DJ$5:$DJ$503,Graphs!$O145,DMA!DM$5:DM$503))/COUNTIF(DMA!$DJ$5:$DJ$503,Graphs!$O145)))","v":""},{"$f":"IF($P145=\"\",\"\",IF(P145=0,\"\",AVERAGEIF(DMA!$M$5:$M$503,Graphs!$O145,DMA!N$5:N$503)))","v":""},{"$f":"IF($Q145=\"\",\"\",IF(Q145=0,\"\",AVERAGEIF(DMA!$M$5:$M$503,Graphs!$O145,DMA!O$5:O$503)))","v":""},{"$f":"IF($R145=\"\",\"\",IF(R145=0,\"\",AVERAGEIF(DMA!$M$5:$M$503,Graphs!$O145,DMA!P$5:P$503)))","v":""}]
[null,{"$f":"IF(A146=\"\",\"\",(SUMIF(DMA!$AO$5:$AO$604,$A146,DMA!$AQ$5:$AQ$603)/DMA!AQ$604))","v":""},{"$f":"IF(A146=\"\",\"\",(SUMIF(DMA!$CQ$5:$CQ$603,$A146,DMA!$CO$5:$CO$603))*0.01)","v":""},{"$f":"IF(B146=\"\",\"\",(SUMIF(DMA!$CQ$5:$CQ$603,$A146,DMA!$CP$5:$CP$603)))","v":""},{"$f":"IF(COUNTIF(DMA!I$5:I$503,Graphs!$A146)>0,Graphs!$A146,\"\")","v":""},{"$f":"IF(E146=\"\",\"\",COUNTIF(DMA!I$5:I$503,Graphs!E146))","v":""},{"$f":"IF(E146=\"\",\"\",SUMIF(DMA!I$5:I$503,Graphs!E146,DMA!J$5:J$503)/COUNTIF(DMA!I$5:I$503,Graphs!E146))","v":""},{"$f":"IF(SUMIF(DMA!B$5:B$503,Graphs!A146,DMA!D$5:D$503)>0,Graphs!A146,\"\")","v":""},{"$f":"IF(H146=\"\",\"\",COUNTIF(DMA!B$5:B$503,Graphs!A146))","v":""},{"$f":"IF(H146=\"\",\"\",10^(-0.7083129+0.297*(SUMIF(DMA!B$5:B$503,Graphs!H146,DMA!D$5:D$503)/COUNTIF(DMA!B$5:B$503,Graphs!H146))))","v":""},{"$f":"IF(COUNTIF(DMA!R$5:R$503,Graphs!$A146)>0,Graphs!$A146,\"\")","v":""},{"$f":"IF(K146=\"\",\"\",COUNTIF(DMA!R$5:R$503,Graphs!A146))","v":""},{"$f":"IF(K146=\"\",\"\",(SUMIF(DMA!R$5:R$503,Graphs!A146,DMA!S$5:S$503)/COUNTIF(DMA!R$5:R$503,Graphs!A146)))","v":""},"",{"$f":"IF(COUNTIF(DMA!M$5:M$503,Graphs!$A146)>0,Graphs!$A146,\"\")","v":""},{"$f":"IF($O146=\"\",\"\",SUMIF(DMA!$M$5:$M$503,Graphs!$O146,DMA!N$5:N$503))","v":""},{"$f":"IF($O146=\"\",\"\",SUMIF(DMA!$M$5:$M$503,Graphs!$O146,DMA!O$5:O$503))","v":""},{"$f":"IF($O146=\"\",\"\",SUMIF(DMA!$M$5:$M$503,Graphs!$O146,DMA!P$5:P$503))","v":""},{"$f":"IF($O146=\"\",\"\",SUMIF(DMA!$M$5:$M$503,Graphs!$O146,DMA!Q$5:Q$503))","v":""},"",{"$f":"IF(O146=\"\",\"\",COUNTIF(DMA!M$5:M$503,Graphs!A146))","v":""},"","","","","","","",null,null,null,null,null,null,null,null,null,null,null,null,null,null,null,null,null,null,null,null,null,null,null,"","","",{"$f":"IF(P146=\"\",\"\",IF(P146=0,\"\",SQRT(SUMIF(DMA!$DJ$5:$DJ$503,Graphs!$O146,DMA!DK$5:DK$503))/COUNTIF(DMA!$DJ$5:$DJ$503,Graphs!$O146)))","v":""},{"$f":"IF(Q146=\"\",\"\",IF(Q146=0,\"\",SQRT(SUMIF(DMA!$DJ$5:$DJ$503,Graphs!$O146,DMA!DL$5:DL$503))/COUNTIF(DMA!$DJ$5:$DJ$503,Graphs!$O146)))","v":""},{"$f":"IF(R146=\"\",\"\",IF(R146=0,\"\",SQRT(SUMIF(DMA!$DJ$5:$DJ$503,Graphs!$O146,DMA!DM$5:DM$503))/COUNTIF(DMA!$DJ$5:$DJ$503,Graphs!$O146)))","v":""},{"$f":"IF($P146=\"\",\"\",IF(P146=0,\"\",AVERAGEIF(DMA!$M$5:$M$503,Graphs!$O146,DMA!N$5:N$503)))","v":""},{"$f":"IF($Q146=\"\",\"\",IF(Q146=0,\"\",AVERAGEIF(DMA!$M$5:$M$503,Graphs!$O146,DMA!O$5:O$503)))","v":""},{"$f":"IF($R146=\"\",\"\",IF(R146=0,\"\",AVERAGEIF(DMA!$M$5:$M$503,Graphs!$O146,DMA!P$5:P$503)))","v":""}]
[null,{"$f":"IF(A147=\"\",\"\",(SUMIF(DMA!$AO$5:$AO$604,$A147,DMA!$AQ$5:$AQ$603)/DMA!AQ$604))","v":""},{"$f":"IF(A147=\"\",\"\",(SUMIF(DMA!$CQ$5:$CQ$603,$A147,DMA!$CO$5:$CO$603))*0.01)","v":""},{"$f":"IF(B147=\"\",\"\",(SUMIF(DMA!$CQ$5:$CQ$603,$A147,DMA!$CP$5:$CP$603)))","v":""},{"$f":"IF(COUNTIF(DMA!I$5:I$503,Graphs!$A147)>0,Graphs!$A147,\"\")","v":""},{"$f":"IF(E147=\"\",\"\",COUNTIF(DMA!I$5:I$503,Graphs!E147))","v":""},{"$f":"IF(E147=\"\",\"\",SUMIF(DMA!I$5:I$503,Graphs!E147,DMA!J$5:J$503)/COUNTIF(DMA!I$5:I$503,Graphs!E147))","v":""},{"$f":"IF(SUMIF(DMA!B$5:B$503,Graphs!A147,DMA!D$5:D$503)>0,Graphs!A147,\"\")","v":""},{"$f":"IF(H147=\"\",\"\",COUNTIF(DMA!B$5:B$503,Graphs!A147))","v":""},{"$f":"IF(H147=\"\",\"\",10^(-0.7083129+0.297*(SUMIF(DMA!B$5:B$503,Graphs!H147,DMA!D$5:D$503)/COUNTIF(DMA!B$5:B$503,Graphs!H147))))","v":""},{"$f":"IF(COUNTIF(DMA!R$5:R$503,Graphs!$A147)>0,Graphs!$A147,\"\")","v":""},{"$f":"IF(K147=\"\",\"\",COUNTIF(DMA!R$5:R$503,Graphs!A147))","v":""},{"$f":"IF(K147=\"\",\"\",(SUMIF(DMA!R$5:R$503,Graphs!A147,DMA!S$5:S$503)/COUNTIF(DMA!R$5:R$503,Graphs!A147)))","v":""},"",{"$f":"IF(COUNTIF(DMA!M$5:M$503,Graphs!$A147)>0,Graphs!$A147,\"\")","v":""},{"$f":"IF($O147=\"\",\"\",SUMIF(DMA!$M$5:$M$503,Graphs!$O147,DMA!N$5:N$503))","v":""},{"$f":"IF($O147=\"\",\"\",SUMIF(DMA!$M$5:$M$503,Graphs!$O147,DMA!O$5:O$503))","v":""},{"$f":"IF($O147=\"\",\"\",SUMIF(DMA!$M$5:$M$503,Graphs!$O147,DMA!P$5:P$503))","v":""},{"$f":"IF($O147=\"\",\"\",SUMIF(DMA!$M$5:$M$503,Graphs!$O147,DMA!Q$5:Q$503))","v":""},"",{"$f":"IF(O147=\"\",\"\",COUNTIF(DMA!M$5:M$503,Graphs!A147))","v":""},"","","","","","","",null,null,null,null,null,null,null,null,null,null,null,null,null,null,null,null,null,null,null,null,null,null,null,"","","",{"$f":"IF(P147=\"\",\"\",IF(P147=0,\"\",SQRT(SUMIF(DMA!$DJ$5:$DJ$503,Graphs!$O147,DMA!DK$5:DK$503))/COUNTIF(DMA!$DJ$5:$DJ$503,Graphs!$O147)))","v":""},{"$f":"IF(Q147=\"\",\"\",IF(Q147=0,\"\",SQRT(SUMIF(DMA!$DJ$5:$DJ$503,Graphs!$O147,DMA!DL$5:DL$503))/COUNTIF(DMA!$DJ$5:$DJ$503,Graphs!$O147)))","v":""},{"$f":"IF(R147=\"\",\"\",IF(R147=0,\"\",SQRT(SUMIF(DMA!$DJ$5:$DJ$503,Graphs!$O147,DMA!DM$5:DM$503))/COUNTIF(DMA!$DJ$5:$DJ$503,Graphs!$O147)))","v":""},{"$f":"IF($P147=\"\",\"\",IF(P147=0,\"\",AVERAGEIF(DMA!$M$5:$M$503,Graphs!$O147,DMA!N$5:N$503)))","v":""},{"$f":"IF($Q147=\"\",\"\",IF(Q147=0,\"\",AVERAGEIF(DMA!$M$5:$M$503,Graphs!$O147,DMA!O$5:O$503)))","v":""},{"$f":"IF($R147=\"\",\"\",IF(R147=0,\"\",AVERAGEIF(DMA!$M$5:$M$503,Graphs!$O147,DMA!P$5:P$503)))","v":""}]
[null,{"$f":"IF(A148=\"\",\"\",(SUMIF(DMA!$AO$5:$AO$604,$A148,DMA!$AQ$5:$AQ$603)/DMA!AQ$604))","v":""},{"$f":"IF(A148=\"\",\"\",(SUMIF(DMA!$CQ$5:$CQ$603,$A148,DMA!$CO$5:$CO$603))*0.01)","v":""},{"$f":"IF(B148=\"\",\"\",(SUMIF(DMA!$CQ$5:$CQ$603,$A148,DMA!$CP$5:$CP$603)))","v":""},{"$f":"IF(COUNTIF(DMA!I$5:I$503,Graphs!$A148)>0,Graphs!$A148,\"\")","v":""},{"$f":"IF(E148=\"\",\"\",COUNTIF(DMA!I$5:I$503,Graphs!E148))","v":""},{"$f":"IF(E148=\"\",\"\",SUMIF(DMA!I$5:I$503,Graphs!E148,DMA!J$5:J$503)/COUNTIF(DMA!I$5:I$503,Graphs!E148))","v":""},{"$f":"IF(SUMIF(DMA!B$5:B$503,Graphs!A148,DMA!D$5:D$503)>0,Graphs!A148,\"\")","v":""},{"$f":"IF(H148=\"\",\"\",COUNTIF(DMA!B$5:B$503,Graphs!A148))","v":""},{"$f":"IF(H148=\"\",\"\",10^(-0.7083129+0.297*(SUMIF(DMA!B$5:B$503,Graphs!H148,DMA!D$5:D$503)/COUNTIF(DMA!B$5:B$503,Graphs!H148))))","v":""},{"$f":"IF(COUNTIF(DMA!R$5:R$503,Graphs!$A148)>0,Graphs!$A148,\"\")","v":""},{"$f":"IF(K148=\"\",\"\",COUNTIF(DMA!R$5:R$503,Graphs!A148))","v":""},{"$f":"IF(K148=\"\",\"\",(SUMIF(DMA!R$5:R$503,Graphs!A148,DMA!S$5:S$503)/COUNTIF(DMA!R$5:R$503,Graphs!A148)))","v":""},"",{"$f":"IF(COUNTIF(DMA!M$5:M$503,Graphs!$A148)>0,Graphs!$A148,\"\")","v":""},{"$f":"IF($O148=\"\",\"\",SUMIF(DMA!$M$5:$M$503,Graphs!$O148,DMA!N$5:N$503))","v":""},{"$f":"IF($O148=\"\",\"\",SUMIF(DMA!$M$5:$M$503,Graphs!$O148,DMA!O$5:O$503))","v":""},{"$f":"IF($O148=\"\",\"\",SUMIF(DMA!$M$5:$M$503,Graphs!$O148,DMA!P$5:P$503))","v":""},{"$f":"IF($O148=\"\",\"\",SUMIF(DMA!$M$5:$M$503,Graphs!$O148,DMA!Q$5:Q$503))","v":""},"",{"$f":"IF(O148=\"\",\"\",COUNTIF(DMA!M$5:M$503,Graphs!A148))","v":""},"","","","","","","",null,null,null,null,null,null,null,null,null,null,null,null,null,null,null,null,null,null,null,null,null,null,null,"","","",{"$f":"IF(P148=\"\",\"\",IF(P148=0,\"\",SQRT(SUMIF(DMA!$DJ$5:$DJ$503,Graphs!$O148,DMA!DK$5:DK$503))/COUNTIF(DMA!$DJ$5:$DJ$503,Graphs!$O148)))","v":""},{"$f":"IF(Q148=\"\",\"\",IF(Q148=0,\"\",SQRT(SUMIF(DMA!$DJ$5:$DJ$503,Graphs!$O148,DMA!DL$5:DL$503))/COUNTIF(DMA!$DJ$5:$DJ$503,Graphs!$O148)))","v":""},{"$f":"IF(R148=\"\",\"\",IF(R148=0,\"\",SQRT(SUMIF(DMA!$DJ$5:$DJ$503,Graphs!$O148,DMA!DM$5:DM$503))/COUNTIF(DMA!$DJ$5:$DJ$503,Graphs!$O148)))","v":""},{"$f":"IF($P148=\"\",\"\",IF(P148=0,\"\",AVERAGEIF(DMA!$M$5:$M$503,Graphs!$O148,DMA!N$5:N$503)))","v":""},{"$f":"IF($Q148=\"\",\"\",IF(Q148=0,\"\",AVERAGEIF(DMA!$M$5:$M$503,Graphs!$O148,DMA!O$5:O$503)))","v":""},{"$f":"IF($R148=\"\",\"\",IF(R148=0,\"\",AVERAGEIF(DMA!$M$5:$M$503,Graphs!$O148,DMA!P$5:P$503)))","v":""}]
[null,{"$f":"IF(A149=\"\",\"\",(SUMIF(DMA!$AO$5:$AO$604,$A149,DMA!$AQ$5:$AQ$603)/DMA!AQ$604))","v":""},{"$f":"IF(A149=\"\",\"\",(SUMIF(DMA!$CQ$5:$CQ$603,$A149,DMA!$CO$5:$CO$603))*0.01)","v":""},{"$f":"IF(B149=\"\",\"\",(SUMIF(DMA!$CQ$5:$CQ$603,$A149,DMA!$CP$5:$CP$603)))","v":""},{"$f":"IF(COUNTIF(DMA!I$5:I$503,Graphs!$A149)>0,Graphs!$A149,\"\")","v":""},{"$f":"IF(E149=\"\",\"\",COUNTIF(DMA!I$5:I$503,Graphs!E149))","v":""},{"$f":"IF(E149=\"\",\"\",SUMIF(DMA!I$5:I$503,Graphs!E149,DMA!J$5:J$503)/COUNTIF(DMA!I$5:I$503,Graphs!E149))","v":""},{"$f":"IF(SUMIF(DMA!B$5:B$503,Graphs!A149,DMA!D$5:D$503)>0,Graphs!A149,\"\")","v":""},{"$f":"IF(H149=\"\",\"\",COUNTIF(DMA!B$5:B$503,Graphs!A149))","v":""},{"$f":"IF(H149=\"\",\"\",10^(-0.7083129+0.297*(SUMIF(DMA!B$5:B$503,Graphs!H149,DMA!D$5:D$503)/COUNTIF(DMA!B$5:B$503,Graphs!H149))))","v":""},{"$f":"IF(COUNTIF(DMA!R$5:R$503,Graphs!$A149)>0,Graphs!$A149,\"\")","v":""},{"$f":"IF(K149=\"\",\"\",COUNTIF(DMA!R$5:R$503,Graphs!A149))","v":""},{"$f":"IF(K149=\"\",\"\",(SUMIF(DMA!R$5:R$503,Graphs!A149,DMA!S$5:S$503)/COUNTIF(DMA!R$5:R$503,Graphs!A149)))","v":""},"",{"$f":"IF(COUNTIF(DMA!M$5:M$503,Graphs!$A149)>0,Graphs!$A149,\"\")","v":""},{"$f":"IF($O149=\"\",\"\",SUMIF(DMA!$M$5:$M$503,Graphs!$O149,DMA!N$5:N$503))","v":""},{"$f":"IF($O149=\"\",\"\",SUMIF(DMA!$M$5:$M$503,Graphs!$O149,DMA!O$5:O$503))","v":""},{"$f":"IF($O149=\"\",\"\",SUMIF(DMA!$M$5:$M$503,Graphs!$O149,DMA!P$5:P$503))","v":""},{"$f":"IF($O149=\"\",\"\",SUMIF(DMA!$M$5:$M$503,Graphs!$O149,DMA!Q$5:Q$503))","v":""},"",{"$f":"IF(O149=\"\",\"\",COUNTIF(DMA!M$5:M$503,Graphs!A149))","v":""},"","","","","","","",null,null,null,null,null,null,null,null,null,null,null,null,null,null,null,null,null,null,null,null,null,null,null,"","","",{"$f":"IF(P149=\"\",\"\",IF(P149=0,\"\",SQRT(SUMIF(DMA!$DJ$5:$DJ$503,Graphs!$O149,DMA!DK$5:DK$503))/COUNTIF(DMA!$DJ$5:$DJ$503,Graphs!$O149)))","v":""},{"$f":"IF(Q149=\"\",\"\",IF(Q149=0,\"\",SQRT(SUMIF(DMA!$DJ$5:$DJ$503,Graphs!$O149,DMA!DL$5:DL$503))/COUNTIF(DMA!$DJ$5:$DJ$503,Graphs!$O149)))","v":""},{"$f":"IF(R149=\"\",\"\",IF(R149=0,\"\",SQRT(SUMIF(DMA!$DJ$5:$DJ$503,Graphs!$O149,DMA!DM$5:DM$503))/COUNTIF(DMA!$DJ$5:$DJ$503,Graphs!$O149)))","v":""},{"$f":"IF($P149=\"\",\"\",IF(P149=0,\"\",AVERAGEIF(DMA!$M$5:$M$503,Graphs!$O149,DMA!N$5:N$503)))","v":""},{"$f":"IF($Q149=\"\",\"\",IF(Q149=0,\"\",AVERAGEIF(DMA!$M$5:$M$503,Graphs!$O149,DMA!O$5:O$503)))","v":""},{"$f":"IF($R149=\"\",\"\",IF(R149=0,\"\",AVERAGEIF(DMA!$M$5:$M$503,Graphs!$O149,DMA!P$5:P$503)))","v":""}]
[null,{"$f":"IF(A150=\"\",\"\",(SUMIF(DMA!$AO$5:$AO$604,$A150,DMA!$AQ$5:$AQ$603)/DMA!AQ$604))","v":""},{"$f":"IF(A150=\"\",\"\",(SUMIF(DMA!$CQ$5:$CQ$603,$A150,DMA!$CO$5:$CO$603))*0.01)","v":""},{"$f":"IF(B150=\"\",\"\",(SUMIF(DMA!$CQ$5:$CQ$603,$A150,DMA!$CP$5:$CP$603)))","v":""},{"$f":"IF(COUNTIF(DMA!I$5:I$503,Graphs!$A150)>0,Graphs!$A150,\"\")","v":""},{"$f":"IF(E150=\"\",\"\",COUNTIF(DMA!I$5:I$503,Graphs!E150))","v":""},{"$f":"IF(E150=\"\",\"\",SUMIF(DMA!I$5:I$503,Graphs!E150,DMA!J$5:J$503)/COUNTIF(DMA!I$5:I$503,Graphs!E150))","v":""},{"$f":"IF(SUMIF(DMA!B$5:B$503,Graphs!A150,DMA!D$5:D$503)>0,Graphs!A150,\"\")","v":""},{"$f":"IF(H150=\"\",\"\",COUNTIF(DMA!B$5:B$503,Graphs!A150))","v":""},{"$f":"IF(H150=\"\",\"\",10^(-0.7083129+0.297*(SUMIF(DMA!B$5:B$503,Graphs!H150,DMA!D$5:D$503)/COUNTIF(DMA!B$5:B$503,Graphs!H150))))","v":""},{"$f":"IF(COUNTIF(DMA!R$5:R$503,Graphs!$A150)>0,Graphs!$A150,\"\")","v":""},{"$f":"IF(K150=\"\",\"\",COUNTIF(DMA!R$5:R$503,Graphs!A150))","v":""},{"$f":"IF(K150=\"\",\"\",(SUMIF(DMA!R$5:R$503,Graphs!A150,DMA!S$5:S$503)/COUNTIF(DMA!R$5:R$503,Graphs!A150)))","v":""},"",{"$f":"IF(COUNTIF(DMA!M$5:M$503,Graphs!$A150)>0,Graphs!$A150,\"\")","v":""},{"$f":"IF($O150=\"\",\"\",SUMIF(DMA!$M$5:$M$503,Graphs!$O150,DMA!N$5:N$503))","v":""},{"$f":"IF($O150=\"\",\"\",SUMIF(DMA!$M$5:$M$503,Graphs!$O150,DMA!O$5:O$503))","v":""},{"$f":"IF($O150=\"\",\"\",SUMIF(DMA!$M$5:$M$503,Graphs!$O150,DMA!P$5:P$503))","v":""},{"$f":"IF($O150=\"\",\"\",SUMIF(DMA!$M$5:$M$503,Graphs!$O150,DMA!Q$5:Q$503))","v":""},"",{"$f":"IF(O150=\"\",\"\",COUNTIF(DMA!M$5:M$503,Graphs!A150))","v":""},"","","","","","","",null,null,null,null,null,null,null,null,null,null,null,null,null,null,null,null,null,null,null,null,null,null,null,"","","",{"$f":"IF(P150=\"\",\"\",IF(P150=0,\"\",SQRT(SUMIF(DMA!$DJ$5:$DJ$503,Graphs!$O150,DMA!DK$5:DK$503))/COUNTIF(DMA!$DJ$5:$DJ$503,Graphs!$O150)))","v":""},{"$f":"IF(Q150=\"\",\"\",IF(Q150=0,\"\",SQRT(SUMIF(DMA!$DJ$5:$DJ$503,Graphs!$O150,DMA!DL$5:DL$503))/COUNTIF(DMA!$DJ$5:$DJ$503,Graphs!$O150)))","v":""},{"$f":"IF(R150=\"\",\"\",IF(R150=0,\"\",SQRT(SUMIF(DMA!$DJ$5:$DJ$503,Graphs!$O150,DMA!DM$5:DM$503))/COUNTIF(DMA!$DJ$5:$DJ$503,Graphs!$O150)))","v":""},{"$f":"IF($P150=\"\",\"\",IF(P150=0,\"\",AVERAGEIF(DMA!$M$5:$M$503,Graphs!$O150,DMA!N$5:N$503)))","v":""},{"$f":"IF($Q150=\"\",\"\",IF(Q150=0,\"\",AVERAGEIF(DMA!$M$5:$M$503,Graphs!$O150,DMA!O$5:O$503)))","v":""},{"$f":"IF($R150=\"\",\"\",IF(R150=0,\"\",AVERAGEIF(DMA!$M$5:$M$503,Graphs!$O150,DMA!P$5:P$503)))","v":""}]
[null,{"$f":"IF(A151=\"\",\"\",(SUMIF(DMA!$AO$5:$AO$604,$A151,DMA!$AQ$5:$AQ$603)/DMA!AQ$604))","v":""},{"$f":"IF(A151=\"\",\"\",(SUMIF(DMA!$CQ$5:$CQ$603,$A151,DMA!$CO$5:$CO$603))*0.01)","v":""},{"$f":"IF(B151=\"\",\"\",(SUMIF(DMA!$CQ$5:$CQ$603,$A151,DMA!$CP$5:$CP$603)))","v":""},{"$f":"IF(COUNTIF(DMA!I$5:I$503,Graphs!$A151)>0,Graphs!$A151,\"\")","v":""},{"$f":"IF(E151=\"\",\"\",COUNTIF(DMA!I$5:I$503,Graphs!E151))","v":""},{"$f":"IF(E151=\"\",\"\",SUMIF(DMA!I$5:I$503,Graphs!E151,DMA!J$5:J$503)/COUNTIF(DMA!I$5:I$503,Graphs!E151))","v":""},{"$f":"IF(SUMIF(DMA!B$5:B$503,Graphs!A151,DMA!D$5:D$503)>0,Graphs!A151,\"\")","v":""},{"$f":"IF(H151=\"\",\"\",COUNTIF(DMA!B$5:B$503,Graphs!A151))","v":""},{"$f":"IF(H151=\"\",\"\",10^(-0.7083129+0.297*(SUMIF(DMA!B$5:B$503,Graphs!H151,DMA!D$5:D$503)/COUNTIF(DMA!B$5:B$503,Graphs!H151))))","v":""},{"$f":"IF(COUNTIF(DMA!R$5:R$503,Graphs!$A151)>0,Graphs!$A151,\"\")","v":""},{"$f":"IF(K151=\"\",\"\",COUNTIF(DMA!R$5:R$503,Graphs!A151))","v":""},{"$f":"IF(K151=\"\",\"\",(SUMIF(DMA!R$5:R$503,Graphs!A151,DMA!S$5:S$503)/COUNTIF(DMA!R$5:R$503,Graphs!A151)))","v":""},"",{"$f":"IF(COUNTIF(DMA!M$5:M$503,Graphs!$A151)>0,Graphs!$A151,\"\")","v":""},{"$f":"IF($O151=\"\",\"\",SUMIF(DMA!$M$5:$M$503,Graphs!$O151,DMA!N$5:N$503))","v":""},{"$f":"IF($O151=\"\",\"\",SUMIF(DMA!$M$5:$M$503,Graphs!$O151,DMA!O$5:O$503))","v":""},{"$f":"IF($O151=\"\",\"\",SUMIF(DMA!$M$5:$M$503,Graphs!$O151,DMA!P$5:P$503))","v":""},{"$f":"IF($O151=\"\",\"\",SUMIF(DMA!$M$5:$M$503,Graphs!$O151,DMA!Q$5:Q$503))","v":""},"",{"$f":"IF(O151=\"\",\"\",COUNTIF(DMA!M$5:M$503,Graphs!A151))","v":""},"","","","","","","",null,null,null,null,null,null,null,null,null,null,null,null,null,null,null,null,null,null,null,null,null,null,null,"","","",{"$f":"IF(P151=\"\",\"\",IF(P151=0,\"\",SQRT(SUMIF(DMA!$DJ$5:$DJ$503,Graphs!$O151,DMA!DK$5:DK$503))/COUNTIF(DMA!$DJ$5:$DJ$503,Graphs!$O151)))","v":""},{"$f":"IF(Q151=\"\",\"\",IF(Q151=0,\"\",SQRT(SUMIF(DMA!$DJ$5:$DJ$503,Graphs!$O151,DMA!DL$5:DL$503))/COUNTIF(DMA!$DJ$5:$DJ$503,Graphs!$O151)))","v":""},{"$f":"IF(R151=\"\",\"\",IF(R151=0,\"\",SQRT(SUMIF(DMA!$DJ$5:$DJ$503,Graphs!$O151,DMA!DM$5:DM$503))/COUNTIF(DMA!$DJ$5:$DJ$503,Graphs!$O151)))","v":""},{"$f":"IF($P151=\"\",\"\",IF(P151=0,\"\",AVERAGEIF(DMA!$M$5:$M$503,Graphs!$O151,DMA!N$5:N$503)))","v":""},{"$f":"IF($Q151=\"\",\"\",IF(Q151=0,\"\",AVERAGEIF(DMA!$M$5:$M$503,Graphs!$O151,DMA!O$5:O$503)))","v":""},{"$f":"IF($R151=\"\",\"\",IF(R151=0,\"\",AVERAGEIF(DMA!$M$5:$M$503,Graphs!$O151,DMA!P$5:P$503)))","v":""}]
[null,{"$f":"IF(A152=\"\",\"\",(SUMIF(DMA!$AO$5:$AO$604,$A152,DMA!$AQ$5:$AQ$603)/DMA!AQ$604))","v":""},{"$f":"IF(A152=\"\",\"\",(SUMIF(DMA!$CQ$5:$CQ$603,$A152,DMA!$CO$5:$CO$603))*0.01)","v":""},{"$f":"IF(B152=\"\",\"\",(SUMIF(DMA!$CQ$5:$CQ$603,$A152,DMA!$CP$5:$CP$603)))","v":""},{"$f":"IF(COUNTIF(DMA!I$5:I$503,Graphs!$A152)>0,Graphs!$A152,\"\")","v":""},{"$f":"IF(E152=\"\",\"\",COUNTIF(DMA!I$5:I$503,Graphs!E152))","v":""},{"$f":"IF(E152=\"\",\"\",SUMIF(DMA!I$5:I$503,Graphs!E152,DMA!J$5:J$503)/COUNTIF(DMA!I$5:I$503,Graphs!E152))","v":""},{"$f":"IF(SUMIF(DMA!B$5:B$503,Graphs!A152,DMA!D$5:D$503)>0,Graphs!A152,\"\")","v":""},{"$f":"IF(H152=\"\",\"\",COUNTIF(DMA!B$5:B$503,Graphs!A152))","v":""},{"$f":"IF(H152=\"\",\"\",10^(-0.7083129+0.297*(SUMIF(DMA!B$5:B$503,Graphs!H152,DMA!D$5:D$503)/COUNTIF(DMA!B$5:B$503,Graphs!H152))))","v":""},{"$f":"IF(COUNTIF(DMA!R$5:R$503,Graphs!$A152)>0,Graphs!$A152,\"\")","v":""},{"$f":"IF(K152=\"\",\"\",COUNTIF(DMA!R$5:R$503,Graphs!A152))","v":""},{"$f":"IF(K152=\"\",\"\",(SUMIF(DMA!R$5:R$503,Graphs!A152,DMA!S$5:S$503)/COUNTIF(DMA!R$5:R$503,Graphs!A152)))","v":""},"",{"$f":"IF(COUNTIF(DMA!M$5:M$503,Graphs!$A152)>0,Graphs!$A152,\"\")","v":""},{"$f":"IF($O152=\"\",\"\",SUMIF(DMA!$M$5:$M$503,Graphs!$O152,DMA!N$5:N$503))","v":""},{"$f":"IF($O152=\"\",\"\",SUMIF(DMA!$M$5:$M$503,Graphs!$O152,DMA!O$5:O$503))","v":""},{"$f":"IF($O152=\"\",\"\",SUMIF(DMA!$M$5:$M$503,Graphs!$O152,DMA!P$5:P$503))","v":""},{"$f":"IF($O152=\"\",\"\",SUMIF(DMA!$M$5:$M$503,Graphs!$O152,DMA!Q$5:Q$503))","v":""},"",{"$f":"IF(O152=\"\",\"\",COUNTIF(DMA!M$5:M$503,Graphs!A152))","v":""},"","","","","","","",null,null,null,null,null,null,null,null,null,null,null,null,null,null,null,null,null,null,null,null,null,null,null,"","","",{"$f":"IF(P152=\"\",\"\",IF(P152=0,\"\",SQRT(SUMIF(DMA!$DJ$5:$DJ$503,Graphs!$O152,DMA!DK$5:DK$503))/COUNTIF(DMA!$DJ$5:$DJ$503,Graphs!$O152)))","v":""},{"$f":"IF(Q152=\"\",\"\",IF(Q152=0,\"\",SQRT(SUMIF(DMA!$DJ$5:$DJ$503,Graphs!$O152,DMA!DL$5:DL$503))/COUNTIF(DMA!$DJ$5:$DJ$503,Graphs!$O152)))","v":""},{"$f":"IF(R152=\"\",\"\",IF(R152=0,\"\",SQRT(SUMIF(DMA!$DJ$5:$DJ$503,Graphs!$O152,DMA!DM$5:DM$503))/COUNTIF(DMA!$DJ$5:$DJ$503,Graphs!$O152)))","v":""},{"$f":"IF($P152=\"\",\"\",IF(P152=0,\"\",AVERAGEIF(DMA!$M$5:$M$503,Graphs!$O152,DMA!N$5:N$503)))","v":""},{"$f":"IF($Q152=\"\",\"\",IF(Q152=0,\"\",AVERAGEIF(DMA!$M$5:$M$503,Graphs!$O152,DMA!O$5:O$503)))","v":""},{"$f":"IF($R152=\"\",\"\",IF(R152=0,\"\",AVERAGEIF(DMA!$M$5:$M$503,Graphs!$O152,DMA!P$5:P$503)))","v":""}]
[null,{"$f":"IF(A153=\"\",\"\",(SUMIF(DMA!$AO$5:$AO$604,$A153,DMA!$AQ$5:$AQ$603)/DMA!AQ$604))","v":""},{"$f":"IF(A153=\"\",\"\",(SUMIF(DMA!$CQ$5:$CQ$603,$A153,DMA!$CO$5:$CO$603))*0.01)","v":""},{"$f":"IF(B153=\"\",\"\",(SUMIF(DMA!$CQ$5:$CQ$603,$A153,DMA!$CP$5:$CP$603)))","v":""},{"$f":"IF(COUNTIF(DMA!I$5:I$503,Graphs!$A153)>0,Graphs!$A153,\"\")","v":""},{"$f":"IF(E153=\"\",\"\",COUNTIF(DMA!I$5:I$503,Graphs!E153))","v":""},{"$f":"IF(E153=\"\",\"\",SUMIF(DMA!I$5:I$503,Graphs!E153,DMA!J$5:J$503)/COUNTIF(DMA!I$5:I$503,Graphs!E153))","v":""},{"$f":"IF(SUMIF(DMA!B$5:B$503,Graphs!A153,DMA!D$5:D$503)>0,Graphs!A153,\"\")","v":""},{"$f":"IF(H153=\"\",\"\",COUNTIF(DMA!B$5:B$503,Graphs!A153))","v":""},{"$f":"IF(H153=\"\",\"\",10^(-0.7083129+0.297*(SUMIF(DMA!B$5:B$503,Graphs!H153,DMA!D$5:D$503)/COUNTIF(DMA!B$5:B$503,Graphs!H153))))","v":""},{"$f":"IF(COUNTIF(DMA!R$5:R$503,Graphs!$A153)>0,Graphs!$A153,\"\")","v":""},{"$f":"IF(K153=\"\",\"\",COUNTIF(DMA!R$5:R$503,Graphs!A153))","v":""},{"$f":"IF(K153=\"\",\"\",(SUMIF(DMA!R$5:R$503,Graphs!A153,DMA!S$5:S$503)/COUNTIF(DMA!R$5:R$503,Graphs!A153)))","v":""},"",{"$f":"IF(COUNTIF(DMA!M$5:M$503,Graphs!$A153)>0,Graphs!$A153,\"\")","v":""},{"$f":"IF($O153=\"\",\"\",SUMIF(DMA!$M$5:$M$503,Graphs!$O153,DMA!N$5:N$503))","v":""},{"$f":"IF($O153=\"\",\"\",SUMIF(DMA!$M$5:$M$503,Graphs!$O153,DMA!O$5:O$503))","v":""},{"$f":"IF($O153=\"\",\"\",SUMIF(DMA!$M$5:$M$503,Graphs!$O153,DMA!P$5:P$503))","v":""},{"$f":"IF($O153=\"\",\"\",SUMIF(DMA!$M$5:$M$503,Graphs!$O153,DMA!Q$5:Q$503))","v":""},"",{"$f":"IF(O153=\"\",\"\",COUNTIF(DMA!M$5:M$503,Graphs!A153))","v":""},"","","","","","","",null,null,null,null,null,null,null,null,null,null,null,null,null,null,null,null,null,null,null,null,null,null,null,"","","",{"$f":"IF(P153=\"\",\"\",IF(P153=0,\"\",SQRT(SUMIF(DMA!$DJ$5:$DJ$503,Graphs!$O153,DMA!DK$5:DK$503))/COUNTIF(DMA!$DJ$5:$DJ$503,Graphs!$O153)))","v":""},{"$f":"IF(Q153=\"\",\"\",IF(Q153=0,\"\",SQRT(SUMIF(DMA!$DJ$5:$DJ$503,Graphs!$O153,DMA!DL$5:DL$503))/COUNTIF(DMA!$DJ$5:$DJ$503,Graphs!$O153)))","v":""},{"$f":"IF(R153=\"\",\"\",IF(R153=0,\"\",SQRT(SUMIF(DMA!$DJ$5:$DJ$503,Graphs!$O153,DMA!DM$5:DM$503))/COUNTIF(DMA!$DJ$5:$DJ$503,Graphs!$O153)))","v":""},{"$f":"IF($P153=\"\",\"\",IF(P153=0,\"\",AVERAGEIF(DMA!$M$5:$M$503,Graphs!$O153,DMA!N$5:N$503)))","v":""},{"$f":"IF($Q153=\"\",\"\",IF(Q153=0,\"\",AVERAGEIF(DMA!$M$5:$M$503,Graphs!$O153,DMA!O$5:O$503)))","v":""},{"$f":"IF($R153=\"\",\"\",IF(R153=0,\"\",AVERAGEIF(DMA!$M$5:$M$503,Graphs!$O153,DMA!P$5:P$503)))","v":""}]
[null,{"$f":"IF(A154=\"\",\"\",(SUMIF(DMA!$AO$5:$AO$604,$A154,DMA!$AQ$5:$AQ$603)/DMA!AQ$604))","v":""},{"$f":"IF(A154=\"\",\"\",(SUMIF(DMA!$CQ$5:$CQ$603,$A154,DMA!$CO$5:$CO$603))*0.01)","v":""},{"$f":"IF(B154=\"\",\"\",(SUMIF(DMA!$CQ$5:$CQ$603,$A154,DMA!$CP$5:$CP$603)))","v":""},{"$f":"IF(COUNTIF(DMA!I$5:I$503,Graphs!$A154)>0,Graphs!$A154,\"\")","v":""},{"$f":"IF(E154=\"\",\"\",COUNTIF(DMA!I$5:I$503,Graphs!E154))","v":""},{"$f":"IF(E154=\"\",\"\",SUMIF(DMA!I$5:I$503,Graphs!E154,DMA!J$5:J$503)/COUNTIF(DMA!I$5:I$503,Graphs!E154))","v":""},{"$f":"IF(SUMIF(DMA!B$5:B$503,Graphs!A154,DMA!D$5:D$503)>0,Graphs!A154,\"\")","v":""},{"$f":"IF(H154=\"\",\"\",COUNTIF(DMA!B$5:B$503,Graphs!A154))","v":""},{"$f":"IF(H154=\"\",\"\",10^(-0.7083129+0.297*(SUMIF(DMA!B$5:B$503,Graphs!H154,DMA!D$5:D$503)/COUNTIF(DMA!B$5:B$503,Graphs!H154))))","v":""},{"$f":"IF(COUNTIF(DMA!R$5:R$503,Graphs!$A154)>0,Graphs!$A154,\"\")","v":""},{"$f":"IF(K154=\"\",\"\",COUNTIF(DMA!R$5:R$503,Graphs!A154))","v":""},{"$f":"IF(K154=\"\",\"\",(SUMIF(DMA!R$5:R$503,Graphs!A154,DMA!S$5:S$503)/COUNTIF(DMA!R$5:R$503,Graphs!A154)))","v":""},"",{"$f":"IF(COUNTIF(DMA!M$5:M$503,Graphs!$A154)>0,Graphs!$A154,\"\")","v":""},{"$f":"IF($O154=\"\",\"\",SUMIF(DMA!$M$5:$M$503,Graphs!$O154,DMA!N$5:N$503))","v":""},{"$f":"IF($O154=\"\",\"\",SUMIF(DMA!$M$5:$M$503,Graphs!$O154,DMA!O$5:O$503))","v":""},{"$f":"IF($O154=\"\",\"\",SUMIF(DMA!$M$5:$M$503,Graphs!$O154,DMA!P$5:P$503))","v":""},{"$f":"IF($O154=\"\",\"\",SUMIF(DMA!$M$5:$M$503,Graphs!$O154,DMA!Q$5:Q$503))","v":""},"",{"$f":"IF(O154=\"\",\"\",COUNTIF(DMA!M$5:M$503,Graphs!A154))","v":""},"","","","","","","",null,null,null,null,null,null,null,null,null,null,null,null,null,null,null,null,null,null,null,null,null,null,null,"","","",{"$f":"IF(P154=\"\",\"\",IF(P154=0,\"\",SQRT(SUMIF(DMA!$DJ$5:$DJ$503,Graphs!$O154,DMA!DK$5:DK$503))/COUNTIF(DMA!$DJ$5:$DJ$503,Graphs!$O154)))","v":""},{"$f":"IF(Q154=\"\",\"\",IF(Q154=0,\"\",SQRT(SUMIF(DMA!$DJ$5:$DJ$503,Graphs!$O154,DMA!DL$5:DL$503))/COUNTIF(DMA!$DJ$5:$DJ$503,Graphs!$O154)))","v":""},{"$f":"IF(R154=\"\",\"\",IF(R154=0,\"\",SQRT(SUMIF(DMA!$DJ$5:$DJ$503,Graphs!$O154,DMA!DM$5:DM$503))/COUNTIF(DMA!$DJ$5:$DJ$503,Graphs!$O154)))","v":""},{"$f":"IF($P154=\"\",\"\",IF(P154=0,\"\",AVERAGEIF(DMA!$M$5:$M$503,Graphs!$O154,DMA!N$5:N$503)))","v":""},{"$f":"IF($Q154=\"\",\"\",IF(Q154=0,\"\",AVERAGEIF(DMA!$M$5:$M$503,Graphs!$O154,DMA!O$5:O$503)))","v":""},{"$f":"IF($R154=\"\",\"\",IF(R154=0,\"\",AVERAGEIF(DMA!$M$5:$M$503,Graphs!$O154,DMA!P$5:P$503)))","v":""}]
[null,{"$f":"IF(A155=\"\",\"\",(SUMIF(DMA!$AO$5:$AO$604,$A155,DMA!$AQ$5:$AQ$603)/DMA!AQ$604))","v":""},{"$f":"IF(A155=\"\",\"\",(SUMIF(DMA!$CQ$5:$CQ$603,$A155,DMA!$CO$5:$CO$603))*0.01)","v":""},{"$f":"IF(B155=\"\",\"\",(SUMIF(DMA!$CQ$5:$CQ$603,$A155,DMA!$CP$5:$CP$603)))","v":""},{"$f":"IF(COUNTIF(DMA!I$5:I$503,Graphs!$A155)>0,Graphs!$A155,\"\")","v":""},{"$f":"IF(E155=\"\",\"\",COUNTIF(DMA!I$5:I$503,Graphs!E155))","v":""},{"$f":"IF(E155=\"\",\"\",SUMIF(DMA!I$5:I$503,Graphs!E155,DMA!J$5:J$503)/COUNTIF(DMA!I$5:I$503,Graphs!E155))","v":""},{"$f":"IF(SUMIF(DMA!B$5:B$503,Graphs!A155,DMA!D$5:D$503)>0,Graphs!A155,\"\")","v":""},{"$f":"IF(H155=\"\",\"\",COUNTIF(DMA!B$5:B$503,Graphs!A155))","v":""},{"$f":"IF(H155=\"\",\"\",10^(-0.7083129+0.297*(SUMIF(DMA!B$5:B$503,Graphs!H155,DMA!D$5:D$503)/COUNTIF(DMA!B$5:B$503,Graphs!H155))))","v":""},{"$f":"IF(COUNTIF(DMA!R$5:R$503,Graphs!$A155)>0,Graphs!$A155,\"\")","v":""},{"$f":"IF(K155=\"\",\"\",COUNTIF(DMA!R$5:R$503,Graphs!A155))","v":""},{"$f":"IF(K155=\"\",\"\",(SUMIF(DMA!R$5:R$503,Graphs!A155,DMA!S$5:S$503)/COUNTIF(DMA!R$5:R$503,Graphs!A155)))","v":""},"",{"$f":"IF(COUNTIF(DMA!M$5:M$503,Graphs!$A155)>0,Graphs!$A155,\"\")","v":""},{"$f":"IF($O155=\"\",\"\",SUMIF(DMA!$M$5:$M$503,Graphs!$O155,DMA!N$5:N$503))","v":""},{"$f":"IF($O155=\"\",\"\",SUMIF(DMA!$M$5:$M$503,Graphs!$O155,DMA!O$5:O$503))","v":""},{"$f":"IF($O155=\"\",\"\",SUMIF(DMA!$M$5:$M$503,Graphs!$O155,DMA!P$5:P$503))","v":""},{"$f":"IF($O155=\"\",\"\",SUMIF(DMA!$M$5:$M$503,Graphs!$O155,DMA!Q$5:Q$503))","v":""},"",{"$f":"IF(O155=\"\",\"\",COUNTIF(DMA!M$5:M$503,Graphs!A155))","v":""},"","","","","","","",null,null,null,null,null,null,null,null,null,null,null,null,null,null,null,null,null,null,null,null,null,null,null,"","","",{"$f":"IF(P155=\"\",\"\",IF(P155=0,\"\",SQRT(SUMIF(DMA!$DJ$5:$DJ$503,Graphs!$O155,DMA!DK$5:DK$503))/COUNTIF(DMA!$DJ$5:$DJ$503,Graphs!$O155)))","v":""},{"$f":"IF(Q155=\"\",\"\",IF(Q155=0,\"\",SQRT(SUMIF(DMA!$DJ$5:$DJ$503,Graphs!$O155,DMA!DL$5:DL$503))/COUNTIF(DMA!$DJ$5:$DJ$503,Graphs!$O155)))","v":""},{"$f":"IF(R155=\"\",\"\",IF(R155=0,\"\",SQRT(SUMIF(DMA!$DJ$5:$DJ$503,Graphs!$O155,DMA!DM$5:DM$503))/COUNTIF(DMA!$DJ$5:$DJ$503,Graphs!$O155)))","v":""},{"$f":"IF($P155=\"\",\"\",IF(P155=0,\"\",AVERAGEIF(DMA!$M$5:$M$503,Graphs!$O155,DMA!N$5:N$503)))","v":""},{"$f":"IF($Q155=\"\",\"\",IF(Q155=0,\"\",AVERAGEIF(DMA!$M$5:$M$503,Graphs!$O155,DMA!O$5:O$503)))","v":""},{"$f":"IF($R155=\"\",\"\",IF(R155=0,\"\",AVERAGEIF(DMA!$M$5:$M$503,Graphs!$O155,DMA!P$5:P$503)))","v":""}]
[null,{"$f":"IF(A156=\"\",\"\",(SUMIF(DMA!$AO$5:$AO$604,$A156,DMA!$AQ$5:$AQ$603)/DMA!AQ$604))","v":""},{"$f":"IF(A156=\"\",\"\",(SUMIF(DMA!$CQ$5:$CQ$603,$A156,DMA!$CO$5:$CO$603))*0.01)","v":""},{"$f":"IF(B156=\"\",\"\",(SUMIF(DMA!$CQ$5:$CQ$603,$A156,DMA!$CP$5:$CP$603)))","v":""},{"$f":"IF(COUNTIF(DMA!I$5:I$503,Graphs!$A156)>0,Graphs!$A156,\"\")","v":""},{"$f":"IF(E156=\"\",\"\",COUNTIF(DMA!I$5:I$503,Graphs!E156))","v":""},{"$f":"IF(E156=\"\",\"\",SUMIF(DMA!I$5:I$503,Graphs!E156,DMA!J$5:J$503)/COUNTIF(DMA!I$5:I$503,Graphs!E156))","v":""},{"$f":"IF(SUMIF(DMA!B$5:B$503,Graphs!A156,DMA!D$5:D$503)>0,Graphs!A156,\"\")","v":""},{"$f":"IF(H156=\"\",\"\",COUNTIF(DMA!B$5:B$503,Graphs!A156))","v":""},{"$f":"IF(H156=\"\",\"\",10^(-0.7083129+0.297*(SUMIF(DMA!B$5:B$503,Graphs!H156,DMA!D$5:D$503)/COUNTIF(DMA!B$5:B$503,Graphs!H156))))","v":""},{"$f":"IF(COUNTIF(DMA!R$5:R$503,Graphs!$A156)>0,Graphs!$A156,\"\")","v":""},{"$f":"IF(K156=\"\",\"\",COUNTIF(DMA!R$5:R$503,Graphs!A156))","v":""},{"$f":"IF(K156=\"\",\"\",(SUMIF(DMA!R$5:R$503,Graphs!A156,DMA!S$5:S$503)/COUNTIF(DMA!R$5:R$503,Graphs!A156)))","v":""},"",{"$f":"IF(COUNTIF(DMA!M$5:M$503,Graphs!$A156)>0,Graphs!$A156,\"\")","v":""},{"$f":"IF($O156=\"\",\"\",SUMIF(DMA!$M$5:$M$503,Graphs!$O156,DMA!N$5:N$503))","v":""},{"$f":"IF($O156=\"\",\"\",SUMIF(DMA!$M$5:$M$503,Graphs!$O156,DMA!O$5:O$503))","v":""},{"$f":"IF($O156=\"\",\"\",SUMIF(DMA!$M$5:$M$503,Graphs!$O156,DMA!P$5:P$503))","v":""},{"$f":"IF($O156=\"\",\"\",SUMIF(DMA!$M$5:$M$503,Graphs!$O156,DMA!Q$5:Q$503))","v":""},"",{"$f":"IF(O156=\"\",\"\",COUNTIF(DMA!M$5:M$503,Graphs!A156))","v":""},"","","","","","","",null,null,null,null,null,null,null,null,null,null,null,null,null,null,null,null,null,null,null,null,null,null,null,"","","",{"$f":"IF(P156=\"\",\"\",IF(P156=0,\"\",SQRT(SUMIF(DMA!$DJ$5:$DJ$503,Graphs!$O156,DMA!DK$5:DK$503))/COUNTIF(DMA!$DJ$5:$DJ$503,Graphs!$O156)))","v":""},{"$f":"IF(Q156=\"\",\"\",IF(Q156=0,\"\",SQRT(SUMIF(DMA!$DJ$5:$DJ$503,Graphs!$O156,DMA!DL$5:DL$503))/COUNTIF(DMA!$DJ$5:$DJ$503,Graphs!$O156)))","v":""},{"$f":"IF(R156=\"\",\"\",IF(R156=0,\"\",SQRT(SUMIF(DMA!$DJ$5:$DJ$503,Graphs!$O156,DMA!DM$5:DM$503))/COUNTIF(DMA!$DJ$5:$DJ$503,Graphs!$O156)))","v":""},{"$f":"IF($P156=\"\",\"\",IF(P156=0,\"\",AVERAGEIF(DMA!$M$5:$M$503,Graphs!$O156,DMA!N$5:N$503)))","v":""},{"$f":"IF($Q156=\"\",\"\",IF(Q156=0,\"\",AVERAGEIF(DMA!$M$5:$M$503,Graphs!$O156,DMA!O$5:O$503)))","v":""},{"$f":"IF($R156=\"\",\"\",IF(R156=0,\"\",AVERAGEIF(DMA!$M$5:$M$503,Graphs!$O156,DMA!P$5:P$503)))","v":""}]
[null,{"$f":"IF(A157=\"\",\"\",(SUMIF(DMA!$AO$5:$AO$604,$A157,DMA!$AQ$5:$AQ$603)/DMA!AQ$604))","v":""},{"$f":"IF(A157=\"\",\"\",(SUMIF(DMA!$CQ$5:$CQ$603,$A157,DMA!$CO$5:$CO$603))*0.01)","v":""},{"$f":"IF(B157=\"\",\"\",(SUMIF(DMA!$CQ$5:$CQ$603,$A157,DMA!$CP$5:$CP$603)))","v":""},{"$f":"IF(COUNTIF(DMA!I$5:I$503,Graphs!$A157)>0,Graphs!$A157,\"\")","v":""},{"$f":"IF(E157=\"\",\"\",COUNTIF(DMA!I$5:I$503,Graphs!E157))","v":""},{"$f":"IF(E157=\"\",\"\",SUMIF(DMA!I$5:I$503,Graphs!E157,DMA!J$5:J$503)/COUNTIF(DMA!I$5:I$503,Graphs!E157))","v":""},{"$f":"IF(SUMIF(DMA!B$5:B$503,Graphs!A157,DMA!D$5:D$503)>0,Graphs!A157,\"\")","v":""},{"$f":"IF(H157=\"\",\"\",COUNTIF(DMA!B$5:B$503,Graphs!A157))","v":""},{"$f":"IF(H157=\"\",\"\",10^(-0.7083129+0.297*(SUMIF(DMA!B$5:B$503,Graphs!H157,DMA!D$5:D$503)/COUNTIF(DMA!B$5:B$503,Graphs!H157))))","v":""},{"$f":"IF(COUNTIF(DMA!R$5:R$503,Graphs!$A157)>0,Graphs!$A157,\"\")","v":""},{"$f":"IF(K157=\"\",\"\",COUNTIF(DMA!R$5:R$503,Graphs!A157))","v":""},{"$f":"IF(K157=\"\",\"\",(SUMIF(DMA!R$5:R$503,Graphs!A157,DMA!S$5:S$503)/COUNTIF(DMA!R$5:R$503,Graphs!A157)))","v":""},"",{"$f":"IF(COUNTIF(DMA!M$5:M$503,Graphs!$A157)>0,Graphs!$A157,\"\")","v":""},{"$f":"IF($O157=\"\",\"\",SUMIF(DMA!$M$5:$M$503,Graphs!$O157,DMA!N$5:N$503))","v":""},{"$f":"IF($O157=\"\",\"\",SUMIF(DMA!$M$5:$M$503,Graphs!$O157,DMA!O$5:O$503))","v":""},{"$f":"IF($O157=\"\",\"\",SUMIF(DMA!$M$5:$M$503,Graphs!$O157,DMA!P$5:P$503))","v":""},{"$f":"IF($O157=\"\",\"\",SUMIF(DMA!$M$5:$M$503,Graphs!$O157,DMA!Q$5:Q$503))","v":""},"",{"$f":"IF(O157=\"\",\"\",COUNTIF(DMA!M$5:M$503,Graphs!A157))","v":""},"","","","","","","",null,null,null,null,null,null,null,null,null,null,null,null,null,null,null,null,null,null,null,null,null,null,null,"","","",{"$f":"IF(P157=\"\",\"\",IF(P157=0,\"\",SQRT(SUMIF(DMA!$DJ$5:$DJ$503,Graphs!$O157,DMA!DK$5:DK$503))/COUNTIF(DMA!$DJ$5:$DJ$503,Graphs!$O157)))","v":""},{"$f":"IF(Q157=\"\",\"\",IF(Q157=0,\"\",SQRT(SUMIF(DMA!$DJ$5:$DJ$503,Graphs!$O157,DMA!DL$5:DL$503))/COUNTIF(DMA!$DJ$5:$DJ$503,Graphs!$O157)))","v":""},{"$f":"IF(R157=\"\",\"\",IF(R157=0,\"\",SQRT(SUMIF(DMA!$DJ$5:$DJ$503,Graphs!$O157,DMA!DM$5:DM$503))/COUNTIF(DMA!$DJ$5:$DJ$503,Graphs!$O157)))","v":""},{"$f":"IF($P157=\"\",\"\",IF(P157=0,\"\",AVERAGEIF(DMA!$M$5:$M$503,Graphs!$O157,DMA!N$5:N$503)))","v":""},{"$f":"IF($Q157=\"\",\"\",IF(Q157=0,\"\",AVERAGEIF(DMA!$M$5:$M$503,Graphs!$O157,DMA!O$5:O$503)))","v":""},{"$f":"IF($R157=\"\",\"\",IF(R157=0,\"\",AVERAGEIF(DMA!$M$5:$M$503,Graphs!$O157,DMA!P$5:P$503)))","v":""}]
[null,{"$f":"IF(A158=\"\",\"\",(SUMIF(DMA!$AO$5:$AO$604,$A158,DMA!$AQ$5:$AQ$603)/DMA!AQ$604))","v":""},{"$f":"IF(A158=\"\",\"\",(SUMIF(DMA!$CQ$5:$CQ$603,$A158,DMA!$CO$5:$CO$603))*0.01)","v":""},{"$f":"IF(B158=\"\",\"\",(SUMIF(DMA!$CQ$5:$CQ$603,$A158,DMA!$CP$5:$CP$603)))","v":""},{"$f":"IF(COUNTIF(DMA!I$5:I$503,Graphs!$A158)>0,Graphs!$A158,\"\")","v":""},{"$f":"IF(E158=\"\",\"\",COUNTIF(DMA!I$5:I$503,Graphs!E158))","v":""},{"$f":"IF(E158=\"\",\"\",SUMIF(DMA!I$5:I$503,Graphs!E158,DMA!J$5:J$503)/COUNTIF(DMA!I$5:I$503,Graphs!E158))","v":""},{"$f":"IF(SUMIF(DMA!B$5:B$503,Graphs!A158,DMA!D$5:D$503)>0,Graphs!A158,\"\")","v":""},{"$f":"IF(H158=\"\",\"\",COUNTIF(DMA!B$5:B$503,Graphs!A158))","v":""},{"$f":"IF(H158=\"\",\"\",10^(-0.7083129+0.297*(SUMIF(DMA!B$5:B$503,Graphs!H158,DMA!D$5:D$503)/COUNTIF(DMA!B$5:B$503,Graphs!H158))))","v":""},{"$f":"IF(COUNTIF(DMA!R$5:R$503,Graphs!$A158)>0,Graphs!$A158,\"\")","v":""},{"$f":"IF(K158=\"\",\"\",COUNTIF(DMA!R$5:R$503,Graphs!A158))","v":""},{"$f":"IF(K158=\"\",\"\",(SUMIF(DMA!R$5:R$503,Graphs!A158,DMA!S$5:S$503)/COUNTIF(DMA!R$5:R$503,Graphs!A158)))","v":""},"",{"$f":"IF(COUNTIF(DMA!M$5:M$503,Graphs!$A158)>0,Graphs!$A158,\"\")","v":""},{"$f":"IF($O158=\"\",\"\",SUMIF(DMA!$M$5:$M$503,Graphs!$O158,DMA!N$5:N$503))","v":""},{"$f":"IF($O158=\"\",\"\",SUMIF(DMA!$M$5:$M$503,Graphs!$O158,DMA!O$5:O$503))","v":""},{"$f":"IF($O158=\"\",\"\",SUMIF(DMA!$M$5:$M$503,Graphs!$O158,DMA!P$5:P$503))","v":""},{"$f":"IF($O158=\"\",\"\",SUMIF(DMA!$M$5:$M$503,Graphs!$O158,DMA!Q$5:Q$503))","v":""},"",{"$f":"IF(O158=\"\",\"\",COUNTIF(DMA!M$5:M$503,Graphs!A158))","v":""},"","","","","","","",null,null,null,null,null,null,null,null,null,null,null,null,null,null,null,null,null,null,null,null,null,null,null,"","","",{"$f":"IF(P158=\"\",\"\",IF(P158=0,\"\",SQRT(SUMIF(DMA!$DJ$5:$DJ$503,Graphs!$O158,DMA!DK$5:DK$503))/COUNTIF(DMA!$DJ$5:$DJ$503,Graphs!$O158)))","v":""},{"$f":"IF(Q158=\"\",\"\",IF(Q158=0,\"\",SQRT(SUMIF(DMA!$DJ$5:$DJ$503,Graphs!$O158,DMA!DL$5:DL$503))/COUNTIF(DMA!$DJ$5:$DJ$503,Graphs!$O158)))","v":""},{"$f":"IF(R158=\"\",\"\",IF(R158=0,\"\",SQRT(SUMIF(DMA!$DJ$5:$DJ$503,Graphs!$O158,DMA!DM$5:DM$503))/COUNTIF(DMA!$DJ$5:$DJ$503,Graphs!$O158)))","v":""},{"$f":"IF($P158=\"\",\"\",IF(P158=0,\"\",AVERAGEIF(DMA!$M$5:$M$503,Graphs!$O158,DMA!N$5:N$503)))","v":""},{"$f":"IF($Q158=\"\",\"\",IF(Q158=0,\"\",AVERAGEIF(DMA!$M$5:$M$503,Graphs!$O158,DMA!O$5:O$503)))","v":""},{"$f":"IF($R158=\"\",\"\",IF(R158=0,\"\",AVERAGEIF(DMA!$M$5:$M$503,Graphs!$O158,DMA!P$5:P$503)))","v":""}]
[null,{"$f":"IF(A159=\"\",\"\",(SUMIF(DMA!$AO$5:$AO$604,$A159,DMA!$AQ$5:$AQ$603)/DMA!AQ$604))","v":""},{"$f":"IF(A159=\"\",\"\",(SUMIF(DMA!$CQ$5:$CQ$603,$A159,DMA!$CO$5:$CO$603))*0.01)","v":""},{"$f":"IF(B159=\"\",\"\",(SUMIF(DMA!$CQ$5:$CQ$603,$A159,DMA!$CP$5:$CP$603)))","v":""},{"$f":"IF(COUNTIF(DMA!I$5:I$503,Graphs!$A159)>0,Graphs!$A159,\"\")","v":""},{"$f":"IF(E159=\"\",\"\",COUNTIF(DMA!I$5:I$503,Graphs!E159))","v":""},{"$f":"IF(E159=\"\",\"\",SUMIF(DMA!I$5:I$503,Graphs!E159,DMA!J$5:J$503)/COUNTIF(DMA!I$5:I$503,Graphs!E159))","v":""},{"$f":"IF(SUMIF(DMA!B$5:B$503,Graphs!A159,DMA!D$5:D$503)>0,Graphs!A159,\"\")","v":""},{"$f":"IF(H159=\"\",\"\",COUNTIF(DMA!B$5:B$503,Graphs!A159))","v":""},{"$f":"IF(H159=\"\",\"\",10^(-0.7083129+0.297*(SUMIF(DMA!B$5:B$503,Graphs!H159,DMA!D$5:D$503)/COUNTIF(DMA!B$5:B$503,Graphs!H159))))","v":""},{"$f":"IF(COUNTIF(DMA!R$5:R$503,Graphs!$A159)>0,Graphs!$A159,\"\")","v":""},{"$f":"IF(K159=\"\",\"\",COUNTIF(DMA!R$5:R$503,Graphs!A159))","v":""},{"$f":"IF(K159=\"\",\"\",(SUMIF(DMA!R$5:R$503,Graphs!A159,DMA!S$5:S$503)/COUNTIF(DMA!R$5:R$503,Graphs!A159)))","v":""},"",{"$f":"IF(COUNTIF(DMA!M$5:M$503,Graphs!$A159)>0,Graphs!$A159,\"\")","v":""},{"$f":"IF($O159=\"\",\"\",SUMIF(DMA!$M$5:$M$503,Graphs!$O159,DMA!N$5:N$503))","v":""},{"$f":"IF($O159=\"\",\"\",SUMIF(DMA!$M$5:$M$503,Graphs!$O159,DMA!O$5:O$503))","v":""},{"$f":"IF($O159=\"\",\"\",SUMIF(DMA!$M$5:$M$503,Graphs!$O159,DMA!P$5:P$503))","v":""},{"$f":"IF($O159=\"\",\"\",SUMIF(DMA!$M$5:$M$503,Graphs!$O159,DMA!Q$5:Q$503))","v":""},"",{"$f":"IF(O159=\"\",\"\",COUNTIF(DMA!M$5:M$503,Graphs!A159))","v":""},"","","","","","","",null,null,null,null,null,null,null,null,null,null,null,null,null,null,null,null,null,null,null,null,null,null,null,"","","",{"$f":"IF(P159=\"\",\"\",IF(P159=0,\"\",SQRT(SUMIF(DMA!$DJ$5:$DJ$503,Graphs!$O159,DMA!DK$5:DK$503))/COUNTIF(DMA!$DJ$5:$DJ$503,Graphs!$O159)))","v":""},{"$f":"IF(Q159=\"\",\"\",IF(Q159=0,\"\",SQRT(SUMIF(DMA!$DJ$5:$DJ$503,Graphs!$O159,DMA!DL$5:DL$503))/COUNTIF(DMA!$DJ$5:$DJ$503,Graphs!$O159)))","v":""},{"$f":"IF(R159=\"\",\"\",IF(R159=0,\"\",SQRT(SUMIF(DMA!$DJ$5:$DJ$503,Graphs!$O159,DMA!DM$5:DM$503))/COUNTIF(DMA!$DJ$5:$DJ$503,Graphs!$O159)))","v":""},{"$f":"IF($P159=\"\",\"\",IF(P159=0,\"\",AVERAGEIF(DMA!$M$5:$M$503,Graphs!$O159,DMA!N$5:N$503)))","v":""},{"$f":"IF($Q159=\"\",\"\",IF(Q159=0,\"\",AVERAGEIF(DMA!$M$5:$M$503,Graphs!$O159,DMA!O$5:O$503)))","v":""},{"$f":"IF($R159=\"\",\"\",IF(R159=0,\"\",AVERAGEIF(DMA!$M$5:$M$503,Graphs!$O159,DMA!P$5:P$503)))","v":""}]
[null,{"$f":"IF(A160=\"\",\"\",(SUMIF(DMA!$AO$5:$AO$604,$A160,DMA!$AQ$5:$AQ$603)/DMA!AQ$604))","v":""},{"$f":"IF(A160=\"\",\"\",(SUMIF(DMA!$CQ$5:$CQ$603,$A160,DMA!$CO$5:$CO$603))*0.01)","v":""},{"$f":"IF(B160=\"\",\"\",(SUMIF(DMA!$CQ$5:$CQ$603,$A160,DMA!$CP$5:$CP$603)))","v":""},{"$f":"IF(COUNTIF(DMA!I$5:I$503,Graphs!$A160)>0,Graphs!$A160,\"\")","v":""},{"$f":"IF(E160=\"\",\"\",COUNTIF(DMA!I$5:I$503,Graphs!E160))","v":""},{"$f":"IF(E160=\"\",\"\",SUMIF(DMA!I$5:I$503,Graphs!E160,DMA!J$5:J$503)/COUNTIF(DMA!I$5:I$503,Graphs!E160))","v":""},{"$f":"IF(SUMIF(DMA!B$5:B$503,Graphs!A160,DMA!D$5:D$503)>0,Graphs!A160,\"\")","v":""},{"$f":"IF(H160=\"\",\"\",COUNTIF(DMA!B$5:B$503,Graphs!A160))","v":""},{"$f":"IF(H160=\"\",\"\",10^(-0.7083129+0.297*(SUMIF(DMA!B$5:B$503,Graphs!H160,DMA!D$5:D$503)/COUNTIF(DMA!B$5:B$503,Graphs!H160))))","v":""},{"$f":"IF(COUNTIF(DMA!R$5:R$503,Graphs!$A160)>0,Graphs!$A160,\"\")","v":""},{"$f":"IF(K160=\"\",\"\",COUNTIF(DMA!R$5:R$503,Graphs!A160))","v":""},{"$f":"IF(K160=\"\",\"\",(SUMIF(DMA!R$5:R$503,Graphs!A160,DMA!S$5:S$503)/COUNTIF(DMA!R$5:R$503,Graphs!A160)))","v":""},"",{"$f":"IF(COUNTIF(DMA!M$5:M$503,Graphs!$A160)>0,Graphs!$A160,\"\")","v":""},{"$f":"IF($O160=\"\",\"\",SUMIF(DMA!$M$5:$M$503,Graphs!$O160,DMA!N$5:N$503))","v":""},{"$f":"IF($O160=\"\",\"\",SUMIF(DMA!$M$5:$M$503,Graphs!$O160,DMA!O$5:O$503))","v":""},{"$f":"IF($O160=\"\",\"\",SUMIF(DMA!$M$5:$M$503,Graphs!$O160,DMA!P$5:P$503))","v":""},{"$f":"IF($O160=\"\",\"\",SUMIF(DMA!$M$5:$M$503,Graphs!$O160,DMA!Q$5:Q$503))","v":""},"",{"$f":"IF(O160=\"\",\"\",COUNTIF(DMA!M$5:M$503,Graphs!A160))","v":""},"","","","","","","",null,null,null,null,null,null,null,null,null,null,null,null,null,null,null,null,null,null,null,null,null,null,null,"","","",{"$f":"IF(P160=\"\",\"\",IF(P160=0,\"\",SQRT(SUMIF(DMA!$DJ$5:$DJ$503,Graphs!$O160,DMA!DK$5:DK$503))/COUNTIF(DMA!$DJ$5:$DJ$503,Graphs!$O160)))","v":""},{"$f":"IF(Q160=\"\",\"\",IF(Q160=0,\"\",SQRT(SUMIF(DMA!$DJ$5:$DJ$503,Graphs!$O160,DMA!DL$5:DL$503))/COUNTIF(DMA!$DJ$5:$DJ$503,Graphs!$O160)))","v":""},{"$f":"IF(R160=\"\",\"\",IF(R160=0,\"\",SQRT(SUMIF(DMA!$DJ$5:$DJ$503,Graphs!$O160,DMA!DM$5:DM$503))/COUNTIF(DMA!$DJ$5:$DJ$503,Graphs!$O160)))","v":""},{"$f":"IF($P160=\"\",\"\",IF(P160=0,\"\",AVERAGEIF(DMA!$M$5:$M$503,Graphs!$O160,DMA!N$5:N$503)))","v":""},{"$f":"IF($Q160=\"\",\"\",IF(Q160=0,\"\",AVERAGEIF(DMA!$M$5:$M$503,Graphs!$O160,DMA!O$5:O$503)))","v":""},{"$f":"IF($R160=\"\",\"\",IF(R160=0,\"\",AVERAGEIF(DMA!$M$5:$M$503,Graphs!$O160,DMA!P$5:P$503)))","v":""}]
[null,{"$f":"IF(A161=\"\",\"\",(SUMIF(DMA!$AO$5:$AO$604,$A161,DMA!$AQ$5:$AQ$603)/DMA!AQ$604))","v":""},{"$f":"IF(A161=\"\",\"\",(SUMIF(DMA!$CQ$5:$CQ$603,$A161,DMA!$CO$5:$CO$603))*0.01)","v":""},{"$f":"IF(B161=\"\",\"\",(SUMIF(DMA!$CQ$5:$CQ$603,$A161,DMA!$CP$5:$CP$603)))","v":""},{"$f":"IF(COUNTIF(DMA!I$5:I$503,Graphs!$A161)>0,Graphs!$A161,\"\")","v":""},{"$f":"IF(E161=\"\",\"\",COUNTIF(DMA!I$5:I$503,Graphs!E161))","v":""},{"$f":"IF(E161=\"\",\"\",SUMIF(DMA!I$5:I$503,Graphs!E161,DMA!J$5:J$503)/COUNTIF(DMA!I$5:I$503,Graphs!E161))","v":""},{"$f":"IF(SUMIF(DMA!B$5:B$503,Graphs!A161,DMA!D$5:D$503)>0,Graphs!A161,\"\")","v":""},{"$f":"IF(H161=\"\",\"\",COUNTIF(DMA!B$5:B$503,Graphs!A161))","v":""},{"$f":"IF(H161=\"\",\"\",10^(-0.7083129+0.297*(SUMIF(DMA!B$5:B$503,Graphs!H161,DMA!D$5:D$503)/COUNTIF(DMA!B$5:B$503,Graphs!H161))))","v":""},{"$f":"IF(COUNTIF(DMA!R$5:R$503,Graphs!$A161)>0,Graphs!$A161,\"\")","v":""},{"$f":"IF(K161=\"\",\"\",COUNTIF(DMA!R$5:R$503,Graphs!A161))","v":""},{"$f":"IF(K161=\"\",\"\",(SUMIF(DMA!R$5:R$503,Graphs!A161,DMA!S$5:S$503)/COUNTIF(DMA!R$5:R$503,Graphs!A161)))","v":""},"",{"$f":"IF(COUNTIF(DMA!M$5:M$503,Graphs!$A161)>0,Graphs!$A161,\"\")","v":""},{"$f":"IF($O161=\"\",\"\",SUMIF(DMA!$M$5:$M$503,Graphs!$O161,DMA!N$5:N$503))","v":""},{"$f":"IF($O161=\"\",\"\",SUMIF(DMA!$M$5:$M$503,Graphs!$O161,DMA!O$5:O$503))","v":""},{"$f":"IF($O161=\"\",\"\",SUMIF(DMA!$M$5:$M$503,Graphs!$O161,DMA!P$5:P$503))","v":""},{"$f":"IF($O161=\"\",\"\",SUMIF(DMA!$M$5:$M$503,Graphs!$O161,DMA!Q$5:Q$503))","v":""},"",{"$f":"IF(O161=\"\",\"\",COUNTIF(DMA!M$5:M$503,Graphs!A161))","v":""},"","","","","","","",null,null,null,null,null,null,null,null,null,null,null,null,null,null,null,null,null,null,null,null,null,null,null,"","","",{"$f":"IF(P161=\"\",\"\",IF(P161=0,\"\",SQRT(SUMIF(DMA!$DJ$5:$DJ$503,Graphs!$O161,DMA!DK$5:DK$503))/COUNTIF(DMA!$DJ$5:$DJ$503,Graphs!$O161)))","v":""},{"$f":"IF(Q161=\"\",\"\",IF(Q161=0,\"\",SQRT(SUMIF(DMA!$DJ$5:$DJ$503,Graphs!$O161,DMA!DL$5:DL$503))/COUNTIF(DMA!$DJ$5:$DJ$503,Graphs!$O161)))","v":""},{"$f":"IF(R161=\"\",\"\",IF(R161=0,\"\",SQRT(SUMIF(DMA!$DJ$5:$DJ$503,Graphs!$O161,DMA!DM$5:DM$503))/COUNTIF(DMA!$DJ$5:$DJ$503,Graphs!$O161)))","v":""},{"$f":"IF($P161=\"\",\"\",IF(P161=0,\"\",AVERAGEIF(DMA!$M$5:$M$503,Graphs!$O161,DMA!N$5:N$503)))","v":""},{"$f":"IF($Q161=\"\",\"\",IF(Q161=0,\"\",AVERAGEIF(DMA!$M$5:$M$503,Graphs!$O161,DMA!O$5:O$503)))","v":""},{"$f":"IF($R161=\"\",\"\",IF(R161=0,\"\",AVERAGEIF(DMA!$M$5:$M$503,Graphs!$O161,DMA!P$5:P$503)))","v":""}]
[null,{"$f":"IF(A162=\"\",\"\",(SUMIF(DMA!$AO$5:$AO$604,$A162,DMA!$AQ$5:$AQ$603)/DMA!AQ$604))","v":""},{"$f":"IF(A162=\"\",\"\",(SUMIF(DMA!$CQ$5:$CQ$603,$A162,DMA!$CO$5:$CO$603))*0.01)","v":""},{"$f":"IF(B162=\"\",\"\",(SUMIF(DMA!$CQ$5:$CQ$603,$A162,DMA!$CP$5:$CP$603)))","v":""},{"$f":"IF(COUNTIF(DMA!I$5:I$503,Graphs!$A162)>0,Graphs!$A162,\"\")","v":""},{"$f":"IF(E162=\"\",\"\",COUNTIF(DMA!I$5:I$503,Graphs!E162))","v":""},{"$f":"IF(E162=\"\",\"\",SUMIF(DMA!I$5:I$503,Graphs!E162,DMA!J$5:J$503)/COUNTIF(DMA!I$5:I$503,Graphs!E162))","v":""},{"$f":"IF(SUMIF(DMA!B$5:B$503,Graphs!A162,DMA!D$5:D$503)>0,Graphs!A162,\"\")","v":""},{"$f":"IF(H162=\"\",\"\",COUNTIF(DMA!B$5:B$503,Graphs!A162))","v":""},{"$f":"IF(H162=\"\",\"\",10^(-0.7083129+0.297*(SUMIF(DMA!B$5:B$503,Graphs!H162,DMA!D$5:D$503)/COUNTIF(DMA!B$5:B$503,Graphs!H162))))","v":""},{"$f":"IF(COUNTIF(DMA!R$5:R$503,Graphs!$A162)>0,Graphs!$A162,\"\")","v":""},{"$f":"IF(K162=\"\",\"\",COUNTIF(DMA!R$5:R$503,Graphs!A162))","v":""},{"$f":"IF(K162=\"\",\"\",(SUMIF(DMA!R$5:R$503,Graphs!A162,DMA!S$5:S$503)/COUNTIF(DMA!R$5:R$503,Graphs!A162)))","v":""},"",{"$f":"IF(COUNTIF(DMA!M$5:M$503,Graphs!$A162)>0,Graphs!$A162,\"\")","v":""},{"$f":"IF($O162=\"\",\"\",SUMIF(DMA!$M$5:$M$503,Graphs!$O162,DMA!N$5:N$503))","v":""},{"$f":"IF($O162=\"\",\"\",SUMIF(DMA!$M$5:$M$503,Graphs!$O162,DMA!O$5:O$503))","v":""},{"$f":"IF($O162=\"\",\"\",SUMIF(DMA!$M$5:$M$503,Graphs!$O162,DMA!P$5:P$503))","v":""},{"$f":"IF($O162=\"\",\"\",SUMIF(DMA!$M$5:$M$503,Graphs!$O162,DMA!Q$5:Q$503))","v":""},"",{"$f":"IF(O162=\"\",\"\",COUNTIF(DMA!M$5:M$503,Graphs!A162))","v":""},"","","","","","","",null,null,null,null,null,null,null,null,null,null,null,null,null,null,null,null,null,null,null,null,null,null,null,"","","",{"$f":"IF(P162=\"\",\"\",IF(P162=0,\"\",SQRT(SUMIF(DMA!$DJ$5:$DJ$503,Graphs!$O162,DMA!DK$5:DK$503))/COUNTIF(DMA!$DJ$5:$DJ$503,Graphs!$O162)))","v":""},{"$f":"IF(Q162=\"\",\"\",IF(Q162=0,\"\",SQRT(SUMIF(DMA!$DJ$5:$DJ$503,Graphs!$O162,DMA!DL$5:DL$503))/COUNTIF(DMA!$DJ$5:$DJ$503,Graphs!$O162)))","v":""},{"$f":"IF(R162=\"\",\"\",IF(R162=0,\"\",SQRT(SUMIF(DMA!$DJ$5:$DJ$503,Graphs!$O162,DMA!DM$5:DM$503))/COUNTIF(DMA!$DJ$5:$DJ$503,Graphs!$O162)))","v":""},{"$f":"IF($P162=\"\",\"\",IF(P162=0,\"\",AVERAGEIF(DMA!$M$5:$M$503,Graphs!$O162,DMA!N$5:N$503)))","v":""},{"$f":"IF($Q162=\"\",\"\",IF(Q162=0,\"\",AVERAGEIF(DMA!$M$5:$M$503,Graphs!$O162,DMA!O$5:O$503)))","v":""},{"$f":"IF($R162=\"\",\"\",IF(R162=0,\"\",AVERAGEIF(DMA!$M$5:$M$503,Graphs!$O162,DMA!P$5:P$503)))","v":""}]
[null,{"$f":"IF(A163=\"\",\"\",(SUMIF(DMA!$AO$5:$AO$604,$A163,DMA!$AQ$5:$AQ$603)/DMA!AQ$604))","v":""},{"$f":"IF(A163=\"\",\"\",(SUMIF(DMA!$CQ$5:$CQ$603,$A163,DMA!$CO$5:$CO$603))*0.01)","v":""},{"$f":"IF(B163=\"\",\"\",(SUMIF(DMA!$CQ$5:$CQ$603,$A163,DMA!$CP$5:$CP$603)))","v":""},{"$f":"IF(COUNTIF(DMA!I$5:I$503,Graphs!$A163)>0,Graphs!$A163,\"\")","v":""},{"$f":"IF(E163=\"\",\"\",COUNTIF(DMA!I$5:I$503,Graphs!E163))","v":""},{"$f":"IF(E163=\"\",\"\",SUMIF(DMA!I$5:I$503,Graphs!E163,DMA!J$5:J$503)/COUNTIF(DMA!I$5:I$503,Graphs!E163))","v":""},{"$f":"IF(SUMIF(DMA!B$5:B$503,Graphs!A163,DMA!D$5:D$503)>0,Graphs!A163,\"\")","v":""},{"$f":"IF(H163=\"\",\"\",COUNTIF(DMA!B$5:B$503,Graphs!A163))","v":""},{"$f":"IF(H163=\"\",\"\",10^(-0.7083129+0.297*(SUMIF(DMA!B$5:B$503,Graphs!H163,DMA!D$5:D$503)/COUNTIF(DMA!B$5:B$503,Graphs!H163))))","v":""},{"$f":"IF(COUNTIF(DMA!R$5:R$503,Graphs!$A163)>0,Graphs!$A163,\"\")","v":""},{"$f":"IF(K163=\"\",\"\",COUNTIF(DMA!R$5:R$503,Graphs!A163))","v":""},{"$f":"IF(K163=\"\",\"\",(SUMIF(DMA!R$5:R$503,Graphs!A163,DMA!S$5:S$503)/COUNTIF(DMA!R$5:R$503,Graphs!A163)))","v":""},"",{"$f":"IF(COUNTIF(DMA!M$5:M$503,Graphs!$A163)>0,Graphs!$A163,\"\")","v":""},{"$f":"IF($O163=\"\",\"\",SUMIF(DMA!$M$5:$M$503,Graphs!$O163,DMA!N$5:N$503))","v":""},{"$f":"IF($O163=\"\",\"\",SUMIF(DMA!$M$5:$M$503,Graphs!$O163,DMA!O$5:O$503))","v":""},{"$f":"IF($O163=\"\",\"\",SUMIF(DMA!$M$5:$M$503,Graphs!$O163,DMA!P$5:P$503))","v":""},{"$f":"IF($O163=\"\",\"\",SUMIF(DMA!$M$5:$M$503,Graphs!$O163,DMA!Q$5:Q$503))","v":""},"",{"$f":"IF(O163=\"\",\"\",COUNTIF(DMA!M$5:M$503,Graphs!A163))","v":""},"","","","","","","",null,null,null,null,null,null,null,null,null,null,null,null,null,null,null,null,null,null,null,null,null,null,null,"","","",{"$f":"IF(P163=\"\",\"\",IF(P163=0,\"\",SQRT(SUMIF(DMA!$DJ$5:$DJ$503,Graphs!$O163,DMA!DK$5:DK$503))/COUNTIF(DMA!$DJ$5:$DJ$503,Graphs!$O163)))","v":""},{"$f":"IF(Q163=\"\",\"\",IF(Q163=0,\"\",SQRT(SUMIF(DMA!$DJ$5:$DJ$503,Graphs!$O163,DMA!DL$5:DL$503))/COUNTIF(DMA!$DJ$5:$DJ$503,Graphs!$O163)))","v":""},{"$f":"IF(R163=\"\",\"\",IF(R163=0,\"\",SQRT(SUMIF(DMA!$DJ$5:$DJ$503,Graphs!$O163,DMA!DM$5:DM$503))/COUNTIF(DMA!$DJ$5:$DJ$503,Graphs!$O163)))","v":""},{"$f":"IF($P163=\"\",\"\",IF(P163=0,\"\",AVERAGEIF(DMA!$M$5:$M$503,Graphs!$O163,DMA!N$5:N$503)))","v":""},{"$f":"IF($Q163=\"\",\"\",IF(Q163=0,\"\",AVERAGEIF(DMA!$M$5:$M$503,Graphs!$O163,DMA!O$5:O$503)))","v":""},{"$f":"IF($R163=\"\",\"\",IF(R163=0,\"\",AVERAGEIF(DMA!$M$5:$M$503,Graphs!$O163,DMA!P$5:P$503)))","v":""}]
[null,{"$f":"IF(A164=\"\",\"\",(SUMIF(DMA!$AO$5:$AO$604,$A164,DMA!$AQ$5:$AQ$603)/DMA!AQ$604))","v":""},{"$f":"IF(A164=\"\",\"\",(SUMIF(DMA!$CQ$5:$CQ$603,$A164,DMA!$CO$5:$CO$603))*0.01)","v":""},{"$f":"IF(B164=\"\",\"\",(SUMIF(DMA!$CQ$5:$CQ$603,$A164,DMA!$CP$5:$CP$603)))","v":""},{"$f":"IF(COUNTIF(DMA!I$5:I$503,Graphs!$A164)>0,Graphs!$A164,\"\")","v":""},{"$f":"IF(E164=\"\",\"\",COUNTIF(DMA!I$5:I$503,Graphs!E164))","v":""},{"$f":"IF(E164=\"\",\"\",SUMIF(DMA!I$5:I$503,Graphs!E164,DMA!J$5:J$503)/COUNTIF(DMA!I$5:I$503,Graphs!E164))","v":""},{"$f":"IF(SUMIF(DMA!B$5:B$503,Graphs!A164,DMA!D$5:D$503)>0,Graphs!A164,\"\")","v":""},{"$f":"IF(H164=\"\",\"\",COUNTIF(DMA!B$5:B$503,Graphs!A164))","v":""},{"$f":"IF(H164=\"\",\"\",10^(-0.7083129+0.297*(SUMIF(DMA!B$5:B$503,Graphs!H164,DMA!D$5:D$503)/COUNTIF(DMA!B$5:B$503,Graphs!H164))))","v":""},{"$f":"IF(COUNTIF(DMA!R$5:R$503,Graphs!$A164)>0,Graphs!$A164,\"\")","v":""},{"$f":"IF(K164=\"\",\"\",COUNTIF(DMA!R$5:R$503,Graphs!A164))","v":""},{"$f":"IF(K164=\"\",\"\",(SUMIF(DMA!R$5:R$503,Graphs!A164,DMA!S$5:S$503)/COUNTIF(DMA!R$5:R$503,Graphs!A164)))","v":""},"",{"$f":"IF(COUNTIF(DMA!M$5:M$503,Graphs!$A164)>0,Graphs!$A164,\"\")","v":""},{"$f":"IF($O164=\"\",\"\",SUMIF(DMA!$M$5:$M$503,Graphs!$O164,DMA!N$5:N$503))","v":""},{"$f":"IF($O164=\"\",\"\",SUMIF(DMA!$M$5:$M$503,Graphs!$O164,DMA!O$5:O$503))","v":""},{"$f":"IF($O164=\"\",\"\",SUMIF(DMA!$M$5:$M$503,Graphs!$O164,DMA!P$5:P$503))","v":""},{"$f":"IF($O164=\"\",\"\",SUMIF(DMA!$M$5:$M$503,Graphs!$O164,DMA!Q$5:Q$503))","v":""},"",{"$f":"IF(O164=\"\",\"\",COUNTIF(DMA!M$5:M$503,Graphs!A164))","v":""},"","","","","","","",null,null,null,null,null,null,null,null,null,null,null,null,null,null,null,null,null,null,null,null,null,null,null,"","","",{"$f":"IF(P164=\"\",\"\",IF(P164=0,\"\",SQRT(SUMIF(DMA!$DJ$5:$DJ$503,Graphs!$O164,DMA!DK$5:DK$503))/COUNTIF(DMA!$DJ$5:$DJ$503,Graphs!$O164)))","v":""},{"$f":"IF(Q164=\"\",\"\",IF(Q164=0,\"\",SQRT(SUMIF(DMA!$DJ$5:$DJ$503,Graphs!$O164,DMA!DL$5:DL$503))/COUNTIF(DMA!$DJ$5:$DJ$503,Graphs!$O164)))","v":""},{"$f":"IF(R164=\"\",\"\",IF(R164=0,\"\",SQRT(SUMIF(DMA!$DJ$5:$DJ$503,Graphs!$O164,DMA!DM$5:DM$503))/COUNTIF(DMA!$DJ$5:$DJ$503,Graphs!$O164)))","v":""},{"$f":"IF($P164=\"\",\"\",IF(P164=0,\"\",AVERAGEIF(DMA!$M$5:$M$503,Graphs!$O164,DMA!N$5:N$503)))","v":""},{"$f":"IF($Q164=\"\",\"\",IF(Q164=0,\"\",AVERAGEIF(DMA!$M$5:$M$503,Graphs!$O164,DMA!O$5:O$503)))","v":""},{"$f":"IF($R164=\"\",\"\",IF(R164=0,\"\",AVERAGEIF(DMA!$M$5:$M$503,Graphs!$O164,DMA!P$5:P$503)))","v":""}]
[null,{"$f":"IF(A165=\"\",\"\",(SUMIF(DMA!$AO$5:$AO$604,$A165,DMA!$AQ$5:$AQ$603)/DMA!AQ$604))","v":""},{"$f":"IF(A165=\"\",\"\",(SUMIF(DMA!$CQ$5:$CQ$603,$A165,DMA!$CO$5:$CO$603))*0.01)","v":""},{"$f":"IF(B165=\"\",\"\",(SUMIF(DMA!$CQ$5:$CQ$603,$A165,DMA!$CP$5:$CP$603)))","v":""},{"$f":"IF(COUNTIF(DMA!I$5:I$503,Graphs!$A165)>0,Graphs!$A165,\"\")","v":""},{"$f":"IF(E165=\"\",\"\",COUNTIF(DMA!I$5:I$503,Graphs!E165))","v":""},{"$f":"IF(E165=\"\",\"\",SUMIF(DMA!I$5:I$503,Graphs!E165,DMA!J$5:J$503)/COUNTIF(DMA!I$5:I$503,Graphs!E165))","v":""},{"$f":"IF(SUMIF(DMA!B$5:B$503,Graphs!A165,DMA!D$5:D$503)>0,Graphs!A165,\"\")","v":""},{"$f":"IF(H165=\"\",\"\",COUNTIF(DMA!B$5:B$503,Graphs!A165))","v":""},{"$f":"IF(H165=\"\",\"\",10^(-0.7083129+0.297*(SUMIF(DMA!B$5:B$503,Graphs!H165,DMA!D$5:D$503)/COUNTIF(DMA!B$5:B$503,Graphs!H165))))","v":""},{"$f":"IF(COUNTIF(DMA!R$5:R$503,Graphs!$A165)>0,Graphs!$A165,\"\")","v":""},{"$f":"IF(K165=\"\",\"\",COUNTIF(DMA!R$5:R$503,Graphs!A165))","v":""},{"$f":"IF(K165=\"\",\"\",(SUMIF(DMA!R$5:R$503,Graphs!A165,DMA!S$5:S$503)/COUNTIF(DMA!R$5:R$503,Graphs!A165)))","v":""},"",{"$f":"IF(COUNTIF(DMA!M$5:M$503,Graphs!$A165)>0,Graphs!$A165,\"\")","v":""},{"$f":"IF($O165=\"\",\"\",SUMIF(DMA!$M$5:$M$503,Graphs!$O165,DMA!N$5:N$503))","v":""},{"$f":"IF($O165=\"\",\"\",SUMIF(DMA!$M$5:$M$503,Graphs!$O165,DMA!O$5:O$503))","v":""},{"$f":"IF($O165=\"\",\"\",SUMIF(DMA!$M$5:$M$503,Graphs!$O165,DMA!P$5:P$503))","v":""},{"$f":"IF($O165=\"\",\"\",SUMIF(DMA!$M$5:$M$503,Graphs!$O165,DMA!Q$5:Q$503))","v":""},"",{"$f":"IF(O165=\"\",\"\",COUNTIF(DMA!M$5:M$503,Graphs!A165))","v":""},"","","","","","","",null,null,null,null,null,null,null,null,null,null,null,null,null,null,null,null,null,null,null,null,null,null,null,"","","",{"$f":"IF(P165=\"\",\"\",IF(P165=0,\"\",SQRT(SUMIF(DMA!$DJ$5:$DJ$503,Graphs!$O165,DMA!DK$5:DK$503))/COUNTIF(DMA!$DJ$5:$DJ$503,Graphs!$O165)))","v":""},{"$f":"IF(Q165=\"\",\"\",IF(Q165=0,\"\",SQRT(SUMIF(DMA!$DJ$5:$DJ$503,Graphs!$O165,DMA!DL$5:DL$503))/COUNTIF(DMA!$DJ$5:$DJ$503,Graphs!$O165)))","v":""},{"$f":"IF(R165=\"\",\"\",IF(R165=0,\"\",SQRT(SUMIF(DMA!$DJ$5:$DJ$503,Graphs!$O165,DMA!DM$5:DM$503))/COUNTIF(DMA!$DJ$5:$DJ$503,Graphs!$O165)))","v":""},{"$f":"IF($P165=\"\",\"\",IF(P165=0,\"\",AVERAGEIF(DMA!$M$5:$M$503,Graphs!$O165,DMA!N$5:N$503)))","v":""},{"$f":"IF($Q165=\"\",\"\",IF(Q165=0,\"\",AVERAGEIF(DMA!$M$5:$M$503,Graphs!$O165,DMA!O$5:O$503)))","v":""},{"$f":"IF($R165=\"\",\"\",IF(R165=0,\"\",AVERAGEIF(DMA!$M$5:$M$503,Graphs!$O165,DMA!P$5:P$503)))","v":""}]
[null,{"$f":"IF(A166=\"\",\"\",(SUMIF(DMA!$AO$5:$AO$604,$A166,DMA!$AQ$5:$AQ$603)/DMA!AQ$604))","v":""},{"$f":"IF(A166=\"\",\"\",(SUMIF(DMA!$CQ$5:$CQ$603,$A166,DMA!$CO$5:$CO$603))*0.01)","v":""},{"$f":"IF(B166=\"\",\"\",(SUMIF(DMA!$CQ$5:$CQ$603,$A166,DMA!$CP$5:$CP$603)))","v":""},{"$f":"IF(COUNTIF(DMA!I$5:I$503,Graphs!$A166)>0,Graphs!$A166,\"\")","v":""},{"$f":"IF(E166=\"\",\"\",COUNTIF(DMA!I$5:I$503,Graphs!E166))","v":""},{"$f":"IF(E166=\"\",\"\",SUMIF(DMA!I$5:I$503,Graphs!E166,DMA!J$5:J$503)/COUNTIF(DMA!I$5:I$503,Graphs!E166))","v":""},{"$f":"IF(SUMIF(DMA!B$5:B$503,Graphs!A166,DMA!D$5:D$503)>0,Graphs!A166,\"\")","v":""},{"$f":"IF(H166=\"\",\"\",COUNTIF(DMA!B$5:B$503,Graphs!A166))","v":""},{"$f":"IF(H166=\"\",\"\",10^(-0.7083129+0.297*(SUMIF(DMA!B$5:B$503,Graphs!H166,DMA!D$5:D$503)/COUNTIF(DMA!B$5:B$503,Graphs!H166))))","v":""},{"$f":"IF(COUNTIF(DMA!R$5:R$503,Graphs!$A166)>0,Graphs!$A166,\"\")","v":""},{"$f":"IF(K166=\"\",\"\",COUNTIF(DMA!R$5:R$503,Graphs!A166))","v":""},{"$f":"IF(K166=\"\",\"\",(SUMIF(DMA!R$5:R$503,Graphs!A166,DMA!S$5:S$503)/COUNTIF(DMA!R$5:R$503,Graphs!A166)))","v":""},"",{"$f":"IF(COUNTIF(DMA!M$5:M$503,Graphs!$A166)>0,Graphs!$A166,\"\")","v":""},{"$f":"IF($O166=\"\",\"\",SUMIF(DMA!$M$5:$M$503,Graphs!$O166,DMA!N$5:N$503))","v":""},{"$f":"IF($O166=\"\",\"\",SUMIF(DMA!$M$5:$M$503,Graphs!$O166,DMA!O$5:O$503))","v":""},{"$f":"IF($O166=\"\",\"\",SUMIF(DMA!$M$5:$M$503,Graphs!$O166,DMA!P$5:P$503))","v":""},{"$f":"IF($O166=\"\",\"\",SUMIF(DMA!$M$5:$M$503,Graphs!$O166,DMA!Q$5:Q$503))","v":""},"",{"$f":"IF(O166=\"\",\"\",COUNTIF(DMA!M$5:M$503,Graphs!A166))","v":""},"","","","","","","",null,null,null,null,null,null,null,null,null,null,null,null,null,null,null,null,null,null,null,null,null,null,null,"","","",{"$f":"IF(P166=\"\",\"\",IF(P166=0,\"\",SQRT(SUMIF(DMA!$DJ$5:$DJ$503,Graphs!$O166,DMA!DK$5:DK$503))/COUNTIF(DMA!$DJ$5:$DJ$503,Graphs!$O166)))","v":""},{"$f":"IF(Q166=\"\",\"\",IF(Q166=0,\"\",SQRT(SUMIF(DMA!$DJ$5:$DJ$503,Graphs!$O166,DMA!DL$5:DL$503))/COUNTIF(DMA!$DJ$5:$DJ$503,Graphs!$O166)))","v":""},{"$f":"IF(R166=\"\",\"\",IF(R166=0,\"\",SQRT(SUMIF(DMA!$DJ$5:$DJ$503,Graphs!$O166,DMA!DM$5:DM$503))/COUNTIF(DMA!$DJ$5:$DJ$503,Graphs!$O166)))","v":""},{"$f":"IF($P166=\"\",\"\",IF(P166=0,\"\",AVERAGEIF(DMA!$M$5:$M$503,Graphs!$O166,DMA!N$5:N$503)))","v":""},{"$f":"IF($Q166=\"\",\"\",IF(Q166=0,\"\",AVERAGEIF(DMA!$M$5:$M$503,Graphs!$O166,DMA!O$5:O$503)))","v":""},{"$f":"IF($R166=\"\",\"\",IF(R166=0,\"\",AVERAGEIF(DMA!$M$5:$M$503,Graphs!$O166,DMA!P$5:P$503)))","v":""}]
[null,{"$f":"IF(A167=\"\",\"\",(SUMIF(DMA!$AO$5:$AO$604,$A167,DMA!$AQ$5:$AQ$603)/DMA!AQ$604))","v":""},{"$f":"IF(A167=\"\",\"\",(SUMIF(DMA!$CQ$5:$CQ$603,$A167,DMA!$CO$5:$CO$603))*0.01)","v":""},{"$f":"IF(B167=\"\",\"\",(SUMIF(DMA!$CQ$5:$CQ$603,$A167,DMA!$CP$5:$CP$603)))","v":""},{"$f":"IF(COUNTIF(DMA!I$5:I$503,Graphs!$A167)>0,Graphs!$A167,\"\")","v":""},{"$f":"IF(E167=\"\",\"\",COUNTIF(DMA!I$5:I$503,Graphs!E167))","v":""},{"$f":"IF(E167=\"\",\"\",SUMIF(DMA!I$5:I$503,Graphs!E167,DMA!J$5:J$503)/COUNTIF(DMA!I$5:I$503,Graphs!E167))","v":""},{"$f":"IF(SUMIF(DMA!B$5:B$503,Graphs!A167,DMA!D$5:D$503)>0,Graphs!A167,\"\")","v":""},{"$f":"IF(H167=\"\",\"\",COUNTIF(DMA!B$5:B$503,Graphs!A167))","v":""},{"$f":"IF(H167=\"\",\"\",10^(-0.7083129+0.297*(SUMIF(DMA!B$5:B$503,Graphs!H167,DMA!D$5:D$503)/COUNTIF(DMA!B$5:B$503,Graphs!H167))))","v":""},{"$f":"IF(COUNTIF(DMA!R$5:R$503,Graphs!$A167)>0,Graphs!$A167,\"\")","v":""},{"$f":"IF(K167=\"\",\"\",COUNTIF(DMA!R$5:R$503,Graphs!A167))","v":""},{"$f":"IF(K167=\"\",\"\",(SUMIF(DMA!R$5:R$503,Graphs!A167,DMA!S$5:S$503)/COUNTIF(DMA!R$5:R$503,Graphs!A167)))","v":""},"",{"$f":"IF(COUNTIF(DMA!M$5:M$503,Graphs!$A167)>0,Graphs!$A167,\"\")","v":""},{"$f":"IF($O167=\"\",\"\",SUMIF(DMA!$M$5:$M$503,Graphs!$O167,DMA!N$5:N$503))","v":""},{"$f":"IF($O167=\"\",\"\",SUMIF(DMA!$M$5:$M$503,Graphs!$O167,DMA!O$5:O$503))","v":""},{"$f":"IF($O167=\"\",\"\",SUMIF(DMA!$M$5:$M$503,Graphs!$O167,DMA!P$5:P$503))","v":""},{"$f":"IF($O167=\"\",\"\",SUMIF(DMA!$M$5:$M$503,Graphs!$O167,DMA!Q$5:Q$503))","v":""},"",{"$f":"IF(O167=\"\",\"\",COUNTIF(DMA!M$5:M$503,Graphs!A167))","v":""},"","","","","","","",null,null,null,null,null,null,null,null,null,null,null,null,null,null,null,null,null,null,null,null,null,null,null,"","","",{"$f":"IF(P167=\"\",\"\",IF(P167=0,\"\",SQRT(SUMIF(DMA!$DJ$5:$DJ$503,Graphs!$O167,DMA!DK$5:DK$503))/COUNTIF(DMA!$DJ$5:$DJ$503,Graphs!$O167)))","v":""},{"$f":"IF(Q167=\"\",\"\",IF(Q167=0,\"\",SQRT(SUMIF(DMA!$DJ$5:$DJ$503,Graphs!$O167,DMA!DL$5:DL$503))/COUNTIF(DMA!$DJ$5:$DJ$503,Graphs!$O167)))","v":""},{"$f":"IF(R167=\"\",\"\",IF(R167=0,\"\",SQRT(SUMIF(DMA!$DJ$5:$DJ$503,Graphs!$O167,DMA!DM$5:DM$503))/COUNTIF(DMA!$DJ$5:$DJ$503,Graphs!$O167)))","v":""},{"$f":"IF($P167=\"\",\"\",IF(P167=0,\"\",AVERAGEIF(DMA!$M$5:$M$503,Graphs!$O167,DMA!N$5:N$503)))","v":""},{"$f":"IF($Q167=\"\",\"\",IF(Q167=0,\"\",AVERAGEIF(DMA!$M$5:$M$503,Graphs!$O167,DMA!O$5:O$503)))","v":""},{"$f":"IF($R167=\"\",\"\",IF(R167=0,\"\",AVERAGEIF(DMA!$M$5:$M$503,Graphs!$O167,DMA!P$5:P$503)))","v":""}]
[null,{"$f":"IF(A168=\"\",\"\",(SUMIF(DMA!$AO$5:$AO$604,$A168,DMA!$AQ$5:$AQ$603)/DMA!AQ$604))","v":""},{"$f":"IF(A168=\"\",\"\",(SUMIF(DMA!$CQ$5:$CQ$603,$A168,DMA!$CO$5:$CO$603))*0.01)","v":""},{"$f":"IF(B168=\"\",\"\",(SUMIF(DMA!$CQ$5:$CQ$603,$A168,DMA!$CP$5:$CP$603)))","v":""},{"$f":"IF(COUNTIF(DMA!I$5:I$503,Graphs!$A168)>0,Graphs!$A168,\"\")","v":""},{"$f":"IF(E168=\"\",\"\",COUNTIF(DMA!I$5:I$503,Graphs!E168))","v":""},{"$f":"IF(E168=\"\",\"\",SUMIF(DMA!I$5:I$503,Graphs!E168,DMA!J$5:J$503)/COUNTIF(DMA!I$5:I$503,Graphs!E168))","v":""},{"$f":"IF(SUMIF(DMA!B$5:B$503,Graphs!A168,DMA!D$5:D$503)>0,Graphs!A168,\"\")","v":""},{"$f":"IF(H168=\"\",\"\",COUNTIF(DMA!B$5:B$503,Graphs!A168))","v":""},{"$f":"IF(H168=\"\",\"\",10^(-0.7083129+0.297*(SUMIF(DMA!B$5:B$503,Graphs!H168,DMA!D$5:D$503)/COUNTIF(DMA!B$5:B$503,Graphs!H168))))","v":""},{"$f":"IF(COUNTIF(DMA!R$5:R$503,Graphs!$A168)>0,Graphs!$A168,\"\")","v":""},{"$f":"IF(K168=\"\",\"\",COUNTIF(DMA!R$5:R$503,Graphs!A168))","v":""},{"$f":"IF(K168=\"\",\"\",(SUMIF(DMA!R$5:R$503,Graphs!A168,DMA!S$5:S$503)/COUNTIF(DMA!R$5:R$503,Graphs!A168)))","v":""},"",{"$f":"IF(COUNTIF(DMA!M$5:M$503,Graphs!$A168)>0,Graphs!$A168,\"\")","v":""},{"$f":"IF($O168=\"\",\"\",SUMIF(DMA!$M$5:$M$503,Graphs!$O168,DMA!N$5:N$503))","v":""},{"$f":"IF($O168=\"\",\"\",SUMIF(DMA!$M$5:$M$503,Graphs!$O168,DMA!O$5:O$503))","v":""},{"$f":"IF($O168=\"\",\"\",SUMIF(DMA!$M$5:$M$503,Graphs!$O168,DMA!P$5:P$503))","v":""},{"$f":"IF($O168=\"\",\"\",SUMIF(DMA!$M$5:$M$503,Graphs!$O168,DMA!Q$5:Q$503))","v":""},"",{"$f":"IF(O168=\"\",\"\",COUNTIF(DMA!M$5:M$503,Graphs!A168))","v":""},"","","","","","","",null,null,null,null,null,null,null,null,null,null,null,null,null,null,null,null,null,null,null,null,null,null,null,"","","",{"$f":"IF(P168=\"\",\"\",IF(P168=0,\"\",SQRT(SUMIF(DMA!$DJ$5:$DJ$503,Graphs!$O168,DMA!DK$5:DK$503))/COUNTIF(DMA!$DJ$5:$DJ$503,Graphs!$O168)))","v":""},{"$f":"IF(Q168=\"\",\"\",IF(Q168=0,\"\",SQRT(SUMIF(DMA!$DJ$5:$DJ$503,Graphs!$O168,DMA!DL$5:DL$503))/COUNTIF(DMA!$DJ$5:$DJ$503,Graphs!$O168)))","v":""},{"$f":"IF(R168=\"\",\"\",IF(R168=0,\"\",SQRT(SUMIF(DMA!$DJ$5:$DJ$503,Graphs!$O168,DMA!DM$5:DM$503))/COUNTIF(DMA!$DJ$5:$DJ$503,Graphs!$O168)))","v":""},{"$f":"IF($P168=\"\",\"\",IF(P168=0,\"\",AVERAGEIF(DMA!$M$5:$M$503,Graphs!$O168,DMA!N$5:N$503)))","v":""},{"$f":"IF($Q168=\"\",\"\",IF(Q168=0,\"\",AVERAGEIF(DMA!$M$5:$M$503,Graphs!$O168,DMA!O$5:O$503)))","v":""},{"$f":"IF($R168=\"\",\"\",IF(R168=0,\"\",AVERAGEIF(DMA!$M$5:$M$503,Graphs!$O168,DMA!P$5:P$503)))","v":""}]
[null,{"$f":"IF(A169=\"\",\"\",(SUMIF(DMA!$AO$5:$AO$604,$A169,DMA!$AQ$5:$AQ$603)/DMA!AQ$604))","v":""},{"$f":"IF(A169=\"\",\"\",(SUMIF(DMA!$CQ$5:$CQ$603,$A169,DMA!$CO$5:$CO$603))*0.01)","v":""},{"$f":"IF(B169=\"\",\"\",(SUMIF(DMA!$CQ$5:$CQ$603,$A169,DMA!$CP$5:$CP$603)))","v":""},{"$f":"IF(COUNTIF(DMA!I$5:I$503,Graphs!$A169)>0,Graphs!$A169,\"\")","v":""},{"$f":"IF(E169=\"\",\"\",COUNTIF(DMA!I$5:I$503,Graphs!E169))","v":""},{"$f":"IF(E169=\"\",\"\",SUMIF(DMA!I$5:I$503,Graphs!E169,DMA!J$5:J$503)/COUNTIF(DMA!I$5:I$503,Graphs!E169))","v":""},{"$f":"IF(SUMIF(DMA!B$5:B$503,Graphs!A169,DMA!D$5:D$503)>0,Graphs!A169,\"\")","v":""},{"$f":"IF(H169=\"\",\"\",COUNTIF(DMA!B$5:B$503,Graphs!A169))","v":""},{"$f":"IF(H169=\"\",\"\",10^(-0.7083129+0.297*(SUMIF(DMA!B$5:B$503,Graphs!H169,DMA!D$5:D$503)/COUNTIF(DMA!B$5:B$503,Graphs!H169))))","v":""},{"$f":"IF(COUNTIF(DMA!R$5:R$503,Graphs!$A169)>0,Graphs!$A169,\"\")","v":""},{"$f":"IF(K169=\"\",\"\",COUNTIF(DMA!R$5:R$503,Graphs!A169))","v":""},{"$f":"IF(K169=\"\",\"\",(SUMIF(DMA!R$5:R$503,Graphs!A169,DMA!S$5:S$503)/COUNTIF(DMA!R$5:R$503,Graphs!A169)))","v":""},"",{"$f":"IF(COUNTIF(DMA!M$5:M$503,Graphs!$A169)>0,Graphs!$A169,\"\")","v":""},{"$f":"IF($O169=\"\",\"\",SUMIF(DMA!$M$5:$M$503,Graphs!$O169,DMA!N$5:N$503))","v":""},{"$f":"IF($O169=\"\",\"\",SUMIF(DMA!$M$5:$M$503,Graphs!$O169,DMA!O$5:O$503))","v":""},{"$f":"IF($O169=\"\",\"\",SUMIF(DMA!$M$5:$M$503,Graphs!$O169,DMA!P$5:P$503))","v":""},{"$f":"IF($O169=\"\",\"\",SUMIF(DMA!$M$5:$M$503,Graphs!$O169,DMA!Q$5:Q$503))","v":""},"",{"$f":"IF(O169=\"\",\"\",COUNTIF(DMA!M$5:M$503,Graphs!A169))","v":""},"","","","","","","",null,null,null,null,null,null,null,null,null,null,null,null,null,null,null,null,null,null,null,null,null,null,null,"","","",{"$f":"IF(P169=\"\",\"\",IF(P169=0,\"\",SQRT(SUMIF(DMA!$DJ$5:$DJ$503,Graphs!$O169,DMA!DK$5:DK$503))/COUNTIF(DMA!$DJ$5:$DJ$503,Graphs!$O169)))","v":""},{"$f":"IF(Q169=\"\",\"\",IF(Q169=0,\"\",SQRT(SUMIF(DMA!$DJ$5:$DJ$503,Graphs!$O169,DMA!DL$5:DL$503))/COUNTIF(DMA!$DJ$5:$DJ$503,Graphs!$O169)))","v":""},{"$f":"IF(R169=\"\",\"\",IF(R169=0,\"\",SQRT(SUMIF(DMA!$DJ$5:$DJ$503,Graphs!$O169,DMA!DM$5:DM$503))/COUNTIF(DMA!$DJ$5:$DJ$503,Graphs!$O169)))","v":""},{"$f":"IF($P169=\"\",\"\",IF(P169=0,\"\",AVERAGEIF(DMA!$M$5:$M$503,Graphs!$O169,DMA!N$5:N$503)))","v":""},{"$f":"IF($Q169=\"\",\"\",IF(Q169=0,\"\",AVERAGEIF(DMA!$M$5:$M$503,Graphs!$O169,DMA!O$5:O$503)))","v":""},{"$f":"IF($R169=\"\",\"\",IF(R169=0,\"\",AVERAGEIF(DMA!$M$5:$M$503,Graphs!$O169,DMA!P$5:P$503)))","v":""}]
[null,{"$f":"IF(A170=\"\",\"\",(SUMIF(DMA!$AO$5:$AO$604,$A170,DMA!$AQ$5:$AQ$603)/DMA!AQ$604))","v":""},{"$f":"IF(A170=\"\",\"\",(SUMIF(DMA!$CQ$5:$CQ$603,$A170,DMA!$CO$5:$CO$603))*0.01)","v":""},{"$f":"IF(B170=\"\",\"\",(SUMIF(DMA!$CQ$5:$CQ$603,$A170,DMA!$CP$5:$CP$603)))","v":""},{"$f":"IF(COUNTIF(DMA!I$5:I$503,Graphs!$A170)>0,Graphs!$A170,\"\")","v":""},{"$f":"IF(E170=\"\",\"\",COUNTIF(DMA!I$5:I$503,Graphs!E170))","v":""},{"$f":"IF(E170=\"\",\"\",SUMIF(DMA!I$5:I$503,Graphs!E170,DMA!J$5:J$503)/COUNTIF(DMA!I$5:I$503,Graphs!E170))","v":""},{"$f":"IF(SUMIF(DMA!B$5:B$503,Graphs!A170,DMA!D$5:D$503)>0,Graphs!A170,\"\")","v":""},{"$f":"IF(H170=\"\",\"\",COUNTIF(DMA!B$5:B$503,Graphs!A170))","v":""},{"$f":"IF(H170=\"\",\"\",10^(-0.7083129+0.297*(SUMIF(DMA!B$5:B$503,Graphs!H170,DMA!D$5:D$503)/COUNTIF(DMA!B$5:B$503,Graphs!H170))))","v":""},{"$f":"IF(COUNTIF(DMA!R$5:R$503,Graphs!$A170)>0,Graphs!$A170,\"\")","v":""},{"$f":"IF(K170=\"\",\"\",COUNTIF(DMA!R$5:R$503,Graphs!A170))","v":""},{"$f":"IF(K170=\"\",\"\",(SUMIF(DMA!R$5:R$503,Graphs!A170,DMA!S$5:S$503)/COUNTIF(DMA!R$5:R$503,Graphs!A170)))","v":""},"",{"$f":"IF(COUNTIF(DMA!M$5:M$503,Graphs!$A170)>0,Graphs!$A170,\"\")","v":""},{"$f":"IF($O170=\"\",\"\",SUMIF(DMA!$M$5:$M$503,Graphs!$O170,DMA!N$5:N$503))","v":""},{"$f":"IF($O170=\"\",\"\",SUMIF(DMA!$M$5:$M$503,Graphs!$O170,DMA!O$5:O$503))","v":""},{"$f":"IF($O170=\"\",\"\",SUMIF(DMA!$M$5:$M$503,Graphs!$O170,DMA!P$5:P$503))","v":""},{"$f":"IF($O170=\"\",\"\",SUMIF(DMA!$M$5:$M$503,Graphs!$O170,DMA!Q$5:Q$503))","v":""},"",{"$f":"IF(O170=\"\",\"\",COUNTIF(DMA!M$5:M$503,Graphs!A170))","v":""},"","","","","","","",null,null,null,null,null,null,null,null,null,null,null,null,null,null,null,null,null,null,null,null,null,null,null,"","","",{"$f":"IF(P170=\"\",\"\",IF(P170=0,\"\",SQRT(SUMIF(DMA!$DJ$5:$DJ$503,Graphs!$O170,DMA!DK$5:DK$503))/COUNTIF(DMA!$DJ$5:$DJ$503,Graphs!$O170)))","v":""},{"$f":"IF(Q170=\"\",\"\",IF(Q170=0,\"\",SQRT(SUMIF(DMA!$DJ$5:$DJ$503,Graphs!$O170,DMA!DL$5:DL$503))/COUNTIF(DMA!$DJ$5:$DJ$503,Graphs!$O170)))","v":""},{"$f":"IF(R170=\"\",\"\",IF(R170=0,\"\",SQRT(SUMIF(DMA!$DJ$5:$DJ$503,Graphs!$O170,DMA!DM$5:DM$503))/COUNTIF(DMA!$DJ$5:$DJ$503,Graphs!$O170)))","v":""},{"$f":"IF($P170=\"\",\"\",IF(P170=0,\"\",AVERAGEIF(DMA!$M$5:$M$503,Graphs!$O170,DMA!N$5:N$503)))","v":""},{"$f":"IF($Q170=\"\",\"\",IF(Q170=0,\"\",AVERAGEIF(DMA!$M$5:$M$503,Graphs!$O170,DMA!O$5:O$503)))","v":""},{"$f":"IF($R170=\"\",\"\",IF(R170=0,\"\",AVERAGEIF(DMA!$M$5:$M$503,Graphs!$O170,DMA!P$5:P$503)))","v":""}]
[null,{"$f":"IF(A171=\"\",\"\",(SUMIF(DMA!$AO$5:$AO$604,$A171,DMA!$AQ$5:$AQ$603)/DMA!AQ$604))","v":""},{"$f":"IF(A171=\"\",\"\",(SUMIF(DMA!$CQ$5:$CQ$603,$A171,DMA!$CO$5:$CO$603))*0.01)","v":""},{"$f":"IF(B171=\"\",\"\",(SUMIF(DMA!$CQ$5:$CQ$603,$A171,DMA!$CP$5:$CP$603)))","v":""},{"$f":"IF(COUNTIF(DMA!I$5:I$503,Graphs!$A171)>0,Graphs!$A171,\"\")","v":""},{"$f":"IF(E171=\"\",\"\",COUNTIF(DMA!I$5:I$503,Graphs!E171))","v":""},{"$f":"IF(E171=\"\",\"\",SUMIF(DMA!I$5:I$503,Graphs!E171,DMA!J$5:J$503)/COUNTIF(DMA!I$5:I$503,Graphs!E171))","v":""},{"$f":"IF(SUMIF(DMA!B$5:B$503,Graphs!A171,DMA!D$5:D$503)>0,Graphs!A171,\"\")","v":""},{"$f":"IF(H171=\"\",\"\",COUNTIF(DMA!B$5:B$503,Graphs!A171))","v":""},{"$f":"IF(H171=\"\",\"\",10^(-0.7083129+0.297*(SUMIF(DMA!B$5:B$503,Graphs!H171,DMA!D$5:D$503)/COUNTIF(DMA!B$5:B$503,Graphs!H171))))","v":""},{"$f":"IF(COUNTIF(DMA!R$5:R$503,Graphs!$A171)>0,Graphs!$A171,\"\")","v":""},{"$f":"IF(K171=\"\",\"\",COUNTIF(DMA!R$5:R$503,Graphs!A171))","v":""},{"$f":"IF(K171=\"\",\"\",(SUMIF(DMA!R$5:R$503,Graphs!A171,DMA!S$5:S$503)/COUNTIF(DMA!R$5:R$503,Graphs!A171)))","v":""},"",{"$f":"IF(COUNTIF(DMA!M$5:M$503,Graphs!$A171)>0,Graphs!$A171,\"\")","v":""},{"$f":"IF($O171=\"\",\"\",SUMIF(DMA!$M$5:$M$503,Graphs!$O171,DMA!N$5:N$503))","v":""},{"$f":"IF($O171=\"\",\"\",SUMIF(DMA!$M$5:$M$503,Graphs!$O171,DMA!O$5:O$503))","v":""},{"$f":"IF($O171=\"\",\"\",SUMIF(DMA!$M$5:$M$503,Graphs!$O171,DMA!P$5:P$503))","v":""},{"$f":"IF($O171=\"\",\"\",SUMIF(DMA!$M$5:$M$503,Graphs!$O171,DMA!Q$5:Q$503))","v":""},"",{"$f":"IF(O171=\"\",\"\",COUNTIF(DMA!M$5:M$503,Graphs!A171))","v":""},"","","","","","","",null,null,null,null,null,null,null,null,null,null,null,null,null,null,null,null,null,null,null,null,null,null,null,"","","",{"$f":"IF(P171=\"\",\"\",IF(P171=0,\"\",SQRT(SUMIF(DMA!$DJ$5:$DJ$503,Graphs!$O171,DMA!DK$5:DK$503))/COUNTIF(DMA!$DJ$5:$DJ$503,Graphs!$O171)))","v":""},{"$f":"IF(Q171=\"\",\"\",IF(Q171=0,\"\",SQRT(SUMIF(DMA!$DJ$5:$DJ$503,Graphs!$O171,DMA!DL$5:DL$503))/COUNTIF(DMA!$DJ$5:$DJ$503,Graphs!$O171)))","v":""},{"$f":"IF(R171=\"\",\"\",IF(R171=0,\"\",SQRT(SUMIF(DMA!$DJ$5:$DJ$503,Graphs!$O171,DMA!DM$5:DM$503))/COUNTIF(DMA!$DJ$5:$DJ$503,Graphs!$O171)))","v":""},{"$f":"IF($P171=\"\",\"\",IF(P171=0,\"\",AVERAGEIF(DMA!$M$5:$M$503,Graphs!$O171,DMA!N$5:N$503)))","v":""},{"$f":"IF($Q171=\"\",\"\",IF(Q171=0,\"\",AVERAGEIF(DMA!$M$5:$M$503,Graphs!$O171,DMA!O$5:O$503)))","v":""},{"$f":"IF($R171=\"\",\"\",IF(R171=0,\"\",AVERAGEIF(DMA!$M$5:$M$503,Graphs!$O171,DMA!P$5:P$503)))","v":""}]
[null,{"$f":"IF(A172=\"\",\"\",(SUMIF(DMA!$AO$5:$AO$604,$A172,DMA!$AQ$5:$AQ$603)/DMA!AQ$604))","v":""},{"$f":"IF(A172=\"\",\"\",(SUMIF(DMA!$CQ$5:$CQ$603,$A172,DMA!$CO$5:$CO$603))*0.01)","v":""},{"$f":"IF(B172=\"\",\"\",(SUMIF(DMA!$CQ$5:$CQ$603,$A172,DMA!$CP$5:$CP$603)))","v":""},{"$f":"IF(COUNTIF(DMA!I$5:I$503,Graphs!$A172)>0,Graphs!$A172,\"\")","v":""},{"$f":"IF(E172=\"\",\"\",COUNTIF(DMA!I$5:I$503,Graphs!E172))","v":""},{"$f":"IF(E172=\"\",\"\",SUMIF(DMA!I$5:I$503,Graphs!E172,DMA!J$5:J$503)/COUNTIF(DMA!I$5:I$503,Graphs!E172))","v":""},{"$f":"IF(SUMIF(DMA!B$5:B$503,Graphs!A172,DMA!D$5:D$503)>0,Graphs!A172,\"\")","v":""},{"$f":"IF(H172=\"\",\"\",COUNTIF(DMA!B$5:B$503,Graphs!A172))","v":""},{"$f":"IF(H172=\"\",\"\",10^(-0.7083129+0.297*(SUMIF(DMA!B$5:B$503,Graphs!H172,DMA!D$5:D$503)/COUNTIF(DMA!B$5:B$503,Graphs!H172))))","v":""},{"$f":"IF(COUNTIF(DMA!R$5:R$503,Graphs!$A172)>0,Graphs!$A172,\"\")","v":""},{"$f":"IF(K172=\"\",\"\",COUNTIF(DMA!R$5:R$503,Graphs!A172))","v":""},{"$f":"IF(K172=\"\",\"\",(SUMIF(DMA!R$5:R$503,Graphs!A172,DMA!S$5:S$503)/COUNTIF(DMA!R$5:R$503,Graphs!A172)))","v":""},"",{"$f":"IF(COUNTIF(DMA!M$5:M$503,Graphs!$A172)>0,Graphs!$A172,\"\")","v":""},{"$f":"IF($O172=\"\",\"\",SUMIF(DMA!$M$5:$M$503,Graphs!$O172,DMA!N$5:N$503))","v":""},{"$f":"IF($O172=\"\",\"\",SUMIF(DMA!$M$5:$M$503,Graphs!$O172,DMA!O$5:O$503))","v":""},{"$f":"IF($O172=\"\",\"\",SUMIF(DMA!$M$5:$M$503,Graphs!$O172,DMA!P$5:P$503))","v":""},{"$f":"IF($O172=\"\",\"\",SUMIF(DMA!$M$5:$M$503,Graphs!$O172,DMA!Q$5:Q$503))","v":""},"",{"$f":"IF(O172=\"\",\"\",COUNTIF(DMA!M$5:M$503,Graphs!A172))","v":""},"","","","","","","",null,null,null,null,null,null,null,null,null,null,null,null,null,null,null,null,null,null,null,null,null,null,null,"","","",{"$f":"IF(P172=\"\",\"\",IF(P172=0,\"\",SQRT(SUMIF(DMA!$DJ$5:$DJ$503,Graphs!$O172,DMA!DK$5:DK$503))/COUNTIF(DMA!$DJ$5:$DJ$503,Graphs!$O172)))","v":""},{"$f":"IF(Q172=\"\",\"\",IF(Q172=0,\"\",SQRT(SUMIF(DMA!$DJ$5:$DJ$503,Graphs!$O172,DMA!DL$5:DL$503))/COUNTIF(DMA!$DJ$5:$DJ$503,Graphs!$O172)))","v":""},{"$f":"IF(R172=\"\",\"\",IF(R172=0,\"\",SQRT(SUMIF(DMA!$DJ$5:$DJ$503,Graphs!$O172,DMA!DM$5:DM$503))/COUNTIF(DMA!$DJ$5:$DJ$503,Graphs!$O172)))","v":""},{"$f":"IF($P172=\"\",\"\",IF(P172=0,\"\",AVERAGEIF(DMA!$M$5:$M$503,Graphs!$O172,DMA!N$5:N$503)))","v":""},{"$f":"IF($Q172=\"\",\"\",IF(Q172=0,\"\",AVERAGEIF(DMA!$M$5:$M$503,Graphs!$O172,DMA!O$5:O$503)))","v":""},{"$f":"IF($R172=\"\",\"\",IF(R172=0,\"\",AVERAGEIF(DMA!$M$5:$M$503,Graphs!$O172,DMA!P$5:P$503)))","v":""}]
[null,{"$f":"IF(A173=\"\",\"\",(SUMIF(DMA!$AO$5:$AO$604,$A173,DMA!$AQ$5:$AQ$603)/DMA!AQ$604))","v":""},{"$f":"IF(A173=\"\",\"\",(SUMIF(DMA!$CQ$5:$CQ$603,$A173,DMA!$CO$5:$CO$603))*0.01)","v":""},{"$f":"IF(B173=\"\",\"\",(SUMIF(DMA!$CQ$5:$CQ$603,$A173,DMA!$CP$5:$CP$603)))","v":""},{"$f":"IF(COUNTIF(DMA!I$5:I$503,Graphs!$A173)>0,Graphs!$A173,\"\")","v":""},{"$f":"IF(E173=\"\",\"\",COUNTIF(DMA!I$5:I$503,Graphs!E173))","v":""},{"$f":"IF(E173=\"\",\"\",SUMIF(DMA!I$5:I$503,Graphs!E173,DMA!J$5:J$503)/COUNTIF(DMA!I$5:I$503,Graphs!E173))","v":""},{"$f":"IF(SUMIF(DMA!B$5:B$503,Graphs!A173,DMA!D$5:D$503)>0,Graphs!A173,\"\")","v":""},{"$f":"IF(H173=\"\",\"\",COUNTIF(DMA!B$5:B$503,Graphs!A173))","v":""},{"$f":"IF(H173=\"\",\"\",10^(-0.7083129+0.297*(SUMIF(DMA!B$5:B$503,Graphs!H173,DMA!D$5:D$503)/COUNTIF(DMA!B$5:B$503,Graphs!H173))))","v":""},{"$f":"IF(COUNTIF(DMA!R$5:R$503,Graphs!$A173)>0,Graphs!$A173,\"\")","v":""},{"$f":"IF(K173=\"\",\"\",COUNTIF(DMA!R$5:R$503,Graphs!A173))","v":""},{"$f":"IF(K173=\"\",\"\",(SUMIF(DMA!R$5:R$503,Graphs!A173,DMA!S$5:S$503)/COUNTIF(DMA!R$5:R$503,Graphs!A173)))","v":""},"",{"$f":"IF(COUNTIF(DMA!M$5:M$503,Graphs!$A173)>0,Graphs!$A173,\"\")","v":""},{"$f":"IF($O173=\"\",\"\",SUMIF(DMA!$M$5:$M$503,Graphs!$O173,DMA!N$5:N$503))","v":""},{"$f":"IF($O173=\"\",\"\",SUMIF(DMA!$M$5:$M$503,Graphs!$O173,DMA!O$5:O$503))","v":""},{"$f":"IF($O173=\"\",\"\",SUMIF(DMA!$M$5:$M$503,Graphs!$O173,DMA!P$5:P$503))","v":""},{"$f":"IF($O173=\"\",\"\",SUMIF(DMA!$M$5:$M$503,Graphs!$O173,DMA!Q$5:Q$503))","v":""},"",{"$f":"IF(O173=\"\",\"\",COUNTIF(DMA!M$5:M$503,Graphs!A173))","v":""},"","","","","","","",null,null,null,null,null,null,null,null,null,null,null,null,null,null,null,null,null,null,null,null,null,null,null,"","","",{"$f":"IF(P173=\"\",\"\",IF(P173=0,\"\",SQRT(SUMIF(DMA!$DJ$5:$DJ$503,Graphs!$O173,DMA!DK$5:DK$503))/COUNTIF(DMA!$DJ$5:$DJ$503,Graphs!$O173)))","v":""},{"$f":"IF(Q173=\"\",\"\",IF(Q173=0,\"\",SQRT(SUMIF(DMA!$DJ$5:$DJ$503,Graphs!$O173,DMA!DL$5:DL$503))/COUNTIF(DMA!$DJ$5:$DJ$503,Graphs!$O173)))","v":""},{"$f":"IF(R173=\"\",\"\",IF(R173=0,\"\",SQRT(SUMIF(DMA!$DJ$5:$DJ$503,Graphs!$O173,DMA!DM$5:DM$503))/COUNTIF(DMA!$DJ$5:$DJ$503,Graphs!$O173)))","v":""},{"$f":"IF($P173=\"\",\"\",IF(P173=0,\"\",AVERAGEIF(DMA!$M$5:$M$503,Graphs!$O173,DMA!N$5:N$503)))","v":""},{"$f":"IF($Q173=\"\",\"\",IF(Q173=0,\"\",AVERAGEIF(DMA!$M$5:$M$503,Graphs!$O173,DMA!O$5:O$503)))","v":""},{"$f":"IF($R173=\"\",\"\",IF(R173=0,\"\",AVERAGEIF(DMA!$M$5:$M$503,Graphs!$O173,DMA!P$5:P$503)))","v":""}]
[null,{"$f":"IF(A174=\"\",\"\",(SUMIF(DMA!$AO$5:$AO$604,$A174,DMA!$AQ$5:$AQ$603)/DMA!AQ$604))","v":""},{"$f":"IF(A174=\"\",\"\",(SUMIF(DMA!$CQ$5:$CQ$603,$A174,DMA!$CO$5:$CO$603))*0.01)","v":""},{"$f":"IF(B174=\"\",\"\",(SUMIF(DMA!$CQ$5:$CQ$603,$A174,DMA!$CP$5:$CP$603)))","v":""},{"$f":"IF(COUNTIF(DMA!I$5:I$503,Graphs!$A174)>0,Graphs!$A174,\"\")","v":""},{"$f":"IF(E174=\"\",\"\",COUNTIF(DMA!I$5:I$503,Graphs!E174))","v":""},{"$f":"IF(E174=\"\",\"\",SUMIF(DMA!I$5:I$503,Graphs!E174,DMA!J$5:J$503)/COUNTIF(DMA!I$5:I$503,Graphs!E174))","v":""},{"$f":"IF(SUMIF(DMA!B$5:B$503,Graphs!A174,DMA!D$5:D$503)>0,Graphs!A174,\"\")","v":""},{"$f":"IF(H174=\"\",\"\",COUNTIF(DMA!B$5:B$503,Graphs!A174))","v":""},{"$f":"IF(H174=\"\",\"\",10^(-0.7083129+0.297*(SUMIF(DMA!B$5:B$503,Graphs!H174,DMA!D$5:D$503)/COUNTIF(DMA!B$5:B$503,Graphs!H174))))","v":""},{"$f":"IF(COUNTIF(DMA!R$5:R$503,Graphs!$A174)>0,Graphs!$A174,\"\")","v":""},{"$f":"IF(K174=\"\",\"\",COUNTIF(DMA!R$5:R$503,Graphs!A174))","v":""},{"$f":"IF(K174=\"\",\"\",(SUMIF(DMA!R$5:R$503,Graphs!A174,DMA!S$5:S$503)/COUNTIF(DMA!R$5:R$503,Graphs!A174)))","v":""},"",{"$f":"IF(COUNTIF(DMA!M$5:M$503,Graphs!$A174)>0,Graphs!$A174,\"\")","v":""},{"$f":"IF($O174=\"\",\"\",SUMIF(DMA!$M$5:$M$503,Graphs!$O174,DMA!N$5:N$503))","v":""},{"$f":"IF($O174=\"\",\"\",SUMIF(DMA!$M$5:$M$503,Graphs!$O174,DMA!O$5:O$503))","v":""},{"$f":"IF($O174=\"\",\"\",SUMIF(DMA!$M$5:$M$503,Graphs!$O174,DMA!P$5:P$503))","v":""},{"$f":"IF($O174=\"\",\"\",SUMIF(DMA!$M$5:$M$503,Graphs!$O174,DMA!Q$5:Q$503))","v":""},"",{"$f":"IF(O174=\"\",\"\",COUNTIF(DMA!M$5:M$503,Graphs!A174))","v":""},"","","","","","","",null,null,null,null,null,null,null,null,null,null,null,null,null,null,null,null,null,null,null,null,null,null,null,"","","",{"$f":"IF(P174=\"\",\"\",IF(P174=0,\"\",SQRT(SUMIF(DMA!$DJ$5:$DJ$503,Graphs!$O174,DMA!DK$5:DK$503))/COUNTIF(DMA!$DJ$5:$DJ$503,Graphs!$O174)))","v":""},{"$f":"IF(Q174=\"\",\"\",IF(Q174=0,\"\",SQRT(SUMIF(DMA!$DJ$5:$DJ$503,Graphs!$O174,DMA!DL$5:DL$503))/COUNTIF(DMA!$DJ$5:$DJ$503,Graphs!$O174)))","v":""},{"$f":"IF(R174=\"\",\"\",IF(R174=0,\"\",SQRT(SUMIF(DMA!$DJ$5:$DJ$503,Graphs!$O174,DMA!DM$5:DM$503))/COUNTIF(DMA!$DJ$5:$DJ$503,Graphs!$O174)))","v":""},{"$f":"IF($P174=\"\",\"\",IF(P174=0,\"\",AVERAGEIF(DMA!$M$5:$M$503,Graphs!$O174,DMA!N$5:N$503)))","v":""},{"$f":"IF($Q174=\"\",\"\",IF(Q174=0,\"\",AVERAGEIF(DMA!$M$5:$M$503,Graphs!$O174,DMA!O$5:O$503)))","v":""},{"$f":"IF($R174=\"\",\"\",IF(R174=0,\"\",AVERAGEIF(DMA!$M$5:$M$503,Graphs!$O174,DMA!P$5:P$503)))","v":""}]
[null,{"$f":"IF(A175=\"\",\"\",(SUMIF(DMA!$AO$5:$AO$604,$A175,DMA!$AQ$5:$AQ$603)/DMA!AQ$604))","v":""},{"$f":"IF(A175=\"\",\"\",(SUMIF(DMA!$CQ$5:$CQ$603,$A175,DMA!$CO$5:$CO$603))*0.01)","v":""},{"$f":"IF(B175=\"\",\"\",(SUMIF(DMA!$CQ$5:$CQ$603,$A175,DMA!$CP$5:$CP$603)))","v":""},{"$f":"IF(COUNTIF(DMA!I$5:I$503,Graphs!$A175)>0,Graphs!$A175,\"\")","v":""},{"$f":"IF(E175=\"\",\"\",COUNTIF(DMA!I$5:I$503,Graphs!E175))","v":""},{"$f":"IF(E175=\"\",\"\",SUMIF(DMA!I$5:I$503,Graphs!E175,DMA!J$5:J$503)/COUNTIF(DMA!I$5:I$503,Graphs!E175))","v":""},{"$f":"IF(SUMIF(DMA!B$5:B$503,Graphs!A175,DMA!D$5:D$503)>0,Graphs!A175,\"\")","v":""},{"$f":"IF(H175=\"\",\"\",COUNTIF(DMA!B$5:B$503,Graphs!A175))","v":""},{"$f":"IF(H175=\"\",\"\",10^(-0.7083129+0.297*(SUMIF(DMA!B$5:B$503,Graphs!H175,DMA!D$5:D$503)/COUNTIF(DMA!B$5:B$503,Graphs!H175))))","v":""},{"$f":"IF(COUNTIF(DMA!R$5:R$503,Graphs!$A175)>0,Graphs!$A175,\"\")","v":""},{"$f":"IF(K175=\"\",\"\",COUNTIF(DMA!R$5:R$503,Graphs!A175))","v":""},{"$f":"IF(K175=\"\",\"\",(SUMIF(DMA!R$5:R$503,Graphs!A175,DMA!S$5:S$503)/COUNTIF(DMA!R$5:R$503,Graphs!A175)))","v":""},"",{"$f":"IF(COUNTIF(DMA!M$5:M$503,Graphs!$A175)>0,Graphs!$A175,\"\")","v":""},{"$f":"IF($O175=\"\",\"\",SUMIF(DMA!$M$5:$M$503,Graphs!$O175,DMA!N$5:N$503))","v":""},{"$f":"IF($O175=\"\",\"\",SUMIF(DMA!$M$5:$M$503,Graphs!$O175,DMA!O$5:O$503))","v":""},{"$f":"IF($O175=\"\",\"\",SUMIF(DMA!$M$5:$M$503,Graphs!$O175,DMA!P$5:P$503))","v":""},{"$f":"IF($O175=\"\",\"\",SUMIF(DMA!$M$5:$M$503,Graphs!$O175,DMA!Q$5:Q$503))","v":""},"",{"$f":"IF(O175=\"\",\"\",COUNTIF(DMA!M$5:M$503,Graphs!A175))","v":""},"","","","","","","",null,null,null,null,null,null,null,null,null,null,null,null,null,null,null,null,null,null,null,null,null,null,null,"","","",{"$f":"IF(P175=\"\",\"\",IF(P175=0,\"\",SQRT(SUMIF(DMA!$DJ$5:$DJ$503,Graphs!$O175,DMA!DK$5:DK$503))/COUNTIF(DMA!$DJ$5:$DJ$503,Graphs!$O175)))","v":""},{"$f":"IF(Q175=\"\",\"\",IF(Q175=0,\"\",SQRT(SUMIF(DMA!$DJ$5:$DJ$503,Graphs!$O175,DMA!DL$5:DL$503))/COUNTIF(DMA!$DJ$5:$DJ$503,Graphs!$O175)))","v":""},{"$f":"IF(R175=\"\",\"\",IF(R175=0,\"\",SQRT(SUMIF(DMA!$DJ$5:$DJ$503,Graphs!$O175,DMA!DM$5:DM$503))/COUNTIF(DMA!$DJ$5:$DJ$503,Graphs!$O175)))","v":""},{"$f":"IF($P175=\"\",\"\",IF(P175=0,\"\",AVERAGEIF(DMA!$M$5:$M$503,Graphs!$O175,DMA!N$5:N$503)))","v":""},{"$f":"IF($Q175=\"\",\"\",IF(Q175=0,\"\",AVERAGEIF(DMA!$M$5:$M$503,Graphs!$O175,DMA!O$5:O$503)))","v":""},{"$f":"IF($R175=\"\",\"\",IF(R175=0,\"\",AVERAGEIF(DMA!$M$5:$M$503,Graphs!$O175,DMA!P$5:P$503)))","v":""}]
[null,{"$f":"IF(A176=\"\",\"\",(SUMIF(DMA!$AO$5:$AO$604,$A176,DMA!$AQ$5:$AQ$603)/DMA!AQ$604))","v":""},{"$f":"IF(A176=\"\",\"\",(SUMIF(DMA!$CQ$5:$CQ$603,$A176,DMA!$CO$5:$CO$603))*0.01)","v":""},{"$f":"IF(B176=\"\",\"\",(SUMIF(DMA!$CQ$5:$CQ$603,$A176,DMA!$CP$5:$CP$603)))","v":""},{"$f":"IF(COUNTIF(DMA!I$5:I$503,Graphs!$A176)>0,Graphs!$A176,\"\")","v":""},{"$f":"IF(E176=\"\",\"\",COUNTIF(DMA!I$5:I$503,Graphs!E176))","v":""},{"$f":"IF(E176=\"\",\"\",SUMIF(DMA!I$5:I$503,Graphs!E176,DMA!J$5:J$503)/COUNTIF(DMA!I$5:I$503,Graphs!E176))","v":""},{"$f":"IF(SUMIF(DMA!B$5:B$503,Graphs!A176,DMA!D$5:D$503)>0,Graphs!A176,\"\")","v":""},{"$f":"IF(H176=\"\",\"\",COUNTIF(DMA!B$5:B$503,Graphs!A176))","v":""},{"$f":"IF(H176=\"\",\"\",10^(-0.7083129+0.297*(SUMIF(DMA!B$5:B$503,Graphs!H176,DMA!D$5:D$503)/COUNTIF(DMA!B$5:B$503,Graphs!H176))))","v":""},{"$f":"IF(COUNTIF(DMA!R$5:R$503,Graphs!$A176)>0,Graphs!$A176,\"\")","v":""},{"$f":"IF(K176=\"\",\"\",COUNTIF(DMA!R$5:R$503,Graphs!A176))","v":""},{"$f":"IF(K176=\"\",\"\",(SUMIF(DMA!R$5:R$503,Graphs!A176,DMA!S$5:S$503)/COUNTIF(DMA!R$5:R$503,Graphs!A176)))","v":""},"",{"$f":"IF(COUNTIF(DMA!M$5:M$503,Graphs!$A176)>0,Graphs!$A176,\"\")","v":""},{"$f":"IF($O176=\"\",\"\",SUMIF(DMA!$M$5:$M$503,Graphs!$O176,DMA!N$5:N$503))","v":""},{"$f":"IF($O176=\"\",\"\",SUMIF(DMA!$M$5:$M$503,Graphs!$O176,DMA!O$5:O$503))","v":""},{"$f":"IF($O176=\"\",\"\",SUMIF(DMA!$M$5:$M$503,Graphs!$O176,DMA!P$5:P$503))","v":""},{"$f":"IF($O176=\"\",\"\",SUMIF(DMA!$M$5:$M$503,Graphs!$O176,DMA!Q$5:Q$503))","v":""},"",{"$f":"IF(O176=\"\",\"\",COUNTIF(DMA!M$5:M$503,Graphs!A176))","v":""},"","","","","","","",null,null,null,null,null,null,null,null,null,null,null,null,null,null,null,null,null,null,null,null,null,null,null,"","","",{"$f":"IF(P176=\"\",\"\",IF(P176=0,\"\",SQRT(SUMIF(DMA!$DJ$5:$DJ$503,Graphs!$O176,DMA!DK$5:DK$503))/COUNTIF(DMA!$DJ$5:$DJ$503,Graphs!$O176)))","v":""},{"$f":"IF(Q176=\"\",\"\",IF(Q176=0,\"\",SQRT(SUMIF(DMA!$DJ$5:$DJ$503,Graphs!$O176,DMA!DL$5:DL$503))/COUNTIF(DMA!$DJ$5:$DJ$503,Graphs!$O176)))","v":""},{"$f":"IF(R176=\"\",\"\",IF(R176=0,\"\",SQRT(SUMIF(DMA!$DJ$5:$DJ$503,Graphs!$O176,DMA!DM$5:DM$503))/COUNTIF(DMA!$DJ$5:$DJ$503,Graphs!$O176)))","v":""},{"$f":"IF($P176=\"\",\"\",IF(P176=0,\"\",AVERAGEIF(DMA!$M$5:$M$503,Graphs!$O176,DMA!N$5:N$503)))","v":""},{"$f":"IF($Q176=\"\",\"\",IF(Q176=0,\"\",AVERAGEIF(DMA!$M$5:$M$503,Graphs!$O176,DMA!O$5:O$503)))","v":""},{"$f":"IF($R176=\"\",\"\",IF(R176=0,\"\",AVERAGEIF(DMA!$M$5:$M$503,Graphs!$O176,DMA!P$5:P$503)))","v":""}]
[null,{"$f":"IF(A177=\"\",\"\",(SUMIF(DMA!$AO$5:$AO$604,$A177,DMA!$AQ$5:$AQ$603)/DMA!AQ$604))","v":""},{"$f":"IF(A177=\"\",\"\",(SUMIF(DMA!$CQ$5:$CQ$603,$A177,DMA!$CO$5:$CO$603))*0.01)","v":""},{"$f":"IF(B177=\"\",\"\",(SUMIF(DMA!$CQ$5:$CQ$603,$A177,DMA!$CP$5:$CP$603)))","v":""},{"$f":"IF(COUNTIF(DMA!I$5:I$503,Graphs!$A177)>0,Graphs!$A177,\"\")","v":""},{"$f":"IF(E177=\"\",\"\",COUNTIF(DMA!I$5:I$503,Graphs!E177))","v":""},{"$f":"IF(E177=\"\",\"\",SUMIF(DMA!I$5:I$503,Graphs!E177,DMA!J$5:J$503)/COUNTIF(DMA!I$5:I$503,Graphs!E177))","v":""},{"$f":"IF(SUMIF(DMA!B$5:B$503,Graphs!A177,DMA!D$5:D$503)>0,Graphs!A177,\"\")","v":""},{"$f":"IF(H177=\"\",\"\",COUNTIF(DMA!B$5:B$503,Graphs!A177))","v":""},{"$f":"IF(H177=\"\",\"\",10^(-0.7083129+0.297*(SUMIF(DMA!B$5:B$503,Graphs!H177,DMA!D$5:D$503)/COUNTIF(DMA!B$5:B$503,Graphs!H177))))","v":""},{"$f":"IF(COUNTIF(DMA!R$5:R$503,Graphs!$A177)>0,Graphs!$A177,\"\")","v":""},{"$f":"IF(K177=\"\",\"\",COUNTIF(DMA!R$5:R$503,Graphs!A177))","v":""},{"$f":"IF(K177=\"\",\"\",(SUMIF(DMA!R$5:R$503,Graphs!A177,DMA!S$5:S$503)/COUNTIF(DMA!R$5:R$503,Graphs!A177)))","v":""},"",{"$f":"IF(COUNTIF(DMA!M$5:M$503,Graphs!$A177)>0,Graphs!$A177,\"\")","v":""},{"$f":"IF($O177=\"\",\"\",SUMIF(DMA!$M$5:$M$503,Graphs!$O177,DMA!N$5:N$503))","v":""},{"$f":"IF($O177=\"\",\"\",SUMIF(DMA!$M$5:$M$503,Graphs!$O177,DMA!O$5:O$503))","v":""},{"$f":"IF($O177=\"\",\"\",SUMIF(DMA!$M$5:$M$503,Graphs!$O177,DMA!P$5:P$503))","v":""},{"$f":"IF($O177=\"\",\"\",SUMIF(DMA!$M$5:$M$503,Graphs!$O177,DMA!Q$5:Q$503))","v":""},"",{"$f":"IF(O177=\"\",\"\",COUNTIF(DMA!M$5:M$503,Graphs!A177))","v":""},"","","","","","","",null,null,null,null,null,null,null,null,null,null,null,null,null,null,null,null,null,null,null,null,null,null,null,"","","",{"$f":"IF(P177=\"\",\"\",IF(P177=0,\"\",SQRT(SUMIF(DMA!$DJ$5:$DJ$503,Graphs!$O177,DMA!DK$5:DK$503))/COUNTIF(DMA!$DJ$5:$DJ$503,Graphs!$O177)))","v":""},{"$f":"IF(Q177=\"\",\"\",IF(Q177=0,\"\",SQRT(SUMIF(DMA!$DJ$5:$DJ$503,Graphs!$O177,DMA!DL$5:DL$503))/COUNTIF(DMA!$DJ$5:$DJ$503,Graphs!$O177)))","v":""},{"$f":"IF(R177=\"\",\"\",IF(R177=0,\"\",SQRT(SUMIF(DMA!$DJ$5:$DJ$503,Graphs!$O177,DMA!DM$5:DM$503))/COUNTIF(DMA!$DJ$5:$DJ$503,Graphs!$O177)))","v":""},{"$f":"IF($P177=\"\",\"\",IF(P177=0,\"\",AVERAGEIF(DMA!$M$5:$M$503,Graphs!$O177,DMA!N$5:N$503)))","v":""},{"$f":"IF($Q177=\"\",\"\",IF(Q177=0,\"\",AVERAGEIF(DMA!$M$5:$M$503,Graphs!$O177,DMA!O$5:O$503)))","v":""},{"$f":"IF($R177=\"\",\"\",IF(R177=0,\"\",AVERAGEIF(DMA!$M$5:$M$503,Graphs!$O177,DMA!P$5:P$503)))","v":""}]
[null,{"$f":"IF(A178=\"\",\"\",(SUMIF(DMA!$AO$5:$AO$604,$A178,DMA!$AQ$5:$AQ$603)/DMA!AQ$604))","v":""},{"$f":"IF(A178=\"\",\"\",(SUMIF(DMA!$CQ$5:$CQ$603,$A178,DMA!$CO$5:$CO$603))*0.01)","v":""},{"$f":"IF(B178=\"\",\"\",(SUMIF(DMA!$CQ$5:$CQ$603,$A178,DMA!$CP$5:$CP$603)))","v":""},{"$f":"IF(COUNTIF(DMA!I$5:I$503,Graphs!$A178)>0,Graphs!$A178,\"\")","v":""},{"$f":"IF(E178=\"\",\"\",COUNTIF(DMA!I$5:I$503,Graphs!E178))","v":""},{"$f":"IF(E178=\"\",\"\",SUMIF(DMA!I$5:I$503,Graphs!E178,DMA!J$5:J$503)/COUNTIF(DMA!I$5:I$503,Graphs!E178))","v":""},{"$f":"IF(SUMIF(DMA!B$5:B$503,Graphs!A178,DMA!D$5:D$503)>0,Graphs!A178,\"\")","v":""},{"$f":"IF(H178=\"\",\"\",COUNTIF(DMA!B$5:B$503,Graphs!A178))","v":""},{"$f":"IF(H178=\"\",\"\",10^(-0.7083129+0.297*(SUMIF(DMA!B$5:B$503,Graphs!H178,DMA!D$5:D$503)/COUNTIF(DMA!B$5:B$503,Graphs!H178))))","v":""},{"$f":"IF(COUNTIF(DMA!R$5:R$503,Graphs!$A178)>0,Graphs!$A178,\"\")","v":""},{"$f":"IF(K178=\"\",\"\",COUNTIF(DMA!R$5:R$503,Graphs!A178))","v":""},{"$f":"IF(K178=\"\",\"\",(SUMIF(DMA!R$5:R$503,Graphs!A178,DMA!S$5:S$503)/COUNTIF(DMA!R$5:R$503,Graphs!A178)))","v":""},"",{"$f":"IF(COUNTIF(DMA!M$5:M$503,Graphs!$A178)>0,Graphs!$A178,\"\")","v":""},{"$f":"IF($O178=\"\",\"\",SUMIF(DMA!$M$5:$M$503,Graphs!$O178,DMA!N$5:N$503))","v":""},{"$f":"IF($O178=\"\",\"\",SUMIF(DMA!$M$5:$M$503,Graphs!$O178,DMA!O$5:O$503))","v":""},{"$f":"IF($O178=\"\",\"\",SUMIF(DMA!$M$5:$M$503,Graphs!$O178,DMA!P$5:P$503))","v":""},{"$f":"IF($O178=\"\",\"\",SUMIF(DMA!$M$5:$M$503,Graphs!$O178,DMA!Q$5:Q$503))","v":""},"",{"$f":"IF(O178=\"\",\"\",COUNTIF(DMA!M$5:M$503,Graphs!A178))","v":""},"","","","","","","",null,null,null,null,null,null,null,null,null,null,null,null,null,null,null,null,null,null,null,null,null,null,null,"","","",{"$f":"IF(P178=\"\",\"\",IF(P178=0,\"\",SQRT(SUMIF(DMA!$DJ$5:$DJ$503,Graphs!$O178,DMA!DK$5:DK$503))/COUNTIF(DMA!$DJ$5:$DJ$503,Graphs!$O178)))","v":""},{"$f":"IF(Q178=\"\",\"\",IF(Q178=0,\"\",SQRT(SUMIF(DMA!$DJ$5:$DJ$503,Graphs!$O178,DMA!DL$5:DL$503))/COUNTIF(DMA!$DJ$5:$DJ$503,Graphs!$O178)))","v":""},{"$f":"IF(R178=\"\",\"\",IF(R178=0,\"\",SQRT(SUMIF(DMA!$DJ$5:$DJ$503,Graphs!$O178,DMA!DM$5:DM$503))/COUNTIF(DMA!$DJ$5:$DJ$503,Graphs!$O178)))","v":""},{"$f":"IF($P178=\"\",\"\",IF(P178=0,\"\",AVERAGEIF(DMA!$M$5:$M$503,Graphs!$O178,DMA!N$5:N$503)))","v":""},{"$f":"IF($Q178=\"\",\"\",IF(Q178=0,\"\",AVERAGEIF(DMA!$M$5:$M$503,Graphs!$O178,DMA!O$5:O$503)))","v":""},{"$f":"IF($R178=\"\",\"\",IF(R178=0,\"\",AVERAGEIF(DMA!$M$5:$M$503,Graphs!$O178,DMA!P$5:P$503)))","v":""}]
[null,{"$f":"IF(A179=\"\",\"\",(SUMIF(DMA!$AO$5:$AO$604,$A179,DMA!$AQ$5:$AQ$603)/DMA!AQ$604))","v":""},{"$f":"IF(A179=\"\",\"\",(SUMIF(DMA!$CQ$5:$CQ$603,$A179,DMA!$CO$5:$CO$603))*0.01)","v":""},{"$f":"IF(B179=\"\",\"\",(SUMIF(DMA!$CQ$5:$CQ$603,$A179,DMA!$CP$5:$CP$603)))","v":""},{"$f":"IF(COUNTIF(DMA!I$5:I$503,Graphs!$A179)>0,Graphs!$A179,\"\")","v":""},{"$f":"IF(E179=\"\",\"\",COUNTIF(DMA!I$5:I$503,Graphs!E179))","v":""},{"$f":"IF(E179=\"\",\"\",SUMIF(DMA!I$5:I$503,Graphs!E179,DMA!J$5:J$503)/COUNTIF(DMA!I$5:I$503,Graphs!E179))","v":""},{"$f":"IF(SUMIF(DMA!B$5:B$503,Graphs!A179,DMA!D$5:D$503)>0,Graphs!A179,\"\")","v":""},{"$f":"IF(H179=\"\",\"\",COUNTIF(DMA!B$5:B$503,Graphs!A179))","v":""},{"$f":"IF(H179=\"\",\"\",10^(-0.7083129+0.297*(SUMIF(DMA!B$5:B$503,Graphs!H179,DMA!D$5:D$503)/COUNTIF(DMA!B$5:B$503,Graphs!H179))))","v":""},{"$f":"IF(COUNTIF(DMA!R$5:R$503,Graphs!$A179)>0,Graphs!$A179,\"\")","v":""},{"$f":"IF(K179=\"\",\"\",COUNTIF(DMA!R$5:R$503,Graphs!A179))","v":""},{"$f":"IF(K179=\"\",\"\",(SUMIF(DMA!R$5:R$503,Graphs!A179,DMA!S$5:S$503)/COUNTIF(DMA!R$5:R$503,Graphs!A179)))","v":""},"",{"$f":"IF(COUNTIF(DMA!M$5:M$503,Graphs!$A179)>0,Graphs!$A179,\"\")","v":""},{"$f":"IF($O179=\"\",\"\",SUMIF(DMA!$M$5:$M$503,Graphs!$O179,DMA!N$5:N$503))","v":""},{"$f":"IF($O179=\"\",\"\",SUMIF(DMA!$M$5:$M$503,Graphs!$O179,DMA!O$5:O$503))","v":""},{"$f":"IF($O179=\"\",\"\",SUMIF(DMA!$M$5:$M$503,Graphs!$O179,DMA!P$5:P$503))","v":""},{"$f":"IF($O179=\"\",\"\",SUMIF(DMA!$M$5:$M$503,Graphs!$O179,DMA!Q$5:Q$503))","v":""},"",{"$f":"IF(O179=\"\",\"\",COUNTIF(DMA!M$5:M$503,Graphs!A179))","v":""},"","","","","","","",null,null,null,null,null,null,null,null,null,null,null,null,null,null,null,null,null,null,null,null,null,null,null,"","","",{"$f":"IF(P179=\"\",\"\",IF(P179=0,\"\",SQRT(SUMIF(DMA!$DJ$5:$DJ$503,Graphs!$O179,DMA!DK$5:DK$503))/COUNTIF(DMA!$DJ$5:$DJ$503,Graphs!$O179)))","v":""},{"$f":"IF(Q179=\"\",\"\",IF(Q179=0,\"\",SQRT(SUMIF(DMA!$DJ$5:$DJ$503,Graphs!$O179,DMA!DL$5:DL$503))/COUNTIF(DMA!$DJ$5:$DJ$503,Graphs!$O179)))","v":""},{"$f":"IF(R179=\"\",\"\",IF(R179=0,\"\",SQRT(SUMIF(DMA!$DJ$5:$DJ$503,Graphs!$O179,DMA!DM$5:DM$503))/COUNTIF(DMA!$DJ$5:$DJ$503,Graphs!$O179)))","v":""},{"$f":"IF($P179=\"\",\"\",IF(P179=0,\"\",AVERAGEIF(DMA!$M$5:$M$503,Graphs!$O179,DMA!N$5:N$503)))","v":""},{"$f":"IF($Q179=\"\",\"\",IF(Q179=0,\"\",AVERAGEIF(DMA!$M$5:$M$503,Graphs!$O179,DMA!O$5:O$503)))","v":""},{"$f":"IF($R179=\"\",\"\",IF(R179=0,\"\",AVERAGEIF(DMA!$M$5:$M$503,Graphs!$O179,DMA!P$5:P$503)))","v":""}]
[null,{"$f":"IF(A180=\"\",\"\",(SUMIF(DMA!$AO$5:$AO$604,$A180,DMA!$AQ$5:$AQ$603)/DMA!AQ$604))","v":""},{"$f":"IF(A180=\"\",\"\",(SUMIF(DMA!$CQ$5:$CQ$603,$A180,DMA!$CO$5:$CO$603))*0.01)","v":""},{"$f":"IF(B180=\"\",\"\",(SUMIF(DMA!$CQ$5:$CQ$603,$A180,DMA!$CP$5:$CP$603)))","v":""},{"$f":"IF(COUNTIF(DMA!I$5:I$503,Graphs!$A180)>0,Graphs!$A180,\"\")","v":""},{"$f":"IF(E180=\"\",\"\",COUNTIF(DMA!I$5:I$503,Graphs!E180))","v":""},{"$f":"IF(E180=\"\",\"\",SUMIF(DMA!I$5:I$503,Graphs!E180,DMA!J$5:J$503)/COUNTIF(DMA!I$5:I$503,Graphs!E180))","v":""},{"$f":"IF(SUMIF(DMA!B$5:B$503,Graphs!A180,DMA!D$5:D$503)>0,Graphs!A180,\"\")","v":""},{"$f":"IF(H180=\"\",\"\",COUNTIF(DMA!B$5:B$503,Graphs!A180))","v":""},{"$f":"IF(H180=\"\",\"\",10^(-0.7083129+0.297*(SUMIF(DMA!B$5:B$503,Graphs!H180,DMA!D$5:D$503)/COUNTIF(DMA!B$5:B$503,Graphs!H180))))","v":""},{"$f":"IF(COUNTIF(DMA!R$5:R$503,Graphs!$A180)>0,Graphs!$A180,\"\")","v":""},{"$f":"IF(K180=\"\",\"\",COUNTIF(DMA!R$5:R$503,Graphs!A180))","v":""},{"$f":"IF(K180=\"\",\"\",(SUMIF(DMA!R$5:R$503,Graphs!A180,DMA!S$5:S$503)/COUNTIF(DMA!R$5:R$503,Graphs!A180)))","v":""},"",{"$f":"IF(COUNTIF(DMA!M$5:M$503,Graphs!$A180)>0,Graphs!$A180,\"\")","v":""},{"$f":"IF($O180=\"\",\"\",SUMIF(DMA!$M$5:$M$503,Graphs!$O180,DMA!N$5:N$503))","v":""},{"$f":"IF($O180=\"\",\"\",SUMIF(DMA!$M$5:$M$503,Graphs!$O180,DMA!O$5:O$503))","v":""},{"$f":"IF($O180=\"\",\"\",SUMIF(DMA!$M$5:$M$503,Graphs!$O180,DMA!P$5:P$503))","v":""},{"$f":"IF($O180=\"\",\"\",SUMIF(DMA!$M$5:$M$503,Graphs!$O180,DMA!Q$5:Q$503))","v":""},"",{"$f":"IF(O180=\"\",\"\",COUNTIF(DMA!M$5:M$503,Graphs!A180))","v":""},"","","","","","","",null,null,null,null,null,null,null,null,null,null,null,null,null,null,null,null,null,null,null,null,null,null,null,"","","",{"$f":"IF(P180=\"\",\"\",IF(P180=0,\"\",SQRT(SUMIF(DMA!$DJ$5:$DJ$503,Graphs!$O180,DMA!DK$5:DK$503))/COUNTIF(DMA!$DJ$5:$DJ$503,Graphs!$O180)))","v":""},{"$f":"IF(Q180=\"\",\"\",IF(Q180=0,\"\",SQRT(SUMIF(DMA!$DJ$5:$DJ$503,Graphs!$O180,DMA!DL$5:DL$503))/COUNTIF(DMA!$DJ$5:$DJ$503,Graphs!$O180)))","v":""},{"$f":"IF(R180=\"\",\"\",IF(R180=0,\"\",SQRT(SUMIF(DMA!$DJ$5:$DJ$503,Graphs!$O180,DMA!DM$5:DM$503))/COUNTIF(DMA!$DJ$5:$DJ$503,Graphs!$O180)))","v":""},{"$f":"IF($P180=\"\",\"\",IF(P180=0,\"\",AVERAGEIF(DMA!$M$5:$M$503,Graphs!$O180,DMA!N$5:N$503)))","v":""},{"$f":"IF($Q180=\"\",\"\",IF(Q180=0,\"\",AVERAGEIF(DMA!$M$5:$M$503,Graphs!$O180,DMA!O$5:O$503)))","v":""},{"$f":"IF($R180=\"\",\"\",IF(R180=0,\"\",AVERAGEIF(DMA!$M$5:$M$503,Graphs!$O180,DMA!P$5:P$503)))","v":""}]
[null,{"$f":"IF(A181=\"\",\"\",(SUMIF(DMA!$AO$5:$AO$604,$A181,DMA!$AQ$5:$AQ$603)/DMA!AQ$604))","v":""},{"$f":"IF(A181=\"\",\"\",(SUMIF(DMA!$CQ$5:$CQ$603,$A181,DMA!$CO$5:$CO$603))*0.01)","v":""},{"$f":"IF(B181=\"\",\"\",(SUMIF(DMA!$CQ$5:$CQ$603,$A181,DMA!$CP$5:$CP$603)))","v":""},{"$f":"IF(COUNTIF(DMA!I$5:I$503,Graphs!$A181)>0,Graphs!$A181,\"\")","v":""},{"$f":"IF(E181=\"\",\"\",COUNTIF(DMA!I$5:I$503,Graphs!E181))","v":""},{"$f":"IF(E181=\"\",\"\",SUMIF(DMA!I$5:I$503,Graphs!E181,DMA!J$5:J$503)/COUNTIF(DMA!I$5:I$503,Graphs!E181))","v":""},{"$f":"IF(SUMIF(DMA!B$5:B$503,Graphs!A181,DMA!D$5:D$503)>0,Graphs!A181,\"\")","v":""},{"$f":"IF(H181=\"\",\"\",COUNTIF(DMA!B$5:B$503,Graphs!A181))","v":""},{"$f":"IF(H181=\"\",\"\",10^(-0.7083129+0.297*(SUMIF(DMA!B$5:B$503,Graphs!H181,DMA!D$5:D$503)/COUNTIF(DMA!B$5:B$503,Graphs!H181))))","v":""},{"$f":"IF(COUNTIF(DMA!R$5:R$503,Graphs!$A181)>0,Graphs!$A181,\"\")","v":""},{"$f":"IF(K181=\"\",\"\",COUNTIF(DMA!R$5:R$503,Graphs!A181))","v":""},{"$f":"IF(K181=\"\",\"\",(SUMIF(DMA!R$5:R$503,Graphs!A181,DMA!S$5:S$503)/COUNTIF(DMA!R$5:R$503,Graphs!A181)))","v":""},"",{"$f":"IF(COUNTIF(DMA!M$5:M$503,Graphs!$A181)>0,Graphs!$A181,\"\")","v":""},{"$f":"IF($O181=\"\",\"\",SUMIF(DMA!$M$5:$M$503,Graphs!$O181,DMA!N$5:N$503))","v":""},{"$f":"IF($O181=\"\",\"\",SUMIF(DMA!$M$5:$M$503,Graphs!$O181,DMA!O$5:O$503))","v":""},{"$f":"IF($O181=\"\",\"\",SUMIF(DMA!$M$5:$M$503,Graphs!$O181,DMA!P$5:P$503))","v":""},{"$f":"IF($O181=\"\",\"\",SUMIF(DMA!$M$5:$M$503,Graphs!$O181,DMA!Q$5:Q$503))","v":""},"",{"$f":"IF(O181=\"\",\"\",COUNTIF(DMA!M$5:M$503,Graphs!A181))","v":""},"","","","","","","",null,null,null,null,null,null,null,null,null,null,null,null,null,null,null,null,null,null,null,null,null,null,null,"","","",{"$f":"IF(P181=\"\",\"\",IF(P181=0,\"\",SQRT(SUMIF(DMA!$DJ$5:$DJ$503,Graphs!$O181,DMA!DK$5:DK$503))/COUNTIF(DMA!$DJ$5:$DJ$503,Graphs!$O181)))","v":""},{"$f":"IF(Q181=\"\",\"\",IF(Q181=0,\"\",SQRT(SUMIF(DMA!$DJ$5:$DJ$503,Graphs!$O181,DMA!DL$5:DL$503))/COUNTIF(DMA!$DJ$5:$DJ$503,Graphs!$O181)))","v":""},{"$f":"IF(R181=\"\",\"\",IF(R181=0,\"\",SQRT(SUMIF(DMA!$DJ$5:$DJ$503,Graphs!$O181,DMA!DM$5:DM$503))/COUNTIF(DMA!$DJ$5:$DJ$503,Graphs!$O181)))","v":""},{"$f":"IF($P181=\"\",\"\",IF(P181=0,\"\",AVERAGEIF(DMA!$M$5:$M$503,Graphs!$O181,DMA!N$5:N$503)))","v":""},{"$f":"IF($Q181=\"\",\"\",IF(Q181=0,\"\",AVERAGEIF(DMA!$M$5:$M$503,Graphs!$O181,DMA!O$5:O$503)))","v":""},{"$f":"IF($R181=\"\",\"\",IF(R181=0,\"\",AVERAGEIF(DMA!$M$5:$M$503,Graphs!$O181,DMA!P$5:P$503)))","v":""}]
[null,{"$f":"IF(A182=\"\",\"\",(SUMIF(DMA!$AO$5:$AO$604,$A182,DMA!$AQ$5:$AQ$603)/DMA!AQ$604))","v":""},{"$f":"IF(A182=\"\",\"\",(SUMIF(DMA!$CQ$5:$CQ$603,$A182,DMA!$CO$5:$CO$603))*0.01)","v":""},{"$f":"IF(B182=\"\",\"\",(SUMIF(DMA!$CQ$5:$CQ$603,$A182,DMA!$CP$5:$CP$603)))","v":""},{"$f":"IF(COUNTIF(DMA!I$5:I$503,Graphs!$A182)>0,Graphs!$A182,\"\")","v":""},{"$f":"IF(E182=\"\",\"\",COUNTIF(DMA!I$5:I$503,Graphs!E182))","v":""},{"$f":"IF(E182=\"\",\"\",SUMIF(DMA!I$5:I$503,Graphs!E182,DMA!J$5:J$503)/COUNTIF(DMA!I$5:I$503,Graphs!E182))","v":""},{"$f":"IF(SUMIF(DMA!B$5:B$503,Graphs!A182,DMA!D$5:D$503)>0,Graphs!A182,\"\")","v":""},{"$f":"IF(H182=\"\",\"\",COUNTIF(DMA!B$5:B$503,Graphs!A182))","v":""},{"$f":"IF(H182=\"\",\"\",10^(-0.7083129+0.297*(SUMIF(DMA!B$5:B$503,Graphs!H182,DMA!D$5:D$503)/COUNTIF(DMA!B$5:B$503,Graphs!H182))))","v":""},{"$f":"IF(COUNTIF(DMA!R$5:R$503,Graphs!$A182)>0,Graphs!$A182,\"\")","v":""},{"$f":"IF(K182=\"\",\"\",COUNTIF(DMA!R$5:R$503,Graphs!A182))","v":""},{"$f":"IF(K182=\"\",\"\",(SUMIF(DMA!R$5:R$503,Graphs!A182,DMA!S$5:S$503)/COUNTIF(DMA!R$5:R$503,Graphs!A182)))","v":""},"",{"$f":"IF(COUNTIF(DMA!M$5:M$503,Graphs!$A182)>0,Graphs!$A182,\"\")","v":""},{"$f":"IF($O182=\"\",\"\",SUMIF(DMA!$M$5:$M$503,Graphs!$O182,DMA!N$5:N$503))","v":""},{"$f":"IF($O182=\"\",\"\",SUMIF(DMA!$M$5:$M$503,Graphs!$O182,DMA!O$5:O$503))","v":""},{"$f":"IF($O182=\"\",\"\",SUMIF(DMA!$M$5:$M$503,Graphs!$O182,DMA!P$5:P$503))","v":""},{"$f":"IF($O182=\"\",\"\",SUMIF(DMA!$M$5:$M$503,Graphs!$O182,DMA!Q$5:Q$503))","v":""},"",{"$f":"IF(O182=\"\",\"\",COUNTIF(DMA!M$5:M$503,Graphs!A182))","v":""},"","","","","","","",null,null,null,null,null,null,null,null,null,null,null,null,null,null,null,null,null,null,null,null,null,null,null,"","","",{"$f":"IF(P182=\"\",\"\",IF(P182=0,\"\",SQRT(SUMIF(DMA!$DJ$5:$DJ$503,Graphs!$O182,DMA!DK$5:DK$503))/COUNTIF(DMA!$DJ$5:$DJ$503,Graphs!$O182)))","v":""},{"$f":"IF(Q182=\"\",\"\",IF(Q182=0,\"\",SQRT(SUMIF(DMA!$DJ$5:$DJ$503,Graphs!$O182,DMA!DL$5:DL$503))/COUNTIF(DMA!$DJ$5:$DJ$503,Graphs!$O182)))","v":""},{"$f":"IF(R182=\"\",\"\",IF(R182=0,\"\",SQRT(SUMIF(DMA!$DJ$5:$DJ$503,Graphs!$O182,DMA!DM$5:DM$503))/COUNTIF(DMA!$DJ$5:$DJ$503,Graphs!$O182)))","v":""},{"$f":"IF($P182=\"\",\"\",IF(P182=0,\"\",AVERAGEIF(DMA!$M$5:$M$503,Graphs!$O182,DMA!N$5:N$503)))","v":""},{"$f":"IF($Q182=\"\",\"\",IF(Q182=0,\"\",AVERAGEIF(DMA!$M$5:$M$503,Graphs!$O182,DMA!O$5:O$503)))","v":""},{"$f":"IF($R182=\"\",\"\",IF(R182=0,\"\",AVERAGEIF(DMA!$M$5:$M$503,Graphs!$O182,DMA!P$5:P$503)))","v":""}]
[null,{"$f":"IF(A183=\"\",\"\",(SUMIF(DMA!$AO$5:$AO$604,$A183,DMA!$AQ$5:$AQ$603)/DMA!AQ$604))","v":""},{"$f":"IF(A183=\"\",\"\",(SUMIF(DMA!$CQ$5:$CQ$603,$A183,DMA!$CO$5:$CO$603))*0.01)","v":""},{"$f":"IF(B183=\"\",\"\",(SUMIF(DMA!$CQ$5:$CQ$603,$A183,DMA!$CP$5:$CP$603)))","v":""},{"$f":"IF(COUNTIF(DMA!I$5:I$503,Graphs!$A183)>0,Graphs!$A183,\"\")","v":""},{"$f":"IF(E183=\"\",\"\",COUNTIF(DMA!I$5:I$503,Graphs!E183))","v":""},{"$f":"IF(E183=\"\",\"\",SUMIF(DMA!I$5:I$503,Graphs!E183,DMA!J$5:J$503)/COUNTIF(DMA!I$5:I$503,Graphs!E183))","v":""},{"$f":"IF(SUMIF(DMA!B$5:B$503,Graphs!A183,DMA!D$5:D$503)>0,Graphs!A183,\"\")","v":""},{"$f":"IF(H183=\"\",\"\",COUNTIF(DMA!B$5:B$503,Graphs!A183))","v":""},{"$f":"IF(H183=\"\",\"\",10^(-0.7083129+0.297*(SUMIF(DMA!B$5:B$503,Graphs!H183,DMA!D$5:D$503)/COUNTIF(DMA!B$5:B$503,Graphs!H183))))","v":""},{"$f":"IF(COUNTIF(DMA!R$5:R$503,Graphs!$A183)>0,Graphs!$A183,\"\")","v":""},{"$f":"IF(K183=\"\",\"\",COUNTIF(DMA!R$5:R$503,Graphs!A183))","v":""},{"$f":"IF(K183=\"\",\"\",(SUMIF(DMA!R$5:R$503,Graphs!A183,DMA!S$5:S$503)/COUNTIF(DMA!R$5:R$503,Graphs!A183)))","v":""},"",{"$f":"IF(COUNTIF(DMA!M$5:M$503,Graphs!$A183)>0,Graphs!$A183,\"\")","v":""},{"$f":"IF($O183=\"\",\"\",SUMIF(DMA!$M$5:$M$503,Graphs!$O183,DMA!N$5:N$503))","v":""},{"$f":"IF($O183=\"\",\"\",SUMIF(DMA!$M$5:$M$503,Graphs!$O183,DMA!O$5:O$503))","v":""},{"$f":"IF($O183=\"\",\"\",SUMIF(DMA!$M$5:$M$503,Graphs!$O183,DMA!P$5:P$503))","v":""},{"$f":"IF($O183=\"\",\"\",SUMIF(DMA!$M$5:$M$503,Graphs!$O183,DMA!Q$5:Q$503))","v":""},"",{"$f":"IF(O183=\"\",\"\",COUNTIF(DMA!M$5:M$503,Graphs!A183))","v":""},"","","","","","","",null,null,null,null,null,null,null,null,null,null,null,null,null,null,null,null,null,null,null,null,null,null,null,"","","",{"$f":"IF(P183=\"\",\"\",IF(P183=0,\"\",SQRT(SUMIF(DMA!$DJ$5:$DJ$503,Graphs!$O183,DMA!DK$5:DK$503))/COUNTIF(DMA!$DJ$5:$DJ$503,Graphs!$O183)))","v":""},{"$f":"IF(Q183=\"\",\"\",IF(Q183=0,\"\",SQRT(SUMIF(DMA!$DJ$5:$DJ$503,Graphs!$O183,DMA!DL$5:DL$503))/COUNTIF(DMA!$DJ$5:$DJ$503,Graphs!$O183)))","v":""},{"$f":"IF(R183=\"\",\"\",IF(R183=0,\"\",SQRT(SUMIF(DMA!$DJ$5:$DJ$503,Graphs!$O183,DMA!DM$5:DM$503))/COUNTIF(DMA!$DJ$5:$DJ$503,Graphs!$O183)))","v":""},{"$f":"IF($P183=\"\",\"\",IF(P183=0,\"\",AVERAGEIF(DMA!$M$5:$M$503,Graphs!$O183,DMA!N$5:N$503)))","v":""},{"$f":"IF($Q183=\"\",\"\",IF(Q183=0,\"\",AVERAGEIF(DMA!$M$5:$M$503,Graphs!$O183,DMA!O$5:O$503)))","v":""},{"$f":"IF($R183=\"\",\"\",IF(R183=0,\"\",AVERAGEIF(DMA!$M$5:$M$503,Graphs!$O183,DMA!P$5:P$503)))","v":""}]
[null,{"$f":"IF(A184=\"\",\"\",(SUMIF(DMA!$AO$5:$AO$604,$A184,DMA!$AQ$5:$AQ$603)/DMA!AQ$604))","v":""},{"$f":"IF(A184=\"\",\"\",(SUMIF(DMA!$CQ$5:$CQ$603,$A184,DMA!$CO$5:$CO$603))*0.01)","v":""},{"$f":"IF(B184=\"\",\"\",(SUMIF(DMA!$CQ$5:$CQ$603,$A184,DMA!$CP$5:$CP$603)))","v":""},{"$f":"IF(COUNTIF(DMA!I$5:I$503,Graphs!$A184)>0,Graphs!$A184,\"\")","v":""},{"$f":"IF(E184=\"\",\"\",COUNTIF(DMA!I$5:I$503,Graphs!E184))","v":""},{"$f":"IF(E184=\"\",\"\",SUMIF(DMA!I$5:I$503,Graphs!E184,DMA!J$5:J$503)/COUNTIF(DMA!I$5:I$503,Graphs!E184))","v":""},{"$f":"IF(SUMIF(DMA!B$5:B$503,Graphs!A184,DMA!D$5:D$503)>0,Graphs!A184,\"\")","v":""},{"$f":"IF(H184=\"\",\"\",COUNTIF(DMA!B$5:B$503,Graphs!A184))","v":""},{"$f":"IF(H184=\"\",\"\",10^(-0.7083129+0.297*(SUMIF(DMA!B$5:B$503,Graphs!H184,DMA!D$5:D$503)/COUNTIF(DMA!B$5:B$503,Graphs!H184))))","v":""},{"$f":"IF(COUNTIF(DMA!R$5:R$503,Graphs!$A184)>0,Graphs!$A184,\"\")","v":""},{"$f":"IF(K184=\"\",\"\",COUNTIF(DMA!R$5:R$503,Graphs!A184))","v":""},{"$f":"IF(K184=\"\",\"\",(SUMIF(DMA!R$5:R$503,Graphs!A184,DMA!S$5:S$503)/COUNTIF(DMA!R$5:R$503,Graphs!A184)))","v":""},"",{"$f":"IF(COUNTIF(DMA!M$5:M$503,Graphs!$A184)>0,Graphs!$A184,\"\")","v":""},{"$f":"IF($O184=\"\",\"\",SUMIF(DMA!$M$5:$M$503,Graphs!$O184,DMA!N$5:N$503))","v":""},{"$f":"IF($O184=\"\",\"\",SUMIF(DMA!$M$5:$M$503,Graphs!$O184,DMA!O$5:O$503))","v":""},{"$f":"IF($O184=\"\",\"\",SUMIF(DMA!$M$5:$M$503,Graphs!$O184,DMA!P$5:P$503))","v":""},{"$f":"IF($O184=\"\",\"\",SUMIF(DMA!$M$5:$M$503,Graphs!$O184,DMA!Q$5:Q$503))","v":""},"",{"$f":"IF(O184=\"\",\"\",COUNTIF(DMA!M$5:M$503,Graphs!A184))","v":""},"","","","","","","",null,null,null,null,null,null,null,null,null,null,null,null,null,null,null,null,null,null,null,null,null,null,null,{"$f":"IF(BC184=\"\",\"\",IF(BC184=1,\"\",IF(BC184=0,\"\",CONFIDENCE(0.05,BC184,BM184))))","v":""},{"$f":"IF(BD184=\"\",\"\",IF(BD184=1,\"\",IF(BD184=0,\"\",CONFIDENCE(0.05,BD184,BN184))))","v":""},{"$f":"IF(BE184=\"\",\"\",IF(BE184=1,\"\",IF(BE184=0,\"\",CONFIDENCE(0.05,BE184,BO184))))","v":""},{"$f":"IF(P184=\"\",\"\",IF(P184=0,\"\",SQRT(SUMIF(DMA!$DJ$5:$DJ$503,Graphs!$O184,DMA!DK$5:DK$503))/COUNTIF(DMA!$DJ$5:$DJ$503,Graphs!$O184)))","v":""},{"$f":"IF(Q184=\"\",\"\",IF(Q184=0,\"\",SQRT(SUMIF(DMA!$DJ$5:$DJ$503,Graphs!$O184,DMA!DL$5:DL$503))/COUNTIF(DMA!$DJ$5:$DJ$503,Graphs!$O184)))","v":""},{"$f":"IF(R184=\"\",\"\",IF(R184=0,\"\",SQRT(SUMIF(DMA!$DJ$5:$DJ$503,Graphs!$O184,DMA!DM$5:DM$503))/COUNTIF(DMA!$DJ$5:$DJ$503,Graphs!$O184)))","v":""},{"$f":"IF($P184=\"\",\"\",IF(P184=0,\"\",AVERAGEIF(DMA!$M$5:$M$503,Graphs!$O184,DMA!N$5:N$503)))","v":""},{"$f":"IF($Q184=\"\",\"\",IF(Q184=0,\"\",AVERAGEIF(DMA!$M$5:$M$503,Graphs!$O184,DMA!O$5:O$503)))","v":""},{"$f":"IF($R184=\"\",\"\",IF(R184=0,\"\",AVERAGEIF(DMA!$M$5:$M$503,Graphs!$O184,DMA!P$5:P$503)))","v":""}]
[null,{"$f":"IF(A185=\"\",\"\",(SUMIF(DMA!$AO$5:$AO$604,$A185,DMA!$AQ$5:$AQ$603)/DMA!AQ$604))","v":""},{"$f":"IF(A185=\"\",\"\",(SUMIF(DMA!$CQ$5:$CQ$603,$A185,DMA!$CO$5:$CO$603))*0.01)","v":""},{"$f":"IF(B185=\"\",\"\",(SUMIF(DMA!$CQ$5:$CQ$603,$A185,DMA!$CP$5:$CP$603)))","v":""},{"$f":"IF(COUNTIF(DMA!I$5:I$503,Graphs!$A185)>0,Graphs!$A185,\"\")","v":""},{"$f":"IF(E185=\"\",\"\",COUNTIF(DMA!I$5:I$503,Graphs!E185))","v":""},{"$f":"IF(E185=\"\",\"\",SUMIF(DMA!I$5:I$503,Graphs!E185,DMA!J$5:J$503)/COUNTIF(DMA!I$5:I$503,Graphs!E185))","v":""},{"$f":"IF(SUMIF(DMA!B$5:B$503,Graphs!A185,DMA!D$5:D$503)>0,Graphs!A185,\"\")","v":""},{"$f":"IF(H185=\"\",\"\",COUNTIF(DMA!B$5:B$503,Graphs!A185))","v":""},{"$f":"IF(H185=\"\",\"\",10^(-0.7083129+0.297*(SUMIF(DMA!B$5:B$503,Graphs!H185,DMA!D$5:D$503)/COUNTIF(DMA!B$5:B$503,Graphs!H185))))","v":""},{"$f":"IF(COUNTIF(DMA!R$5:R$503,Graphs!$A185)>0,Graphs!$A185,\"\")","v":""},{"$f":"IF(K185=\"\",\"\",COUNTIF(DMA!R$5:R$503,Graphs!A185))","v":""},{"$f":"IF(K185=\"\",\"\",(SUMIF(DMA!R$5:R$503,Graphs!A185,DMA!S$5:S$503)/COUNTIF(DMA!R$5:R$503,Graphs!A185)))","v":""},"",{"$f":"IF(COUNTIF(DMA!M$5:M$503,Graphs!$A185)>0,Graphs!$A185,\"\")","v":""},{"$f":"IF($O185=\"\",\"\",SUMIF(DMA!$M$5:$M$503,Graphs!$O185,DMA!N$5:N$503))","v":""},{"$f":"IF($O185=\"\",\"\",SUMIF(DMA!$M$5:$M$503,Graphs!$O185,DMA!O$5:O$503))","v":""},{"$f":"IF($O185=\"\",\"\",SUMIF(DMA!$M$5:$M$503,Graphs!$O185,DMA!P$5:P$503))","v":""},{"$f":"IF($O185=\"\",\"\",SUMIF(DMA!$M$5:$M$503,Graphs!$O185,DMA!Q$5:Q$503))","v":""},"",{"$f":"IF(O185=\"\",\"\",COUNTIF(DMA!M$5:M$503,Graphs!A185))","v":""},"","","","","","","",null,null,null,null,null,null,null,null,null,null,null,null,null,null,null,null,null,null,null,null,null,null,null,"","","",{"$f":"IF(P185=\"\",\"\",IF(P185=0,\"\",SQRT(SUMIF(DMA!$DJ$5:$DJ$503,Graphs!$O185,DMA!DK$5:DK$503))/COUNTIF(DMA!$DJ$5:$DJ$503,Graphs!$O185)))","v":""},{"$f":"IF(Q185=\"\",\"\",IF(Q185=0,\"\",SQRT(SUMIF(DMA!$DJ$5:$DJ$503,Graphs!$O185,DMA!DL$5:DL$503))/COUNTIF(DMA!$DJ$5:$DJ$503,Graphs!$O185)))","v":""},{"$f":"IF(R185=\"\",\"\",IF(R185=0,\"\",SQRT(SUMIF(DMA!$DJ$5:$DJ$503,Graphs!$O185,DMA!DM$5:DM$503))/COUNTIF(DMA!$DJ$5:$DJ$503,Graphs!$O185)))","v":""},{"$f":"IF($P185=\"\",\"\",IF(P185=0,\"\",AVERAGEIF(DMA!$M$5:$M$503,Graphs!$O185,DMA!N$5:N$503)))","v":""},{"$f":"IF($Q185=\"\",\"\",IF(Q185=0,\"\",AVERAGEIF(DMA!$M$5:$M$503,Graphs!$O185,DMA!O$5:O$503)))","v":""},{"$f":"IF($R185=\"\",\"\",IF(R185=0,\"\",AVERAGEIF(DMA!$M$5:$M$503,Graphs!$O185,DMA!P$5:P$503)))","v":""}]
[null,{"$f":"IF(A186=\"\",\"\",(SUMIF(DMA!$AO$5:$AO$604,$A186,DMA!$AQ$5:$AQ$603)/DMA!AQ$604))","v":""},{"$f":"IF(A186=\"\",\"\",(SUMIF(DMA!$CQ$5:$CQ$603,$A186,DMA!$CO$5:$CO$603))*0.01)","v":""},{"$f":"IF(B186=\"\",\"\",(SUMIF(DMA!$CQ$5:$CQ$603,$A186,DMA!$CP$5:$CP$603)))","v":""},{"$f":"IF(COUNTIF(DMA!I$5:I$503,Graphs!$A186)>0,Graphs!$A186,\"\")","v":""},{"$f":"IF(E186=\"\",\"\",COUNTIF(DMA!I$5:I$503,Graphs!E186))","v":""},{"$f":"IF(E186=\"\",\"\",SUMIF(DMA!I$5:I$503,Graphs!E186,DMA!J$5:J$503)/COUNTIF(DMA!I$5:I$503,Graphs!E186))","v":""},{"$f":"IF(SUMIF(DMA!B$5:B$503,Graphs!A186,DMA!D$5:D$503)>0,Graphs!A186,\"\")","v":""},{"$f":"IF(H186=\"\",\"\",COUNTIF(DMA!B$5:B$503,Graphs!A186))","v":""},{"$f":"IF(H186=\"\",\"\",10^(-0.7083129+0.297*(SUMIF(DMA!B$5:B$503,Graphs!H186,DMA!D$5:D$503)/COUNTIF(DMA!B$5:B$503,Graphs!H186))))","v":""},{"$f":"IF(COUNTIF(DMA!R$5:R$503,Graphs!$A186)>0,Graphs!$A186,\"\")","v":""},{"$f":"IF(K186=\"\",\"\",COUNTIF(DMA!R$5:R$503,Graphs!A186))","v":""},{"$f":"IF(K186=\"\",\"\",(SUMIF(DMA!R$5:R$503,Graphs!A186,DMA!S$5:S$503)/COUNTIF(DMA!R$5:R$503,Graphs!A186)))","v":""},"",{"$f":"IF(COUNTIF(DMA!M$5:M$503,Graphs!$A186)>0,Graphs!$A186,\"\")","v":""},{"$f":"IF($O186=\"\",\"\",SUMIF(DMA!$M$5:$M$503,Graphs!$O186,DMA!N$5:N$503))","v":""},{"$f":"IF($O186=\"\",\"\",SUMIF(DMA!$M$5:$M$503,Graphs!$O186,DMA!O$5:O$503))","v":""},{"$f":"IF($O186=\"\",\"\",SUMIF(DMA!$M$5:$M$503,Graphs!$O186,DMA!P$5:P$503))","v":""},{"$f":"IF($O186=\"\",\"\",SUMIF(DMA!$M$5:$M$503,Graphs!$O186,DMA!Q$5:Q$503))","v":""},"",{"$f":"IF(O186=\"\",\"\",COUNTIF(DMA!M$5:M$503,Graphs!A186))","v":""},"","","","","","","",null,null,null,null,null,null,null,null,null,null,null,null,null,null,null,null,null,null,null,null,null,null,null,"","","",{"$f":"IF(P186=\"\",\"\",IF(P186=0,\"\",SQRT(SUMIF(DMA!$DJ$5:$DJ$503,Graphs!$O186,DMA!DK$5:DK$503))/COUNTIF(DMA!$DJ$5:$DJ$503,Graphs!$O186)))","v":""},{"$f":"IF(Q186=\"\",\"\",IF(Q186=0,\"\",SQRT(SUMIF(DMA!$DJ$5:$DJ$503,Graphs!$O186,DMA!DL$5:DL$503))/COUNTIF(DMA!$DJ$5:$DJ$503,Graphs!$O186)))","v":""},{"$f":"IF(R186=\"\",\"\",IF(R186=0,\"\",SQRT(SUMIF(DMA!$DJ$5:$DJ$503,Graphs!$O186,DMA!DM$5:DM$503))/COUNTIF(DMA!$DJ$5:$DJ$503,Graphs!$O186)))","v":""},{"$f":"IF($P186=\"\",\"\",IF(P186=0,\"\",AVERAGEIF(DMA!$M$5:$M$503,Graphs!$O186,DMA!N$5:N$503)))","v":""},{"$f":"IF($Q186=\"\",\"\",IF(Q186=0,\"\",AVERAGEIF(DMA!$M$5:$M$503,Graphs!$O186,DMA!O$5:O$503)))","v":""},{"$f":"IF($R186=\"\",\"\",IF(R186=0,\"\",AVERAGEIF(DMA!$M$5:$M$503,Graphs!$O186,DMA!P$5:P$503)))","v":""}]
[null,{"$f":"IF(A187=\"\",\"\",(SUMIF(DMA!$AO$5:$AO$604,$A187,DMA!$AQ$5:$AQ$603)/DMA!AQ$604))","v":""},{"$f":"IF(A187=\"\",\"\",(SUMIF(DMA!$CQ$5:$CQ$603,$A187,DMA!$CO$5:$CO$603))*0.01)","v":""},{"$f":"IF(B187=\"\",\"\",(SUMIF(DMA!$CQ$5:$CQ$603,$A187,DMA!$CP$5:$CP$603)))","v":""},{"$f":"IF(COUNTIF(DMA!I$5:I$503,Graphs!$A187)>0,Graphs!$A187,\"\")","v":""},{"$f":"IF(E187=\"\",\"\",COUNTIF(DMA!I$5:I$503,Graphs!E187))","v":""},{"$f":"IF(E187=\"\",\"\",SUMIF(DMA!I$5:I$503,Graphs!E187,DMA!J$5:J$503)/COUNTIF(DMA!I$5:I$503,Graphs!E187))","v":""},{"$f":"IF(SUMIF(DMA!B$5:B$503,Graphs!A187,DMA!D$5:D$503)>0,Graphs!A187,\"\")","v":""},{"$f":"IF(H187=\"\",\"\",COUNTIF(DMA!B$5:B$503,Graphs!A187))","v":""},{"$f":"IF(H187=\"\",\"\",10^(-0.7083129+0.297*(SUMIF(DMA!B$5:B$503,Graphs!H187,DMA!D$5:D$503)/COUNTIF(DMA!B$5:B$503,Graphs!H187))))","v":""},{"$f":"IF(COUNTIF(DMA!R$5:R$503,Graphs!$A187)>0,Graphs!$A187,\"\")","v":""},{"$f":"IF(K187=\"\",\"\",COUNTIF(DMA!R$5:R$503,Graphs!A187))","v":""},{"$f":"IF(K187=\"\",\"\",(SUMIF(DMA!R$5:R$503,Graphs!A187,DMA!S$5:S$503)/COUNTIF(DMA!R$5:R$503,Graphs!A187)))","v":""},"",{"$f":"IF(COUNTIF(DMA!M$5:M$503,Graphs!$A187)>0,Graphs!$A187,\"\")","v":""},{"$f":"IF($O187=\"\",\"\",SUMIF(DMA!$M$5:$M$503,Graphs!$O187,DMA!N$5:N$503))","v":""},{"$f":"IF($O187=\"\",\"\",SUMIF(DMA!$M$5:$M$503,Graphs!$O187,DMA!O$5:O$503))","v":""},{"$f":"IF($O187=\"\",\"\",SUMIF(DMA!$M$5:$M$503,Graphs!$O187,DMA!P$5:P$503))","v":""},{"$f":"IF($O187=\"\",\"\",SUMIF(DMA!$M$5:$M$503,Graphs!$O187,DMA!Q$5:Q$503))","v":""},"",{"$f":"IF(O187=\"\",\"\",COUNTIF(DMA!M$5:M$503,Graphs!A187))","v":""},"","","","","","","",null,null,null,null,null,null,null,null,null,null,null,null,null,null,null,null,null,null,null,null,null,null,null,"","","",{"$f":"IF(P187=\"\",\"\",IF(P187=0,\"\",SQRT(SUMIF(DMA!$DJ$5:$DJ$503,Graphs!$O187,DMA!DK$5:DK$503))/COUNTIF(DMA!$DJ$5:$DJ$503,Graphs!$O187)))","v":""},{"$f":"IF(Q187=\"\",\"\",IF(Q187=0,\"\",SQRT(SUMIF(DMA!$DJ$5:$DJ$503,Graphs!$O187,DMA!DL$5:DL$503))/COUNTIF(DMA!$DJ$5:$DJ$503,Graphs!$O187)))","v":""},{"$f":"IF(R187=\"\",\"\",IF(R187=0,\"\",SQRT(SUMIF(DMA!$DJ$5:$DJ$503,Graphs!$O187,DMA!DM$5:DM$503))/COUNTIF(DMA!$DJ$5:$DJ$503,Graphs!$O187)))","v":""},{"$f":"IF($P187=\"\",\"\",IF(P187=0,\"\",AVERAGEIF(DMA!$M$5:$M$503,Graphs!$O187,DMA!N$5:N$503)))","v":""},{"$f":"IF($Q187=\"\",\"\",IF(Q187=0,\"\",AVERAGEIF(DMA!$M$5:$M$503,Graphs!$O187,DMA!O$5:O$503)))","v":""},{"$f":"IF($R187=\"\",\"\",IF(R187=0,\"\",AVERAGEIF(DMA!$M$5:$M$503,Graphs!$O187,DMA!P$5:P$503)))","v":""}]
[null,{"$f":"IF(A188=\"\",\"\",(SUMIF(DMA!$AO$5:$AO$604,$A188,DMA!$AQ$5:$AQ$603)/DMA!AQ$604))","v":""},{"$f":"IF(A188=\"\",\"\",(SUMIF(DMA!$CQ$5:$CQ$603,$A188,DMA!$CO$5:$CO$603))*0.01)","v":""},{"$f":"IF(B188=\"\",\"\",(SUMIF(DMA!$CQ$5:$CQ$603,$A188,DMA!$CP$5:$CP$603)))","v":""},{"$f":"IF(COUNTIF(DMA!I$5:I$503,Graphs!$A188)>0,Graphs!$A188,\"\")","v":""},{"$f":"IF(E188=\"\",\"\",COUNTIF(DMA!I$5:I$503,Graphs!E188))","v":""},{"$f":"IF(E188=\"\",\"\",SUMIF(DMA!I$5:I$503,Graphs!E188,DMA!J$5:J$503)/COUNTIF(DMA!I$5:I$503,Graphs!E188))","v":""},{"$f":"IF(SUMIF(DMA!B$5:B$503,Graphs!A188,DMA!D$5:D$503)>0,Graphs!A188,\"\")","v":""},{"$f":"IF(H188=\"\",\"\",COUNTIF(DMA!B$5:B$503,Graphs!A188))","v":""},{"$f":"IF(H188=\"\",\"\",10^(-0.7083129+0.297*(SUMIF(DMA!B$5:B$503,Graphs!H188,DMA!D$5:D$503)/COUNTIF(DMA!B$5:B$503,Graphs!H188))))","v":""},{"$f":"IF(COUNTIF(DMA!R$5:R$503,Graphs!$A188)>0,Graphs!$A188,\"\")","v":""},{"$f":"IF(K188=\"\",\"\",COUNTIF(DMA!R$5:R$503,Graphs!A188))","v":""},{"$f":"IF(K188=\"\",\"\",(SUMIF(DMA!R$5:R$503,Graphs!A188,DMA!S$5:S$503)/COUNTIF(DMA!R$5:R$503,Graphs!A188)))","v":""},"",{"$f":"IF(COUNTIF(DMA!M$5:M$503,Graphs!$A188)>0,Graphs!$A188,\"\")","v":""},{"$f":"IF($O188=\"\",\"\",SUMIF(DMA!$M$5:$M$503,Graphs!$O188,DMA!N$5:N$503))","v":""},{"$f":"IF($O188=\"\",\"\",SUMIF(DMA!$M$5:$M$503,Graphs!$O188,DMA!O$5:O$503))","v":""},{"$f":"IF($O188=\"\",\"\",SUMIF(DMA!$M$5:$M$503,Graphs!$O188,DMA!P$5:P$503))","v":""},{"$f":"IF($O188=\"\",\"\",SUMIF(DMA!$M$5:$M$503,Graphs!$O188,DMA!Q$5:Q$503))","v":""},"",{"$f":"IF(O188=\"\",\"\",COUNTIF(DMA!M$5:M$503,Graphs!A188))","v":""},"","","","","","","",null,null,null,null,null,null,null,null,null,null,null,null,null,null,null,null,null,null,null,null,null,null,null,"","","",{"$f":"IF(P188=\"\",\"\",IF(P188=0,\"\",SQRT(SUMIF(DMA!$DJ$5:$DJ$503,Graphs!$O188,DMA!DK$5:DK$503))/COUNTIF(DMA!$DJ$5:$DJ$503,Graphs!$O188)))","v":""},{"$f":"IF(Q188=\"\",\"\",IF(Q188=0,\"\",SQRT(SUMIF(DMA!$DJ$5:$DJ$503,Graphs!$O188,DMA!DL$5:DL$503))/COUNTIF(DMA!$DJ$5:$DJ$503,Graphs!$O188)))","v":""},{"$f":"IF(R188=\"\",\"\",IF(R188=0,\"\",SQRT(SUMIF(DMA!$DJ$5:$DJ$503,Graphs!$O188,DMA!DM$5:DM$503))/COUNTIF(DMA!$DJ$5:$DJ$503,Graphs!$O188)))","v":""},{"$f":"IF($P188=\"\",\"\",IF(P188=0,\"\",AVERAGEIF(DMA!$M$5:$M$503,Graphs!$O188,DMA!N$5:N$503)))","v":""},{"$f":"IF($Q188=\"\",\"\",IF(Q188=0,\"\",AVERAGEIF(DMA!$M$5:$M$503,Graphs!$O188,DMA!O$5:O$503)))","v":""},{"$f":"IF($R188=\"\",\"\",IF(R188=0,\"\",AVERAGEIF(DMA!$M$5:$M$503,Graphs!$O188,DMA!P$5:P$503)))","v":""}]
[null,{"$f":"IF(A189=\"\",\"\",(SUMIF(DMA!$AO$5:$AO$604,$A189,DMA!$AQ$5:$AQ$603)/DMA!AQ$604))","v":""},{"$f":"IF(A189=\"\",\"\",(SUMIF(DMA!$CQ$5:$CQ$603,$A189,DMA!$CO$5:$CO$603))*0.01)","v":""},{"$f":"IF(B189=\"\",\"\",(SUMIF(DMA!$CQ$5:$CQ$603,$A189,DMA!$CP$5:$CP$603)))","v":""},{"$f":"IF(COUNTIF(DMA!I$5:I$503,Graphs!$A189)>0,Graphs!$A189,\"\")","v":""},{"$f":"IF(E189=\"\",\"\",COUNTIF(DMA!I$5:I$503,Graphs!E189))","v":""},{"$f":"IF(E189=\"\",\"\",SUMIF(DMA!I$5:I$503,Graphs!E189,DMA!J$5:J$503)/COUNTIF(DMA!I$5:I$503,Graphs!E189))","v":""},{"$f":"IF(SUMIF(DMA!B$5:B$503,Graphs!A189,DMA!D$5:D$503)>0,Graphs!A189,\"\")","v":""},{"$f":"IF(H189=\"\",\"\",COUNTIF(DMA!B$5:B$503,Graphs!A189))","v":""},{"$f":"IF(H189=\"\",\"\",10^(-0.7083129+0.297*(SUMIF(DMA!B$5:B$503,Graphs!H189,DMA!D$5:D$503)/COUNTIF(DMA!B$5:B$503,Graphs!H189))))","v":""},{"$f":"IF(COUNTIF(DMA!R$5:R$503,Graphs!$A189)>0,Graphs!$A189,\"\")","v":""},{"$f":"IF(K189=\"\",\"\",COUNTIF(DMA!R$5:R$503,Graphs!A189))","v":""},{"$f":"IF(K189=\"\",\"\",(SUMIF(DMA!R$5:R$503,Graphs!A189,DMA!S$5:S$503)/COUNTIF(DMA!R$5:R$503,Graphs!A189)))","v":""},"",{"$f":"IF(COUNTIF(DMA!M$5:M$503,Graphs!$A189)>0,Graphs!$A189,\"\")","v":""},{"$f":"IF($O189=\"\",\"\",SUMIF(DMA!$M$5:$M$503,Graphs!$O189,DMA!N$5:N$503))","v":""},{"$f":"IF($O189=\"\",\"\",SUMIF(DMA!$M$5:$M$503,Graphs!$O189,DMA!O$5:O$503))","v":""},{"$f":"IF($O189=\"\",\"\",SUMIF(DMA!$M$5:$M$503,Graphs!$O189,DMA!P$5:P$503))","v":""},{"$f":"IF($O189=\"\",\"\",SUMIF(DMA!$M$5:$M$503,Graphs!$O189,DMA!Q$5:Q$503))","v":""},"",{"$f":"IF(O189=\"\",\"\",COUNTIF(DMA!M$5:M$503,Graphs!A189))","v":""},"","","","","","","",null,null,null,null,null,null,null,null,null,null,null,null,null,null,null,null,null,null,null,null,null,null,null,"","","",{"$f":"IF(P189=\"\",\"\",IF(P189=0,\"\",SQRT(SUMIF(DMA!$DJ$5:$DJ$503,Graphs!$O189,DMA!DK$5:DK$503))/COUNTIF(DMA!$DJ$5:$DJ$503,Graphs!$O189)))","v":""},{"$f":"IF(Q189=\"\",\"\",IF(Q189=0,\"\",SQRT(SUMIF(DMA!$DJ$5:$DJ$503,Graphs!$O189,DMA!DL$5:DL$503))/COUNTIF(DMA!$DJ$5:$DJ$503,Graphs!$O189)))","v":""},{"$f":"IF(R189=\"\",\"\",IF(R189=0,\"\",SQRT(SUMIF(DMA!$DJ$5:$DJ$503,Graphs!$O189,DMA!DM$5:DM$503))/COUNTIF(DMA!$DJ$5:$DJ$503,Graphs!$O189)))","v":""},{"$f":"IF($P189=\"\",\"\",IF(P189=0,\"\",AVERAGEIF(DMA!$M$5:$M$503,Graphs!$O189,DMA!N$5:N$503)))","v":""},{"$f":"IF($Q189=\"\",\"\",IF(Q189=0,\"\",AVERAGEIF(DMA!$M$5:$M$503,Graphs!$O189,DMA!O$5:O$503)))","v":""},{"$f":"IF($R189=\"\",\"\",IF(R189=0,\"\",AVERAGEIF(DMA!$M$5:$M$503,Graphs!$O189,DMA!P$5:P$503)))","v":""}]
[null,{"$f":"IF(A190=\"\",\"\",(SUMIF(DMA!$AO$5:$AO$604,$A190,DMA!$AQ$5:$AQ$603)/DMA!AQ$604))","v":""},{"$f":"IF(A190=\"\",\"\",(SUMIF(DMA!$CQ$5:$CQ$603,$A190,DMA!$CO$5:$CO$603))*0.01)","v":""},{"$f":"IF(B190=\"\",\"\",(SUMIF(DMA!$CQ$5:$CQ$603,$A190,DMA!$CP$5:$CP$603)))","v":""},{"$f":"IF(COUNTIF(DMA!I$5:I$503,Graphs!$A190)>0,Graphs!$A190,\"\")","v":""},{"$f":"IF(E190=\"\",\"\",COUNTIF(DMA!I$5:I$503,Graphs!E190))","v":""},{"$f":"IF(E190=\"\",\"\",SUMIF(DMA!I$5:I$503,Graphs!E190,DMA!J$5:J$503)/COUNTIF(DMA!I$5:I$503,Graphs!E190))","v":""},{"$f":"IF(SUMIF(DMA!B$5:B$503,Graphs!A190,DMA!D$5:D$503)>0,Graphs!A190,\"\")","v":""},{"$f":"IF(H190=\"\",\"\",COUNTIF(DMA!B$5:B$503,Graphs!A190))","v":""},{"$f":"IF(H190=\"\",\"\",10^(-0.7083129+0.297*(SUMIF(DMA!B$5:B$503,Graphs!H190,DMA!D$5:D$503)/COUNTIF(DMA!B$5:B$503,Graphs!H190))))","v":""},{"$f":"IF(COUNTIF(DMA!R$5:R$503,Graphs!$A190)>0,Graphs!$A190,\"\")","v":""},{"$f":"IF(K190=\"\",\"\",COUNTIF(DMA!R$5:R$503,Graphs!A190))","v":""},{"$f":"IF(K190=\"\",\"\",(SUMIF(DMA!R$5:R$503,Graphs!A190,DMA!S$5:S$503)/COUNTIF(DMA!R$5:R$503,Graphs!A190)))","v":""},"",{"$f":"IF(COUNTIF(DMA!M$5:M$503,Graphs!$A190)>0,Graphs!$A190,\"\")","v":""},{"$f":"IF($O190=\"\",\"\",SUMIF(DMA!$M$5:$M$503,Graphs!$O190,DMA!N$5:N$503))","v":""},{"$f":"IF($O190=\"\",\"\",SUMIF(DMA!$M$5:$M$503,Graphs!$O190,DMA!O$5:O$503))","v":""},{"$f":"IF($O190=\"\",\"\",SUMIF(DMA!$M$5:$M$503,Graphs!$O190,DMA!P$5:P$503))","v":""},{"$f":"IF($O190=\"\",\"\",SUMIF(DMA!$M$5:$M$503,Graphs!$O190,DMA!Q$5:Q$503))","v":""},"",{"$f":"IF(O190=\"\",\"\",COUNTIF(DMA!M$5:M$503,Graphs!A190))","v":""},"","","","","","","",null,null,null,null,null,null,null,null,null,null,null,null,null,null,null,null,null,null,null,null,null,null,null,"","","",{"$f":"IF(P190=\"\",\"\",IF(P190=0,\"\",SQRT(SUMIF(DMA!$DJ$5:$DJ$503,Graphs!$O190,DMA!DK$5:DK$503))/COUNTIF(DMA!$DJ$5:$DJ$503,Graphs!$O190)))","v":""},{"$f":"IF(Q190=\"\",\"\",IF(Q190=0,\"\",SQRT(SUMIF(DMA!$DJ$5:$DJ$503,Graphs!$O190,DMA!DL$5:DL$503))/COUNTIF(DMA!$DJ$5:$DJ$503,Graphs!$O190)))","v":""},{"$f":"IF(R190=\"\",\"\",IF(R190=0,\"\",SQRT(SUMIF(DMA!$DJ$5:$DJ$503,Graphs!$O190,DMA!DM$5:DM$503))/COUNTIF(DMA!$DJ$5:$DJ$503,Graphs!$O190)))","v":""},{"$f":"IF($P190=\"\",\"\",IF(P190=0,\"\",AVERAGEIF(DMA!$M$5:$M$503,Graphs!$O190,DMA!N$5:N$503)))","v":""},{"$f":"IF($Q190=\"\",\"\",IF(Q190=0,\"\",AVERAGEIF(DMA!$M$5:$M$503,Graphs!$O190,DMA!O$5:O$503)))","v":""},{"$f":"IF($R190=\"\",\"\",IF(R190=0,\"\",AVERAGEIF(DMA!$M$5:$M$503,Graphs!$O190,DMA!P$5:P$503)))","v":""}]
[null,{"$f":"IF(A191=\"\",\"\",(SUMIF(DMA!$AO$5:$AO$604,$A191,DMA!$AQ$5:$AQ$603)/DMA!AQ$604))","v":""},{"$f":"IF(A191=\"\",\"\",(SUMIF(DMA!$CQ$5:$CQ$603,$A191,DMA!$CO$5:$CO$603))*0.01)","v":""},{"$f":"IF(B191=\"\",\"\",(SUMIF(DMA!$CQ$5:$CQ$603,$A191,DMA!$CP$5:$CP$603)))","v":""},{"$f":"IF(COUNTIF(DMA!I$5:I$503,Graphs!$A191)>0,Graphs!$A191,\"\")","v":""},{"$f":"IF(E191=\"\",\"\",COUNTIF(DMA!I$5:I$503,Graphs!E191))","v":""},{"$f":"IF(E191=\"\",\"\",SUMIF(DMA!I$5:I$503,Graphs!E191,DMA!J$5:J$503)/COUNTIF(DMA!I$5:I$503,Graphs!E191))","v":""},{"$f":"IF(SUMIF(DMA!B$5:B$503,Graphs!A191,DMA!D$5:D$503)>0,Graphs!A191,\"\")","v":""},{"$f":"IF(H191=\"\",\"\",COUNTIF(DMA!B$5:B$503,Graphs!A191))","v":""},{"$f":"IF(H191=\"\",\"\",10^(-0.7083129+0.297*(SUMIF(DMA!B$5:B$503,Graphs!H191,DMA!D$5:D$503)/COUNTIF(DMA!B$5:B$503,Graphs!H191))))","v":""},{"$f":"IF(COUNTIF(DMA!R$5:R$503,Graphs!$A191)>0,Graphs!$A191,\"\")","v":""},{"$f":"IF(K191=\"\",\"\",COUNTIF(DMA!R$5:R$503,Graphs!A191))","v":""},{"$f":"IF(K191=\"\",\"\",(SUMIF(DMA!R$5:R$503,Graphs!A191,DMA!S$5:S$503)/COUNTIF(DMA!R$5:R$503,Graphs!A191)))","v":""},"",{"$f":"IF(COUNTIF(DMA!M$5:M$503,Graphs!$A191)>0,Graphs!$A191,\"\")","v":""},{"$f":"IF($O191=\"\",\"\",SUMIF(DMA!$M$5:$M$503,Graphs!$O191,DMA!N$5:N$503))","v":""},{"$f":"IF($O191=\"\",\"\",SUMIF(DMA!$M$5:$M$503,Graphs!$O191,DMA!O$5:O$503))","v":""},{"$f":"IF($O191=\"\",\"\",SUMIF(DMA!$M$5:$M$503,Graphs!$O191,DMA!P$5:P$503))","v":""},{"$f":"IF($O191=\"\",\"\",SUMIF(DMA!$M$5:$M$503,Graphs!$O191,DMA!Q$5:Q$503))","v":""},"",{"$f":"IF(O191=\"\",\"\",COUNTIF(DMA!M$5:M$503,Graphs!A191))","v":""},"","","","","","","",null,null,null,null,null,null,null,null,null,null,null,null,null,null,null,null,null,null,null,null,null,null,null,"","","",{"$f":"IF(P191=\"\",\"\",IF(P191=0,\"\",SQRT(SUMIF(DMA!$DJ$5:$DJ$503,Graphs!$O191,DMA!DK$5:DK$503))/COUNTIF(DMA!$DJ$5:$DJ$503,Graphs!$O191)))","v":""},{"$f":"IF(Q191=\"\",\"\",IF(Q191=0,\"\",SQRT(SUMIF(DMA!$DJ$5:$DJ$503,Graphs!$O191,DMA!DL$5:DL$503))/COUNTIF(DMA!$DJ$5:$DJ$503,Graphs!$O191)))","v":""},{"$f":"IF(R191=\"\",\"\",IF(R191=0,\"\",SQRT(SUMIF(DMA!$DJ$5:$DJ$503,Graphs!$O191,DMA!DM$5:DM$503))/COUNTIF(DMA!$DJ$5:$DJ$503,Graphs!$O191)))","v":""},{"$f":"IF($P191=\"\",\"\",IF(P191=0,\"\",AVERAGEIF(DMA!$M$5:$M$503,Graphs!$O191,DMA!N$5:N$503)))","v":""},{"$f":"IF($Q191=\"\",\"\",IF(Q191=0,\"\",AVERAGEIF(DMA!$M$5:$M$503,Graphs!$O191,DMA!O$5:O$503)))","v":""},{"$f":"IF($R191=\"\",\"\",IF(R191=0,\"\",AVERAGEIF(DMA!$M$5:$M$503,Graphs!$O191,DMA!P$5:P$503)))","v":""}]
[null,{"$f":"IF(A192=\"\",\"\",(SUMIF(DMA!$AO$5:$AO$604,$A192,DMA!$AQ$5:$AQ$603)/DMA!AQ$604))","v":""},{"$f":"IF(A192=\"\",\"\",(SUMIF(DMA!$CQ$5:$CQ$603,$A192,DMA!$CO$5:$CO$603))*0.01)","v":""},{"$f":"IF(B192=\"\",\"\",(SUMIF(DMA!$CQ$5:$CQ$603,$A192,DMA!$CP$5:$CP$603)))","v":""},{"$f":"IF(COUNTIF(DMA!I$5:I$503,Graphs!$A192)>0,Graphs!$A192,\"\")","v":""},{"$f":"IF(E192=\"\",\"\",COUNTIF(DMA!I$5:I$503,Graphs!E192))","v":""},{"$f":"IF(E192=\"\",\"\",SUMIF(DMA!I$5:I$503,Graphs!E192,DMA!J$5:J$503)/COUNTIF(DMA!I$5:I$503,Graphs!E192))","v":""},{"$f":"IF(SUMIF(DMA!B$5:B$503,Graphs!A192,DMA!D$5:D$503)>0,Graphs!A192,\"\")","v":""},{"$f":"IF(H192=\"\",\"\",COUNTIF(DMA!B$5:B$503,Graphs!A192))","v":""},{"$f":"IF(H192=\"\",\"\",10^(-0.7083129+0.297*(SUMIF(DMA!B$5:B$503,Graphs!H192,DMA!D$5:D$503)/COUNTIF(DMA!B$5:B$503,Graphs!H192))))","v":""},{"$f":"IF(COUNTIF(DMA!R$5:R$503,Graphs!$A192)>0,Graphs!$A192,\"\")","v":""},{"$f":"IF(K192=\"\",\"\",COUNTIF(DMA!R$5:R$503,Graphs!A192))","v":""},{"$f":"IF(K192=\"\",\"\",(SUMIF(DMA!R$5:R$503,Graphs!A192,DMA!S$5:S$503)/COUNTIF(DMA!R$5:R$503,Graphs!A192)))","v":""},"",{"$f":"IF(COUNTIF(DMA!M$5:M$503,Graphs!$A192)>0,Graphs!$A192,\"\")","v":""},{"$f":"IF($O192=\"\",\"\",SUMIF(DMA!$M$5:$M$503,Graphs!$O192,DMA!N$5:N$503))","v":""},{"$f":"IF($O192=\"\",\"\",SUMIF(DMA!$M$5:$M$503,Graphs!$O192,DMA!O$5:O$503))","v":""},{"$f":"IF($O192=\"\",\"\",SUMIF(DMA!$M$5:$M$503,Graphs!$O192,DMA!P$5:P$503))","v":""},{"$f":"IF($O192=\"\",\"\",SUMIF(DMA!$M$5:$M$503,Graphs!$O192,DMA!Q$5:Q$503))","v":""},"",{"$f":"IF(O192=\"\",\"\",COUNTIF(DMA!M$5:M$503,Graphs!A192))","v":""},"","","","","","","",null,null,null,null,null,null,null,null,null,null,null,null,null,null,null,null,null,null,null,null,null,null,null,"","","",{"$f":"IF(P192=\"\",\"\",IF(P192=0,\"\",SQRT(SUMIF(DMA!$DJ$5:$DJ$503,Graphs!$O192,DMA!DK$5:DK$503))/COUNTIF(DMA!$DJ$5:$DJ$503,Graphs!$O192)))","v":""},{"$f":"IF(Q192=\"\",\"\",IF(Q192=0,\"\",SQRT(SUMIF(DMA!$DJ$5:$DJ$503,Graphs!$O192,DMA!DL$5:DL$503))/COUNTIF(DMA!$DJ$5:$DJ$503,Graphs!$O192)))","v":""},{"$f":"IF(R192=\"\",\"\",IF(R192=0,\"\",SQRT(SUMIF(DMA!$DJ$5:$DJ$503,Graphs!$O192,DMA!DM$5:DM$503))/COUNTIF(DMA!$DJ$5:$DJ$503,Graphs!$O192)))","v":""},{"$f":"IF($P192=\"\",\"\",IF(P192=0,\"\",AVERAGEIF(DMA!$M$5:$M$503,Graphs!$O192,DMA!N$5:N$503)))","v":""},{"$f":"IF($Q192=\"\",\"\",IF(Q192=0,\"\",AVERAGEIF(DMA!$M$5:$M$503,Graphs!$O192,DMA!O$5:O$503)))","v":""},{"$f":"IF($R192=\"\",\"\",IF(R192=0,\"\",AVERAGEIF(DMA!$M$5:$M$503,Graphs!$O192,DMA!P$5:P$503)))","v":""}]
[null,{"$f":"IF(A193=\"\",\"\",(SUMIF(DMA!$AO$5:$AO$604,$A193,DMA!$AQ$5:$AQ$603)/DMA!AQ$604))","v":""},{"$f":"IF(A193=\"\",\"\",(SUMIF(DMA!$CQ$5:$CQ$603,$A193,DMA!$CO$5:$CO$603))*0.01)","v":""},{"$f":"IF(B193=\"\",\"\",(SUMIF(DMA!$CQ$5:$CQ$603,$A193,DMA!$CP$5:$CP$603)))","v":""},{"$f":"IF(COUNTIF(DMA!I$5:I$503,Graphs!$A193)>0,Graphs!$A193,\"\")","v":""},{"$f":"IF(E193=\"\",\"\",COUNTIF(DMA!I$5:I$503,Graphs!E193))","v":""},{"$f":"IF(E193=\"\",\"\",SUMIF(DMA!I$5:I$503,Graphs!E193,DMA!J$5:J$503)/COUNTIF(DMA!I$5:I$503,Graphs!E193))","v":""},{"$f":"IF(SUMIF(DMA!B$5:B$503,Graphs!A193,DMA!D$5:D$503)>0,Graphs!A193,\"\")","v":""},{"$f":"IF(H193=\"\",\"\",COUNTIF(DMA!B$5:B$503,Graphs!A193))","v":""},{"$f":"IF(H193=\"\",\"\",10^(-0.7083129+0.297*(SUMIF(DMA!B$5:B$503,Graphs!H193,DMA!D$5:D$503)/COUNTIF(DMA!B$5:B$503,Graphs!H193))))","v":""},{"$f":"IF(COUNTIF(DMA!R$5:R$503,Graphs!$A193)>0,Graphs!$A193,\"\")","v":""},{"$f":"IF(K193=\"\",\"\",COUNTIF(DMA!R$5:R$503,Graphs!A193))","v":""},{"$f":"IF(K193=\"\",\"\",(SUMIF(DMA!R$5:R$503,Graphs!A193,DMA!S$5:S$503)/COUNTIF(DMA!R$5:R$503,Graphs!A193)))","v":""},"",{"$f":"IF(COUNTIF(DMA!M$5:M$503,Graphs!$A193)>0,Graphs!$A193,\"\")","v":""},{"$f":"IF($O193=\"\",\"\",SUMIF(DMA!$M$5:$M$503,Graphs!$O193,DMA!N$5:N$503))","v":""},{"$f":"IF($O193=\"\",\"\",SUMIF(DMA!$M$5:$M$503,Graphs!$O193,DMA!O$5:O$503))","v":""},{"$f":"IF($O193=\"\",\"\",SUMIF(DMA!$M$5:$M$503,Graphs!$O193,DMA!P$5:P$503))","v":""},{"$f":"IF($O193=\"\",\"\",SUMIF(DMA!$M$5:$M$503,Graphs!$O193,DMA!Q$5:Q$503))","v":""},"",{"$f":"IF(O193=\"\",\"\",COUNTIF(DMA!M$5:M$503,Graphs!A193))","v":""},"","","","","","","",null,null,null,null,null,null,null,null,null,null,null,null,null,null,null,null,null,null,null,null,null,null,null,"","","",{"$f":"IF(P193=\"\",\"\",IF(P193=0,\"\",SQRT(SUMIF(DMA!$DJ$5:$DJ$503,Graphs!$O193,DMA!DK$5:DK$503))/COUNTIF(DMA!$DJ$5:$DJ$503,Graphs!$O193)))","v":""},{"$f":"IF(Q193=\"\",\"\",IF(Q193=0,\"\",SQRT(SUMIF(DMA!$DJ$5:$DJ$503,Graphs!$O193,DMA!DL$5:DL$503))/COUNTIF(DMA!$DJ$5:$DJ$503,Graphs!$O193)))","v":""},{"$f":"IF(R193=\"\",\"\",IF(R193=0,\"\",SQRT(SUMIF(DMA!$DJ$5:$DJ$503,Graphs!$O193,DMA!DM$5:DM$503))/COUNTIF(DMA!$DJ$5:$DJ$503,Graphs!$O193)))","v":""},{"$f":"IF($P193=\"\",\"\",IF(P193=0,\"\",AVERAGEIF(DMA!$M$5:$M$503,Graphs!$O193,DMA!N$5:N$503)))","v":""},{"$f":"IF($Q193=\"\",\"\",IF(Q193=0,\"\",AVERAGEIF(DMA!$M$5:$M$503,Graphs!$O193,DMA!O$5:O$503)))","v":""},{"$f":"IF($R193=\"\",\"\",IF(R193=0,\"\",AVERAGEIF(DMA!$M$5:$M$503,Graphs!$O193,DMA!P$5:P$503)))","v":""}]
[null,{"$f":"IF(A194=\"\",\"\",(SUMIF(DMA!$AO$5:$AO$604,$A194,DMA!$AQ$5:$AQ$603)/DMA!AQ$604))","v":""},{"$f":"IF(A194=\"\",\"\",(SUMIF(DMA!$CQ$5:$CQ$603,$A194,DMA!$CO$5:$CO$603))*0.01)","v":""},{"$f":"IF(B194=\"\",\"\",(SUMIF(DMA!$CQ$5:$CQ$603,$A194,DMA!$CP$5:$CP$603)))","v":""},{"$f":"IF(COUNTIF(DMA!I$5:I$503,Graphs!$A194)>0,Graphs!$A194,\"\")","v":""},{"$f":"IF(E194=\"\",\"\",COUNTIF(DMA!I$5:I$503,Graphs!E194))","v":""},{"$f":"IF(E194=\"\",\"\",SUMIF(DMA!I$5:I$503,Graphs!E194,DMA!J$5:J$503)/COUNTIF(DMA!I$5:I$503,Graphs!E194))","v":""},{"$f":"IF(SUMIF(DMA!B$5:B$503,Graphs!A194,DMA!D$5:D$503)>0,Graphs!A194,\"\")","v":""},{"$f":"IF(H194=\"\",\"\",COUNTIF(DMA!B$5:B$503,Graphs!A194))","v":""},{"$f":"IF(H194=\"\",\"\",10^(-0.7083129+0.297*(SUMIF(DMA!B$5:B$503,Graphs!H194,DMA!D$5:D$503)/COUNTIF(DMA!B$5:B$503,Graphs!H194))))","v":""},{"$f":"IF(COUNTIF(DMA!R$5:R$503,Graphs!$A194)>0,Graphs!$A194,\"\")","v":""},{"$f":"IF(K194=\"\",\"\",COUNTIF(DMA!R$5:R$503,Graphs!A194))","v":""},{"$f":"IF(K194=\"\",\"\",(SUMIF(DMA!R$5:R$503,Graphs!A194,DMA!S$5:S$503)/COUNTIF(DMA!R$5:R$503,Graphs!A194)))","v":""},"",{"$f":"IF(COUNTIF(DMA!M$5:M$503,Graphs!$A194)>0,Graphs!$A194,\"\")","v":""},{"$f":"IF($O194=\"\",\"\",SUMIF(DMA!$M$5:$M$503,Graphs!$O194,DMA!N$5:N$503))","v":""},{"$f":"IF($O194=\"\",\"\",SUMIF(DMA!$M$5:$M$503,Graphs!$O194,DMA!O$5:O$503))","v":""},{"$f":"IF($O194=\"\",\"\",SUMIF(DMA!$M$5:$M$503,Graphs!$O194,DMA!P$5:P$503))","v":""},{"$f":"IF($O194=\"\",\"\",SUMIF(DMA!$M$5:$M$503,Graphs!$O194,DMA!Q$5:Q$503))","v":""},"",{"$f":"IF(O194=\"\",\"\",COUNTIF(DMA!M$5:M$503,Graphs!A194))","v":""},"","","","","","","",null,null,null,null,null,null,null,null,null,null,null,null,null,null,null,null,null,null,null,null,null,null,null,"","","",{"$f":"IF(P194=\"\",\"\",IF(P194=0,\"\",SQRT(SUMIF(DMA!$DJ$5:$DJ$503,Graphs!$O194,DMA!DK$5:DK$503))/COUNTIF(DMA!$DJ$5:$DJ$503,Graphs!$O194)))","v":""},{"$f":"IF(Q194=\"\",\"\",IF(Q194=0,\"\",SQRT(SUMIF(DMA!$DJ$5:$DJ$503,Graphs!$O194,DMA!DL$5:DL$503))/COUNTIF(DMA!$DJ$5:$DJ$503,Graphs!$O194)))","v":""},{"$f":"IF(R194=\"\",\"\",IF(R194=0,\"\",SQRT(SUMIF(DMA!$DJ$5:$DJ$503,Graphs!$O194,DMA!DM$5:DM$503))/COUNTIF(DMA!$DJ$5:$DJ$503,Graphs!$O194)))","v":""},{"$f":"IF($P194=\"\",\"\",IF(P194=0,\"\",AVERAGEIF(DMA!$M$5:$M$503,Graphs!$O194,DMA!N$5:N$503)))","v":""},{"$f":"IF($Q194=\"\",\"\",IF(Q194=0,\"\",AVERAGEIF(DMA!$M$5:$M$503,Graphs!$O194,DMA!O$5:O$503)))","v":""},{"$f":"IF($R194=\"\",\"\",IF(R194=0,\"\",AVERAGEIF(DMA!$M$5:$M$503,Graphs!$O194,DMA!P$5:P$503)))","v":""}]
[null,{"$f":"IF(A195=\"\",\"\",(SUMIF(DMA!$AO$5:$AO$604,$A195,DMA!$AQ$5:$AQ$603)/DMA!AQ$604))","v":""},{"$f":"IF(A195=\"\",\"\",(SUMIF(DMA!$CQ$5:$CQ$603,$A195,DMA!$CO$5:$CO$603))*0.01)","v":""},{"$f":"IF(B195=\"\",\"\",(SUMIF(DMA!$CQ$5:$CQ$603,$A195,DMA!$CP$5:$CP$603)))","v":""},{"$f":"IF(COUNTIF(DMA!I$5:I$503,Graphs!$A195)>0,Graphs!$A195,\"\")","v":""},{"$f":"IF(E195=\"\",\"\",COUNTIF(DMA!I$5:I$503,Graphs!E195))","v":""},{"$f":"IF(E195=\"\",\"\",SUMIF(DMA!I$5:I$503,Graphs!E195,DMA!J$5:J$503)/COUNTIF(DMA!I$5:I$503,Graphs!E195))","v":""},{"$f":"IF(SUMIF(DMA!B$5:B$503,Graphs!A195,DMA!D$5:D$503)>0,Graphs!A195,\"\")","v":""},{"$f":"IF(H195=\"\",\"\",COUNTIF(DMA!B$5:B$503,Graphs!A195))","v":""},{"$f":"IF(H195=\"\",\"\",10^(-0.7083129+0.297*(SUMIF(DMA!B$5:B$503,Graphs!H195,DMA!D$5:D$503)/COUNTIF(DMA!B$5:B$503,Graphs!H195))))","v":""},{"$f":"IF(COUNTIF(DMA!R$5:R$503,Graphs!$A195)>0,Graphs!$A195,\"\")","v":""},{"$f":"IF(K195=\"\",\"\",COUNTIF(DMA!R$5:R$503,Graphs!A195))","v":""},{"$f":"IF(K195=\"\",\"\",(SUMIF(DMA!R$5:R$503,Graphs!A195,DMA!S$5:S$503)/COUNTIF(DMA!R$5:R$503,Graphs!A195)))","v":""},"",{"$f":"IF(COUNTIF(DMA!M$5:M$503,Graphs!$A195)>0,Graphs!$A195,\"\")","v":""},{"$f":"IF($O195=\"\",\"\",SUMIF(DMA!$M$5:$M$503,Graphs!$O195,DMA!N$5:N$503))","v":""},{"$f":"IF($O195=\"\",\"\",SUMIF(DMA!$M$5:$M$503,Graphs!$O195,DMA!O$5:O$503))","v":""},{"$f":"IF($O195=\"\",\"\",SUMIF(DMA!$M$5:$M$503,Graphs!$O195,DMA!P$5:P$503))","v":""},{"$f":"IF($O195=\"\",\"\",SUMIF(DMA!$M$5:$M$503,Graphs!$O195,DMA!Q$5:Q$503))","v":""},"",{"$f":"IF(O195=\"\",\"\",COUNTIF(DMA!M$5:M$503,Graphs!A195))","v":""},"","","","","","","",null,null,null,null,null,null,null,null,null,null,null,null,null,null,null,null,null,null,null,null,null,null,null,"","","",{"$f":"IF(P195=\"\",\"\",IF(P195=0,\"\",SQRT(SUMIF(DMA!$DJ$5:$DJ$503,Graphs!$O195,DMA!DK$5:DK$503))/COUNTIF(DMA!$DJ$5:$DJ$503,Graphs!$O195)))","v":""},{"$f":"IF(Q195=\"\",\"\",IF(Q195=0,\"\",SQRT(SUMIF(DMA!$DJ$5:$DJ$503,Graphs!$O195,DMA!DL$5:DL$503))/COUNTIF(DMA!$DJ$5:$DJ$503,Graphs!$O195)))","v":""},{"$f":"IF(R195=\"\",\"\",IF(R195=0,\"\",SQRT(SUMIF(DMA!$DJ$5:$DJ$503,Graphs!$O195,DMA!DM$5:DM$503))/COUNTIF(DMA!$DJ$5:$DJ$503,Graphs!$O195)))","v":""},{"$f":"IF($P195=\"\",\"\",IF(P195=0,\"\",AVERAGEIF(DMA!$M$5:$M$503,Graphs!$O195,DMA!N$5:N$503)))","v":""},{"$f":"IF($Q195=\"\",\"\",IF(Q195=0,\"\",AVERAGEIF(DMA!$M$5:$M$503,Graphs!$O195,DMA!O$5:O$503)))","v":""},{"$f":"IF($R195=\"\",\"\",IF(R195=0,\"\",AVERAGEIF(DMA!$M$5:$M$503,Graphs!$O195,DMA!P$5:P$503)))","v":""}]
[null,{"$f":"IF(A196=\"\",\"\",(SUMIF(DMA!$AO$5:$AO$604,$A196,DMA!$AQ$5:$AQ$603)/DMA!AQ$604))","v":""},{"$f":"IF(A196=\"\",\"\",(SUMIF(DMA!$CQ$5:$CQ$603,$A196,DMA!$CO$5:$CO$603))*0.01)","v":""},{"$f":"IF(B196=\"\",\"\",(SUMIF(DMA!$CQ$5:$CQ$603,$A196,DMA!$CP$5:$CP$603)))","v":""},{"$f":"IF(COUNTIF(DMA!I$5:I$503,Graphs!$A196)>0,Graphs!$A196,\"\")","v":""},{"$f":"IF(E196=\"\",\"\",COUNTIF(DMA!I$5:I$503,Graphs!E196))","v":""},{"$f":"IF(E196=\"\",\"\",SUMIF(DMA!I$5:I$503,Graphs!E196,DMA!J$5:J$503)/COUNTIF(DMA!I$5:I$503,Graphs!E196))","v":""},{"$f":"IF(SUMIF(DMA!B$5:B$503,Graphs!A196,DMA!D$5:D$503)>0,Graphs!A196,\"\")","v":""},{"$f":"IF(H196=\"\",\"\",COUNTIF(DMA!B$5:B$503,Graphs!A196))","v":""},{"$f":"IF(H196=\"\",\"\",10^(-0.7083129+0.297*(SUMIF(DMA!B$5:B$503,Graphs!H196,DMA!D$5:D$503)/COUNTIF(DMA!B$5:B$503,Graphs!H196))))","v":""},{"$f":"IF(COUNTIF(DMA!R$5:R$503,Graphs!$A196)>0,Graphs!$A196,\"\")","v":""},{"$f":"IF(K196=\"\",\"\",COUNTIF(DMA!R$5:R$503,Graphs!A196))","v":""},{"$f":"IF(K196=\"\",\"\",(SUMIF(DMA!R$5:R$503,Graphs!A196,DMA!S$5:S$503)/COUNTIF(DMA!R$5:R$503,Graphs!A196)))","v":""},"",{"$f":"IF(COUNTIF(DMA!M$5:M$503,Graphs!$A196)>0,Graphs!$A196,\"\")","v":""},{"$f":"IF($O196=\"\",\"\",SUMIF(DMA!$M$5:$M$503,Graphs!$O196,DMA!N$5:N$503))","v":""},{"$f":"IF($O196=\"\",\"\",SUMIF(DMA!$M$5:$M$503,Graphs!$O196,DMA!O$5:O$503))","v":""},{"$f":"IF($O196=\"\",\"\",SUMIF(DMA!$M$5:$M$503,Graphs!$O196,DMA!P$5:P$503))","v":""},{"$f":"IF($O196=\"\",\"\",SUMIF(DMA!$M$5:$M$503,Graphs!$O196,DMA!Q$5:Q$503))","v":""},"",{"$f":"IF(O196=\"\",\"\",COUNTIF(DMA!M$5:M$503,Graphs!A196))","v":""},"","","","","","","",null,null,null,null,null,null,null,null,null,null,null,null,null,null,null,null,null,null,null,null,null,null,null,"","","",{"$f":"IF(P196=\"\",\"\",IF(P196=0,\"\",SQRT(SUMIF(DMA!$DJ$5:$DJ$503,Graphs!$O196,DMA!DK$5:DK$503))/COUNTIF(DMA!$DJ$5:$DJ$503,Graphs!$O196)))","v":""},{"$f":"IF(Q196=\"\",\"\",IF(Q196=0,\"\",SQRT(SUMIF(DMA!$DJ$5:$DJ$503,Graphs!$O196,DMA!DL$5:DL$503))/COUNTIF(DMA!$DJ$5:$DJ$503,Graphs!$O196)))","v":""},{"$f":"IF(R196=\"\",\"\",IF(R196=0,\"\",SQRT(SUMIF(DMA!$DJ$5:$DJ$503,Graphs!$O196,DMA!DM$5:DM$503))/COUNTIF(DMA!$DJ$5:$DJ$503,Graphs!$O196)))","v":""},{"$f":"IF($P196=\"\",\"\",IF(P196=0,\"\",AVERAGEIF(DMA!$M$5:$M$503,Graphs!$O196,DMA!N$5:N$503)))","v":""},{"$f":"IF($Q196=\"\",\"\",IF(Q196=0,\"\",AVERAGEIF(DMA!$M$5:$M$503,Graphs!$O196,DMA!O$5:O$503)))","v":""},{"$f":"IF($R196=\"\",\"\",IF(R196=0,\"\",AVERAGEIF(DMA!$M$5:$M$503,Graphs!$O196,DMA!P$5:P$503)))","v":""}]
[null,{"$f":"IF(A197=\"\",\"\",(SUMIF(DMA!$AO$5:$AO$604,$A197,DMA!$AQ$5:$AQ$603)/DMA!AQ$604))","v":""},{"$f":"IF(A197=\"\",\"\",(SUMIF(DMA!$CQ$5:$CQ$603,$A197,DMA!$CO$5:$CO$603))*0.01)","v":""},{"$f":"IF(B197=\"\",\"\",(SUMIF(DMA!$CQ$5:$CQ$603,$A197,DMA!$CP$5:$CP$603)))","v":""},{"$f":"IF(COUNTIF(DMA!I$5:I$503,Graphs!$A197)>0,Graphs!$A197,\"\")","v":""},{"$f":"IF(E197=\"\",\"\",COUNTIF(DMA!I$5:I$503,Graphs!E197))","v":""},{"$f":"IF(E197=\"\",\"\",SUMIF(DMA!I$5:I$503,Graphs!E197,DMA!J$5:J$503)/COUNTIF(DMA!I$5:I$503,Graphs!E197))","v":""},{"$f":"IF(SUMIF(DMA!B$5:B$503,Graphs!A197,DMA!D$5:D$503)>0,Graphs!A197,\"\")","v":""},{"$f":"IF(H197=\"\",\"\",COUNTIF(DMA!B$5:B$503,Graphs!A197))","v":""},{"$f":"IF(H197=\"\",\"\",10^(-0.7083129+0.297*(SUMIF(DMA!B$5:B$503,Graphs!H197,DMA!D$5:D$503)/COUNTIF(DMA!B$5:B$503,Graphs!H197))))","v":""},{"$f":"IF(COUNTIF(DMA!R$5:R$503,Graphs!$A197)>0,Graphs!$A197,\"\")","v":""},{"$f":"IF(K197=\"\",\"\",COUNTIF(DMA!R$5:R$503,Graphs!A197))","v":""},{"$f":"IF(K197=\"\",\"\",(SUMIF(DMA!R$5:R$503,Graphs!A197,DMA!S$5:S$503)/COUNTIF(DMA!R$5:R$503,Graphs!A197)))","v":""},"",{"$f":"IF(COUNTIF(DMA!M$5:M$503,Graphs!$A197)>0,Graphs!$A197,\"\")","v":""},{"$f":"IF($O197=\"\",\"\",SUMIF(DMA!$M$5:$M$503,Graphs!$O197,DMA!N$5:N$503))","v":""},{"$f":"IF($O197=\"\",\"\",SUMIF(DMA!$M$5:$M$503,Graphs!$O197,DMA!O$5:O$503))","v":""},{"$f":"IF($O197=\"\",\"\",SUMIF(DMA!$M$5:$M$503,Graphs!$O197,DMA!P$5:P$503))","v":""},{"$f":"IF($O197=\"\",\"\",SUMIF(DMA!$M$5:$M$503,Graphs!$O197,DMA!Q$5:Q$503))","v":""},"",{"$f":"IF(O197=\"\",\"\",COUNTIF(DMA!M$5:M$503,Graphs!A197))","v":""},"","","","","","","",null,null,null,null,null,null,null,null,null,null,null,null,null,null,null,null,null,null,null,null,null,null,null,"","","",{"$f":"IF(P197=\"\",\"\",IF(P197=0,\"\",SQRT(SUMIF(DMA!$DJ$5:$DJ$503,Graphs!$O197,DMA!DK$5:DK$503))/COUNTIF(DMA!$DJ$5:$DJ$503,Graphs!$O197)))","v":""},{"$f":"IF(Q197=\"\",\"\",IF(Q197=0,\"\",SQRT(SUMIF(DMA!$DJ$5:$DJ$503,Graphs!$O197,DMA!DL$5:DL$503))/COUNTIF(DMA!$DJ$5:$DJ$503,Graphs!$O197)))","v":""},{"$f":"IF(R197=\"\",\"\",IF(R197=0,\"\",SQRT(SUMIF(DMA!$DJ$5:$DJ$503,Graphs!$O197,DMA!DM$5:DM$503))/COUNTIF(DMA!$DJ$5:$DJ$503,Graphs!$O197)))","v":""},{"$f":"IF($P197=\"\",\"\",IF(P197=0,\"\",AVERAGEIF(DMA!$M$5:$M$503,Graphs!$O197,DMA!N$5:N$503)))","v":""},{"$f":"IF($Q197=\"\",\"\",IF(Q197=0,\"\",AVERAGEIF(DMA!$M$5:$M$503,Graphs!$O197,DMA!O$5:O$503)))","v":""},{"$f":"IF($R197=\"\",\"\",IF(R197=0,\"\",AVERAGEIF(DMA!$M$5:$M$503,Graphs!$O197,DMA!P$5:P$503)))","v":""}]
[null,{"$f":"IF(A198=\"\",\"\",(SUMIF(DMA!$AO$5:$AO$604,$A198,DMA!$AQ$5:$AQ$603)/DMA!AQ$604))","v":""},{"$f":"IF(A198=\"\",\"\",(SUMIF(DMA!$CQ$5:$CQ$603,$A198,DMA!$CO$5:$CO$603))*0.01)","v":""},{"$f":"IF(B198=\"\",\"\",(SUMIF(DMA!$CQ$5:$CQ$603,$A198,DMA!$CP$5:$CP$603)))","v":""},{"$f":"IF(COUNTIF(DMA!I$5:I$503,Graphs!$A198)>0,Graphs!$A198,\"\")","v":""},{"$f":"IF(E198=\"\",\"\",COUNTIF(DMA!I$5:I$503,Graphs!E198))","v":""},{"$f":"IF(E198=\"\",\"\",SUMIF(DMA!I$5:I$503,Graphs!E198,DMA!J$5:J$503)/COUNTIF(DMA!I$5:I$503,Graphs!E198))","v":""},{"$f":"IF(SUMIF(DMA!B$5:B$503,Graphs!A198,DMA!D$5:D$503)>0,Graphs!A198,\"\")","v":""},{"$f":"IF(H198=\"\",\"\",COUNTIF(DMA!B$5:B$503,Graphs!A198))","v":""},{"$f":"IF(H198=\"\",\"\",10^(-0.7083129+0.297*(SUMIF(DMA!B$5:B$503,Graphs!H198,DMA!D$5:D$503)/COUNTIF(DMA!B$5:B$503,Graphs!H198))))","v":""},{"$f":"IF(COUNTIF(DMA!R$5:R$503,Graphs!$A198)>0,Graphs!$A198,\"\")","v":""},{"$f":"IF(K198=\"\",\"\",COUNTIF(DMA!R$5:R$503,Graphs!A198))","v":""},{"$f":"IF(K198=\"\",\"\",(SUMIF(DMA!R$5:R$503,Graphs!A198,DMA!S$5:S$503)/COUNTIF(DMA!R$5:R$503,Graphs!A198)))","v":""},"",{"$f":"IF(COUNTIF(DMA!M$5:M$503,Graphs!$A198)>0,Graphs!$A198,\"\")","v":""},{"$f":"IF($O198=\"\",\"\",SUMIF(DMA!$M$5:$M$503,Graphs!$O198,DMA!N$5:N$503))","v":""},{"$f":"IF($O198=\"\",\"\",SUMIF(DMA!$M$5:$M$503,Graphs!$O198,DMA!O$5:O$503))","v":""},{"$f":"IF($O198=\"\",\"\",SUMIF(DMA!$M$5:$M$503,Graphs!$O198,DMA!P$5:P$503))","v":""},{"$f":"IF($O198=\"\",\"\",SUMIF(DMA!$M$5:$M$503,Graphs!$O198,DMA!Q$5:Q$503))","v":""},"",{"$f":"IF(O198=\"\",\"\",COUNTIF(DMA!M$5:M$503,Graphs!A198))","v":""},"","","","","","","",null,null,null,null,null,null,null,null,null,null,null,null,null,null,null,null,null,null,null,null,null,null,null,"","","",{"$f":"IF(P198=\"\",\"\",IF(P198=0,\"\",SQRT(SUMIF(DMA!$DJ$5:$DJ$503,Graphs!$O198,DMA!DK$5:DK$503))/COUNTIF(DMA!$DJ$5:$DJ$503,Graphs!$O198)))","v":""},{"$f":"IF(Q198=\"\",\"\",IF(Q198=0,\"\",SQRT(SUMIF(DMA!$DJ$5:$DJ$503,Graphs!$O198,DMA!DL$5:DL$503))/COUNTIF(DMA!$DJ$5:$DJ$503,Graphs!$O198)))","v":""},{"$f":"IF(R198=\"\",\"\",IF(R198=0,\"\",SQRT(SUMIF(DMA!$DJ$5:$DJ$503,Graphs!$O198,DMA!DM$5:DM$503))/COUNTIF(DMA!$DJ$5:$DJ$503,Graphs!$O198)))","v":""},{"$f":"IF($P198=\"\",\"\",IF(P198=0,\"\",AVERAGEIF(DMA!$M$5:$M$503,Graphs!$O198,DMA!N$5:N$503)))","v":""},{"$f":"IF($Q198=\"\",\"\",IF(Q198=0,\"\",AVERAGEIF(DMA!$M$5:$M$503,Graphs!$O198,DMA!O$5:O$503)))","v":""},{"$f":"IF($R198=\"\",\"\",IF(R198=0,\"\",AVERAGEIF(DMA!$M$5:$M$503,Graphs!$O198,DMA!P$5:P$503)))","v":""}]
[null,{"$f":"IF(A199=\"\",\"\",(SUMIF(DMA!$AO$5:$AO$604,$A199,DMA!$AQ$5:$AQ$603)/DMA!AQ$604))","v":""},{"$f":"IF(A199=\"\",\"\",(SUMIF(DMA!$CQ$5:$CQ$603,$A199,DMA!$CO$5:$CO$603))*0.01)","v":""},{"$f":"IF(B199=\"\",\"\",(SUMIF(DMA!$CQ$5:$CQ$603,$A199,DMA!$CP$5:$CP$603)))","v":""},{"$f":"IF(COUNTIF(DMA!I$5:I$503,Graphs!$A199)>0,Graphs!$A199,\"\")","v":""},{"$f":"IF(E199=\"\",\"\",COUNTIF(DMA!I$5:I$503,Graphs!E199))","v":""},{"$f":"IF(E199=\"\",\"\",SUMIF(DMA!I$5:I$503,Graphs!E199,DMA!J$5:J$503)/COUNTIF(DMA!I$5:I$503,Graphs!E199))","v":""},{"$f":"IF(SUMIF(DMA!B$5:B$503,Graphs!A199,DMA!D$5:D$503)>0,Graphs!A199,\"\")","v":""},{"$f":"IF(H199=\"\",\"\",COUNTIF(DMA!B$5:B$503,Graphs!A199))","v":""},{"$f":"IF(H199=\"\",\"\",10^(-0.7083129+0.297*(SUMIF(DMA!B$5:B$503,Graphs!H199,DMA!D$5:D$503)/COUNTIF(DMA!B$5:B$503,Graphs!H199))))","v":""},{"$f":"IF(COUNTIF(DMA!R$5:R$503,Graphs!$A199)>0,Graphs!$A199,\"\")","v":""},{"$f":"IF(K199=\"\",\"\",COUNTIF(DMA!R$5:R$503,Graphs!A199))","v":""},{"$f":"IF(K199=\"\",\"\",(SUMIF(DMA!R$5:R$503,Graphs!A199,DMA!S$5:S$503)/COUNTIF(DMA!R$5:R$503,Graphs!A199)))","v":""},"",{"$f":"IF(COUNTIF(DMA!M$5:M$503,Graphs!$A199)>0,Graphs!$A199,\"\")","v":""},{"$f":"IF($O199=\"\",\"\",SUMIF(DMA!$M$5:$M$503,Graphs!$O199,DMA!N$5:N$503))","v":""},{"$f":"IF($O199=\"\",\"\",SUMIF(DMA!$M$5:$M$503,Graphs!$O199,DMA!O$5:O$503))","v":""},{"$f":"IF($O199=\"\",\"\",SUMIF(DMA!$M$5:$M$503,Graphs!$O199,DMA!P$5:P$503))","v":""},{"$f":"IF($O199=\"\",\"\",SUMIF(DMA!$M$5:$M$503,Graphs!$O199,DMA!Q$5:Q$503))","v":""},"",{"$f":"IF(O199=\"\",\"\",COUNTIF(DMA!M$5:M$503,Graphs!A199))","v":""},"","","","","","","",null,null,null,null,null,null,null,null,null,null,null,null,null,null,null,null,null,null,null,null,null,null,null,"","","",{"$f":"IF(P199=\"\",\"\",IF(P199=0,\"\",SQRT(SUMIF(DMA!$DJ$5:$DJ$503,Graphs!$O199,DMA!DK$5:DK$503))/COUNTIF(DMA!$DJ$5:$DJ$503,Graphs!$O199)))","v":""},{"$f":"IF(Q199=\"\",\"\",IF(Q199=0,\"\",SQRT(SUMIF(DMA!$DJ$5:$DJ$503,Graphs!$O199,DMA!DL$5:DL$503))/COUNTIF(DMA!$DJ$5:$DJ$503,Graphs!$O199)))","v":""},{"$f":"IF(R199=\"\",\"\",IF(R199=0,\"\",SQRT(SUMIF(DMA!$DJ$5:$DJ$503,Graphs!$O199,DMA!DM$5:DM$503))/COUNTIF(DMA!$DJ$5:$DJ$503,Graphs!$O199)))","v":""},{"$f":"IF($P199=\"\",\"\",IF(P199=0,\"\",AVERAGEIF(DMA!$M$5:$M$503,Graphs!$O199,DMA!N$5:N$503)))","v":""},{"$f":"IF($Q199=\"\",\"\",IF(Q199=0,\"\",AVERAGEIF(DMA!$M$5:$M$503,Graphs!$O199,DMA!O$5:O$503)))","v":""},{"$f":"IF($R199=\"\",\"\",IF(R199=0,\"\",AVERAGEIF(DMA!$M$5:$M$503,Graphs!$O199,DMA!P$5:P$503)))","v":""}]
[null,null,null,null,null,null,null,null,null,null,null,null,null,{"$f":"SUM(N13:N199)","v":0}]
[]
[]
[null,null,null,null,null,null,null,null,null,null,null,null,null,null,"WOODY AGE Class - All Woody Species"]
[null,null,null,null,null,null,null,null,null,null,null,null,null,null,"Statistic","Seedlings","Young","Mature","Rhizom-atous*"]
[null,null,null,null,null,null,null,null,null,null,null,null,null,null,"Mean ",{"$f":"AVERAGE(DMA!N5:N503)","v":{"$error":"#DIV/0!"}},{"$f":"AVERAGE(DMA!O5:O503)","v":{"$error":"#DIV/0!"}},{"$f":"AVERAGE(DMA!P5:P503)","v":{"$error":"#DIV/0!"}},{"$f":"AVERAGE(DMA!Q5:Q503)","v":{"$error":"#DIV/0!"}}]
[null,null,null,null,null,null,null,null,null,null,null,null,null,null,"Standard Deviation",{"$f":"STDEV(DMA!N5:N503)","v":{"$error":"#DIV/0!"}},{"$f":"STDEV(DMA!O5:O503)","v":{"$error":"#DIV/0!"}},{"$f":"STDEV(DMA!P5:P503)","v":{"$error":"#DIV/0!"}},{"$f":"STDEV(DMA!Q5:Q503)","v":{"$error":"#DIV/0!"}}]
[null,null,null,null,null,null,null,null,null,null,null,null,null,null,"Count",{"$f":"COUNT(DMA!N5:N503)","v":0},{"$f":"COUNT(DMA!O5:O503)","v":0},{"$f":"COUNT(DMA!P5:P503)","v":0},{"$f":"COUNT(DMA!Q5:Q503)","v":0}]
[null,null,null,null,null,null,null,null,null,null,null,null,null,null,"Confidence",{"$f":"IF(P207=0,\"\",CONFIDENCE(0.05,P206,P207))","v":""},{"$f":"IF(Q207=0,\"\",CONFIDENCE(0.05,Q206,Q207))","v":""},{"$f":"IF(R207=0,\"\",CONFIDENCE(0.05,R206,R207))","v":""},{"$f":"IF(S207=0,\"\",CONFIDENCE(0.05,S206,S207))","v":""}]

{"sheet":"Codes","index":7,"n_rows":60,"n_cols":22,"rows_kept":60,"cut":false,"hidden":false,"merged":[[45,0,45,6]]}
["CODES: "]
["ECOLOGICAL STATUS CODES",null,null,null,null,null,null,null,null,null,null,"WOODY SPECIES AGE CLASSES",null,null,null,null,null,null,null,null,"About this version"]
["Slope Class (Gradient)",null,null,null,null,null,null,null,null,null,null,null,null,null,null,null,null,null,null,null,"Updated:","March, 2019"]
["Is recorded as % slope.   ",null,null,null,null,null,null,null,null,null,null,null,null,null,null,null,null,null,null,null,"Update includes:","Addition of several new metrics in the Data Summary Table"]
["Flat meadow streams = < .5%",null,null,null,null,null,null,null,null,null,null,null,null,null,null,null,null,null,null,null,null,"Added additional information about the 95% CI for Observer variation"]
["Well- drained meadows = .5 - 2%",null,null,null,null,null,null,null,null,null,null,null,null,null,null,null,null,null,null,null,null,"Updated the BLM website URL"]
["\"B\" type channels: 2-4%",null,null,null,null,null,null,null,null,null,null,null,null,null,null,null,null,null,null,null,null,"Updated the sample size table in the header worksheet."]
["\"A\" channels:  >4%",null,null,null,null,null,null,null,null,null,null,null,null,null,null,null,null,null,null,null,null,"A new stubble height analysis table was developed"]
[null,null,null,null,null,null,null,null,null,null,null,null,null,null,null,null,null,null,null,null,null,"Updated sample size estimates using the latest \"margin of error\" estimators"]
[null,null,null,null,null,null,null,null,null,null,null,null,null,null,null,null,null,null,null,null,null,"Added the Macro for populating the plant lists from previous samples"]
["Substrate Class (Dominant)",null,null,null,null,null,null,null,null,null,null,null,null,null,null,null,null,null,null,null,null,"   \"Import plant list\" in the Instructions tab."]
["Code","Type of substrate",null,null,"Definition"]
["bd","Boulder/bedrock",null,null,"> 10 inches",null,null,null,null,null,null,null,null,null,null,null,null,null,null,null,"Back"]
["cons","Consolidated silt/clay/sand",null,null,", Strongly compacted, cohesive,"]
[null," cemented particles"]
["cb","Cobble",null,null,"2.5 - 10 inches"]
["gr","Gravel",null,null,".08 - 2.5 inches"]
["nonc","Non-consolidated silt/clay/sand",null,null,"Uncompacted silt, clay, or sand"]
[]
["Capability Groups (Winward 2000, page 34)"]
[]
["Gradient","Substrate","Group","% late seral"]
["<.5","gr","I","98+%"]
[null,"cb","I","98+%"]
[null,"cons","I","98+%"]
[null,"nonc","II","90+ %"]
[".5 - 2.0","gr","III","90+%"]
[null,"cb","III","90+%"]
[null,"cons","III","90+%"]
[null,"nonc","IV","85+%"]
["2.0 - 4.0","gr","V","85+%"]
[null,"cb","V","85+%"]
[null,"cons","V","85+%"]
[null,"nonc","VI","80+%"]
["4.0 - 10","nonc","VII","80+%"]
[null,"gr","VIII","85+%"]
[null,"cons","VIII","85+%"]
[null,"cb","IX","95+%"]
[null,"bd","IX","95+%"]
[">10","bd","X","98+%"]
[]
[]
[]
[]
["SHRUB OR TREE HEIGHT CODES"]
["1 = 0 - .5 m,    2 = .5 - 1 m,    3 = 1 - 2 m,    4 = 2 - 4 m,                      5 = 4 - 8 m,    6 > 8 m"]
[]
["STREAMBANK STABILITY CODES"]
["TYPE of BANK"]
["E =  Erosional    - All banks not associated with bars   "]
["D = Depositional - Any bank containing a sand or gravel bar"]
["BANK COVER"]
["C= Covered    - Mostly covered by vegetation, rock, logs"]
["U= Uncovered  -  Mostly not covered by vegetation, rocks, logs"]
["FEATURES OF INSTABILITY"]
["F = Fracture   -  Crack visibly obvious on the bank"]
["S = Slump    -  Block of bank breaking or sliding down bank into stream"]
["SL = Slough   -  \"Sluff\" material moving down bank or into stream"]
["E = Eroding   -  Usually steep and bare faced actively eroding"]
[" A = Absent  -  No features of instability are present"]

{"sheet":"Calcs","index":8,"n_rows":28,"n_cols":4,"rows_kept":28,"cut":false,"hidden":false,"merged":[]}
[]
[]
[]
[null,"Sample Size Estimator"]
[null,"n = (Zæ)2(s)2 / (B)2"]
[null,"Where:"]
[]
[null,"n = The sample size estimate."]
[null,"Zæ = The standard normal coefficient from the table below."]
[null,"s =The standard deviation."]
[null,"B = The desired precision level expressed as half of the maximum acceptable confidence interval width. "]
[null,"This needs to be specified in absolute terms rather than as a percentage. For example, if you wanted your confidence "]
[null,"to be within 30% of your sample mean and your sample mean = 10 then B = (0.30 x 10) = 3.0."]
[null,"Table of standard normal deviates (Zæ) for various confidence levels"]
[null,"Confidence level","Alpha (æ) level","(Zæ)"]
[null,0.8,0.2,1.28]
[null,0.85,0.15,1.49]
[null,0.9,0.1,1.64]
[null,0.95,0.05,1.96]
[null,0.99,0.01,2.58]
[null,"Some variables, notably bank alteration, do not fit a normal probability"]
[null,"Distribution. In this case add 15% to the sample size estimate (Erich Lehman, Univ California Berkley, 2006)."]
[]
[]
[]
[null,null," "]
[null,null," "]
[null,null," "]

{"sheet":"PLANTS","index":9,"n_rows":604,"n_cols":21,"rows_kept":604,"cut":false,"hidden":false,"merged":[]}
["WESTERN MOUNTAINS AND VALLEYS",null,null,null,null,null,null,null,null,"BUILD PLANT LIST FOR DMA",null,null,null,"DMA","     KEY SPECIES",null,null,"Key Species list from previous sample"]
[" Species","Scientific - Common Name","Woody?","Hydric?","Herb?","Forb?","Wetland Rating","Successional Status","Winward stability rating","POTENTIAL Key Species Herb","POTENTIALKey Species Woody","      PLANTS BY COMMON NAME",null,"PLANT LIST","STUBBLE HEIGHT","WOODY USE",null,"STUBBLE HEIGHT","FREQUENCY","WOODY USE","FREQUENCY"]
[" IGNORE",null,null,"",null,null,null,null,null,{"$f":"IF(G3>25,IF(E3=\"y\",IF(F3=\"\",A3,\"\"),\"\"),\"\")","v":""},{"$f":"IF(C3 = \"y\", IF(D3=\"y\",A3,\"\"),\"\")","v":""},"RHAMNUS ALNIFOLIA "," Alderleaf buckthorn",{"$f":"IF(Graphs!A13=\"\",\"\",Graphs!A13)","v":""},null,null,null,{"$f":"Graphs!E13","v":""},{"$f":"Graphs!F13","v":""},{"$f":"Graphs!K13","v":""},{"$f":"Graphs!L13","v":""}]
[" QUIT",null,null,"",null,null,null,null,null,"","","SPARTINA GRACILIS "," Alkali cordgrass",{"$f":"IF(Graphs!A14=\"\",\"\",Graphs!A14)","v":""},null,null,null,{"$f":"Graphs!E14","v":""},{"$f":"Graphs!F14","v":""},{"$f":"Graphs!K14","v":""},{"$f":"Graphs!L14","v":""}]
["ACCI","ACER CIRCINATUM - Vine maple","y",null,null,null,50,"E",5,"","","MUHLENBERGIA ASPERIFOLIA "," Alkali muhly",{"$f":"IF(Graphs!A15=\"\",\"\",Graphs!A15)","v":""},null,null,null,{"$f":"Graphs!E15","v":""},{"$f":"Graphs!F15","v":""},{"$f":"Graphs!K15","v":""},{"$f":"Graphs!L15","v":""}]
["ACCO2","ACACIA CONSTRICTA - Whitethorn acacia","y",null,null,null,50,"M",5,"","","PLANTAGO ERIOPODA "," Alkali plantain",{"$f":"IF(Graphs!A16=\"\",\"\",Graphs!A16)","v":""},null,null,null,{"$f":"Graphs!E16","v":""},{"$f":"Graphs!F16","v":""},{"$f":"Graphs!K16","v":""},{"$f":"Graphs!L16","v":""}]
["ACCO4","ACONITUM COLUMBIANUM - Columbian monkshood",null,null,"y","y",75,"L",5,"","","SPOROBOLUS AIROIDES "," Alkali sacaton",{"$f":"IF(Graphs!A17=\"\",\"\",Graphs!A17)","v":""},null,null," ",{"$f":"Graphs!E17","v":""},{"$f":"Graphs!F17","v":""},{"$f":"Graphs!K17","v":""},{"$f":"Graphs!L17","v":""}]
["ACER","ACER SPP. - Maple spp.","y",null,null,null,25,"M",5,"","","POLYGONUM BISTORTOIDES "," American bistort",{"$f":"IF(Graphs!A18=\"\",\"\",Graphs!A18)","v":""},null,null,null,{"$f":"Graphs!E18","v":""},{"$f":"Graphs!F18","v":""},{"$f":"Graphs!K18","v":""},{"$f":"Graphs!L18","v":""}]
["ACGL","ACER GLABRUM - Rocky Mountain Maple","y",null,null,null,50,"M",5,"","","RIBES AMERICANUM "," American black currant",{"$f":"IF(Graphs!A19=\"\",\"\",Graphs!A19)","v":""},null,null,null,{"$f":"Graphs!E19","v":""},{"$f":"Graphs!F19","v":""},{"$f":"Graphs!K19","v":""},{"$f":"Graphs!L19","v":""}]
["ACGR","ACACIA GREGGII - Catclaw acacia","y",null,null,null,25,"E",5,"","","ULMUS AMERICANA "," American Elm",{"$f":"IF(Graphs!A20=\"\",\"\",Graphs!A20)","v":""},null,null,null,{"$f":"Graphs!E20","v":""},{"$f":"Graphs!F20","v":""},{"$f":"Graphs!K20","v":""},{"$f":"Graphs!L20","v":""}]
["ACGR3","ACER GRANDIDENTATUM - Big tooth maple","y",null,null,null,25,"L",5,"","","GLYCYRRHIZA LEPIDOTA "," American licorice",{"$f":"IF(Graphs!A21=\"\",\"\",Graphs!A21)","v":""},null,null,null,{"$f":"Graphs!E21","v":""},{"$f":"Graphs!F21","v":""},{"$f":"Graphs!K21","v":""},{"$f":"Graphs!L21","v":""}]
["ACHNA","ACHNATHERUM Spp. - Needlegrass (STIPA)",null,null,"y",null,25,"E",2,"","","GLYCERIA GRANDIS "," American mannagrass",{"$f":"IF(Graphs!A22=\"\",\"\",Graphs!A22)","v":""},null,null,null,{"$f":"Graphs!E22","v":""},{"$f":"Graphs!F22","v":""},{"$f":"Graphs!K22","v":""},{"$f":"Graphs!L22","v":""}]
["ACMA3","ACER MACROPHYLLUM - Big leaf maple","y",null,null,null,50,"M",5,"","","PRUNUS AMERICANA "," American plum",{"$f":"IF(Graphs!A23=\"\",\"\",Graphs!A23)","v":""},null,null,null,{"$f":"Graphs!E23","v":""},{"$f":"Graphs!F23","v":""},{"$f":"Graphs!K23","v":""},{"$f":"Graphs!L23","v":""}]
["ACMI2","ACHILLEA MILLEFOLIUM - Common yarrow",null,null,"y","y",25,"E",2,"","","RUBUS IDAEUS "," American red raspberry",{"$f":"IF(Graphs!A24=\"\",\"\",Graphs!A24)","v":""},null,null,null,{"$f":"Graphs!E24","v":""},{"$f":"Graphs!F24","v":""},{"$f":"Graphs!K24","v":""},{"$f":"Graphs!L24","v":""}]
["ACNE2","ACER NEGUNDO - Boxelder","y","y",null,null,75,"L",8.5,"","ACNE2","BECKMANNIA SYZIGACHNE "," American sloughgrass",{"$f":"IF(Graphs!A25=\"\",\"\",Graphs!A25)","v":""},null,null,null,{"$f":"Graphs!E25","v":""},{"$f":"Graphs!F25","v":""},{"$f":"Graphs!K25","v":""},{"$f":"Graphs!L25","v":""}]
["ACNE9","ACHNATHERUM NELSONII - Columbia needlegrass (STCO3)",null,null,"y",null,25,"E",2,"","","VERONICA AMERICANA "," American speedwell",{"$f":"IF(Graphs!A26=\"\",\"\",Graphs!A26)","v":""},null,null,null,{"$f":"Graphs!E26","v":""},{"$f":"Graphs!F26","v":""},{"$f":"Graphs!K26","v":""},{"$f":"Graphs!L26","v":""}]
["ACRU2","ACTAEA RUBRA - Baneberry",null,"","y","y",50,"E",2,"","","VICIA AMERICANA "," American vetch",{"$f":"IF(Graphs!A27=\"\",\"\",Graphs!A27)","v":""},null,null,null,{"$f":"Graphs!E27","v":""},{"$f":"Graphs!F27","v":""},{"$f":"Graphs!K27","v":""},{"$f":"Graphs!L27","v":""}]
["AGFO","AGASTACHE FOENICULUM - Blue giant hyssop",null,"","y","y",0,"M",5,"","","LYCOPUS AMERICANUS "," American water horehound",{"$f":"IF(Graphs!A28=\"\",\"\",Graphs!A28)","v":""},null,null,null,{"$f":"Graphs!E28","v":""},{"$f":"Graphs!F28","v":""},{"$f":"Graphs!K28","v":""},{"$f":"Graphs!L28","v":""}]
["AGGI2","AGROSTIS GIGANTEA - Redtop",null,"y","y",null,75,"E",2,"AGGI2","","WOOD  "," Anchored Wood",{"$f":"IF(Graphs!A29=\"\",\"\",Graphs!A29)","v":""},null,null,null,{"$f":"Graphs!E29","v":""},{"$f":"Graphs!F29","v":""},{"$f":"Graphs!K29","v":""},{"$f":"Graphs!L29","v":""}]
["AGGR2","AGRIMONIA GRYPOSEPALA - Tall hairy agrimony",null,"y","y","y",50,"M",5,"","","POLYPOGON  MONSPELIENSIS "," Annual rabbitsfoot grass",{"$f":"IF(Graphs!A30=\"\",\"\",Graphs!A30)","v":""},null,null,null,{"$f":"Graphs!E30","v":""},{"$f":"Graphs!F30","v":""},{"$f":"Graphs!K30","v":""},{"$f":"Graphs!L30","v":""}]
["AGRE2","AGROPYRON REPENS - Quackgrass (ELRE2)",null,null,"y",null,50,"E",2,"AGRE2","","ALNUS OBLONGIFOLIA "," Arizona alder",{"$f":"IF(Graphs!A31=\"\",\"\",Graphs!A31)","v":""},null,null,null,{"$f":"Graphs!E31","v":""},{"$f":"Graphs!F31","v":""},{"$f":"Graphs!K31","v":""},{"$f":"Graphs!L31","v":""}]
["AGSC5","AGROSTIS SCABRA - Rough Bentgrass",null,null,"y",null,50,"E",2,"AGSC5","","PLATANUS WRIGHTII "," Arizona Sycamore",{"$f":"IF(Graphs!A32=\"\",\"\",Graphs!A32)","v":""},null,null,null,{"$f":"Graphs!E32","v":""},{"$f":"Graphs!F32","v":""},{"$f":"Graphs!K32","v":""},{"$f":"Graphs!L32","v":""}]
["AGSM","AGROPYRON SMITHII - Western Wheatgrass (PASM)",null,null,"y",null,50,"M",5,"AGSM","","JUGLANS MAJOR "," Arizona walnut",{"$f":"IF(Graphs!A33=\"\",\"\",Graphs!A33)","v":""},null,null,null,{"$f":"Graphs!E33","v":""},{"$f":"Graphs!F33","v":""},{"$f":"Graphs!K33","v":""},{"$f":"Graphs!L33","v":""}]
["AGST","AGRIMONIA STRIATA - Roadside agimony",null,"","y","y",25,"M",8.5,"","","SENECIO TRIANGULARIS "," Arrowleaf ragwort",{"$f":"IF(Graphs!A34=\"\",\"\",Graphs!A34)","v":""},null,null,null,{"$f":"Graphs!E34","v":""},{"$f":"Graphs!F34","v":""},{"$f":"Graphs!K34","v":""},{"$f":"Graphs!L34","v":""}]
["AGST2","AGROSTIS STOLONIFERA - Creeping bentgrass",null,"y","y",null,75,"E",2,"AGST2","","PLACHEA SERICEA "," Arrowweed",{"$f":"IF(Graphs!A35=\"\",\"\",Graphs!A35)","v":""},null,null,null,{"$f":"Graphs!E35","v":""},{"$f":"Graphs!F35","v":""},{"$f":"Graphs!K35","v":""},{"$f":"Graphs!L35","v":""}]
["AGUR","AGASTACHE URTICIFOLIA  - Needleleaf giant hyssop",null,"","y","y",25,"E",2,"","","SALIX LASIOLEPIS "," Arroyo willow",{"$f":"IF(Graphs!A36=\"\",\"\",Graphs!A36)","v":""},null,null,null,{"$f":"Graphs!E36","v":""},{"$f":"Graphs!F36","v":""},{"$f":"Graphs!K36","v":""},{"$f":"Graphs!L36","v":""}]
["ALAE","ALOPECURUS AEQUALIS - Short-awned foxtail",null,"y","y",null,100,"E",2,"ALAE","","JUNCUS ARCTICUS "," Artic rush (JUBA)",{"$f":"IF(Graphs!A37=\"\",\"\",Graphs!A37)","v":""},null,null,null,{"$f":"Graphs!E37","v":""},{"$f":"Graphs!F37","v":""},{"$f":"Graphs!K37","v":""},{"$f":"Graphs!L37","v":""}]
["ALAR","ALOPECURUS ARUNDINACEUS - Creeping meadow foxgrass",null,"y","y",null,100,"E",2,"ALAR","","SAGITTARIA CUNEATA "," Arumleaf arrowhead",{"$f":"IF(Graphs!A38=\"\",\"\",Graphs!A38)","v":""},null,null,null,{"$f":"Graphs!E38","v":""},{"$f":"Graphs!F38","v":""},{"$f":"Graphs!K38","v":""},{"$f":"Graphs!L38","v":""}]
["ALGE2","ALOPECURUS GENICULATUS - Water Foxtail",null,"y","y",null,100,"E",2,"ALGE2","","ASTER SPP. "," Aster",{"$f":"IF(Graphs!A39=\"\",\"\",Graphs!A39)","v":""},null,null,null,{"$f":"Graphs!E39","v":""},{"$f":"Graphs!F39","v":""},{"$f":"Graphs!K39","v":""},{"$f":"Graphs!L39","v":""}]
["ALIN2","ALNUS INCANA - Mountain Alder","y","y",null,null,75,"L",8.5,"","ALIN2","EURYBIA SPP. "," Aster Spp.",{"$f":"IF(Graphs!A40=\"\",\"\",Graphs!A40)","v":""},null,null,null,{"$f":"Graphs!E40","v":""},{"$f":"Graphs!F40","v":""},{"$f":"Graphs!K40","v":""},{"$f":"Graphs!L40","v":""}]
["ALOB2","ALNUS OBLONGIFOLIA - Arizona alder","y","y",null,null,75,"L",8.5,"","ALOB2","SYMPHYOTRICHUM Spp. "," Aster Spp. ",{"$f":"IF(Graphs!A41=\"\",\"\",Graphs!A41)","v":""},null,null,null,{"$f":"Graphs!E41","v":""},{"$f":"Graphs!F41","v":""},{"$f":"Graphs!K41","v":""},{"$f":"Graphs!L41","v":""}]
["ALOC2","ALLENROLFEA OCCICENTALIS - Iodine Bush","y","y",null,null,75,"M",5,"","ALOC2","ASTRAGALUS Spp "," Astragalus",{"$f":"IF(Graphs!A42=\"\",\"\",Graphs!A42)","v":""},null,null,null,{"$f":"Graphs!E42","v":""},{"$f":"Graphs!F42","v":""},{"$f":"Graphs!K42","v":""},{"$f":"Graphs!L42","v":""}]
["ALOPE","ALOPECURUS SPP. - Foxtail",null,null,"y",null,75,"E",2,"ALOPE","","GEUM SPP "," Avens species",{"$f":"IF(Graphs!A43=\"\",\"\",Graphs!A43)","v":""},null,null,null,{"$f":"Graphs!E43","v":""},{"$f":"Graphs!F43","v":""},{"$f":"Graphs!K43","v":""},{"$f":"Graphs!L43","v":""}]
["ALPR3","ALOPECURUS PRETENSIS - Meadow Foxtail",null,"y","y",null,75,"E",5,"ALPR3","","CAREX STIPATA "," Awlfruit sedge",{"$f":"IF(Graphs!A44=\"\",\"\",Graphs!A44)","v":""},null,null,null,{"$f":"Graphs!E44","v":""},{"$f":"Graphs!F44","v":""},{"$f":"Graphs!K44","v":""},{"$f":"Graphs!L44","v":""}]
["ALVI5","ALNUS VIRIDIS - Green alder (ALSI3)","y","y",null,null,75,"L",8.5,"","ALVI5","JUNCUS BALTICUS "," Baltic rush (JUAR2)",{"$f":"IF(Graphs!A45=\"\",\"\",Graphs!A45)","v":""},null,null,null,{"$f":"Graphs!E45","v":""},{"$f":"Graphs!F45","v":""},{"$f":"Graphs!K45","v":""},{"$f":"Graphs!L45","v":""}]
["AMAL2","AMELANCHIER ALNIFOLIA - Serviceberry","y",null,null,null,25,"M",5,"","","ACTAEA RUBRA "," Baneberry",{"$f":"IF(Graphs!A46=\"\",\"\",Graphs!A46)","v":""},null,null,null,{"$f":"Graphs!E46","v":""},{"$f":"Graphs!F46","v":""},{"$f":"Graphs!K46","v":""},{"$f":"Graphs!L46","v":""}]
["AMFR","AMORPHA FRUTICOSA - False Indigo","y","y",null,null,75,"M",5,"","AMFR","ARTEMISIA TRIDENTATA   "," Basin big sagebrush",{"$f":"IF(Graphs!A47=\"\",\"\",Graphs!A47)","v":""},null,null,null,{"$f":"Graphs!E47","v":""},{"$f":"Graphs!F47","v":""},{"$f":"Graphs!K47","v":""},{"$f":"Graphs!L47","v":""}]
["AMNA","AMORPHA NANA - Dwarf wild indigo","y",null,null,null,25,"E",5,"","","LEYMUS CINEREUS "," Basin Wildrye (ELCI2)",{"$f":"IF(Graphs!A48=\"\",\"\",Graphs!A48)","v":""},null,null,null,{"$f":"Graphs!E48","v":""},{"$f":"Graphs!F48","v":""},{"$f":"Graphs!K48","v":""},{"$f":"Graphs!L48","v":""}]
["ANCA10","ANEMOPSIS CALIFORNICA - Yerba mansa",null,"y","y","y",100,"M",5,"","","ELYMUS CINEREUS "," Basin Wildrye (LECI4)",{"$f":"IF(Graphs!A49=\"\",\"\",Graphs!A49)","v":""},null,null,null,{"$f":"Graphs!E49","v":""},{"$f":"Graphs!F49","v":""},{"$f":"Graphs!K49","v":""},{"$f":"Graphs!L49","v":""}]
["ANGE","ANDROPOGON GERARDII - Big bluestem",null,null,"y",null,25,"E",2,"","","CORYLUS CORNUTA "," Beaked hazelnut",{"$f":"IF(Graphs!A50=\"\",\"\",Graphs!A50)","v":""},null,null,null,{"$f":"Graphs!E50","v":""},{"$f":"Graphs!F50","v":""},{"$f":"Graphs!K50","v":""},{"$f":"Graphs!L50","v":""}]
["ANKI","ANGELICA KINGII - King's  angelica",null,"y","y","y",75,"M",5,"","","CAREX ROSTRATA "," Beaked sedge",{"$f":"IF(Graphs!A51=\"\",\"\",Graphs!A51)","v":""},null,null,null,{"$f":"Graphs!E51","v":""},{"$f":"Graphs!F51","v":""},{"$f":"Graphs!K51","v":""},{"$f":"Graphs!L51","v":""}]
["ANRO2","ANTENNARIA ROSEA - Rosy pussytoes",null,null,"y","y",25,"E",2,"","","ELEOCHARIS ROSTELLATA "," Beaked spikerush",{"$f":"IF(Graphs!A52=\"\",\"\",Graphs!A52)","v":""},null,null,null,{"$f":"Graphs!E52","v":""},{"$f":"Graphs!F52","v":""},{"$f":"Graphs!K52","v":""},{"$f":"Graphs!L52","v":""}]
["ANTHO","ANTHOCEROTOPHYTA - Hornworts",null,"y",null,null,100,"L",2,"","","ARCTOSTAPHYLOS UVA-URSI "," Bearberry",{"$f":"IF(Graphs!A53=\"\",\"\",Graphs!A53)","v":""},null,null,null,{"$f":"Graphs!E53","v":""},{"$f":"Graphs!F53","v":""},{"$f":"Graphs!K53","v":""},{"$f":"Graphs!L53","v":""}]
["APCA","APOCYNUM CANNABINUM - Indianhemp",null,null,"y","y",50,"E",2,"","","POLYPOGON VIRIDIS "," Beardless Rabbitsfoot grass",{"$f":"IF(Graphs!A54=\"\",\"\",Graphs!A54)","v":""},null,null,null,{"$f":"Graphs!E54","v":""},{"$f":"Graphs!F54","v":""},{"$f":"Graphs!K54","v":""},{"$f":"Graphs!L54","v":""}]
["AQFO","AQUILEGIA FORMOSA - Western columbine",null,null,"y","y",50,"E",2,"","","LEYMUS TRITICOIDES "," Beardless wildrye (ELTR3)",{"$f":"IF(Graphs!A55=\"\",\"\",Graphs!A55)","v":""},null,null,null,{"$f":"Graphs!E55","v":""},{"$f":"Graphs!F55","v":""},{"$f":"Graphs!K55","v":""},{"$f":"Graphs!L55","v":""}]
["ARAN7","ARGENTINA ANSERINA - Silverweed cinquefoil (POAN5)",null,"y","y","y",100,"E",2,"","","SALIX BEBBIANA "," Bebb willow",{"$f":"IF(Graphs!A56=\"\",\"\",Graphs!A56)","v":""},null,null,null,{"$f":"Graphs!E56","v":""},{"$f":"Graphs!F56","v":""},{"$f":"Graphs!K56","v":""},{"$f":"Graphs!L56","v":""}]
["ARCA13","ARTEMISIA CANA - Silver sagebrush","y",null,null,null,25,"M",2,"","","GALIUM SPP "," Bedstraw",{"$f":"IF(Graphs!A57=\"\",\"\",Graphs!A57)","v":""},null,null,null,{"$f":"Graphs!E57","v":""},{"$f":"Graphs!F57","v":""},{"$f":"Graphs!K57","v":""},{"$f":"Graphs!L57","v":""}]
["ARCH3","ARNICA CHAMISSONIS - Chamisso arnica",null,"y","y","y",75,"M",5,"","","CYNODON DACTYLON "," Bermuda grass",{"$f":"IF(Graphs!A58=\"\",\"\",Graphs!A58)","v":""},null,null,null,{"$f":"Graphs!E58","v":""},{"$f":"Graphs!F58","v":""},{"$f":"Graphs!K58","v":""},{"$f":"Graphs!L58","v":""}]
["ARCO9","ARNICA CORDIFOLIA - Heartleaf arnica",null,null,"y","y",25,"M",2,"","","ANDROPOGON GERARDII "," Big bluestem",{"$f":"IF(Graphs!A59=\"\",\"\",Graphs!A59)","v":""},null,null,null,{"$f":"Graphs!E59","v":""},{"$f":"Graphs!F59","v":""},{"$f":"Graphs!K59","v":""},{"$f":"Graphs!L59","v":""}]
["ARCTI","ARCTIUM SPP - Burdock species",null,"","y","y",0,"M",2,"","","ACER MACROPHYLLUM "," Big leaf maple",{"$f":"IF(Graphs!A60=\"\",\"\",Graphs!A60)","v":""},null,null,null,{"$f":"Graphs!E60","v":""},{"$f":"Graphs!F60","v":""},{"$f":"Graphs!K60","v":""},{"$f":"Graphs!L60","v":""}]
["ARDO4","ARUNDO DONAX - Giant reed",null,"y","y",null,75,"E",8.5,"ARDO4","","SPOROBOLUS WRIGHTII "," Big sacaton",{"$f":"IF(Graphs!A61=\"\",\"\",Graphs!A61)","v":""},null,null,null,{"$f":"Graphs!E61","v":""},{"$f":"Graphs!F61","v":""},{"$f":"Graphs!K61","v":""},{"$f":"Graphs!L61","v":""}]
["ARLU","ARTEMISIA LUDOVICIANA - White sagebrush",null,null,"y","y",25,"E",2,"","","ATRIPLEX LENTIFORMIS "," Big saltbrush",{"$f":"IF(Graphs!A62=\"\",\"\",Graphs!A62)","v":""},null,null,null,{"$f":"Graphs!E62","v":""},{"$f":"Graphs!F62","v":""},{"$f":"Graphs!K62","v":""},{"$f":"Graphs!L62","v":""}]
["ARMI2","ARCTIUM MINUS - Common burdock",null,null,"y","y",25,"E",2,"","","ACER GRANDIDENTATUM "," Big tooth maple",{"$f":"IF(Graphs!A63=\"\",\"\",Graphs!A63)","v":""},null,null,null,{"$f":"Graphs!E63","v":""},{"$f":"Graphs!F63","v":""},{"$f":"Graphs!K63","v":""},{"$f":"Graphs!L63","v":""}]
["ARTR2","ARTEMISIA TRIDENTATA   - Basin big sagebrush","y",null,null,null,0,"E",2,"","","CAREX AMPLIFOLIA "," Bigleaf sedge",{"$f":"IF(Graphs!A64=\"\",\"\",Graphs!A64)","v":""},null,null,null,{"$f":"Graphs!E64","v":""},{"$f":"Graphs!F64","v":""},{"$f":"Graphs!K64","v":""},{"$f":"Graphs!L64","v":""}]
["ARUV","ARCTOSTAPHYLOS UVA-URSI - Bearberry","y","",null,null,25,"E",2,"","","PRUNUS EMARGINATA "," Bitter cherry",{"$f":"IF(Graphs!A65=\"\",\"\",Graphs!A65)","v":""},null,null,null,{"$f":"Graphs!E65","v":""},{"$f":"Graphs!F65","v":""},{"$f":"Graphs!K65","v":""},{"$f":"Graphs!L65","v":""}]
["ASCH2","ASTER CHILENSIS - Western Aster (SYCH4)",null,null,"y","y",50,"M",2,"","","POPULUS TRICOCARPA "," Black cottonwood (POBA2)",{"$f":"IF(Graphs!A66=\"\",\"\",Graphs!A66)","v":""},null,null,null,{"$f":"Graphs!E66","v":""},{"$f":"Graphs!F66","v":""},{"$f":"Graphs!K66","v":""},{"$f":"Graphs!L66","v":""}]
["ASFO","ASTER FOLIACEUM - Leafy aster (SYFO2)",null,null,"y","y",0,"E",2,"","","POPULUS BALSAMIFERA "," Black cottonwood (POTR15)",{"$f":"IF(Graphs!A67=\"\",\"\",Graphs!A67)","v":""},null,null,null,{"$f":"Graphs!E67","v":""},{"$f":"Graphs!F67","v":""},{"$f":"Graphs!K67","v":""},{"$f":"Graphs!L67","v":""}]
["ASHE","ASTER HESPERIUS - Marsh aster (SYLA6)",null,"y","y","y",100,"L",5,"","","SAMBUCUS NIGRA "," Black Elderberry",{"$f":"IF(Graphs!A68=\"\",\"\",Graphs!A68)","v":""},null,null,null,{"$f":"Graphs!E68","v":""},{"$f":"Graphs!F68","v":""},{"$f":"Graphs!K68","v":""},{"$f":"Graphs!L68","v":""}]
["ASIN3","ASTER INTEGRIFOLIUS - Thickstem Aster (EUIN9)",null,null,"y","y",25,"E",2,"","","CRATAEGUS DOUGLASII "," Black hawthorn",{"$f":"IF(Graphs!A69=\"\",\"\",Graphs!A69)","v":""},null,null,null,{"$f":"Graphs!E69","v":""},{"$f":"Graphs!F69","v":""},{"$f":"Graphs!K69","v":""},{"$f":"Graphs!L69","v":""}]
["ASOC","ASTER OCCIDENTALIS - Western mountain aster (SYSP)",null,null,"y","y",50,"E",2,"","","MEDICAGO LUPULINA "," Black medick",{"$f":"IF(Graphs!A70=\"\",\"\",Graphs!A70)","v":""},null,null,null,{"$f":"Graphs!E70","v":""},{"$f":"Graphs!F70","v":""},{"$f":"Graphs!K70","v":""},{"$f":"Graphs!L70","v":""}]
["ASTER","ASTER SPP. - Aster",null,null,"y","y",25,"E",2,"","","LONICERA INVOLUCRATA "," Black Twinberry",{"$f":"IF(Graphs!A71=\"\",\"\",Graphs!A71)","v":""},null,null,null,{"$f":"Graphs!E71","v":""},{"$f":"Graphs!F71","v":""},{"$f":"Graphs!K71","v":""},{"$f":"Graphs!L71","v":""}]
["ASTRA","ASTRAGALUS Spp - ",null,null,"y","y",25,"E",2,"","","RUBUS SPP "," Blackberry species",{"$f":"IF(Graphs!A72=\"\",\"\",Graphs!A72)","v":""},null,null,null,{"$f":"Graphs!E72","v":""},{"$f":"Graphs!F72","v":""},{"$f":"Graphs!K72","v":""},{"$f":"Graphs!L72","v":""}]
["ATCA2","ATRIPLEX CONESCENS - Fourwing saltbrush","y",null,null,null,25,"E",2,"","","RUDBECKIA HIRTA "," Blackeyed susan",{"$f":"IF(Graphs!A73=\"\",\"\",Graphs!A73)","v":""},null,null,null,{"$f":"Graphs!E73","v":""},{"$f":"Graphs!F73","v":""},{"$f":"Graphs!K73","v":""},{"$f":"Graphs!L73","v":""}]
["ATLE","ATRIPLEX LENTIFORMIS - Big saltbrush","y",null,null,null,50,"M",5,"","","SCIRPUS ATROCINCTUS "," Blackgirdle bulrush",{"$f":"IF(Graphs!A74=\"\",\"\",Graphs!A74)","v":""},null,null,null,{"$f":"Graphs!E74","v":""},{"$f":"Graphs!F74","v":""},{"$f":"Graphs!K74","v":""},{"$f":"Graphs!L74","v":""}]
["BAEM","BACCHARIS EMORYI - Emory's baccharis","y","y",null,null,75,"L",8.5,"","BAEM","CAREX VESICARIA "," Blister sedge",{"$f":"IF(Graphs!A75=\"\",\"\",Graphs!A75)","v":""},null,null,null,{"$f":"Graphs!E75","v":""},{"$f":"Graphs!F75","v":""},{"$f":"Graphs!K75","v":""},{"$f":"Graphs!L75","v":""}]
["BASA4","BACCHARIS SALICIFOLIA - Willow Baccharis","y","y",null,null,75,"L",8.5,"","BASA4","AGASTACHE FOENICULUM "," Blue giant hyssop",{"$f":"IF(Graphs!A76=\"\",\"\",Graphs!A76)","v":""},null,null,null,{"$f":"Graphs!E76","v":""},{"$f":"Graphs!F76","v":""},{"$f":"Graphs!K76","v":""},{"$f":"Graphs!L76","v":""}]
["BASC5","BASIA SCOPARIA - Burning bush (KOSC)",null,null,"y","y",50,"E",2,{"$f":"IF(G67>25,IF(E67=\"y\",IF(F67=\"\",A67,\"\"),\"\"),\"\")","v":""},{"$f":"IF(C67 = \"y\", IF(D67=\"y\",A67,\"\"),\"\")","v":""},"CALAMAGROSTIS CANADENSIS "," Blue joint reedgrass",{"$f":"IF(Graphs!A77=\"\",\"\",Graphs!A77)","v":""},null,null,null,{"$f":"Graphs!E77","v":""},{"$f":"Graphs!F77","v":""},{"$f":"Graphs!K77","v":""},{"$f":"Graphs!L77","v":""}]
["BEER","BERULA ERECTA - Cut-leaf water parsnip",null,"y","y","y",100,"L",5,"","","POA SPP "," Bluegrass species",{"$f":"IF(Graphs!A78=\"\",\"\",Graphs!A78)","v":""},null,null,null,{"$f":"Graphs!E78","v":""},{"$f":"Graphs!F78","v":""},{"$f":"Graphs!K78","v":""},{"$f":"Graphs!L78","v":""}]
["BEGL","BETULA GLANDULOSA - Resin birch","y","y",null,null,100,"L",8.5,"","BEGL","BETULA PUMULA "," Bog Birch",{"$f":"IF(Graphs!A79=\"\",\"\",Graphs!A79)","v":""},null,null,null,{"$f":"Graphs!E79","v":""},{"$f":"Graphs!F79","v":""},{"$f":"Graphs!K79","v":""},{"$f":"Graphs!L79","v":""}]
["BEOC2","BETULA OCCIDENTALIS - Water birch","y","y",null,null,75,"L",8.5,"","BEOC2","KALMIA MICROPHYLLA "," Bog Laurel",{"$f":"IF(Graphs!A80=\"\",\"\",Graphs!A80)","v":""},null,null,null,{"$f":"Graphs!E80","v":""},{"$f":"Graphs!F80","v":""},{"$f":"Graphs!K80","v":""},{"$f":"Graphs!L80","v":""}]
["BEPA","BETULA PAPYRIFERA - Paper birch","y",null,null,null,50,"M",5,"","","CAREX BOLANDERI "," Bolander's sedge",{"$f":"IF(Graphs!A81=\"\",\"\",Graphs!A81)","v":""},null,null,null,{"$f":"Graphs!E81","v":""},{"$f":"Graphs!F81","v":""},{"$f":"Graphs!K81","v":""},{"$f":"Graphs!L81","v":""}]
["BEPU4","BETULA PUMULA - Bog Birch","y","y",null,null,100,"L",8.5,"","BEPU4","SALIX BONPLANDIANA "," Bonpland willow",{"$f":"IF(Graphs!A82=\"\",\"\",Graphs!A82)","v":""},null,null,null,{"$f":"Graphs!E82","v":""},{"$f":"Graphs!F82","v":""},{"$f":"Graphs!K82","v":""},{"$f":"Graphs!L82","v":""}]
["BESY","BECKMANNIA SYZIGACHNE - American sloughgrass",null,"y","y",null,100,"E",2,"BESY","","SALIX BOOTHII "," Booth's willow",{"$f":"IF(Graphs!A83=\"\",\"\",Graphs!A83)","v":""},null,null,null,{"$f":"Graphs!E83","v":""},{"$f":"Graphs!F83","v":""},{"$f":"Graphs!K83","v":""},{"$f":"Graphs!L83","v":""}]
["BOBA3","BOTHRIOCHLOA BARBINODIS - Cane Bluestem",null,null,0,null,0,"M",5,"","","CAREX HYSTERICINA "," Bottlebrush sedge",{"$f":"IF(Graphs!A84=\"\",\"\",Graphs!A84)","v":""},null,null,null,{"$f":"Graphs!E84","v":""},{"$f":"Graphs!F84","v":""},{"$f":"Graphs!K84","v":""},{"$f":"Graphs!L84","v":""}]
["BRIN2","BROMUS INERMIS - Smooth brome",null,null,"y",null,25,"E",2,"","","ACER NEGUNDO "," Boxelder",{"$f":"IF(Graphs!A85=\"\",\"\",Graphs!A85)","v":""},null,null,null,{"$f":"Graphs!E85","v":""},{"$f":"Graphs!F85","v":""},{"$f":"Graphs!K85","v":""},{"$f":"Graphs!L85","v":""}]
["BRMA4","BROMUS MARGINATUS - Mountain brome",null,null,"y",null,25,"E",2,"","","CAREX LEPTALEA "," Bristlystalked sedge",{"$f":"IF(Graphs!A86=\"\",\"\",Graphs!A86)","v":""},null,null,null,{"$f":"Graphs!E86","v":""},{"$f":"Graphs!F86","v":""},{"$f":"Graphs!K86","v":""},{"$f":"Graphs!L86","v":""}]
["CAAM10","CAREX AMPLIFOLIA - Bigleaf sedge",null,"y","y",null,100,"L",8.5,"CAAM10","","TYPHA LATIFOLIA "," Broadleaf Cattail",{"$f":"IF(Graphs!A87=\"\",\"\",Graphs!A87)","v":""},null,null,null,{"$f":"Graphs!E87","v":""},{"$f":"Graphs!F87","v":""},{"$f":"Graphs!K87","v":""},{"$f":"Graphs!L87","v":""}]
["CAAQ","CAREX AQUATILIS - Water sedge",null,"y","y",null,100,"L",8.5,"CAAQ","","SAXIFRAGA ODONTOLOMA "," Brook saxifrage",{"$f":"IF(Graphs!A88=\"\",\"\",Graphs!A88)","v":""},null,null,null,{"$f":"Graphs!E88","v":""},{"$f":"Graphs!F88","v":""},{"$f":"Graphs!K88","v":""},{"$f":"Graphs!L88","v":""}]
["CAAQ3","CATABROSA AQUATICA - Water whorlgrass",null,"y","y",null,100,"E",2,"CAAQ3","","CAREX SUBFUSCA "," Brown sedge",{"$f":"IF(Graphs!A89=\"\",\"\",Graphs!A89)","v":""},null,null,null,{"$f":"Graphs!E89","v":""},{"$f":"Graphs!F89","v":""},{"$f":"Graphs!K89","v":""},{"$f":"Graphs!L89","v":""}]
["CAAT2","CAREX ATHERODES - Wheat sedge",null,"y","y",null,100,"L",8.5,"CAAT2","","MENYANTHES TRIFOLIATA "," Buckbean",{"$f":"IF(Graphs!A90=\"\",\"\",Graphs!A90)","v":""},null,null,null,{"$f":"Graphs!E90","v":""},{"$f":"Graphs!F90","v":""},{"$f":"Graphs!K90","v":""},{"$f":"Graphs!L90","v":""}]
["CAAT3","CAREX ATHROSTACHYA - Slenderbeak sedge",null,"y","y",null,75,"L",2,"CAAT3","","RIBES ODORATUM "," Buffalo currant (RIAU)",{"$f":"IF(Graphs!A91=\"\",\"\",Graphs!A91)","v":""},null,null,null,{"$f":"Graphs!E91","v":""},{"$f":"Graphs!F91","v":""},{"$f":"Graphs!K91","v":""},{"$f":"Graphs!L91","v":""}]
["CAAU3","CAREX AUREA - Golden sedge",null,"y","y",null,100,"M",5,"CAAU3","","SCHOENOPLECTUS Spp. "," Bulrush species",{"$f":"IF(Graphs!A92=\"\",\"\",Graphs!A92)","v":""},null,null,null,{"$f":"Graphs!E92","v":""},{"$f":"Graphs!F92","v":""},{"$f":"Graphs!K92","v":""},{"$f":"Graphs!L92","v":""}]
["CABE3","CAREX BELLA - Southwest showy sedge",null,null,"y",null,25,"L",2,"","","SCIRPUS SPP "," Bulrush species",{"$f":"IF(Graphs!A93=\"\",\"\",Graphs!A93)","v":""},null,null,null,{"$f":"Graphs!E93","v":""},{"$f":"Graphs!F93","v":""},{"$f":"Graphs!K93","v":""},{"$f":"Graphs!L93","v":""}]
["CABO2","CAREX BOLANDERI - Bolander's sedge",null,null,"y",null,50,"M",2,"CABO2","","CORNUS CANADENSIS "," Bunchberry dogwood",{"$f":"IF(Graphs!A94=\"\",\"\",Graphs!A94)","v":""},null,null,null,{"$f":"Graphs!E94","v":""},{"$f":"Graphs!F94","v":""},{"$f":"Graphs!K94","v":""},{"$f":"Graphs!L94","v":""}]
["CABR10","CAREX BREVIOR - Shortbeak sedge",null,null,"y",null,50,"E",2,"CABR10","","QUERCUS MACROCARPA "," Bur oak",{"$f":"IF(Graphs!A95=\"\",\"\",Graphs!A95)","v":""},null,null,null,{"$f":"Graphs!E95","v":""},{"$f":"Graphs!F95","v":""},{"$f":"Graphs!K95","v":""},{"$f":"Graphs!L95","v":""}]
["CACA11","CAREX CANESCENS - Gray sedge",null,"y","y",null,100,"M",2,"CACA11","","ARCTIUM SPP "," Burdock species",{"$f":"IF(Graphs!A96=\"\",\"\",Graphs!A96)","v":""},null,null,null,{"$f":"Graphs!E96","v":""},{"$f":"Graphs!F96","v":""},{"$f":"Graphs!K96","v":""},{"$f":"Graphs!L96","v":""}]
["CACA12","CAREX CAPILLARIS - Hairlike sedge",null,"y","y",null,75,"M",2,"CACA12","","BASIA SCOPARIA "," Burning bush (KOSC)",{"$f":"IF(Graphs!A97=\"\",\"\",Graphs!A97)","v":""},null,null,null,{"$f":"Graphs!E97","v":""},{"$f":"Graphs!F97","v":""},{"$f":"Graphs!K97","v":""},{"$f":"Graphs!L97","v":""}]
["CACA4","CALAMAGROSTIS CANADENSIS - Blue-joint reedgrass",null,"y","y",null,75,"L",8.5,"CACA4","","RANUNCULUS SPP. "," Buttercup",{"$f":"IF(Graphs!A98=\"\",\"\",Graphs!A98)","v":""},null,null,null,{"$f":"Graphs!E98","v":""},{"$f":"Graphs!F98","v":""},{"$f":"Graphs!K98","v":""},{"$f":"Graphs!L98","v":""}]
["CACU2","CAMASSIA CUSICKII - Cusick's camas",null,"y","y","y",75,"M",2,"","","VERATRUM CALIFORNICUM "," California false hellebore",{"$f":"IF(Graphs!A99=\"\",\"\",Graphs!A99)","v":""},null,null,null,{"$f":"Graphs!E99","v":""},{"$f":"Graphs!F99","v":""},{"$f":"Graphs!K99","v":""},{"$f":"Graphs!L99","v":""}]
["CACU4","CAREX CURATORUM - Kaibab sedge",null,"y","y",null,75,"L",2,"CACU4","","LYTHRUM CALIFORNICUM "," California loosestrife",{"$f":"IF(Graphs!A100=\"\",\"\",Graphs!A100)","v":""},null,null,null,{"$f":"Graphs!E100","v":""},{"$f":"Graphs!F100","v":""},{"$f":"Graphs!K100","v":""},{"$f":"Graphs!L100","v":""}]
["CADE9","CAREX DEWEYANA - Dewey sedge",null,"y","y",null,25,"M",2,"","","DANTHONIA CALIFORNICA "," California oatgrass",{"$f":"IF(Graphs!A101=\"\",\"\",Graphs!A101)","v":""},null,null,null,{"$f":"Graphs!E101","v":""},{"$f":"Graphs!F101","v":""},{"$f":"Graphs!K101","v":""},{"$f":"Graphs!L101","v":""}]
["CADI6","CAREX DISPERMA - Softleaf sedge",null,"y","y",null,100,"L",5,"CADI6","","POA COMPRESSA "," Canada bluegrass",{"$f":"IF(Graphs!A102=\"\",\"\",Graphs!A102)","v":""},null,null,null,{"$f":"Graphs!E102","v":""},{"$f":"Graphs!F102","v":""},{"$f":"Graphs!K102","v":""},{"$f":"Graphs!L102","v":""}]
["CADO2","CAREX DOUGLASII - Douglas' sedge",null,null,"y",null,50,"M",2,"CADO2","","SOLIDAGO CANADENSIS "," Canada goldenrod",{"$f":"IF(Graphs!A103=\"\",\"\",Graphs!A103)","v":""},null,null,null,{"$f":"Graphs!E103","v":""},{"$f":"Graphs!F103","v":""},{"$f":"Graphs!K103","v":""},{"$f":"Graphs!L103","v":""}]
["CADU6","CAREX DURIUSCULA - Needleaf sedge",null,null,"y",null,25,"E",5,"","","CIRSIUM ARVENSE "," Canada thistle",{"$f":"IF(Graphs!A104=\"\",\"\",Graphs!A104)","v":""},null,null,null,{"$f":"Graphs!E104","v":""},{"$f":"Graphs!F104","v":""},{"$f":"Graphs!K104","v":""},{"$f":"Graphs!L104","v":""}]
["CAFI","CAREX FILIFOLIA - Threadleaf sedge",null,null,null,null,0,"E",2,"","","VIOLA CANADENSIS "," Canada violet",{"$f":"IF(Graphs!A105=\"\",\"\",Graphs!A105)","v":""},null,null,null,{"$f":"Graphs!E105","v":""},{"$f":"Graphs!F105","v":""},{"$f":"Graphs!K105","v":""},{"$f":"Graphs!L105","v":""}]
["CAGE","CAREX GEOPHILA - White Mountain sedge",null,null,"y",null,25,"M",2,"","","ELYMUS CANADENSIS "," Canada wildrye",{"$f":"IF(Graphs!A106=\"\",\"\",Graphs!A106)","v":""},null,null,null,{"$f":"Graphs!E106","v":""},{"$f":"Graphs!F106","v":""},{"$f":"Graphs!K106","v":""},{"$f":"Graphs!L106","v":""}]
["CAGR4","CAREX GRAVIDA - Heavy Sedge",null,"y","y",null,75,"M",2,"CAGR4","","BOTHRIOCHLOA BARBINODIS "," Cane Bluestem",{"$f":"IF(Graphs!A107=\"\",\"\",Graphs!A107)","v":""},null,null,null,{"$f":"Graphs!E107","v":""},{"$f":"Graphs!F107","v":""},{"$f":"Graphs!K107","v":""},{"$f":"Graphs!L107","v":""}]
["CAHA5","CAREX HASSEI - Salt sedge",null,"y","y",null,75,"M",2,"CAHA5","","LOBELIA CARDINALIS "," Cardinal flower",{"$f":"IF(Graphs!A108=\"\",\"\",Graphs!A108)","v":""},null,null,null,{"$f":"Graphs!E108","v":""},{"$f":"Graphs!F108","v":""},{"$f":"Graphs!K108","v":""},{"$f":"Graphs!L108","v":""}]
["CAHE8","CAREX HETERONEURA - Different-nerved sedge",null,null,"y",null,50,"M",2,"CAHE8","","ACACIA GREGGII "," Catclaw acacia",{"$f":"IF(Graphs!A109=\"\",\"\",Graphs!A109)","v":""},null,null,null,{"$f":"Graphs!E109","v":""},{"$f":"Graphs!F109","v":""},{"$f":"Graphs!K109","v":""},{"$f":"Graphs!L109","v":""}]
["CAHY4","CAREX HYSTERICINA - Bottlebrush sedge",null,"y","y",null,100,"L",5,"CAHY4","","TYPHA SPP "," Cattail species",{"$f":"IF(Graphs!A110=\"\",\"\",Graphs!A110)","v":""},null,null,null,{"$f":"Graphs!E110","v":""},{"$f":"Graphs!F110","v":""},{"$f":"Graphs!K110","v":""},{"$f":"Graphs!L110","v":""}]
["CAIN11","CAREX INTERIOR - Inland sedge",null,"y","y",null,100,"M",2,"CAIN11","","CEANOTHUS SPP "," Ceanothus species",{"$f":"IF(Graphs!A111=\"\",\"\",Graphs!A111)","v":""},null,null,null,{"$f":"Graphs!E111","v":""},{"$f":"Graphs!F111","v":""},{"$f":"Graphs!K111","v":""},{"$f":"Graphs!L111","v":""}]
["CALA11","CAREX LASIOCARPA - Wooly-fruit sedge",null,"y","y",null,100,"L",5,"CALA11","","SCHOENOPLECTUS AMERICANUS "," Chairmaker's bulrush (SCAM2)",{"$f":"IF(Graphs!A112=\"\",\"\",Graphs!A112)","v":""},null,null,null,{"$f":"Graphs!E112","v":""},{"$f":"Graphs!F112","v":""},{"$f":"Graphs!K112","v":""},{"$f":"Graphs!L112","v":""}]
["CALA30","CAREX LANUGINOSA - Wooly sedge (CAPE42)",null,"y","y",null,100,"L",8.5,"CALA30","","SCIRPUS AMERICANUS "," Chairmaker's bulrush (SCAM6)",{"$f":"IF(Graphs!A113=\"\",\"\",Graphs!A113)","v":""},null,null,null,{"$f":"Graphs!E113","v":""},{"$f":"Graphs!F113","v":""},{"$f":"Graphs!K113","v":""},{"$f":"Graphs!L113","v":""}]
["CALE10","CAREX LEPTALEA - Bristlystalked sedge",null,"y","y",null,100,"M",5,"CALE10","","ARNICA CHAMISSONIS "," Chamisso arnica",{"$f":"IF(Graphs!A114=\"\",\"\",Graphs!A114)","v":""},null,null,null,{"$f":"Graphs!E114","v":""},{"$f":"Graphs!F114","v":""},{"$f":"Graphs!K114","v":""},{"$f":"Graphs!L114","v":""}]
["CALE24","CAREX LEPTOPODA - Taperfruit shortscale sedge",null,null,"y",null,50,"M",2,"CALE24","","PRUNUS VIRGINIA "," Chokecherry",{"$f":"IF(Graphs!A115=\"\",\"\",Graphs!A115)","v":""},null,null,null,{"$f":"Graphs!E115","v":""},{"$f":"Graphs!F115","v":""},{"$f":"Graphs!K115","v":""},{"$f":"Graphs!L115","v":""}]
["CALE4","CALTHA LEPTOSEPALA - White marsh marigold",null,"y","y","y",100,"L",2,"","","SOLANUM DULCAMARA "," Climbing nightshade",{"$f":"IF(Graphs!A116=\"\",\"\",Graphs!A116)","v":""},null,null,null,{"$f":"Graphs!E116","v":""},{"$f":"Graphs!F116","v":""},{"$f":"Graphs!K116","v":""},{"$f":"Graphs!L116","v":""}]
["CALE8","CAREX LENTICULARIS - Tufted sedge",null,"y","y",null,100,"L",2,"CALE8","","SCIRPUS PALLIDUS "," Cloaked bulrush",{"$f":"IF(Graphs!A117=\"\",\"\",Graphs!A117)","v":""},null,null,null,{"$f":"Graphs!E117","v":""},{"$f":"Graphs!F117","v":""},{"$f":"Graphs!K117","v":""},{"$f":"Graphs!L117","v":""}]
["CALI7","CAREX LIMOSA - Mud sedge",null,"y","y",null,100,"L",5,"CALI7","","TRIFOLIUM SPP. "," Clover Spp.",{"$f":"IF(Graphs!A118=\"\",\"\",Graphs!A118)","v":""},null,null,null,{"$f":"Graphs!E118","v":""},{"$f":"Graphs!F118","v":""},{"$f":"Graphs!K118","v":""},{"$f":"Graphs!L118","v":""}]
["CAMI7","CAREX MICROPTERA - Small-winged sedge",null,null,"y",null,50,"M",5,"CAMI7","","SALIX SPP CLUMPED "," Clumped willow",{"$f":"IF(Graphs!A119=\"\",\"\",Graphs!A119)","v":""},null,null,null,{"$f":"Graphs!E119","v":""},{"$f":"Graphs!F119","v":""},{"$f":"Graphs!K119","v":""},{"$f":"Graphs!L119","v":""}]
["CANE2","CAREX NEBRASCENSIS - Nebraska sedge",null,"y","y",null,100,"L",8.5,"CANE2","","CAREX PRAEGRACILIS "," Cluster field sedge",{"$f":"IF(Graphs!A120=\"\",\"\",Graphs!A120)","v":""},null,null,null,{"$f":"Graphs!E120","v":""},{"$f":"Graphs!F120","v":""},{"$f":"Graphs!K120","v":""},{"$f":"Graphs!L120","v":""}]
["CANU4","CARDUUS NUTANS - Nodding plumeless thistle (Musk thistle)",null,"","y","y",25,"E",2,"","","ROSA PISOCARPA "," Cluster Rose",{"$f":"IF(Graphs!A121=\"\",\"\",Graphs!A121)","v":""},null,null,null,{"$f":"Graphs!E121","v":""},{"$f":"Graphs!F121","v":""},{"$f":"Graphs!K121","v":""},{"$f":"Graphs!L121","v":""}]
["CAPE42","CAREX PELLITA - Wooly sedge (CALA30)",null,"y","y","",100,"L",8.5,"CAPE42","","CAREX ULTRA "," Cochise sedge",{"$f":"IF(Graphs!A122=\"\",\"\",Graphs!A122)","v":""},null,null,null,{"$f":"Graphs!E122","v":""},{"$f":"Graphs!F122","v":""},{"$f":"Graphs!K122","v":""},{"$f":"Graphs!L122","v":""}]
["CAPE7","CAREX PETASATA - Liddon sedge",null,null,"y",null,50,"M",2,"CAPE7","","JUNCUS CONFUSUS "," Colorado rush",{"$f":"IF(Graphs!A123=\"\",\"\",Graphs!A123)","v":""},null,null,null,{"$f":"Graphs!E123","v":""},{"$f":"Graphs!F123","v":""},{"$f":"Graphs!K123","v":""},{"$f":"Graphs!L123","v":""}]
["CAPR5","CAREX PRAEGRACILIS - Cluster field sedge",null,"y","y","",75,"L",8.5,"CAPR5","","STIPA COLUMBIANA "," Columbia needlegrass (ACNE9)",{"$f":"IF(Graphs!A124=\"\",\"\",Graphs!A124)","v":""},null,null,null,{"$f":"Graphs!E124","v":""},{"$f":"Graphs!F124","v":""},{"$f":"Graphs!K124","v":""},{"$f":"Graphs!L124","v":""}]
["CAQU2","CAMASSIA QUAMISH - Common camas",null,"y","y","y",75,"M",5,"","","ACHNATHERUM NELSONII "," Columbia needlegrass (STCO3)",{"$f":"IF(Graphs!A125=\"\",\"\",Graphs!A125)","v":""},null,null,null,{"$f":"Graphs!E125","v":""},{"$f":"Graphs!F125","v":""},{"$f":"Graphs!K125","v":""},{"$f":"Graphs!L125","v":""}]
["CAREX","CAREX SPP - Sedge",null,"y","y","",75,"M",5,"CAREX","","ACONITUM COLUMBIANUM "," Columbian monkshood",{"$f":"IF(Graphs!A126=\"\",\"\",Graphs!A126)","v":""},null,null,null,{"$f":"Graphs!E126","v":""},{"$f":"Graphs!F126","v":""},{"$f":"Graphs!K126","v":""},{"$f":"Graphs!L126","v":""}]
["CAREXRH","CAREX SPP RHIZOMATOUS - Rhizomatous sedge",null,"y","y","",100,"L",8.5,"CAREXRH","","RHAMNUS CATHARTICA "," Common buckthorn",{"$f":"IF(Graphs!A127=\"\",\"\",Graphs!A127)","v":""},null,null,null,{"$f":"Graphs!E127","v":""},{"$f":"Graphs!F127","v":""},{"$f":"Graphs!K127","v":""},{"$f":"Graphs!L127","v":""}]
["CAREXTU","CAREX SPP TUFTED - Tufted (clumped) sedge",null,"y","y","",75,"M",2,"CAREXTU","","ARCTIUM MINUS "," Common burdock",{"$f":"IF(Graphs!A128=\"\",\"\",Graphs!A128)","v":""},null,null,null,{"$f":"Graphs!E128","v":""},{"$f":"Graphs!F128","v":""},{"$f":"Graphs!K128","v":""},{"$f":"Graphs!L128","v":""}]
["CARO6","CAREX ROSTRATA - Beaked sedge",null,"y","y","",100,"L",8.5,"CARO6","","CEPHALANTHUS OCCIDENTALIS "," Common buttonbush",{"$f":"IF(Graphs!A129=\"\",\"\",Graphs!A129)","v":""},null,null,null,{"$f":"Graphs!E129","v":""},{"$f":"Graphs!F129","v":""},{"$f":"Graphs!K129","v":""},{"$f":"Graphs!L129","v":""}]
["CASA10","CAREX SAXATILIS - Rocky Mountain sedge",null,"y","y",null,100,"L",8.5,"CASA10","","CAMASSIA QUAMISH "," Common camas",{"$f":"IF(Graphs!A130=\"\",\"\",Graphs!A130)","v":""},null,null,null,{"$f":"Graphs!E130","v":""},{"$f":"Graphs!F130","v":""},{"$f":"Graphs!K130","v":""},{"$f":"Graphs!L130","v":""}]
["CASA8","CAREX SARTWELLII - Sartwell's sedge",null,"y","y",null,100,"L",8.5,"CASA8","","TARAXACUM OFFICINALE "," Common Dandelion",{"$f":"IF(Graphs!A131=\"\",\"\",Graphs!A131)","v":""},null,null,null,{"$f":"Graphs!E131","v":""},{"$f":"Graphs!F131","v":""},{"$f":"Graphs!K131","v":""},{"$f":"Graphs!L131","v":""}]
["CASA9","CAREX SAXIMONTANA - Rocky Mountain sedge",null,null,"y",null,50,"E",2,"CASA9","","JUNIPERUS COMMUNIS "," Common juniper",{"$f":"IF(Graphs!A132=\"\",\"\",Graphs!A132)","v":""},null,null,null,{"$f":"Graphs!E132","v":""},{"$f":"Graphs!F132","v":""},{"$f":"Graphs!K132","v":""},{"$f":"Graphs!L132","v":""}]
["CASC12","CAREX SCOPULORUM - Mountain sedge",null,"y","y",null,75,"L",8.5,"CASC12","","PLANTAGO MAJOR "," Common plantain",{"$f":"IF(Graphs!A133=\"\",\"\",Graphs!A133)","v":""},null,null,null,{"$f":"Graphs!E133","v":""},{"$f":"Graphs!F133","v":""},{"$f":"Graphs!K133","v":""},{"$f":"Graphs!L133","v":""}]
["CASH","CAREX SHELDONII - Sheldon's sedge",null,"y","y",null,100,"L",8.5,"CASH","","PHRAGMITES COMUNIS  "," Common reedgrass (PHAU7)",{"$f":"IF(Graphs!A134=\"\",\"\",Graphs!A134)","v":""},null,null,null,{"$f":"Graphs!E134","v":""},{"$f":"Graphs!F134","v":""},{"$f":"Graphs!K134","v":""},{"$f":"Graphs!L134","v":""}]
["CASI2","CAREX SIMULATA - Short-beaked sedge",null,"y","y",null,100,"L",8.5,"CASI2","","PHRAGMITES AUSTRALIS  "," Common reedgrass (PHCO15)",{"$f":"IF(Graphs!A135=\"\",\"\",Graphs!A135)","v":""},null,null,null,{"$f":"Graphs!E135","v":""},{"$f":"Graphs!F135","v":""},{"$f":"Graphs!K135","v":""},{"$f":"Graphs!L135","v":""}]
["CASP35","CAREX SPECICOLA - Navajo sedge",null,"y","y",null,100,"L",2,"CASP35","","SCOLOCHLOA FESTUCACEA "," Common rivergrass",{"$f":"IF(Graphs!A136=\"\",\"\",Graphs!A136)","v":""},null,null,null,{"$f":"Graphs!E136","v":""},{"$f":"Graphs!F136","v":""},{"$f":"Graphs!K136","v":""},{"$f":"Graphs!L136","v":""}]
["CAST36","CALMAGROSTIS STRICTA - Slimstem reedgrass",null,"y","y",null,75,"M",2,"CAST36","","JUNCUS EFFUSUS "," Common rush",{"$f":"IF(Graphs!A137=\"\",\"\",Graphs!A137)","v":""},null,null,null,{"$f":"Graphs!E137","v":""},{"$f":"Graphs!F137","v":""},{"$f":"Graphs!K137","v":""},{"$f":"Graphs!L137","v":""}]
["CAST5","CAREX STIPATA - Awlfruit sedge",null,"y","y",null,100,"M",2,"CAST5","","SYMPHORICARPOS ALBUS "," Common snowberry",{"$f":"IF(Graphs!A138=\"\",\"\",Graphs!A138)","v":""},null,null,null,{"$f":"Graphs!E138","v":""},{"$f":"Graphs!F138","v":""},{"$f":"Graphs!K138","v":""},{"$f":"Graphs!L138","v":""}]
["CASU6","CAREX SUBFUSCA - Brown sedge",null,null,"y",null,50,"M",2,"CASU6","","ELEOCHARIS PALUSTRIS "," Common spikerush",{"$f":"IF(Graphs!A139=\"\",\"\",Graphs!A139)","v":""},null,null,null,{"$f":"Graphs!E139","v":""},{"$f":"Graphs!F139","v":""},{"$f":"Graphs!K139","v":""},{"$f":"Graphs!L139","v":""}]
["CATE3","CAREX TENERA - Quill sedge",null,"y","y",null,75,"M",2,"CATE3","","TANACETUM VULGARE "," Common tansy",{"$f":"IF(Graphs!A140=\"\",\"\",Graphs!A140)","v":""},null,null,null,{"$f":"Graphs!E140","v":""},{"$f":"Graphs!F140","v":""},{"$f":"Graphs!K140","v":""},{"$f":"Graphs!L140","v":""}]
["CATH","CAREX THURBERI - Thurber's sedge",null,null,"y",null,50,"M",2,{"$f":"IF(G131>25,IF(E131=\"y\",IF(F131=\"\",A131,\"\"),\"\"),\"\")","v":"CATH"},{"$f":"IF(C131 = \"y\", IF(D131=\"y\",A131,\"\"),\"\")","v":""},"SCIRPUS PUNGENS "," Common Threesquare bulrush (SCPU10)",{"$f":"IF(Graphs!A141=\"\",\"\",Graphs!A141)","v":""},null,null,null,{"$f":"Graphs!E141","v":""},{"$f":"Graphs!F141","v":""},{"$f":"Graphs!K141","v":""},{"$f":"Graphs!L141","v":""}]
["CAUL","CAREX ULTRA - Cochise sedge",null,"y","y",null,100,"L",8.5,"CAUL","","SCHOENOPLECTUS PUNGENS  "," Common Threesquare bulrush (SCPU8)",{"$f":"IF(Graphs!A142=\"\",\"\",Graphs!A142)","v":""},null,null,null,{"$f":"Graphs!E142","v":""},{"$f":"Graphs!F142","v":""},{"$f":"Graphs!K142","v":""},{"$f":"Graphs!L142","v":""}]
["CAUT","CAREX UTRICULATA - Northwest territory  sedge (Beaked sedge)",null,"y","y",null,100,"L",8.5,"CAUT","","CICUTA MACULATA "," Common water hemlock",{"$f":"IF(Graphs!A143=\"\",\"\",Graphs!A143)","v":""},null,null,null,{"$f":"Graphs!E143","v":""},{"$f":"Graphs!F143","v":""},{"$f":"Graphs!K143","v":""},{"$f":"Graphs!L143","v":""}]
["CAVA3","CAREX VALLICOLA - Valley sedge",null,null,"y",null,50,"M",2,"CAVA3","","ACHILLEA MILLEFOLIUM "," Common yarrow",{"$f":"IF(Graphs!A144=\"\",\"\",Graphs!A144)","v":""},null,null,null,{"$f":"Graphs!E144","v":""},{"$f":"Graphs!F144","v":""},{"$f":"Graphs!K144","v":""},{"$f":"Graphs!L144","v":""}]
["CAVE6","CAREX VESICARIA - Blister sedge",null,"y","y",null,100,"L",8.5,"CAVE6","","SCIRPUS CONGDONII "," Condon's bulrush",{"$f":"IF(Graphs!A145=\"\",\"\",Graphs!A145)","v":""},null,null,null,{"$f":"Graphs!E145","v":""},{"$f":"Graphs!F145","v":""},{"$f":"Graphs!K145","v":""},{"$f":"Graphs!L145","v":""}]
["CAVU2","CAREX VULPINOIDEA - Fox sedge",null,"y","y",null,100,"M",5,"CAVU2","","RUDBECKIA OCCIDENTALIS "," Coneflower/Blackhead",{"$f":"IF(Graphs!A146=\"\",\"\",Graphs!A146)","v":""},null,null,null,{"$f":"Graphs!E146","v":""},{"$f":"Graphs!F146","v":""},{"$f":"Graphs!K146","v":""},{"$f":"Graphs!L146","v":""}]
["CAWO","CAREX WOOTONII - Wooton's sedge",null,null,"y",null,25,"M",2,"","","SCHOENOPLECTUS MARITIMUS "," Cosmopolitan bulrush (SCMA)",{"$f":"IF(Graphs!A147=\"\",\"\",Graphs!A147)","v":""},null,null,null,{"$f":"Graphs!E147","v":""},{"$f":"Graphs!F147","v":""},{"$f":"Graphs!K147","v":""},{"$f":"Graphs!L147","v":""}]
["CEANO","CEANOTHUS SPP - Ceanothus species","y","",null,null,50,"M",5,"","","SCIRPUS MARITIMUS "," Cosmopolitan bulrush (SCMA8)",{"$f":"IF(Graphs!A148=\"\",\"\",Graphs!A148)","v":""},null,null,null,{"$f":"Graphs!E148","v":""},{"$f":"Graphs!F148","v":""},{"$f":"Graphs!K148","v":""},{"$f":"Graphs!L148","v":""}]
["CEAR4","CERASTIUM ARVENSE - Field chickweed",null,"","y","y",25,"E",2,"","","POPULUS SPP. "," Cottonwood",{"$f":"IF(Graphs!A149=\"\",\"\",Graphs!A149)","v":""},null,null,null,{"$f":"Graphs!E149","v":""},{"$f":"Graphs!F149","v":""},{"$f":"Graphs!K149","v":""},{"$f":"Graphs!L149","v":""}]
["CELA","CELTIS LAEVIGATA - Sugarberry","y",null,null,null,50,"L",5,"","","HERACLEUM MAXIMUM "," Cow parsnip (HELA4)",{"$f":"IF(Graphs!A150=\"\",\"\",Graphs!A150)","v":""},null,null,null,{"$f":"Graphs!E150","v":""},{"$f":"Graphs!F150","v":""},{"$f":"Graphs!K150","v":""},{"$f":"Graphs!L150","v":""}]
["CEMA4","CENTAUREA MACULOSA - Spotted knapweed",null,null,"y","y",0,"E",2,"","","HERACLEUM LANATUM "," Cow parsnip (HEMA80)",{"$f":"IF(Graphs!A151=\"\",\"\",Graphs!A151)","v":""},null,null,null,{"$f":"Graphs!E151","v":""},{"$f":"Graphs!F151","v":""},{"$f":"Graphs!K151","v":""},{"$f":"Graphs!L151","v":""}]
["CEOC2","CEPHALANTHUS OCCIDENTALIS - Common buttonbush","y","y",null,null,100,"L",8.5,"","CEOC2","TRIFOLIUM WORMSKJOLDII "," Cows clover",{"$f":"IF(Graphs!A152=\"\",\"\",Graphs!A152)","v":""},null,null,null,{"$f":"Graphs!E152","v":""},{"$f":"Graphs!F152","v":""},{"$f":"Graphs!K152","v":""},{"$f":"Graphs!L152","v":""}]
["CEST8","CENTAUREA STOEBE - Spotted knapweed",null,null,"y","y",0,"E",2,"","","AGROSTIS STOLONIFERA "," Creeping bentgrass",{"$f":"IF(Graphs!A153=\"\",\"\",Graphs!A153)","v":""},null,null,null,{"$f":"Graphs!E153","v":""},{"$f":"Graphs!F153","v":""},{"$f":"Graphs!K153","v":""},{"$f":"Graphs!L153","v":""}]
["CHAN9","CHAMERION ANGUSTIFOLIUM - Fireweed (EPAN2)",null,"","y","y",25,"M",5,"","","ALOPECURUS ARUNDINACEUS "," Creeping meadow foxgrass",{"$f":"IF(Graphs!A154=\"\",\"\",Graphs!A154)","v":""},null,null,null,{"$f":"Graphs!E154","v":""},{"$f":"Graphs!F154","v":""},{"$f":"Graphs!K154","v":""},{"$f":"Graphs!L154","v":""}]
["CHLI2","CHILOPSIS LINEARIS - Desert willow","y",null,null,null,25,"E",5,"","","ELYMUS TRITICOIDES "," Creeping wildrye (LETR5)",{"$f":"IF(Graphs!A155=\"\",\"\",Graphs!A155)","v":""},null,null,null,{"$f":"Graphs!E155","v":""},{"$f":"Graphs!F155","v":""},{"$f":"Graphs!K155","v":""},{"$f":"Graphs!L155","v":""}]
["CHNA2","CHRYSOTHAMNUS NAUSEOSUS  - Rubber rabbitbrush (ERNA10)","y","",null,null,25,"E",2,"","","RUMEX CRISPUS "," Curly dock",{"$f":"IF(Graphs!A156=\"\",\"\",Graphs!A156)","v":""},null,null,null,{"$f":"Graphs!E156","v":""},{"$f":"Graphs!F156","v":""},{"$f":"Graphs!K156","v":""},{"$f":"Graphs!L156","v":""}]
["CHSP11","CHLORACANTHA SPINOSA - Spiny chloracantha","y",null,null,null,50,"E",2,"","","GRINDELIA SQUAROSA "," Curlycup gumweed",{"$f":"IF(Graphs!A157=\"\",\"\",Graphs!A157)","v":""},null,null,null,{"$f":"Graphs!E157","v":""},{"$f":"Graphs!F157","v":""},{"$f":"Graphs!K157","v":""},{"$f":"Graphs!L157","v":""}]
["CHVI8","CHRYSOTHAMNUS VISCIDIFLORUS - Yellow rabbitbrush","y","",null,null,0,"E",2,"","","POLYGONUM LAPATHIFOLIUM "," Curlytop knotweed",{"$f":"IF(Graphs!A158=\"\",\"\",Graphs!A158)","v":""},null,null,null,{"$f":"Graphs!E158","v":""},{"$f":"Graphs!F158","v":""},{"$f":"Graphs!K158","v":""},{"$f":"Graphs!L158","v":""}]
["CIAR4","CIRSIUM ARVENSE - Canada thistle",null,null,"y","y",25,"E",2,"","","RIBES SPP "," Currant",{"$f":"IF(Graphs!A159=\"\",\"\",Graphs!A159)","v":""},null,null,null,{"$f":"Graphs!E159","v":""},{"$f":"Graphs!F159","v":""},{"$f":"Graphs!K159","v":""},{"$f":"Graphs!L159","v":""}]
["CICA11","CIRSIUM CANESCENS - Prairie thistle",null,"","y","y",0,"E",2,"","","POA CUSICKII "," Cusick bluegrass",{"$f":"IF(Graphs!A160=\"\",\"\",Graphs!A160)","v":""},null,null,null,{"$f":"Graphs!E160","v":""},{"$f":"Graphs!F160","v":""},{"$f":"Graphs!K160","v":""},{"$f":"Graphs!L160","v":""}]
["CIDO","CICUTA DOUGLASII - Western water hemlock",null,"y","y","y",100,"M",5,"","","CAMASSIA CUSICKII "," Cusick's camas",{"$f":"IF(Graphs!A161=\"\",\"\",Graphs!A161)","v":""},null,null,null,{"$f":"Graphs!E161","v":""},{"$f":"Graphs!F161","v":""},{"$f":"Graphs!K161","v":""},{"$f":"Graphs!L161","v":""}]
["CIMA2","CICUTA MACULATA - Common water hemlock",null,"y","y","y",100,"E",2,"","","RUDBECKIA LACINIATA "," Cutleaf coneflower",{"$f":"IF(Graphs!A162=\"\",\"\",Graphs!A162)","v":""},null,null,null,{"$f":"Graphs!E162","v":""},{"$f":"Graphs!F162","v":""},{"$f":"Graphs!K162","v":""},{"$f":"Graphs!L162","v":""}]
["CISC2","CIRSIUM SCARIOSUM - Elk Thistle",null,null,"y","y",50,"E",2,"","","BERULA ERECTA "," Cut-leaf water parsnip",{"$f":"IF(Graphs!A163=\"\",\"\",Graphs!A163)","v":""},null,null,null,{"$f":"Graphs!E163","v":""},{"$f":"Graphs!F163","v":""},{"$f":"Graphs!K163","v":""},{"$f":"Graphs!L163","v":""}]
["CLLI2","CLEMATIS LIGUSTIFOLIA - White Clematis","y",null,null,null,50,"E",5,"","","PASPALUM DILATATUM "," Dallisgrass",{"$f":"IF(Graphs!A164=\"\",\"\",Graphs!A164)","v":""},null,null,null,{"$f":"Graphs!E164","v":""},{"$f":"Graphs!F164","v":""},{"$f":"Graphs!K164","v":""},{"$f":"Graphs!L164","v":""}]
["CLPE","CLAYTONIA PERFOLIATA - Miner's lettuce",null,null,"y","y",50,"M",2,"","","MUHLENBERGIA RIGENS "," Deergrass",{"$f":"IF(Graphs!A165=\"\",\"\",Graphs!A165)","v":""},null,null,null,{"$f":"Graphs!E165","v":""},{"$f":"Graphs!F165","v":""},{"$f":"Graphs!K165","v":""},{"$f":"Graphs!L165","v":""}]
["COCA13","CORNUS CANADENSIS - Bunchberry dogwood",null,null,"y","y",50,"M",5,"","","RUMEX DENSIFLORUS "," Denseflowered dock",{"$f":"IF(Graphs!A166=\"\",\"\",Graphs!A166)","v":""},null,null,null,{"$f":"Graphs!E166","v":""},{"$f":"Graphs!F166","v":""},{"$f":"Graphs!K166","v":""},{"$f":"Graphs!L166","v":""}]
["COCO6","CORYLUS CORNUTA - Beaked hazelnut","y","",null,null,25,"M",5,"","","PRUNUS ANDERSONII "," Desert peach",{"$f":"IF(Graphs!A167=\"\",\"\",Graphs!A167)","v":""},null,null,null,{"$f":"Graphs!E167","v":""},{"$f":"Graphs!F167","v":""},{"$f":"Graphs!K167","v":""},{"$f":"Graphs!L167","v":""}]
["COMA2","CONIUM MACULATUM - Poison hemlock",null,"y","y","y",75,"E",2,"","","CHILOPSIS LINEARIS "," Desert willow",{"$f":"IF(Graphs!A168=\"\",\"\",Graphs!A168)","v":""},null,null,null,{"$f":"Graphs!E168","v":""},{"$f":"Graphs!F168","v":""},{"$f":"Graphs!K168","v":""},{"$f":"Graphs!L168","v":""}]
["COPA28","COMARUM PALUSTRE - Purple marshlocks (POPA14)",null,"y","y","y",100,"M",2,"","","CAREX DEWEYANA "," Dewey sedge",{"$f":"IF(Graphs!A169=\"\",\"\",Graphs!A169)","v":""},null,null,null,{"$f":"Graphs!E169","v":""},{"$f":"Graphs!F169","v":""},{"$f":"Graphs!K169","v":""},{"$f":"Graphs!L169","v":""}]
["COSE16","CORNUS SERICEA - Red osier dogwood (COST4)","y","y",null,null,75,"L",8.5,"","COSE16","SALIX IRRORATA "," Dewystem willow",{"$f":"IF(Graphs!A170=\"\",\"\",Graphs!A170)","v":""},null,null,null,{"$f":"Graphs!E170","v":""},{"$f":"Graphs!F170","v":""},{"$f":"Graphs!K170","v":""},{"$f":"Graphs!L170","v":""}]
["COST4","CORNUS STOLONIFERA - Red osier dogwood (COSE16)","y","y",null,null,75,"L",8.5,"","COST4","SALIX PLANIFOLIA "," Diamondleaf willow",{"$f":"IF(Graphs!A171=\"\",\"\",Graphs!A171)","v":""},null,null,null,{"$f":"Graphs!E171","v":""},{"$f":"Graphs!F171","v":""},{"$f":"Graphs!K171","v":""},{"$f":"Graphs!L171","v":""}]
["CRAC2","CREPIS ACUMINATA - Tapertip hawksbeard",null,null,"y","y",25,"L",2,"","","CAREX HETERONEURA "," Different nerved sedge",{"$f":"IF(Graphs!A172=\"\",\"\",Graphs!A172)","v":""},null,null,null,{"$f":"Graphs!E172","v":""},{"$f":"Graphs!F172","v":""},{"$f":"Graphs!K172","v":""},{"$f":"Graphs!L172","v":""}]
["CRCH","CRATAEGUS CHRYSOCARPA - Northern hawthorn","y",null,null,null,25,"E",5,"","","POLYGONUM PUNCTATUM "," dotted smartweed",{"$f":"IF(Graphs!A173=\"\",\"\",Graphs!A173)","v":""},null,null,null,{"$f":"Graphs!E173","v":""},{"$f":"Graphs!F173","v":""},{"$f":"Graphs!K173","v":""},{"$f":"Graphs!L173","v":""}]
["CRDO2","CRATAEGUS DOUGLASII - Black hawthorn","y",null,null,null,50,"M",8.5,"","","PSEUDOTSUGE MENZIESII "," Douglas Fir",{"$f":"IF(Graphs!A174=\"\",\"\",Graphs!A174)","v":""},null,null,null,{"$f":"Graphs!E174","v":""},{"$f":"Graphs!F174","v":""},{"$f":"Graphs!K174","v":""},{"$f":"Graphs!L174","v":""}]
["CREPI","CREPIS SPP. - Hawksbeard",null,null,"y","y",25,"L",2,"","","POLYGONUM DOUGLASII "," Douglas' knotweek",{"$f":"IF(Graphs!A175=\"\",\"\",Graphs!A175)","v":""},null,null,null,{"$f":"Graphs!E175","v":""},{"$f":"Graphs!F175","v":""},{"$f":"Graphs!K175","v":""},{"$f":"Graphs!L175","v":""}]
["CRSU5","CRATAEGUS SUCCULANTA - Round leafed hawthorn","y",null,null,null,50,"M",8.5,"","","CAREX DOUGLASII "," Douglas' sedge",{"$f":"IF(Graphs!A176=\"\",\"\",Graphs!A176)","v":""},null,null,null,{"$f":"Graphs!E176","v":""},{"$f":"Graphs!F176","v":""},{"$f":"Graphs!K176","v":""},{"$f":"Graphs!L176","v":""}]
["CYAC","CYMOPTERUS ACAULIS - Plains spring parsley",null,null,"y","y",50,"E",2,"","","SPIRAEA DOUGLASII "," Douglas Spirea",{"$f":"IF(Graphs!A177=\"\",\"\",Graphs!A177)","v":""},null,null,null,{"$f":"Graphs!E177","v":""},{"$f":"Graphs!F177","v":""},{"$f":"Graphs!K177","v":""},{"$f":"Graphs!L177","v":""}]
["CYAC2","CYPERUS ACUMINATUS - Tapered leaf flatsedge",null,"y","y",null,100,"E",2,"CYAC2","","JUNCUS DRUMMONDII "," Drummond's rush",{"$f":"IF(Graphs!A178=\"\",\"\",Graphs!A178)","v":""},null,null,null,{"$f":"Graphs!E178","v":""},{"$f":"Graphs!F178","v":""},{"$f":"Graphs!K178","v":""},{"$f":"Graphs!L178","v":""}]
["CYDA","CYNODON DACTYLON - Bermuda grass",null,null,"y",null,25,"E",2,"","","SALIX DRUMMONDIANA "," Drummond's willow",{"$f":"IF(Graphs!A179=\"\",\"\",Graphs!A179)","v":""},null,null,null,{"$f":"Graphs!E179","v":""},{"$f":"Graphs!F179","v":""},{"$f":"Graphs!K179","v":""},{"$f":"Graphs!L179","v":""}]
["CYDA4","CYLINDROPUNTIA DAVISII - Thistle cholla","y",null,null,null,0,"E",2,"","","JUNCUS DUDLEYI "," Dudley rush",{"$f":"IF(Graphs!A180=\"\",\"\",Graphs!A180)","v":""},null,null,null,{"$f":"Graphs!E180","v":""},{"$f":"Graphs!F180","v":""},{"$f":"Graphs!K180","v":""},{"$f":"Graphs!L180","v":""}]
["CYOF","CYNOGLOSSUM OFFICINALE - Houndstongue",null,null,"y","y",25,"E",2,"","","ELEOCHARIS PARVULA "," Dwarf spikerush",{"$f":"IF(Graphs!A181=\"\",\"\",Graphs!A181)","v":""},null,null,null,{"$f":"Graphs!E181","v":""},{"$f":"Graphs!F181","v":""},{"$f":"Graphs!K181","v":""},{"$f":"Graphs!L181","v":""}]
["CYPA19","CYPRIPEDIUM PARVIFLORUM - Yellow ladyslipper",null,"y","y","y",75,"E",5,"","","AMORPHA NANA "," Dwarf wild indigo",{"$f":"IF(Graphs!A182=\"\",\"\",Graphs!A182)","v":""},null,null,null,{"$f":"Graphs!E182","v":""},{"$f":"Graphs!F182","v":""},{"$f":"Graphs!K182","v":""},{"$f":"Graphs!L182","v":""}]
["DACA3","DANTHONIA CALIFORNICA - California oatgrass",null,null,"y",null,25,"E",2,"","","POPULUS DELTOIDES "," Eastern cottonwood",{"$f":"IF(Graphs!A183=\"\",\"\",Graphs!A183)","v":""},null,null,null,{"$f":"Graphs!E183","v":""},{"$f":"Graphs!F183","v":""},{"$f":"Graphs!K183","v":""},{"$f":"Graphs!L183","v":""}]
["DAFR6","DASIPHORA FRUTICOSA - Shrubby cinquefoil (POFR4)","y",null,null,null,50,"M",5,"","","PEDICULARIS GROENLANDICA "," Elephanthead lousewort",{"$f":"IF(Graphs!A184=\"\",\"\",Graphs!A184)","v":""},null,null,null,{"$f":"Graphs!E184","v":""},{"$f":"Graphs!F184","v":""},{"$f":"Graphs!K184","v":""},{"$f":"Graphs!L184","v":""}]
["DAGL","DACTYLIS GLOMERATA - Orchardgrass",null,null,"y",null,25,"E",2,"","","CIRSIUM SCARIOSUM "," Elk Thistle",{"$f":"IF(Graphs!A185=\"\",\"\",Graphs!A185)","v":""},null,null,null,{"$f":"Graphs!E185","v":""},{"$f":"Graphs!F185","v":""},{"$f":"Graphs!K185","v":""},{"$f":"Graphs!L185","v":""}]
["DAIN","DANTHONIA INTERMEDIA - Timber oatgrass",null,null,"y",null,25,"M",2,"","","ROCK "," Embedded Rock",{"$f":"IF(Graphs!A186=\"\",\"\",Graphs!A186)","v":""},null,null,null,{"$f":"Graphs!E186","v":""},{"$f":"Graphs!F186","v":""},{"$f":"Graphs!K186","v":""},{"$f":"Graphs!L186","v":""}]
["DECE","DESCHAMPSIA CESPITOSA - Tufted hairgrass",null,"y","y",null,75,"M",2,"DECE","","BACCHARIS EMORYI "," Emory's baccharis",{"$f":"IF(Graphs!A187=\"\",\"\",Graphs!A187)","v":""},null,null,null,{"$f":"Graphs!E187","v":""},{"$f":"Graphs!F187","v":""},{"$f":"Graphs!K187","v":""},{"$f":"Graphs!L187","v":""}]
["DEGL3","DELPHINIUM GLAUCUM - Mountain larkspur",null,"y","y","y",75,"L",5,"","","SPARGANIUM EMERSUM "," European bur-reed",{"$f":"IF(Graphs!A188=\"\",\"\",Graphs!A188)","v":""},null,null,null,{"$f":"Graphs!E188","v":""},{"$f":"Graphs!F188","v":""},{"$f":"Graphs!K188","v":""},{"$f":"Graphs!L188","v":""}]
["DISP","DISTICHLIS SPICATA - Inland saltgrass",null,null,"y",null,50,"M",5,"DISP","","LIGUSTRUM VALGARE "," European privet",{"$f":"IF(Graphs!A189=\"\",\"\",Graphs!A189)","v":""},null,null,null,{"$f":"Graphs!E189","v":""},{"$f":"Graphs!F189","v":""},{"$f":"Graphs!K189","v":""},{"$f":"Graphs!L189","v":""}]
["ECMU2","ECHINOCHLOA MURICATA - Rough barnyardgrass",null,"y","y",null,75,"E",2,"ECMU2","","ECLIPTA PROSTRATA "," False daisy",{"$f":"IF(Graphs!A190=\"\",\"\",Graphs!A190)","v":""},null,null,null,{"$f":"Graphs!E190","v":""},{"$f":"Graphs!F190","v":""},{"$f":"Graphs!K190","v":""},{"$f":"Graphs!L190","v":""}]
["ECPR","ECLIPTA PROSTRATA - False daisy",null,null,"y","y",50,"E",2,"","","AMORPHA FRUTICOSA "," False Indigo",{"$f":"IF(Graphs!A191=\"\",\"\",Graphs!A191)","v":""},null,null,null,{"$f":"Graphs!E191","v":""},{"$f":"Graphs!F191","v":""},{"$f":"Graphs!K191","v":""},{"$f":"Graphs!L191","v":""}]
["ELAC","ELEOCHARIS ACICULARIS - Needle spikerush",null,"y","y",null,100,"E",2,"ELAC","","SALIX PSEUDOMONTICOLA "," False mountain willow",{"$f":"IF(Graphs!A192=\"\",\"\",Graphs!A192)","v":""},null,null,null,{"$f":"Graphs!E192","v":""},{"$f":"Graphs!F192","v":""},{"$f":"Graphs!K192","v":""},{"$f":"Graphs!L192","v":""}]
["ELAN","ELAEAGNUS ANGUSTIFOLIA - Russian olive","y",null,null,null,50,"E",5,"","","MAIANTHEMUM STELLATUM "," False solomon's seal (SMST)",{"$f":"IF(Graphs!A193=\"\",\"\",Graphs!A193)","v":""},null,null,null,{"$f":"Graphs!E193","v":""},{"$f":"Graphs!F193","v":""},{"$f":"Graphs!K193","v":""},{"$f":"Graphs!L193","v":""}]
["ELCA4","ELYMUS CANADENSIS - Canada wildrye",null,null,"y",null,50,"E",2,"ELCA4","","THALICTRUM FENDLERI "," Fendler meadowrue",{"$f":"IF(Graphs!A194=\"\",\"\",Graphs!A194)","v":""},null,null,null,{"$f":"Graphs!E194","v":""},{"$f":"Graphs!F194","v":""},{"$f":"Graphs!K194","v":""},{"$f":"Graphs!L194","v":""}]
["ELCI2","ELYMUS CINEREUS - Basin Wildrye (LECI4)",null,null,"y",null,50,"M",8.5,"ELCI2","","ELEOCHARIS QUINQUEFLORA "," Fewflowered spikerush (ELPA6)",{"$f":"IF(Graphs!A195=\"\",\"\",Graphs!A195)","v":""},null,null,null,{"$f":"Graphs!E195","v":""},{"$f":"Graphs!F195","v":""},{"$f":"Graphs!K195","v":""},{"$f":"Graphs!L195","v":""}]
["ELCO","ELAEAGNUS COMMUTATA - Silverberry","y",null,null,null,50,"M",5,"","","ELEOCHARIS PAUCIFLORA "," Fewflowered spikerush (ELQU2)",{"$f":"IF(Graphs!A196=\"\",\"\",Graphs!A196)","v":""},null,null,null,{"$f":"Graphs!E196","v":""},{"$f":"Graphs!F196","v":""},{"$f":"Graphs!K196","v":""},{"$f":"Graphs!L196","v":""}]
["ELEOC","ELEOCHARIS SPECIES - Spikerush",null,"y","y",null,75,"M",5,"ELEOC","","CERASTIUM ARVENSE "," Field chickweed",{"$f":"IF(Graphs!A197=\"\",\"\",Graphs!A197)","v":""},null,null,null,{"$f":"Graphs!E197","v":""},{"$f":"Graphs!F197","v":""},{"$f":"Graphs!K197","v":""},{"$f":"Graphs!L197","v":""}]
["ELMA8","ELYHORDEUM MACOUNII - Macoun’s barley",null,null,"Y",null,25,"E",2,"","","EQUISETUM ARVENSE "," Field horsetail",{"$f":"IF(Graphs!A198=\"\",\"\",Graphs!A198)","v":""},null,null,null,{"$f":"Graphs!E198","v":""},{"$f":"Graphs!F198","v":""},{"$f":"Graphs!K198","v":""},{"$f":"Graphs!L198","v":""}]
["ELPA3","ELEOCHARIS PALUSTRIS - Common spikerush",null,"y","y",null,100,"E",5,"ELPA3","","EPILOBIUM ANGUSTIFOLIUM "," Fireweed  (CHAN9)",{"$f":"IF(Graphs!A199=\"\",\"\",Graphs!A199)","v":""},null,null,null,{"$f":"Graphs!E199","v":""},{"$f":"Graphs!F199","v":""},{"$f":"Graphs!K199","v":""},{"$f":"Graphs!L199","v":""}]
["ELPA5","ELEOCHARIS PARVULA - Dwarf spikerush",null,"y","y",null,100,"M",2,"ELPA5","","CHAMERION ANGUSTIFOLIUM "," Fireweed (EPAN2)",{"$f":"IF(Graphs!A200=\"\",\"\",Graphs!A200)","v":""}]
["ELPA6","ELEOCHARIS PAUCIFLORA - Fewflowered spikerush (ELQU2)",null,"y","y",null,100,"M",5,"ELPA6","","TAMARIX CHINENSIS "," Five-stamen saltcedar",{"$f":"IF(Graphs!A201=\"\",\"\",Graphs!A201)","v":""}]
["ELQU2","ELEOCHARIS QUINQUEFLORA - Fewflowered spikerush (ELPA6)",null,"y","y",null,100,"M",5,"ELQU2","","ERIGERON SPP "," Fleabane species",{"$f":"IF(Graphs!A202=\"\",\"\",Graphs!A202)","v":""}]
["ELRE4","ELYMUS REPENS - Quackgrass (AGRE2)",null,"","y",null,50,"E",5,"ELRE4","","ATRIPLEX CONESCENS "," Fourwing saltbrush",{"$f":"IF(Graphs!A203=\"\",\"\",Graphs!A203)","v":""}]
["ELRO2","ELEOCHARIS ROSTELLATA - Beaked spikerush",null,"y","y",null,100,"E",2,"ELRO2","","POA PALUSTRIS "," Fowl bluegrass",{"$f":"IF(Graphs!A204=\"\",\"\",Graphs!A204)","v":""}]
["ELTR3","ELYMUS TRITICOIDES - Creeping wildrye (LETR5)",null,"","y",null,50,"E",5,{"$f":"IF(G195>25,IF(E195=\"y\",IF(F195=\"\",A195,\"\"),\"\"),\"\")","v":"ELTR3"},{"$f":"IF(C195 = \"y\", IF(D195=\"y\",A195,\"\"),\"\")","v":""},"GLYCERIA STRIATA "," Fowl mannagrass",{"$f":"IF(Graphs!A205=\"\",\"\",Graphs!A205)","v":""}]
["ELTR7","ELYMUS TRACHYCAULUS - Slender wheatgrass",null,"","y",null,25,"E",2,"","","CAREX VULPINOIDEA "," Fox sedge",{"$f":"IF(Graphs!A206=\"\",\"\",Graphs!A206)","v":""}]
["EPAN2","EPILOBIUM ANGUSTIFOLIUM - Fireweed  (CHAN9)",null,"","y","y",25,"M",5,"","","ALOPECURUS SPP. "," Foxtail",{"$f":"IF(Graphs!A207=\"\",\"\",Graphs!A207)","v":""}]
["EPCI","EPILOBIUM CILIATUM - Fringed willowherb",null,"y","y","y",75,"M",2,"","","HORDEUM JUBATUM "," Foxtail barley",{"$f":"IF(Graphs!A208=\"\",\"\",Graphs!A208)","v":""}]
["EQAR","EQUISETUM ARVENSE - Field horsetail",null,null,"y","y",50,"M",5,"","","MUHLENBERGIA ANDINA "," Foxtail muhly",{"$f":"IF(Graphs!A209=\"\",\"\",Graphs!A209)","v":""}]
["EQFL","EQUISETUM FLUVIATILE - Water horsetail",null,"y","y","y",100,"M",5,"","","RHUS AROMATICA "," Fragrant sumac",{"$f":"IF(Graphs!A210=\"\",\"\",Graphs!A210)","v":""}]
["EQHY","EQUISETUM HYEMALE - Scouringrush horsetail",null,"y","y","y",75,"M",5,"","","POPULUS FREMONTII "," Fremont Cottonwood"]
["EQLA","EQUISETUM LAEVIGATUM - smooth horsetail",null,"y","y","y",75,"E",2,"","","LYSIMACHIA CILIATA "," Fringed loosestrife"]
["EQSY","EQUISETUM SYLVATICUM - Woodland horsetail",null,"y","y","Y",50,"M",2,"","","EPILOBIUM CILIATUM "," Fringed willowherb"]
["EQUIS","EQUISETUM SPP. - Horsetail",null,"y","y","y",75,"E",2,"","","LEYMUS INNOVATUS "," Fuzzyspike wildrye (Downy ryegrass)"]
["EQVA","EQUISETUM VARIEGATUM - Variegated horsetail",null,"y","y","y",75,"M",2,"","","SALIX GEYERIANA "," Geyer's willow"]
["ERCO6","ERIGERON COULTERI  - Large mountain fleabain",null,"y","y","y",75,"L",5,"","","SPARGANIUM EURYCARPUM "," Giant bur-reed"]
["ERIGE2","ERIGERON SPP - Fleabane species",null,"","y","y",25,"M",5,"","","SOLIDAGO GIGANTEA "," Giant goldenrod"]
["ERNA10","ERICAMERIA NAUSEOSA  - Rubber rabbitbrush (CHNA2)","y","",null,null,25,"E",2,"","","ARUNDO DONAX "," Giant reed"]
["ERPH","ERIGERON PHILADELPHICUS - Philadelphia fleabane",null,"","y","y",25,"E",2,"","","RUMEX MARITIMUS "," Golden dock"]
["ERST3","ERIGERON STRIGOSUS - Prairie (daisy) fleabane",null,"","y","y",25,"E",2,"","","CAREX AUREA "," Golden sedge"]
["EUES","EUPHORBIA ESULA - Leafy spurge",null,null,"y","y",25,"E",5,"","","RIBES AUREUM "," Goldern Currant, Buffalo Currant (RIOD)"]
["EUIN9","EURYBIA INTEGRIFOLIA - Thickstem Aster (ASIN3)",null,null,"y","y",25,"E",5,"","","SALIX GOODDINGII "," Gooding's willow"]
["EUMA12","EUPATORIADELPHUS MACULATUS - Spotted joe pye weed (EUMA9)",null,"y","y","y",100,"L",5,"","","CAREX CANESCENS "," Gray sedge"]
["EUMA9","EUTROCHIUM MACULATUM - Spotted joe pye weed (EUMA12)",null,"y","y","y",100,"L",5,"","","SARCOBATUS VERMICULATUS "," Greasewood"]
["EURYB","EURYBIA SPP. - Aster Spp.",null,null,"y","y",25,"E",2,"","","ALNUS VIRIDIS "," Green alder (ALSI3)"]
["FERU2","FESTUCA RUBRA - Red Fescue",null,null,"y",null,50,"M",5,"FERU2","","FRAXINUS PENNSYLVANICA "," Green Ash"]
["FRLA","FRAXINUS LATIFOLIA - Oregon ash","y","y",null,null,75,"L",8.5,"","FRLA","CAREX CAPILLARIS "," Hairlike sedge"]
["FRPE","FRAXINUS PENNSYLVANICA - Green Ash","y","y",null,null,75,"M",5,"","FRPE","STACHYS PILOSA "," Hairy hedgenettle "]
["FRVE2","FRAXINUS VELUTINA - Velvet ash","y",null,null,null,75,"E",5,"","","SCHOENOPLECTUS ACUTUS "," Hardstem bulrush (SCAC)"]
["FRVI","FRAGARIA VIRGINIANA - Virginia strawberry",null,null,"y","y",25,"E",2,"","","SCIRPUS ACUTUS "," Hardstem bulrush (SCAC3)"]
["GABO2","GALIUM BOREALE - Northern bedstraw",null,null,"y","y",25,"E",2,"","","CREPIS SPP. "," Hawksbeard"]
["GALIU","GALIUM SPP - Bedstraw",null,null,"y","y",25,"E",2,"","","ARNICA CORDIFOLIA "," Heartleaf arnica"]
["GATR2","GALIUM TRIFIDUM - Threepetal bedstraw",null,"y","y","y",75,"E",2,"","","CAREX GRAVIDA "," Heavy Sedge"]
["GEMA4","GEUM MACROPHYLLUM - Largeleaf avens",null,"y","y","y",75,"E",2,"","","POTENTILLA FLABELLIFOLIA "," High mountain cinquefoil"]
["GERI","GERANIUM RICHARDSONII - Richardson's geranium",null,null,"y","y",25,"M",5,"","","PROSOPIS GLANDULOSA "," Honey mesquite"]
["GETR","GEUM TRIFLORUM - Old man's whiskers",null,null,"y","y",25,"E",2,"","","LONICERA SPP. "," Honeysuckle"]
["GEUM","GEUM SPP - Avens species",null,null,"y","y",50,"M",5,"","","OENOTHERA ELATA "," Hooker's evening primrose"]
["GEVI2","GERANIUM  VISCOSISSIUM - Sticky geranium",null,null,"y","y",50,"E",5,"","","OSTRYA VIRGINIANA "," Hophornbeam"]
["GLBO","GLYCERIA BOREALIS - Small floating mannagrass",null,"y","y",null,100,"L",5,"GLBO","","ANTHOCEROTOPHYTA "," Hornworts"]
["GLGR","GLYCERIA GRANDIS - American mannagrass",null,"y","y",null,100,"L",8.5,"GLGR","","EQUISETUM SPP. "," Horsetail"]
["GLLE3","GLYCYRRHIZA LEPIDOTA - American licorice",null,null,"y","y",50,"E",5,"","","CYNOGLOSSUM OFFICINALE "," Houndstongue"]
["GLMA","GLAUX MARITIMA - Sea milkwort",null,"y","y","y",75,"L",2,"","","RIBES OXYACANTHOIDES "," Idaho gooseberry (RIIR)"]
["GLST","GLYCERIA STRIATA - Fowl mannagrass",null,"y","y",null,100,"L",5,"GLST","","RIBES IRRIGUUM "," Idaho gooseberry (RIOX)"]
["GLYCE","GLYCERIA SPECIES - Mannagrass",null,"y","y",null,100,"L",5,"GLYCE","","SORGHASTRUM NUTANS "," Indian grass"]
["GRSQ","GRINDELIA SQUAROSA - Curlycup gumweed",null,null,"y","y",25,"E",2,"","","OEMLERIA CERASIFORMIS "," Indian plum"]
["HAFL2","HACKELIA FLORIBUNDA - Many flowered stickseed",null,null,"y","y",25,"E",2,"","","APOCYNUM CANNABINUM "," Indianhemp"]
["HECU3","HELIOTROPIUM CURASSAVICUM - Salt heliotrope",null,null,"y","y",25,"E",2,"","","JUNCUS INTERIOR "," Inland rush"]
["HEHO5","HELENIUM HOOPESII - Orange sneezeweed (HYHO)",null,null,"y","y",50,"E",2,"","","DISTICHLIS SPICATA "," Inland saltgrass"]
["HELA4","HERACLEUM LANATUM - Cow parsnip (HEMA80)",null,"y","y","y",75,"M",5,"","","CAREX INTERIOR "," Inland sedge"]
["HEMA2","HELIANTHUS MAXIMILIANI - Maximilian sunflower",null,null,"y","y",0,"M",2,"","","ALLENROLFEA OCCICENTALIS "," Iodine Bush"]
["HEMA80","HERACLEUM MAXIMUM - Cow parsnip (HELA4)",null,"y","y","y",75,"M",5,"","","JUNCUS XIPHIOIDES "," Irisleaf rush"]
["HENU","HELIANTHUS NUTTALLII- Nuttall's sunflower",null,"y","y","y",75,"M",5,"","","SALIX JEPSONII "," Jepson willow"]
["HERI","HEUCHERA RICHARDSONII - Richardson's alumroot",null,"","y","y",25,"M",2,"","","IMPATIENS CAPENSIS "," Jewelweed"]
["HOBR2","HORDEUM BRACHYANTHERUM - Meadow barley",null,"y","y",null,75,"E",2,"HOBR2","","JUNCUS ARTICULATUS "," Jointleaf rush"]
["HOJU","HORDEUM JUBATUM - Foxtail barley",null,null,"y",null,50,"E",2,"HOJU","","CAREX CURATORUM "," Kaibab sedge"]
["HYHO","HYMENOXYS HOOPESII - Owl's-claw (HEHO5)",null,null,"y","y",50,"E",2,"","","POLYGONUM POLYGALOIDES "," Kellogg's knotweed"]
["IMCA","IMPATIENS CAPENSIS - Jewelweed",null,"y","y","y",75,"M",2,"","","POA PRATENSIS "," Kentucky bluegrass"]
["IRMI","IRIS MISSOURIENSIS - Rocky Mountain iris",null,"y","y","y",75,"M",5,"","","ANGELICA KINGII "," King's  angelica"]
["JUAC","JUNCUS ACUMINATUS - Tapertip rush",null,"y","y",null,100,"M",2,"JUAC","","VIOLA ADUNCA "," Kirk's violet"]
["JUAC2","JUNCUS ACUTUS - Spiny rush",null,"y","y",null,75,"L",5,"JUAC2","","PASPALUM DISTICHUM "," Knotgrass"]
["JUAR2","JUNCUS ARCTICUS - Artic rush (JUBA)",null,"y","y",null,75,"L",8.5,"JUAR2","","JUNCUS NODOSUS "," Knotted rush"]
["JUAR4","JUNCUS ARTICULATUS - Jointleaf rush",null,"y","y",null,100,"M",5,"JUAR4","","POLYGONUM SPP "," Knotweed species"]
["JUBA","JUNCUS BALTICUS - Baltic rush (JUAR2)",null,"y","y",null,75,"L",8.5,"JUBA","","KOCHIA SCOPARIA "," Kockia or Burning bush (BASC5)"]
["JUBU","JUNCUS BUFONIUS - Toad Rush",null,"y","y",null,75,"E",2,"JUBU","","SENECIO INTEGERRIMUS "," Lambstongue groundsel"]
["JUCO2","JUNCUS CONFUSUS - Colorado rush",null,null,"y",null,50,"M",2,"JUCO2","","ERIGERON COULTERI  "," Large mountain fleabain"]
["JUCO6","JUNIPERUS COMMUNIS - Common juniper","y","",null,null,25,"M",5,"","","GEUM MACROPHYLLUM "," Largeleaf avens"]
["JUDR","JUNCUS DRUMMONDII - Drummond's rush",null,"y","y",null,75,"M",2,"JUDR","","ASTER FOLIACEUM "," Leafy aster (SYFO2)"]
["JUDU2","JUNCUS DUDLEYI - Dudley rush",null,"y","y",null,75,"L",8.5,"JUDU2","","EUPHORBIA ESULA "," Leafy spurge"]
["JUEF","JUNCUS EFFUSUS - Common rush",null,"y","y",null,75,"L",8.5,{"$f":"IF(G259>25,IF(E259=\"y\",IF(F259=\"\",A259,\"\"),\"\"),\"\")","v":"JUEF"},{"$f":"IF(C259 = \"y\", IF(D259=\"y\",A259,\"\"),\"\")","v":""},"PUCCINELLIA LEMMONII "," Lemmon's alkaligrass"]
["JUEN","JUNCUS ENSIFOLIUS - Swordleaf rush",null,"y","y",null,75,"M",5,"JUEN","","SALIX LEMMONII "," Lemon's willow"]
["JUIN2","JUNCUS INTERIOR - Inland rush",null,"y","y",null,50,"L",5,"JUIN2","","PHILADELPHUS LEWISII "," Lewis' mock orange"]
["JULO","JUNCUS LONGISTYLIS - Longstyle rush",null,"y","y",null,75,"M",5,"JULO","","MIMULUS LEWISII "," Lewis' monkey flower"]
["JUMA","JUGLANS MAJOR - Arizona walnut","y",null,null,null,50,"L",8.5,"","","CAREX PETASATA "," Liddon sedge"]
["JUMA3","JUNCUS MACROPHYLLUS - Longleaf rush",null,"y","y",null,75,"M",5,"JUMA3","","VIOLA SORORIA "," Little sand violet"]
["JUME3","JUNCUS MERTENSIANUS - Merten's rush",null,"y","y",null,100,"L",null,"JUME3","","RANUNCULUS ABORTIVUS "," Littleleaf buttercup"]
["JUME4","JUNCUS MEXICANUS - Mexican rush",null,"y","y",null,75,"M",8.5,"JUME4","","JUNCUS MACROPHYLLUS "," Longleaf rush"]
["JUNCU","JUNCUS SPECIES - Rush species",null,"y","y",null,75,"M",5,"JUNCU","","TRIFOLIUM LONGIPES "," Longstalk clover"]
["JUNE","JUNCUS NEVADENSIS - Sierra rush",null,"y","y",null,75,"L",5,"JUNE","","STELLARIA LONGIPES "," Longstalk starwort"]
["JUNO2","JUNCUS NODOSUS - Knotted rush",null,"y","y",null,100,"L",8.5,"JUNO2","","JUNCUS LONGISTYLIS "," Longstyle rush"]
["JUOC","JUNIPERUS OCCIDENTALIS - Western juniper","y",null,null,null,0,"E",2,"","","SALIX PROLIXA  "," MacKenzie's willow"]
["JUOR","JUNCUS ORTHOPHYLLUS - Straightleaf rush",null,"y","y",null,75,"M",2,"JUOR","","ELYHORDEUM MACOUNII "," Macoun’s barley"]
["JUOS","JUNIPERUS OSTEOSPERMA - Utah juniper","y",null,null,null,0,"E",2,"","","RANUNCULUS MACOUNII "," Macoun's buttercup"]
["JUSA","JUNCUS SAXIMOTANUS - Rocky Mountain rush",null,"y","y",null,75,"L",2,"JUSA","","PHYSOCARPUS MALVACEUS "," Mallow ninebark"]
["JUSC2","JUNIPERUS SCOPULORUM - Rocky Mountain juniper","y",null,null,null,25,"E",5,"","","GLYCERIA SPECIES "," Mannagrass"]
["JUTE","JUNCUS TENUIS - Povery rush",null,"y","y",null,75,"E",2,"JUTE","","HACKELIA FLORIBUNDA "," Many flowered stickseed"]
["JUTO","JUNCUS TORREYI - Torrey rush",null,"y","y",null,75,"L",8.5,"JUTO","","ACER SPP. "," Maple spp."]
["JUTR","JUNCUS TRACYI - Tracy's rush",null,"y","y",null,75,"M",5,"JUTR","","TRIGLOCHIN PALUSTRE"," Marsh arrowgrass"]
["JUXI","JUNCUS XIPHIOIDES - Irisleaf rush",null,"y","y",null,100,"L",8.5,"JUXI","","ASTER HESPERIUS "," Marsh aster (SYLA6)"]
["KAMI","KALMIA MICROPHYLLA - Bog Laurel","y","y",null,null,100,"M",5,"","KAMI","MUHLENBERGIA RACEMOSA "," Marsh muhly"]
["KOSC","KOCHIA SCOPARIA - Kockia or Burning bush (BASC5)",null,null,"y","y",50,"E",2,"","","SCUTELLARIA GALERICULATA "," Marsh skullcap "]
["LASE","LACTUCA SERRIOLA - Prickly Lettuce",null,null,"y","y",25,"E",2,"","","SANICULA MARILANDICA "," Maryland sanicle"]
["LECI4","LEYMUS CINEREUS - Basin Wildrye (ELCI2)",null,null,"y",null,50,"M",5,"LECI4","","MUHLENBERGIA RICHARDSONIS "," Mat muhly"]
["LEGL","LEDUM GLANDULOSUM - Trapper's Tea","y","y",null,null,75,"M",5,"","LEGL","HELIANTHUS MAXIMILIANI "," Maximilian sunflower"]
["LEIN6","LEYMUS INNOVATUS - Fuzzyspike wildrye (Downy ryegrass)",null,"","y",null,50,"M",8.5,"LEIN6","","HORDEUM BRACHYANTHERUM "," Meadow barley"]
["LEOR","LEERSIA ORYZOIDES - Rice cutgrass",null,"y","y",null,100,"L",5,"LEOR","","ALOPECURUS PRETENSIS "," Meadow Foxtail"]
["LETR5","LEYMUS TRITICOIDES - Beardless wildrye (ELTR3)",null,null,"y",null,50,"E",2,"LETR5","","JUNCUS MERTENSIANUS "," Merten's rush"]
["LIBO3","LINNAEA BOREALIS - Twinflower",null,null,"y","y",25,"E",2,"","","MESIC FORB EARLY "," Mesic forb early seral"]
["LIVU","LIGUSTRUM VALGARE - European privet","y","",null,null,0,"E",5,"","","MESIC FORB LATE "," Mesic forb late seral"]
["LOCA2","LOBELIA CARDINALIS - Cardinal flower",null,"y","y","y",100,"L",8.5,"","","MESIC FORB MID-SERAL "," Mesic Forb mid-seral"]
["LOIN5","LONICERA INVOLUCRATA - Black Twinberry","y",null,null,null,50,"M",5,"","","MESIC GRASS "," Mesic grass"]
["LONIC","LONICERA SPP. - Honeysuckle","y",null,null,null,50,"M",5,"","","MESIC SHRUB "," Mesic shrub "]
["LOUT2","LONICERA UTAHENSIS - Utah Honeysuckle","y",null,null,null,50,"L",5,"","","JUNCUS MEXICANUS "," Mexican rush"]
["LYAM","LYCOPUS AMERICANUS - American water horehound",null,"y","y","y",100,"M",5,"","","CLAYTONIA PERFOLIATA "," Miner's lettuce"]
["LYCA4","LYTHRUM CALIFORNICUM - California loosestrife",null,"y","y","y",100,"M",5,"","","MONTIA CHAMISSOI "," Miner's lettuce"]
["LYCI","LYSIMACHIA CILIATA - Fringed loosestrife",null,"y","y","y",75,"M",5,"","","ALNUS INCANA "," Mountain Alder"]
["LYSA2","LYTHRUM SALICARIA - Purple loosestrife",null,"y","y","y",100,"E",5,"","","SORBUS SCOPULINA "," Mountain ash"]
["MAFU","MALUS FUSCA - Oregon crab apple","y",null,null,null,50,"M",5,"","","BROMUS MARGINATUS "," Mountain brome"]
["MARE11","MAHONIA REPENS - Oregon-grape","y",null,null,null,25,"E",2,"","","TRIFOLIUM MONANTHUM "," Mountain carpet clover"]
["MAST4","MAIANTHEMUM STELLATUM - False solomon's seal (SMST)",null,null,"y","y",25,"E",2,"","","THERMOPSIS MONTANA  "," Mountain goldenbanner"]
["MEAL2","MELILOTUS ALBUS - Sweetclover (MEOF)",null,null,"y","y",25,"E",2,"","","DELPHINIUM GLAUCUM "," Mountain larkspur"]
["MEAR4","MENTHA ARVENSIS - Wild mint",null,"y","y","y",75,"M",2,"","","PHYSOCARPUS MONOGYNUS "," Mountain ninebark"]
["MECI3","MERTENSIA CILIATA - Streamside bluebells",null,"y","y","y",75,"M",5,"","","CAREX SCOPULORUM "," Mountain sedge"]
["MELU","MEDICAGO LUPULINA - Black medick",null,null,"y","y",50,"E",2,"","","SYMPHORICARPOS OREOPHILUS "," Mountain snowberry"]
["MEOF","MELILOTUS OFFICINALIS - Sweetclover (Yellow and white)",null,null,"y","y",25,"E",2,"","","SALIX MONTICOLA "," Mountain willow"]
["MESP3","MENTHA SPICATA - Spearmint",null,"y","y","y",100,"E",2,"","","CAREX LIMOSA "," Mud sedge"]
["METR3","MENYANTHES TRIFOLIATA - Buckbean",null,"y","y","y",100,"M",5,"","","MIMULUS MOSCHATUS "," Muskflower"]
["MFE","MESIC FORB EARLY - Mesic forb early seral",null,null,"y","y",50,"E",2,"","","VIBURNUM LENTAGO "," Nannyberry"]
["MFL","MESIC FORB LATE - Mesic forb late seral",null,"y","y","y",75,"L",8.5,"","","TYPHA ANGUSTIFOLIA "," Narrowleaf cattail"]
["MFM","MESIC FORB MID-SERAL - Mesic Forb mid-seral",null,null,"y","y",50,"M",2,"","","POPULUS ANGUSTIFOLIA "," Narrow-leaf cottonwood"]
["MG","MESIC GRASS - Mesic grass",null,null,"y",null,50,"E",2,"MG","","SALIX EXIGUA "," Narrowleaf willow"]
["MICA3","MIMULUS CARDINALIS - Scarlet monkey flower",null,"y","y","y",75,"M",2,"","","CAREX SPECICOLA "," Navajo sedge"]
["MIGU","MIMULUS GUTTATUS - Seep monkey flower",null,"y","y","y",100,"M",2,"","","CAREX NEBRASCENSIS "," Nebraska sedge"]
["MILE2","MIMULUS LEWISII - Lewis' monkey flower",null,"y","y","y",75,"M",2,"","","ELEOCHARIS ACICULARIS "," Needle spikerush"]
["MIMO2","MIMULUS MOSCHATUS - Muskflower",null,"y","y","y",100,"M",2,"","","CAREX DURIUSCULA "," Needleaf sedge"]
["MIPR","MIMULUS PRIMULOIDES - Primrose monkeyflower",null,"y","y","y",75,"M",2,"","","ACHNATHERUM Spp. "," Needlegrass (STIPA)"]
["MOCH","MONTIA CHAMISSOI - Miner's lettuce",null,"y","y","y",100,"M",2,"","","STIPA SPP "," Needlegrass species "]
["MOFI","MONARDA FISTULOSA - Wild bergamot",null,"","y","y",25,"E",2,"","","AGASTACHE URTICIFOLIA  "," Needleleaf giant hyssop"]
["MS","MESIC SHRUB - Mesic shrub ","y",null,null,null,50,"M",5,"","","POA NEVADENSIS "," Nevada bluegrass (POSE)"]
["MUAN","MUHLENBERGIA ANDINA - Foxtail muhly",null,null,"y",null,50,"M",2,"MUAN","","SCIRPUS NEVADENSIS "," Nevada bulrush"]
["MUAS","MUHLENBERGIA ASPERIFOLIA - Alkali muhly",null,"y","y",null,75,"M",2,"MUAS","","NO GREENLINE "," No Greenline"]
["MUCU3","MUHLENBERGIA CUSPIDATE - Plains muhly",null,null,"y",null,50,"E",2,"MUCU3","","CARDUUS NUTANS "," Nodding plumeless thistle (Musk thistle)"]
["MUFI2","MUHLENBERGIA FILIFOLIS - Slender muhly",null,"y","y",null,75,"E",2,"MUFI2","","GALIUM BOREALE "," Northern bedstraw"]
["MURA","MUHLENBERGIA RACEMOSA - Marsh muhly",null,"y","y",null,75,"L",5,{"$f":"IF(G323>25,IF(E323=\"y\",IF(F323=\"\",A323,\"\"),\"\"),\"\")","v":"MURA"},{"$f":"IF(C323 = \"y\", IF(D323=\"y\",A323,\"\"),\"\")","v":""},"RIBES HUDSONIANUM "," Northern black currant"]
["MURI","MUHLENBERGIA RICHARDSONIS - Mat muhly",null,null,"y",null,50,"M",2,"MURI","","PLATANTHERA AQUILONIS "," Northern green orchid"]
["MURI2","MUHLENBERGIA RIGENS - Deergrass",null,null,"y",null,50,"M",2,"MURI2","","CRATAEGUS CHRYSOCARPA "," Northern hawthorn"]
["NAOF","NASTURTIUM OFFICINALE - Watercress (RONA2)",null,"y","y","y",100,"E",2,"","","CAREX UTRICULATA "," Northwest territory  sedge (Beaked sedge)"]
["NG","NO GREENLINE - No Greenline",null,null,null,null,0,"E",1,"","","PUCCINELLIA NUTTALLIANA "," Nuttall's alkaligrass"]
["OECE","OEMLERIA CERASIFORMIS - Indian plum","y",null,null,null,25,"M",5,"","","HELIANTHUS NUTTALLII"," Nuttall's sunflower"]
["OEEL","OENOTHERA ELATA - Hooker's evening primrose",null,"y","y","y",75,"M",2,"","","GEUM TRIFLORUM "," Old man's whiskers"]
["OEFL","OENOTHERA FLAVA - Yellow evening primrose",null,"y","y","y",50,"L",2,"","","HELENIUM HOOPESII "," Orange sneezeweed (HYHO)"]
["ONAC","ONOPORDUM ACANTHIUM - Scotch thistle",null,null,"y","y",25,"E",2,"","","DACTYLIS GLOMERATA "," Orchardgrass"]
["OSVI","OSTRYA VIRGINIANA - Hophornbeam","y","",null,null,25,"E",2,"","","FRAXINUS LATIFOLIA "," Oregon ash"]
["OXALI","OXALIS SPP - Woodsorrel species",null,null,"y","y",25,"E",2,"","","MALUS FUSCA "," Oregon crab apple"]
["PACA6","PANICUM CAPILLARE - Witchgrass",null,null,"y",null,25,"E",2,"","","MAHONIA REPENS "," Oregon-grape"]
["PADI3","PASPALUM DILATATUM - Dallisgrass",null,null,"y",null,50,"E",2,"PADI3","","HYMENOXYS HOOPESII "," Owl's-claw (HEHO5)"]
["PADI6","PASPALUM DISTICHUM - Knotgrass",null,"y","y",null,75,"E",5,"PADI6","","PHYSOCARPUS CAPITATUS "," Pacific ninebark"]
["PAOB","PANICUM OBTUSUM - Vine mesquite",null,null,"y",null,25,"E",2,"","","SCIRPUS MICROCARPUS "," Panicled bulrush"]
["PASM","PASCOPYRUM SMITHII - Western Wheatgrass (AGSM)",null,null,"y",null,50,"M",5,"PASM","","BETULA PAPYRIFERA "," Paper birch"]
["PAVI2","PANICUM VIRGATUM - Switchgrass",null,null,"y",null,75,"L",2,"PAVI2","","SALIX AMYGDALOIDES "," Peachleaf willow"]
["PEGR2","PEDICULARIS GROENLANDICA - Elephanthead lousewort",null,"y","y","y",100,"L",2,"","","POTENTILLA PENSYLVANICA "," Pennsylvania cinquefoil"]
["PERY","PENSTEMON RYDBERGII - Rydberg's meadow penstemon",null,null,"y","y",25,"E",2,"","","POLYGONUM PENSYLVANICUM "," Pennsylvania smartweed"]
["PHAR3","PHALARIS ARUNDINACEAE - Reed canarygrass",null,"y","y",null,75,"E",5,"PHAR3","","ERIGERON PHILADELPHICUS "," Philadelphia fleabane"]
["PHAU7","PHRAGMITES AUSTRALIS  - Common reedgrass (PHCO15)",null,"y","y",null,75,"L",8.5,"PHAU7","","PHLOX SPP "," Phlox"]
["PHCA11","PHYSOCARPUS CAPITATUS - Pacific ninebark","y","y",null,null,75,"M",8.5,"","PHCA11","VIOLA GLABELLA "," Pioneer violet"]
["PHCO15","PHRAGMITES COMUNIS  - Common reedgrass (PHAU7)",null,"y","y",null,75,"L",8.5,"PHCO15","","MUHLENBERGIA CUSPIDATE "," Plains muhly"]
["PHLE4","PHILADELPHUS LEWISII - Lewis' mock orange","y",null,null,null,50,"M",5,"","","CYMOPTERUS ACAULIS "," Plains spring parsley"]
["PHLOX","PHLOX SPP - Phlox",null,null,"Y","Y",0,"M",2,"","","RANUNCULUS ALISMIFOLIUS "," Plantain buttercup"]
["PHMA5","PHYSOCARPUS MALVACEUS - Mallow ninebark","y","y",null,null,75,"M",8.5,"","PHMA5","PRUNUS SPP "," Plum species"]
["PHMO4","PHYSOCARPUS MONOGYNUS - Mountain ninebark","y",null,null,null,0,"M",5,"","","CONIUM MACULATUM "," Poison hemlock"]
["PHPR3","PHLEUM PRETENSE - Timothy",null,null,"y",null,25,"E",2,"","","PINUS PONDEROSA "," Ponderosa pine"]
["PIPO","PINUS PONDEROSA - Ponderosa pine","y",null,null,null,25,"L",5,"","","JUNCUS TENUIS "," Povery rush"]
["PLAQ2","PLATANTHERA AQUILONIS -   Northern green orchid",null,"y","y","y",100,"L",2,"","","ERIGERON STRIGOSUS "," Prairie (daisy) fleabane"]
["PLER","PLANTAGO ERIOPODA - Alkali plantain",null,"y","y","y",75,"E",2,"","","SPARTINA PECTINATA "," Prairie cordgrass"]
["PLMA2","PLANTAGO MAJOR - Common plantain",null,null,"y","y",50,"E",2,"","","CIRSIUM CANESCENS "," Prairie thistle"]
["PLMU3","PLURAPHIS MUTICA - Tobossa grass",null,null,"y",null,50,"M",5,"PLMU3","","LACTUCA SERRIOLA "," Prickly Lettuce"]
["PLSE","PLACHEA SERICEA - Arrowweed","y","y",null,null,75,"M",5,"","PLSE","MIMULUS PRIMULOIDES "," Primrose monkeyflower"]
["PLWR2","PLATANUS WRIGHTII - Arizona Sycamore","y","y",null,null,75,"L",5,"","PLWR2","POLYGONUM AVICULARE "," prostate knotweed"]
["POA","POA SPP - Bluegrass species",null,"","y",null,50,"E",2,"POA","","LYTHRUM SALICARIA "," Purple loosestrife"]
["POAM8","POLYGONUM AMPHIBIUM - Western smartweek",null,"y","y","y",100,"E",2,"","","POTENTILLA PALUSTRIS "," Purple marshlocks (COPA28)"]
["POAN3","POPULUS ANGUSTIFOLIA - Narrow-leaf cottonwood","y","y",null,null,75,"L",8.5,"","POAN3","COMARUM PALUSTRE "," Purple marshlocks (POPA14)"]
["POAN5","POTENTILLA ANSERINA - Silverweed cinquefoil (ARAN7)",null,"y","y","y",100,"E",2,"","","THALICTRUM DASYCARPUM "," Purple meadow-rue"]
["POAV","POLYGONUM AVICULARE - prostate knotweed",null,"y","y","y",75,"M",2,"","","ELYMUS REPENS "," Quackgrass (AGRE2)"]
["POBA2","POPULUS BALSAMIFERA - Black cottonwood (POTR15)","y",null,null,null,50,"L",8.5,"","","AGROPYRON REPENS "," Quackgrass (ELRE2)"]
["POBI6","POLYGONUM BISTORTOIDES - American bistort",null,"y","y","y",75,"M",2,"","","POPULUS TREMULOIDES "," Quaking aspen"]
["POCO","POA COMPRESSA - Canada bluegrass",null,null,"y",null,25,"E",2,"","","CAREX TENERA "," Quill sedge"]
["POCU3","POA CUSICKII - Cusick bluegrass",null,null,"y",null,25,"E",2,"","","TRIFOLIUM PRATENSE "," Red clover"]
["PODE3","POPULUS DELTOIDES - Eastern cottonwood","y",null,null,null,50,"L",8.5,"","","SAMBUCUS RACEMOSA "," Red Elderberry"]
["PODO4","POLYGONUM DOUGLASII - Douglas' knotweek",null,null,"y","y",25,"E",2,"","","FESTUCA RUBRA "," Red Fescue"]
["POFL3","POTENTILLA FLABELLIFOLIA - High mountain cinquefoil",null,"y","y","y",75,"M",2,"","","CORNUS STOLONIFERA "," Red osier dogwood (COSE16)"]
["POFR2","POPULUS FREMONTII - Fremont Cottonwood","y","y",null,null,75,"L",8.5,"","POFR2","CORNUS SERICEA "," Red osier dogwood (COST4)"]
["POFR4","POTENTILLA FRUTICOSA - Shrubby cinquefoil (DAFR6)","y",null,null,null,50,"L",5,"","","SALIX LAEVIGATA "," Red Willow"]
["POGR9","POTENTILLA GRACILIS - Slender cinquefoil",null,null,"y","y",50,"E",2,"","","AGROSTIS GIGANTEA "," Redtop"]
["POLA4","POLYGONUM LAPATHIFOLIUM - Curlytop knotweed",null,"y","y","y",75,"E",2,"","","PHALARIS ARUNDINACEAE "," Reed canarygrass"]
["POLYG4","POLYGONUM SPP - Knotweed species",null,null,"y","y",50,"E",2,"","","BETULA GLANDULOSA "," Resin birch"]
["POMO5","POLYPOGON  MONSPELIENSIS - Annual rabbitsfoot grass",null,"y","y",null,75,"E",2,"POMO5","","CAREX SPP RHIZOMATOUS "," Rhizomatous sedge"]
["PONE3","POA NEVADENSIS - Nevada bluegrass (POSE)",null,null,"y",null,25,"E",2,"","","SALIX SPP RHIZOMATOUS "," Rhizomatous willow"]
["POOC2","POLEMONIUM OCCIDENTALE - Western polemoniun",null,"y","y","y",75,"E",2,"","","LEERSIA ORYZOIDES "," Rice cutgrass"]
["POPA14","POTENTILLA PALUSTRIS - Purple marshlocks (COPA28)",null,"y","y","y",100,"M",2,"","","HEUCHERA RICHARDSONII "," Richardson's alumroot"]
["POPA2","POA PALUSTRIS - Fowl bluegrass",null,null,"y",null,50,"E",2,"POPA2","","GERANIUM RICHARDSONII "," Richardson's geranium"]
["POPE2","POLYGONUM PENSYLVANICUM - Pennsylvania smartweed",null,"y","y","y",75,"E",2,"","","AGRIMONIA STRIATA "," Roadside agimony"]
["POPE3","POLYGONUM PERSICARIA - Spotted ladysthumb",null,"y","y","y",75,"E",2,"","","IRIS MISSOURIENSIS "," Rocky Mountain iris"]
["POPE8","POTENTILLA PENSYLVANICA - Pennsylvania cinquefoil",null,"","y","y",25,"M",2,"","","JUNIPERUS SCOPULORUM "," Rocky Mountain juniper"]
["POPO4","POLYGONUM POLYGALOIDES - Kellogg's knotweed",null,"y","y","y",75,"E",2,"","","ACER GLABRUM "," Rocky Mountain Maple"]
["POPR","POA PRATENSIS - Kentucky bluegrass",null,null,"y",null,50,"E",2,"POPR","","JUNCUS SAXIMOTANUS "," Rocky Mountain rush"]
["POPU5","POLYGONUM PUNCTATUM - dotted smartweed",null,"y","y","y",75,"E",2,"","","CAREX SAXATILIS "," Rocky Mountain sedge"]
["POPUL","POPULUS SPP. - Cottonwood","y",null,null,null,50,"L",8.5,"","","CAREX SAXIMONTANA "," Rocky Mountain sedge"]
["POSE","POA SECUNDA - Sandberg bluegrass (PONE3)",null,null,"y",null,25,"E",2,{"$f":"IF(G387>25,IF(E387=\"y\",IF(F387=\"\",A387,\"\"),\"\"),\"\")","v":""},{"$f":"IF(C387 = \"y\", IF(D387=\"y\",A387,\"\"),\"\")","v":""},"ROSA SPP "," Rose species"]
["POTR15","POPULUS TRICOCARPA - Black cottonwood (POBA2)","y",null,null,null,50,"L",8.5,"","","ANTENNARIA ROSEA "," Rosy pussytoes"]
["POTR5","POPULUS TREMULOIDES - Quaking aspen","y",null,null,null,25,"L",8.5,"","","ECHINOCHLOA MURICATA "," Rough barnyardgrass"]
["POVI9","POLYPOGON VIRIDIS - Beardless Rabbitsfoot grass",null,"y","y",null,75,"E",2,"POVI9","","AGROSTIS SCABRA "," Rough Bentgrass"]
["PRAM","PRUNUS AMERICANA - American plum","y",null,null,null,25,"E",5,"","","ZANTHIUM STRUMARIUM "," Rough cocklebur"]
["PRAN2","PRUNUS ANDERSONII - Desert peach","y",null,null,null,0,"E",5,"","","CRATAEGUS SUCCULANTA "," Round leafed hawthorn"]
["PREM","PRUNUS EMARGINATA - Bitter cherry","y",null,null,null,25,"M",5,"","","ERICAMERIA NAUSEOSA  "," Rubber rabbitbrush (CHNA2)"]
["PRGL2","PROSOPIS GLANDULOSA - Honey mesquite","y",null,null,null,0,"E",5,"","","CHRYSOTHAMNUS NAUSEOSUS  "," Rubber rabbitbrush (ERNA10)"]
["PRPU","PROSOPIS PUBESCENS - Screwbean mesquite","y",null,null,null,50,"M",8.5,"","","RUMEX SPECIES "," Rumex"]
["PRUNU","PRUNUS SPP - Plum species","y","",null,null,25,"M",5,"","","JUNCUS SPECIES "," Rush species"]
["PRVE","PROSOPIS VELUTINA - Velet mesquite","y",null,null,null,25,"M",8.5,"","","ELAEAGNUS ANGUSTIFOLIA "," Russian olive"]
["PRVI","PRUNUS VIRGINIA - Chokecherry","y",null,null,null,50,"L",8.5,"","","PENSTEMON RYDBERGII "," Rydberg's meadow penstemon"]
["PSME","PSEUDOTSUGE MENZIESII - Douglas Fir","Y",null,null,null,25,"M",5,"","","SALIX CANDIDA "," Sageleaf willow"]
["PTAQ","PTERIDIUM AQUILINUM - Western brackenfern",null,"","y","y",25,"M",5,"","","HELIOTROPIUM CURASSAVICUM "," Salt heliotrope"]
["PULE","PUCCINELLIA LEMMONII - Lemmon's alkaligrass",null,"y","y",null,75,"M",2,"PULE","","CAREX HASSEI "," Salt sedge"]
["PUNU2","PUCCINELLIA NUTTALLIANA - Nuttall's alkaligrass",null,"y","y",null,75,"L",2,"PUNU2","","TAMARIX RAMOSISSIMA "," Saltcedar"]
["QUMA2","QUERCUS MACROCARPA - Bur oak","y","",null,null,50,"M",5,"","","POA SECUNDA "," Sandberg bluegrass (PONE3)"]
["RAAB","RANUNCULUS ABORTIVUS - Littleleaf buttercup",null,"y","y","y",75,"E",2,"","","CAREX SARTWELLII "," Sartwell's sedge"]
["RAAL","RANUNCULUS ALISMIFOLIUS - Plantain buttercup",null,"y","y","y",75,"E",2,"","","MIMULUS CARDINALIS "," Scarlet monkey flower"]
["RAAQ","RANUNCULUS AQUATILIS - White  water crowfoot",null,"y","y","y",100,"M",2,"","","ONOPORDUM ACANTHIUM "," Scotch thistle"]
["RAMA2","RANUNCULUS MACOUNII - Macoun's buttercup",null,"y","y","y",100,"E",2,"","","SALIX SCOULERIANA "," Scouler willow"]
["RANUN","RANUNCULUS SPP. - Buttercup",null,"y","y","y",75,"E",2,"","","EQUISETUM HYEMALE "," Scouringrush horsetail"]
["RHAL","RHAMNUS ALNIFOLIA - Alderleaf buckthorn","y","y",null,null,100,"M",8.5,"","RHAL","PROSOPIS PUBESCENS "," Screwbean mesquite"]
["RHAR4","RHUS AROMATICA - Fragrant sumac","y",null,null,null,25,"E",5,"","","GLAUX MARITIMA "," Sea milkwort"]
["RHCA3","RHAMNUS CATHARTICA - Common buckthorn","y",null,null,null,50,"E",5,"","","TRIGLOCHIN MARITIMA "," Seaside arrowgrass"]
["RHTR","RHUS TRILOBATA - Skunkbush sumac","y",null,null,null,25,"E",5,"","","CAREX SPP "," Sedge"]
["RIAM2","RIBES AMERICANUM - American black currant","y",null,null,null,50,"E",5,"","","MIMULUS GUTTATUS "," Seep monkey flower"]
["RIAU","RIBES AUREUM - Goldern Currant, Buffalo Currant (RIOD)","y",null,null,null,50,"E",5,"","","AMELANCHIER ALNIFOLIA "," Serviceberry"]
["RIBES","RIBES SPP - Currant","y",null,null,null,50,"E",5,"","","CAREX SHELDONII "," Sheldon's sedge"]
["RICE","RIBES CEREUM - Wax currant","y",null,null,null,25,"E",5,"","","SALIX LUCIDA "," Shining willow (SALA5)"]
["RIHU","RIBES HUDSONIANUM - Northern black currant","y","y",null,null,75,"M",5,"","RIHU","CAREX SIMULATA "," Short beaked sedge"]
["RIIN2","RIBES INERME - Whitestem gooseberry","y",null,null,null,50,"E",5,"","","ALOPECURUS AEQUALIS "," Short-awned foxtail"]
["RIIR","RIBES IRRIGUUM - Idaho gooseberry (RIOX)","y",null,null,null,50,"M",5,"","","CAREX BREVIOR "," Shortbeak sedge"]
["RIOD","RIBES ODORATUM - Buffalo currant (RIAU)","y",null,null,null,50,"E",5,"","","POTENTILLA FRUTICOSA "," Shrubby cinquefoil (DAFR6)"]
["RIOX","RIBES OXYACANTHOIDES - Idaho gooseberry (RIIR)","y",null,null,null,50,"M",5,"","","DASIPHORA FRUTICOSA "," Shrubby cinquefoil (POFR4)"]
["RIVI3","RIBES VISCOSISSIMUM - Sticky Currant","y",null,null,null,50,"E",5,"","","JUNCUS NEVADENSIS "," Sierra rush"]
["RK","ROCK - Embedded Rock",null,null,null,null,100,"L",10,"","","SHEPHERDIA ARGENTEA "," Silver buffaloberry"]
["RONA2","RORIPPA NASTURTIUM-AQUATICUM - Watercress (NAOF)",null,"y","y","y",100,"E",2,"","","ARTEMISIA CANA "," Silver sagebrush"]
["ROPI2","ROSA PISOCARPA - Cluster Rose","y",null,null,null,50,"M",5,"","","ELAEAGNUS COMMUTATA "," Silverberry"]
["ROSA5","ROSA SPP - Rose species","y","",null,null,25,"M",5,"","","POTENTILLA ANSERINA "," Silverweed cinquefoil (ARAN7)"]
["ROWO","ROSA WOODSII - Woods' rose","y",null,null,null,25,"E",5,"","","ARGENTINA ANSERINA "," Silverweed cinquefoil (POAN5)"]
["RUBUS","RUBUS SPP - Blackberry species","y",null,null,null,25,"E",5,"","","SALIX SITCHENSIS "," Sitka willow"]
["RUCR","RUMEX CRISPUS - Curly dock",null,null,"y","y",50,"E",2,"","","RHUS TRILOBATA "," Skunkbush sumac"]
["RUDE2","RUMEX DENSIFLORUS - Denseflowered dock",null,"y","y","y",75,"E",2,"","","POTENTILLA GRACILIS "," Slender cinquefoil"]
["RUHI2","RUDBECKIA HIRTA - Blackeyed susan",null,"","y","y",25,"E",2,"","","MUHLENBERGIA FILIFOLIS "," Slender muhly"]
["RUID","RUBUS IDAEUS - American red raspberry","y","",null,null,25,"E",2,"","","ELYMUS TRACHYCAULUS "," Slender wheatgrass"]
["RULA3","RUDBECKIA LACINIATA - Cutleaf coneflower",null,null,"y","y",50,"M",5,"","","CAREX ATHROSTACHYA "," Slenderbeak sedge"]
["RUMA4","RUMEX MARITIMUS - Golden dock",null,"y","y","y",75,"E",2,"","","CALMAGROSTIS STRICTA "," Slimstem reedgrass"]
["RUMEX","RUMEX SPECIES - Rumex",null,null,"y","y",50,"E",2,"","","GLYCERIA BOREALIS "," Small floating mannagrass"]
["RUOC2","RUDBECKIA OCCIDENTALIS - Coneflower/Blackhead",null,null,"y","y",50,"E",2,"","","VIOLA MACLOSKEYI "," Small white violet"]
["SAAL2","SALIX ALBA - White willow","y","y",null,null,75,"M",8.5,"","SAAL2","CAREX MICROPTERA "," Small winged sedge"]
["SAAM2","SALIX AMYGDALOIDES - Peachleaf willow","y","y",null,null,75,"L",8.5,"","SAAM2","TAMARIX PARVIFLORA "," Smallflower tamarisk"]
["SABE2","SALIX BEBBIANA - Bebb willow","y","y",null,null,75,"L",8.5,"","SABE2","BROMUS INERMIS "," Smooth brome"]
["SABO","SALIX BONPLANDIANA - Bonpland willow","y","y",null,null,75,"L",8.5,"","SABO","EQUISETUM LAEVIGATUM "," smooth horsetail"]
["SABO2","SALIX BOOTHII - Booth's willow","y","y",null,null,75,"L",8.5,"","SABO2","SYMPHORICARPUS Spp. "," Snowberry"]
["SACA4","SALIX CANDIDA - Sageleaf willow","y","y",null,null,100,"M",8.5,"","SACA4","CAREX DISPERMA "," Softleaf sedge"]
["SACU","SAGITTARIA CUNEATA - Arumleaf arrowhead",null,"y","y","y",100,"M",5,"","","SCIRPUS VALIDUS "," Softstem bulrush (SCTA2)"]
["SADR","SALIX DRUMMONDIANA - Drummond's willow","y","y",null,null,75,"L",8.5,"","SADR","SCHOENOPLECTUS TABERNAEMONTANI "," Softstem bulrush (SCVA)"]
["SAEX","SALIX EXIGUA - Narrowleaf willow","y","y",null,null,75,"E",5,"","SAEX","CAREX BELLA "," Southwest showy sedge"]
["SAGE2","SALIX GEYERIANA - Geyer's willow","y","y",null,null,100,"L",8.5,"","SAGE2","MENTHA SPICATA "," Spearmint"]
["SAGO","SALIX GOODDINGII - Gooding's willow","y","y",null,null,75,"L",8.5,"","SAGO","VERONICA SPP. "," Speedwell"]
["SAIR","SALIX IRRORATA - Dewystem willow","y","y",null,null,75,"L",8.5,"","SAIR","ELEOCHARIS SPECIES "," Spikerush"]
["SAJE","SALIX JEPSONII - Jepson willow","y","y",null,null,100,"L",8.5,"","SAJE","CHLORACANTHA SPINOSA "," Spiny chloracantha"]
["SALA3","SALIX LAEVIGATA - Red Willow","y","y",null,null,75,"L",8.5,"","SALA3","JUNCUS ACUTUS "," Spiny rush"]
["SALA5","SALIX LASIANDRA - Whiplash willow (SALU)","y","y",null,null,75,"L",8.5,{"$f":"IF(G451>25,IF(E451=\"y\",IF(F451=\"\",A451,\"\"),\"\"),\"\")","v":""},{"$f":"IF(C451 = \"y\", IF(D451=\"y\",A451,\"\"),\"\")","v":"SALA5"},"SONCHUS ASPER "," Spiny sowthistle"]
["SALA6","SALIX LASIOLEPIS - Arroyo willow","y","y",null,null,75,"L",8.5,"","SALA6","EUTROCHIUM MACULATUM "," Spotted joe pye weed (EUMA12)"]
["SALE","SALIX LEMMONII - Lemon's willow","y","y",null,null,75,"L",8.5,"","SALE","EUPATORIADELPHUS MACULATUS "," Spotted joe pye weed (EUMA9)"]
["SALIX","SALIX SPP. - Willow","y","y",null,null,75,"M",5,"","SALIX","CENTAUREA MACULOSA "," Spotted knapweed"]
["SALIXCL","SALIX SPP CLUMPED - Clumped willow","y","y",null,null,75,"L",8.5,"","SALIXCL","CENTAUREA STOEBE "," Spotted knapweed"]
["SALIXRH","SALIX SPP RHIZOMATOUS - Rhizomatous willow","y",null,null,null,50,"E",5,"","","POLYGONUM PERSICARIA "," Spotted ladysthumb"]
["SALU","SALIX LUCIDA - Shining willow (SALA5)","y","y",null,null,75,"L",8.5,"","SALU","RIBES VISCOSISSIMUM "," Sticky Currant"]
["SALU2","SALIX LUTEA - Yellow willow","y","y",null,null,100,"L",8.5,"","SALU2","GERANIUM  VISCOSISSIUM "," Sticky geranium"]
["SAMA2","SANICULA MARILANDICA - Maryland sanicle",null,"","y","y",50,"M",5,"","","URTICA DIOICA "," Stinging nettle"]
["SAMO2","SALIX MONTICOLA - Mountain willow","y","y",null,null,100,"L",8.5,"","SAMO2","JUNCUS ORTHOPHYLLUS "," Straightleaf rush"]
["SANI4","SAMBUCUS NIGRA - Black Elderberry","y",null,null,null,50,"M",5,"","","MERTENSIA CILIATA "," Streamside bluebells"]
["SAOD2","SAXIFRAGA ODONTOLOMA - Brook saxifrage",null,"y","y","y",75,"M",2,"","","CELTIS LAEVIGATA "," Sugarberry"]
["SAPL2","SALIX PLANIFOLIA - Diamondleaf willow","y","y",null,null,100,"L",8.5,"","SAPL2","MELILOTUS ALBUS "," Sweetclover (MEOF)"]
["SAPR3","SALIX PROLIXA  - MacKenzie's willow","y","y",null,null,100,"L",8.5,"","SAPR3","MELILOTUS OFFICINALIS "," Sweetclover (Yellow and white)"]
["SAPS","SALIX PSEUDOMONTICOLA - False mountain willow","y","y",null,null,75,"L",8.5,"","SAPS","PANICUM VIRGATUM "," Switchgrass"]
["SARA2","SAMBUCUS RACEMOSA - Red Elderberry","y",null,null,null,25,"M",5,"","","JUNCUS ENSIFOLIUS "," Swordleaf rush"]
["SASA4","SAPINDUS SAPONARIA - Wingleaf soapberry","y",null,null,null,25,"E",2,"","","AGRIMONIA GRYPOSEPALA "," Tall hairy agrimony"]
["SASC","SALIX SCOULERIANA - Scouler willow","y",null,null,null,50,"L",8.5,"","","SENECIO SERRA "," Tall ragwort"]
["SASI2","SALIX SITCHENSIS - Sitka willow","y","y",null,null,75,"L",8.5,"","SASI2","CYPERUS ACUMINATUS "," Tapered leaf flatsedge"]
["SATA","SALIX TAXIFOLIA - Yewleaf willow","y","y",null,null,75,"L",8.5,"","SATA","CAREX LEPTOPODA "," Taperfruit shortscale sedge"]
["SATW","SALIX TWEEDYI - Tweedy's willow","y","y",null,null,75,"L",8.5,"","SATW","CREPIS ACUMINATA "," Tapertip hawksbeard"]
["SAVE4","SARCOBATUS VERMICULATUS - Greasewood","y",null,null,null,50,"L",2,"","","JUNCUS ACUMINATUS "," Tapertip rush"]
["SAWO","SALIX WOLFII - Wolf's willow","y","y",null,null,100,"L",8.5,"","SAWO","EURYBIA INTEGRIFOLIA "," Thickstem Aster (ASIN3)"]
["SCAC","SCIRPUS ACUTUS - Hardstem bulrush (SCAC3)",null,"y","y",null,100,"L",8.5,"SCAC","","ASTER INTEGRIFOLIUS "," Thickstem Aster (EUIN9)"]
["SCAC3","SCHOENOPLECTUS ACUTUS - Hardstem bulrush (SCAC)",null,"y","y",null,100,"L",8.5,"SCAC3","","CYLINDROPUNTIA DAVISII "," Thistle cholla"]
["SCAM2","SCIRPUS AMERICANUS - Chairmaker's bulrush (SCAM6)",null,"y","y",null,100,"L",8.5,"SCAM2","","CAREX FILIFOLIA "," Threadleaf sedge"]
["SCAM6","SCHOENOPLECTUS AMERICANUS - Chairmaker's bulrush (SCAM2)",null,"y","y",null,100,"L",8.5,"SCAM6","","GALIUM TRIFIDUM "," Threepetal bedstraw"]
["SCAT4","SCIRPUS ATROCINCTUS - Blackgirdle bulrush",null,"y","y",null,100,"L",5,"SCAT4","","CAREX THURBERI "," Thurber's sedge"]
["SCCO","SCIRPUS CONGDONII - Condon's bulrush",null,"y","y",null,75,"L",8.5,"SCCO","","DANTHONIA INTERMEDIA "," Timber oatgrass"]
["SCCY","SCIRPUS CYPERINUS - Woolgrass",null,"y","y",null,100,"L",5,"SCCY","","PHLEUM PRETENSE "," Timothy"]
["SCFE","SCOLOCHLOA FESTUCACEA - Common rivergrass",null,"y","y",null,100,"L",5,"SCFE","","JUNCUS BUFONIUS "," Toad Rush"]
["SCGA","SCUTELLARIA GALERICULATA - Marsh skullcap ",null,"y","y","y",100,"M",2,"","","PLURAPHIS MUTICA "," Tobossa grass"]
["SCHOE6","SCHOENOPLECTUS Spp. - Bulrush species",null,"y","y",null,100,"L",8.5,"SCHOE6","","JUNCUS TORREYI "," Torrey rush"]
["SCIRP","SCIRPUS SPP - Bulrush species",null,"y","y",null,100,"L",8.5,"SCIRP","","JUNCUS TRACYI "," Tracy's rush"]
["SCMA","SCIRPUS MARITIMUS - Cosmopolitan bulrush (SCMA8)",null,"y","y",null,100,"L",8.5,"SCMA","","LEDUM GLANDULOSUM "," Trapper's Tea"]
["SCMA8","SCHOENOPLECTUS MARITIMUS - Cosmopolitan bulrush (SCMA)",null,"y","y",null,100,"L",8.5,"SCMA8","","CAREX SPP TUFTED "," Tufted (clumped) sedge"]
["SCMI2","SCIRPUS MICROCARPUS - Panicled bulrush",null,"y","y",null,100,"L",8.5,"SCMI2","","DESCHAMPSIA CESPITOSA "," Tufted hairgrass"]
["SCNE","SCIRPUS NEVADENSIS - Nevada bulrush",null,"y","y",null,100,"L",8.5,"SCNE","","CAREX LENTICULARIS "," Tufted sedge"]
["SCPA8","SCIRPUS PALLIDUS - Cloaked bulrush",null,"y","y",null,100,"L",8.5,"SCPA8","","SALIX TWEEDYI "," Tweedy's willow"]
["SCPU10","SCIRPUS PUNGENS - Common Threesquare bulrush (SCPU10)",null,"y","y",null,100,"L",8.5,"SCPU10","","LINNAEA BOREALIS "," Twinflower"]
["SCPU3","SCHOENOPLECTUS PUNGENS  - Common Threesquare bulrush (SCPU8)",null,"y","y",null,100,"L",8.5,"SCPU3","","SMILACINA STELLATA "," Twisted Stalk (MAST4)"]
["SCTA2","SCHOENOPLECTUS TABERNAEMONTANI - Softstem bulrush (SCVA)",null,"y","y",null,100,"L",8.5,"SCTA2","","UPLAND FORB "," Upland forb"]
["SCVA","SCIRPUS VALIDUS - Softstem bulrush (SCTA2)",null,"y","y",null,100,"L",8.5,"SCVA","","UPLAND GRASS "," Upland grass"]
["SEHY2","SENECIO HYDROPHILUS - Water ragwort",null,"y","y","y",100,"M",2,"","","UPLAND SHRUB "," Upland shrub"]
["SEIN2","SENECIO INTEGERRIMUS - Lambstongue groundsel",null,null,"y","y",25,"E",2,"","","LONICERA UTAHENSIS "," Utah Honeysuckle"]
["SESE2","SENECIO SERRA - Tall ragwort",null,null,"y","y",25,"E",2,"","","JUNIPERUS OSTEOSPERMA "," Utah juniper"]
["SETR","SENECIO TRIANGULARIS - Arrowleaf ragwort",null,"y","y","y",75,"M",2,"","","CAREX VALLICOLA "," Valley sedge"]
["SHAR","SHEPHERDIA ARGENTEA - Silver buffaloberry","y",null,null,null,25,"M",5,"","","EQUISETUM VARIEGATUM "," Variegated horsetail"]
["SMST","SMILACINA STELLATA - Twisted Stalk (MAST4)",null,null,"y","y",25,"E",2,"","","THALICTRUM VENULOSUM "," Veiny meadow-rue"]
["SOAS","SONCHUS ASPER - Spiny sowthistle",null,null,"y","y",50,"E",2,"","","PROSOPIS VELUTINA "," Velet mesquite"]
["SOCA6","SOLIDAGO CANADENSIS - Canada goldenrod",null,null,"y","y",25,"E",2,"","","FRAXINUS VELUTINA "," Velvet ash"]
["SODU","SOLANUM DULCAMARA - Climbing nightshade",null,null,"y","y",50,"E",2,"","","ACER CIRCINATUM "," Vine maple"]
["SOGI","SOLIDAGO GIGANTEA - Giant goldenrod",null,"y","y","y",75,"M",5,"","","PANICUM OBTUSUM "," Vine mesquite"]
["SONU2","SORGHASTRUM NUTANS - Indian grass",null,null,"y",null,25,"E",2,"","","VIOLA SPP "," Violet species"]
["SOSC2","SORBUS SCOPULINA - Mountain ash","y",null,null,null,25,"M",5,"","","FRAGARIA VIRGINIANA "," Virginia strawberry"]
["SPAI","SPOROBOLUS AIROIDES - Alkali sacaton",null,null,"y",null,50,"M",5,"SPAI","","BETULA OCCIDENTALIS "," Water birch"]
["SPDO","SPIRAEA DOUGLASII - Douglas Spirea","y","y",null,null,75,"L",5,"","SPDO","ALOPECURUS GENICULATUS "," Water Foxtail"]
["SPEM2","SPARGANIUM EMERSUM - European bur-reed",null,"y","y","y",100,"E",2,"","","EQUISETUM FLUVIATILE "," Water horsetail"]
["SPEU","SPARGANIUM EURYCARPUM - Giant bur-reed",null,"y","y","y",100,"L",2,"","","SENECIO HYDROPHILUS "," Water ragwort"]
["SPGR","SPARTINA GRACILIS - Alkali cordgrass",null,"y","y",null,75,"M",8.5,"SPGR","","CAREX AQUATILIS "," Water sedge"]
["SPPE","SPARTINA PECTINATA - Prairie cordgrass",null,"y","y",null,100,"L",8.5,"SPPE","","VERONICA ANAGALLIS-AQUATICA "," Water speedwell"]
["SPWR2","SPOROBOLUS WRIGHTII - Big sacaton",null,null,"y",null,50,"L",5,"SPWR2","","CATABROSA AQUATICA "," Water whorlgrass"]
["STCO3","STIPA COLUMBIANA - Columbia needlegrass (ACNE9)",null,null,"y",null,25,"E",2,"","","RORIPPA NASTURTIUM-AQUATICUM "," Watercress (NAOF)"]
["STIPA","STIPA SPP - Needlegrass species ",null,null,"y",null,25,"E",2,"","","NASTURTIUM OFFICINALE "," Watercress (RONA2)"]
["STLO2","STELLARIA LONGIPES - Longstalk starwort",null,"y","y","y",75,"M",5,{"$f":"IF(G515>25,IF(E515=\"y\",IF(F515=\"\",A515,\"\"),\"\"),\"\")","v":""},{"$f":"IF(C515 = \"y\", IF(D515=\"y\",A515,\"\"),\"\")","v":""},"RIBES CEREUM "," Wax currant"]
["STPI6","STACHYS PILOSA - Hairy hedgenettle ",null,"y","y","y",75,"M",2,"","","SYMPHYOTRICHUM ASCENDENS "," Western Aster"]
["SYAL","SYMPHORICARPOS ALBUS - Common snowberry","y",null,null,null,25,"L",5,"","","ASTER CHILENSIS "," Western Aster (SYCH4)"]
["SYAS3","SYMPHYOTRICHUM ASCENDENS - Western Aster",null,null,"y","y",50,"E",2,"","","PTERIDIUM AQUILINUM "," Western brackenfern"]
["SYLA6","SYMPHYOTRICHUM LANCEOLATUM - White panicle aster (ASHE)",null,"y","y","y",100,"L",5,"","","AQUILEGIA FORMOSA "," Western columbine"]
["SYMPH","SYMPHORICARPUS Spp. - Snowberry","y","",null,null,50,"M",5,"","","JUNIPERUS OCCIDENTALIS "," Western juniper"]
["SYMPH4","SYMPHYOTRICHUM Spp. - Aster Spp. ",null,null,"y","y",25,"E",2,"","","SYMPHYOTRICHUM SPATHULATUM "," Western mountain aster (ASOC)"]
["SYOC","SYMPHORICARPOS OCCIDENTALIS - Western snowberry","y",null,null,null,50,"M",5,"","","ASTER OCCIDENTALIS "," Western mountain aster (SYSP)"]
["SYOR2","SYMPHORICARPOS OREOPHILUS - Mountain snowberry","y",null,null,null,25,"M",5,"","","TOXICODENDRON RYDBERGII "," Western poison ivy"]
["SYSP","SYMPHYOTRICHUM SPATHULATUM - Western mountain aster (ASOC)",null,null,"y","y",50,"E",2,"","","POLEMONIUM OCCIDENTALE "," Western polemoniun"]
["TACH2","TAMARIX CHINENSIS - Five-stamen saltcedar","y",null,null,null,50,"E",8.5,"","","POLYGONUM AMPHIBIUM "," Western smartweek"]
["TAOF","TARAXACUM OFFICINALE - Common Dandelion",null,null,"y","y",25,"E",2,"","","SYMPHORICARPOS OCCIDENTALIS "," Western snowberry"]
["TAPA4","TAMARIX PARVIFLORA - Smallflower tamarisk","y","y",null,null,50,"E",8.5,"","TAPA4","CICUTA DOUGLASII "," Western water hemlock"]
["TARA","TAMARIX RAMOSISSIMA - Saltcedar","y","y",null,null,75,"E",8.5,"","TARA","PASCOPYRUM SMITHII "," Western Wheatgrass (AGSM)"]
["TAVU","TANACETUM VULGARE - Common tansy",null,"","y","y",25,"E",5,"","","AGROPYRON SMITHII "," Western Wheatgrass (PASM)"]
["THDA","THALICTRUM DASYCARPUM - Purple meadow-rue",null,"y","y","y",75,"M",5,"","","CAREX ATHERODES "," Wheat sedge"]
["THFE","THALICTRUM FENDLERI - Fendler meadowrue",null,null,"y","y",50,"E",2,"","","SALIX LASIANDRA "," Whiplash willow (SALU)"]
["THMO6","THERMOPSIS MONTANA  - Mountain goldenbanner",null,"","y","y",50,"E",5,"","","RANUNCULUS AQUATILIS "," White  water crowfoot"]
["THVE","THALICTRUM VENULOSUM - Veiny meadow-rue",null,"","y","y",25,"M",5,"","","CLEMATIS LIGUSTIFOLIA "," White Clematis"]
["TORY","TOXICODENDRON RYDBERGII - Western poison ivy","y",null,null,null,25,"E",5,"","","TRIFOLIUM REPENS "," White clover"]
["TRDU","TRAGOPOGON DUBIUS - Yellow salsify",null,null,"y","y",25,"E",2,"","","CALTHA LEPTOSEPALA "," White marsh marigold"]
["TRIFO","TRIFOLIUM SPP. - Clover Spp.",null,null,"y","y",50,"E",2,"","","CAREX GEOPHILA "," White Mountain sedge"]
["TRLO","TRIFOLIUM LONGIPES - Longstalk clover",null,"y","y","y",75,"E",2,"","","SYMPHYOTRICHUM LANCEOLATUM "," White panicle aster (ASHE)"]
["TRMA20","TRIGLOCHIN MARITIMA - Seaside arrowgrass",null,"y","y","y",100,"E",5,"","","ARTEMISIA LUDOVICIANA "," White sagebrush"]
["TRMO2","TRIFOLIUM MONANTHUM - Mountain carpet clover",null,null,"y","y",50,"E",2,"","","SALIX ALBA "," White willow"]
["TRPA28","TRIGLOCHIN PALUSTRE-  Marsh arrowgrass",null,"y","y","y",100,"E",2,"","","RIBES INERME "," Whitestem gooseberry"]
["TRPR2","TRIFOLIUM PRATENSE - Red clover",null,"","y","y",25,"M",2,"","","ACACIA CONSTRICTA "," Whitethorn acacia"]
["TRRE3","TRIFOLIUM REPENS - White clover",null,null,"y","y",25,"E",2,"","","MONARDA FISTULOSA "," Wild bergamot"]
["TRWO","TRIFOLIUM WORMSKJOLDII - Cows clover",null,"y","y","y",75,"M",2,"","","MENTHA ARVENSIS "," Wild mint"]
["TYAN","TYPHA ANGUSTIFOLIA - Narrowleaf cattail",null,"y","y","y",100,"M",8.5,"","","SALIX SPP. "," Willow"]
["TYLA","TYPHA LATIFOLIA - Broadleaf Cattail",null,"y","y","y",100,"M",8.5,"","","BACCHARIS SALICIFOLIA "," Willow Baccharis"]
["TYPHA","TYPHA SPP - Cattail species",null,"y","y","y",100,"M",8.5,"","","SAPINDUS SAPONARIA "," Wingleaf soapberry"]
["UF","UPLAND FORB - Upland forb",null,"","y","y",0,"E",2,"","","PANICUM CAPILLARE "," Witchgrass"]
["UG","UPLAND GRASS - Upland grass",null,null,"y",null,0,"E",2,"","","SALIX WOLFII "," Wolf's willow"]
["ULAM","ULMUS AMERICANA - American Elm","y",null,null,null,50,"L",8.5,"","","EQUISETUM SYLVATICUM "," Woodland horsetail"]
["URDI","URTICA DIOICA - Stinging nettle",null,null,"y","y",50,"M",8.5,"","","ROSA WOODSII "," Woods' rose"]
["US","UPLAND SHRUB - Upland shrub","y",null,null,null,0,"E",2,"","","OXALIS SPP "," Woodsorrel species"]
["VEAM2","VERONICA AMERICANA - American speedwell",null,"y","y","y",100,"M",5,"","","SCIRPUS CYPERINUS "," Woolgrass"]
["VEAN2","VERONICA ANAGALLIS-AQUATICA - Water speedwell",null,"y","y","y",100,"M",2,"","","CAREX LASIOCARPA "," Wooly fruit sedge"]
["VECA2","VERATRUM CALIFORNICUM - California false hellebore",null,"y",null,"y",75,"M",8.5,"","","CAREX PELLITA "," Wooly sedge (CALA30)"]
["VERON","VERONICA SPP. - Speedwell",null,"y","y","y",100,"M",2,"","","CAREX LANUGINOSA "," Wooly sedge (CAPE42)"]
["VIAD","VIOLA ADUNCA - Kirk's violet",null,null,"y","y",50,"M",2,"","","CAREX WOOTONII "," Wooton's sedge"]
["VIAM","VICIA AMERICANA - American vetch",null,null,"y","y",50,"M",5,"","","OENOTHERA FLAVA "," Yellow evening primrose"]
["VICA4","VIOLA CANADENSIS - Canada violet",null,"","y","y",25,"E",2,"","","CYPRIPEDIUM PARVIFLORUM "," Yellow ladyslipper"]
["VIGL","VIOLA GLABELLA - Pioneer violet",null,null,"y","y",50,"M",2,"","","CHRYSOTHAMNUS VISCIDIFLORUS "," Yellow rabbitbrush"]
["VILE","VIBURNUM LENTAGO - Nannyberry","y",null,null,null,50,"M",5,"","","TRAGOPOGON DUBIUS "," Yellow salsify"]
["VIMA2","VIOLA MACLOSKEYI - Small white violet",null,"y","y","y",100,"M",2,"","","SALIX LUTEA "," Yellow willow"]
["VIOLA","VIOLA SPP - Violet species",null,"","y","y",25,"E",2,"","","ANEMOPSIS CALIFORNICA "," Yerba mansa"]
["VISO","VIOLA SORORIA - Little sand violet",null,null,"y","y",50,"M",2,"","","SALIX TAXIFOLIA "," Yewleaf willow"]
["WD","WOOD  - Anchored Wood",null,null,null,null,100,"L",10,"",""]
["XAST","ZANTHIUM STRUMARIUM - Rough cocklebur",null,null,"y","y",50,"E",2,"",""]
[null,null,null,"",null,null,null,null,null,"",""]
[null,null,null,"",null,null,null,null,null,"",""]
[null,null,null,"",null,null,null,null,null,"",""]
[null,null,null,"",null,null,null,null,null,"",""]
[null,null,null,"",null,null,null,null,null,"",""]
[null,null,null,"",null,null,null,null,null,"",""]
[null,null,null,"",null,null,null,null,null,"",""]
[null,null,null,"",null,null,null,null,null,"",""]
[null,null,null,"",null,null,null,null,null,"",""]
[null,null,null,"",null,null,null,null,null,"",""]
[null,null,null,"",null,null,null,null,null,"",""]
[null,null,null,"",null,null,null,null,null,"",""]
[null,null,null,"",null,null,null,null,null,"",""]
[null,null,null,"",null,null,null,null,null,{"$f":"IF(G579>25,IF(E579=\"y\",IF(F579=\"\",A579,\"\"),\"\"),\"\")","v":""},{"$f":"IF(C579 = \"y\", IF(D579=\"y\",A579,\"\"),\"\")","v":""}]
[null,null,null,"",null,null,null,null,null,"",""]
[null,null,null,"",null,null,null,null,null,"",""]
[null,null,null,"",null,null,null,null,null,"",""]
[null,null,null,"",null,null,null,null,null,"",""]
[null,null,null,"",null,null,null,null,null,"",""]
[null,null,null,"",null,null,null,null,null,"",""]
[null,null,null,"",null,null,null,null,null,"",""]
[null,null,null,"",null,null,null,null,null,"",""]
[null,null,null,"",null,null,null,null,null,"",""]
[null,null,null,"",null,null,null,null,null,"",""]
[null,null,null,"",null,null,null,null,null,"",""]
[null,null,null,"",null,null,null,null,null,"",""]
[null,null,null,"",null,null,null,null,null,"",""]
[null,null,null,"",null,null,null,null,null,"",""]
[null,null,null,"",null,null,null,null,null,"",""]
[null,null,null,"",null,null,null,null,null,"",""]
[null,null,null,"",null,null,null,null,null,"",""]
[null,null,null,"",null,null,null,null,null,"",""]
[null,null,null,"",null,null,null,null,null,"",""]
[null,null,null,"",null,null,null,null,null,"",""]
[null,null,null,"",null,null,null,null,null,"",""]
[null,null,null,"",null,null,null,null,null,"",""]
["END",null,null,""]
[]
[null,"Plant Code to Correct:"]

{"sheet":"KeySP","index":10,"n_rows":202,"n_cols":4,"rows_kept":202,"cut":false,"hidden":false,"merged":[]}
["POSSIBLE STUBBLE HEIGHT KEY SPECIES LIST",null,null,"POSSIBLE KEY WOODY PLANTS LIST"]
["  ",null,null," "]
["AGGI2",null,null,"ACNE2"]
["AGRE2",null,null,"ALIN2"]
["AGSC5",null,null,"ALOB2"]
["AGSM",null,null,"ALOC2"]
["AGST2",null,null,"ALVI5"]
["ALAE",null,null,"AMFR"]
["ALAR",null,null,"BAEM"]
["ALGE2",null,null,"BASA4"]
["ALOPE",null,null,"BEGL"]
["ALPR3",null,null,"BEOC2"]
["ARDO4",null,null,"BEPU4"]
["BESY",null,null,"CEOC2"]
["CAAM10",null,null,"COSE16"]
["CAAQ",null,null,"COST4"]
["CAAQ3",null,null,"FRLA"]
["CAAT2",null,null,"FRPE"]
["CAAT3",null,null,"KAMI"]
["CAAU3",null,null,"LEGL"]
["CABO2",null,null,"PHCA11"]
["CABR10",null,null,"PHMA5"]
["CACA11",null,null,"PLSE"]
["CACA12",null,null,"PLWR2"]
["CACA4",null,null,"POAN3"]
["CACU4",null,null,"POFR2"]
["CADI6",null,null,"RHAL"]
["CADO2",null,null,"RIHU"]
["CAGR4",null,null,"SAAL2"]
["CAHA5",null,null,"SAAM2"]
["CAHE8",null,null,"SABE2"]
["CAHY4",null,null,"SABO"]
["CAIN11",null,null,"SABO2"]
["CALA11",null,null,"SACA4"]
["CALA30",null,null,"SADR"]
["CALE10",null,null,"SAEX"]
["CALE24",null,null,"SAGE2"]
["CALE8",null,null,"SAGO"]
["CALI7",null,null,"SAIR"]
["CAMI7",null,null,"SAJE"]
["CANE2",null,null,"SALA3"]
["CAPE42",null,null,"SALA5"]
["CAPE7",null,null,"SALA6"]
["CAPR5",null,null,"SALE"]
["CAREX",null,null,"SALIX"]
["CAREXRH",null,null,"SALIXCL"]
["CAREXTU",null,null,"SALU"]
["CARO6",null,null,"SALU2"]
["CASA10",null,null,"SAMO2"]
["CASA8",null,null,"SAPL2"]
["CASA9",null,null,"SAPR3"]
["CASC12",null,null,"SAPS"]
["CASH",null,null,"SASI2"]
["CASI2",null,null,"SATA"]
["CASP35",null,null,"SATW"]
["CAST36",null,null,"SAWO"]
["CAST5",null,null,"SPDO"]
["CASU6",null,null,"TAPA4"]
["CATE3",null,null,"TARA"]
["CATH"]
["CAUL"]
["CAUT"]
["CAVA3"]
["CAVE6"]
["CAVU2"]
["CYAC2"]
["DECE"]
["DISP"]
["ECMU2"]
["ELAC"]
["ELCA4"]
["ELCI2"]
["ELEOC"]
["ELPA3"]
["ELPA5"]
["ELPA6"]
["ELQU2"]
["ELRE4"]
["ELRO2"]
["ELTR3"]
["FERU2"]
["GLBO"]
["GLGR"]
["GLST"]
["GLYCE"]
["HOBR2"]
["HOJU"]
["JUAC"]
["JUAC2"]
["JUAR2"]
["JUAR4"]
["JUBA"]
["JUBU"]
["JUCO2"]
["JUDR"]
["JUDU2"]
["JUEF"]
["JUEN"]
["JUIN2"]
["JULO"]
["JUMA3"]
["JUME3"]
["JUME4"]
["JUNCU"]
["JUNE"]
["JUNO2"]
["JUOR"]
["JUSA"]
["JUTE"]
["JUTO"]
["JUTR"]
["JUXI"]
["LECI4"]
["LEIN6"]
["LEOR"]
["LETR5"]
["MG"]
["MUAN"]
["MUAS"]
["MUCU3"]
["MUFI2"]
["MURA"]
["MURI"]
["MURI2"]
["PADI3"]
["PADI6"]
["PASM"]
["PAVI2"]
["PHAR3"]
["PHAU7"]
["PHCO15"]
["PLMU3"]
["POA"]
["POMO5"]
["POPA2"]
["POPR"]
["POVI9"]
["PULE"]
["PUNU2"]
["SCAC"]
["SCAC3"]
["SCAM2"]
["SCAM6"]
["SCAT4"]
["SCCO"]
["SCCY"]
["SCFE"]
["SCHOE6"]
["SCIRP"]
["SCMA",null,null," "]
["SCMA8",null,null," "]
["SCMI2",null,null," "]
["SCNE",null,null," "]
["SCPA8",null,null," "]
["SCPU10",null,null," "]
["SCPU3",null,null," "]
["SCTA2",null,null," "]
["SCVA",null,null," "]
["SPAI",null,null," "]
["SPGR",null,null," "]
["SPPE",null,null," "]
["SPWR2",null,null," "]
[null,null,null," "]
[null,null,null," "]
[null,null,null," "]
[null,null,null," "]
[null,null,null," "]
[null,null,null," "]
[null,null,null," "]
[null,null,null," "]
[null,null,null," "]
[null,null,null," "]
[null,null,null," "]
[null,null,null," "]
[null,null,null," "]
[null,null,null," "]
[null,null,null," "]
[null,null,null," "]
[null,null,null," "]
[null,null,null," "]
[" ",null,null," "]
[" ",null,null," "]
[" ",null,null," "]
[" ",null,null," "]
[" ",null,null," "]
[" ",null,null," "]
[" ",null,null," "]
[" ",null,null," "]
[" ",null,null," "]
[" ",null,null," "]
[" ",null,null," "]
[" ",null,null," "]
[" ",null,null," "]
[" ",null,null," "]
[" ",null,null," "]
[" ",null,null," "]
[" ",null,null," "]
[" ",null,null," "]
[" ",null,null," "]
[" ",null,null," "]
[" ",null,null," "]
[" ",null,null," "]