{"text_format":"1","workbook":"xlsx","n_sheets":15,"sheets":["INSTRUCTIONS","GetData","Comp","Spatial","Normal Plots","Histograms","Shterm","Channel","Veg","Ttest","MannW","ChiSq","Chi Sq Dist","Reports","Filters"],"not_rendered":{"charts":18,"images":2,"macros":1,"external_links":0,"defined_names":9,"comments":0,"pivot_tables":0},"unopened":[],"bounds":{"document_bytes":16777216,"sheet_cells":100000,"rows_first":2000,"rows_last":500,"rows_between":2000,"halvings":0,"cell_chars":16384,"cell_head_chars":4096},"cells_cut":0,"cells_raw":0,"read":"whole","date_system":"1900"}

{"sheet":"INSTRUCTIONS","index":0,"n_rows":52,"n_cols":1,"rows_kept":52,"cut":false,"hidden":false,"merged":[]}
["MIM STATISTICAL ANALYSIS MODULE 2025"]
["UPDATES IN THIS VERSION:   This module is compatible with the current version of the Data Analysis Module 2025.  Make sure your data is uploaded to that version before importing data to this Module."]
["This version supports up to 6 DMAs for upload and anaysis.  Previously only 2 DMAs could be uploaded."]
["Overview"]
["The MIM Statistical Analysis Module is designed to analyze data collected and stored in the Data Analysis Module 2024 OR LATER.  It imports data from up to 6 DMAs for statistical testing."]
[]
["Statistical tests are used in this module to assess the significance of trends, compliance with criteria, and evaluation of linkages between monitoring indicators."]
[]
["This module takes advantage of EXCEL's analysis tool pak add-in to perform some statistical functions.  You can check to see if it is present by clicking the Data tab at the top of the quick access toolbar.  If present the Data Analysis tool should appear in the Analyze block on the right end. If not already loaded, do the following:"]
["Click the File tab, click Options, and then click the Add-Ins category.\nIn the Manage box, select Excel Add-ins and then click Go.\nIn the Add-Ins box, check the Analysis ToolPak check box, and then click OK.\nIf Analysis ToolPak is not listed in the Add-Ins available box, click Browse to locate it.\nIf you are prompted that the Analysis ToolPak is not currently installed on your computer, click Yes to install it."]
[]
["Data from the DMA's of interest can be downloaded directly into the module in order to run these analyses, but those data should come from the most recent version of the Data Analysis Module."]
[]
[]
["IMPORTANT NOTE:  To allow the user maximum edit capabilities, worksheets are NOT protected."]
["Be careful not to enter any data into a calculation cell.  You can usually insert rows and/or columns without"]
["repurcusions.  You can delete old data and/or replace data and graphical outputs from the statistical functions."]
["Be sure to save the master in a separate folder in cases where something critical was accidentally deleted."]
[]
["IMPORTANT NOTE:  This Module functions properly ONLY when the Data Correction Macros have been"]
["run in the Data Analysis Module 2024(and later) before they are imported into this module."]
[]
["Contents of the Module:"]
["GetData: Module for inputting data from two different DMA's"]
["Comp:  Comparison table for up to 6 DMAs describing basic summary metrics for each."]
["Spatial:  Examines sample point data on the greenline for spatial autocorrelation.  "]
["    This allows analysis of Spatial Autocorrelation for indicators beyond those used in the Data Analysis Module."]
["NormalPlots: Plots normal distributions using EXCEL's Regression Analysis routine"]
["Histograms: Plots histograms for assessing data distribution"]
["Shterm: Calculates statistics for stubble height, bank alteration, and woody browse"]
["Channel:  Calculates statistics for GGW, Substrate, Pools, Bank Cover, and Bank Stability"]
["Veg: Calculates statistics for Woody frequency, Seral Status, Wetland Rating, and Vegetation Stability"]
["Ttest: Runs the Student's T-Test for assessing the difference between two data sets"]
["MannW:Runs the Mann-Whitney U test for assessing the difference between two data sets"]
["ChiSq:  Runs the Chi Square Test for assessing the difference between two sets of frequency data"]
[]
["The \"Report\" worksheet contains examples of documentation and graphs that can be used to report results."]
[]
["The \"Filters\" worksheet simply facilitates data filtering used to remove blanks in the data sets."]
[]
["References:"]
["Statistical methods used in this module are documented in EXEL Helps and in:"]
["Elzinga, C.L., D.W. Salzer, and J.W. Willoughby. 1998. Measuring and monitoring plant"]
["populations. BLM Technical Reference 1730-1. U.S. Department of the Interior, Bureau of"]
["Land Management, Denver, CO."]
[]
["Data Instructions Guide 2024, Chapter II.   Online document describing details of this Module, available at:"]
["     RMS website:   http://www.rmsmim.com   or"]
["     BLM website:   https://www.blm.gov/documents/national-office/blm-library/technical-reference/multiple-indicator-monitoring-mim-stream"]
[]
["Many of the statistical methods in this module were tested using the on-line statistical analysis"]
["tools in \"Real Statistics for EXCEL\" at  https://real-statistics.com/"]

{"sheet":"GetData","index":1,"n_rows":652,"n_cols":122,"rows_kept":652,"cut":false,"hidden":false,"merged":[]}
["IMPORT DATA - up to 6 DMAs",null,null,null,null,null,null,null,null,"More DMAs",null,null,null,null,null,null,null,null,"IMPORT DATA",null,null,null,null,null,null,null,null,"More DMAs",null,null,null,null,null,null,null,null,null,null,null,null,null,"IMPORT DATA - up to 6 DMAs",null,null,null,null,null,null,null,null,"More DMAs",null,null,null,null,null,null,null,null,"IMPORT DATA",null,null,null,null,null,null,null,null,"More DMAs",null,null,null,null,null,null,null,null,null,null,null,null,null,"IMPORT DATA - up to 6 DMAs",null,null,null,null,null,null,null,null,"6th DMA",null,null,null,null,null,null,null,null,"IMPORT DATA"]
[null,"Click to run the Macro",null,null,null,null,null,null,null,null,null,null,null,null,null,null,null,null,null,"Click to run the Macro",null,null,null,null,null,null,null,null,null,null,null,null,null,null,null,null,"c","s",null,null,null,null,"Click to run the Macro",null,null,null,null,null,null,null,null,null,null,null,null,null,null,null,null,null,"Click to run the Macro",null,null,null,null,null,null,null,null,null,null,null,null,null,null,null,null,"c","s",null,null,null,null,"Click to run the Macro",null,null,null,null,null,null,null,null,null,null,null,null,null,null,null,null,null,"Click to run the Macro",null,null,null,null,null,null,null,null,null,null,null,null,null,null,null,null,"c","s"]
["Get Data - 1st DMA",null,null,null,"            SHORT-TERM VARIABLES",null,null,null,null,"                  CHANNEL FUNCTIONS",null,null,null,"                  VEGETATION FUNCTIONS",null,null,null,null,"Get Data - 2nd DMA",null,null,null,"            SHORT-TERM VARIABLES",null,null,null,null,"                  CHANNEL FUNCTIONS",null,null,null,"                 VEGETATION FUNCTIONS",null,null,null,null,"u","u",null,null,null,"Get Data - 3rd DMA",null,null,null,"            SHORT-TERM VARIABLES",null,null,null,null,"                  CHANNEL FUNCTIONS",null,null,null,"                  VEGETATION FUNCTIONS",null,null,null,null,"Get Data - 4th DMA",null,null,null,"            SHORT-TERM VARIABLES",null,null,null,null,"                  CHANNEL FUNCTIONS",null,null,null,"                 VEGETATION FUNCTIONS",null,null,null,null,"u","u",null,null,null,"Get Data - 5th DMA",null,null,null,"            SHORT-TERM VARIABLES",null,null,null,null,"                  CHANNEL FUNCTIONS",null,null,null,"                  VEGETATION FUNCTIONS",null,null,null,null,"Get Data - 6th DMA",null,null,null,"            SHORT-TERM VARIABLES",null,null,null,null,"                  CHANNEL FUNCTIONS",null,null,null,"                 VEGETATION FUNCTIONS",null,null,null,null,"u","u"]
[null,null,null,null,"Streambank Alteration","Stubble Height - dominant key species","Stubble Height - all key species","Woody Use","GGW","Substrate","Residual Pool Depths","Streambank Cover","Streambank Stability","Seral Status","Wetland Rating","Veg Stability","Ecol Status",null,null,null,null,null,"Streambank Alteration","Stubble Height - dominant key species","Stubble Height - all key species","Woody Use","GGW","Substrate","Residual Pool Depths","Streambank Cover","Streambank Stability","Seral Status","Wetland Rating","Veg Stability","Ecol Status",null,"Cover1`","Stability 1","Cover 2","Stability2",null,null,null,null,null,"Streambank Alteration","Stubble Height - dominant key species","Stubble Height - all key species","Woody Use","GGW","Substrate","Residual Pool Depths","Streambank Cover","Streambank Stability","Seral Status","Wetland Rating","Veg Stability","Ecol Status",null,null,null,null,null,"Streambank Alteration","Stubble Height - dominant key species","Stubble Height - all key species","Woody Use","GGW","Substrate","Residual Pool Depths","Streambank Cover","Streambank Stability","Seral Status","Wetland Rating","Veg Stability","Ecol Status",null,"Cover1`","Stability 1","Cover 2","Stability2",null,null,null,null,null,"Streambank Alteration","Stubble Height - dominant key species","Stubble Height - all key species","Woody Use","GGW","Substrate","Residual Pool Depths","Streambank Cover","Streambank Stability","Seral Status","Wetland Rating","Veg Stability","Ecol Status",null,null,null,null,null,"Streambank Alteration","Stubble Height - dominant key species","Stubble Height - all key species","Woody Use","GGW","Substrate","Residual Pool Depths","Streambank Cover","Streambank Stability","Seral Status","Wetland Rating","Veg Stability","Ecol Status",null,"Cover1`","Stability 1","Cover 2","Stability2"]
[null,null,null,null,null,null,null,null,null,null,null,null,null,null,null,null,{"$f":"IF(N5=\"\",\"\",IF(N5*N$505>100,100,N$505*N5))","v":""},null,null,null,null,null,null,null,null,null,null,null,null,"","","","","",{"$f":"IF(AF5=\"\",\"\",AF5*AF$505)","v":""},null,{"$f":"IF(L5=\"\",\"\",IF(L5=\"c\",2,1))","v":""},{"$f":"IF(M5=\"\",\"\",IF(M5=\"s\",2,1))","v":""},{"$f":"IF(AD5=\"\",\"\",IF(AD5=\"c\",2,1))","v":""},{"$f":"IF(AE5=\"\",\"\",IF(AE5=\"s\",2,1))","v":""},null,null,null,null,null,null,null,null,null,null,null,null,null,null,null,null,null,{"$f":"IF(BC5=\"\",\"\",BC5*BC$505)","v":""},null,null,null,null,null,null,null,null,null,null,null,null,null,null,null,null,null,{"$f":"IF(BU5=\"\",\"\",BU5*BU$505)","v":""},null,{"$f":"IF(BA5=\"\",\"\",IF(BA5=\"c\",2,1))","v":""},{"$f":"IF(BB5=\"\",\"\",IF(BB5=\"s\",2,1))","v":""},{"$f":"IF(BS5=\"\",\"\",IF(BS5=\"c\",2,1))","v":""},{"$f":"IF(BT5=\"\",\"\",IF(BT5=\"s\",2,1))","v":""},null,null,null,null,null,null,null,null,null,null,null,null,null,null,null,null,null,{"$f":"IF(CR5=\"\",\"\",CR5*CR$505)","v":""},null,null,null,null,null,null,null,null,null,null,null,null,"","","","","",{"$f":"IF(DJ5=\"\",\"\",DJ5*DJ$505)","v":""},null,{"$f":"IF(CP5=\"\",\"\",IF(CP5=\"c\",2,1))","v":""},{"$f":"IF(CQ5=\"\",\"\",IF(CQ5=\"s\",2,1))","v":""},{"$f":"IF(DH5=\"\",\"\",IF(DH5=\"c\",2,1))","v":""},{"$f":"IF(DI5=\"\",\"\",IF(DI5=\"s\",2,1))","v":""}]
[null,null,null,null,null,null,null,null,null,null,null,null,null,null,null,null,{"$f":"IF(N6=\"\",\"\",IF(N6*N$505>100,100,N$505*N6))","v":""},null,null,null,null,null,null,null,null,null,null,null,null,null,null,null,null,null,{"$f":"IF(AF6=\"\",\"\",AF6*AF$505)","v":""},null,{"$f":"IF(L6=\"\",\"\",IF(L6=\"c\",2,1))","v":""},{"$f":"IF(M6=\"\",\"\",IF(M6=\"s\",2,1))","v":""},{"$f":"IF(AD6=\"\",\"\",IF(AD6=\"c\",2,1))","v":""},{"$f":"IF(AE6=\"\",\"\",IF(AE6=\"s\",2,1))","v":""},null,null,null,null,null,null,null,null,null,null,null,null,null,null,null,null,null,"",null,null,null,null,null,null,null,null,null,null,null,null,null,null,null,null,null,{"$f":"IF(BU6=\"\",\"\",BU6*BU$505)","v":""},null,{"$f":"IF(BA6=\"\",\"\",IF(BA6=\"c\",2,1))","v":""},{"$f":"IF(BB6=\"\",\"\",IF(BB6=\"s\",2,1))","v":""},{"$f":"IF(BS6=\"\",\"\",IF(BS6=\"c\",2,1))","v":""},{"$f":"IF(BT6=\"\",\"\",IF(BT6=\"s\",2,1))","v":""},null,null,null,null,null,null,null,null,null,null,null,null,null,null,null,null,null,"",null,null,null,null,null,null,null,null,null,null,null,null,null,null,null,null,null,{"$f":"IF(DJ6=\"\",\"\",DJ6*DJ$505)","v":""},null,{"$f":"IF(CP6=\"\",\"\",IF(CP6=\"c\",2,1))","v":""},{"$f":"IF(CQ6=\"\",\"\",IF(CQ6=\"s\",2,1))","v":""},{"$f":"IF(DH6=\"\",\"\",IF(DH6=\"c\",2,1))","v":""},{"$f":"IF(DI6=\"\",\"\",IF(DI6=\"s\",2,1))","v":""}]
[null,null,null,null,null,null,null,null,null,null,null,null,null,null,null,null,"",null,null,null,null,null,null,null,null,null,null,null,null,null,null,null,null,null,"",null,"","","","",null,null,null,null,null,null,null,null,null,null,null,null,null,null,null,null,null,"",null,null,null,null,null,null,null,null,null,null,null,null,null,null,null,null,null,"",null,"","","","",null,null,null,null,null,null,null,null,null,null,null,null,null,null,null,null,null,"",null,null,null,null,null,null,null,null,null,null,null,null,null,null,null,null,null,"",null,"","","",""]
[null,"Filter data",null,null,null,null,null,null,null,null,null,null,null,null,null,null,"",null,null,"Filter data",null,null,null,null,null,null,null,null,null,null,null,null,null,null,"",null,"","","","",null,null,"Filter data",null,null,null,null,null,null,null,null,null,null,null,null,null,null,"",null,null,"Filter data",null,null,null,null,null,null,null,null,null,null,null,null,null,null,"",null,"","","","",null,null,"Filter data",null,null,null,null,null,null,null,null,null,null,null,null,null,null,"",null,null,"Filter data",null,null,null,null,null,null,null,null,null,null,null,null,null,null,"",null,"","","",""]
[null,null,null,null,null,null,null,null,null,null,null,null,null,null,null,null,"",null,null,null,null,null,null,null,null,null,null,null,null,null,null,null,null,null,"",null,"","","","",null,null,null,null,null,null,null,null,null,null,null,null,null,null,null,null,null,"",null,null,null,null,null,null,null,null,null,null,null,null,null,null,null,null,null,"",null,"","","","",null,null,null,null,null,null,null,null,null,null,null,null,null,null,null,null,null,"",null,null,null,null,null,null,null,null,null,null,null,null,null,null,null,null,null,"",null,"","","",""]
[null,null,null,null,null,null,null,null,null,null,null,null,null,null,null,null,"",null,null,null,null,null,null,null,null,null,null,null,null,null,null,null,null,null,"",null,"","","","",null,null,null,null,null,null,null,null,null,null,null,null,null,null,null,null,null,"",null,null,null,null,null,null,null,null,null,null,null,null,null,null,null,null,null,"",null,"","","","",null,null,null,null,null,null,null,null,null,null,null,null,null,null,null,null,null,"",null,null,null,null,null,null,null,null,null,null,null,null,null,null,null,null,null,"",null,"","","",""]
[null,null,null,null,null,null,null,null,null,null,null,null,null,null,null,null,"",null,null,null,null,null,null,null,null,null,null,null,null,null,null,null,null,null,"",null,"","","","",null,null,null,null,null,null,null,null,null,null,null,null,null,null,null,null,null,"",null,null,null,null,null,null,null,null,null,null,null,null,null,null,null,null,null,"",null,"","","","",null,null,null,null,null,null,null,null,null,null,null,null,null,null,null,null,null,"",null,null,null,null,null,null,null,null,null,null,null,null,null,null,null,null,null,"",null,"","","",""]
[null,null,null,null,null,null,null,null,null,null,null,null,null,null,null,null,"",null,null,null,null,null,null,null,null,null,null,null,null,null,null,null,null,null,"",null,"","","","",null,null,null,null,null,null,null,null,null,null,null,null,null,null,null,null,null,"",null,null,null,null,null,null,null,null,null,null,null,null,null,null,null,null,null,"",null,"","","","",null,null,null,null,null,null,null,null,null,null,null,null,null,null,null,null,null,"",null,null,null,null,null,null,null,null,null,null,null,null,null,null,null,null,null,"",null,"","","",""]
["DMA ID","PASTURE","STREAM","DATE",null,null,null,null,null,null,null,null,null,null,null,null,"",null,"DMA ID","PASTURE","STREAM","DATE",null,null,null,null,null,null,null,null,null,null,null,null,"",null,"","","","",null,"DMA ID","PASTURE","STREAM","DATE",null,null,null,null,null,null,null,null,null,null,null,null,"",null,"DMA ID","PASTURE","STREAM","DATE",null,null,null,null,null,null,null,null,null,null,null,null,"",null,"","","","",null,"DMA ID","PASTURE","STREAM","DATE",null,null,null,null,null,null,null,null,null,null,null,null,"",null,"DMA ID","PASTURE","STREAM","DATE",null,null,null,null,null,null,null,null,null,null,null,null,"",null,"","","",""]
[null,null,null,null,null,null,null,null,null,null,null,null,null,null,null,null,"",null,null,null,null,null,null,null,null,null,null,null,null,null,null,null,null,null,"",null,"","","","",null,null,null,null,null,null,null,null,null,null,null,null,null,null,null,null,null,"",null,null,null,null,null,null,null,null,null,null,null,null,null,null,null,null,null,"",null,"","","","",null,null,null,null,null,null,null,null,null,null,null,null,null,null,null,null,null,"",null,null,null,null,null,null,null,null,null,null,null,null,null,null,null,null,null,"",null,"","","",""]
[null,null,null,null,null,null,null,null,null,null,null,null,null,null,null,null,"",null,null,null,null,null,null,null,null,null,null,null,null,null,null,null,null,null,"",null,"","","","",null,null,null,null,null,null,null,null,null,null,null,null,null,null,null,null,null,"",null,null,null,null,null,null,null,null,null,null,null,null,null,null,null,null,null,"",null,"","","","",null,null,null,null,null,null,null,null,null,null,null,null,null,null,null,null,null,"",null,null,null,null,null,null,null,null,null,null,null,null,null,null,null,null,null,"",null,"","","",""]
["Dominant Key Species:",null,{"$error":"#DIV/0!"},null,null,null,null,null,null,null,null,null,null,null,null,null,"",null,"Dominant Key Species:",null,null,null,null,null,null,null,null,null,null,null,null,null,null,null,"",null,"","","","",null,"Dominant Key Species:",null,{"$error":"#DIV/0!"},null,null,null,null,null,null,null,null,null,null,null,null,null,"",null,"Dominant Key Species:",null,{"$error":"#DIV/0!"},null,null,null,null,null,null,null,null,null,null,null,null,null,"",null,"","","","",null,"Dominant Key Species:",null,null,null,null,null,null,null,null,null,null,null,null,null,null,null,"",null,"Dominant Key Species:",null,null,null,null,null,null,null,null,null,null,null,null,null,null,null,"",null,"","","",""]
["Units for stubble height (In/cm)",null,"In",null,null,null,null,null,null,null,null,null,null,null,null,null,"",null,"Units for stubble height (in/cm)",null,null,null,null,null,null,null,null,null,null,null,null,null,null,null,"",null,"","","","",null,"Units for stubble height (I/cm)",null,"In",null,null,null,null,null,null,null,null,null,null,null,null,null,"",null,"Units for stubble height (in/cm)",null,"In",null,null,null,null,null,null,null,null,null,null,null,null,null,"",null,"","","","",null,"Units for stubble height (I/cm)",null,null,null,null,null,null,null,null,null,null,null,null,null,null,null,"",null,"Units for stubble height (in/cm)",null,null,null,null,null,null,null,null,null,null,null,null,null,null,null,"",null,"","","",""]
[null,"Validate data",null,null,null,null,null,null,null,null,null,null,null,null,null,null,"",null,null,"Validate data",null,null,null,null,null,null,null,null,null,null,null,null,null,null,"",null,"","","","",null,null,"Validate data",null,null,null,null,null,null,null,null,null,null,null,null,null,null,"",null,null,"Validate data",null,null,null,null,null,null,null,null,null,null,null,null,null,null,"",null,"","","","",null,null,"Validate data",null,null,null,null,null,null,null,null,null,null,null,null,null,null,"",null,null,"Validate data",null,null,null,null,null,null,null,null,null,null,null,null,null,null,"",null,"","","",""]
[null,null,null,null,null,null,null,null,null,null,null,null,null,null,null,null,"",null,null,null,null,null,null,null,null,null,null,null,null,null,null,null,null,null,"",null,"","","","",null,null,null,null,null,null,null,null,null,null,null,null,null,null,null,null,null,"",null,null,null,null,null,null,null,null,null,null,null,null,null,null,null,null,null,"",null,"","","","",null,null,null,null,null,null,null,null,null,null,null,null,null,null,null,null,null,"",null,null,null,null,null,null,null,null,null,null,null,null,null,null,null,null,null,"",null,"","","",""]
[null,null,null,null,null,null,null,null,null,null,null,null,null,null,null,null,"",null,null,null,null,null,null,null,null,null,null,null,null,null,null,null,null,null,"",null,"","","","",null,null,null,null,null,null,null,null,null,null,null,null,null,null,null,null,null,"",null,null,null,null,null,null,null,null,null,null,null,null,null,null,null,null,null,"",null,"","","","",null,null,null,null,null,null,null,null,null,null,null,null,null,null,null,null,null,"",null,null,null,null,null,null,null,null,null,null,null,null,null,null,null,null,null,"",null,"","","",""]
[null,null,null,null,null,null,null,null,null,null,null,null,null,null,null,null,"",null,null,null,null,null,null,null,null,null,null,null,null,null,null,null,null,null,"",null,"","","","",null,null,null,null,null,null,null,null,null,null,null,null,null,null,null,null,null,"",null,null,null,null,null,null,null,null,null,null,null,null,null,null,null,null,null,"",null,"","","","",null,null,null,null,null,null,null,null,null,null,null,null,null,null,null,null,null,"",null,null,null,null,null,null,null,null,null,null,null,null,null,null,null,null,null,"",null,"","","",""]
[null,null,null,null,null,null,null,null,null,null,null,null,null,null,null,null,"",null,null,null,null,null,null,null,null,null,null,null,null,null,null,null,null,null,"",null,"","","","",null,null,null,null,null,null,null,null,null,null,null,null,null,null,null,null,null,"",null,null,null,null,null,null,null,null,null,null,null,null,null,null,null,null,null,"",null,"","","","",null,null,null,null,null,null,null,null,null,null,null,null,null,null,null,null,null,"",null,null,null,null,null,null,null,null,null,null,null,null,null,null,null,null,null,"",null,"","","",""]
[null,null,null,null,null,null,null,null,null,null,null,null,null,null,null,null,"",null,null,null,null,null,null,null,null,null,null,null,null,null,null,null,null,null,"",null,"","","","",null,null,null,null,null,null,null,null,null,null,null,null,null,null,null,null,null,"",null,null,null,null,null,null,null,null,null,null,null,null,null,null,null,null,null,"",null,"","","","",null,null,null,null,null,null,null,null,null,null,null,null,null,null,null,null,null,"",null,null,null,null,null,null,null,null,null,null,null,null,null,null,null,null,null,"",null,"","","",""]
["Sample point # at top  of left bank (where survey moves to right bank)",null,null,null,null,null,null,null,null,null,null,null,null,null,null,null,"","Sample point # at top  of left bank (where survey moves to right bank)",null,null,null,null,null,null,null,null,null,null,null,null,null,null,null,null,"",null,"","","","",null,"Sample point # at top  of left bank (where survey moves to right bank)",null,null,null,null,null,null,null,null,null,null,null,null,null,null,null,"","Sample point # at top  of left bank (where survey moves to right bank)",null,null,null,null,null,null,null,null,null,null,null,null,null,null,null,null,"",null,"","","","",null,"Sample point # at top  of left bank (where survey moves to right bank)",null,null,null,null,null,null,null,null,null,null,null,null,null,null,null,"","Sample point # at top  of left bank (where survey moves to right bank)",null,null,null,null,null,null,null,null,null,null,null,null,null,null,null,null,"",null,"","","",""]
[null,{"$error":"#REF!"},null,null,null,null,null,null,null,null,null,null,null,null,null,null,"",null,0,null,null,null,null,null,null,null,null,null,null,null,null,null,null,null,"",null,"","","","",null,null,0,null,null,null,null,null,null,null,null,null,null,null,null,null,null,"",null,0,null,null,null,null,null,null,null,null,null,null,null,null,null,null,null,"",null,"","","","",null,null,null,null,null,null,null,null,null,null,null,null,null,null,null,null,null,"",null,null,null,null,null,null,null,null,null,null,null,null,null,null,null,null,null,"",null,"","","",""]
[null,null,null,null,null,null,null,null,null,null,null,null,null,null,null,null,"",null,null,null,null,null,null,null,null,null,null,null,null,null,null,null,null,null,"",null,"","","","",null,null,null,null,null,null,null,null,null,null,null,null,null,null,null,null,null,"",null,null,null,null,null,null,null,null,null,null,null,null,null,null,null,null,null,"",null,"","","","",null,null,null,null,null,null,null,null,null,null,null,null,null,null,null,null,null,"",null,null,null,null,null,null,null,null,null,null,null,null,null,null,null,null,null,"",null,"","","",""]
[null,null,null,null,null,null,null,null,null,null,null,null,null,null,null,null,"",null,null,null,null,null,null,null,null,null,null,null,null,null,null,null,null,null,"",null,"","","","",null,null,null,null,null,null,null,null,null,null,null,null,null,null,null,null,null,"",null,null,null,null,null,null,null,null,null,null,null,null,null,null,null,null,null,"",null,"","","","",null,null,null,null,null,null,null,null,null,null,null,null,null,null,null,null,null,"",null,null,null,null,null,null,null,null,null,null,null,null,null,null,null,null,null,"",null,"","","",""]
[null,null,null,null,null,null,null,null,null,null,null,null,null,null,null,null,"",null,null,null,null,null,null,null,null,null,null,null,null,null,null,null,null,null,"",null,"","","","",null,null,null,null,null,null,null,null,null,null,null,null,null,null,null,null,null,"",null,null,null,null,null,null,null,null,null,null,null,null,null,null,null,null,null,"",null,"","","","",null,null,null,null,null,null,null,null,null,null,null,null,null,null,null,null,null,"",null,null,null,null,null,null,null,null,null,null,null,null,null,null,null,null,null,"",null,"","","",""]
[null,null,null,null,null,null,null,null,null,null,null,null,null,null,null,null,"",null,null,null,null,null,null,null,null,null,null,null,null,null,null,null,null,null,"",null,"","","","",null,null,null,null,null,null,null,null,null,null,null,null,null,null,null,null,null,"",null,null,null,null,null,null,null,null,null,null,null,null,null,null,null,null,null,"",null,"","","","",null,null,null,null,null,null,null,null,null,null,null,null,null,null,null,null,null,"",null,null,null,null,null,null,null,null,null,null,null,null,null,null,null,null,null,"",null,"","","",""]
[null,null,null,null,null,null,null,null,null,null,null,null,null,null,null,null,"",null,null,null,null,null,null,null,null,null,null,null,null,null,null,null,null,null,"",null,"","","","",null,null,null,null,null,null,null,null,null,null,null,null,null,null,null,null,null,"",null,null,null,null,null,null,null,null,null,null,null,null,null,null,null,null,null,"",null,"","","","",null,null,null,null,null,null,null,null,null,null,null,null,null,null,null,null,null,"",null,null,null,null,null,null,null,null,null,null,null,null,null,null,null,null,null,"",null,"","","",""]
[null,null,null,null,null,null,null,null,null,null,null,null,null,null,null,null,"",null,null,null,null,null,null,null,null,null,null,null,null,null,null,null,null,null,"",null,"","","","",null,null,null,null,null,null,null,null,null,null,null,null,null,null,null,null,null,"",null,null,null,null,null,null,null,null,null,null,null,null,null,null,null,null,null,"",null,"","","","",null,null,null,null,null,null,null,null,null,null,null,null,null,null,null,null,null,"",null,null,null,null,null,null,null,null,null,null,null,null,null,null,null,null,null,"",null,"","","",""]
[null,null,null,null,null,null,null,null,null,null,null,null,null,null,null,null,"",null,null,null,null,null,null,null,null,null,null,null,null,null,null,null,null,null,"",null,"","","","",null,null,null,null,null,null,null,null,null,null,null,null,null,null,null,null,null,"",null,null,null,null,null,null,null,null,null,null,null,null,null,null,null,null,null,"",null,"","","","",null,null,null,null,null,null,null,null,null,null,null,null,null,null,null,null,null,"",null,null,null,null,null,null,null,null,null,null,null,null,null,null,null,null,null,"",null,"","","",""]
[null,null,null,null,null,null,null,null,null,null,null,null,null,null,null,null,"",null,null,null,null,null,null,null,null,null,null,null,null,null,null,null,null,null,"",null,"","","","",null,null,null,null,null,null,null,null,null,null,null,null,null,null,null,null,null,"",null,null,null,null,null,null,null,null,null,null,null,null,null,null,null,null,null,"",null,"","","","",null,null,null,null,null,null,null,null,null,null,null,null,null,null,null,null,null,"",null,null,null,null,null,null,null,null,null,null,null,null,null,null,null,null,null,"",null,"","","",""]
[null,null,null,null,null,null,null,null,null,null,null,null,null,null,null,null,"",null,null,null,null,null,null,null,null,null,null,null,null,null,null,null,null,null,"",null,"","","","",null,null,null,null,null,null,null,null,null,null,null,null,null,null,null,null,null,"",null,null,null,null,null,null,null,null,null,null,null,null,null,null,null,null,null,"",null,"","","","",null,null,null,null,null,null,null,null,null,null,null,null,null,null,null,null,null,"",null,null,null,null,null,null,null,null,null,null,null,null,null,null,null,null,null,"",null,"","","",""]
[null,null,null,null,null,null,null,null,null,null,null,null,null,null,null,null,"",null,null,null,null,null,null,null,null,null,null,null,null,null,null,null,null,null,"",null,"","","","",null,null,null,null,null,null,null,null,null,null,null,null,null,null,null,null,null,"",null,null,null,null,null,null,null,null,null,null,null,null,null,null,null,null,null,"",null,"","","","",null,null,null,null,null,null,null,null,null,null,null,null,null,null,null,null,null,"",null,null,null,null,null,null,null,null,null,null,null,null,null,null,null,null,null,"",null,"","","",""]
[null,null,null,null,null,null,null,null,null,null,null,null,null,null,null,null,"",null,null,null,null,null,null,null,null,null,null,null,null,null,null,null,null,null,"",null,"","","","",null,null,null,null,null,null,null,null,null,null,null,null,null,null,null,null,null,"",null,null,null,null,null,null,null,null,null,null,null,null,null,null,null,null,null,"",null,"","","","",null,null,null,null,null,null,null,null,null,null,null,null,null,null,null,null,null,"",null,null,null,null,null,null,null,null,null,null,null,null,null,null,null,null,null,"",null,"","","",""]
[null,null,null,null,null,null,null,null,null,null,null,null,null,null,null,null,"",null,null,null,null,null,null,null,null,null,null,null,null,null,null,null,null,null,"",null,"","","","",null,null,null,null,null,null,null,null,null,null,null,null,null,null,null,null,null,"",null,null,null,null,null,null,null,null,null,null,null,null,null,null,null,null,null,"",null,"","","","",null,null,null,null,null,null,null,null,null,null,null,null,null,null,null,null,null,"",null,null,null,null,null,null,null,null,null,null,null,null,null,null,null,null,null,"",null,"","","",""]
[null,null,null,null,null,null,null,null,null,null,null,null,null,null,null,null,"",null,null,null,null,null,null,null,null,null,null,null,null,null,null,null,null,null,"",null,"","","","",null,null,null,null,null,null,null,null,null,null,null,null,null,null,null,null,null,"",null,null,null,null,null,null,null,null,null,null,null,null,null,null,null,null,null,"",null,"","","","",null,null,null,null,null,null,null,null,null,null,null,null,null,null,null,null,null,"",null,null,null,null,null,null,null,null,null,null,null,null,null,null,null,null,null,"",null,"","","",""]
[null,null,null,null,null,null,null,null,null,null,null,null,null,null,null,null,"",null,null,null,null,null,null,null,null,null,null,null,null,null,null,null,null,null,"",null,"","","","",null,null,null,null,null,null,null,null,null,null,null,null,null,null,null,null,null,"",null,null,null,null,null,null,null,null,null,null,null,null,null,null,null,null,null,"",null,"","","","",null,null,null,null,null,null,null,null,null,null,null,null,null,null,null,null,null,"",null,null,null,null,null,null,null,null,null,null,null,null,null,null,null,null,null,"",null,"","","",""]
[null,null,null,null,null,null,null,null,null,null,null,null,null,null,null,null,"",null,null,null,null,null,null,null,null,null,null,null,null,null,null,null,null,null,"",null,"","","","",null,null,null,null,null,null,null,null,null,null,null,null,null,null,null,null,null,"",null,null,null,null,null,null,null,null,null,null,null,null,null,null,null,null,null,"",null,"","","","",null,null,null,null,null,null,null,null,null,null,null,null,null,null,null,null,null,"",null,null,null,null,null,null,null,null,null,null,null,null,null,null,null,null,null,"",null,"","","",""]
[null,null,null,null,null,null,null,null,null,null,null,null,null,null,null,null,"",null,null,null,null,null,null,null,null,null,null,null,null,null,null,null,null,null,"",null,"","","","",null,null,null,null,null,null,null,null,null,null,null,null,null,null,null,null,null,"",null,null,null,null,null,null,null,null,null,null,null,null,null,null,null,null,null,"",null,"","","","",null,null,null,null,null,null,null,null,null,null,null,null,null,null,null,null,null,"",null,null,null,null,null,null,null,null,null,null,null,null,null,null,null,null,null,"",null,"","","",""]
[null,null,null,null,null,null,null,null,null,null,null,null,null,null,null,null,"",null,null,null,null,null,null,null,null,null,null,null,null,null,null,null,null,null,"",null,"","","","",null,null,null,null,null,null,null,null,null,null,null,null,null,null,null,null,null,"",null,null,null,null,null,null,null,null,null,null,null,null,null,null,null,null,null,"",null,"","","","",null,null,null,null,null,null,null,null,null,null,null,null,null,null,null,null,null,"",null,null,null,null,null,null,null,null,null,null,null,null,null,null,null,null,null,"",null,"","","",""]
[null,null,null,null,null,null,null,null,null,null,null,null,null,null,null,null,"",null,null,null,null,null,null,null,null,null,null,null,null,null,null,null,null,null,"",null,"","","","",null,null,null,null,null,null,null,null,null,null,null,null,null,null,null,null,null,"",null,null,null,null,null,null,null,null,null,null,null,null,null,null,null,null,null,"",null,"","","","",null,null,null,null,null,null,null,null,null,null,null,null,null,null,null,null,null,"",null,null,null,null,null,null,null,null,null,null,null,null,null,null,null,null,null,"",null,"","","",""]
[null,null,null,null,null,null,null,null,null,null,null,null,null,null,null,null,"",null,null,null,null,null,null,null,null,null,null,null,null,null,null,null,null,null,"",null,"","","","",null,null,null,null,null,null,null,null,null,null,null,null,null,null,null,null,null,"",null,null,null,null,null,null,null,null,null,null,null,null,null,null,null,null,null,"",null,"","","","",null,null,null,null,null,null,null,null,null,null,null,null,null,null,null,null,null,"",null,null,null,null,null,null,null,null,null,null,null,null,null,null,null,null,null,"",null,"","","",""]
[null,null,null,null,null,null,null,null,null,null,null,null,null,null,null,null,"",null,null,null,null,null,null,null,null,null,null,null,null,null,null,null,null,null,"",null,"","","","",null,null,null,null,null,null,null,null,null,null,null,null,null,null,null,null,null,"",null,null,null,null,null,null,null,null,null,null,null,null,null,null,null,null,null,"",null,"","","","",null,null,null,null,null,null,null,null,null,null,null,null,null,null,null,null,null,"",null,null,null,null,null,null,null,null,null,null,null,null,null,null,null,null,null,"",null,"","","",""]
[null,null,null,null,null,null,null,null,null,null,null,null,null,null,null,null,"",null,null,null,null,null,null,null,null,null,null,null,null,null,null,null,null,null,"",null,"","","","",null,null,null,null,null,null,null,null,null,null,null,null,null,null,null,null,null,"",null,null,null,null,null,null,null,null,null,null,null,null,null,null,null,null,null,"",null,"","","","",null,null,null,null,null,null,null,null,null,null,null,null,null,null,null,null,null,"",null,null,null,null,null,null,null,null,null,null,null,null,null,null,null,null,null,"",null,"","","",""]
[null,null,null,null,null,null,null,null,null,null,null,null,null,null,null,null,"",null,null,null,null,null,null,null,null,null,null,null,null,null,null,null,null,null,"",null,"","","","",null,null,null,null,null,null,null,null,null,null,null,null,null,null,null,null,null,"",null,null,null,null,null,null,null,null,null,null,null,null,null,null,null,null,null,"",null,"","","","",null,null,null,null,null,null,null,null,null,null,null,null,null,null,null,null,null,"",null,null,null,null,null,null,null,null,null,null,null,null,null,null,null,null,null,"",null,"","","",""]
[null,null,null,null,null,null,null,null,null,null,null,null,null,null,null,null,"",null,null,null,null,null,null,null,null,null,null,null,null,null,null,null,null,null,"",null,"","","","",null,null,null,null,null,null,null,null,null,null,null,null,null,null,null,null,null,"",null,null,null,null,null,null,null,null,null,null,null,null,null,null,null,null,null,"",null,"","","","",null,null,null,null,null,null,null,null,null,null,null,null,null,null,null,null,null,"",null,null,null,null,null,null,null,null,null,null,null,null,null,null,null,null,null,"",null,"","","",""]
[null,null,null,null,null,null,null,null,null,null,null,null,null,null,null,null,"",null,null,null,null,null,null,null,null,null,null,null,null,null,null,null,null,null,"",null,"","","","",null,null,null,null,null,null,null,null,null,null,null,null,null,null,null,null,null,"",null,null,null,null,null,null,null,null,null,null,null,null,null,null,null,null,null,"",null,"","","","",null,null,null,null,null,null,null,null,null,null,null,null,null,null,null,null,null,"",null,null,null,null,null,null,null,null,null,null,null,null,null,null,null,null,null,"",null,"","","",""]
[null,null,null,null,null,null,null,null,null,null,null,null,null,null,null,null,"",null,null,null,null,null,null,null,null,null,null,null,null,null,null,null,null,null,"",null,"","","","",null,null,null,null,null,null,null,null,null,null,null,null,null,null,null,null,null,"",null,null,null,null,null,null,null,null,null,null,null,null,null,null,null,null,null,"",null,"","","","",null,null,null,null,null,null,null,null,null,null,null,null,null,null,null,null,null,"",null,null,null,null,null,null,null,null,null,null,null,null,null,null,null,null,null,"",null,"","","",""]
[null,null,null,null,null,null,null,null,null,null,null,null,null,null,null,null,"",null,null,null,null,null,null,null,null,null,null,null,null,null,null,null,null,null,"",null,"","","","",null,null,null,null,null,null,null,null,null,null,null,null,null,null,null,null,null,"",null,null,null,null,null,null,null,null,null,null,null,null,null,null,null,null,null,"",null,"","","","",null,null,null,null,null,null,null,null,null,null,null,null,null,null,null,null,null,"",null,null,null,null,null,null,null,null,null,null,null,null,null,null,null,null,null,"",null,"","","",""]
[null,null,null,null,null,null,null,null,null,null,null,null,null,null,null,null,"",null,null,null,null,null,null,null,null,null,null,null,null,null,null,null,null,null,"",null,"","","","",null,null,null,null,null,null,null,null,null,null,null,null,null,null,null,null,null,"",null,null,null,null,null,null,null,null,null,null,null,null,null,null,null,null,null,"",null,"","","","",null,null,null,null,null,null,null,null,null,null,null,null,null,null,null,null,null,"",null,null,null,null,null,null,null,null,null,null,null,null,null,null,null,null,null,"",null,"","","",""]
[null,null,null,null,null,null,null,null,null,null,null,null,null,null,null,null,"",null,null,null,null,null,null,null,null,null,null,null,null,null,null,null,null,null,"",null,"","","","",null,null,null,null,null,null,null,null,null,null,null,null,null,null,null,null,null,"",null,null,null,null,null,null,null,null,null,null,null,null,null,null,null,null,null,"",null,"","","","",null,null,null,null,null,null,null,null,null,null,null,null,null,null,null,null,null,"",null,null,null,null,null,null,null,null,null,null,null,null,null,null,null,null,null,"",null,"","","",""]
[null,null,null,null,null,null,null,null,null,null,null,null,null,null,null,null,"",null,null,null,null,null,null,null,null,null,null,null,null,null,null,null,null,null,"",null,"","","","",null,null,null,null,null,null,null,null,null,null,null,null,null,null,null,null,null,"",null,null,null,null,null,null,null,null,null,null,null,null,null,null,null,null,null,"",null,"","","","",null,null,null,null,null,null,null,null,null,null,null,null,null,null,null,null,null,"",null,null,null,null,null,null,null,null,null,null,null,null,null,null,null,null,null,"",null,"","","",""]
[null,null,null,null,null,null,null,null,null,null,null,null,null,null,null,null,"",null,null,null,null,null,null,null,null,null,null,null,null,null,null,null,null,null,"",null,"","","","",null,null,null,null,null,null,null,null,null,null,null,null,null,null,null,null,null,"",null,null,null,null,null,null,null,null,null,null,null,null,null,null,null,null,null,"",null,"","","","",null,null,null,null,null,null,null,null,null,null,null,null,null,null,null,null,null,"",null,null,null,null,null,null,null,null,null,null,null,null,null,null,null,null,null,"",null,"","","",""]
[null,null,null,null,null,null,null,null,null,null,null,null,null,null,null,null,"",null,null,null,null,null,null,null,null,null,null,null,null,null,null,null,null,null,"",null,"","","","",null,null,null,null,null,null,null,null,null,null,null,null,null,null,null,null,null,"",null,null,null,null,null,null,null,null,null,null,null,null,null,null,null,null,null,"",null,"","","","",null,null,null,null,null,null,null,null,null,null,null,null,null,null,null,null,null,"",null,null,null,null,null,null,null,null,null,null,null,null,null,null,null,null,null,"",null,"","","",""]
[null,null,null,null,null,null,null,null,null,null,null,null,null,null,null,null,"",null,null,null,null,null,null,null,null,null,null,null,null,null,null,null,null,null,"",null,"","","","",null,null,null,null,null,null,null,null,null,null,null,null,null,null,null,null,null,"",null,null,null,null,null,null,null,null,null,null,null,null,null,null,null,null,null,"",null,"","","","",null,null,null,null,null,null,null,null,null,null,null,null,null,null,null,null,null,"",null,null,null,null,null,null,null,null,null,null,null,null,null,null,null,null,null,"",null,"","","",""]
[null,null,null,null,null,null,null,null,null,null,null,null,null,null,null,null,"",null,null,null,null,null,null,null,null,null,null,null,null,null,null,null,null,null,"",null,"","","","",null,null,null,null,null,null,null,null,null,null,null,null,null,null,null,null,null,"",null,null,null,null,null,null,null,null,null,null,null,null,null,null,null,null,null,"",null,"","","","",null,null,null,null,null,null,null,null,null,null,null,null,null,null,null,null,null,"",null,null,null,null,null,null,null,null,null,null,null,null,null,null,null,null,null,"",null,"","","",""]
[null,null,null,null,null,null,null,null,null,null,null,null,null,null,null,null,"",null,null,null,null,null,null,null,null,null,null,null,null,null,null,null,null,null,"",null,"","","","",null,null,null,null,null,null,null,null,null,null,null,null,null,null,null,null,null,"",null,null,null,null,null,null,null,null,null,null,null,null,null,null,null,null,null,"",null,"","","","",null,null,null,null,null,null,null,null,null,null,null,null,null,null,null,null,null,"",null,null,null,null,null,null,null,null,null,null,null,null,null,null,null,null,null,"",null,"","","",""]
[null,null,null,null,null,null,null,null,null,null,null,null,null,null,null,null,"",null,null,null,null,null,null,null,null,null,null,null,null,null,null,null,null,null,"",null,"","","","",null,null,null,null,null,null,null,null,null,null,null,null,null,null,null,null,null,"",null,null,null,null,null,null,null,null,null,null,null,null,null,null,null,null,null,"",null,"","","","",null,null,null,null,null,null,null,null,null,null,null,null,null,null,null,null,null,"",null,null,null,null,null,null,null,null,null,null,null,null,null,null,null,null,null,"",null,"","","",""]
[null,null,null,null,null,null,null,null,null,null,null,null,null,null,null,null,"",null,null,null,null,null,null,null,null,null,null,null,null,null,null,null,null,null,"",null,"","","","",null,null,null,null,null,null,null,null,null,null,null,null,null,null,null,null,null,"",null,null,null,null,null,null,null,null,null,null,null,null,null,null,null,null,null,"",null,"","","","",null,null,null,null,null,null,null,null,null,null,null,null,null,null,null,null,null,"",null,null,null,null,null,null,null,null,null,null,null,null,null,null,null,null,null,"",null,"","","",""]
[null,null,null,null,null,null,null,null,null,null,null,null,null,null,null,null,"",null,null,null,null,null,null,null,null,null,null,null,null,null,null,null,null,null,"",null,"","","","",null,null,null,null,null,null,null,null,null,null,null,null,null,null,null,null,null,"",null,null,null,null,null,null,null,null,null,null,null,null,null,null,null,null,null,"",null,"","","","",null,null,null,null,null,null,null,null,null,null,null,null,null,null,null,null,null,"",null,null,null,null,null,null,null,null,null,null,null,null,null,null,null,null,null,"",null,"","","",""]
[null,null,null,null,null,null,null,null,null,null,null,null,null,null,null,null,"",null,null,null,null,null,null,null,null,null,null,null,null,null,null,null,null,null,"",null,"","","","",null,null,null,null,null,null,null,null,null,null,null,null,null,null,null,null,null,"",null,null,null,null,null,null,null,null,null,null,null,null,null,null,null,null,null,"",null,"","","","",null,null,null,null,null,null,null,null,null,null,null,null,null,null,null,null,null,"",null,null,null,null,null,null,null,null,null,null,null,null,null,null,null,null,null,"",null,"","","",""]
[null,null,null,null,null,null,null,null,null,null,null,null,null,null,null,null,"",null,null,null,null,null,null,null,null,null,null,null,null,null,null,null,null,null,"",null,"","","","",null,null,null,null,null,null,null,null,null,null,null,null,null,null,null,null,null,"",null,null,null,null,null,null,null,null,null,null,null,null,null,null,null,null,null,"",null,"","","","",null,null,null,null,null,null,null,null,null,null,null,null,null,null,null,null,null,"",null,null,null,null,null,null,null,null,null,null,null,null,null,null,null,null,null,"",null,"","","",""]
[null,null,null,null,null,null,null,null,null,null,null,null,null,null,null,null,"",null,null,null,null,null,null,null,null,null,null,null,null,null,null,null,null,null,"",null,"","","","",null,null,null,null,null,null,null,null,null,null,null,null,null,null,null,null,null,"",null,null,null,null,null,null,null,null,null,null,null,null,null,null,null,null,null,"",null,"","","","",null,null,null,null,null,null,null,null,null,null,null,null,null,null,null,null,null,"",null,null,null,null,null,null,null,null,null,null,null,null,null,null,null,null,null,"",null,"","","",""]
[null,null,null,null,null,null,null,null,null,null,null,null,null,null,null,null,"",null,null,null,null,null,null,null,null,null,null,null,null,null,null,null,null,null,"",null,"","","","",null,null,null,null,null,null,null,null,null,null,null,null,null,null,null,null,null,"",null,null,null,null,null,null,null,null,null,null,null,null,null,null,null,null,null,"",null,"","","","",null,null,null,null,null,null,null,null,null,null,null,null,null,null,null,null,null,"",null,null,null,null,null,null,null,null,null,null,null,null,null,null,null,null,null,"",null,"","","",""]
[null,null,null,null,null,null,null,null,null,null,null,null,null,null,null,null,"",null,null,null,null,null,null,null,null,null,null,null,null,null,null,null,null,null,"",null,"","","","",null,null,null,null,null,null,null,null,null,null,null,null,null,null,null,null,null,"",null,null,null,null,null,null,null,null,null,null,null,null,null,null,null,null,null,"",null,"","","","",null,null,null,null,null,null,null,null,null,null,null,null,null,null,null,null,null,"",null,null,null,null,null,null,null,null,null,null,null,null,null,null,null,null,null,"",null,"","","",""]
[null,null,null,null,null,null,null,null,null,null,null,null,null,null,null,null,"",null,null,null,null,null,null,null,null,null,null,null,null,null,null,null,null,null,"",null,"","","","",null,null,null,null,null,null,null,null,null,null,null,null,null,null,null,null,null,"",null,null,null,null,null,null,null,null,null,null,null,null,null,null,null,null,null,"",null,"","","","",null,null,null,null,null,null,null,null,null,null,null,null,null,null,null,null,null,"",null,null,null,null,null,null,null,null,null,null,null,null,null,null,null,null,null,"",null,"","","",""]
[null,null,null,null,null,null,null,null,null,null,null,null,null,null,null,null,"",null,null,null,null,null,null,null,null,null,null,null,null,null,null,null,null,null,"",null,"","","","",null,null,null,null,null,null,null,null,null,null,null,null,null,null,null,null,null,{"$f":"IF(BC69=\"\",\"\",BC69*BC$505)","v":""},null,null,null,null,null,null,null,null,null,null,null,null,null,null,null,null,null,"",null,"","","","",null,null,null,null,null,null,null,null,null,null,null,null,null,null,null,null,null,{"$f":"IF(CR69=\"\",\"\",CR69*CR$505)","v":""},null,null,null,null,null,null,null,null,null,null,null,null,null,null,null,null,null,"",null,"","","",""]
[null,null,null,null,null,null,null,null,null,null,null,null,null,null,null,null,{"$f":"IF(N70=\"\",\"\",IF(N70*N$505>100,100,N$505*N70))","v":""},null,null,null,null,null,null,null,null,null,null,null,null,null,null,null,null,null,{"$f":"IF(AF70=\"\",\"\",AF70*AF$505)","v":""},null,{"$f":"IF(L70=\"\",\"\",IF(L70=\"c\",2,1))","v":""},{"$f":"IF(M70=\"\",\"\",IF(M70=\"s\",2,1))","v":""},{"$f":"IF(AD70=\"\",\"\",IF(AD70=\"c\",2,1))","v":""},{"$f":"IF(AE70=\"\",\"\",IF(AE70=\"s\",2,1))","v":""},null,null,null,null,null,null,null,null,null,null,null,null,null,null,null,null,null,"",null,null,null,null,null,null,null,null,null,null,null,null,null,null,null,null,null,{"$f":"IF(BU70=\"\",\"\",BU70*BU$505)","v":""},null,{"$f":"IF(BA70=\"\",\"\",IF(BA70=\"c\",2,1))","v":""},{"$f":"IF(BB70=\"\",\"\",IF(BB70=\"s\",2,1))","v":""},{"$f":"IF(BS70=\"\",\"\",IF(BS70=\"c\",2,1))","v":""},{"$f":"IF(BT70=\"\",\"\",IF(BT70=\"s\",2,1))","v":""},null,null,null,null,null,null,null,null,null,null,null,null,null,null,null,null,null,"",null,null,null,null,null,null,null,null,null,null,null,null,null,null,null,null,null,{"$f":"IF(DJ70=\"\",\"\",DJ70*DJ$505)","v":""},null,{"$f":"IF(CP70=\"\",\"\",IF(CP70=\"c\",2,1))","v":""},{"$f":"IF(CQ70=\"\",\"\",IF(CQ70=\"s\",2,1))","v":""},{"$f":"IF(DH70=\"\",\"\",IF(DH70=\"c\",2,1))","v":""},{"$f":"IF(DI70=\"\",\"\",IF(DI70=\"s\",2,1))","v":""}]
[null,null,null,null,null,null,null,null,null,null,null,null,null,null,null,null,"",null,null,null,null,null,null,null,null,null,null,null,null,null,null,null,null,null,"",null,"","","","",null,null,null,null,null,null,null,null,null,null,null,null,null,null,null,null,null,"",null,null,null,null,null,null,null,null,null,null,null,null,null,null,null,null,null,"",null,"","","","",null,null,null,null,null,null,null,null,null,null,null,null,null,null,null,null,null,"",null,null,null,null,null,null,null,null,null,null,null,null,null,null,null,null,null,"",null,"","","",""]
[null,null,null,null,null,null,null,null,null,null,null,null,null,null,null,null,"",null,null,null,null,null,null,null,null,null,null,null,null,null,null,null,null,null,"",null,"","","","",null,null,null,null,null,null,null,null,null,null,null,null,null,null,null,null,null,"",null,null,null,null,null,null,null,null,null,null,null,null,null,null,null,null,null,"",null,"","","","",null,null,null,null,null,null,null,null,null,null,null,null,null,null,null,null,null,"",null,null,null,null,null,null,null,null,null,null,null,null,null,null,null,null,null,"",null,"","","",""]
[null,null,null,null,null,null,null,null,null,null,null,null,null,null,null,null,"",null,null,null,null,null,null,null,null,null,null,null,null,null,null,null,null,null,"",null,"","","","",null,null,null,null,null,null,null,null,null,null,null,null,null,null,null,null,null,"",null,null,null,null,null,null,null,null,null,null,null,null,null,null,null,null,null,"",null,"","","","",null,null,null,null,null,null,null,null,null,null,null,null,null,null,null,null,null,"",null,null,null,null,null,null,null,null,null,null,null,null,null,null,null,null,null,"",null,"","","",""]
[null,null,null,null,null,null,null,null,null,null,null,null,null,null,null,null,"",null,null,null,null,null,null,null,null,null,null,null,null,null,null,null,null,null,"",null,"","","","",null,null,null,null,null,null,null,null,null,null,null,null,null,null,null,null,null,"",null,null,null,null,null,null,null,null,null,null,null,null,null,null,null,null,null,"",null,"","","","",null,null,null,null,null,null,null,null,null,null,null,null,null,null,null,null,null,"",null,null,null,null,null,null,null,null,null,null,null,null,null,null,null,null,null,"",null,"","","",""]
[null,null,null,null,null,null,null,null,null,null,null,null,null,null,null,null,"",null,null,null,null,null,null,null,null,null,null,null,null,null,null,null,null,null,"",null,"","","","",null,null,null,null,null,null,null,null,null,null,null,null,null,null,null,null,null,"",null,null,null,null,null,null,null,null,null,null,null,null,null,null,null,null,null,"",null,"","","","",null,null,null,null,null,null,null,null,null,null,null,null,null,null,null,null,null,"",null,null,null,null,null,null,null,null,null,null,null,null,null,null,null,null,null,"",null,"","","",""]
[null,null,null,null,null,null,null,null,null,null,null,null,null,null,null,null,"",null,null,null,null,null,null,null,null,null,null,null,null,null,null,null,null,null,"",null,"","","","",null,null,null,null,null,null,null,null,null,null,null,null,null,null,null,null,null,"",null,null,null,null,null,null,null,null,null,null,null,null,null,null,null,null,null,"",null,"","","","",null,null,null,null,null,null,null,null,null,null,null,null,null,null,null,null,null,"",null,null,null,null,null,null,null,null,null,null,null,null,null,null,null,null,null,"",null,"","","",""]
[null,null,null,null,null,null,null,null,null,null,null,null,null,null,null,null,"",null,null,null,null,null,null,null,null,null,null,null,null,null,null,null,null,null,"",null,"","","","",null,null,null,null,null,null,null,null,null,null,null,null,null,null,null,null,null,"",null,null,null,null,null,null,null,null,null,null,null,null,null,null,null,null,null,"",null,"","","","",null,null,null,null,null,null,null,null,null,null,null,null,null,null,null,null,null,"",null,null,null,null,null,null,null,null,null,null,null,null,null,null,null,null,null,"",null,"","","",""]
[null,null,null,null,null,null,null,null,null,null,null,null,null,null,null,null,"",null,null,null,null,null,null,null,null,null,null,null,null,null,null,null,null,null,"",null,"","","","",null,null,null,null,null,null,null,null,null,null,null,null,null,null,null,null,null,"",null,null,null,null,null,null,null,null,null,null,null,null,null,null,null,null,null,"",null,"","","","",null,null,null,null,null,null,null,null,null,null,null,null,null,null,null,null,null,"",null,null,null,null,null,null,null,null,null,null,null,null,null,null,null,null,null,"",null,"","","",""]
[null,null,null,null,null,null,null,null,null,null,null,null,null,null,null,null,"",null,null,null,null,null,null,null,null,null,null,null,null,null,null,null,null,null,"",null,"","","","",null,null,null,null,null,null,null,null,null,null,null,null,null,null,null,null,null,"",null,null,null,null,null,null,null,null,null,null,null,null,null,null,null,null,null,"",null,"","","","",null,null,null,null,null,null,null,null,null,null,null,null,null,null,null,null,null,"",null,null,null,null,null,null,null,null,null,null,null,null,null,null,null,null,null,"",null,"","","",""]
[null,null,null,null,null,null,null,null,null,null,null,null,null,null,null,null,"",null,null,null,null,null,null,null,null,null,null,null,null,null,null,null,null,null,"",null,"","","","",null,null,null,null,null,null,null,null,null,null,null,null,null,null,null,null,null,"",null,null,null,null,null,null,null,null,null,null,null,null,null,null,null,null,null,"",null,"","","","",null,null,null,null,null,null,null,null,null,null,null,null,null,null,null,null,null,"",null,null,null,null,null,null,null,null,null,null,null,null,null,null,null,null,null,"",null,"","","",""]
[null,null,null,null,null,null,null,null,null,null,null,null,null,null,null,null,"",null,null,null,null,null,null,null,null,null,null,null,null,null,null,null,null,null,"",null,"","","","",null,null,null,null,null,null,null,null,null,null,null,null,null,null,null,null,null,"",null,null,null,null,null,null,null,null,null,null,null,null,null,null,null,null,null,"",null,"","","","",null,null,null,null,null,null,null,null,null,null,null,null,null,null,null,null,null,"",null,null,null,null,null,null,null,null,null,null,null,null,null,null,null,null,null,"",null,"","","",""]
[null,null,null,null,null,null,null,null,null,null,null,null,null,null,null,null,"",null,null,null,null,null,null,null,null,null,null,null,null,null,null,null,null,null,"",null,"","","","",null,null,null,null,null,null,null,null,null,null,null,null,null,null,null,null,null,"",null,null,null,null,null,null,null,null,null,null,null,null,null,null,null,null,null,"",null,"","","","",null,null,null,null,null,null,null,null,null,null,null,null,null,null,null,null,null,"",null,null,null,null,null,null,null,null,null,null,null,null,null,null,null,null,null,"",null,"","","",""]
[null,null,null,null,null,null,null,null,null,null,null,null,null,null,null,null,"",null,null,null,null,null,null,null,null,null,null,null,null,null,null,null,null,null,"",null,"","","","",null,null,null,null,null,null,null,null,null,null,null,null,null,null,null,null,null,"",null,null,null,null,null,null,null,null,null,null,null,null,null,null,null,null,null,"",null,"","","","",null,null,null,null,null,null,null,null,null,null,null,null,null,null,null,null,null,"",null,null,null,null,null,null,null,null,null,null,null,null,null,null,null,null,null,"",null,"","","",""]
[null,null,null,null,null,null,null,null,null,null,null,null,null,null,null,null,"",null,null,null,null,null,null,null,null,null,null,null,null,null,null,null,null,null,"",null,"","","","",null,null,null,null,null,null,null,null,null,null,null,null,null,null,null,null,null,"",null,null,null,null,null,null,null,null,null,null,null,null,null,null,null,null,null,"",null,"","","","",null,null,null,null,null,null,null,null,null,null,null,null,null,null,null,null,null,"",null,null,null,null,null,null,null,null,null,null,null,null,null,null,null,null,null,"",null,"","","",""]
[null,null,null,null,null,null,null,null,null,null,null,null,null,null,null,null,"",null,null,null,null,null,null,null,null,null,null,null,null,null,null,null,null,null,"",null,"","","","",null,null,null,null,null,null,null,null,null,null,null,null,null,null,null,null,null,"",null,null,null,null,null,null,null,null,null,null,null,null,null,null,null,null,null,"",null,"","","","",null,null,null,null,null,null,null,null,null,null,null,null,null,null,null,null,null,"",null,null,null,null,null,null,null,null,null,null,null,null,null,null,null,null,null,"",null,"","","",""]
[null,null,null,null,null,null,null,null,null,null,null,null,null,null,null,null,"",null,null,null,null,null,null,null,null,null,null,null,null,null,null,null,null,null,"",null,"","","","",null,null,null,null,null,null,null,null,null,null,null,null,null,null,null,null,null,"",null,null,null,null,null,null,null,null,null,null,null,null,null,null,null,null,null,"",null,"","","","",null,null,null,null,null,null,null,null,null,null,null,null,null,null,null,null,null,"",null,null,null,null,null,null,null,null,null,null,null,null,null,null,null,null,null,"",null,"","","",""]
[null,null,null,null,null,null,null,null,null,null,null,null,null,null,null,null,"",null,null,null,null,null,null,null,null,null,null,null,null,null,null,null,null,null,"",null,"","","","",null,null,null,null,null,null,null,null,null,null,null,null,null,null,null,null,null,"",null,null,null,null,null,null,null,null,null,null,null,null,null,null,null,null,null,"",null,"","","","",null,null,null,null,null,null,null,null,null,null,null,null,null,null,null,null,null,"",null,null,null,null,null,null,null,null,null,null,null,null,null,null,null,null,null,"",null,"","","",""]
[null,null,null,null,null,null,null,null,null,null,null,null,null,null,null,null,"",null,null,null,null,null,null,null,null,null,null,null,null,null,null,null,null,null,"",null,"","","","",null,null,null,null,null,null,null,null,null,null,null,null,null,null,null,null,null,"",null,null,null,null,null,null,null,null,null,null,null,null,null,null,null,null,null,"",null,"","","","",null,null,null,null,null,null,null,null,null,null,null,null,null,null,null,null,null,"",null,null,null,null,null,null,null,null,null,null,null,null,null,null,null,null,null,"",null,"","","",""]
[null,null,null,null,null,null,null,null,null,null,null,null,null,null,null,null,"",null,null,null,null,null,null,null,null,null,null,null,null,null,null,null,null,null,"",null,"","","","",null,null,null,null,null,null,null,null,null,null,null,null,null,null,null,null,null,"",null,null,null,null,null,null,null,null,null,null,null,null,null,null,null,null,null,"",null,"","","","",null,null,null,null,null,null,null,null,null,null,null,null,null,null,null,null,null,"",null,null,null,null,null,null,null,null,null,null,null,null,null,null,null,null,null,"",null,"","","",""]
[null,null,null,null,null,null,null,null,null,null,null,null,null,null,null,null,"",null,null,null,null,null,null,null,null,null,null,null,null,null,null,null,null,null,"",null,"","","","",null,null,null,null,null,null,null,null,null,null,null,null,null,null,null,null,null,"",null,null,null,null,null,null,null,null,null,null,null,null,null,null,null,null,null,"",null,"","","","",null,null,null,null,null,null,null,null,null,null,null,null,null,null,null,null,null,"",null,null,null,null,null,null,null,null,null,null,null,null,null,null,null,null,null,"",null,"","","",""]
[null,null,null,null,null,null,null,null,null,null,null,null,null,null,null,null,"",null,null,null,null,null,null,null,null,null,null,null,null,null,null,null,null,null,"",null,"","","","",null,null,null,null,null,null,null,null,null,null,null,null,null,null,null,null,null,"",null,null,null,null,null,null,null,null,null,null,null,null,null,null,null,null,null,"",null,"","","","",null,null,null,null,null,null,null,null,null,null,null,null,null,null,null,null,null,"",null,null,null,null,null,null,null,null,null,null,null,null,null,null,null,null,null,"",null,"","","",""]
[null,null,null,null,null,null,null,null,null,null,null,null,null,null,null,null,"",null,null,null,null,null,null,null,null,null,null,null,null,null,null,null,null,null,"",null,"","","","",null,null,null,null,null,null,null,null,null,null,null,null,null,null,null,null,null,"",null,null,null,null,null,null,null,null,null,null,null,null,null,null,null,null,null,"",null,"","","","",null,null,null,null,null,null,null,null,null,null,null,null,null,null,null,null,null,"",null,null,null,null,null,null,null,null,null,null,null,null,null,null,null,null,null,"",null,"","","",""]
[null,null,null,null,null,null,null,null,null,null,null,null,null,null,null,null,"",null,null,null,null,null,null,null,null,null,null,null,null,null,null,null,null,null,"",null,"","","","",null,null,null,null,null,null,null,null,null,null,null,null,null,null,null,null,null,"",null,null,null,null,null,null,null,null,null,null,null,null,null,null,null,null,null,"",null,"","","","",null,null,null,null,null,null,null,null,null,null,null,null,null,null,null,null,null,"",null,null,null,null,null,null,null,null,null,null,null,null,null,null,null,null,null,"",null,"","","",""]
[null,null,null,null,null,null,null,null,null,null,null,null,null,null,null,null,"",null,null,null,null,null,null,null,null,null,null,null,null,null,null,null,null,null,"",null,"","","","",null,null,null,null,null,null,null,null,null,null,null,null,null,null,null,null,null,"",null,null,null,null,null,null,null,null,null,null,null,null,null,null,null,null,null,"",null,"","","","",null,null,null,null,null,null,null,null,null,null,null,null,null,null,null,null,null,"",null,null,null,null,null,null,null,null,null,null,null,null,null,null,null,null,null,"",null,"","","",""]
[null,null,null,null,null,null,null,null,null,null,null,null,null,null,null,null,"",null,null,null,null,null,null,null,null,null,null,null,null,null,null,null,null,null,"",null,"","","","",null,null,null,null,null,null,null,null,null,null,null,null,null,null,null,null,null,"",null,null,null,null,null,null,null,null,null,null,null,null,null,null,null,null,null,"",null,"","","","",null,null,null,null,null,null,null,null,null,null,null,null,null,null,null,null,null,"",null,null,null,null,null,null,null,null,null,null,null,null,null,null,null,null,null,"",null,"","","",""]
[null,null,null,null,null,null,null,null,null,null,null,null,null,null,null,null,"",null,null,null,null,null,null,null,null,null,null,null,null,null,null,null,null,null,"",null,"","","","",null,null,null,null,null,null,null,null,null,null,null,null,null,null,null,null,null,"",null,null,null,null,null,null,null,null,null,null,null,null,null,null,null,null,null,"",null,"","","","",null,null,null,null,null,null,null,null,null,null,null,null,null,null,null,null,null,"",null,null,null,null,null,null,null,null,null,null,null,null,null,null,null,null,null,"",null,"","","",""]
[null,null,null,null,null,null,null,null,null,null,null,null,null,null,null,null,"",null,null,null,null,null,null,null,null,null,null,null,null,null,null,null,null,null,"",null,"","","","",null,null,null,null,null,null,null,null,null,null,null,null,null,null,null,null,null,"",null,null,null,null,null,null,null,null,null,null,null,null,null,null,null,null,null,"",null,"","","","",null,null,null,null,null,null,null,null,null,null,null,null,null,null,null,null,null,"",null,null,null,null,null,null,null,null,null,null,null,null,null,null,null,null,null,"",null,"","","",""]
[null,null,null,null,null,null,null,null,null,null,null,null,null,null,null,null,"",null,null,null,null,null,null,null,null,null,null,null,null,null,null,null,null,null,"",null,"","","","",null,null,null,null,null,null,null,null,null,null,null,null,null,null,null,null,null,"",null,null,null,null,null,null,null,null,null,null,null,null,null,null,null,null,null,"",null,"","","","",null,null,null,null,null,null,null,null,null,null,null,null,null,null,null,null,null,"",null,null,null,null,null,null,null,null,null,null,null,null,null,null,null,null,null,"",null,"","","",""]
[null,null,null,null,null,null,null,null,null,null,null,null,null,null,null,null,"",null,null,null,null,null,null,null,null,null,null,null,null,null,null,null,null,null,"",null,"","","","",null,null,null,null,null,null,null,null,null,null,null,null,null,null,null,null,null,"",null,null,null,null,null,null,null,null,null,null,null,null,null,null,null,null,null,"",null,"","","","",null,null,null,null,null,null,null,null,null,null,null,null,null,null,null,null,null,"",null,null,null,null,null,null,null,null,null,null,null,null,null,null,null,null,null,"",null,"","","",""]
[null,null,null,null,null,null,null,null,null,null,null,null,null,null,null,null,"",null,null,null,null,null,null,null,null,null,null,null,null,null,null,null,null,null,"",null,"","","","",null,null,null,null,null,null,null,null,null,null,null,null,null,null,null,null,null,"",null,null,null,null,null,null,null,null,null,null,null,null,null,null,null,null,null,"",null,"","","","",null,null,null,null,null,null,null,null,null,null,null,null,null,null,null,null,null,"",null,null,null,null,null,null,null,null,null,null,null,null,null,null,null,null,null,"",null,"","","",""]
[null,null,null,null,null,null,null,null,null,null,null,null,null,null,null,null,"",null,null,null,null,null,null,null,null,null,null,null,null,null,null,null,null,null,"",null,"","","","",null,null,null,null,null,null,null,null,null,null,null,null,null,null,null,null,null,"",null,null,null,null,null,null,null,null,null,null,null,null,null,null,null,null,null,"",null,"","","","",null,null,null,null,null,null,null,null,null,null,null,null,null,null,null,null,null,"",null,null,null,null,null,null,null,null,null,null,null,null,null,null,null,null,null,"",null,"","","",""]
[null,null,null,null,null,null,null,null,null,null,null,null,null,null,null,null,"",null,null,null,null,null,null,null,null,null,null,null,null,null,null,null,null,null,"",null,"","","","",null,null,null,null,null,null,null,null,null,null,null,null,null,null,null,null,null,"",null,null,null,null,null,null,null,null,null,null,null,null,null,null,null,null,null,"",null,"","","","",null,null,null,null,null,null,null,null,null,null,null,null,null,null,null,null,null,"",null,null,null,null,null,null,null,null,null,null,null,null,null,null,null,null,null,"",null,"","","",""]
[null,null,null,null,null,null,null,null,null,null,null,null,null,null,null,null,"",null,null,null,null,null,null,null,null,null,null,null,null,null,null,null,null,null,"",null,"","","","",null,null,null,null,null,null,null,null,null,null,null,null,null,null,null,null,null,"",null,null,null,null,null,null,null,null,null,null,null,null,null,null,null,null,null,"",null,"","","","",null,null,null,null,null,null,null,null,null,null,null,null,null,null,null,null,null,"",null,null,null,null,null,null,null,null,null,null,null,null,null,null,null,null,null,"",null,"","","",""]
[null,null,null,null,null,null,null,null,null,null,null,null,null,null,null,null,"",null,null,null,null,null,null,null,null,null,null,null,null,null,null,null,null,null,"",null,"","","","",null,null,null,null,null,null,null,null,null,null,null,null,null,null,null,null,null,"",null,null,null,null,null,null,null,null,null,null,null,null,null,null,null,null,null,"",null,"","","","",null,null,null,null,null,null,null,null,null,null,null,null,null,null,null,null,null,"",null,null,null,null,null,null,null,null,null,null,null,null,null,null,null,null,null,"",null,"","","",""]
[null,null,null,null,null,null,null,null,null,null,null,null,null,null,null,null,"",null,null,null,null,null,null,null,null,null,null,null,null,null,null,null,null,null,"",null,"","","","",null,null,null,null,null,null,null,null,null,null,null,null,null,null,null,null,null,"",null,null,null,null,null,null,null,null,null,null,null,null,null,null,null,null,null,"",null,"","","","",null,null,null,null,null,null,null,null,null,null,null,null,null,null,null,null,null,"",null,null,null,null,null,null,null,null,null,null,null,null,null,null,null,null,null,"",null,"","","",""]
[null,null,null,null,null,null,null,null,null,null,null,null,null,null,null,null,"",null,null,null,null,null,null,null,null,null,null,null,null,null,null,null,null,null,"",null,"","","","",null,null,null,null,null,null,null,null,null,null,null,null,null,null,null,null,null,"",null,null,null,null,null,null,null,null,null,null,null,null,null,null,null,null,null,"",null,"","","","",null,null,null,null,null,null,null,null,null,null,null,null,null,null,null,null,null,"",null,null,null,null,null,null,null,null,null,null,null,null,null,null,null,null,null,"",null,"","","",""]
[null,null,null,null,null,null,null,null,null,null,null,null,null,null,null,null,"",null,null,null,null,null,null,null,null,null,null,null,null,null,null,null,null,null,"",null,"","","","",null,null,null,null,null,null,null,null,null,null,null,null,null,null,null,null,null,"",null,null,null,null,null,null,null,null,null,null,null,null,null,null,null,null,null,"",null,"","","","",null,null,null,null,null,null,null,null,null,null,null,null,null,null,null,null,null,"",null,null,null,null,null,null,null,null,null,null,null,null,null,null,null,null,null,"",null,"","","",""]
[null,null,null,null,null,null,null,null,null,null,null,null,null,null,null,null,"",null,null,null,null,null,null,null,null,null,null,null,null,null,null,null,null,null,"",null,"","","","",null,null,null,null,null,null,null,null,null,null,null,null,null,null,null,null,null,"",null,null,null,null,null,null,null,null,null,null,null,null,null,null,null,null,null,"",null,"","","","",null,null,null,null,null,null,null,null,null,null,null,null,null,null,null,null,null,"",null,null,null,null,null,null,null,null,null,null,null,null,null,null,null,null,null,"",null,"","","",""]
[null,null,null,null,null,null,null,null,null,null,null,null,null,null,null,null,"",null,null,null,null,null,null,null,null,null,null,null,null,null,null,null,null,null,"",null,"","","","",null,null,null,null,null,null,null,null,null,null,null,null,null,null,null,null,null,"",null,null,null,null,null,null,null,null,null,null,null,null,null,null,null,null,null,"",null,"","","","",null,null,null,null,null,null,null,null,null,null,null,null,null,null,null,null,null,"",null,null,null,null,null,null,null,null,null,null,null,null,null,null,null,null,null,"",null,"","","",""]
[null,null,null,null,null,null,null,null,null,null,null,null,null,null,null,null,"",null,null,null,null,null,null,null,null,null,null,null,null,null,null,null,null,null,"",null,"","","","",null,null,null,null,null,null,null,null,null,null,null,null,null,null,null,null,null,"",null,null,null,null,null,null,null,null,null,null,null,null,null,null,null,null,null,"",null,"","","","",null,null,null,null,null,null,null,null,null,null,null,null,null,null,null,null,null,"",null,null,null,null,null,null,null,null,null,null,null,null,null,null,null,null,null,"",null,"","","",""]
[null,null,null,null,null,null,null,null,null,null,null,null,null,null,null,null,"",null,null,null,null,null,null,null,null,null,null,null,null,null,null,null,null,null,"",null,"","","","",null,null,null,null,null,null,null,null,null,null,null,null,null,null,null,null,null,"",null,null,null,null,null,null,null,null,null,null,null,null,null,null,null,null,null,"",null,"","","","",null,null,null,null,null,null,null,null,null,null,null,null,null,null,null,null,null,"",null,null,null,null,null,null,null,null,null,null,null,null,null,null,null,null,null,"",null,"","","",""]
[null,null,null,null,null,null,null,null,null,null,null,null,null,null,null,null,"",null,null,null,null,null,null,null,null,null,null,null,null,null,null,null,null,null,"",null,"","","","",null,null,null,null,null,null,null,null,null,null,null,null,null,null,null,null,null,"",null,null,null,null,null,null,null,null,null,null,null,null,null,null,null,null,null,"",null,"","","","",null,null,null,null,null,null,null,null,null,null,null,null,null,null,null,null,null,"",null,null,null,null,null,null,null,null,null,null,null,null,null,null,null,null,null,"",null,"","","",""]
[null,null,null,null,null,null,null,null,null,null,null,null,null,null,null,null,"",null,null,null,null,null,null,null,null,null,null,null,null,null,null,null,null,null,"",null,"","","","",null,null,null,null,null,null,null,null,null,null,null,null,null,null,null,null,null,"",null,null,null,null,null,null,null,null,null,null,null,null,null,null,null,null,null,"",null,"","","","",null,null,null,null,null,null,null,null,null,null,null,null,null,null,null,null,null,"",null,null,null,null,null,null,null,null,null,null,null,null,null,null,null,null,null,"",null,"","","",""]
[null,null,null,null,null,null,null,null,null,null,null,null,null,null,null,null,"",null,null,null,null,null,null,null,null,null,null,null,null,null,null,null,null,null,"",null,"","","","",null,null,null,null,null,null,null,null,null,null,null,null,null,null,null,null,null,"",null,null,null,null,null,null,null,null,null,null,null,null,null,null,null,null,null,"",null,"","","","",null,null,null,null,null,null,null,null,null,null,null,null,null,null,null,null,null,"",null,null,null,null,null,null,null,null,null,null,null,null,null,null,null,null,null,"",null,"","","",""]
[null,null,null,null,null,null,null,null,null,null,null,null,null,null,null,null,"",null,null,null,null,null,null,null,null,null,null,null,null,null,null,null,null,null,"",null,"","","","",null,null,null,null,null,null,null,null,null,null,null,null,null,null,null,null,null,"",null,null,null,null,null,null,null,null,null,null,null,null,null,null,null,null,null,"",null,"","","","",null,null,null,null,null,null,null,null,null,null,null,null,null,null,null,null,null,"",null,null,null,null,null,null,null,null,null,null,null,null,null,null,null,null,null,"",null,"","","",""]
[null,null,null,null,null,null,null,null,null,null,null,null,null,null,null,null,"",null,null,null,null,null,null,null,null,null,null,null,null,null,null,null,null,null,"",null,"","","","",null,null,null,null,null,null,null,null,null,null,null,null,null,null,null,null,null,"",null,null,null,null,null,null,null,null,null,null,null,null,null,null,null,null,null,"",null,"","","","",null,null,null,null,null,null,null,null,null,null,null,null,null,null,null,null,null,"",null,null,null,null,null,null,null,null,null,null,null,null,null,null,null,null,null,"",null,"","","",""]
[null,null,null,null,null,null,null,null,null,null,null,null,null,null,null,null,"",null,null,null,null,null,null,null,null,null,null,null,null,null,null,null,null,null,"",null,"","","","",null,null,null,null,null,null,null,null,null,null,null,null,null,null,null,null,null,"",null,null,null,null,null,null,null,null,null,null,null,null,null,null,null,null,null,"",null,"","","","",null,null,null,null,null,null,null,null,null,null,null,null,null,null,null,null,null,"",null,null,null,null,null,null,null,null,null,null,null,null,null,null,null,null,null,"",null,"","","",""]
[null,null,null,null,null,null,null,null,null,null,null,null,null,null,null,null,"",null,null,null,null,null,null,null,null,null,null,null,null,null,null,null,null,null,"",null,"","","","",null,null,null,null,null,null,null,null,null,null,null,null,null,null,null,null,null,"",null,null,null,null,null,null,null,null,null,null,null,null,null,null,null,null,null,"",null,"","","","",null,null,null,null,null,null,null,null,null,null,null,null,null,null,null,null,null,"",null,null,null,null,null,null,null,null,null,null,null,null,null,null,null,null,null,"",null,"","","",""]
[null,null,null,null,null,null,null,null,null,null,null,null,null,null,null,null,"",null,null,null,null,null,null,null,null,null,null,null,null,null,null,null,null,null,"",null,"","","","",null,null,null,null,null,null,null,null,null,null,null,null,null,null,null,null,null,"",null,null,null,null,null,null,null,null,null,null,null,null,null,null,null,null,null,"",null,"","","","",null,null,null,null,null,null,null,null,null,null,null,null,null,null,null,null,null,"",null,null,null,null,null,null,null,null,null,null,null,null,null,null,null,null,null,"",null,"","","",""]
[null,null,null,null,null,null,null,null,null,null,null,null,null,null,null,null,"",null,null,null,null,null,null,null,null,null,null,null,null,null,null,null,null,null,"",null,"","","","",null,null,null,null,null,null,null,null,null,null,null,null,null,null,null,null,null,"",null,null,null,null,null,null,null,null,null,null,null,null,null,null,null,null,null,"",null,"","","","",null,null,null,null,null,null,null,null,null,null,null,null,null,null,null,null,null,"",null,null,null,null,null,null,null,null,null,null,null,null,null,null,null,null,null,"",null,"","","",""]
[null,null,null,null,null,null,null,null,null,null,null,null,null,null,null,null,"",null,null,null,null,null,null,null,null,null,null,null,null,null,null,null,null,null,"",null,"","","","",null,null,null,null,null,null,null,null,null,null,null,null,null,null,null,null,null,"",null,null,null,null,null,null,null,null,null,null,null,null,null,null,null,null,null,"",null,"","","","",null,null,null,null,null,null,null,null,null,null,null,null,null,null,null,null,null,"",null,null,null,null,null,null,null,null,null,null,null,null,null,null,null,null,null,"",null,"","","",""]
[null,null,null,null,null,null,null,null,null,null,null,null,null,null,null,null,"",null,null,null,null,null,null,null,null,null,null,null,null,null,null,null,null,null,"",null,"","","","",null,null,null,null,null,null,null,null,null,null,null,null,null,null,null,null,null,"",null,null,null,null,null,null,null,null,null,null,null,null,null,null,null,null,null,"",null,"","","","",null,null,null,null,null,null,null,null,null,null,null,null,null,null,null,null,null,"",null,null,null,null,null,null,null,null,null,null,null,null,null,null,null,null,null,"",null,"","","",""]
[null,null,null,null,null,null,null,null,null,null,null,null,null,null,null,null,"",null,null,null,null,null,null,null,null,null,null,null,null,null,null,null,null,null,"",null,"","","","",null,null,null,null,null,null,null,null,null,null,null,null,null,null,null,null,null,"",null,null,null,null,null,null,null,null,null,null,null,null,null,null,null,null,null,"",null,"","","","",null,null,null,null,null,null,null,null,null,null,null,null,null,null,null,null,null,"",null,null,null,null,null,null,null,null,null,null,null,null,null,null,null,null,null,"",null,"","","",""]
[null,null,null,null,null,null,null,null,null,null,null,null,null,null,null,null,"",null,null,null,null,null,null,null,null,null,null,null,null,null,null,null,null,null,"",null,"","","","",null,null,null,null,null,null,null,null,null,null,null,null,null,null,null,null,null,"",null,null,null,null,null,null,null,null,null,null,null,null,null,null,null,null,null,"",null,"","","","",null,null,null,null,null,null,null,null,null,null,null,null,null,null,null,null,null,"",null,null,null,null,null,null,null,null,null,null,null,null,null,null,null,null,null,"",null,"","","",""]
[null,null,null,null,null,null,null,null,null,null,null,null,null,null,null,null,"",null,null,null,null,null,null,null,null,null,null,null,null,null,null,null,null,null,"",null,"","","","",null,null,null,null,null,null,null,null,null,null,null,null,null,null,null,null,null,"",null,null,null,null,null,null,null,null,null,null,null,null,null,null,null,null,null,"",null,"","","","",null,null,null,null,null,null,null,null,null,null,null,null,null,null,null,null,null,"",null,null,null,null,null,null,null,null,null,null,null,null,null,null,null,null,null,"",null,"","","",""]
[null,null,null,null,null,null,null,null,null,null,null,null,null,null,null,null,"",null,null,null,null,null,null,null,null,null,null,null,null,null,null,null,null,null,"",null,"","","","",null,null,null,null,null,null,null,null,null,null,null,null,null,null,null,null,null,"",null,null,null,null,null,null,null,null,null,null,null,null,null,null,null,null,null,"",null,"","","","",null,null,null,null,null,null,null,null,null,null,null,null,null,null,null,null,null,"",null,null,null,null,null,null,null,null,null,null,null,null,null,null,null,null,null,"",null,"","","",""]
[null,null,null,null,null,null,null,null,null,null,null,null,null,null,null,null,"",null,null,null,null,null,null,null,null,null,null,null,null,null,null,null,null,null,"",null,"","","","",null,null,null,null,null,null,null,null,null,null,null,null,null,null,null,null,null,"",null,null,null,null,null,null,null,null,null,null,null,null,null,null,null,null,null,"",null,"","","","",null,null,null,null,null,null,null,null,null,null,null,null,null,null,null,null,null,"",null,null,null,null,null,null,null,null,null,null,null,null,null,null,null,null,null,"",null,"","","",""]
[null,null,null,null,null,null,null,null,null,null,null,null,null,null,null,null,"",null,null,null,null,null,null,null,null,null,null,null,null,null,null,null,null,null,"",null,"","","","",null,null,null,null,null,null,null,null,null,null,null,null,null,null,null,null,null,"",null,null,null,null,null,null,null,null,null,null,null,null,null,null,null,null,null,"",null,"","","","",null,null,null,null,null,null,null,null,null,null,null,null,null,null,null,null,null,"",null,null,null,null,null,null,null,null,null,null,null,null,null,null,null,null,null,"",null,"","","",""]
[null,null,null,null,null,null,null,null,null,null,null,null,null,null,null,null,"",null,null,null,null,null,null,null,null,null,null,null,null,null,null,null,null,null,"",null,"","","","",null,null,null,null,null,null,null,null,null,null,null,null,null,null,null,null,null,"",null,null,null,null,null,null,null,null,null,null,null,null,null,null,null,null,null,"",null,"","","","",null,null,null,null,null,null,null,null,null,null,null,null,null,null,null,null,null,"",null,null,null,null,null,null,null,null,null,null,null,null,null,null,null,null,null,"",null,"","","",""]
[null,null,null,null,null,null,null,null,null,null,null,null,null,null,null,null,"",null,null,null,null,null,null,null,null,null,null,null,null,null,null,null,null,null,"",null,"","","","",null,null,null,null,null,null,null,null,null,null,null,null,null,null,null,null,null,"",null,null,null,null,null,null,null,null,null,null,null,null,null,null,null,null,null,"",null,"","","","",null,null,null,null,null,null,null,null,null,null,null,null,null,null,null,null,null,"",null,null,null,null,null,null,null,null,null,null,null,null,null,null,null,null,null,"",null,"","","",""]
[null,null,null,null,null,null,null,null,null,null,null,null,null,null,null,null,"",null,null,null,null,null,null,null,null,null,null,null,null,null,null,null,null,null,"",null,"","","","",null,null,null,null,null,null,null,null,null,null,null,null,null,null,null,null,null,"",null,null,null,null,null,null,null,null,null,null,null,null,null,null,null,null,null,"",null,"","","","",null,null,null,null,null,null,null,null,null,null,null,null,null,null,null,null,null,"",null,null,null,null,null,null,null,null,null,null,null,null,null,null,null,null,null,"",null,"","","",""]
[null,null,null,null,null,null,null,null,null,null,null,null,null,null,null,null,"",null,null,null,null,null,null,null,null,null,null,null,null,null,null,null,null,null,"",null,"","","","",null,null,null,null,null,null,null,null,null,null,null,null,null,null,null,null,null,"",null,null,null,null,null,null,null,null,null,null,null,null,null,null,null,null,null,"",null,"","","","",null,null,null,null,null,null,null,null,null,null,null,null,null,null,null,null,null,"",null,null,null,null,null,null,null,null,null,null,null,null,null,null,null,null,null,"",null,"","","",""]
[null,null,null,null,null,null,null,null,null,null,null,null,null,null,null,null,"",null,null,null,null,null,null,null,null,null,null,null,null,null,null,null,null,null,"",null,"","","","",null,null,null,null,null,null,null,null,null,null,null,null,null,null,null,null,null,{"$f":"IF(BC133=\"\",\"\",BC133*BC$505)","v":""},null,null,null,null,null,null,null,null,null,null,null,null,null,null,null,null,null,"",null,"","","","",null,null,null,null,null,null,null,null,null,null,null,null,null,null,null,null,null,{"$f":"IF(CR133=\"\",\"\",CR133*CR$505)","v":""},null,null,null,null,null,null,null,null,null,null,null,null,null,null,null,null,null,"",null,"","","",""]
[null,null,null,null,null,null,null,null,null,null,null,null,null,null,null,null,{"$f":"IF(N134=\"\",\"\",IF(N134*N$505>100,100,N$505*N134))","v":""},null,null,null,null,null,null,null,null,null,null,null,null,null,null,null,null,null,{"$f":"IF(AF134=\"\",\"\",AF134*AF$505)","v":""},null,{"$f":"IF(L134=\"\",\"\",IF(L134=\"c\",2,1))","v":""},{"$f":"IF(M134=\"\",\"\",IF(M134=\"s\",2,1))","v":""},{"$f":"IF(AD134=\"\",\"\",IF(AD134=\"c\",2,1))","v":""},{"$f":"IF(AE134=\"\",\"\",IF(AE134=\"s\",2,1))","v":""},null,null,null,null,null,null,null,null,null,null,null,null,null,null,null,null,null,"",null,null,null,null,null,null,null,null,null,null,null,null,null,null,null,null,null,{"$f":"IF(BU134=\"\",\"\",BU134*BU$505)","v":""},null,{"$f":"IF(BA134=\"\",\"\",IF(BA134=\"c\",2,1))","v":""},{"$f":"IF(BB134=\"\",\"\",IF(BB134=\"s\",2,1))","v":""},{"$f":"IF(BS134=\"\",\"\",IF(BS134=\"c\",2,1))","v":""},{"$f":"IF(BT134=\"\",\"\",IF(BT134=\"s\",2,1))","v":""},null,null,null,null,null,null,null,null,null,null,null,null,null,null,null,null,null,"",null,null,null,null,null,null,null,null,null,null,null,null,null,null,null,null,null,{"$f":"IF(DJ134=\"\",\"\",DJ134*DJ$505)","v":""},null,{"$f":"IF(CP134=\"\",\"\",IF(CP134=\"c\",2,1))","v":""},{"$f":"IF(CQ134=\"\",\"\",IF(CQ134=\"s\",2,1))","v":""},{"$f":"IF(DH134=\"\",\"\",IF(DH134=\"c\",2,1))","v":""},{"$f":"IF(DI134=\"\",\"\",IF(DI134=\"s\",2,1))","v":""}]
[null,null,null,null,null,null,null,null,null,null,null,null,null,null,null,null,"",null,null,null,null,null,null,null,null,null,null,null,null,null,null,null,null,null,"",null,"","","","",null,null,null,null,null,null,null,null,null,null,null,null,null,null,null,null,null,"",null,null,null,null,null,null,null,null,null,null,null,null,null,null,null,null,null,"",null,"","","","",null,null,null,null,null,null,null,null,null,null,null,null,null,null,null,null,null,"",null,null,null,null,null,null,null,null,null,null,null,null,null,null,null,null,null,"",null,"","","",""]
[null,null,null,null,null,null,null,null,null,null,null,null,null,null,null,null,"",null,null,null,null,null,null,null,null,null,null,null,null,null,null,null,null,null,"",null,"","","","",null,null,null,null,null,null,null,null,null,null,null,null,null,null,null,null,null,"",null,null,null,null,null,null,null,null,null,null,null,null,null,null,null,null,null,"",null,"","","","",null,null,null,null,null,null,null,null,null,null,null,null,null,null,null,null,null,"",null,null,null,null,null,null,null,null,null,null,null,null,null,null,null,null,null,"",null,"","","",""]
[null,null,null,null,null,null,null,null,null,null,null,null,null,null,null,null,"",null,null,null,null,null,null,null,null,null,null,null,null,null,null,null,null,null,"",null,"","","","",null,null,null,null,null,null,null,null,null,null,null,null,null,null,null,null,null,"",null,null,null,null,null,null,null,null,null,null,null,null,null,null,null,null,null,"",null,"","","","",null,null,null,null,null,null,null,null,null,null,null,null,null,null,null,null,null,"",null,null,null,null,null,null,null,null,null,null,null,null,null,null,null,null,null,"",null,"","","",""]
[null,null,null,null,null,null,null,null,null,null,null,null,null,null,null,null,"",null,null,null,null,null,null,null,null,null,null,null,null,null,null,null,null,null,"",null,"","","","",null,null,null,null,null,null,null,null,null,null,null,null,null,null,null,null,null,"",null,null,null,null,null,null,null,null,null,null,null,null,null,null,null,null,null,"",null,"","","","",null,null,null,null,null,null,null,null,null,null,null,null,null,null,null,null,null,"",null,null,null,null,null,null,null,null,null,null,null,null,null,null,null,null,null,"",null,"","","",""]
[null,null,null,null,null,null,null,null,null,null,null,null,null,null,null,null,"",null,null,null,null,null,null,null,null,null,null,null,null,null,null,null,null,null,"",null,"","","","",null,null,null,null,null,null,null,null,null,null,null,null,null,null,null,null,null,"",null,null,null,null,null,null,null,null,null,null,null,null,null,null,null,null,null,"",null,"","","","",null,null,null,null,null,null,null,null,null,null,null,null,null,null,null,null,null,"",null,null,null,null,null,null,null,null,null,null,null,null,null,null,null,null,null,"",null,"","","",""]
[null,null,null,null,null,null,null,null,null,null,null,null,null,null,null,null,"",null,null,null,null,null,null,null,null,null,null,null,null,null,null,null,null,null,"",null,"","","","",null,null,null,null,null,null,null,null,null,null,null,null,null,null,null,null,null,"",null,null,null,null,null,null,null,null,null,null,null,null,null,null,null,null,null,"",null,"","","","",null,null,null,null,null,null,null,null,null,null,null,null,null,null,null,null,null,"",null,null,null,null,null,null,null,null,null,null,null,null,null,null,null,null,null,"",null,"","","",""]
[null,null,null,null,null,null,null,null,null,null,null,null,null,null,null,null,"",null,null,null,null,null,null,null,null,null,null,null,null,null,null,null,null,null,"",null,"","","","",null,null,null,null,null,null,null,null,null,null,null,null,null,null,null,null,null,"",null,null,null,null,null,null,null,null,null,null,null,null,null,null,null,null,null,"",null,"","","","",null,null,null,null,null,null,null,null,null,null,null,null,null,null,null,null,null,"",null,null,null,null,null,null,null,null,null,null,null,null,null,null,null,null,null,"",null,"","","",""]
[null,null,null,null,null,null,null,null,null,null,null,null,null,null,null,null,"",null,null,null,null,null,null,null,null,null,null,null,null,null,null,null,null,null,"",null,"","","","",null,null,null,null,null,null,null,null,null,null,null,null,null,null,null,null,null,"",null,null,null,null,null,null,null,null,null,null,null,null,null,null,null,null,null,"",null,"","","","",null,null,null,null,null,null,null,null,null,null,null,null,null,null,null,null,null,"",null,null,null,null,null,null,null,null,null,null,null,null,null,null,null,null,null,"",null,"","","",""]
[null,null,null,null,null,null,null,null,null,null,null,null,null,null,null,null,"",null,null,null,null,null,null,null,null,null,null,null,null,null,null,null,null,null,"",null,"","","","",null,null,null,null,null,null,null,null,null,null,null,null,null,null,null,null,null,"",null,null,null,null,null,null,null,null,null,null,null,null,null,null,null,null,null,"",null,"","","","",null,null,null,null,null,null,null,null,null,null,null,null,null,null,null,null,null,"",null,null,null,null,null,null,null,null,null,null,null,null,null,null,null,null,null,"",null,"","","",""]
[null,null,null,null,null,null,null,null,null,null,null,null,null,null,null,null,"",null,null,null,null,null,null,null,null,null,null,null,null,null,null,null,null,null,"",null,"","","","",null,null,null,null,null,null,null,null,null,null,null,null,null,null,null,null,null,"",null,null,null,null,null,null,null,null,null,null,null,null,null,null,null,null,null,"",null,"","","","",null,null,null,null,null,null,null,null,null,null,null,null,null,null,null,null,null,"",null,null,null,null,null,null,null,null,null,null,null,null,null,null,null,null,null,"",null,"","","",""]
[null,null,null,null,null,null,null,null,null,null,null,null,null,null,null,null,"",null,null,null,null,null,null,null,null,null,null,null,null,null,null,null,null,null,"",null,"","","","",null,null,null,null,null,null,null,null,null,null,null,null,null,null,null,null,null,"",null,null,null,null,null,null,null,null,null,null,null,null,null,null,null,null,null,"",null,"","","","",null,null,null,null,null,null,null,null,null,null,null,null,null,null,null,null,null,"",null,null,null,null,null,null,null,null,null,null,null,null,null,null,null,null,null,"",null,"","","",""]
[null,null,null,null,null,null,null,null,null,null,null,null,null,null,null,null,"",null,null,null,null,null,null,null,null,null,null,null,null,null,null,null,null,null,"",null,"","","","",null,null,null,null,null,null,null,null,null,null,null,null,null,null,null,null,null,"",null,null,null,null,null,null,null,null,null,null,null,null,null,null,null,null,null,"",null,"","","","",null,null,null,null,null,null,null,null,null,null,null,null,null,null,null,null,null,"",null,null,null,null,null,null,null,null,null,null,null,null,null,null,null,null,null,"",null,"","","",""]
[null,null,null,null,null,null,null,null,null,null,null,null,null,null,null,null,"",null,null,null,null,null,null,null,null,null,null,null,null,null,null,null,null,null,"",null,"","","","",null,null,null,null,null,null,null,null,null,null,null,null,null,null,null,null,null,"",null,null,null,null,null,null,null,null,null,null,null,null,null,null,null,null,null,"",null,"","","","",null,null,null,null,null,null,null,null,null,null,null,null,null,null,null,null,null,"",null,null,null,null,null,null,null,null,null,null,null,null,null,null,null,null,null,"",null,"","","",""]
[null,null,null,null,null,null,null,null,null,null,null,null,null,null,null,null,"",null,null,null,null,null,null,null,null,null,null,null,null,null,null,null,null,null,"",null,"","","","",null,null,null,null,null,null,null,null,null,null,null,null,null,null,null,null,null,"",null,null,null,null,null,null,null,null,null,null,null,null,null,null,null,null,null,"",null,"","","","",null,null,null,null,null,null,null,null,null,null,null,null,null,null,null,null,null,"",null,null,null,null,null,null,null,null,null,null,null,null,null,null,null,null,null,"",null,"","","",""]
[null,null,null,null,null,null,null,null,null,null,null,null,null,null,null,null,"",null,null,null,null,null,null,null,null,null,null,null,null,null,null,null,null,null,"",null,"","","","",null,null,null,null,null,null,null,null,null,null,null,null,null,null,null,null,null,"",null,null,null,null,null,null,null,null,null,null,null,null,null,null,null,null,null,"",null,"","","","",null,null,null,null,null,null,null,null,null,null,null,null,null,null,null,null,null,"",null,null,null,null,null,null,null,null,null,null,null,null,null,null,null,null,null,"",null,"","","",""]
[null,null,null,null,null,null,null,null,null,null,null,null,null,null,null,null,"",null,null,null,null,null,null,null,null,null,null,null,null,null,null,null,null,null,"",null,"","","","",null,null,null,null,null,null,null,null,null,null,null,null,null,null,null,null,null,"",null,null,null,null,null,null,null,null,null,null,null,null,null,null,null,null,null,"",null,"","","","",null,null,null,null,null,null,null,null,null,null,null,null,null,null,null,null,null,"",null,null,null,null,null,null,null,null,null,null,null,null,null,null,null,null,null,"",null,"","","",""]
[null,null,null,null,null,null,null,null,null,null,null,null,null,null,null,null,"",null,null,null,null,null,null,null,null,null,null,null,null,null,null,null,null,null,"",null,"","","","",null,null,null,null,null,null,null,null,null,null,null,null,null,null,null,null,null,"",null,null,null,null,null,null,null,null,null,null,null,null,null,null,null,null,null,"",null,"","","","",null,null,null,null,null,null,null,null,null,null,null,null,null,null,null,null,null,"",null,null,null,null,null,null,null,null,null,null,null,null,null,null,null,null,null,"",null,"","","",""]
[null,null,null,null,null,null,null,null,null,null,null,null,null,null,null,null,"",null,null,null,null,null,null,null,null,null,null,null,null,null,null,null,null,null,"",null,"","","","",null,null,null,null,null,null,null,null,null,null,null,null,null,null,null,null,null,"",null,null,null,null,null,null,null,null,null,null,null,null,null,null,null,null,null,"",null,"","","","",null,null,null,null,null,null,null,null,null,null,null,null,null,null,null,null,null,"",null,null,null,null,null,null,null,null,null,null,null,null,null,null,null,null,null,"",null,"","","",""]
[null,null,null,null,null,null,null,null,null,null,null,null,null,null,null,null,"",null,null,null,null,null,null,null,null,null,null,null,null,null,null,null,null,null,"",null,"","","","",null,null,null,null,null,null,null,null,null,null,null,null,null,null,null,null,null,"",null,null,null,null,null,null,null,null,null,null,null,null,null,null,null,null,null,"",null,"","","","",null,null,null,null,null,null,null,null,null,null,null,null,null,null,null,null,null,"",null,null,null,null,null,null,null,null,null,null,null,null,null,null,null,null,null,"",null,"","","",""]
[null,null,null,null,null,null,null,null,null,null,null,null,null,null,null,null,"",null,null,null,null,null,null,null,null,null,null,null,null,null,null,null,null,null,"",null,"","","","",null,null,null,null,null,null,null,null,null,null,null,null,null,null,null,null,null,"",null,null,null,null,null,null,null,null,null,null,null,null,null,null,null,null,null,"",null,"","","","",null,null,null,null,null,null,null,null,null,null,null,null,null,null,null,null,null,"",null,null,null,null,null,null,null,null,null,null,null,null,null,null,null,null,null,"",null,"","","",""]
[null,null,null,null,null,null,null,null,null,null,null,null,null,null,null,null,"",null,null,null,null,null,null,null,null,null,null,null,null,null,null,null,null,null,"",null,"","","","",null,null,null,null,null,null,null,null,null,null,null,null,null,null,null,null,null,"",null,null,null,null,null,null,null,null,null,null,null,null,null,null,null,null,null,"",null,"","","","",null,null,null,null,null,null,null,null,null,null,null,null,null,null,null,null,null,"",null,null,null,null,null,null,null,null,null,null,null,null,null,null,null,null,null,"",null,"","","",""]
[null,null,null,null,null,null,null,null,null,null,null,null,null,null,null,null,"",null,null,null,null,null,null,null,null,null,null,null,null,null,null,null,null,null,"",null,"","","","",null,null,null,null,null,null,null,null,null,null,null,null,null,null,null,null,null,"",null,null,null,null,null,null,null,null,null,null,null,null,null,null,null,null,null,"",null,"","","","",null,null,null,null,null,null,null,null,null,null,null,null,null,null,null,null,null,"",null,null,null,null,null,null,null,null,null,null,null,null,null,null,null,null,null,"",null,"","","",""]
[null,null,null,null,null,null,null,null,null,null,null,null,null,null,null,null,"",null,null,null,null,null,null,null,null,null,null,null,null,null,null,null,null,null,"",null,"","","","",null,null,null,null,null,null,null,null,null,null,null,null,null,null,null,null,null,"",null,null,null,null,null,null,null,null,null,null,null,null,null,null,null,null,null,"",null,"","","","",null,null,null,null,null,null,null,null,null,null,null,null,null,null,null,null,null,"",null,null,null,null,null,null,null,null,null,null,null,null,null,null,null,null,null,"",null,"","","",""]
[null,null,null,null,null,null,null,null,null,null,null,null,null,null,null,null,"",null,null,null,null,null,null,null,null,null,null,null,null,null,null,null,null,null,"",null,"","","","",null,null,null,null,null,null,null,null,null,null,null,null,null,null,null,null,null,"",null,null,null,null,null,null,null,null,null,null,null,null,null,null,null,null,null,"",null,"","","","",null,null,null,null,null,null,null,null,null,null,null,null,null,null,null,null,null,"",null,null,null,null,null,null,null,null,null,null,null,null,null,null,null,null,null,"",null,"","","",""]
[null,null,null,null,null,null,null,null,null,null,null,null,null,null,null,null,"",null,null,null,null,null,null,null,null,null,null,null,null,null,null,null,null,null,"",null,"","","","",null,null,null,null,null,null,null,null,null,null,null,null,null,null,null,null,null,"",null,null,null,null,null,null,null,null,null,null,null,null,null,null,null,null,null,"",null,"","","","",null,null,null,null,null,null,null,null,null,null,null,null,null,null,null,null,null,"",null,null,null,null,null,null,null,null,null,null,null,null,null,null,null,null,null,"",null,"","","",""]
[null,null,null,null,null,null,null,null,null,null,null,null,null,null,null,null,"",null,null,null,null,null,null,null,null,null,null,null,null,null,null,null,null,null,"",null,"","","","",null,null,null,null,null,null,null,null,null,null,null,null,null,null,null,null,null,"",null,null,null,null,null,null,null,null,null,null,null,null,null,null,null,null,null,"",null,"","","","",null,null,null,null,null,null,null,null,null,null,null,null,null,null,null,null,null,"",null,null,null,null,null,null,null,null,null,null,null,null,null,null,null,null,null,"",null,"","","",""]
[null,null,null,null,null,null,null,null,null,null,null,null,null,null,null,null,"",null,null,null,null,null,null,null,null,null,null,null,null,null,null,null,null,null,"",null,"","","","",null,null,null,null,null,null,null,null,null,null,null,null,null,null,null,null,null,"",null,null,null,null,null,null,null,null,null,null,null,null,null,null,null,null,null,"",null,"","","","",null,null,null,null,null,null,null,null,null,null,null,null,null,null,null,null,null,"",null,null,null,null,null,null,null,null,null,null,null,null,null,null,null,null,null,"",null,"","","",""]
[null,null,null,null,null,null,null,null,null,null,null,null,null,null,null,null,"",null,null,null,null,null,null,null,null,null,null,null,null,null,null,null,null,null,"",null,"","","","",null,null,null,null,null,null,null,null,null,null,null,null,null,null,null,null,null,"",null,null,null,null,null,null,null,null,null,null,null,null,null,null,null,null,null,"",null,"","","","",null,null,null,null,null,null,null,null,null,null,null,null,null,null,null,null,null,"",null,null,null,null,null,null,null,null,null,null,null,null,null,null,null,null,null,"",null,"","","",""]
[null,null,null,null,null,null,null,null,null,null,null,null,null,null,null,null,"",null,null,null,null,null,null,null,null,null,null,null,null,null,null,null,null,null,"",null,"","","","",null,null,null,null,null,null,null,null,null,null,null,null,null,null,null,null,null,"",null,null,null,null,null,null,null,null,null,null,null,null,null,null,null,null,null,"",null,"","","","",null,null,null,null,null,null,null,null,null,null,null,null,null,null,null,null,null,"",null,null,null,null,null,null,null,null,null,null,null,null,null,null,null,null,null,"",null,"","","",""]
[null,null,null,null,null,null,null,null,null,null,null,null,null,null,null,null,"",null,null,null,null,null,null,null,null,null,null,null,null,null,null,null,null,null,"",null,"","","","",null,null,null,null,null,null,null,null,null,null,null,null,null,null,null,null,null,"",null,null,null,null,null,null,null,null,null,null,null,null,null,null,null,null,null,"",null,"","","","",null,null,null,null,null,null,null,null,null,null,null,null,null,null,null,null,null,"",null,null,null,null,null,null,null,null,null,null,null,null,null,null,null,null,null,"",null,"","","",""]
[null,null,null,null,null,null,null,null,null,null,null,null,null,null,null,null,"",null,null,null,null,null,null,null,null,null,null,null,null,null,null,null,null,null,"",null,"","","","",null,null,null,null,null,null,null,null,null,null,null,null,null,null,null,null,null,"",null,null,null,null,null,null,null,null,null,null,null,null,null,null,null,null,null,"",null,"","","","",null,null,null,null,null,null,null,null,null,null,null,null,null,null,null,null,null,"",null,null,null,null,null,null,null,null,null,null,null,null,null,null,null,null,null,"",null,"","","",""]
[null,null,null,null,null,null,null,null,null,null,null,null,null,null,null,null,"",null,null,null,null,null,null,null,null,null,null,null,null,null,null,null,null,null,"",null,"","","","",null,null,null,null,null,null,null,null,null,null,null,null,null,null,null,null,null,"",null,null,null,null,null,null,null,null,null,null,null,null,null,null,null,null,null,"",null,"","","","",null,null,null,null,null,null,null,null,null,null,null,null,null,null,null,null,null,"",null,null,null,null,null,null,null,null,null,null,null,null,null,null,null,null,null,"",null,"","","",""]
[null,null,null,null,null,null,null,null,null,null,null,null,null,null,null,null,"",null,null,null,null,null,null,null,null,null,null,null,null,null,null,null,null,null,"",null,"","","","",null,null,null,null,null,null,null,null,null,null,null,null,null,null,null,null,null,"",null,null,null,null,null,null,null,null,null,null,null,null,null,null,null,null,null,"",null,"","","","",null,null,null,null,null,null,null,null,null,null,null,null,null,null,null,null,null,"",null,null,null,null,null,null,null,null,null,null,null,null,null,null,null,null,null,"",null,"","","",""]
[null,null,null,null,null,null,null,null,null,null,null,null,null,null,null,null,"",null,null,null,null,null,null,null,null,null,null,null,null,null,null,null,null,null,"",null,"","","","",null,null,null,null,null,null,null,null,null,null,null,null,null,null,null,null,null,"",null,null,null,null,null,null,null,null,null,null,null,null,null,null,null,null,null,"",null,"","","","",null,null,null,null,null,null,null,null,null,null,null,null,null,null,null,null,null,"",null,null,null,null,null,null,null,null,null,null,null,null,null,null,null,null,null,"",null,"","","",""]
[null,null,null,null,null,null,null,null,null,null,null,null,null,null,null,null,"",null,null,null,null,null,null,null,null,null,null,null,null,null,null,null,null,null,"",null,"","","","",null,null,null,null,null,null,null,null,null,null,null,null,null,null,null,null,null,"",null,null,null,null,null,null,null,null,null,null,null,null,null,null,null,null,null,"",null,"","","","",null,null,null,null,null,null,null,null,null,null,null,null,null,null,null,null,null,"",null,null,null,null,null,null,null,null,null,null,null,null,null,null,null,null,null,"",null,"","","",""]
[null,null,null,null,null,null,null,null,null,null,null,null,null,null,null,null,"",null,null,null,null,null,null,null,null,null,null,null,null,null,null,null,null,null,"",null,"","","","",null,null,null,null,null,null,null,null,null,null,null,null,null,null,null,null,null,"",null,null,null,null,null,null,null,null,null,null,null,null,null,null,null,null,null,"",null,"","","","",null,null,null,null,null,null,null,null,null,null,null,null,null,null,null,null,null,"",null,null,null,null,null,null,null,null,null,null,null,null,null,null,null,null,null,"",null,"","","",""]
[null,null,null,null,null,null,null,null,null,null,null,null,null,null,null,null,"",null,null,null,null,null,null,null,null,null,null,null,null,null,null,null,null,null,"",null,"","","","",null,null,null,null,null,null,null,null,null,null,null,null,null,null,null,null,null,"",null,null,null,null,null,null,null,null,null,null,null,null,null,null,null,null,null,"",null,"","","","",null,null,null,null,null,null,null,null,null,null,null,null,null,null,null,null,null,"",null,null,null,null,null,null,null,null,null,null,null,null,null,null,null,null,null,"",null,"","","",""]
[null,null,null,null,null,null,null,null,null,null,null,null,null,null,null,null,"",null,null,null,null,null,null,null,null,null,null,null,null,null,null,null,null,null,"",null,"","","","",null,null,null,null,null,null,null,null,null,null,null,null,null,null,null,null,null,"",null,null,null,null,null,null,null,null,null,null,null,null,null,null,null,null,null,"",null,"","","","",null,null,null,null,null,null,null,null,null,null,null,null,null,null,null,null,null,"",null,null,null,null,null,null,null,null,null,null,null,null,null,null,null,null,null,"",null,"","","",""]
[null,null,null,null,null,null,null,null,null,null,null,null,null,null,null,null,"",null,null,null,null,null,null,null,null,null,null,null,null,null,null,null,null,null,"",null,"","","","",null,null,null,null,null,null,null,null,null,null,null,null,null,null,null,null,null,"",null,null,null,null,null,null,null,null,null,null,null,null,null,null,null,null,null,"",null,"","","","",null,null,null,null,null,null,null,null,null,null,null,null,null,null,null,null,null,"",null,null,null,null,null,null,null,null,null,null,null,null,null,null,null,null,null,"",null,"","","",""]
[null,null,null,null,null,null,null,null,null,null,null,null,null,null,null,null,"",null,null,null,null,null,null,null,null,null,null,null,null,null,null,null,null,null,"",null,"","","","",null,null,null,null,null,null,null,null,null,null,null,null,null,null,null,null,null,"",null,null,null,null,null,null,null,null,null,null,null,null,null,null,null,null,null,"",null,"","","","",null,null,null,null,null,null,null,null,null,null,null,null,null,null,null,null,null,"",null,null,null,null,null,null,null,null,null,null,null,null,null,null,null,null,null,"",null,"","","",""]
[null,null,null,null,null,null,null,null,null,null,null,null,null,null,null,null,"",null,null,null,null,null,null,null,null,null,null,null,null,null,null,null,null,null,"",null,"","","","",null,null,null,null,null,null,null,null,null,null,null,null,null,null,null,null,null,"",null,null,null,null,null,null,null,null,null,null,null,null,null,null,null,null,null,"",null,"","","","",null,null,null,null,null,null,null,null,null,null,null,null,null,null,null,null,null,"",null,null,null,null,null,null,null,null,null,null,null,null,null,null,null,null,null,"",null,"","","",""]
[null,null,null,null,null,null,null,null,null,null,null,null,null,null,null,null,"",null,null,null,null,null,null,null,null,null,null,null,null,null,null,null,null,null,"",null,"","","","",null,null,null,null,null,null,null,null,null,null,null,null,null,null,null,null,null,"",null,null,null,null,null,null,null,null,null,null,null,null,null,null,null,null,null,"",null,"","","","",null,null,null,null,null,null,null,null,null,null,null,null,null,null,null,null,null,"",null,null,null,null,null,null,null,null,null,null,null,null,null,null,null,null,null,"",null,"","","",""]
[null,null,null,null,null,null,null,null,null,null,null,null,null,null,null,null,"",null,null,null,null,null,null,null,null,null,null,null,null,null,null,null,null,null,"",null,"","","","",null,null,null,null,null,null,null,null,null,null,null,null,null,null,null,null,null,"",null,null,null,null,null,null,null,null,null,null,null,null,null,null,null,null,null,"",null,"","","","",null,null,null,null,null,null,null,null,null,null,null,null,null,null,null,null,null,"",null,null,null,null,null,null,null,null,null,null,null,null,null,null,null,null,null,"",null,"","","",""]
[null,null,null,null,null,null,null,null,null,null,null,null,null,null,null,null,"",null,null,null,null,null,null,null,null,null,null,null,null,null,null,null,null,null,"",null,"","","","",null,null,null,null,null,null,null,null,null,null,null,null,null,null,null,null,null,"",null,null,null,null,null,null,null,null,null,null,null,null,null,null,null,null,null,"",null,"","","","",null,null,null,null,null,null,null,null,null,null,null,null,null,null,null,null,null,"",null,null,null,null,null,null,null,null,null,null,null,null,null,null,null,null,null,"",null,"","","",""]
[null,null,null,null,null,null,null,null,null,null,null,null,null,null,null,null,"",null,null,null,null,null,null,null,null,null,null,null,null,null,null,null,null,null,"",null,"","","","",null,null,null,null,null,null,null,null,null,null,null,null,null,null,null,null,null,"",null,null,null,null,null,null,null,null,null,null,null,null,null,null,null,null,null,"",null,"","","","",null,null,null,null,null,null,null,null,null,null,null,null,null,null,null,null,null,"",null,null,null,null,null,null,null,null,null,null,null,null,null,null,null,null,null,"",null,"","","",""]
[null,null,null,null,null,null,null,null,null,null,null,null,null,null,null,null,"",null,null,null,null,null,null,null,null,null,null,null,null,null,null,null,null,null,"",null,"","","","",null,null,null,null,null,null,null,null,null,null,null,null,null,null,null,null,null,"",null,null,null,null,null,null,null,null,null,null,null,null,null,null,null,null,null,"",null,"","","","",null,null,null,null,null,null,null,null,null,null,null,null,null,null,null,null,null,"",null,null,null,null,null,null,null,null,null,null,null,null,null,null,null,null,null,"",null,"","","",""]
[null,null,null,null,null,null,null,null,null,null,null,null,null,null,null,null,"",null,null,null,null,null,null,null,null,null,null,null,null,null,null,null,null,null,"",null,"","","","",null,null,null,null,null,null,null,null,null,null,null,null,null,null,null,null,null,"",null,null,null,null,null,null,null,null,null,null,null,null,null,null,null,null,null,"",null,"","","","",null,null,null,null,null,null,null,null,null,null,null,null,null,null,null,null,null,"",null,null,null,null,null,null,null,null,null,null,null,null,null,null,null,null,null,"",null,"","","",""]
[null,null,null,null,null,null,null,null,null,null,null,null,null,null,null,null,"",null,null,null,null,null,null,null,null,null,null,null,null,null,null,null,null,null,"",null,"","","","",null,null,null,null,null,null,null,null,null,null,null,null,null,null,null,null,null,"",null,null,null,null,null,null,null,null,null,null,null,null,null,null,null,null,null,"",null,"","","","",null,null,null,null,null,null,null,null,null,null,null,null,null,null,null,null,null,"",null,null,null,null,null,null,null,null,null,null,null,null,null,null,null,null,null,"",null,"","","",""]
[null,null,null,null,null,null,null,null,null,null,null,null,null,null,null,null,"",null,null,null,null,null,null,null,null,null,null,null,null,null,null,null,null,null,"",null,"","","","",null,null,null,null,null,null,null,null,null,null,null,null,null,null,null,null,null,"",null,null,null,null,null,null,null,null,null,null,null,null,null,null,null,null,null,"",null,"","","","",null,null,null,null,null,null,null,null,null,null,null,null,null,null,null,null,null,"",null,null,null,null,null,null,null,null,null,null,null,null,null,null,null,null,null,"",null,"","","",""]
[null,null,null,null,null,null,null,null,null,null,null,null,null,null,null,null,"",null,null,null,null,null,null,null,null,null,null,null,null,null,null,null,null,null,"",null,"","","","",null,null,null,null,null,null,null,null,null,null,null,null,null,null,null,null,null,"",null,null,null,null,null,null,null,null,null,null,null,null,null,null,null,null,null,"",null,"","","","",null,null,null,null,null,null,null,null,null,null,null,null,null,null,null,null,null,"",null,null,null,null,null,null,null,null,null,null,null,null,null,null,null,null,null,"",null,"","","",""]
[null,null,null,null,null,null,null,null,null,null,null,null,null,null,null,null,"",null,null,null,null,null,null,null,null,null,null,null,null,null,null,null,null,null,"",null,"","","","",null,null,null,null,null,null,null,null,null,null,null,null,null,null,null,null,null,"",null,null,null,null,null,null,null,null,null,null,null,null,null,null,null,null,null,"",null,"","","","",null,null,null,null,null,null,null,null,null,null,null,null,null,null,null,null,null,"",null,null,null,null,null,null,null,null,null,null,null,null,null,null,null,null,null,"",null,"","","",""]
[null,null,null,null,null,null,null,null,null,null,null,null,null,null,null,null,"",null,null,null,null,null,null,null,null,null,null,null,null,null,null,null,null,null,"",null,"","","","",null,null,null,null,null,null,null,null,null,null,null,null,null,null,null,null,null,"",null,null,null,null,null,null,null,null,null,null,null,null,null,null,null,null,null,"",null,"","","","",null,null,null,null,null,null,null,null,null,null,null,null,null,null,null,null,null,"",null,null,null,null,null,null,null,null,null,null,null,null,null,null,null,null,null,"",null,"","","",""]
[null,null,null,null,null,null,null,null,null,null,null,null,null,null,null,null,"",null,null,null,null,null,null,null,null,null,null,null,null,null,null,null,null,null,"",null,"","","","",null,null,null,null,null,null,null,null,null,null,null,null,null,null,null,null,null,"",null,null,null,null,null,null,null,null,null,null,null,null,null,null,null,null,null,"",null,"","","","",null,null,null,null,null,null,null,null,null,null,null,null,null,null,null,null,null,"",null,null,null,null,null,null,null,null,null,null,null,null,null,null,null,null,null,"",null,"","","",""]
[null,null,null,null,null,null,null,null,null,null,null,null,null,null,null,null,"",null,null,null,null,null,null,null,null,null,null,null,null,null,null,null,null,null,"",null,"","","","",null,null,null,null,null,null,null,null,null,null,null,null,null,null,null,null,null,"",null,null,null,null,null,null,null,null,null,null,null,null,null,null,null,null,null,"",null,"","","","",null,null,null,null,null,null,null,null,null,null,null,null,null,null,null,null,null,"",null,null,null,null,null,null,null,null,null,null,null,null,null,null,null,null,null,"",null,"","","",""]
[null,null,null,null,null,null,null,null,null,null,null,null,null,null,null,null,"",null,null,null,null,null,null,null,null,null,null,null,null,null,null,null,null,null,"",null,"","","","",null,null,null,null,null,null,null,null,null,null,null,null,null,null,null,null,null,"",null,null,null,null,null,null,null,null,null,null,null,null,null,null,null,null,null,"",null,"","","","",null,null,null,null,null,null,null,null,null,null,null,null,null,null,null,null,null,"",null,null,null,null,null,null,null,null,null,null,null,null,null,null,null,null,null,"",null,"","","",""]
[null,null,null,null,null,null,null,null,null,null,null,null,null,null,null,null,"",null,null,null,null,null,null,null,null,null,null,null,null,null,null,null,null,null,"",null,"","","","",null,null,null,null,null,null,null,null,null,null,null,null,null,null,null,null,null,"",null,null,null,null,null,null,null,null,null,null,null,null,null,null,null,null,null,"",null,"","","","",null,null,null,null,null,null,null,null,null,null,null,null,null,null,null,null,null,"",null,null,null,null,null,null,null,null,null,null,null,null,null,null,null,null,null,"",null,"","","",""]
[null,null,null,null,null,null,null,null,null,null,null,null,null,null,null,null,"",null,null,null,null,null,null,null,null,null,null,null,null,null,null,null,null,null,"",null,"","","","",null,null,null,null,null,null,null,null,null,null,null,null,null,null,null,null,null,"",null,null,null,null,null,null,null,null,null,null,null,null,null,null,null,null,null,"",null,"","","","",null,null,null,null,null,null,null,null,null,null,null,null,null,null,null,null,null,"",null,null,null,null,null,null,null,null,null,null,null,null,null,null,null,null,null,"",null,"","","",""]
[null,null,null,null,null,null,null,null,null,null,null,null,null,null,null,null,"",null,null,null,null,null,null,null,null,null,null,null,null,null,null,null,null,null,"",null,"","","","",null,null,null,null,null,null,null,null,null,null,null,null,null,null,null,null,null,"",null,null,null,null,null,null,null,null,null,null,null,null,null,null,null,null,null,"",null,"","","","",null,null,null,null,null,null,null,null,null,null,null,null,null,null,null,null,null,"",null,null,null,null,null,null,null,null,null,null,null,null,null,null,null,null,null,"",null,"","","",""]
[null,null,null,null,null,null,null,null,null,null,null,null,null,null,null,null,"",null,null,null,null,null,null,null,null,null,null,null,null,null,null,null,null,null,"",null,"","","","",null,null,null,null,null,null,null,null,null,null,null,null,null,null,null,null,null,"",null,null,null,null,null,null,null,null,null,null,null,null,null,null,null,null,null,"",null,"","","","",null,null,null,null,null,null,null,null,null,null,null,null,null,null,null,null,null,"",null,null,null,null,null,null,null,null,null,null,null,null,null,null,null,null,null,"",null,"","","",""]
[null,null,null,null,null,null,null,null,null,null,null,null,null,null,null,null,"",null,null,null,null,null,null,null,null,null,null,null,null,null,null,null,null,null,"",null,"","","","",null,null,null,null,null,null,null,null,null,null,null,null,null,null,null,null,null,"",null,null,null,null,null,null,null,null,null,null,null,null,null,null,null,null,null,"",null,"","","","",null,null,null,null,null,null,null,null,null,null,null,null,null,null,null,null,null,"",null,null,null,null,null,null,null,null,null,null,null,null,null,null,null,null,null,"",null,"","","",""]
[null,null,null,null,null,null,null,null,null,null,null,null,null,null,null,null,"",null,null,null,null,null,null,null,null,null,null,null,null,null,null,null,null,null,"",null,"","","","",null,null,null,null,null,null,null,null,null,null,null,null,null,null,null,null,null,"",null,null,null,null,null,null,null,null,null,null,null,null,null,null,null,null,null,"",null,"","","","",null,null,null,null,null,null,null,null,null,null,null,null,null,null,null,null,null,"",null,null,null,null,null,null,null,null,null,null,null,null,null,null,null,null,null,"",null,"","","",""]
[null,null,null,null,null,null,null,null,null,null,null,null,null,null,null,null,"",null,null,null,null,null,null,null,null,null,null,null,null,null,null,null,null,null,"",null,"","","","",null,null,null,null,null,null,null,null,null,null,null,null,null,null,null,null,null,"",null,null,null,null,null,null,null,null,null,null,null,null,null,null,null,null,null,"",null,"","","","",null,null,null,null,null,null,null,null,null,null,null,null,null,null,null,null,null,"",null,null,null,null,null,null,null,null,null,null,null,null,null,null,null,null,null,"",null,"","","",""]
[null,null,null,null,null,null,null,null,null,null,null,null,null,null,null,null,"",null,null,null,null,null,null,null,null,null,null,null,null,null,null,null,null,null,"",null,"","","","",null,null,null,null,null,null,null,null,null,null,null,null,null,null,null,null,null,{"$f":"IF(BC197=\"\",\"\",BC197*BC$505)","v":""},null,null,null,null,null,null,null,null,null,null,null,null,null,null,null,null,null,"",null,"","","","",null,null,null,null,null,null,null,null,null,null,null,null,null,null,null,null,null,{"$f":"IF(CR197=\"\",\"\",CR197*CR$505)","v":""},null,null,null,null,null,null,null,null,null,null,null,null,null,null,null,null,null,"",null,"","","",""]
[null,null,null,null,null,null,null,null,null,null,null,null,null,null,null,null,{"$f":"IF(N198=\"\",\"\",IF(N198*N$505>100,100,N$505*N198))","v":""},null,null,null,null,null,null,null,null,null,null,null,null,null,null,null,null,null,{"$f":"IF(AF198=\"\",\"\",AF198*AF$505)","v":""},null,{"$f":"IF(L198=\"\",\"\",IF(L198=\"c\",2,1))","v":""},{"$f":"IF(M198=\"\",\"\",IF(M198=\"s\",2,1))","v":""},{"$f":"IF(AD198=\"\",\"\",IF(AD198=\"c\",2,1))","v":""},{"$f":"IF(AE198=\"\",\"\",IF(AE198=\"s\",2,1))","v":""},null,null,null,null,null,null,null,null,null,null,null,null,null,null,null,null,null,"",null,null,null,null,null,null,null,null,null,null,null,null,null,null,null,null,null,{"$f":"IF(BU198=\"\",\"\",BU198*BU$505)","v":""},null,{"$f":"IF(BA198=\"\",\"\",IF(BA198=\"c\",2,1))","v":""},{"$f":"IF(BB198=\"\",\"\",IF(BB198=\"s\",2,1))","v":""},{"$f":"IF(BS198=\"\",\"\",IF(BS198=\"c\",2,1))","v":""},{"$f":"IF(BT198=\"\",\"\",IF(BT198=\"s\",2,1))","v":""},null,null,null,null,null,null,null,null,null,null,null,null,null,null,null,null,null,"",null,null,null,null,null,null,null,null,null,null,null,null,null,null,null,null,null,{"$f":"IF(DJ198=\"\",\"\",DJ198*DJ$505)","v":""},null,{"$f":"IF(CP198=\"\",\"\",IF(CP198=\"c\",2,1))","v":""},{"$f":"IF(CQ198=\"\",\"\",IF(CQ198=\"s\",2,1))","v":""},{"$f":"IF(DH198=\"\",\"\",IF(DH198=\"c\",2,1))","v":""},{"$f":"IF(DI198=\"\",\"\",IF(DI198=\"s\",2,1))","v":""}]
[null,null,null,null,null,null,null,null,null,null,null,null,null,null,null,null,"",null,null,null,null,null,null,null,null,null,null,null,null,null,null,null,null,null,"",null,"","","","",null,null,null,null,null,null,null,null,null,null,null,null,null,null,null,null,null,"",null,null,null,null,null,null,null,null,null,null,null,null,null,null,null,null,null,"",null,"","","","",null,null,null,null,null,null,null,null,null,null,null,null,null,null,null,null,null,"",null,null,null,null,null,null,null,null,null,null,null,null,null,null,null,null,null,"",null,"","","",""]
[null,null,null,null,null,null,null,null,null,null,null,null,null,null,null,null,"",null,null,null,null,null,null,null,null,null,null,null,null,null,null,null,null,null,"",null,"","","","",null,null,null,null,null,null,null,null,null,null,null,null,null,null,null,null,null,"",null,null,null,null,null,null,null,null,null,null,null,null,null,null,null,null,null,"",null,"","","","",null,null,null,null,null,null,null,null,null,null,null,null,null,null,null,null,null,"",null,null,null,null,null,null,null,null,null,null,null,null,null,null,null,null,null,"",null,"","","",""]
[null,null,null,null,null,null,null,null,null,null,null,null,null,null,null,null,"",null,null,null,null,null,null,null,null,null,null,null,null,null,null,null,null,null,"",null,"","","","",null,null,null,null,null,null,null,null,null,null,null,null,null,null,null,null,null,"",null,null,null,null,null,null,null,null,null,null,null,null,null,null,null,null,null,"",null,"","","","",null,null,null,null,null,null,null,null,null,null,null,null,null,null,null,null,null,"",null,null,null,null,null,null,null,null,null,null,null,null,null,null,null,null,null,"",null,"","","",""]
[null,null,null,null,null,null,null,null,null,null,null,null,null,null,null,null,"",null,null,null,null,null,null,null,null,null,null,null,null,null,null,null,null,null,"",null,"","","","",null,null,null,null,null,null,null,null,null,null,null,null,null,null,null,null,null,"",null,null,null,null,null,null,null,null,null,null,null,null,null,null,null,null,null,"",null,"","","","",null,null,null,null,null,null,null,null,null,null,null,null,null,null,null,null,null,"",null,null,null,null,null,null,null,null,null,null,null,null,null,null,null,null,null,"",null,"","","",""]
[null,null,null,null,null,null,null,null,null,null,null,null,null,null,null,null,"",null,null,null,null,null,null,null,null,null,null,null,null,null,null,null,null,null,"",null,"","","","",null,null,null,null,null,null,null,null,null,null,null,null,null,null,null,null,null,"",null,null,null,null,null,null,null,null,null,null,null,null,null,null,null,null,null,"",null,"","","","",null,null,null,null,null,null,null,null,null,null,null,null,null,null,null,null,null,"",null,null,null,null,null,null,null,null,null,null,null,null,null,null,null,null,null,"",null,"","","",""]
[null,null,null,null,null,null,null,null,null,null,null,null,null,null,null,null,"",null,null,null,null,null,null,null,null,null,null,null,null,null,null,null,null,null,"",null,"","","","",null,null,null,null,null,null,null,null,null,null,null,null,null,null,null,null,null,"",null,null,null,null,null,null,null,null,null,null,null,null,null,null,null,null,null,"",null,"","","","",null,null,null,null,null,null,null,null,null,null,null,null,null,null,null,null,null,"",null,null,null,null,null,null,null,null,null,null,null,null,null,null,null,null,null,"",null,"","","",""]
[null,null,null,null,null,null,null,null,null,null,null,null,null,null,null,null,"",null,null,null,null,null,null,null,null,null,null,null,null,null,null,null,null,null,"",null,"","","","",null,null,null,null,null,null,null,null,null,null,null,null,null,null,null,null,null,"",null,null,null,null,null,null,null,null,null,null,null,null,null,null,null,null,null,"",null,"","","","",null,null,null,null,null,null,null,null,null,null,null,null,null,null,null,null,null,"",null,null,null,null,null,null,null,null,null,null,null,null,null,null,null,null,null,"",null,"","","",""]
[null,null,null,null,null,null,null,null,null,null,null,null,null,null,null,null,"",null,null,null,null,null,null,null,null,null,null,null,null,null,null,null,null,null,"",null,"","","","",null,null,null,null,null,null,null,null,null,null,null,null,null,null,null,null,null,"",null,null,null,null,null,null,null,null,null,null,null,null,null,null,null,null,null,"",null,"","","","",null,null,null,null,null,null,null,null,null,null,null,null,null,null,null,null,null,"",null,null,null,null,null,null,null,null,null,null,null,null,null,null,null,null,null,"",null,"","","",""]
[null,null,null,null,null,null,null,null,null,null,null,null,null,null,null,null,"",null,null,null,null,null,null,null,null,null,null,null,null,null,null,null,null,null,"",null,"","","","",null,null,null,null,null,null,null,null,null,null,null,null,null,null,null,null,null,"",null,null,null,null,null,null,null,null,null,null,null,null,null,null,null,null,null,"",null,"","","","",null,null,null,null,null,null,null,null,null,null,null,null,null,null,null,null,null,"",null,null,null,null,null,null,null,null,null,null,null,null,null,null,null,null,null,"",null,"","","",""]
[null,null,null,null,null,null,null,null,null,null,null,null,null,null,null,null,"",null,null,null,null,null,null,null,null,null,null,null,null,null,null,null,null,null,"",null,"","","","",null,null,null,null,null,null,null,null,null,null,null,null,null,null,null,null,null,"",null,null,null,null,null,null,null,null,null,null,null,null,null,null,null,null,null,"",null,"","","","",null,null,null,null,null,null,null,null,null,null,null,null,null,null,null,null,null,"",null,null,null,null,null,null,null,null,null,null,null,null,null,null,null,null,null,"",null,"","","",""]
[null,null,null,null,null,null,null,null,null,null,null,null,null,null,null,null,"",null,null,null,null,null,null,null,null,null,null,null,null,null,null,null,null,null,"",null,"","","","",null,null,null,null,null,null,null,null,null,null,null,null,null,null,null,null,null,"",null,null,null,null,null,null,null,null,null,null,null,null,null,null,null,null,null,"",null,"","","","",null,null,null,null,null,null,null,null,null,null,null,null,null,null,null,null,null,"",null,null,null,null,null,null,null,null,null,null,null,null,null,null,null,null,null,"",null,"","","",""]
[null,null,null,null,null,null,null,null,null,null,null,null,null,null,null,null,"",null,null,null,null,null,null,null,null,null,null,null,null,null,null,null,null,null,"",null,"","","","",null,null,null,null,null,null,null,null,null,null,null,null,null,null,null,null,null,"",null,null,null,null,null,null,null,null,null,null,null,null,null,null,null,null,null,"",null,"","","","",null,null,null,null,null,null,null,null,null,null,null,null,null,null,null,null,null,"",null,null,null,null,null,null,null,null,null,null,null,null,null,null,null,null,null,"",null,"","","",""]
[null,null,null,null,null,null,null,null,null,null,null,null,null,null,null,null,"",null,null,null,null,null,null,null,null,null,null,null,null,null,null,null,null,null,"",null,"","","","",null,null,null,null,null,null,null,null,null,null,null,null,null,null,null,null,null,"",null,null,null,null,null,null,null,null,null,null,null,null,null,null,null,null,null,"",null,"","","","",null,null,null,null,null,null,null,null,null,null,null,null,null,null,null,null,null,"",null,null,null,null,null,null,null,null,null,null,null,null,null,null,null,null,null,"",null,"","","",""]
[null,null,null,null,null,null,null,null,null,null,null,null,null,null,null,null,"",null,null,null,null,null,null,null,null,null,null,null,null,null,null,null,null,null,"",null,"","","","",null,null,null,null,null,null,null,null,null,null,null,null,null,null,null,null,null,"",null,null,null,null,null,null,null,null,null,null,null,null,null,null,null,null,null,"",null,"","","","",null,null,null,null,null,null,null,null,null,null,null,null,null,null,null,null,null,"",null,null,null,null,null,null,null,null,null,null,null,null,null,null,null,null,null,"",null,"","","",""]
[null,null,null,null,null,null,null,null,null,null,null,null,null,null,null,null,"",null,null,null,null,null,null,null,null,null,null,null,null,null,null,null,null,null,"",null,"","","","",null,null,null,null,null,null,null,null,null,null,null,null,null,null,null,null,null,"",null,null,null,null,null,null,null,null,null,null,null,null,null,null,null,null,null,"",null,"","","","",null,null,null,null,null,null,null,null,null,null,null,null,null,null,null,null,null,"",null,null,null,null,null,null,null,null,null,null,null,null,null,null,null,null,null,"",null,"","","",""]
[null,null,null,null,null,null,null,null,null,null,null,null,null,null,null,null,"",null,null,null,null,null,null,null,null,null,null,null,null,null,null,null,null,null,"",null,"","","","",null,null,null,null,null,null,null,null,null,null,null,null,null,null,null,null,null,"",null,null,null,null,null,null,null,null,null,null,null,null,null,null,null,null,null,"",null,"","","","",null,null,null,null,null,null,null,null,null,null,null,null,null,null,null,null,null,"",null,null,null,null,null,null,null,null,null,null,null,null,null,null,null,null,null,"",null,"","","",""]
[null,null,null,null,null,null,null,null,null,null,null,null,null,null,null,null,"",null,null,null,null,null,null,null,null,null,null,null,null,null,null,null,null,null,"",null,"","","","",null,null,null,null,null,null,null,null,null,null,null,null,null,null,null,null,null,"",null,null,null,null,null,null,null,null,null,null,null,null,null,null,null,null,null,"",null,"","","","",null,null,null,null,null,null,null,null,null,null,null,null,null,null,null,null,null,"",null,null,null,null,null,null,null,null,null,null,null,null,null,null,null,null,null,"",null,"","","",""]
[null,null,null,null,null,null,null,null,null,null,null,null,null,null,null,null,"",null,null,null,null,null,null,null,null,null,null,null,null,null,null,null,null,null,"",null,"","","","",null,null,null,null,null,null,null,null,null,null,null,null,null,null,null,null,null,"",null,null,null,null,null,null,null,null,null,null,null,null,null,null,null,null,null,"",null,"","","","",null,null,null,null,null,null,null,null,null,null,null,null,null,null,null,null,null,"",null,null,null,null,null,null,null,null,null,null,null,null,null,null,null,null,null,"",null,"","","",""]
[null,null,null,null,null,null,null,null,null,null,null,null,null,null,null,null,"",null,null,null,null,null,null,null,null,null,null,null,null,null,null,null,null,null,"",null,"","","","",null,null,null,null,null,null,null,null,null,null,null,null,null,null,null,null,null,"",null,null,null,null,null,null,null,null,null,null,null,null,null,null,null,null,null,"",null,"","","","",null,null,null,null,null,null,null,null,null,null,null,null,null,null,null,null,null,"",null,null,null,null,null,null,null,null,null,null,null,null,null,null,null,null,null,"",null,"","","",""]
[null,null,null,null,null,null,null,null,null,null,null,null,null,null,null,null,"",null,null,null,null,null,null,null,null,null,null,null,null,null,null,null,null,null,"",null,"","","","",null,null,null,null,null,null,null,null,null,null,null,null,null,null,null,null,null,"",null,null,null,null,null,null,null,null,null,null,null,null,null,null,null,null,null,"",null,"","","","",null,null,null,null,null,null,null,null,null,null,null,null,null,null,null,null,null,"",null,null,null,null,null,null,null,null,null,null,null,null,null,null,null,null,null,"",null,"","","",""]
[null,null,null,null,null,null,null,null,null,null,null,null,null,null,null,null,"",null,null,null,null,null,null,null,null,null,null,null,null,null,null,null,null,null,"",null,"","","","",null,null,null,null,null,null,null,null,null,null,null,null,null,null,null,null,null,"",null,null,null,null,null,null,null,null,null,null,null,null,null,null,null,null,null,"",null,"","","","",null,null,null,null,null,null,null,null,null,null,null,null,null,null,null,null,null,"",null,null,null,null,null,null,null,null,null,null,null,null,null,null,null,null,null,"",null,"","","",""]
[null,null,null,null,null,null,null,null,null,null,null,null,null,null,null,null,"",null,null,null,null,null,null,null,null,null,null,null,null,null,null,null,null,null,"",null,"","","","",null,null,null,null,null,null,null,null,null,null,null,null,null,null,null,null,null,"",null,null,null,null,null,null,null,null,null,null,null,null,null,null,null,null,null,"",null,"","","","",null,null,null,null,null,null,null,null,null,null,null,null,null,null,null,null,null,"",null,null,null,null,null,null,null,null,null,null,null,null,null,null,null,null,null,"",null,"","","",""]
[null,null,null,null,null,null,null,null,null,null,null,null,null,null,null,null,"",null,null,null,null,null,null,null,null,null,null,null,null,null,null,null,null,null,"",null,"","","","",null,null,null,null,null,null,null,null,null,null,null,null,null,null,null,null,null,"",null,null,null,null,null,null,null,null,null,null,null,null,null,null,null,null,null,"",null,"","","","",null,null,null,null,null,null,null,null,null,null,null,null,null,null,null,null,null,"",null,null,null,null,null,null,null,null,null,null,null,null,null,null,null,null,null,"",null,"","","",""]
[null,null,null,null,null,null,null,null,null,null,null,null,null,null,null,null,"",null,null,null,null,null,null,null,null,null,null,null,null,null,null,null,null,null,"",null,"","","","",null,null,null,null,null,null,null,null,null,null,null,null,null,null,null,null,null,"",null,null,null,null,null,null,null,null,null,null,null,null,null,null,null,null,null,"",null,"","","","",null,null,null,null,null,null,null,null,null,null,null,null,null,null,null,null,null,"",null,null,null,null,null,null,null,null,null,null,null,null,null,null,null,null,null,"",null,"","","",""]
[null,null,null,null,null,null,null,null,null,null,null,null,null,null,null,null,"",null,null,null,null,null,null,null,null,null,null,null,null,null,null,null,null,null,"",null,"","","","",null,null,null,null,null,null,null,null,null,null,null,null,null,null,null,null,null,"",null,null,null,null,null,null,null,null,null,null,null,null,null,null,null,null,null,"",null,"","","","",null,null,null,null,null,null,null,null,null,null,null,null,null,null,null,null,null,"",null,null,null,null,null,null,null,null,null,null,null,null,null,null,null,null,null,"",null,"","","",""]
[null,null,null,null,null,null,null,null,null,null,null,null,null,null,null,null,"",null,null,null,null,null,null,null,null,null,null,null,null,null,null,null,null,null,"",null,"","","","",null,null,null,null,null,null,null,null,null,null,null,null,null,null,null,null,null,"",null,null,null,null,null,null,null,null,null,null,null,null,null,null,null,null,null,"",null,"","","","",null,null,null,null,null,null,null,null,null,null,null,null,null,null,null,null,null,"",null,null,null,null,null,null,null,null,null,null,null,null,null,null,null,null,null,"",null,"","","",""]
[null,null,null,null,null,null,null,null,null,null,null,null,null,null,null,null,"",null,null,null,null,null,null,null,null,null,null,null,null,null,null,null,null,null,"",null,"","","","",null,null,null,null,null,null,null,null,null,null,null,null,null,null,null,null,null,"",null,null,null,null,null,null,null,null,null,null,null,null,null,null,null,null,null,"",null,"","","","",null,null,null,null,null,null,null,null,null,null,null,null,null,null,null,null,null,"",null,null,null,null,null,null,null,null,null,null,null,null,null,null,null,null,null,"",null,"","","",""]
[null,null,null,null,null,null,null,null,null,null,null,null,null,null,null,null,"",null,null,null,null,null,null,null,null,null,null,null,null,null,null,null,null,null,"",null,"","","","",null,null,null,null,null,null,null,null,null,null,null,null,null,null,null,null,null,"",null,null,null,null,null,null,null,null,null,null,null,null,null,null,null,null,null,"",null,"","","","",null,null,null,null,null,null,null,null,null,null,null,null,null,null,null,null,null,"",null,null,null,null,null,null,null,null,null,null,null,null,null,null,null,null,null,"",null,"","","",""]
[null,null,null,null,null,null,null,null,null,null,null,null,null,null,null,null,"",null,null,null,null,null,null,null,null,null,null,null,null,null,null,null,null,null,"",null,"","","","",null,null,null,null,null,null,null,null,null,null,null,null,null,null,null,null,null,"",null,null,null,null,null,null,null,null,null,null,null,null,null,null,null,null,null,"",null,"","","","",null,null,null,null,null,null,null,null,null,null,null,null,null,null,null,null,null,"",null,null,null,null,null,null,null,null,null,null,null,null,null,null,null,null,null,"",null,"","","",""]
[null,null,null,null,null,null,null,null,null,null,null,null,null,null,null,null,"",null,null,null,null,null,null,null,null,null,null,null,null,null,null,null,null,null,"",null,"","","","",null,null,null,null,null,null,null,null,null,null,null,null,null,null,null,null,null,"",null,null,null,null,null,null,null,null,null,null,null,null,null,null,null,null,null,"",null,"","","","",null,null,null,null,null,null,null,null,null,null,null,null,null,null,null,null,null,"",null,null,null,null,null,null,null,null,null,null,null,null,null,null,null,null,null,"",null,"","","",""]
[null,null,null,null,null,null,null,null,null,null,null,null,null,null,null,null,"",null,null,null,null,null,null,null,null,null,null,null,null,null,null,null,null,null,"",null,"","","","",null,null,null,null,null,null,null,null,null,null,null,null,null,null,null,null,null,"",null,null,null,null,null,null,null,null,null,null,null,null,null,null,null,null,null,"",null,"","","","",null,null,null,null,null,null,null,null,null,null,null,null,null,null,null,null,null,"",null,null,null,null,null,null,null,null,null,null,null,null,null,null,null,null,null,"",null,"","","",""]
[null,null,null,null,null,null,null,null,null,null,null,null,null,null,null,null,"",null,null,null,null,null,null,null,null,null,null,null,null,null,null,null,null,null,"",null,"","","","",null,null,null,null,null,null,null,null,null,null,null,null,null,null,null,null,null,"",null,null,null,null,null,null,null,null,null,null,null,null,null,null,null,null,null,"",null,"","","","",null,null,null,null,null,null,null,null,null,null,null,null,null,null,null,null,null,"",null,null,null,null,null,null,null,null,null,null,null,null,null,null,null,null,null,"",null,"","","",""]
[null,null,null,null,null,null,null,null,null,null,null,null,null,null,null,null,"",null,null,null,null,null,null,null,null,null,null,null,null,null,null,null,null,null,"",null,"","","","",null,null,null,null,null,null,null,null,null,null,null,null,null,null,null,null,null,"",null,null,null,null,null,null,null,null,null,null,null,null,null,null,null,null,null,"",null,"","","","",null,null,null,null,null,null,null,null,null,null,null,null,null,null,null,null,null,"",null,null,null,null,null,null,null,null,null,null,null,null,null,null,null,null,null,"",null,"","","",""]
[null,null,null,null,null,null,null,null,null,null,null,null,null,null,null,null,"",null,null,null,null,null,null,null,null,null,null,null,null,null,null,null,null,null,"",null,"","","","",null,null,null,null,null,null,null,null,null,null,null,null,null,null,null,null,null,"",null,null,null,null,null,null,null,null,null,null,null,null,null,null,null,null,null,"",null,"","","","",null,null,null,null,null,null,null,null,null,null,null,null,null,null,null,null,null,"",null,null,null,null,null,null,null,null,null,null,null,null,null,null,null,null,null,"",null,"","","",""]
[null,null,null,null,null,null,null,null,null,null,null,null,null,null,null,null,"",null,null,null,null,null,null,null,null,null,null,null,null,null,null,null,null,null,"",null,"","","","",null,null,null,null,null,null,null,null,null,null,null,null,null,null,null,null,null,"",null,null,null,null,null,null,null,null,null,null,null,null,null,null,null,null,null,"",null,"","","","",null,null,null,null,null,null,null,null,null,null,null,null,null,null,null,null,null,"",null,null,null,null,null,null,null,null,null,null,null,null,null,null,null,null,null,"",null,"","","",""]
[null,null,null,null,null,null,null,null,null,null,null,null,null,null,null,null,"",null,null,null,null,null,null,null,null,null,null,null,null,null,null,null,null,null,"",null,"","","","",null,null,null,null,null,null,null,null,null,null,null,null,null,null,null,null,null,"",null,null,null,null,null,null,null,null,null,null,null,null,null,null,null,null,null,"",null,"","","","",null,null,null,null,null,null,null,null,null,null,null,null,null,null,null,null,null,"",null,null,null,null,null,null,null,null,null,null,null,null,null,null,null,null,null,"",null,"","","",""]
[null,null,null,null,null,null,null,null,null,null,null,null,null,null,null,null,"",null,null,null,null,null,null,null,null,null,null,null,null,null,null,null,null,null,"",null,"","","","",null,null,null,null,null,null,null,null,null,null,null,null,null,null,null,null,null,"",null,null,null,null,null,null,null,null,null,null,null,null,null,null,null,null,null,"",null,"","","","",null,null,null,null,null,null,null,null,null,null,null,null,null,null,null,null,null,"",null,null,null,null,null,null,null,null,null,null,null,null,null,null,null,null,null,"",null,"","","",""]
[null,null,null,null,null,null,null,null,null,null,null,null,null,null,null,null,"",null,null,null,null,null,null,null,null,null,null,null,null,null,null,null,null,null,"",null,"","","","",null,null,null,null,null,null,null,null,null,null,null,null,null,null,null,null,null,"",null,null,null,null,null,null,null,null,null,null,null,null,null,null,null,null,null,"",null,"","","","",null,null,null,null,null,null,null,null,null,null,null,null,null,null,null,null,null,"",null,null,null,null,null,null,null,null,null,null,null,null,null,null,null,null,null,"",null,"","","",""]
[null,null,null,null,null,null,null,null,null,null,null,null,null,null,null,null,"",null,null,null,null,null,null,null,null,null,null,null,null,null,null,null,null,null,"",null,"","","","",null,null,null,null,null,null,null,null,null,null,null,null,null,null,null,null,null,"",null,null,null,null,null,null,null,null,null,null,null,null,null,null,null,null,null,"",null,"","","","",null,null,null,null,null,null,null,null,null,null,null,null,null,null,null,null,null,"",null,null,null,null,null,null,null,null,null,null,null,null,null,null,null,null,null,"",null,"","","",""]
[null,null,null,null,null,null,null,null,null,null,null,null,null,null,null,null,"",null,null,null,null,null,null,null,null,null,null,null,null,null,null,null,null,null,"",null,"","","","",null,null,null,null,null,null,null,null,null,null,null,null,null,null,null,null,null,"",null,null,null,null,null,null,null,null,null,null,null,null,null,null,null,null,null,"",null,"","","","",null,null,null,null,null,null,null,null,null,null,null,null,null,null,null,null,null,"",null,null,null,null,null,null,null,null,null,null,null,null,null,null,null,null,null,"",null,"","","",""]
[null,null,null,null,null,null,null,null,null,null,null,null,null,null,null,null,"",null,null,null,null,null,null,null,null,null,null,null,null,null,null,null,null,null,"",null,"","","","",null,null,null,null,null,null,null,null,null,null,null,null,null,null,null,null,null,"",null,null,null,null,null,null,null,null,null,null,null,null,null,null,null,null,null,"",null,"","","","",null,null,null,null,null,null,null,null,null,null,null,null,null,null,null,null,null,"",null,null,null,null,null,null,null,null,null,null,null,null,null,null,null,null,null,"",null,"","","",""]
[null,null,null,null,null,null,null,null,null,null,null,null,null,null,null,null,"",null,null,null,null,null,null,null,null,null,null,null,null,null,null,null,null,null,"",null,"","","","",null,null,null,null,null,null,null,null,null,null,null,null,null,null,null,null,null,"",null,null,null,null,null,null,null,null,null,null,null,null,null,null,null,null,null,"",null,"","","","",null,null,null,null,null,null,null,null,null,null,null,null,null,null,null,null,null,"",null,null,null,null,null,null,null,null,null,null,null,null,null,null,null,null,null,"",null,"","","",""]
[null,null,null,null,null,null,null,null,null,null,null,null,null,null,null,null,"",null,null,null,null,null,null,null,null,null,null,null,null,null,null,null,null,null,"",null,"","","","",null,null,null,null,null,null,null,null,null,null,null,null,null,null,null,null,null,"",null,null,null,null,null,null,null,null,null,null,null,null,null,null,null,null,null,"",null,"","","","",null,null,null,null,null,null,null,null,null,null,null,null,null,null,null,null,null,"",null,null,null,null,null,null,null,null,null,null,null,null,null,null,null,null,null,"",null,"","","",""]
[null,null,null,null,null,null,null,null,null,null,null,null,null,null,null,null,"",null,null,null,null,null,null,null,null,null,null,null,null,null,null,null,null,null,"",null,"","","","",null,null,null,null,null,null,null,null,null,null,null,null,null,null,null,null,null,"",null,null,null,null,null,null,null,null,null,null,null,null,null,null,null,null,null,"",null,"","","","",null,null,null,null,null,null,null,null,null,null,null,null,null,null,null,null,null,"",null,null,null,null,null,null,null,null,null,null,null,null,null,null,null,null,null,"",null,"","","",""]
[null,null,null,null,null,null,null,null,null,null,null,null,null,null,null,null,"",null,null,null,null,null,null,null,null,null,null,null,null,null,null,null,null,null,"",null,"","","","",null,null,null,null,null,null,null,null,null,null,null,null,null,null,null,null,null,"",null,null,null,null,null,null,null,null,null,null,null,null,null,null,null,null,null,"",null,"","","","",null,null,null,null,null,null,null,null,null,null,null,null,null,null,null,null,null,"",null,null,null,null,null,null,null,null,null,null,null,null,null,null,null,null,null,"",null,"","","",""]
[null,null,null,null,null,null,null,null,null,null,null,null,null,null,null,null,"",null,null,null,null,null,null,null,null,null,null,null,null,null,null,null,null,null,"",null,"","","","",null,null,null,null,null,null,null,null,null,null,null,null,null,null,null,null,null,"",null,null,null,null,null,null,null,null,null,null,null,null,null,null,null,null,null,"",null,"","","","",null,null,null,null,null,null,null,null,null,null,null,null,null,null,null,null,null,"",null,null,null,null,null,null,null,null,null,null,null,null,null,null,null,null,null,"",null,"","","",""]
[null,null,null,null,null,null,null,null,null,null,null,null,null,null,null,null,"",null,null,null,null,null,null,null,null,null,null,null,null,null,null,null,null,null,"",null,"","","","",null,null,null,null,null,null,null,null,null,null,null,null,null,null,null,null,null,"",null,null,null,null,null,null,null,null,null,null,null,null,null,null,null,null,null,"",null,"","","","",null,null,null,null,null,null,null,null,null,null,null,null,null,null,null,null,null,"",null,null,null,null,null,null,null,null,null,null,null,null,null,null,null,null,null,"",null,"","","",""]
[null,null,null,null,null,null,null,null,null,null,null,null,null,null,null,null,"",null,null,null,null,null,null,null,null,null,null,null,null,null,null,null,null,null,"",null,"","","","",null,null,null,null,null,null,null,null,null,null,null,null,null,null,null,null,null,"",null,null,null,null,null,null,null,null,null,null,null,null,null,null,null,null,null,"",null,"","","","",null,null,null,null,null,null,null,null,null,null,null,null,null,null,null,null,null,"",null,null,null,null,null,null,null,null,null,null,null,null,null,null,null,null,null,"",null,"","","",""]
[null,null,null,null,null,null,null,null,null,null,null,null,null,null,null,null,"",null,null,null,null,null,null,null,null,null,null,null,null,null,null,null,null,null,"",null,"","","","",null,null,null,null,null,null,null,null,null,null,null,null,null,null,null,null,null,"",null,null,null,null,null,null,null,null,null,null,null,null,null,null,null,null,null,"",null,"","","","",null,null,null,null,null,null,null,null,null,null,null,null,null,null,null,null,null,"",null,null,null,null,null,null,null,null,null,null,null,null,null,null,null,null,null,"",null,"","","",""]
[null,null,null,null,null,null,null,null,null,null,null,null,null,null,null,null,"",null,null,null,null,null,null,null,null,null,null,null,null,null,null,null,null,null,"",null,"","","","",null,null,null,null,null,null,null,null,null,null,null,null,null,null,null,null,null,"",null,null,null,null,null,null,null,null,null,null,null,null,null,null,null,null,null,"",null,"","","","",null,null,null,null,null,null,null,null,null,null,null,null,null,null,null,null,null,"",null,null,null,null,null,null,null,null,null,null,null,null,null,null,null,null,null,"",null,"","","",""]
[null,null,null,null,null,null,null,null,null,null,null,null,null,null,null,null,"",null,null,null,null,null,null,null,null,null,null,null,null,null,null,null,null,null,"",null,"","","","",null,null,null,null,null,null,null,null,null,null,null,null,null,null,null,null,null,"",null,null,null,null,null,null,null,null,null,null,null,null,null,null,null,null,null,"",null,"","","","",null,null,null,null,null,null,null,null,null,null,null,null,null,null,null,null,null,"",null,null,null,null,null,null,null,null,null,null,null,null,null,null,null,null,null,"",null,"","","",""]
[null,null,null,null,null,null,null,null,null,null,null,null,null,null,null,null,"",null,null,null,null,null,null,null,null,null,null,null,null,null,null,null,null,null,"",null,"","","","",null,null,null,null,null,null,null,null,null,null,null,null,null,null,null,null,null,"",null,null,null,null,null,null,null,null,null,null,null,null,null,null,null,null,null,"",null,"","","","",null,null,null,null,null,null,null,null,null,null,null,null,null,null,null,null,null,"",null,null,null,null,null,null,null,null,null,null,null,null,null,null,null,null,null,"",null,"","","",""]
[null,null,null,null,null,null,null,null,null,null,null,null,null,null,null,null,"",null,null,null,null,null,null,null,null,null,null,null,null,null,null,null,null,null,"",null,"","","","",null,null,null,null,null,null,null,null,null,null,null,null,null,null,null,null,null,"",null,null,null,null,null,null,null,null,null,null,null,null,null,null,null,null,null,"",null,"","","","",null,null,null,null,null,null,null,null,null,null,null,null,null,null,null,null,null,"",null,null,null,null,null,null,null,null,null,null,null,null,null,null,null,null,null,"",null,"","","",""]
[null,null,null,null,null,null,null,null,null,null,null,null,null,null,null,null,"",null,null,null,null,null,null,null,null,null,null,null,null,null,null,null,null,null,"",null,"","","","",null,null,null,null,null,null,null,null,null,null,null,null,null,null,null,null,null,"",null,null,null,null,null,null,null,null,null,null,null,null,null,null,null,null,null,"",null,"","","","",null,null,null,null,null,null,null,null,null,null,null,null,null,null,null,null,null,"",null,null,null,null,null,null,null,null,null,null,null,null,null,null,null,null,null,"",null,"","","",""]
[null,null,null,null,null,null,null,null,null,null,null,null,null,null,null,null,"",null,null,null,null,null,null,null,null,null,null,null,null,null,null,null,null,null,"",null,"","","","",null,null,null,null,null,null,null,null,null,null,null,null,null,null,null,null,null,"",null,null,null,null,null,null,null,null,null,null,null,null,null,null,null,null,null,"",null,"","","","",null,null,null,null,null,null,null,null,null,null,null,null,null,null,null,null,null,"",null,null,null,null,null,null,null,null,null,null,null,null,null,null,null,null,null,"",null,"","","",""]
[null,null,null,null,null,null,null,null,null,null,null,null,null,null,null,null,"",null,null,null,null,null,null,null,null,null,null,null,null,null,null,null,null,null,"",null,"","","","",null,null,null,null,null,null,null,null,null,null,null,null,null,null,null,null,null,"",null,null,null,null,null,null,null,null,null,null,null,null,null,null,null,null,null,"",null,"","","","",null,null,null,null,null,null,null,null,null,null,null,null,null,null,null,null,null,"",null,null,null,null,null,null,null,null,null,null,null,null,null,null,null,null,null,"",null,"","","",""]
[null,null,null,null,null,null,null,null,null,null,null,null,null,null,null,null,"",null,null,null,null,null,null,null,null,null,null,null,null,null,null,null,null,null,"",null,"","","","",null,null,null,null,null,null,null,null,null,null,null,null,null,null,null,null,null,"",null,null,null,null,null,null,null,null,null,null,null,null,null,null,null,null,null,"",null,"","","","",null,null,null,null,null,null,null,null,null,null,null,null,null,null,null,null,null,"",null,null,null,null,null,null,null,null,null,null,null,null,null,null,null,null,null,"",null,"","","",""]
[null,null,null,null,null,null,null,null,null,null,null,null,null,null,null,null,"",null,null,null,null,null,null,null,null,null,null,null,null,null,null,null,null,null,"",null,"","","","",null,null,null,null,null,null,null,null,null,null,null,null,null,null,null,null,null,"",null,null,null,null,null,null,null,null,null,null,null,null,null,null,null,null,null,"",null,"","","","",null,null,null,null,null,null,null,null,null,null,null,null,null,null,null,null,null,"",null,null,null,null,null,null,null,null,null,null,null,null,null,null,null,null,null,"",null,"","","",""]
[null,null,null,null,null,null,null,null,null,null,null,null,null,null,null,null,"",null,null,null,null,null,null,null,null,null,null,null,null,null,null,null,null,null,"",null,"","","","",null,null,null,null,null,null,null,null,null,null,null,null,null,null,null,null,null,"",null,null,null,null,null,null,null,null,null,null,null,null,null,null,null,null,null,"",null,"","","","",null,null,null,null,null,null,null,null,null,null,null,null,null,null,null,null,null,"",null,null,null,null,null,null,null,null,null,null,null,null,null,null,null,null,null,"",null,"","","",""]
[null,null,null,null,null,null,null,null,null,null,null,null,null,null,null,null,"",null,null,null,null,null,null,null,null,null,null,null,null,null,null,null,null,null,"",null,"","","","",null,null,null,null,null,null,null,null,null,null,null,null,null,null,null,null,null,"",null,null,null,null,null,null,null,null,null,null,null,null,null,null,null,null,null,"",null,"","","","",null,null,null,null,null,null,null,null,null,null,null,null,null,null,null,null,null,"",null,null,null,null,null,null,null,null,null,null,null,null,null,null,null,null,null,"",null,"","","",""]
[null,null,null,null,null,null,null,null,null,null,null,null,null,null,null,null,"",null,null,null,null,null,null,null,null,null,null,null,null,null,null,null,null,null,"",null,"","","","",null,null,null,null,null,null,null,null,null,null,null,null,null,null,null,null,null,"",null,null,null,null,null,null,null,null,null,null,null,null,null,null,null,null,null,"",null,"","","","",null,null,null,null,null,null,null,null,null,null,null,null,null,null,null,null,null,"",null,null,null,null,null,null,null,null,null,null,null,null,null,null,null,null,null,"",null,"","","",""]
[null,null,null,null,null,null,null,null,null,null,null,null,null,null,null,null,"",null,null,null,null,null,null,null,null,null,null,null,null,null,null,null,null,null,"",null,"","","","",null,null,null,null,null,null,null,null,null,null,null,null,null,null,null,null,null,"",null,null,null,null,null,null,null,null,null,null,null,null,null,null,null,null,null,"",null,"","","","",null,null,null,null,null,null,null,null,null,null,null,null,null,null,null,null,null,"",null,null,null,null,null,null,null,null,null,null,null,null,null,null,null,null,null,"",null,"","","",""]
[null,null,null,null,null,null,null,null,null,null,null,null,null,null,null,null,"",null,null,null,null,null,null,null,null,null,null,null,null,null,null,null,null,null,"",null,"","","","",null,null,null,null,null,null,null,null,null,null,null,null,null,null,null,null,null,{"$f":"IF(BC261=\"\",\"\",BC261*BC$505)","v":""},null,null,null,null,null,null,null,null,null,null,null,null,null,null,null,null,null,"",null,"","","","",null,null,null,null,null,null,null,null,null,null,null,null,null,null,null,null,null,{"$f":"IF(CR261=\"\",\"\",CR261*CR$505)","v":""},null,null,null,null,null,null,null,null,null,null,null,null,null,null,null,null,null,"",null,"","","",""]
[null,null,null,null,null,null,null,null,null,null,null,null,null,null,null,null,{"$f":"IF(N262=\"\",\"\",IF(N262*N$505>100,100,N$505*N262))","v":""},null,null,null,null,null,null,null,null,null,null,null,null,null,null,null,null,null,{"$f":"IF(AF262=\"\",\"\",AF262*AF$505)","v":""},null,{"$f":"IF(L262=\"\",\"\",IF(L262=\"c\",2,1))","v":""},{"$f":"IF(M262=\"\",\"\",IF(M262=\"s\",2,1))","v":""},{"$f":"IF(AD262=\"\",\"\",IF(AD262=\"c\",2,1))","v":""},{"$f":"IF(AE262=\"\",\"\",IF(AE262=\"s\",2,1))","v":""},null,null,null,null,null,null,null,null,null,null,null,null,null,null,null,null,null,"",null,null,null,null,null,null,null,null,null,null,null,null,null,null,null,null,null,{"$f":"IF(BU262=\"\",\"\",BU262*BU$505)","v":""},null,{"$f":"IF(BA262=\"\",\"\",IF(BA262=\"c\",2,1))","v":""},{"$f":"IF(BB262=\"\",\"\",IF(BB262=\"s\",2,1))","v":""},{"$f":"IF(BS262=\"\",\"\",IF(BS262=\"c\",2,1))","v":""},{"$f":"IF(BT262=\"\",\"\",IF(BT262=\"s\",2,1))","v":""},null,null,null,null,null,null,null,null,null,null,null,null,null,null,null,null,null,"",null,null,null,null,null,null,null,null,null,null,null,null,null,null,null,null,null,{"$f":"IF(DJ262=\"\",\"\",DJ262*DJ$505)","v":""},null,{"$f":"IF(CP262=\"\",\"\",IF(CP262=\"c\",2,1))","v":""},{"$f":"IF(CQ262=\"\",\"\",IF(CQ262=\"s\",2,1))","v":""},{"$f":"IF(DH262=\"\",\"\",IF(DH262=\"c\",2,1))","v":""},{"$f":"IF(DI262=\"\",\"\",IF(DI262=\"s\",2,1))","v":""}]
[null,null,null,null,null,null,null,null,null,null,null,null,null,null,null,null,"",null,null,null,null,null,null,null,null,null,null,null,null,null,null,null,null,null,"",null,"","","","",null,null,null,null,null,null,null,null,null,null,null,null,null,null,null,null,null,"",null,null,null,null,null,null,null,null,null,null,null,null,null,null,null,null,null,"",null,"","","","",null,null,null,null,null,null,null,null,null,null,null,null,null,null,null,null,null,"",null,null,null,null,null,null,null,null,null,null,null,null,null,null,null,null,null,"",null,"","","",""]
[null,null,null,null,null,null,null,null,null,null,null,null,null,null,null,null,"",null,null,null,null,null,null,null,null,null,null,null,null,null,null,null,null,null,"",null,"","","","",null,null,null,null,null,null,null,null,null,null,null,null,null,null,null,null,null,"",null,null,null,null,null,null,null,null,null,null,null,null,null,null,null,null,null,"",null,"","","","",null,null,null,null,null,null,null,null,null,null,null,null,null,null,null,null,null,"",null,null,null,null,null,null,null,null,null,null,null,null,null,null,null,null,null,"",null,"","","",""]
[null,null,null,null,null,null,null,null,null,null,null,null,null,null,null,null,"",null,null,null,null,null,null,null,null,null,null,null,null,null,null,null,null,null,"",null,"","","","",null,null,null,null,null,null,null,null,null,null,null,null,null,null,null,null,null,"",null,null,null,null,null,null,null,null,null,null,null,null,null,null,null,null,null,"",null,"","","","",null,null,null,null,null,null,null,null,null,null,null,null,null,null,null,null,null,"",null,null,null,null,null,null,null,null,null,null,null,null,null,null,null,null,null,"",null,"","","",""]
[null,null,null,null,null,null,null,null,null,null,null,null,null,null,null,null,"",null,null,null,null,null,null,null,null,null,null,null,null,null,null,null,null,null,"",null,"","","","",null,null,null,null,null,null,null,null,null,null,null,null,null,null,null,null,null,"",null,null,null,null,null,null,null,null,null,null,null,null,null,null,null,null,null,"",null,"","","","",null,null,null,null,null,null,null,null,null,null,null,null,null,null,null,null,null,"",null,null,null,null,null,null,null,null,null,null,null,null,null,null,null,null,null,"",null,"","","",""]
[null,null,null,null,null,null,null,null,null,null,null,null,null,null,null,null,"",null,null,null,null,null,null,null,null,null,null,null,null,null,null,null,null,null,"",null,"","","","",null,null,null,null,null,null,null,null,null,null,null,null,null,null,null,null,null,"",null,null,null,null,null,null,null,null,null,null,null,null,null,null,null,null,null,"",null,"","","","",null,null,null,null,null,null,null,null,null,null,null,null,null,null,null,null,null,"",null,null,null,null,null,null,null,null,null,null,null,null,null,null,null,null,null,"",null,"","","",""]
[null,null,null,null,null,null,null,null,null,null,null,null,null,null,null,null,"",null,null,null,null,null,null,null,null,null,null,null,null,null,null,null,null,null,"",null,"","","","",null,null,null,null,null,null,null,null,null,null,null,null,null,null,null,null,null,"",null,null,null,null,null,null,null,null,null,null,null,null,null,null,null,null,null,"",null,"","","","",null,null,null,null,null,null,null,null,null,null,null,null,null,null,null,null,null,"",null,null,null,null,null,null,null,null,null,null,null,null,null,null,null,null,null,"",null,"","","",""]
[null,null,null,null,null,null,null,null,null,null,null,null,null,null,null,null,"",null,null,null,null,null,null,null,null,null,null,null,null,null,null,null,null,null,"",null,"","","","",null,null,null,null,null,null,null,null,null,null,null,null,null,null,null,null,null,"",null,null,null,null,null,null,null,null,null,null,null,null,null,null,null,null,null,"",null,"","","","",null,null,null,null,null,null,null,null,null,null,null,null,null,null,null,null,null,"",null,null,null,null,null,null,null,null,null,null,null,null,null,null,null,null,null,"",null,"","","",""]
[null,null,null,null,null,null,null,null,null,null,null,null,null,null,null,null,"",null,null,null,null,null,null,null,null,null,null,null,null,null,null,null,null,null,"",null,"","","","",null,null,null,null,null,null,null,null,null,null,null,null,null,null,null,null,null,"",null,null,null,null,null,null,null,null,null,null,null,null,null,null,null,null,null,"",null,"","","","",null,null,null,null,null,null,null,null,null,null,null,null,null,null,null,null,null,"",null,null,null,null,null,null,null,null,null,null,null,null,null,null,null,null,null,"",null,"","","",""]
[null,null,null,null,null,null,null,null,null,null,null,null,null,null,null,null,"",null,null,null,null,null,null,null,null,null,null,null,null,null,null,null,null,null,"",null,"","","","",null,null,null,null,null,null,null,null,null,null,null,null,null,null,null,null,null,"",null,null,null,null,null,null,null,null,null,null,null,null,null,null,null,null,null,"",null,"","","","",null,null,null,null,null,null,null,null,null,null,null,null,null,null,null,null,null,"",null,null,null,null,null,null,null,null,null,null,null,null,null,null,null,null,null,"",null,"","","",""]
[null,null,null,null,null,null,null,null,null,null,null,null,null,null,null,null,"",null,null,null,null,null,null,null,null,null,null,null,null,null,null,null,null,null,"",null,"","","","",null,null,null,null,null,null,null,null,null,null,null,null,null,null,null,null,null,"",null,null,null,null,null,null,null,null,null,null,null,null,null,null,null,null,null,"",null,"","","","",null,null,null,null,null,null,null,null,null,null,null,null,null,null,null,null,null,"",null,null,null,null,null,null,null,null,null,null,null,null,null,null,null,null,null,"",null,"","","",""]
[null,null,null,null,null,null,null,null,null,null,null,null,null,null,null,null,"",null,null,null,null,null,null,null,null,null,null,null,null,null,null,null,null,null,"",null,"","","","",null,null,null,null,null,null,null,null,null,null,null,null,null,null,null,null,null,"",null,null,null,null,null,null,null,null,null,null,null,null,null,null,null,null,null,"",null,"","","","",null,null,null,null,null,null,null,null,null,null,null,null,null,null,null,null,null,"",null,null,null,null,null,null,null,null,null,null,null,null,null,null,null,null,null,"",null,"","","",""]
[null,null,null,null,null,null,null,null,null,null,null,null,null,null,null,null,"",null,null,null,null,null,null,null,null,null,null,null,null,null,null,null,null,null,"",null,"","","","",null,null,null,null,null,null,null,null,null,null,null,null,null,null,null,null,null,"",null,null,null,null,null,null,null,null,null,null,null,null,null,null,null,null,null,"",null,"","","","",null,null,null,null,null,null,null,null,null,null,null,null,null,null,null,null,null,"",null,null,null,null,null,null,null,null,null,null,null,null,null,null,null,null,null,"",null,"","","",""]
[null,null,null,null,null,null,null,null,null,null,null,null,null,null,null,null,"",null,null,null,null,null,null,null,null,null,null,null,null,null,null,null,null,null,"",null,"","","","",null,null,null,null,null,null,null,null,null,null,null,null,null,null,null,null,null,"",null,null,null,null,null,null,null,null,null,null,null,null,null,null,null,null,null,"",null,"","","","",null,null,null,null,null,null,null,null,null,null,null,null,null,null,null,null,null,"",null,null,null,null,null,null,null,null,null,null,null,null,null,null,null,null,null,"",null,"","","",""]
[null,null,null,null,null,null,null,null,null,null,null,null,null,null,null,null,"",null,null,null,null,null,null,null,null,null,null,null,null,null,null,null,null,null,"",null,"","","","",null,null,null,null,null,null,null,null,null,null,null,null,null,null,null,null,null,"",null,null,null,null,null,null,null,null,null,null,null,null,null,null,null,null,null,"",null,"","","","",null,null,null,null,null,null,null,null,null,null,null,null,null,null,null,null,null,"",null,null,null,null,null,null,null,null,null,null,null,null,null,null,null,null,null,"",null,"","","",""]
[null,null,null,null,null,null,null,null,null,null,null,null,null,null,null,null,"",null,null,null,null,null,null,null,null,null,null,null,null,null,null,null,null,null,"",null,"","","","",null,null,null,null,null,null,null,null,null,null,null,null,null,null,null,null,null,"",null,null,null,null,null,null,null,null,null,null,null,null,null,null,null,null,null,"",null,"","","","",null,null,null,null,null,null,null,null,null,null,null,null,null,null,null,null,null,"",null,null,null,null,null,null,null,null,null,null,null,null,null,null,null,null,null,"",null,"","","",""]
[null,null,null,null,null,null,null,null,null,null,null,null,null,null,null,null,"",null,null,null,null,null,null,null,null,null,null,null,null,null,null,null,null,null,"",null,"","","","",null,null,null,null,null,null,null,null,null,null,null,null,null,null,null,null,null,"",null,null,null,null,null,null,null,null,null,null,null,null,null,null,null,null,null,"",null,"","","","",null,null,null,null,null,null,null,null,null,null,null,null,null,null,null,null,null,"",null,null,null,null,null,null,null,null,null,null,null,null,null,null,null,null,null,"",null,"","","",""]
[null,null,null,null,null,null,null,null,null,null,null,null,null,null,null,null,"",null,null,null,null,null,null,null,null,null,null,null,null,null,null,null,null,null,"",null,"","","","",null,null,null,null,null,null,null,null,null,null,null,null,null,null,null,null,null,"",null,null,null,null,null,null,null,null,null,null,null,null,null,null,null,null,null,"",null,"","","","",null,null,null,null,null,null,null,null,null,null,null,null,null,null,null,null,null,"",null,null,null,null,null,null,null,null,null,null,null,null,null,null,null,null,null,"",null,"","","",""]
[null,null,null,null,null,null,null,null,null,null,null,null,null,null,null,null,"",null,null,null,null,null,null,null,null,null,null,null,null,null,null,null,null,null,"",null,"","","","",null,null,null,null,null,null,null,null,null,null,null,null,null,null,null,null,null,"",null,null,null,null,null,null,null,null,null,null,null,null,null,null,null,null,null,"",null,"","","","",null,null,null,null,null,null,null,null,null,null,null,null,null,null,null,null,null,"",null,null,null,null,null,null,null,null,null,null,null,null,null,null,null,null,null,"",null,"","","",""]
[null,null,null,null,null,null,null,null,null,null,null,null,null,null,null,null,"",null,null,null,null,null,null,null,null,null,null,null,null,null,null,null,null,null,"",null,"","","","",null,null,null,null,null,null,null,null,null,null,null,null,null,null,null,null,null,"",null,null,null,null,null,null,null,null,null,null,null,null,null,null,null,null,null,"",null,"","","","",null,null,null,null,null,null,null,null,null,null,null,null,null,null,null,null,null,"",null,null,null,null,null,null,null,null,null,null,null,null,null,null,null,null,null,"",null,"","","",""]
[null,null,null,null,null,null,null,null,null,null,null,null,null,null,null,null,"",null,null,null,null,null,null,null,null,null,null,null,null,null,null,null,null,null,"",null,"","","","",null,null,null,null,null,null,null,null,null,null,null,null,null,null,null,null,null,"",null,null,null,null,null,null,null,null,null,null,null,null,null,null,null,null,null,"",null,"","","","",null,null,null,null,null,null,null,null,null,null,null,null,null,null,null,null,null,"",null,null,null,null,null,null,null,null,null,null,null,null,null,null,null,null,null,"",null,"","","",""]
[null,null,null,null,null,null,null,null,null,null,null,null,null,null,null,null,"",null,null,null,null,null,null,null,null,null,null,null,null,null,null,null,null,null,"",null,"","","","",null,null,null,null,null,null,null,null,null,null,null,null,null,null,null,null,null,"",null,null,null,null,null,null,null,null,null,null,null,null,null,null,null,null,null,"",null,"","","","",null,null,null,null,null,null,null,null,null,null,null,null,null,null,null,null,null,"",null,null,null,null,null,null,null,null,null,null,null,null,null,null,null,null,null,"",null,"","","",""]
[null,null,null,null,null,null,null,null,null,null,null,null,null,null,null,null,"",null,null,null,null,null,null,null,null,null,null,null,null,null,null,null,null,null,"",null,"","","","",null,null,null,null,null,null,null,null,null,null,null,null,null,null,null,null,null,"",null,null,null,null,null,null,null,null,null,null,null,null,null,null,null,null,null,"",null,"","","","",null,null,null,null,null,null,null,null,null,null,null,null,null,null,null,null,null,"",null,null,null,null,null,null,null,null,null,null,null,null,null,null,null,null,null,"",null,"","","",""]
[null,null,null,null,null,null,null,null,null,null,null,null,null,null,null,null,"",null,null,null,null,null,null,null,null,null,null,null,null,null,null,null,null,null,"",null,"","","","",null,null,null,null,null,null,null,null,null,null,null,null,null,null,null,null,null,"",null,null,null,null,null,null,null,null,null,null,null,null,null,null,null,null,null,"",null,"","","","",null,null,null,null,null,null,null,null,null,null,null,null,null,null,null,null,null,"",null,null,null,null,null,null,null,null,null,null,null,null,null,null,null,null,null,"",null,"","","",""]
[null,null,null,null,null,null,null,null,null,null,null,null,null,null,null,null,"",null,null,null,null,null,null,null,null,null,null,null,null,null,null,null,null,null,"",null,"","","","",null,null,null,null,null,null,null,null,null,null,null,null,null,null,null,null,null,"",null,null,null,null,null,null,null,null,null,null,null,null,null,null,null,null,null,"",null,"","","","",null,null,null,null,null,null,null,null,null,null,null,null,null,null,null,null,null,"",null,null,null,null,null,null,null,null,null,null,null,null,null,null,null,null,null,"",null,"","","",""]
[null,null,null,null,null,null,null,null,null,null,null,null,null,null,null,null,"",null,null,null,null,null,null,null,null,null,null,null,null,null,null,null,null,null,"",null,"","","","",null,null,null,null,null,null,null,null,null,null,null,null,null,null,null,null,null,"",null,null,null,null,null,null,null,null,null,null,null,null,null,null,null,null,null,"",null,"","","","",null,null,null,null,null,null,null,null,null,null,null,null,null,null,null,null,null,"",null,null,null,null,null,null,null,null,null,null,null,null,null,null,null,null,null,"",null,"","","",""]
[null,null,null,null,null,null,null,null,null,null,null,null,null,null,null,null,"",null,null,null,null,null,null,null,null,null,null,null,null,null,null,null,null,null,"",null,"","","","",null,null,null,null,null,null,null,null,null,null,null,null,null,null,null,null,null,"",null,null,null,null,null,null,null,null,null,null,null,null,null,null,null,null,null,"",null,"","","","",null,null,null,null,null,null,null,null,null,null,null,null,null,null,null,null,null,"",null,null,null,null,null,null,null,null,null,null,null,null,null,null,null,null,null,"",null,"","","",""]
[null,null,null,null,null,null,null,null,null,null,null,null,null,null,null,null,"",null,null,null,null,null,null,null,null,null,null,null,null,null,null,null,null,null,"",null,"","","","",null,null,null,null,null,null,null,null,null,null,null,null,null,null,null,null,null,"",null,null,null,null,null,null,null,null,null,null,null,null,null,null,null,null,null,"",null,"","","","",null,null,null,null,null,null,null,null,null,null,null,null,null,null,null,null,null,"",null,null,null,null,null,null,null,null,null,null,null,null,null,null,null,null,null,"",null,"","","",""]
[null,null,null,null,null,null,null,null,null,null,null,null,null,null,null,null,"",null,null,null,null,null,null,null,null,null,null,null,null,null,null,null,null,null,"",null,"","","","",null,null,null,null,null,null,null,null,null,null,null,null,null,null,null,null,null,"",null,null,null,null,null,null,null,null,null,null,null,null,null,null,null,null,null,"",null,"","","","",null,null,null,null,null,null,null,null,null,null,null,null,null,null,null,null,null,"",null,null,null,null,null,null,null,null,null,null,null,null,null,null,null,null,null,"",null,"","","",""]
[null,null,null,null,null,null,null,null,null,null,null,null,null,null,null,null,"",null,null,null,null,null,null,null,null,null,null,null,null,null,null,null,null,null,"",null,"","","","",null,null,null,null,null,null,null,null,null,null,null,null,null,null,null,null,null,"",null,null,null,null,null,null,null,null,null,null,null,null,null,null,null,null,null,"",null,"","","","",null,null,null,null,null,null,null,null,null,null,null,null,null,null,null,null,null,"",null,null,null,null,null,null,null,null,null,null,null,null,null,null,null,null,null,"",null,"","","",""]
[null,null,null,null,null,null,null,null,null,null,null,null,null,null,null,null,"",null,null,null,null,null,null,null,null,null,null,null,null,null,null,null,null,null,"",null,"","","","",null,null,null,null,null,null,null,null,null,null,null,null,null,null,null,null,null,"",null,null,null,null,null,null,null,null,null,null,null,null,null,null,null,null,null,"",null,"","","","",null,null,null,null,null,null,null,null,null,null,null,null,null,null,null,null,null,"",null,null,null,null,null,null,null,null,null,null,null,null,null,null,null,null,null,"",null,"","","",""]
[null,null,null,null,null,null,null,null,null,null,null,null,null,null,null,null,"",null,null,null,null,null,null,null,null,null,null,null,null,null,null,null,null,null,"",null,"","","","",null,null,null,null,null,null,null,null,null,null,null,null,null,null,null,null,null,"",null,null,null,null,null,null,null,null,null,null,null,null,null,null,null,null,null,"",null,"","","","",null,null,null,null,null,null,null,null,null,null,null,null,null,null,null,null,null,"",null,null,null,null,null,null,null,null,null,null,null,null,null,null,null,null,null,"",null,"","","",""]
[null,null,null,null,null,null,null,null,null,null,null,null,null,null,null,null,"",null,null,null,null,null,null,null,null,null,null,null,null,null,null,null,null,null,"",null,"","","","",null,null,null,null,null,null,null,null,null,null,null,null,null,null,null,null,null,"",null,null,null,null,null,null,null,null,null,null,null,null,null,null,null,null,null,"",null,"","","","",null,null,null,null,null,null,null,null,null,null,null,null,null,null,null,null,null,"",null,null,null,null,null,null,null,null,null,null,null,null,null,null,null,null,null,"",null,"","","",""]
[null,null,null,null,null,null,null,null,null,null,null,null,null,null,null,null,"",null,null,null,null,null,null,null,null,null,null,null,null,null,null,null,null,null,"",null,"","","","",null,null,null,null,null,null,null,null,null,null,null,null,null,null,null,null,null,"",null,null,null,null,null,null,null,null,null,null,null,null,null,null,null,null,null,"",null,"","","","",null,null,null,null,null,null,null,null,null,null,null,null,null,null,null,null,null,"",null,null,null,null,null,null,null,null,null,null,null,null,null,null,null,null,null,"",null,"","","",""]
[null,null,null,null,null,null,null,null,null,null,null,null,null,null,null,null,"",null,null,null,null,null,null,null,null,null,null,null,null,null,null,null,null,null,"",null,"","","","",null,null,null,null,null,null,null,null,null,null,null,null,null,null,null,null,null,"",null,null,null,null,null,null,null,null,null,null,null,null,null,null,null,null,null,"",null,"","","","",null,null,null,null,null,null,null,null,null,null,null,null,null,null,null,null,null,"",null,null,null,null,null,null,null,null,null,null,null,null,null,null,null,null,null,"",null,"","","",""]
[null,null,null,null,null,null,null,null,null,null,null,null,null,null,null,null,"",null,null,null,null,null,null,null,null,null,null,null,null,null,null,null,null,null,"",null,"","","","",null,null,null,null,null,null,null,null,null,null,null,null,null,null,null,null,null,"",null,null,null,null,null,null,null,null,null,null,null,null,null,null,null,null,null,"",null,"","","","",null,null,null,null,null,null,null,null,null,null,null,null,null,null,null,null,null,"",null,null,null,null,null,null,null,null,null,null,null,null,null,null,null,null,null,"",null,"","","",""]
[null,null,null,null,null,null,null,null,null,null,null,null,null,null,null,null,"",null,null,null,null,null,null,null,null,null,null,null,null,null,null,null,null,null,"",null,"","","","",null,null,null,null,null,null,null,null,null,null,null,null,null,null,null,null,null,"",null,null,null,null,null,null,null,null,null,null,null,null,null,null,null,null,null,"",null,"","","","",null,null,null,null,null,null,null,null,null,null,null,null,null,null,null,null,null,"",null,null,null,null,null,null,null,null,null,null,null,null,null,null,null,null,null,"",null,"","","",""]
[null,null,null,null,null,null,null,null,null,null,null,null,null,null,null,null,"",null,null,null,null,null,null,null,null,null,null,null,null,null,null,null,null,null,"",null,"","","","",null,null,null,null,null,null,null,null,null,null,null,null,null,null,null,null,null,"",null,null,null,null,null,null,null,null,null,null,null,null,null,null,null,null,null,"",null,"","","","",null,null,null,null,null,null,null,null,null,null,null,null,null,null,null,null,null,"",null,null,null,null,null,null,null,null,null,null,null,null,null,null,null,null,null,"",null,"","","",""]
[null,null,null,null,null,null,null,null,null,null,null,null,null,null,null,null,"",null,null,null,null,null,null,null,null,null,null,null,null,null,null,null,null,null,"",null,"","","","",null,null,null,null,null,null,null,null,null,null,null,null,null,null,null,null,null,"",null,null,null,null,null,null,null,null,null,null,null,null,null,null,null,null,null,"",null,"","","","",null,null,null,null,null,null,null,null,null,null,null,null,null,null,null,null,null,"",null,null,null,null,null,null,null,null,null,null,null,null,null,null,null,null,null,"",null,"","","",""]
[null,null,null,null,null,null,null,null,null,null,null,null,null,null,null,null,"",null,null,null,null,null,null,null,null,null,null,null,null,null,null,null,null,null,"",null,"","","","",null,null,null,null,null,null,null,null,null,null,null,null,null,null,null,null,null,"",null,null,null,null,null,null,null,null,null,null,null,null,null,null,null,null,null,"",null,"","","","",null,null,null,null,null,null,null,null,null,null,null,null,null,null,null,null,null,"",null,null,null,null,null,null,null,null,null,null,null,null,null,null,null,null,null,"",null,"","","",""]
[null,null,null,null,null,null,null,null,null,null,null,null,null,null,null,null,"",null,null,null,null,null,null,null,null,null,null,null,null,null,null,null,null,null,"",null,"","","","",null,null,null,null,null,null,null,null,null,null,null,null,null,null,null,null,null,"",null,null,null,null,null,null,null,null,null,null,null,null,null,null,null,null,null,"",null,"","","","",null,null,null,null,null,null,null,null,null,null,null,null,null,null,null,null,null,"",null,null,null,null,null,null,null,null,null,null,null,null,null,null,null,null,null,"",null,"","","",""]
[null,null,null,null,null,null,null,null,null,null,null,null,null,null,null,null,"",null,null,null,null,null,null,null,null,null,null,null,null,null,null,null,null,null,"",null,"","","","",null,null,null,null,null,null,null,null,null,null,null,null,null,null,null,null,null,"",null,null,null,null,null,null,null,null,null,null,null,null,null,null,null,null,null,"",null,"","","","",null,null,null,null,null,null,null,null,null,null,null,null,null,null,null,null,null,"",null,null,null,null,null,null,null,null,null,null,null,null,null,null,null,null,null,"",null,"","","",""]
[null,null,null,null,null,null,null,null,null,null,null,null,null,null,null,null,"",null,null,null,null,null,null,null,null,null,null,null,null,null,null,null,null,null,"",null,"","","","",null,null,null,null,null,null,null,null,null,null,null,null,null,null,null,null,null,"",null,null,null,null,null,null,null,null,null,null,null,null,null,null,null,null,null,"",null,"","","","",null,null,null,null,null,null,null,null,null,null,null,null,null,null,null,null,null,"",null,null,null,null,null,null,null,null,null,null,null,null,null,null,null,null,null,"",null,"","","",""]
[null,null,null,null,null,null,null,null,null,null,null,null,null,null,null,null,"",null,null,null,null,null,null,null,null,null,null,null,null,null,null,null,null,null,"",null,"","","","",null,null,null,null,null,null,null,null,null,null,null,null,null,null,null,null,null,"",null,null,null,null,null,null,null,null,null,null,null,null,null,null,null,null,null,"",null,"","","","",null,null,null,null,null,null,null,null,null,null,null,null,null,null,null,null,null,"",null,null,null,null,null,null,null,null,null,null,null,null,null,null,null,null,null,"",null,"","","",""]
[null,null,null,null,null,null,null,null,null,null,null,null,null,null,null,null,"",null,null,null,null,null,null,null,null,null,null,null,null,null,null,null,null,null,"",null,"","","","",null,null,null,null,null,null,null,null,null,null,null,null,null,null,null,null,null,"",null,null,null,null,null,null,null,null,null,null,null,null,null,null,null,null,null,"",null,"","","","",null,null,null,null,null,null,null,null,null,null,null,null,null,null,null,null,null,"",null,null,null,null,null,null,null,null,null,null,null,null,null,null,null,null,null,"",null,"","","",""]
[null,null,null,null,null,null,null,null,null,null,null,null,null,null,null,null,"",null,null,null,null,null,null,null,null,null,null,null,null,null,null,null,null,null,"",null,"","","","",null,null,null,null,null,null,null,null,null,null,null,null,null,null,null,null,null,"",null,null,null,null,null,null,null,null,null,null,null,null,null,null,null,null,null,"",null,"","","","",null,null,null,null,null,null,null,null,null,null,null,null,null,null,null,null,null,"",null,null,null,null,null,null,null,null,null,null,null,null,null,null,null,null,null,"",null,"","","",""]
[null,null,null,null,null,null,null,null,null,null,null,null,null,null,null,null,"",null,null,null,null,null,null,null,null,null,null,null,null,null,null,null,null,null,"",null,"","","","",null,null,null,null,null,null,null,null,null,null,null,null,null,null,null,null,null,"",null,null,null,null,null,null,null,null,null,null,null,null,null,null,null,null,null,"",null,"","","","",null,null,null,null,null,null,null,null,null,null,null,null,null,null,null,null,null,"",null,null,null,null,null,null,null,null,null,null,null,null,null,null,null,null,null,"",null,"","","",""]
[null,null,null,null,null,null,null,null,null,null,null,null,null,null,null,null,"",null,null,null,null,null,null,null,null,null,null,null,null,null,null,null,null,null,"",null,"","","","",null,null,null,null,null,null,null,null,null,null,null,null,null,null,null,null,null,"",null,null,null,null,null,null,null,null,null,null,null,null,null,null,null,null,null,"",null,"","","","",null,null,null,null,null,null,null,null,null,null,null,null,null,null,null,null,null,"",null,null,null,null,null,null,null,null,null,null,null,null,null,null,null,null,null,"",null,"","","",""]
[null,null,null,null,null,null,null,null,null,null,null,null,null,null,null,null,"",null,null,null,null,null,null,null,null,null,null,null,null,null,null,null,null,null,"",null,"","","","",null,null,null,null,null,null,null,null,null,null,null,null,null,null,null,null,null,"",null,null,null,null,null,null,null,null,null,null,null,null,null,null,null,null,null,"",null,"","","","",null,null,null,null,null,null,null,null,null,null,null,null,null,null,null,null,null,"",null,null,null,null,null,null,null,null,null,null,null,null,null,null,null,null,null,"",null,"","","",""]
[null,null,null,null,null,null,null,null,null,null,null,null,null,null,null,null,"",null,null,null,null,null,null,null,null,null,null,null,null,null,null,null,null,null,"",null,"","","","",null,null,null,null,null,null,null,null,null,null,null,null,null,null,null,null,null,"",null,null,null,null,null,null,null,null,null,null,null,null,null,null,null,null,null,"",null,"","","","",null,null,null,null,null,null,null,null,null,null,null,null,null,null,null,null,null,"",null,null,null,null,null,null,null,null,null,null,null,null,null,null,null,null,null,"",null,"","","",""]
[null,null,null,null,null,null,null,null,null,null,null,null,null,null,null,null,"",null,null,null,null,null,null,null,null,null,null,null,null,null,null,null,null,null,"",null,"","","","",null,null,null,null,null,null,null,null,null,null,null,null,null,null,null,null,null,"",null,null,null,null,null,null,null,null,null,null,null,null,null,null,null,null,null,"",null,"","","","",null,null,null,null,null,null,null,null,null,null,null,null,null,null,null,null,null,"",null,null,null,null,null,null,null,null,null,null,null,null,null,null,null,null,null,"",null,"","","",""]
[null,null,null,null,null,null,null,null,null,null,null,null,null,null,null,null,"",null,null,null,null,null,null,null,null,null,null,null,null,null,null,null,null,null,"",null,"","","","",null,null,null,null,null,null,null,null,null,null,null,null,null,null,null,null,null,"",null,null,null,null,null,null,null,null,null,null,null,null,null,null,null,null,null,"",null,"","","","",null,null,null,null,null,null,null,null,null,null,null,null,null,null,null,null,null,"",null,null,null,null,null,null,null,null,null,null,null,null,null,null,null,null,null,"",null,"","","",""]
[null,null,null,null,null,null,null,null,null,null,null,null,null,null,null,null,"",null,null,null,null,null,null,null,null,null,null,null,null,null,null,null,null,null,"",null,"","","","",null,null,null,null,null,null,null,null,null,null,null,null,null,null,null,null,null,"",null,null,null,null,null,null,null,null,null,null,null,null,null,null,null,null,null,"",null,"","","","",null,null,null,null,null,null,null,null,null,null,null,null,null,null,null,null,null,"",null,null,null,null,null,null,null,null,null,null,null,null,null,null,null,null,null,"",null,"","","",""]
[null,null,null,null,null,null,null,null,null,null,null,null,null,null,null,null,"",null,null,null,null,null,null,null,null,null,null,null,null,null,null,null,null,null,"",null,"","","","",null,null,null,null,null,null,null,null,null,null,null,null,null,null,null,null,null,"",null,null,null,null,null,null,null,null,null,null,null,null,null,null,null,null,null,"",null,"","","","",null,null,null,null,null,null,null,null,null,null,null,null,null,null,null,null,null,"",null,null,null,null,null,null,null,null,null,null,null,null,null,null,null,null,null,"",null,"","","",""]
[null,null,null,null,null,null,null,null,null,null,null,null,null,null,null,null,"",null,null,null,null,null,null,null,null,null,null,null,null,null,null,null,null,null,"",null,"","","","",null,null,null,null,null,null,null,null,null,null,null,null,null,null,null,null,null,"",null,null,null,null,null,null,null,null,null,null,null,null,null,null,null,null,null,"",null,"","","","",null,null,null,null,null,null,null,null,null,null,null,null,null,null,null,null,null,"",null,null,null,null,null,null,null,null,null,null,null,null,null,null,null,null,null,"",null,"","","",""]
[null,null,null,null,null,null,null,null,null,null,null,null,null,null,null,null,"",null,null,null,null,null,null,null,null,null,null,null,null,null,null,null,null,null,"",null,"","","","",null,null,null,null,null,null,null,null,null,null,null,null,null,null,null,null,null,"",null,null,null,null,null,null,null,null,null,null,null,null,null,null,null,null,null,"",null,"","","","",null,null,null,null,null,null,null,null,null,null,null,null,null,null,null,null,null,"",null,null,null,null,null,null,null,null,null,null,null,null,null,null,null,null,null,"",null,"","","",""]
[null,null,null,null,null,null,null,null,null,null,null,null,null,null,null,null,"",null,null,null,null,null,null,null,null,null,null,null,null,null,null,null,null,null,"",null,"","","","",null,null,null,null,null,null,null,null,null,null,null,null,null,null,null,null,null,"",null,null,null,null,null,null,null,null,null,null,null,null,null,null,null,null,null,"",null,"","","","",null,null,null,null,null,null,null,null,null,null,null,null,null,null,null,null,null,"",null,null,null,null,null,null,null,null,null,null,null,null,null,null,null,null,null,"",null,"","","",""]
[null,null,null,null,null,null,null,null,null,null,null,null,null,null,null,null,"",null,null,null,null,null,null,null,null,null,null,null,null,null,null,null,null,null,"",null,"","","","",null,null,null,null,null,null,null,null,null,null,null,null,null,null,null,null,null,"",null,null,null,null,null,null,null,null,null,null,null,null,null,null,null,null,null,"",null,"","","","",null,null,null,null,null,null,null,null,null,null,null,null,null,null,null,null,null,"",null,null,null,null,null,null,null,null,null,null,null,null,null,null,null,null,null,"",null,"","","",""]
[null,null,null,null,null,null,null,null,null,null,null,null,null,null,null,null,"",null,null,null,null,null,null,null,null,null,null,null,null,null,null,null,null,null,"",null,"","","","",null,null,null,null,null,null,null,null,null,null,null,null,null,null,null,null,null,"",null,null,null,null,null,null,null,null,null,null,null,null,null,null,null,null,null,"",null,"","","","",null,null,null,null,null,null,null,null,null,null,null,null,null,null,null,null,null,"",null,null,null,null,null,null,null,null,null,null,null,null,null,null,null,null,null,"",null,"","","",""]
[null,null,null,null,null,null,null,null,null,null,null,null,null,null,null,null,"",null,null,null,null,null,null,null,null,null,null,null,null,null,null,null,null,null,"",null,"","","","",null,null,null,null,null,null,null,null,null,null,null,null,null,null,null,null,null,"",null,null,null,null,null,null,null,null,null,null,null,null,null,null,null,null,null,"",null,"","","","",null,null,null,null,null,null,null,null,null,null,null,null,null,null,null,null,null,"",null,null,null,null,null,null,null,null,null,null,null,null,null,null,null,null,null,"",null,"","","",""]
[null,null,null,null,null,null,null,null,null,null,null,null,null,null,null,null,"",null,null,null,null,null,null,null,null,null,null,null,null,null,null,null,null,null,"",null,"","","","",null,null,null,null,null,null,null,null,null,null,null,null,null,null,null,null,null,"",null,null,null,null,null,null,null,null,null,null,null,null,null,null,null,null,null,"",null,"","","","",null,null,null,null,null,null,null,null,null,null,null,null,null,null,null,null,null,"",null,null,null,null,null,null,null,null,null,null,null,null,null,null,null,null,null,"",null,"","","",""]
[null,null,null,null,null,null,null,null,null,null,null,null,null,null,null,null,"",null,null,null,null,null,null,null,null,null,null,null,null,null,null,null,null,null,"",null,"","","","",null,null,null,null,null,null,null,null,null,null,null,null,null,null,null,null,null,"",null,null,null,null,null,null,null,null,null,null,null,null,null,null,null,null,null,"",null,"","","","",null,null,null,null,null,null,null,null,null,null,null,null,null,null,null,null,null,"",null,null,null,null,null,null,null,null,null,null,null,null,null,null,null,null,null,"",null,"","","",""]
[null,null,null,null,null,null,null,null,null,null,null,null,null,null,null,null,"",null,null,null,null,null,null,null,null,null,null,null,null,null,null,null,null,null,"",null,"","","","",null,null,null,null,null,null,null,null,null,null,null,null,null,null,null,null,null,"",null,null,null,null,null,null,null,null,null,null,null,null,null,null,null,null,null,"",null,"","","","",null,null,null,null,null,null,null,null,null,null,null,null,null,null,null,null,null,"",null,null,null,null,null,null,null,null,null,null,null,null,null,null,null,null,null,"",null,"","","",""]
[null,null,null,null,null,null,null,null,null,null,null,null,null,null,null,null,"",null,null,null,null,null,null,null,null,null,null,null,null,null,null,null,null,null,"",null,"","","","",null,null,null,null,null,null,null,null,null,null,null,null,null,null,null,null,null,{"$f":"IF(BC325=\"\",\"\",BC325*BC$505)","v":""},null,null,null,null,null,null,null,null,null,null,null,null,null,null,null,null,null,"",null,"","","","",null,null,null,null,null,null,null,null,null,null,null,null,null,null,null,null,null,{"$f":"IF(CR325=\"\",\"\",CR325*CR$505)","v":""},null,null,null,null,null,null,null,null,null,null,null,null,null,null,null,null,null,"",null,"","","",""]
[null,null,null,null,null,null,null,null,null,null,null,null,null,null,null,null,{"$f":"IF(N326=\"\",\"\",IF(N326*N$505>100,100,N$505*N326))","v":""},null,null,null,null,null,null,null,null,null,null,null,null,null,null,null,null,null,{"$f":"IF(AF326=\"\",\"\",AF326*AF$505)","v":""},null,{"$f":"IF(L326=\"\",\"\",IF(L326=\"c\",2,1))","v":""},{"$f":"IF(M326=\"\",\"\",IF(M326=\"s\",2,1))","v":""},{"$f":"IF(AD326=\"\",\"\",IF(AD326=\"c\",2,1))","v":""},{"$f":"IF(AE326=\"\",\"\",IF(AE326=\"s\",2,1))","v":""},null,null,null,null,null,null,null,null,null,null,null,null,null,null,null,null,null,"",null,null,null,null,null,null,null,null,null,null,null,null,null,null,null,null,null,{"$f":"IF(BU326=\"\",\"\",BU326*BU$505)","v":""},null,{"$f":"IF(BA326=\"\",\"\",IF(BA326=\"c\",2,1))","v":""},{"$f":"IF(BB326=\"\",\"\",IF(BB326=\"s\",2,1))","v":""},{"$f":"IF(BS326=\"\",\"\",IF(BS326=\"c\",2,1))","v":""},{"$f":"IF(BT326=\"\",\"\",IF(BT326=\"s\",2,1))","v":""},null,null,null,null,null,null,null,null,null,null,null,null,null,null,null,null,null,"",null,null,null,null,null,null,null,null,null,null,null,null,null,null,null,null,null,{"$f":"IF(DJ326=\"\",\"\",DJ326*DJ$505)","v":""},null,{"$f":"IF(CP326=\"\",\"\",IF(CP326=\"c\",2,1))","v":""},{"$f":"IF(CQ326=\"\",\"\",IF(CQ326=\"s\",2,1))","v":""},{"$f":"IF(DH326=\"\",\"\",IF(DH326=\"c\",2,1))","v":""},{"$f":"IF(DI326=\"\",\"\",IF(DI326=\"s\",2,1))","v":""}]
[null,null,null,null,null,null,null,null,null,null,null,null,null,null,null,null,"",null,null,null,null,null,null,null,null,null,null,null,null,null,null,null,null,null,"",null,"","","","",null,null,null,null,null,null,null,null,null,null,null,null,null,null,null,null,null,"",null,null,null,null,null,null,null,null,null,null,null,null,null,null,null,null,null,"",null,"","","","",null,null,null,null,null,null,null,null,null,null,null,null,null,null,null,null,null,"",null,null,null,null,null,null,null,null,null,null,null,null,null,null,null,null,null,"",null,"","","",""]
[null,null,null,null,null,null,null,null,null,null,null,null,null,null,null,null,"",null,null,null,null,null,null,null,null,null,null,null,null,null,null,null,null,null,"",null,"","","","",null,null,null,null,null,null,null,null,null,null,null,null,null,null,null,null,null,"",null,null,null,null,null,null,null,null,null,null,null,null,null,null,null,null,null,"",null,"","","","",null,null,null,null,null,null,null,null,null,null,null,null,null,null,null,null,null,"",null,null,null,null,null,null,null,null,null,null,null,null,null,null,null,null,null,"",null,"","","",""]
[null,null,null,null,null,null,null,null,null,null,null,null,null,null,null,null,"",null,null,null,null,null,null,null,null,null,null,null,null,null,null,null,null,null,"",null,"","","","",null,null,null,null,null,null,null,null,null,null,null,null,null,null,null,null,null,"",null,null,null,null,null,null,null,null,null,null,null,null,null,null,null,null,null,"",null,"","","","",null,null,null,null,null,null,null,null,null,null,null,null,null,null,null,null,null,"",null,null,null,null,null,null,null,null,null,null,null,null,null,null,null,null,null,"",null,"","","",""]
[null,null,null,null,null,null,null,null,null,null,null,null,null,null,null,null,"",null,null,null,null,null,null,null,null,null,null,null,null,null,null,null,null,null,"",null,"","","","",null,null,null,null,null,null,null,null,null,null,null,null,null,null,null,null,null,"",null,null,null,null,null,null,null,null,null,null,null,null,null,null,null,null,null,"",null,"","","","",null,null,null,null,null,null,null,null,null,null,null,null,null,null,null,null,null,"",null,null,null,null,null,null,null,null,null,null,null,null,null,null,null,null,null,"",null,"","","",""]
[null,null,null,null,null,null,null,null,null,null,null,null,null,null,null,null,"",null,null,null,null,null,null,null,null,null,null,null,null,null,null,null,null,null,"",null,"","","","",null,null,null,null,null,null,null,null,null,null,null,null,null,null,null,null,null,"",null,null,null,null,null,null,null,null,null,null,null,null,null,null,null,null,null,"",null,"","","","",null,null,null,null,null,null,null,null,null,null,null,null,null,null,null,null,null,"",null,null,null,null,null,null,null,null,null,null,null,null,null,null,null,null,null,"",null,"","","",""]
[null,null,null,null,null,null,null,null,null,null,null,null,null,null,null,null,"",null,null,null,null,null,null,null,null,null,null,null,null,null,null,null,null,null,"",null,"","","","",null,null,null,null,null,null,null,null,null,null,null,null,null,null,null,null,null,"",null,null,null,null,null,null,null,null,null,null,null,null,null,null,null,null,null,"",null,"","","","",null,null,null,null,null,null,null,null,null,null,null,null,null,null,null,null,null,"",null,null,null,null,null,null,null,null,null,null,null,null,null,null,null,null,null,"",null,"","","",""]
[null,null,null,null,null,null,null,null,null,null,null,null,null,null,null,null,"",null,null,null,null,null,null,null,null,null,null,null,null,null,null,null,null,null,"",null,"","","","",null,null,null,null,null,null,null,null,null,null,null,null,null,null,null,null,null,"",null,null,null,null,null,null,null,null,null,null,null,null,null,null,null,null,null,"",null,"","","","",null,null,null,null,null,null,null,null,null,null,null,null,null,null,null,null,null,"",null,null,null,null,null,null,null,null,null,null,null,null,null,null,null,null,null,"",null,"","","",""]
[null,null,null,null,null,null,null,null,null,null,null,null,null,null,null,null,"",null,null,null,null,null,null,null,null,null,null,null,null,null,null,null,null,null,"",null,"","","","",null,null,null,null,null,null,null,null,null,null,null,null,null,null,null,null,null,"",null,null,null,null,null,null,null,null,null,null,null,null,null,null,null,null,null,"",null,"","","","",null,null,null,null,null,null,null,null,null,null,null,null,null,null,null,null,null,"",null,null,null,null,null,null,null,null,null,null,null,null,null,null,null,null,null,"",null,"","","",""]
[null,null,null,null,null,null,null,null,null,null,null,null,null,null,null,null,"",null,null,null,null,null,null,null,null,null,null,null,null,null,null,null,null,null,"",null,"","","","",null,null,null,null,null,null,null,null,null,null,null,null,null,null,null,null,null,"",null,null,null,null,null,null,null,null,null,null,null,null,null,null,null,null,null,"",null,"","","","",null,null,null,null,null,null,null,null,null,null,null,null,null,null,null,null,null,"",null,null,null,null,null,null,null,null,null,null,null,null,null,null,null,null,null,"",null,"","","",""]
[null,null,null,null,null,null,null,null,null,null,null,null,null,null,null,null,"",null,null,null,null,null,null,null,null,null,null,null,null,null,null,null,null,null,"",null,"","","","",null,null,null,null,null,null,null,null,null,null,null,null,null,null,null,null,null,"",null,null,null,null,null,null,null,null,null,null,null,null,null,null,null,null,null,"",null,"","","","",null,null,null,null,null,null,null,null,null,null,null,null,null,null,null,null,null,"",null,null,null,null,null,null,null,null,null,null,null,null,null,null,null,null,null,"",null,"","","",""]
[null,null,null,null,null,null,null,null,null,null,null,null,null,null,null,null,"",null,null,null,null,null,null,null,null,null,null,null,null,null,null,null,null,null,"",null,"","","","",null,null,null,null,null,null,null,null,null,null,null,null,null,null,null,null,null,"",null,null,null,null,null,null,null,null,null,null,null,null,null,null,null,null,null,"",null,"","","","",null,null,null,null,null,null,null,null,null,null,null,null,null,null,null,null,null,"",null,null,null,null,null,null,null,null,null,null,null,null,null,null,null,null,null,"",null,"","","",""]
[null,null,null,null,null,null,null,null,null,null,null,null,null,null,null,null,"",null,null,null,null,null,null,null,null,null,null,null,null,null,null,null,null,null,"",null,"","","","",null,null,null,null,null,null,null,null,null,null,null,null,null,null,null,null,null,"",null,null,null,null,null,null,null,null,null,null,null,null,null,null,null,null,null,"",null,"","","","",null,null,null,null,null,null,null,null,null,null,null,null,null,null,null,null,null,"",null,null,null,null,null,null,null,null,null,null,null,null,null,null,null,null,null,"",null,"","","",""]
[null,null,null,null,null,null,null,null,null,null,null,null,null,null,null,null,"",null,null,null,null,null,null,null,null,null,null,null,null,null,null,null,null,null,"",null,"","","","",null,null,null,null,null,null,null,null,null,null,null,null,null,null,null,null,null,"",null,null,null,null,null,null,null,null,null,null,null,null,null,null,null,null,null,"",null,"","","","",null,null,null,null,null,null,null,null,null,null,null,null,null,null,null,null,null,"",null,null,null,null,null,null,null,null,null,null,null,null,null,null,null,null,null,"",null,"","","",""]
[null,null,null,null,null,null,null,null,null,null,null,null,null,null,null,null,"",null,null,null,null,null,null,null,null,null,null,null,null,null,null,null,null,null,"",null,"","","","",null,null,null,null,null,null,null,null,null,null,null,null,null,null,null,null,null,"",null,null,null,null,null,null,null,null,null,null,null,null,null,null,null,null,null,"",null,"","","","",null,null,null,null,null,null,null,null,null,null,null,null,null,null,null,null,null,"",null,null,null,null,null,null,null,null,null,null,null,null,null,null,null,null,null,"",null,"","","",""]
[null,null,null,null,null,null,null,null,null,null,null,null,null,null,null,null,"",null,null,null,null,null,null,null,null,null,null,null,null,null,null,null,null,null,"",null,"","","","",null,null,null,null,null,null,null,null,null,null,null,null,null,null,null,null,null,"",null,null,null,null,null,null,null,null,null,null,null,null,null,null,null,null,null,"",null,"","","","",null,null,null,null,null,null,null,null,null,null,null,null,null,null,null,null,null,"",null,null,null,null,null,null,null,null,null,null,null,null,null,null,null,null,null,"",null,"","","",""]
[null,null,null,null,null,null,null,null,null,null,null,null,null,null,null,null,"",null,null,null,null,null,null,null,null,null,null,null,null,null,null,null,null,null,"",null,"","","","",null,null,null,null,null,null,null,null,null,null,null,null,null,null,null,null,null,"",null,null,null,null,null,null,null,null,null,null,null,null,null,null,null,null,null,"",null,"","","","",null,null,null,null,null,null,null,null,null,null,null,null,null,null,null,null,null,"",null,null,null,null,null,null,null,null,null,null,null,null,null,null,null,null,null,"",null,"","","",""]
[null,null,null,null,null,null,null,null,null,null,null,null,null,null,null,null,"",null,null,null,null,null,null,null,null,null,null,null,null,null,null,null,null,null,"",null,"","","","",null,null,null,null,null,null,null,null,null,null,null,null,null,null,null,null,null,"",null,null,null,null,null,null,null,null,null,null,null,null,null,null,null,null,null,"",null,"","","","",null,null,null,null,null,null,null,null,null,null,null,null,null,null,null,null,null,"",null,null,null,null,null,null,null,null,null,null,null,null,null,null,null,null,null,"",null,"","","",""]
[null,null,null,null,null,null,null,null,null,null,null,null,null,null,null,null,"",null,null,null,null,null,null,null,null,null,null,null,null,null,null,null,null,null,"",null,"","","","",null,null,null,null,null,null,null,null,null,null,null,null,null,null,null,null,null,"",null,null,null,null,null,null,null,null,null,null,null,null,null,null,null,null,null,"",null,"","","","",null,null,null,null,null,null,null,null,null,null,null,null,null,null,null,null,null,"",null,null,null,null,null,null,null,null,null,null,null,null,null,null,null,null,null,"",null,"","","",""]
[null,null,null,null,null,null,null,null,null,null,null,null,null,null,null,null,"",null,null,null,null,null,null,null,null,null,null,null,null,null,null,null,null,null,"",null,"","","","",null,null,null,null,null,null,null,null,null,null,null,null,null,null,null,null,null,"",null,null,null,null,null,null,null,null,null,null,null,null,null,null,null,null,null,"",null,"","","","",null,null,null,null,null,null,null,null,null,null,null,null,null,null,null,null,null,"",null,null,null,null,null,null,null,null,null,null,null,null,null,null,null,null,null,"",null,"","","",""]
[null,null,null,null,null,null,null,null,null,null,null,null,null,null,null,null,"",null,null,null,null,null,null,null,null,null,null,null,null,null,null,null,null,null,"",null,"","","","",null,null,null,null,null,null,null,null,null,null,null,null,null,null,null,null,null,"",null,null,null,null,null,null,null,null,null,null,null,null,null,null,null,null,null,"",null,"","","","",null,null,null,null,null,null,null,null,null,null,null,null,null,null,null,null,null,"",null,null,null,null,null,null,null,null,null,null,null,null,null,null,null,null,null,"",null,"","","",""]
[null,null,null,null,null,null,null,null,null,null,null,null,null,null,null,null,"",null,null,null,null,null,null,null,null,null,null,null,null,null,null,null,null,null,"",null,"","","","",null,null,null,null,null,null,null,null,null,null,null,null,null,null,null,null,null,"",null,null,null,null,null,null,null,null,null,null,null,null,null,null,null,null,null,"",null,"","","","",null,null,null,null,null,null,null,null,null,null,null,null,null,null,null,null,null,"",null,null,null,null,null,null,null,null,null,null,null,null,null,null,null,null,null,"",null,"","","",""]
[null,null,null,null,null,null,null,null,null,null,null,null,null,null,null,null,"",null,null,null,null,null,null,null,null,null,null,null,null,null,null,null,null,null,"",null,"","","","",null,null,null,null,null,null,null,null,null,null,null,null,null,null,null,null,null,"",null,null,null,null,null,null,null,null,null,null,null,null,null,null,null,null,null,"",null,"","","","",null,null,null,null,null,null,null,null,null,null,null,null,null,null,null,null,null,"",null,null,null,null,null,null,null,null,null,null,null,null,null,null,null,null,null,"",null,"","","",""]
[null,null,null,null,null,null,null,null,null,null,null,null,null,null,null,null,"",null,null,null,null,null,null,null,null,null,null,null,null,null,null,null,null,null,"",null,"","","","",null,null,null,null,null,null,null,null,null,null,null,null,null,null,null,null,null,"",null,null,null,null,null,null,null,null,null,null,null,null,null,null,null,null,null,"",null,"","","","",null,null,null,null,null,null,null,null,null,null,null,null,null,null,null,null,null,"",null,null,null,null,null,null,null,null,null,null,null,null,null,null,null,null,null,"",null,"","","",""]
[null,null,null,null,null,null,null,null,null,null,null,null,null,null,null,null,"",null,null,null,null,null,null,null,null,null,null,null,null,null,null,null,null,null,"",null,"","","","",null,null,null,null,null,null,null,null,null,null,null,null,null,null,null,null,null,"",null,null,null,null,null,null,null,null,null,null,null,null,null,null,null,null,null,"",null,"","","","",null,null,null,null,null,null,null,null,null,null,null,null,null,null,null,null,null,"",null,null,null,null,null,null,null,null,null,null,null,null,null,null,null,null,null,"",null,"","","",""]
[null,null,null,null,null,null,null,null,null,null,null,null,null,null,null,null,"",null,null,null,null,null,null,null,null,null,null,null,null,null,null,null,null,null,"",null,"","","","",null,null,null,null,null,null,null,null,null,null,null,null,null,null,null,null,null,"",null,null,null,null,null,null,null,null,null,null,null,null,null,null,null,null,null,"",null,"","","","",null,null,null,null,null,null,null,null,null,null,null,null,null,null,null,null,null,"",null,null,null,null,null,null,null,null,null,null,null,null,null,null,null,null,null,"",null,"","","",""]
[null,null,null,null,null,null,null,null,null,null,null,null,null,null,null,null,"",null,null,null,null,null,null,null,null,null,null,null,null,null,null,null,null,null,"",null,"","","","",null,null,null,null,null,null,null,null,null,null,null,null,null,null,null,null,null,"",null,null,null,null,null,null,null,null,null,null,null,null,null,null,null,null,null,"",null,"","","","",null,null,null,null,null,null,null,null,null,null,null,null,null,null,null,null,null,"",null,null,null,null,null,null,null,null,null,null,null,null,null,null,null,null,null,"",null,"","","",""]
[null,null,null,null,null,null,null,null,null,null,null,null,null,null,null,null,"",null,null,null,null,null,null,null,null,null,null,null,null,null,null,null,null,null,"",null,"","","","",null,null,null,null,null,null,null,null,null,null,null,null,null,null,null,null,null,"",null,null,null,null,null,null,null,null,null,null,null,null,null,null,null,null,null,"",null,"","","","",null,null,null,null,null,null,null,null,null,null,null,null,null,null,null,null,null,"",null,null,null,null,null,null,null,null,null,null,null,null,null,null,null,null,null,"",null,"","","",""]
[null,null,null,null,null,null,null,null,null,null,null,null,null,null,null,null,"",null,null,null,null,null,null,null,null,null,null,null,null,null,null,null,null,null,"",null,"","","","",null,null,null,null,null,null,null,null,null,null,null,null,null,null,null,null,null,"",null,null,null,null,null,null,null,null,null,null,null,null,null,null,null,null,null,"",null,"","","","",null,null,null,null,null,null,null,null,null,null,null,null,null,null,null,null,null,"",null,null,null,null,null,null,null,null,null,null,null,null,null,null,null,null,null,"",null,"","","",""]
[null,null,null,null,null,null,null,null,null,null,null,null,null,null,null,null,"",null,null,null,null,null,null,null,null,null,null,null,null,null,null,null,null,null,"",null,"","","","",null,null,null,null,null,null,null,null,null,null,null,null,null,null,null,null,null,"",null,null,null,null,null,null,null,null,null,null,null,null,null,null,null,null,null,"",null,"","","","",null,null,null,null,null,null,null,null,null,null,null,null,null,null,null,null,null,"",null,null,null,null,null,null,null,null,null,null,null,null,null,null,null,null,null,"",null,"","","",""]
[null,null,null,null,null,null,null,null,null,null,null,null,null,null,null,null,"",null,null,null,null,null,null,null,null,null,null,null,null,null,null,null,null,null,"",null,"","","","",null,null,null,null,null,null,null,null,null,null,null,null,null,null,null,null,null,"",null,null,null,null,null,null,null,null,null,null,null,null,null,null,null,null,null,"",null,"","","","",null,null,null,null,null,null,null,null,null,null,null,null,null,null,null,null,null,"",null,null,null,null,null,null,null,null,null,null,null,null,null,null,null,null,null,"",null,"","","",""]
[null,null,null,null,null,null,null,null,null,null,null,null,null,null,null,null,"",null,null,null,null,null,null,null,null,null,null,null,null,null,null,null,null,null,"",null,"","","","",null,null,null,null,null,null,null,null,null,null,null,null,null,null,null,null,null,"",null,null,null,null,null,null,null,null,null,null,null,null,null,null,null,null,null,"",null,"","","","",null,null,null,null,null,null,null,null,null,null,null,null,null,null,null,null,null,"",null,null,null,null,null,null,null,null,null,null,null,null,null,null,null,null,null,"",null,"","","",""]
[null,null,null,null,null,null,null,null,null,null,null,null,null,null,null,null,"",null,null,null,null,null,null,null,null,null,null,null,null,null,null,null,null,null,"",null,"","","","",null,null,null,null,null,null,null,null,null,null,null,null,null,null,null,null,null,"",null,null,null,null,null,null,null,null,null,null,null,null,null,null,null,null,null,"",null,"","","","",null,null,null,null,null,null,null,null,null,null,null,null,null,null,null,null,null,"",null,null,null,null,null,null,null,null,null,null,null,null,null,null,null,null,null,"",null,"","","",""]
[null,null,null,null,null,null,null,null,null,null,null,null,null,null,null,null,"",null,null,null,null,null,null,null,null,null,null,null,null,null,null,null,null,null,"",null,"","","","",null,null,null,null,null,null,null,null,null,null,null,null,null,null,null,null,null,"",null,null,null,null,null,null,null,null,null,null,null,null,null,null,null,null,null,"",null,"","","","",null,null,null,null,null,null,null,null,null,null,null,null,null,null,null,null,null,"",null,null,null,null,null,null,null,null,null,null,null,null,null,null,null,null,null,"",null,"","","",""]
[null,null,null,null,null,null,null,null,null,null,null,null,null,null,null,null,"",null,null,null,null,null,null,null,null,null,null,null,null,null,null,null,null,null,"",null,"","","","",null,null,null,null,null,null,null,null,null,null,null,null,null,null,null,null,null,"",null,null,null,null,null,null,null,null,null,null,null,null,null,null,null,null,null,"",null,"","","","",null,null,null,null,null,null,null,null,null,null,null,null,null,null,null,null,null,"",null,null,null,null,null,null,null,null,null,null,null,null,null,null,null,null,null,"",null,"","","",""]
[null,null,null,null,null,null,null,null,null,null,null,null,null,null,null,null,"",null,null,null,null,null,null,null,null,null,null,null,null,null,null,null,null,null,"",null,"","","","",null,null,null,null,null,null,null,null,null,null,null,null,null,null,null,null,null,"",null,null,null,null,null,null,null,null,null,null,null,null,null,null,null,null,null,"",null,"","","","",null,null,null,null,null,null,null,null,null,null,null,null,null,null,null,null,null,"",null,null,null,null,null,null,null,null,null,null,null,null,null,null,null,null,null,"",null,"","","",""]
[null,null,null,null,null,null,null,null,null,null,null,null,null,null,null,null,"",null,null,null,null,null,null,null,null,null,null,null,null,null,null,null,null,null,"",null,{"$f":"IF(L362=\"\",\"\",IF(L362=\"c\",2,1))","v":""},{"$f":"IF(M362=\"\",\"\",IF(M362=\"s\",2,1))","v":""},{"$f":"IF(AD362=\"\",\"\",IF(AD362=\"c\",2,1))","v":""},{"$f":"IF(AE362=\"\",\"\",IF(AE362=\"s\",2,1))","v":""},null,null,null,null,null,null,null,null,null,null,null,null,null,null,null,null,null,"",null,null,null,null,null,null,null,null,null,null,null,null,null,null,null,null,null,"",null,"","","","",null,null,null,null,null,null,null,null,null,null,null,null,null,null,null,null,null,"",null,null,null,null,null,null,null,null,null,null,null,null,null,null,null,null,null,"",null,"","","",""]
[null,null,null,null,null,null,null,null,null,null,null,null,null,null,null,null,"",null,null,null,null,null,null,null,null,null,null,null,null,null,null,null,null,null,"",null,"","","","",null,null,null,null,null,null,null,null,null,null,null,null,null,null,null,null,null,"",null,null,null,null,null,null,null,null,null,null,null,null,null,null,null,null,null,"",null,"","","","",null,null,null,null,null,null,null,null,null,null,null,null,null,null,null,null,null,"",null,null,null,null,null,null,null,null,null,null,null,null,null,null,null,null,null,"",null,"","","",""]
[null,null,null,null,null,null,null,null,null,null,null,null,null,null,null,null,"",null,null,null,null,null,null,null,null,null,null,null,null,null,null,null,null,null,"",null,"","","","",null,null,null,null,null,null,null,null,null,null,null,null,null,null,null,null,null,"",null,null,null,null,null,null,null,null,null,null,null,null,null,null,null,null,null,"",null,"","","","",null,null,null,null,null,null,null,null,null,null,null,null,null,null,null,null,null,"",null,null,null,null,null,null,null,null,null,null,null,null,null,null,null,null,null,"",null,"","","",""]
[null,null,null,null,null,null,null,null,null,null,null,null,null,null,null,null,"",null,null,null,null,null,null,null,null,null,null,null,null,null,null,null,null,null,"",null,"","","","",null,null,null,null,null,null,null,null,null,null,null,null,null,null,null,null,null,"",null,null,null,null,null,null,null,null,null,null,null,null,null,null,null,null,null,"",null,"","","","",null,null,null,null,null,null,null,null,null,null,null,null,null,null,null,null,null,"",null,null,null,null,null,null,null,null,null,null,null,null,null,null,null,null,null,"",null,"","","",""]
[null,null,null,null,null,null,null,null,null,null,null,null,null,null,null,null,"",null,null,null,null,null,null,null,null,null,null,null,null,null,null,null,null,null,"",null,"","","","",null,null,null,null,null,null,null,null,null,null,null,null,null,null,null,null,null,"",null,null,null,null,null,null,null,null,null,null,null,null,null,null,null,null,null,"",null,"","","","",null,null,null,null,null,null,null,null,null,null,null,null,null,null,null,null,null,"",null,null,null,null,null,null,null,null,null,null,null,null,null,null,null,null,null,"",null,"","","",""]
[null,null,null,null,null,null,null,null,null,null,null,null,null,null,null,null,"",null,null,null,null,null,null,null,null,null,null,null,null,null,null,null,null,null,"",null,"","","","",null,null,null,null,null,null,null,null,null,null,null,null,null,null,null,null,null,"",null,null,null,null,null,null,null,null,null,null,null,null,null,null,null,null,null,"",null,"","","","",null,null,null,null,null,null,null,null,null,null,null,null,null,null,null,null,null,"",null,null,null,null,null,null,null,null,null,null,null,null,null,null,null,null,null,"",null,"","","",""]
[null,null,null,null,null,null,null,null,null,null,null,null,null,null,null,null,"",null,null,null,null,null,null,null,null,null,null,null,null,null,null,null,null,null,"",null,"","","","",null,null,null,null,null,null,null,null,null,null,null,null,null,null,null,null,null,"",null,null,null,null,null,null,null,null,null,null,null,null,null,null,null,null,null,"",null,"","","","",null,null,null,null,null,null,null,null,null,null,null,null,null,null,null,null,null,"",null,null,null,null,null,null,null,null,null,null,null,null,null,null,null,null,null,"",null,"","","",""]
[null,null,null,null,null,null,null,null,null,null,null,null,null,null,null,null,"",null,null,null,null,null,null,null,null,null,null,null,null,null,null,null,null,null,"",null,"","","","",null,null,null,null,null,null,null,null,null,null,null,null,null,null,null,null,null,"",null,null,null,null,null,null,null,null,null,null,null,null,null,null,null,null,null,"",null,"","","","",null,null,null,null,null,null,null,null,null,null,null,null,null,null,null,null,null,"",null,null,null,null,null,null,null,null,null,null,null,null,null,null,null,null,null,"",null,"","","",""]
[null,null,null,null,null,null,null,null,null,null,null,null,null,null,null,null,"",null,null,null,null,null,null,null,null,null,null,null,null,null,null,null,null,null,"",null,"","","","",null,null,null,null,null,null,null,null,null,null,null,null,null,null,null,null,null,"",null,null,null,null,null,null,null,null,null,null,null,null,null,null,null,null,null,"",null,"","","","",null,null,null,null,null,null,null,null,null,null,null,null,null,null,null,null,null,"",null,null,null,null,null,null,null,null,null,null,null,null,null,null,null,null,null,"",null,"","","",""]
[null,null,null,null,null,null,null,null,null,null,null,null,null,null,null,null,"",null,null,null,null,null,null,null,null,null,null,null,null,null,null,null,null,null,"",null,"","","","",null,null,null,null,null,null,null,null,null,null,null,null,null,null,null,null,null,"",null,null,null,null,null,null,null,null,null,null,null,null,null,null,null,null,null,"",null,"","","","",null,null,null,null,null,null,null,null,null,null,null,null,null,null,null,null,null,"",null,null,null,null,null,null,null,null,null,null,null,null,null,null,null,null,null,"",null,"","","",""]
[null,null,null,null,null,null,null,null,null,null,null,null,null,null,null,null,"",null,null,null,null,null,null,null,null,null,null,null,null,null,null,null,null,null,"",null,"","","","",null,null,null,null,null,null,null,null,null,null,null,null,null,null,null,null,null,"",null,null,null,null,null,null,null,null,null,null,null,null,null,null,null,null,null,"",null,"","","","",null,null,null,null,null,null,null,null,null,null,null,null,null,null,null,null,null,"",null,null,null,null,null,null,null,null,null,null,null,null,null,null,null,null,null,"",null,"","","",""]
[null,null,null,null,null,null,null,null,null,null,null,null,null,null,null,null,"",null,null,null,null,null,null,null,null,null,null,null,null,null,null,null,null,null,"",null,"","","","",null,null,null,null,null,null,null,null,null,null,null,null,null,null,null,null,null,"",null,null,null,null,null,null,null,null,null,null,null,null,null,null,null,null,null,"",null,"","","","",null,null,null,null,null,null,null,null,null,null,null,null,null,null,null,null,null,"",null,null,null,null,null,null,null,null,null,null,null,null,null,null,null,null,null,"",null,"","","",""]
[null,null,null,null,null,null,null,null,null,null,null,null,null,null,null,null,"",null,null,null,null,null,null,null,null,null,null,null,null,null,null,null,null,null,"",null,{"$f":"IF(L374=\"\",\"\",IF(L374=\"c\",2,1))","v":""},{"$f":"IF(M374=\"\",\"\",IF(M374=\"s\",2,1))","v":""},{"$f":"IF(AD374=\"\",\"\",IF(AD374=\"c\",2,1))","v":""},{"$f":"IF(AE374=\"\",\"\",IF(AE374=\"s\",2,1))","v":""},null,null,null,null,null,null,null,null,null,null,null,null,null,null,null,null,null,"",null,null,null,null,null,null,null,null,null,null,null,null,null,null,null,null,null,"",null,"","","","",null,null,null,null,null,null,null,null,null,null,null,null,null,null,null,null,null,"",null,null,null,null,null,null,null,null,null,null,null,null,null,null,null,null,null,"",null,"","","",""]
[null,null,null,null,null,null,null,null,null,null,null,null,null,null,null,null,"",null,null,null,null,null,null,null,null,null,null,null,null,null,null,null,null,null,"",null,"","","","",null,null,null,null,null,null,null,null,null,null,null,null,null,null,null,null,null,"",null,null,null,null,null,null,null,null,null,null,null,null,null,null,null,null,null,"",null,"","","","",null,null,null,null,null,null,null,null,null,null,null,null,null,null,null,null,null,"",null,null,null,null,null,null,null,null,null,null,null,null,null,null,null,null,null,"",null,"","","",""]
[null,null,null,null,null,null,null,null,null,null,null,null,null,null,null,null,"",null,null,null,null,null,null,null,null,null,null,null,null,null,null,null,null,null,"",null,"","","","",null,null,null,null,null,null,null,null,null,null,null,null,null,null,null,null,null,"",null,null,null,null,null,null,null,null,null,null,null,null,null,null,null,null,null,"",null,"","","","",null,null,null,null,null,null,null,null,null,null,null,null,null,null,null,null,null,"",null,null,null,null,null,null,null,null,null,null,null,null,null,null,null,null,null,"",null,"","","",""]
[null,null,null,null,null,null,null,null,null,null,null,null,null,null,null,null,"",null,null,null,null,null,null,null,null,null,null,null,null,null,null,null,null,null,"",null,"","","","",null,null,null,null,null,null,null,null,null,null,null,null,null,null,null,null,null,"",null,null,null,null,null,null,null,null,null,null,null,null,null,null,null,null,null,"",null,"","","","",null,null,null,null,null,null,null,null,null,null,null,null,null,null,null,null,null,"",null,null,null,null,null,null,null,null,null,null,null,null,null,null,null,null,null,"",null,"","","",""]
[null,null,null,null,null,null,null,null,null,null,null,null,null,null,null,null,"",null,null,null,null,null,null,null,null,null,null,null,null,null,null,null,null,null,"",null,"","","","",null,null,null,null,null,null,null,null,null,null,null,null,null,null,null,null,null,"",null,null,null,null,null,null,null,null,null,null,null,null,null,null,null,null,null,"",null,"","","","",null,null,null,null,null,null,null,null,null,null,null,null,null,null,null,null,null,"",null,null,null,null,null,null,null,null,null,null,null,null,null,null,null,null,null,"",null,"","","",""]
[null,null,null,null,null,null,null,null,null,null,null,null,null,null,null,null,"",null,null,null,null,null,null,null,null,null,null,null,null,null,null,null,null,null,"",null,"","","","",null,null,null,null,null,null,null,null,null,null,null,null,null,null,null,null,null,"",null,null,null,null,null,null,null,null,null,null,null,null,null,null,null,null,null,"",null,"","","","",null,null,null,null,null,null,null,null,null,null,null,null,null,null,null,null,null,"",null,null,null,null,null,null,null,null,null,null,null,null,null,null,null,null,null,"",null,"","","",""]
[null,null,null,null,null,null,null,null,null,null,null,null,null,null,null,null,"",null,null,null,null,null,null,null,null,null,null,null,null,null,null,null,null,null,"",null,"","","","",null,null,null,null,null,null,null,null,null,null,null,null,null,null,null,null,null,"",null,null,null,null,null,null,null,null,null,null,null,null,null,null,null,null,null,"",null,"","","","",null,null,null,null,null,null,null,null,null,null,null,null,null,null,null,null,null,"",null,null,null,null,null,null,null,null,null,null,null,null,null,null,null,null,null,"",null,"","","",""]
[null,null,null,null,null,null,null,null,null,null,null,null,null,null,null,null,"",null,null,null,null,null,null,null,null,null,null,null,null,null,null,null,null,null,"",null,"","","","",null,null,null,null,null,null,null,null,null,null,null,null,null,null,null,null,null,"",null,null,null,null,null,null,null,null,null,null,null,null,null,null,null,null,null,"",null,"","","","",null,null,null,null,null,null,null,null,null,null,null,null,null,null,null,null,null,"",null,null,null,null,null,null,null,null,null,null,null,null,null,null,null,null,null,"",null,"","","",""]
[null,null,null,null,null,null,null,null,null,null,null,null,null,null,null,null,"",null,null,null,null,null,null,null,null,null,null,null,null,null,null,null,null,null,"",null,"","","","",null,null,null,null,null,null,null,null,null,null,null,null,null,null,null,null,null,"",null,null,null,null,null,null,null,null,null,null,null,null,null,null,null,null,null,"",null,"","","","",null,null,null,null,null,null,null,null,null,null,null,null,null,null,null,null,null,"",null,null,null,null,null,null,null,null,null,null,null,null,null,null,null,null,null,"",null,"","","",""]
[null,null,null,null,null,null,null,null,null,null,null,null,null,null,null,null,"",null,null,null,null,null,null,null,null,null,null,null,null,null,null,null,null,null,"",null,"","","","",null,null,null,null,null,null,null,null,null,null,null,null,null,null,null,null,null,"",null,null,null,null,null,null,null,null,null,null,null,null,null,null,null,null,null,"",null,"","","","",null,null,null,null,null,null,null,null,null,null,null,null,null,null,null,null,null,"",null,null,null,null,null,null,null,null,null,null,null,null,null,null,null,null,null,"",null,"","","",""]
[null,null,null,null,null,null,null,null,null,null,null,null,null,null,null,null,"",null,null,null,null,null,null,null,null,null,null,null,null,null,null,null,null,null,"",null,"","","","",null,null,null,null,null,null,null,null,null,null,null,null,null,null,null,null,null,"",null,null,null,null,null,null,null,null,null,null,null,null,null,null,null,null,null,"",null,"","","","",null,null,null,null,null,null,null,null,null,null,null,null,null,null,null,null,null,"",null,null,null,null,null,null,null,null,null,null,null,null,null,null,null,null,null,"",null,"","","",""]
[null,null,null,null,null,null,null,null,null,null,null,null,null,null,null,null,"",null,null,null,null,null,null,null,null,null,null,null,null,null,null,null,null,null,"",null,"","","","",null,null,null,null,null,null,null,null,null,null,null,null,null,null,null,null,null,"",null,null,null,null,null,null,null,null,null,null,null,null,null,null,null,null,null,"",null,"","","","",null,null,null,null,null,null,null,null,null,null,null,null,null,null,null,null,null,"",null,null,null,null,null,null,null,null,null,null,null,null,null,null,null,null,null,"",null,"","","",""]
[null,null,null,null,null,null,null,null,null,null,null,null,null,null,null,null,"",null,null,null,null,null,null,null,null,null,null,null,null,null,null,null,null,null,"",null,"","","","",null,null,null,null,null,null,null,null,null,null,null,null,null,null,null,null,null,"",null,null,null,null,null,null,null,null,null,null,null,null,null,null,null,null,null,"",null,"","","","",null,null,null,null,null,null,null,null,null,null,null,null,null,null,null,null,null,"",null,null,null,null,null,null,null,null,null,null,null,null,null,null,null,null,null,"",null,"","","",""]
[null,null,null,null,null,null,null,null,null,null,null,null,null,null,null,null,"",null,null,null,null,null,null,null,null,null,null,null,null,null,null,null,null,null,"",null,"","","","",null,null,null,null,null,null,null,null,null,null,null,null,null,null,null,null,null,"",null,null,null,null,null,null,null,null,null,null,null,null,null,null,null,null,null,"",null,"","","","",null,null,null,null,null,null,null,null,null,null,null,null,null,null,null,null,null,"",null,null,null,null,null,null,null,null,null,null,null,null,null,null,null,null,null,"",null,"","","",""]
[null,null,null,null,null,null,null,null,null,null,null,null,null,null,null,null,"",null,null,null,null,null,null,null,null,null,null,null,null,null,null,null,null,null,"",null,"","","","",null,null,null,null,null,null,null,null,null,null,null,null,null,null,null,null,null,"",null,null,null,null,null,null,null,null,null,null,null,null,null,null,null,null,null,"",null,"","","","",null,null,null,null,null,null,null,null,null,null,null,null,null,null,null,null,null,"",null,null,null,null,null,null,null,null,null,null,null,null,null,null,null,null,null,"",null,"","","",""]
[null,null,null,null,null,null,null,null,null,null,null,null,null,null,null,null,"",null,null,null,null,null,null,null,null,null,null,null,null,null,null,null,null,null,"",null,"","","","",null,null,null,null,null,null,null,null,null,null,null,null,null,null,null,null,null,{"$f":"IF(BC389=\"\",\"\",BC389*BC$505)","v":""},null,null,null,null,null,null,null,null,null,null,null,null,null,null,null,null,null,"",null,"","","","",null,null,null,null,null,null,null,null,null,null,null,null,null,null,null,null,null,{"$f":"IF(CR389=\"\",\"\",CR389*CR$505)","v":""},null,null,null,null,null,null,null,null,null,null,null,null,null,null,null,null,null,"",null,"","","",""]
[null,null,null,null,null,null,null,null,null,null,null,null,null,null,null,null,{"$f":"IF(N390=\"\",\"\",IF(N390*N$505>100,100,N$505*N390))","v":""},null,null,null,null,null,null,null,null,null,null,null,null,null,null,null,null,null,{"$f":"IF(AF390=\"\",\"\",AF390*AF$505)","v":""},null,"","","","",null,null,null,null,null,null,null,null,null,null,null,null,null,null,null,null,null,"",null,null,null,null,null,null,null,null,null,null,null,null,null,null,null,null,null,{"$f":"IF(BU390=\"\",\"\",BU390*BU$505)","v":""},null,{"$f":"IF(BA390=\"\",\"\",IF(BA390=\"c\",2,1))","v":""},{"$f":"IF(BB390=\"\",\"\",IF(BB390=\"s\",2,1))","v":""},{"$f":"IF(BS390=\"\",\"\",IF(BS390=\"c\",2,1))","v":""},{"$f":"IF(BT390=\"\",\"\",IF(BT390=\"s\",2,1))","v":""},null,null,null,null,null,null,null,null,null,null,null,null,null,null,null,null,null,"",null,null,null,null,null,null,null,null,null,null,null,null,null,null,null,null,null,{"$f":"IF(DJ390=\"\",\"\",DJ390*DJ$505)","v":""},null,{"$f":"IF(CP390=\"\",\"\",IF(CP390=\"c\",2,1))","v":""},{"$f":"IF(CQ390=\"\",\"\",IF(CQ390=\"s\",2,1))","v":""},{"$f":"IF(DH390=\"\",\"\",IF(DH390=\"c\",2,1))","v":""},{"$f":"IF(DI390=\"\",\"\",IF(DI390=\"s\",2,1))","v":""}]
[null,null,null,null,null,null,null,null,null,null,null,null,null,null,null,null,"",null,null,null,null,null,null,null,null,null,null,null,null,null,null,null,null,null,"",null,"","","","",null,null,null,null,null,null,null,null,null,null,null,null,null,null,null,null,null,"",null,null,null,null,null,null,null,null,null,null,null,null,null,null,null,null,null,"",null,"","","","",null,null,null,null,null,null,null,null,null,null,null,null,null,null,null,null,null,"",null,null,null,null,null,null,null,null,null,null,null,null,null,null,null,null,null,"",null,"","","",""]
[null,null,null,null,null,null,null,null,null,null,null,null,null,null,null,null,"",null,null,null,null,null,null,null,null,null,null,null,null,null,null,null,null,null,"",null,"","","","",null,null,null,null,null,null,null,null,null,null,null,null,null,null,null,null,null,"",null,null,null,null,null,null,null,null,null,null,null,null,null,null,null,null,null,"",null,"","","","",null,null,null,null,null,null,null,null,null,null,null,null,null,null,null,null,null,"",null,null,null,null,null,null,null,null,null,null,null,null,null,null,null,null,null,"",null,"","","",""]
[null,null,null,null,null,null,null,null,null,null,null,null,null,null,null,null,"",null,null,null,null,null,null,null,null,null,null,null,null,null,null,null,null,null,"",null,"","","","",null,null,null,null,null,null,null,null,null,null,null,null,null,null,null,null,null,"",null,null,null,null,null,null,null,null,null,null,null,null,null,null,null,null,null,"",null,"","","","",null,null,null,null,null,null,null,null,null,null,null,null,null,null,null,null,null,"",null,null,null,null,null,null,null,null,null,null,null,null,null,null,null,null,null,"",null,"","","",""]
[null,null,null,null,null,null,null,null,null,null,null,null,null,null,null,null,"",null,null,null,null,null,null,null,null,null,null,null,null,null,null,null,null,null,"",null,"","","","",null,null,null,null,null,null,null,null,null,null,null,null,null,null,null,null,null,"",null,null,null,null,null,null,null,null,null,null,null,null,null,null,null,null,null,"",null,"","","","",null,null,null,null,null,null,null,null,null,null,null,null,null,null,null,null,null,"",null,null,null,null,null,null,null,null,null,null,null,null,null,null,null,null,null,"",null,"","","",""]
[null,null,null,null,null,null,null,null,null,null,null,null,null,null,null,null,"",null,null,null,null,null,null,null,null,null,null,null,null,null,null,null,null,null,"",null,"","","","",null,null,null,null,null,null,null,null,null,null,null,null,null,null,null,null,null,"",null,null,null,null,null,null,null,null,null,null,null,null,null,null,null,null,null,"",null,"","","","",null,null,null,null,null,null,null,null,null,null,null,null,null,null,null,null,null,"",null,null,null,null,null,null,null,null,null,null,null,null,null,null,null,null,null,"",null,"","","",""]
[null,null,null,null,null,null,null,null,null,null,null,null,null,null,null,null,"",null,null,null,null,null,null,null,null,null,null,null,null,null,null,null,null,null,"",null,"","","","",null,null,null,null,null,null,null,null,null,null,null,null,null,null,null,null,null,"",null,null,null,null,null,null,null,null,null,null,null,null,null,null,null,null,null,"",null,"","","","",null,null,null,null,null,null,null,null,null,null,null,null,null,null,null,null,null,"",null,null,null,null,null,null,null,null,null,null,null,null,null,null,null,null,null,"",null,"","","",""]
[null,null,null,null,null,null,null,null,null,null,null,null,null,null,null,null,"",null,null,null,null,null,null,null,null,null,null,null,null,null,null,null,null,null,"",null,"","","","",null,null,null,null,null,null,null,null,null,null,null,null,null,null,null,null,null,"",null,null,null,null,null,null,null,null,null,null,null,null,null,null,null,null,null,"",null,"","","","",null,null,null,null,null,null,null,null,null,null,null,null,null,null,null,null,null,"",null,null,null,null,null,null,null,null,null,null,null,null,null,null,null,null,null,"",null,"","","",""]
[null,null,null,null,null,null,null,null,null,null,null,null,null,null,null,null,"",null,null,null,null,null,null,null,null,null,null,null,null,null,null,null,null,null,"",null,"","","","",null,null,null,null,null,null,null,null,null,null,null,null,null,null,null,null,null,"",null,null,null,null,null,null,null,null,null,null,null,null,null,null,null,null,null,"",null,"","","","",null,null,null,null,null,null,null,null,null,null,null,null,null,null,null,null,null,"",null,null,null,null,null,null,null,null,null,null,null,null,null,null,null,null,null,"",null,"","","",""]
[null,null,null,null,null,null,null,null,null,null,null,null,null,null,null,null,"",null,null,null,null,null,null,null,null,null,null,null,null,null,null,null,null,null,"",null,"","","","",null,null,null,null,null,null,null,null,null,null,null,null,null,null,null,null,null,"",null,null,null,null,null,null,null,null,null,null,null,null,null,null,null,null,null,"",null,"","","","",null,null,null,null,null,null,null,null,null,null,null,null,null,null,null,null,null,"",null,null,null,null,null,null,null,null,null,null,null,null,null,null,null,null,null,"",null,"","","",""]
[null,null,null,null,null,null,null,null,null,null,null,null,null,null,null,null,"",null,null,null,null,null,null,null,null,null,null,null,null,null,null,null,null,null,"",null,"","","","",null,null,null,null,null,null,null,null,null,null,null,null,null,null,null,null,null,"",null,null,null,null,null,null,null,null,null,null,null,null,null,null,null,null,null,"",null,"","","","",null,null,null,null,null,null,null,null,null,null,null,null,null,null,null,null,null,"",null,null,null,null,null,null,null,null,null,null,null,null,null,null,null,null,null,"",null,"","","",""]
[null,null,null,null,null,null,null,null,null,null,null,null,null,null,null,null,"",null,null,null,null,null,null,null,null,null,null,null,null,null,null,null,null,null,"",null,"","","","",null,null,null,null,null,null,null,null,null,null,null,null,null,null,null,null,null,"",null,null,null,null,null,null,null,null,null,null,null,null,null,null,null,null,null,"",null,"","","","",null,null,null,null,null,null,null,null,null,null,null,null,null,null,null,null,null,"",null,null,null,null,null,null,null,null,null,null,null,null,null,null,null,null,null,"",null,"","","",""]
[null,null,null,null,null,null,null,null,null,null,null,null,null,null,null,null,"",null,null,null,null,null,null,null,null,null,null,null,null,null,null,null,null,null,"",null,"","","","",null,null,null,null,null,null,null,null,null,null,null,null,null,null,null,null,null,"",null,null,null,null,null,null,null,null,null,null,null,null,null,null,null,null,null,"",null,"","","","",null,null,null,null,null,null,null,null,null,null,null,null,null,null,null,null,null,"",null,null,null,null,null,null,null,null,null,null,null,null,null,null,null,null,null,"",null,"","","",""]
[null,null,null,null,null,null,null,null,null,null,null,null,null,null,null,null,"",null,null,null,null,null,null,null,null,null,null,null,null,null,null,null,null,null,"",null,"","","","",null,null,null,null,null,null,null,null,null,null,null,null,null,null,null,null,null,"",null,null,null,null,null,null,null,null,null,null,null,null,null,null,null,null,null,"",null,"","","","",null,null,null,null,null,null,null,null,null,null,null,null,null,null,null,null,null,"",null,null,null,null,null,null,null,null,null,null,null,null,null,null,null,null,null,"",null,"","","",""]
[null,null,null,null,null,null,null,null,null,null,null,null,null,null,null,null,"",null,null,null,null,null,null,null,null,null,null,null,null,null,null,null,null,null,"",null,"","","","",null,null,null,null,null,null,null,null,null,null,null,null,null,null,null,null,null,"",null,null,null,null,null,null,null,null,null,null,null,null,null,null,null,null,null,"",null,"","","","",null,null,null,null,null,null,null,null,null,null,null,null,null,null,null,null,null,"",null,null,null,null,null,null,null,null,null,null,null,null,null,null,null,null,null,"",null,"","","",""]
[null,null,null,null,null,null,null,null,null,null,null,null,null,null,null,null,"",null,null,null,null,null,null,null,null,null,null,null,null,null,null,null,null,null,"",null,"","","","",null,null,null,null,null,null,null,null,null,null,null,null,null,null,null,null,null,"",null,null,null,null,null,null,null,null,null,null,null,null,null,null,null,null,null,"",null,"","","","",null,null,null,null,null,null,null,null,null,null,null,null,null,null,null,null,null,"",null,null,null,null,null,null,null,null,null,null,null,null,null,null,null,null,null,"",null,"","","",""]
[null,null,null,null,null,null,null,null,null,null,null,null,null,null,null,null,"",null,null,null,null,null,null,null,null,null,null,null,null,null,null,null,null,null,"",null,"","","","",null,null,null,null,null,null,null,null,null,null,null,null,null,null,null,null,null,"",null,null,null,null,null,null,null,null,null,null,null,null,null,null,null,null,null,"",null,"","","","",null,null,null,null,null,null,null,null,null,null,null,null,null,null,null,null,null,"",null,null,null,null,null,null,null,null,null,null,null,null,null,null,null,null,null,"",null,"","","",""]
[null,null,null,null,null,null,null,null,null,null,null,null,null,null,null,null,"",null,null,null,null,null,null,null,null,null,null,null,null,null,null,null,null,null,"",null,"","","","",null,null,null,null,null,null,null,null,null,null,null,null,null,null,null,null,null,"",null,null,null,null,null,null,null,null,null,null,null,null,null,null,null,null,null,"",null,"","","","",null,null,null,null,null,null,null,null,null,null,null,null,null,null,null,null,null,"",null,null,null,null,null,null,null,null,null,null,null,null,null,null,null,null,null,"",null,"","","",""]
[null,null,null,null,null,null,null,null,null,null,null,null,null,null,null,null,"",null,null,null,null,null,null,null,null,null,null,null,null,null,null,null,null,null,"",null,"","","","",null,null,null,null,null,null,null,null,null,null,null,null,null,null,null,null,null,"",null,null,null,null,null,null,null,null,null,null,null,null,null,null,null,null,null,"",null,"","","","",null,null,null,null,null,null,null,null,null,null,null,null,null,null,null,null,null,"",null,null,null,null,null,null,null,null,null,null,null,null,null,null,null,null,null,"",null,"","","",""]
[null,null,null,null,null,null,null,null,null,null,null,null,null,null,null,null,"",null,null,null,null,null,null,null,null,null,null,null,null,null,null,null,null,null,"",null,"","","","",null,null,null,null,null,null,null,null,null,null,null,null,null,null,null,null,null,"",null,null,null,null,null,null,null,null,null,null,null,null,null,null,null,null,null,"",null,"","","","",null,null,null,null,null,null,null,null,null,null,null,null,null,null,null,null,null,"",null,null,null,null,null,null,null,null,null,null,null,null,null,null,null,null,null,"",null,"","","",""]
[null,null,null,null,null,null,null,null,null,null,null,null,null,null,null,null,"",null,null,null,null,null,null,null,null,null,null,null,null,null,null,null,null,null,"",null,"","","","",null,null,null,null,null,null,null,null,null,null,null,null,null,null,null,null,null,"",null,null,null,null,null,null,null,null,null,null,null,null,null,null,null,null,null,"",null,"","","","",null,null,null,null,null,null,null,null,null,null,null,null,null,null,null,null,null,"",null,null,null,null,null,null,null,null,null,null,null,null,null,null,null,null,null,"",null,"","","",""]
[null,null,null,null,null,null,null,null,null,null,null,null,null,null,null,null,"",null,null,null,null,null,null,null,null,null,null,null,null,null,null,null,null,null,"",null,"","","","",null,null,null,null,null,null,null,null,null,null,null,null,null,null,null,null,null,"",null,null,null,null,null,null,null,null,null,null,null,null,null,null,null,null,null,"",null,"","","","",null,null,null,null,null,null,null,null,null,null,null,null,null,null,null,null,null,"",null,null,null,null,null,null,null,null,null,null,null,null,null,null,null,null,null,"",null,"","","",""]
[null,null,null,null,null,null,null,null,null,null,null,null,null,null,null,null,"",null,null,null,null,null,null,null,null,null,null,null,null,null,null,null,null,null,"",null,"","","","",null,null,null,null,null,null,null,null,null,null,null,null,null,null,null,null,null,"",null,null,null,null,null,null,null,null,null,null,null,null,null,null,null,null,null,"",null,"","","","",null,null,null,null,null,null,null,null,null,null,null,null,null,null,null,null,null,"",null,null,null,null,null,null,null,null,null,null,null,null,null,null,null,null,null,"",null,"","","",""]
[null,null,null,null,null,null,null,null,null,null,null,null,null,null,null,null,"",null,null,null,null,null,null,null,null,null,null,null,null,null,null,null,null,null,"",null,"","","","",null,null,null,null,null,null,null,null,null,null,null,null,null,null,null,null,null,"",null,null,null,null,null,null,null,null,null,null,null,null,null,null,null,null,null,"",null,"","","","",null,null,null,null,null,null,null,null,null,null,null,null,null,null,null,null,null,"",null,null,null,null,null,null,null,null,null,null,null,null,null,null,null,null,null,"",null,"","","",""]
[null,null,null,null,null,null,null,null,null,null,null,null,null,null,null,null,"",null,null,null,null,null,null,null,null,null,null,null,null,null,null,null,null,null,"",null,"","","","",null,null,null,null,null,null,null,null,null,null,null,null,null,null,null,null,null,"",null,null,null,null,null,null,null,null,null,null,null,null,null,null,null,null,null,"",null,"","","","",null,null,null,null,null,null,null,null,null,null,null,null,null,null,null,null,null,"",null,null,null,null,null,null,null,null,null,null,null,null,null,null,null,null,null,"",null,"","","",""]
[null,null,null,null,null,null,null,null,null,null,null,null,null,null,null,null,"",null,null,null,null,null,null,null,null,null,null,null,null,null,null,null,null,null,"",null,"","","","",null,null,null,null,null,null,null,null,null,null,null,null,null,null,null,null,null,"",null,null,null,null,null,null,null,null,null,null,null,null,null,null,null,null,null,"",null,"","","","",null,null,null,null,null,null,null,null,null,null,null,null,null,null,null,null,null,"",null,null,null,null,null,null,null,null,null,null,null,null,null,null,null,null,null,"",null,"","","",""]
[null,null,null,null,null,null,null,null,null,null,null,null,null,null,null,null,"",null,null,null,null,null,null,null,null,null,null,null,null,null,null,null,null,null,"",null,"","","","",null,null,null,null,null,null,null,null,null,null,null,null,null,null,null,null,null,"",null,null,null,null,null,null,null,null,null,null,null,null,null,null,null,null,null,"",null,"","","","",null,null,null,null,null,null,null,null,null,null,null,null,null,null,null,null,null,"",null,null,null,null,null,null,null,null,null,null,null,null,null,null,null,null,null,"",null,"","","",""]
[null,null,null,null,null,null,null,null,null,null,null,null,null,null,null,null,"",null,null,null,null,null,null,null,null,null,null,null,null,null,null,null,null,null,"",null,"","","","",null,null,null,null,null,null,null,null,null,null,null,null,null,null,null,null,null,"",null,null,null,null,null,null,null,null,null,null,null,null,null,null,null,null,null,"",null,"","","","",null,null,null,null,null,null,null,null,null,null,null,null,null,null,null,null,null,"",null,null,null,null,null,null,null,null,null,null,null,null,null,null,null,null,null,"",null,"","","",""]
[null,null,null,null,null,null,null,null,null,null,null,null,null,null,null,null,"",null,null,null,null,null,null,null,null,null,null,null,null,null,null,null,null,null,"",null,"","","","",null,null,null,null,null,null,null,null,null,null,null,null,null,null,null,null,null,"",null,null,null,null,null,null,null,null,null,null,null,null,null,null,null,null,null,"",null,"","","","",null,null,null,null,null,null,null,null,null,null,null,null,null,null,null,null,null,"",null,null,null,null,null,null,null,null,null,null,null,null,null,null,null,null,null,"",null,"","","",""]
[null,null,null,null,null,null,null,null,null,null,null,null,null,null,null,null,"",null,null,null,null,null,null,null,null,null,null,null,null,null,null,null,null,null,"",null,"","","","",null,null,null,null,null,null,null,null,null,null,null,null,null,null,null,null,null,"",null,null,null,null,null,null,null,null,null,null,null,null,null,null,null,null,null,"",null,"","","","",null,null,null,null,null,null,null,null,null,null,null,null,null,null,null,null,null,"",null,null,null,null,null,null,null,null,null,null,null,null,null,null,null,null,null,"",null,"","","",""]
[null,null,null,null,null,null,null,null,null,null,null,null,null,null,null,null,"",null,null,null,null,null,null,null,null,null,null,null,null,null,null,null,null,null,"",null,"","","","",null,null,null,null,null,null,null,null,null,null,null,null,null,null,null,null,null,"",null,null,null,null,null,null,null,null,null,null,null,null,null,null,null,null,null,"",null,"","","","",null,null,null,null,null,null,null,null,null,null,null,null,null,null,null,null,null,"",null,null,null,null,null,null,null,null,null,null,null,null,null,null,null,null,null,"",null,"","","",""]
[null,null,null,null,null,null,null,null,null,null,null,null,null,null,null,null,"",null,null,null,null,null,null,null,null,null,null,null,null,null,null,null,null,null,"",null,"","","","",null,null,null,null,null,null,null,null,null,null,null,null,null,null,null,null,null,"",null,null,null,null,null,null,null,null,null,null,null,null,null,null,null,null,null,"",null,"","","","",null,null,null,null,null,null,null,null,null,null,null,null,null,null,null,null,null,"",null,null,null,null,null,null,null,null,null,null,null,null,null,null,null,null,null,"",null,"","","",""]
[null,null,null,null,null,null,null,null,null,null,null,null,null,null,null,null,"",null,null,null,null,null,null,null,null,null,null,null,null,null,null,null,null,null,"",null,"","","","",null,null,null,null,null,null,null,null,null,null,null,null,null,null,null,null,null,"",null,null,null,null,null,null,null,null,null,null,null,null,null,null,null,null,null,"",null,"","","","",null,null,null,null,null,null,null,null,null,null,null,null,null,null,null,null,null,"",null,null,null,null,null,null,null,null,null,null,null,null,null,null,null,null,null,"",null,"","","",""]
[null,null,null,null,null,null,null,null,null,null,null,null,null,null,null,null,"",null,null,null,null,null,null,null,null,null,null,null,null,null,null,null,null,null,"",null,"","","","",null,null,null,null,null,null,null,null,null,null,null,null,null,null,null,null,null,"",null,null,null,null,null,null,null,null,null,null,null,null,null,null,null,null,null,"",null,"","","","",null,null,null,null,null,null,null,null,null,null,null,null,null,null,null,null,null,"",null,null,null,null,null,null,null,null,null,null,null,null,null,null,null,null,null,"",null,"","","",""]
[null,null,null,null,null,null,null,null,null,null,null,null,null,null,null,null,"",null,null,null,null,null,null,null,null,null,null,null,null,null,null,null,null,null,"",null,"","","","",null,null,null,null,null,null,null,null,null,null,null,null,null,null,null,null,null,"",null,null,null,null,null,null,null,null,null,null,null,null,null,null,null,null,null,"",null,"","","","",null,null,null,null,null,null,null,null,null,null,null,null,null,null,null,null,null,"",null,null,null,null,null,null,null,null,null,null,null,null,null,null,null,null,null,"",null,"","","",""]
[null,null,null,null,null,null,null,null,null,null,null,null,null,null,null,null,"",null,null,null,null,null,null,null,null,null,null,null,null,null,null,null,null,null,"",null,"","","","",null,null,null,null,null,null,null,null,null,null,null,null,null,null,null,null,null,"",null,null,null,null,null,null,null,null,null,null,null,null,null,null,null,null,null,"",null,"","","","",null,null,null,null,null,null,null,null,null,null,null,null,null,null,null,null,null,"",null,null,null,null,null,null,null,null,null,null,null,null,null,null,null,null,null,"",null,"","","",""]
[null,null,null,null,null,null,null,null,null,null,null,null,null,null,null,null,"",null,null,null,null,null,null,null,null,null,null,null,null,null,null,null,null,null,"",null,"","","","",null,null,null,null,null,null,null,null,null,null,null,null,null,null,null,null,null,"",null,null,null,null,null,null,null,null,null,null,null,null,null,null,null,null,null,"",null,"","","","",null,null,null,null,null,null,null,null,null,null,null,null,null,null,null,null,null,"",null,null,null,null,null,null,null,null,null,null,null,null,null,null,null,null,null,"",null,"","","",""]
[null,null,null,null,null,null,null,null,null,null,null,null,null,null,null,null,"",null,null,null,null,null,null,null,null,null,null,null,null,null,null,null,null,null,"",null,"","","","",null,null,null,null,null,null,null,null,null,null,null,null,null,null,null,null,null,"",null,null,null,null,null,null,null,null,null,null,null,null,null,null,null,null,null,"",null,"","","","",null,null,null,null,null,null,null,null,null,null,null,null,null,null,null,null,null,"",null,null,null,null,null,null,null,null,null,null,null,null,null,null,null,null,null,"",null,"","","",""]
[null,null,null,null,null,null,null,null,null,null,null,null,null,null,null,null,"",null,null,null,null,null,null,null,null,null,null,null,null,null,null,null,null,null,"",null,"","","","",null,null,null,null,null,null,null,null,null,null,null,null,null,null,null,null,null,"",null,null,null,null,null,null,null,null,null,null,null,null,null,null,null,null,null,"",null,"","","","",null,null,null,null,null,null,null,null,null,null,null,null,null,null,null,null,null,"",null,null,null,null,null,null,null,null,null,null,null,null,null,null,null,null,null,"",null,"","","",""]
[null,null,null,null,null,null,null,null,null,null,null,null,null,null,null,null,"",null,null,null,null,null,null,null,null,null,null,null,null,null,null,null,null,null,"",null,"","","","",null,null,null,null,null,null,null,null,null,null,null,null,null,null,null,null,null,"",null,null,null,null,null,null,null,null,null,null,null,null,null,null,null,null,null,"",null,"","","","",null,null,null,null,null,null,null,null,null,null,null,null,null,null,null,null,null,"",null,null,null,null,null,null,null,null,null,null,null,null,null,null,null,null,null,"",null,"","","",""]
[null,null,null,null,null,null,null,null,null,null,null,null,null,null,null,null,"",null,null,null,null,null,null,null,null,null,null,null,null,null,null,null,null,null,"",null,"","","","",null,null,null,null,null,null,null,null,null,null,null,null,null,null,null,null,null,"",null,null,null,null,null,null,null,null,null,null,null,null,null,null,null,null,null,"",null,"","","","",null,null,null,null,null,null,null,null,null,null,null,null,null,null,null,null,null,"",null,null,null,null,null,null,null,null,null,null,null,null,null,null,null,null,null,"",null,"","","",""]
[null,null,null,null,null,null,null,null,null,null,null,null,null,null,null,null,"",null,null,null,null,null,null,null,null,null,null,null,null,null,null,null,null,null,"",null,"","","","",null,null,null,null,null,null,null,null,null,null,null,null,null,null,null,null,null,"",null,null,null,null,null,null,null,null,null,null,null,null,null,null,null,null,null,"",null,"","","","",null,null,null,null,null,null,null,null,null,null,null,null,null,null,null,null,null,"",null,null,null,null,null,null,null,null,null,null,null,null,null,null,null,null,null,"",null,"","","",""]
[null,null,null,null,null,null,null,null,null,null,null,null,null,null,null,null,"",null,null,null,null,null,null,null,null,null,null,null,null,null,null,null,null,null,"",null,"","","","",null,null,null,null,null,null,null,null,null,null,null,null,null,null,null,null,null,"",null,null,null,null,null,null,null,null,null,null,null,null,null,null,null,null,null,"",null,"","","","",null,null,null,null,null,null,null,null,null,null,null,null,null,null,null,null,null,"",null,null,null,null,null,null,null,null,null,null,null,null,null,null,null,null,null,"",null,"","","",""]
[null,null,null,null,null,null,null,null,null,null,null,null,null,null,null,null,"",null,null,null,null,null,null,null,null,null,null,null,null,null,null,null,null,null,"",null,"","","","",null,null,null,null,null,null,null,null,null,null,null,null,null,null,null,null,null,"",null,null,null,null,null,null,null,null,null,null,null,null,null,null,null,null,null,"",null,"","","","",null,null,null,null,null,null,null,null,null,null,null,null,null,null,null,null,null,"",null,null,null,null,null,null,null,null,null,null,null,null,null,null,null,null,null,"",null,"","","",""]
[null,null,null,null,null,null,null,null,null,null,null,null,null,null,null,null,"",null,null,null,null,null,null,null,null,null,null,null,null,null,null,null,null,null,"",null,"","","","",null,null,null,null,null,null,null,null,null,null,null,null,null,null,null,null,null,"",null,null,null,null,null,null,null,null,null,null,null,null,null,null,null,null,null,"",null,"","","","",null,null,null,null,null,null,null,null,null,null,null,null,null,null,null,null,null,"",null,null,null,null,null,null,null,null,null,null,null,null,null,null,null,null,null,"",null,"","","",""]
[null,null,null,null,null,null,null,null,null,null,null,null,null,null,null,null,"",null,null,null,null,null,null,null,null,null,null,null,null,null,null,null,null,null,"",null,"","","","",null,null,null,null,null,null,null,null,null,null,null,null,null,null,null,null,null,"",null,null,null,null,null,null,null,null,null,null,null,null,null,null,null,null,null,"",null,"","","","",null,null,null,null,null,null,null,null,null,null,null,null,null,null,null,null,null,"",null,null,null,null,null,null,null,null,null,null,null,null,null,null,null,null,null,"",null,"","","",""]
[null,null,null,null,null,null,null,null,null,null,null,null,null,null,null,null,"",null,null,null,null,null,null,null,null,null,null,null,null,null,null,null,null,null,"",null,"","","","",null,null,null,null,null,null,null,null,null,null,null,null,null,null,null,null,null,"",null,null,null,null,null,null,null,null,null,null,null,null,null,null,null,null,null,"",null,"","","","",null,null,null,null,null,null,null,null,null,null,null,null,null,null,null,null,null,"",null,null,null,null,null,null,null,null,null,null,null,null,null,null,null,null,null,"",null,"","","",""]
[null,null,null,null,null,null,null,null,null,null,null,null,null,null,null,null,"",null,null,null,null,null,null,null,null,null,null,null,null,null,null,null,null,null,"",null,"","","","",null,null,null,null,null,null,null,null,null,null,null,null,null,null,null,null,null,"",null,null,null,null,null,null,null,null,null,null,null,null,null,null,null,null,null,"",null,"","","","",null,null,null,null,null,null,null,null,null,null,null,null,null,null,null,null,null,"",null,null,null,null,null,null,null,null,null,null,null,null,null,null,null,null,null,"",null,"","","",""]
[null,null,null,null,null,null,null,null,null,null,null,null,null,null,null,null,"",null,null,null,null,null,null,null,null,null,null,null,null,null,null,null,null,null,"",null,{"$f":"IF(L438=\"\",\"\",IF(L438=\"c\",2,1))","v":""},{"$f":"IF(M438=\"\",\"\",IF(M438=\"s\",2,1))","v":""},{"$f":"IF(AD438=\"\",\"\",IF(AD438=\"c\",2,1))","v":""},{"$f":"IF(AE438=\"\",\"\",IF(AE438=\"s\",2,1))","v":""},null,null,null,null,null,null,null,null,null,null,null,null,null,null,null,null,null,"",null,null,null,null,null,null,null,null,null,null,null,null,null,null,null,null,null,"",null,"","","","",null,null,null,null,null,null,null,null,null,null,null,null,null,null,null,null,null,"",null,null,null,null,null,null,null,null,null,null,null,null,null,null,null,null,null,"",null,"","","",""]
[null,null,null,null,null,null,null,null,null,null,null,null,null,null,null,null,"",null,null,null,null,null,null,null,null,null,null,null,null,null,null,null,null,null,"",null,"","","","",null,null,null,null,null,null,null,null,null,null,null,null,null,null,null,null,null,"",null,null,null,null,null,null,null,null,null,null,null,null,null,null,null,null,null,"",null,"","","","",null,null,null,null,null,null,null,null,null,null,null,null,null,null,null,null,null,"",null,null,null,null,null,null,null,null,null,null,null,null,null,null,null,null,null,"",null,"","","",""]
[null,null,null,null,null,null,null,null,null,null,null,null,null,null,null,null,"",null,null,null,null,null,null,null,null,null,null,null,null,null,null,null,null,null,"",null,"","","","",null,null,null,null,null,null,null,null,null,null,null,null,null,null,null,null,null,"",null,null,null,null,null,null,null,null,null,null,null,null,null,null,null,null,null,"",null,"","","","",null,null,null,null,null,null,null,null,null,null,null,null,null,null,null,null,null,"",null,null,null,null,null,null,null,null,null,null,null,null,null,null,null,null,null,"",null,"","","",""]
[null,null,null,null,null,null,null,null,null,null,null,null,null,null,null,null,"",null,null,null,null,null,null,null,null,null,null,null,null,null,null,null,null,null,"",null,"","","","",null,null,null,null,null,null,null,null,null,null,null,null,null,null,null,null,null,"",null,null,null,null,null,null,null,null,null,null,null,null,null,null,null,null,null,"",null,"","","","",null,null,null,null,null,null,null,null,null,null,null,null,null,null,null,null,null,"",null,null,null,null,null,null,null,null,null,null,null,null,null,null,null,null,null,"",null,"","","",""]
[null,null,null,null,null,null,null,null,null,null,null,null,null,null,null,null,"",null,null,null,null,null,null,null,null,null,null,null,null,null,null,null,null,null,"",null,"","","","",null,null,null,null,null,null,null,null,null,null,null,null,null,null,null,null,null,"",null,null,null,null,null,null,null,null,null,null,null,null,null,null,null,null,null,"",null,"","","","",null,null,null,null,null,null,null,null,null,null,null,null,null,null,null,null,null,"",null,null,null,null,null,null,null,null,null,null,null,null,null,null,null,null,null,"",null,"","","",""]
[null,null,null,null,null,null,null,null,null,null,null,null,null,null,null,null,"",null,null,null,null,null,null,null,null,null,null,null,null,null,null,null,null,null,"",null,"","","","",null,null,null,null,null,null,null,null,null,null,null,null,null,null,null,null,null,"",null,null,null,null,null,null,null,null,null,null,null,null,null,null,null,null,null,"",null,"","","","",null,null,null,null,null,null,null,null,null,null,null,null,null,null,null,null,null,"",null,null,null,null,null,null,null,null,null,null,null,null,null,null,null,null,null,"",null,"","","",""]
[null,null,null,null,null,null,null,null,null,null,null,null,null,null,null,null,"",null,null,null,null,null,null,null,null,null,null,null,null,null,null,null,null,null,"",null,"","","","",null,null,null,null,null,null,null,null,null,null,null,null,null,null,null,null,null,"",null,null,null,null,null,null,null,null,null,null,null,null,null,null,null,null,null,"",null,"","","","",null,null,null,null,null,null,null,null,null,null,null,null,null,null,null,null,null,"",null,null,null,null,null,null,null,null,null,null,null,null,null,null,null,null,null,"",null,"","","",""]
[null,null,null,null,null,null,null,null,null,null,null,null,null,null,null,null,"",null,null,null,null,null,null,null,null,null,null,null,null,null,null,null,null,null,"",null,"","","","",null,null,null,null,null,null,null,null,null,null,null,null,null,null,null,null,null,"",null,null,null,null,null,null,null,null,null,null,null,null,null,null,null,null,null,"",null,"","","","",null,null,null,null,null,null,null,null,null,null,null,null,null,null,null,null,null,"",null,null,null,null,null,null,null,null,null,null,null,null,null,null,null,null,null,"",null,"","","",""]
[null,null,null,null,null,null,null,null,null,null,null,null,null,null,null,null,"",null,null,null,null,null,null,null,null,null,null,null,null,null,null,null,null,null,"",null,"","","","",null,null,null,null,null,null,null,null,null,null,null,null,null,null,null,null,null,"",null,null,null,null,null,null,null,null,null,null,null,null,null,null,null,null,null,"",null,"","","","",null,null,null,null,null,null,null,null,null,null,null,null,null,null,null,null,null,"",null,null,null,null,null,null,null,null,null,null,null,null,null,null,null,null,null,"",null,"","","",""]
[null,null,null,null,null,null,null,null,null,null,null,null,null,null,null,null,"",null,null,null,null,null,null,null,null,null,null,null,null,null,null,null,null,null,"",null,"","","","",null,null,null,null,null,null,null,null,null,null,null,null,null,null,null,null,null,"",null,null,null,null,null,null,null,null,null,null,null,null,null,null,null,null,null,"",null,"","","","",null,null,null,null,null,null,null,null,null,null,null,null,null,null,null,null,null,"",null,null,null,null,null,null,null,null,null,null,null,null,null,null,null,null,null,"",null,"","","",""]
[null,null,null,null,null,null,null,null,null,null,null,null,null,null,null,null,"",null,null,null,null,null,null,null,null,null,null,null,null,null,null,null,null,null,"",null,"","","","",null,null,null,null,null,null,null,null,null,null,null,null,null,null,null,null,null,"",null,null,null,null,null,null,null,null,null,null,null,null,null,null,null,null,null,"",null,"","","","",null,null,null,null,null,null,null,null,null,null,null,null,null,null,null,null,null,"",null,null,null,null,null,null,null,null,null,null,null,null,null,null,null,null,null,"",null,"","","",""]
[null,null,null,null,null,null,null,null,null,null,null,null,null,null,null,null,"",null,null,null,null,null,null,null,null,null,null,null,null,null,null,null,null,null,"",null,"","","","",null,null,null,null,null,null,null,null,null,null,null,null,null,null,null,null,null,"",null,null,null,null,null,null,null,null,null,null,null,null,null,null,null,null,null,"",null,"","","","",null,null,null,null,null,null,null,null,null,null,null,null,null,null,null,null,null,"",null,null,null,null,null,null,null,null,null,null,null,null,null,null,null,null,null,"",null,"","","",""]
[null,null,null,null,null,null,null,null,null,null,null,null,null,null,null,null,"",null,null,null,null,null,null,null,null,null,null,null,null,null,null,null,null,null,"",null,"","","","",null,null,null,null,null,null,null,null,null,null,null,null,null,null,null,null,null,"",null,null,null,null,null,null,null,null,null,null,null,null,null,null,null,null,null,"",null,"","","","",null,null,null,null,null,null,null,null,null,null,null,null,null,null,null,null,null,"",null,null,null,null,null,null,null,null,null,null,null,null,null,null,null,null,null,"",null,"","","",""]
[null,null,null,null,null,null,null,null,null,null,null,null,null,null,null,null,"",null,null,null,null,null,null,null,null,null,null,null,null,null,null,null,null,null,"",null,"","","","",null,null,null,null,null,null,null,null,null,null,null,null,null,null,null,null,null,"",null,null,null,null,null,null,null,null,null,null,null,null,null,null,null,null,null,"",null,"","","","",null,null,null,null,null,null,null,null,null,null,null,null,null,null,null,null,null,"",null,null,null,null,null,null,null,null,null,null,null,null,null,null,null,null,null,"",null,"","","",""]
[null,null,null,null,null,null,null,null,null,null,null,null,null,null,null,null,"",null,null,null,null,null,null,null,null,null,null,null,null,null,null,null,null,null,"",null,"","","","",null,null,null,null,null,null,null,null,null,null,null,null,null,null,null,null,null,"",null,null,null,null,null,null,null,null,null,null,null,null,null,null,null,null,null,"",null,"","","","",null,null,null,null,null,null,null,null,null,null,null,null,null,null,null,null,null,"",null,null,null,null,null,null,null,null,null,null,null,null,null,null,null,null,null,"",null,"","","",""]
[null,null,null,null,null,null,null,null,null,null,null,null,null,null,null,null,"",null,null,null,null,null,null,null,null,null,null,null,null,null,null,null,null,null,"",null,"","","","",null,null,null,null,null,null,null,null,null,null,null,null,null,null,null,null,null,{"$f":"IF(BC453=\"\",\"\",BC453*BC$505)","v":""},null,null,null,null,null,null,null,null,null,null,null,null,null,null,null,null,null,"",null,"","","","",null,null,null,null,null,null,null,null,null,null,null,null,null,null,null,null,null,{"$f":"IF(CR453=\"\",\"\",CR453*CR$505)","v":""},null,null,null,null,null,null,null,null,null,null,null,null,null,null,null,null,null,"",null,"","","",""]
[null,null,null,null,null,null,null,null,null,null,null,null,null,null,null,null,{"$f":"IF(N454=\"\",\"\",IF(N454*N$505>100,100,N$505*N454))","v":""},null,null,null,null,null,null,null,null,null,null,null,null,null,null,null,null,null,{"$f":"IF(AF454=\"\",\"\",AF454*AF$505)","v":""},null,"","","","",null,null,null,null,null,null,null,null,null,null,null,null,null,null,null,null,null,"",null,null,null,null,null,null,null,null,null,null,null,null,null,null,null,null,null,{"$f":"IF(BU454=\"\",\"\",BU454*BU$505)","v":""},null,{"$f":"IF(BA454=\"\",\"\",IF(BA454=\"c\",2,1))","v":""},{"$f":"IF(BB454=\"\",\"\",IF(BB454=\"s\",2,1))","v":""},{"$f":"IF(BS454=\"\",\"\",IF(BS454=\"c\",2,1))","v":""},{"$f":"IF(BT454=\"\",\"\",IF(BT454=\"s\",2,1))","v":""},null,null,null,null,null,null,null,null,null,null,null,null,null,null,null,null,null,"",null,null,null,null,null,null,null,null,null,null,null,null,null,null,null,null,null,{"$f":"IF(DJ454=\"\",\"\",DJ454*DJ$505)","v":""},null,{"$f":"IF(CP454=\"\",\"\",IF(CP454=\"c\",2,1))","v":""},{"$f":"IF(CQ454=\"\",\"\",IF(CQ454=\"s\",2,1))","v":""},{"$f":"IF(DH454=\"\",\"\",IF(DH454=\"c\",2,1))","v":""},{"$f":"IF(DI454=\"\",\"\",IF(DI454=\"s\",2,1))","v":""}]
[null,null,null,null,null,null,null,null,null,null,null,null,null,null,null,null,"",null,null,null,null,null,null,null,null,null,null,null,null,null,null,null,null,null,"",null,"","","","",null,null,null,null,null,null,null,null,null,null,null,null,null,null,null,null,null,"",null,null,null,null,null,null,null,null,null,null,null,null,null,null,null,null,null,"",null,"","","","",null,null,null,null,null,null,null,null,null,null,null,null,null,null,null,null,null,"",null,null,null,null,null,null,null,null,null,null,null,null,null,null,null,null,null,"",null,"","","",""]
[null,null,null,null,null,null,null,null,null,null,null,null,null,null,null,null,"",null,null,null,null,null,null,null,null,null,null,null,null,null,null,null,null,null,"",null,"","","","",null,null,null,null,null,null,null,null,null,null,null,null,null,null,null,null,null,"",null,null,null,null,null,null,null,null,null,null,null,null,null,null,null,null,null,"",null,"","","","",null,null,null,null,null,null,null,null,null,null,null,null,null,null,null,null,null,"",null,null,null,null,null,null,null,null,null,null,null,null,null,null,null,null,null,"",null,"","","",""]
[null,null,null,null,null,null,null,null,null,null,null,null,null,null,null,null,"",null,null,null,null,null,null,null,null,null,null,null,null,null,null,null,null,null,"",null,"","","","",null,null,null,null,null,null,null,null,null,null,null,null,null,null,null,null,null,"",null,null,null,null,null,null,null,null,null,null,null,null,null,null,null,null,null,"",null,"","","","",null,null,null,null,null,null,null,null,null,null,null,null,null,null,null,null,null,"",null,null,null,null,null,null,null,null,null,null,null,null,null,null,null,null,null,"",null,"","","",""]
[null,null,null,null,null,null,null,null,null,null,null,null,null,null,null,null,"",null,null,null,null,null,null,null,null,null,null,null,null,null,null,null,null,null,"",null,"","","","",null,null,null,null,null,null,null,null,null,null,null,null,null,null,null,null,null,"",null,null,null,null,null,null,null,null,null,null,null,null,null,null,null,null,null,"",null,"","","","",null,null,null,null,null,null,null,null,null,null,null,null,null,null,null,null,null,"",null,null,null,null,null,null,null,null,null,null,null,null,null,null,null,null,null,"",null,"","","",""]
[null,null,null,null,null,null,null,null,null,null,null,null,null,null,null,null,"",null,null,null,null,null,null,null,null,null,null,null,null,null,null,null,null,null,"",null,"","","","",null,null,null,null,null,null,null,null,null,null,null,null,null,null,null,null,null,"",null,null,null,null,null,null,null,null,null,null,null,null,null,null,null,null,null,"",null,"","","","",null,null,null,null,null,null,null,null,null,null,null,null,null,null,null,null,null,"",null,null,null,null,null,null,null,null,null,null,null,null,null,null,null,null,null,"",null,"","","",""]
[null,null,null,null,null,null,null,null,null,null,null,null,null,null,null,null,"",null,null,null,null,null,null,null,null,null,null,null,null,null,null,null,null,null,"",null,"","","","",null,null,null,null,null,null,null,null,null,null,null,null,null,null,null,null,null,"",null,null,null,null,null,null,null,null,null,null,null,null,null,null,null,null,null,"",null,"","","","",null,null,null,null,null,null,null,null,null,null,null,null,null,null,null,null,null,"",null,null,null,null,null,null,null,null,null,null,null,null,null,null,null,null,null,"",null,"","","",""]
[null,null,null,null,null,null,null,null,null,null,null,null,null,null,null,null,"",null,null,null,null,null,null,null,null,null,null,null,null,null,null,null,null,null,"",null,"","","","",null,null,null,null,null,null,null,null,null,null,null,null,null,null,null,null,null,"",null,null,null,null,null,null,null,null,null,null,null,null,null,null,null,null,null,"",null,"","","","",null,null,null,null,null,null,null,null,null,null,null,null,null,null,null,null,null,"",null,null,null,null,null,null,null,null,null,null,null,null,null,null,null,null,null,"",null,"","","",""]
[null,null,null,null,null,null,null,null,null,null,null,null,null,null,null,null,"",null,null,null,null,null,null,null,null,null,null,null,null,null,null,null,null,null,"",null,"","","","",null,null,null,null,null,null,null,null,null,null,null,null,null,null,null,null,null,"",null,null,null,null,null,null,null,null,null,null,null,null,null,null,null,null,null,"",null,"","","","",null,null,null,null,null,null,null,null,null,null,null,null,null,null,null,null,null,"",null,null,null,null,null,null,null,null,null,null,null,null,null,null,null,null,null,"",null,"","","",""]
[null,null,null,null,null,null,null,null,null,null,null,null,null,null,null,null,"",null,null,null,null,null,null,null,null,null,null,null,null,null,null,null,null,null,"",null,"","","","",null,null,null,null,null,null,null,null,null,null,null,null,null,null,null,null,null,"",null,null,null,null,null,null,null,null,null,null,null,null,null,null,null,null,null,"",null,"","","","",null,null,null,null,null,null,null,null,null,null,null,null,null,null,null,null,null,"",null,null,null,null,null,null,null,null,null,null,null,null,null,null,null,null,null,"",null,"","","",""]
[null,null,null,null,null,null,null,null,null,null,null,null,null,null,null,null,"",null,null,null,null,null,null,null,null,null,null,null,null,null,null,null,null,null,"",null,"","","","",null,null,null,null,null,null,null,null,null,null,null,null,null,null,null,null,null,"",null,null,null,null,null,null,null,null,null,null,null,null,null,null,null,null,null,"",null,"","","","",null,null,null,null,null,null,null,null,null,null,null,null,null,null,null,null,null,"",null,null,null,null,null,null,null,null,null,null,null,null,null,null,null,null,null,"",null,"","","",""]
[null,null,null,null,null,null,null,null,null,null,null,null,null,null,null,null,"",null,null,null,null,null,null,null,null,null,null,null,null,null,null,null,null,null,"",null,"","","","",null,null,null,null,null,null,null,null,null,null,null,null,null,null,null,null,null,"",null,null,null,null,null,null,null,null,null,null,null,null,null,null,null,null,null,"",null,"","","","",null,null,null,null,null,null,null,null,null,null,null,null,null,null,null,null,null,"",null,null,null,null,null,null,null,null,null,null,null,null,null,null,null,null,null,"",null,"","","",""]
[null,null,null,null,null,null,null,null,null,null,null,null,null,null,null,null,"",null,null,null,null,null,null,null,null,null,null,null,null,null,null,null,null,null,"",null,"","","","",null,null,null,null,null,null,null,null,null,null,null,null,null,null,null,null,null,"",null,null,null,null,null,null,null,null,null,null,null,null,null,null,null,null,null,"",null,"","","","",null,null,null,null,null,null,null,null,null,null,null,null,null,null,null,null,null,"",null,null,null,null,null,null,null,null,null,null,null,null,null,null,null,null,null,"",null,"","","",""]
[null,null,null,null,null,null,null,null,null,null,null,null,null,null,null,null,"",null,null,null,null,null,null,null,null,null,null,null,null,null,null,null,null,null,"",null,"","","","",null,null,null,null,null,null,null,null,null,null,null,null,null,null,null,null,null,"",null,null,null,null,null,null,null,null,null,null,null,null,null,null,null,null,null,"",null,"","","","",null,null,null,null,null,null,null,null,null,null,null,null,null,null,null,null,null,"",null,null,null,null,null,null,null,null,null,null,null,null,null,null,null,null,null,"",null,"","","",""]
[null,null,null,null,null,null,null,null,null,null,null,null,null,null,null,null,"",null,null,null,null,null,null,null,null,null,null,null,null,null,null,null,null,null,"",null,"","","","",null,null,null,null,null,null,null,null,null,null,null,null,null,null,null,null,null,"",null,null,null,null,null,null,null,null,null,null,null,null,null,null,null,null,null,"",null,"","","","",null,null,null,null,null,null,null,null,null,null,null,null,null,null,null,null,null,"",null,null,null,null,null,null,null,null,null,null,null,null,null,null,null,null,null,"",null,"","","",""]
[null,null,null,null,null,null,null,null,null,null,null,null,null,null,null,null,"",null,null,null,null,null,null,null,null,null,null,null,null,null,null,null,null,null,"",null,"","","","",null,null,null,null,null,null,null,null,null,null,null,null,null,null,null,null,null,"",null,null,null,null,null,null,null,null,null,null,null,null,null,null,null,null,null,"",null,"","","","",null,null,null,null,null,null,null,null,null,null,null,null,null,null,null,null,null,"",null,null,null,null,null,null,null,null,null,null,null,null,null,null,null,null,null,"",null,"","","",""]
[null,null,null,null,null,null,null,null,null,null,null,null,null,null,null,null,"",null,null,null,null,null,null,null,null,null,null,null,null,null,null,null,null,null,"",null,"","","","",null,null,null,null,null,null,null,null,null,null,null,null,null,null,null,null,null,"",null,null,null,null,null,null,null,null,null,null,null,null,null,null,null,null,null,"",null,"","","","",null,null,null,null,null,null,null,null,null,null,null,null,null,null,null,null,null,"",null,null,null,null,null,null,null,null,null,null,null,null,null,null,null,null,null,"",null,"","","",""]
[null,null,null,null,null,null,null,null,null,null,null,null,null,null,null,null,"",null,null,null,null,null,null,null,null,null,null,null,null,null,null,null,null,null,"",null,"","","","",null,null,null,null,null,null,null,null,null,null,null,null,null,null,null,null,null,"",null,null,null,null,null,null,null,null,null,null,null,null,null,null,null,null,null,"",null,"","","","",null,null,null,null,null,null,null,null,null,null,null,null,null,null,null,null,null,"",null,null,null,null,null,null,null,null,null,null,null,null,null,null,null,null,null,"",null,"","","",""]
[null,null,null,null,null,null,null,null,null,null,null,null,null,null,null,null,"",null,null,null,null,null,null,null,null,null,null,null,null,null,null,null,null,null,"",null,"","","","",null,null,null,null,null,null,null,null,null,null,null,null,null,null,null,null,null,"",null,null,null,null,null,null,null,null,null,null,null,null,null,null,null,null,null,"",null,"","","","",null,null,null,null,null,null,null,null,null,null,null,null,null,null,null,null,null,"",null,null,null,null,null,null,null,null,null,null,null,null,null,null,null,null,null,"",null,"","","",""]
[null,null,null,null,null,null,null,null,null,null,null,null,null,null,null,null,"",null,null,null,null,null,null,null,null,null,null,null,null,null,null,null,null,null,"",null,"","","","",null,null,null,null,null,null,null,null,null,null,null,null,null,null,null,null,null,"",null,null,null,null,null,null,null,null,null,null,null,null,null,null,null,null,null,"",null,"","","","",null,null,null,null,null,null,null,null,null,null,null,null,null,null,null,null,null,"",null,null,null,null,null,null,null,null,null,null,null,null,null,null,null,null,null,"",null,"","","",""]
[null,null,null,null,null,null,null,null,null,null,null,null,null,null,null,null,"",null,null,null,null,null,null,null,null,null,null,null,null,null,null,null,null,null,"",null,"","","","",null,null,null,null,null,null,null,null,null,null,null,null,null,null,null,null,null,"",null,null,null,null,null,null,null,null,null,null,null,null,null,null,null,null,null,"",null,"","","","",null,null,null,null,null,null,null,null,null,null,null,null,null,null,null,null,null,"",null,null,null,null,null,null,null,null,null,null,null,null,null,null,null,null,null,"",null,"","","",""]
[null,null,null,null,null,null,null,null,null,null,null,null,null,null,null,null,"",null,null,null,null,null,null,null,null,null,null,null,null,null,null,null,null,null,"",null,"","","","",null,null,null,null,null,null,null,null,null,null,null,null,null,null,null,null,null,"",null,null,null,null,null,null,null,null,null,null,null,null,null,null,null,null,null,"",null,"","","","",null,null,null,null,null,null,null,null,null,null,null,null,null,null,null,null,null,"",null,null,null,null,null,null,null,null,null,null,null,null,null,null,null,null,null,"",null,"","","",""]
[null,null,null,null,null,null,null,null,null,null,null,null,null,null,null,null,"",null,null,null,null,null,null,null,null,null,null,null,null,null,null,null,null,null,"",null,"","","","",null,null,null,null,null,null,null,null,null,null,null,null,null,null,null,null,null,"",null,null,null,null,null,null,null,null,null,null,null,null,null,null,null,null,null,"",null,"","","","",null,null,null,null,null,null,null,null,null,null,null,null,null,null,null,null,null,"",null,null,null,null,null,null,null,null,null,null,null,null,null,null,null,null,null,"",null,"","","",""]
[null,null,null,null,null,null,null,null,null,null,null,null,null,null,null,null,"",null,null,null,null,null,null,null,null,null,null,null,null,null,null,null,null,null,"",null,"","","","",null,null,null,null,null,null,null,null,null,null,null,null,null,null,null,null,null,"",null,null,null,null,null,null,null,null,null,null,null,null,null,null,null,null,null,"",null,"","","","",null,null,null,null,null,null,null,null,null,null,null,null,null,null,null,null,null,"",null,null,null,null,null,null,null,null,null,null,null,null,null,null,null,null,null,"",null,"","","",""]
[null,null,null,null,null,null,null,null,null,null,null,null,null,null,null,null,"",null,null,null,null,null,null,null,null,null,null,null,null,null,null,null,null,null,"",null,"","","","",null,null,null,null,null,null,null,null,null,null,null,null,null,null,null,null,null,"",null,null,null,null,null,null,null,null,null,null,null,null,null,null,null,null,null,"",null,"","","","",null,null,null,null,null,null,null,null,null,null,null,null,null,null,null,null,null,"",null,null,null,null,null,null,null,null,null,null,null,null,null,null,null,null,null,"",null,"","","",""]
[null,null,null,null,null,null,null,null,null,null,null,null,null,null,null,null,"",null,null,null,null,null,null,null,null,null,null,null,null,null,null,null,null,null,"",null,"","","","",null,null,null,null,null,null,null,null,null,null,null,null,null,null,null,null,null,"",null,null,null,null,null,null,null,null,null,null,null,null,null,null,null,null,null,"",null,"","","","",null,null,null,null,null,null,null,null,null,null,null,null,null,null,null,null,null,"",null,null,null,null,null,null,null,null,null,null,null,null,null,null,null,null,null,"",null,"","","",""]
[null,null,null,null,null,null,null,null,null,null,null,null,null,null,null,null,"",null,null,null,null,null,null,null,null,null,null,null,null,null,null,null,null,null,"",null,"","","","",null,null,null,null,null,null,null,null,null,null,null,null,null,null,null,null,null,"",null,null,null,null,null,null,null,null,null,null,null,null,null,null,null,null,null,"",null,"","","","",null,null,null,null,null,null,null,null,null,null,null,null,null,null,null,null,null,"",null,null,null,null,null,null,null,null,null,null,null,null,null,null,null,null,null,"",null,"","","",""]
[null,null,null,null,null,null,null,null,null,null,null,null,null,null,null,null,"",null,null,null,null,null,null,null,null,null,null,null,null,null,null,null,null,null,"",null,"","","","",null,null,null,null,null,null,null,null,null,null,null,null,null,null,null,null,null,"",null,null,null,null,null,null,null,null,null,null,null,null,null,null,null,null,null,"",null,"","","","",null,null,null,null,null,null,null,null,null,null,null,null,null,null,null,null,null,"",null,null,null,null,null,null,null,null,null,null,null,null,null,null,null,null,null,"",null,"","","",""]
[null,null,null,null,null,null,null,null,null,null,null,null,null,null,null,null,"",null,null,null,null,null,null,null,null,null,null,null,null,null,null,null,null,null,"",null,"","","","",null,null,null,null,null,null,null,null,null,null,null,null,null,null,null,null,null,"",null,null,null,null,null,null,null,null,null,null,null,null,null,null,null,null,null,"",null,"","","","",null,null,null,null,null,null,null,null,null,null,null,null,null,null,null,null,null,"",null,null,null,null,null,null,null,null,null,null,null,null,null,null,null,null,null,"",null,"","","",""]
[null,null,null,null,null,null,null,null,null,null,null,null,null,null,null,null,"",null,null,null,null,null,null,null,null,null,null,null,null,null,null,null,null,null,"",null,"","","","",null,null,null,null,null,null,null,null,null,null,null,null,null,null,null,null,null,"",null,null,null,null,null,null,null,null,null,null,null,null,null,null,null,null,null,"",null,"","","","",null,null,null,null,null,null,null,null,null,null,null,null,null,null,null,null,null,"",null,null,null,null,null,null,null,null,null,null,null,null,null,null,null,null,null,"",null,"","","",""]
[null,null,null,null,null,null,null,null,null,null,null,null,null,null,null,null,"",null,null,null,null,null,null,null,null,null,null,null,null,null,null,null,null,null,"",null,"","","","",null,null,null,null,null,null,null,null,null,null,null,null,null,null,null,null,null,"",null,null,null,null,null,null,null,null,null,null,null,null,null,null,null,null,null,"",null,"","","","",null,null,null,null,null,null,null,null,null,null,null,null,null,null,null,null,null,"",null,null,null,null,null,null,null,null,null,null,null,null,null,null,null,null,null,"",null,"","","",""]
[null,null,null,null,null,null,null,null,null,null,null,null,null,null,null,null,"",null,null,null,null,null,null,null,null,null,null,null,null,null,null,null,null,null,"",null,"","","","",null,null,null,null,null,null,null,null,null,null,null,null,null,null,null,null,null,"",null,null,null,null,null,null,null,null,null,null,null,null,null,null,null,null,null,"",null,"","","","",null,null,null,null,null,null,null,null,null,null,null,null,null,null,null,null,null,"",null,null,null,null,null,null,null,null,null,null,null,null,null,null,null,null,null,"",null,"","","",""]
[null,null,null,null,null,null,null,null,null,null,null,null,null,null,null,null,"",null,null,null,null,null,null,null,null,null,null,null,null,null,null,null,null,null,"",null,"","","","",null,null,null,null,null,null,null,null,null,null,null,null,null,null,null,null,null,"",null,null,null,null,null,null,null,null,null,null,null,null,null,null,null,null,null,"",null,"","","","",null,null,null,null,null,null,null,null,null,null,null,null,null,null,null,null,null,"",null,null,null,null,null,null,null,null,null,null,null,null,null,null,null,null,null,"",null,"","","",""]
[null,null,null,null,null,null,null,null,null,null,null,null,null,null,null,null,"",null,null,null,null,null,null,null,null,null,null,null,null,null,null,null,null,null,"",null,"","","","",null,null,null,null,null,null,null,null,null,null,null,null,null,null,null,null,null,"",null,null,null,null,null,null,null,null,null,null,null,null,null,null,null,null,null,"",null,"","","","",null,null,null,null,null,null,null,null,null,null,null,null,null,null,null,null,null,"",null,null,null,null,null,null,null,null,null,null,null,null,null,null,null,null,null,"",null,"","","",""]
[null,null,null,null,null,null,null,null,null,null,null,null,null,null,null,null,"",null,null,null,null,null,null,null,null,null,null,null,null,null,null,null,null,null,"",null,"","","","",null,null,null,null,null,null,null,null,null,null,null,null,null,null,null,null,null,"",null,null,null,null,null,null,null,null,null,null,null,null,null,null,null,null,null,"",null,"","","","",null,null,null,null,null,null,null,null,null,null,null,null,null,null,null,null,null,"",null,null,null,null,null,null,null,null,null,null,null,null,null,null,null,null,null,"",null,"","","",""]
[null,null,null,null,null,null,null,null,null,null,null,null,null,null,null,null,"",null,null,null,null,null,null,null,null,null,null,null,null,null,null,null,null,null,"",null,"","","","",null,null,null,null,null,null,null,null,null,null,null,null,null,null,null,null,null,"",null,null,null,null,null,null,null,null,null,null,null,null,null,null,null,null,null,"",null,"","","","",null,null,null,null,null,null,null,null,null,null,null,null,null,null,null,null,null,"",null,null,null,null,null,null,null,null,null,null,null,null,null,null,null,null,null,"",null,"","","",""]
[null,null,null,null,null,null,null,null,null,null,null,null,null,null,null,null,"",null,null,null,null,null,null,null,null,null,null,null,null,null,null,null,null,null,"",null,"","","","",null,null,null,null,null,null,null,null,null,null,null,null,null,null,null,null,null,"",null,null,null,null,null,null,null,null,null,null,null,null,null,null,null,null,null,"",null,"","","","",null,null,null,null,null,null,null,null,null,null,null,null,null,null,null,null,null,"",null,null,null,null,null,null,null,null,null,null,null,null,null,null,null,null,null,"",null,"","","",""]
[null,null,null,null,null,null,null,null,null,null,null,null,null,null,null,null,"",null,null,null,null,null,null,null,null,null,null,null,null,null,null,null,null,null,"",null,"","","","",null,null,null,null,null,null,null,null,null,null,null,null,null,null,null,null,null,"",null,null,null,null,null,null,null,null,null,null,null,null,null,null,null,null,null,"",null,"","","","",null,null,null,null,null,null,null,null,null,null,null,null,null,null,null,null,null,"",null,null,null,null,null,null,null,null,null,null,null,null,null,null,null,null,null,"",null,"","","",""]
[null,null,null,null,null,null,null,null,null,null,null,null,null,null,null,null,"",null,null,null,null,null,null,null,null,null,null,null,null,null,null,null,null,null,"",null,"","","","",null,null,null,null,null,null,null,null,null,null,null,null,null,null,null,null,null,"",null,null,null,null,null,null,null,null,null,null,null,null,null,null,null,null,null,"",null,"","","","",null,null,null,null,null,null,null,null,null,null,null,null,null,null,null,null,null,"",null,null,null,null,null,null,null,null,null,null,null,null,null,null,null,null,null,"",null,"","","",""]
[null,null,null,null,null,null,null,null,null,null,null,null,null,null,null,null,"",null,null,null,null,null,null,null,null,null,null,null,null,null,null,null,null,null,"",null,"","","","",null,null,null,null,null,null,null,null,null,null,null,null,null,null,null,null,null,"",null,null,null,null,null,null,null,null,null,null,null,null,null,null,null,null,null,"",null,"","","","",null,null,null,null,null,null,null,null,null,null,null,null,null,null,null,null,null,"",null,null,null,null,null,null,null,null,null,null,null,null,null,null,null,null,null,"",null,"","","",""]
[null,null,null,null,null,null,null,null,null,null,null,null,null,null,null,null,"",null,null,null,null,null,null,null,null,null,null,null,null,null,null,null,null,null,"",null,"","","","",null,null,null,null,null,null,null,null,null,null,null,null,null,null,null,null,null,"",null,null,null,null,null,null,null,null,null,null,null,null,null,null,null,null,null,"",null,"","","","",null,null,null,null,null,null,null,null,null,null,null,null,null,null,null,null,null,"",null,null,null,null,null,null,null,null,null,null,null,null,null,null,null,null,null,"",null,"","","",""]
[null,null,null,null,null,null,null,null,null,null,null,null,null,null,null,null,"",null,null,null,null,null,null,null,null,null,null,null,null,null,null,null,null,null,"",null,"","","","",null,null,null,null,null,null,null,null,null,null,null,null,null,null,null,null,null,"",null,null,null,null,null,null,null,null,null,null,null,null,null,null,null,null,null,"",null,"","","","",null,null,null,null,null,null,null,null,null,null,null,null,null,null,null,null,null,"",null,null,null,null,null,null,null,null,null,null,null,null,null,null,null,null,null,"",null,"","","",""]
[null,null,null,null,null,null,null,null,null,null,null,null,null,null,null,null,"",null,null,null,null,null,null,null,null,null,null,null,null,null,null,null,null,null,"",null,"","","","",null,null,null,null,null,null,null,null,null,null,null,null,null,null,null,null,null,"",null,null,null,null,null,null,null,null,null,null,null,null,null,null,null,null,null,"",null,"","","","",null,null,null,null,null,null,null,null,null,null,null,null,null,null,null,null,null,"",null,null,null,null,null,null,null,null,null,null,null,null,null,null,null,null,null,"",null,"","","",""]
[null,null,null,null,null,null,null,null,null,null,null,null,null,null,null,null,"",null,null,null,null,null,null,null,null,null,null,null,null,null,null,null,null,null,"",null,"","","","",null,null,null,null,null,null,null,null,null,null,null,null,null,null,null,null,null,"",null,null,null,null,null,null,null,null,null,null,null,null,null,null,null,null,null,"",null,"","","","",null,null,null,null,null,null,null,null,null,null,null,null,null,null,null,null,null,"",null,null,null,null,null,null,null,null,null,null,null,null,null,null,null,null,null,"",null,"","","",""]
[null,null,null,null,null,null,null,null,null,null,null,null,null,null,null,null,"",null,null,null,null,null,null,null,null,null,null,null,null,null,null,null,null,null,"",null,"","","","",null,null,null,null,null,null,null,null,null,null,null,null,null,null,null,null,null,"",null,null,null,null,null,null,null,null,null,null,null,null,null,null,null,null,null,"",null,"","","","",null,null,null,null,null,null,null,null,null,null,null,null,null,null,null,null,null,"",null,null,null,null,null,null,null,null,null,null,null,null,null,null,null,null,null,"",null,"","","",""]
[null,null,null,null,null,{"$error":"#DIV/0!"},null,null,null,null,null,null,null,null,null,null,"",null,null,null,null,null,null,null,null,null,null,null,null,null,null,null,null,null,"",null,"","","","",null,null,null,null,null,null,{"$error":"#DIV/0!"},null,null,null,null,null,null,null,null,null,null,"",null,null,null,null,null,null,{"$error":"#DIV/0!"},null,null,null,null,null,null,null,null,null,null,"",null,"","","","",null,null,null,null,null,null,null,null,null,null,null,null,null,null,null,null,null,"",null,null,null,null,null,null,null,null,null,null,null,null,null,null,null,null,null,"",null,"","","",""]
[null,null,null,null,null,{"$error":"#DIV/0!"},null,null,null,null,null,null,null,null,null,null,"",null,null,null,null,null,null,null,null,null,null,null,null,null,null,null,null,null,"",null,"","","","",null,null,null,null,null,null,{"$error":"#DIV/0!"},null,null,null,null,null,null,null,null,null,null,"",null,null,null,null,null,null,{"$error":"#DIV/0!"},null,null,null,null,null,null,null,null,null,null,"",null,"","","","",null,null,null,null,null,null,null,null,null,null,null,null,null,null,null,null,null,"",null,null,null,null,null,null,null,null,null,null,null,null,null,null,null,null,null,"",null,"","","",""]
[null,null,null,null,null,{"$error":"#DIV/0!"},null,null,null,null,null,null,null,null,null,null,"",null,null,null,null,null,null,null,null,null,null,null,null,null,null,null,null,null,"",null,"","","","",null,null,null,null,null,null,{"$error":"#DIV/0!"},null,null,null,null,null,null,null,null,null,null,"",null,null,null,null,null,null,{"$error":"#DIV/0!"},null,null,null,null,null,null,null,null,null,null,"",null,"","","","",null,null,null,null,null,null,null,null,null,null,null,null,null,null,null,null,null,"",null,null,null,null,null,null,null,null,null,null,null,null,null,null,null,null,null,"",null,"","","",""]
[null,null,null,null,null,{"$error":"#DIV/0!"},null,null,null,null,null,null,null,null,null,null,"",null,null,null,null,null,null,null,null,null,null,null,null,null,null,null,null,null,"",null,{"$f":"IF(L502=\"\",\"\",IF(L502=\"c\",2,1))","v":""},{"$f":"IF(M502=\"\",\"\",IF(M502=\"s\",2,1))","v":""},{"$f":"IF(AD502=\"\",\"\",IF(AD502=\"c\",2,1))","v":""},{"$f":"IF(AE502=\"\",\"\",IF(AE502=\"s\",2,1))","v":""},null,null,null,null,null,null,{"$error":"#DIV/0!"},null,null,null,null,null,null,null,null,null,null,"",null,null,null,null,null,null,{"$error":"#DIV/0!"},null,null,null,null,null,null,null,null,null,null,"",null,"","","","",null,null,null,null,null,null,null,null,null,null,null,null,null,null,null,null,null,"",null,null,null,null,null,null,null,null,null,null,null,null,null,null,null,null,null,"",null,"","","",""]
[null,null,null,null,null,{"$error":"#DIV/0!"},null,null,null,null,null,null,null,null,null,null,"",null,null,null,null,null,null,null,null,null,null,null,null,null,null,null,null,null,"",null,{"$f":"IF(L503=\"\",\"\",IF(L503=\"c\",2,1))","v":""},{"$f":"IF(M503=\"\",\"\",IF(M503=\"s\",2,1))","v":""},{"$f":"IF(AD503=\"\",\"\",IF(AD503=\"c\",2,1))","v":""},{"$f":"IF(AE503=\"\",\"\",IF(AE503=\"s\",2,1))","v":""},null,null,null,null,null,null,{"$error":"#DIV/0!"},null,null,null,null,null,null,null,null,null,null,"",null,null,null,null,null,null,{"$error":"#DIV/0!"},null,null,null,null,null,null,null,null,null,null,"",null,"","","","",null,null,null,null,null,null,null,null,null,null,null,null,null,null,null,null,null,"",null,null,null,null,null,null,null,null,null,null,null,null,null,null,null,null,null,"",null,"","","",""]
[null,null,null,"Averages",{"$f":"AVERAGE(E5:E503)/5*100","v":{"$error":"#DIV/0!"}},{"$f":"AVERAGE(F5:F503)","v":{"$error":"#DIV/0!"}},{"$f":"AVERAGE(G5:G503)","v":{"$error":"#DIV/0!"}},{"$f":"AVERAGE(H5:H503)","v":{"$error":"#DIV/0!"}},{"$f":"AVERAGE(I5:I503)","v":{"$error":"#DIV/0!"}},null,{"$f":"AVERAGE(K5:K503)","v":{"$error":"#DIV/0!"}},{"$f":"Comp!N5","v":""},{"$f":"Comp!M5","v":""},{"$f":"AVERAGE(N5:N503)","v":{"$error":"#DIV/0!"}},{"$f":"AVERAGE(O5:O503)","v":{"$error":"#DIV/0!"}},{"$f":"AVERAGE(P5:P503)","v":{"$error":"#DIV/0!"}},{"$f":"AVERAGE(Q5:Q503)","v":{"$error":"#DIV/0!"}},null,null,null,null,"Averages",{"$f":"AVERAGE(W5:W503)/5*100","v":{"$error":"#DIV/0!"}},{"$f":"AVERAGE(X5:X503)","v":{"$error":"#DIV/0!"}},{"$f":"AVERAGE(Y5:Y503)","v":{"$error":"#DIV/0!"}},{"$f":"AVERAGE(Z5:Z503)","v":{"$error":"#DIV/0!"}},{"$f":"AVERAGE(AA5:AA503)","v":{"$error":"#DIV/0!"}},null,{"$f":"AVERAGE(AC5:AC503)","v":{"$error":"#DIV/0!"}},{"$f":"Comp!N6","v":""},{"$f":"Comp!M6","v":""},{"$f":"AVERAGE(AF5:AF503)","v":{"$error":"#DIV/0!"}},{"$f":"AVERAGE(AG5:AG503)","v":{"$error":"#DIV/0!"}},{"$f":"AVERAGE(AH5:AH503)","v":{"$error":"#DIV/0!"}},{"$f":"AVERAGE(AI5:AI503)","v":{"$error":"#DIV/0!"}},null,null,null,null,null,null,null,null,null,"Averages",{"$f":"AVERAGE(AT5:AT503)/5*100","v":{"$error":"#DIV/0!"}},{"$f":"AVERAGE(AU5:AU503)","v":{"$error":"#DIV/0!"}},{"$f":"AVERAGE(AV5:AV503)","v":{"$error":"#DIV/0!"}},{"$f":"AVERAGE(AW5:AW503)","v":{"$error":"#DIV/0!"}},{"$f":"AVERAGE(AX5:AX503)","v":{"$error":"#DIV/0!"}},null,{"$f":"AVERAGE(AZ5:AZ503)","v":{"$error":"#DIV/0!"}},{"$f":"Comp!N7","v":""},{"$f":"Comp!M7","v":""},{"$f":"AVERAGE(BC5:BC503)","v":{"$error":"#DIV/0!"}},{"$f":"AVERAGE(BD5:BD503)","v":{"$error":"#DIV/0!"}},{"$f":"AVERAGE(BE5:BE503)","v":{"$error":"#DIV/0!"}},{"$f":"AVERAGE(BF5:BF503)","v":{"$error":"#DIV/0!"}},null,null,null,null,"Averages",{"$f":"AVERAGE(BL5:BL503)/5*100","v":{"$error":"#DIV/0!"}},{"$f":"AVERAGE(BM5:BM503)","v":{"$error":"#DIV/0!"}},{"$f":"AVERAGE(BN5:BN503)","v":{"$error":"#DIV/0!"}},{"$f":"AVERAGE(BO5:BO503)","v":{"$error":"#DIV/0!"}},{"$f":"AVERAGE(BP5:BP503)","v":{"$error":"#DIV/0!"}},null,{"$f":"AVERAGE(BR5:BR503)","v":{"$error":"#DIV/0!"}},{"$f":"Comp!N8","v":""},{"$f":"Comp!M8","v":""},{"$f":"AVERAGE(BU5:BU503)","v":{"$error":"#DIV/0!"}},{"$f":"AVERAGE(BV5:BV503)","v":{"$error":"#DIV/0!"}},{"$f":"AVERAGE(BW5:BW503)","v":{"$error":"#DIV/0!"}},{"$f":"AVERAGE(BX5:BX503)","v":{"$error":"#DIV/0!"}},null,null,null,null,null,null,null,null,null,"Averages",{"$f":"AVERAGE(CI5:CI503)/5*100","v":{"$error":"#DIV/0!"}},{"$f":"AVERAGE(CJ5:CJ503)","v":{"$error":"#DIV/0!"}},{"$f":"AVERAGE(CK5:CK503)","v":{"$error":"#DIV/0!"}},{"$f":"AVERAGE(CL5:CL503)","v":{"$error":"#DIV/0!"}},{"$f":"AVERAGE(CM5:CM503)","v":{"$error":"#DIV/0!"}},null,{"$f":"AVERAGE(CO5:CO503)","v":{"$error":"#DIV/0!"}},{"$f":"Comp!N9","v":0},{"$f":"Comp!M9","v":0},{"$f":"AVERAGE(CR5:CR503)","v":{"$error":"#DIV/0!"}},{"$f":"AVERAGE(CS5:CS503)","v":{"$error":"#DIV/0!"}},{"$f":"AVERAGE(CT5:CT503)","v":{"$error":"#DIV/0!"}},{"$f":"AVERAGE(CU5:CU503)","v":{"$error":"#DIV/0!"}},null,null,null,null,"Averages",{"$f":"AVERAGE(DA5:DA503)/5*100","v":{"$error":"#DIV/0!"}},{"$f":"AVERAGE(DB5:DB503)","v":{"$error":"#DIV/0!"}},{"$f":"AVERAGE(DC5:DC503)","v":{"$error":"#DIV/0!"}},{"$f":"AVERAGE(DD5:DD503)","v":{"$error":"#DIV/0!"}},{"$f":"AVERAGE(DE5:DE503)","v":{"$error":"#DIV/0!"}},null,{"$f":"AVERAGE(DG5:DG503)","v":{"$error":"#DIV/0!"}},{"$f":"Comp!N10","v":0},{"$f":"Comp!M10","v":0},{"$f":"AVERAGE(DJ5:DJ503)","v":{"$error":"#DIV/0!"}},{"$f":"AVERAGE(DK5:DK503)","v":{"$error":"#DIV/0!"}},{"$f":"AVERAGE(DL5:DL503)","v":{"$error":"#DIV/0!"}},{"$f":"AVERAGE(DM5:DM503)","v":{"$error":"#DIV/0!"}}]
[null,null,null,null,"WOODY DATA - FREQUENCY",null,null,null,null,null,"Composition:",{"$f":"COUNTIF(L5:L503,\"c\")/COUNTA(L5:L503)","v":{"$error":"#DIV/0!"}},{"$f":"COUNTIF(M5:M503,\"s\")/COUNTA(M5:M503)","v":{"$error":"#DIV/0!"}},{"$f":"Comp!C17/GetData!N504","v":{"$error":"#VALUE!"}},"Modifier based on capability group",null,null,null,null,null,null,null,null,null,null,null,null,null,"Composition:",{"$f":"COUNTIF(AD5:AD503,\"c\")/COUNTA(AD5:AD503)","v":0},{"$f":"COUNTIF(AE5:AE503,\"s\")/COUNTA(AE5:AE503)","v":0},{"$f":"Comp!C18/GetData!AF504","v":{"$error":"#VALUE!"}},"Modifier based on capability group",null,null,null,null,null,null,null,null,null,null,null,null,"WOODY DATA - FREQUENCY",null,null,null,null,null,"Composition:",{"$f":"COUNTIF(BA5:BA503,\"c\")/COUNTA(BA5:BA503)","v":{"$error":"#DIV/0!"}},{"$f":"COUNTIF(BB5:BB503,\"s\")/COUNTA(BB5:BB503)","v":{"$error":"#DIV/0!"}},{"$f":"Comp!C19/GetData!BC504","v":{"$error":"#VALUE!"}},"Modifier based on capability group",null,null,null,null,null,null,null,null,null,null,null,null,null,"Composition:",{"$f":"COUNTIF(BS5:BS503,\"c\")/COUNTA(BS5:BS503)","v":{"$error":"#DIV/0!"}},{"$f":"COUNTIF(BT5:BT503,\"s\")/COUNTA(BT5:BT503)","v":{"$error":"#DIV/0!"}},{"$f":"Comp!C20/GetData!BU504","v":{"$error":"#VALUE!"}},"Modifier based on capability group",null,null,null,null,null,null,null,null,null,null,null,null,"WOODY DATA - FREQUENCY",null,null,null,null,null,"Composition:",{"$f":"COUNTIF(CP5:CP503,\"c\")/COUNTA(CP5:CP503)","v":{"$error":"#DIV/0!"}},{"$f":"COUNTIF(CQ5:CQ503,\"s\")/COUNTA(CQ5:CQ503)","v":{"$error":"#DIV/0!"}},{"$f":"Comp!C21/GetData!CR504","v":{"$error":"#DIV/0!"}},"Modifier based on capability group",null,null,null,null,null,null,null,null,null,null,null,null,null,"Composition:",{"$f":"COUNTIF(DH5:DH503,\"c\")/COUNTA(DH5:DH503)","v":0},{"$f":"COUNTIF(DI5:DI503,\"s\")/COUNTA(DI5:DI503)","v":0},{"$f":"Comp!C22/GetData!DJ504","v":{"$error":"#DIV/0!"}},"Modifier based on capability group"]
[null,null,null,null,"WOODY COMPOSTION",null,0,null,null,null,null,null,null,"","","",null,null,null,null,null,null,"WOODY DATA - FREQUENCY",null,0,null,null,null,null,null,null,null,null,null,null,null,null,null,null,null,null,null,null,null,null,"WOODY COMPOSTION",null,0,null,null,null,null,null,null,"","","",null,null,null,null,null,null,"WOODY DATA - FREQUENCY",null,0,null,null,null,null,null,null,null,null,null,null,null,null,null,null,null,null,null,null,null,null,"WOODY COMPOSTION",null,0,null,null,null,null,null,null,"","","",null,null,null,null,null,null,"WOODY DATA - FREQUENCY",null,0]
[null,null,null,null,"WOODY USE",null,{"$error":"#DIV/0!"},null,null,null,null,null,null,null,null,null,null,null,null,null,null,null,"WOODY COMPOSTION",null,{"$error":"#DIV/0!"},null,null,null,null,null,null,null,null,null,null,null,null,null,null,null,null,null,null,null,null,"WOODY USE",null,{"$error":"#DIV/0!"},null,null,null,null,null,null,null,null,null,null,null,null,null,null,null,"WOODY COMPOSTION",null,{"$error":"#DIV/0!"},null,null,null,null,null,null,null,null,null,null,null,null,null,null,null,null,null,null,null,null,"WOODY USE",null,{"$error":"#DIV/0!"},null,null,null,null,null,null,null,null,null,null,null,null,null,null,null,"WOODY COMPOSTION",null,{"$error":"#DIV/0!"}]
[null,null,null,null,"SEEDLINGS",null,"",null,null,null,null,null,null,null,null,null,null,null,null,null,null,null,"WOODY USE",null,"",null,null,null,null,null,null,null,null,null,null,null,null,null,null,null,null,null,null,null,null,"SEEDLINGS",null,"",null,null,null,null,null,null,null,null,null,null,null,null,null,null,null,"WOODY USE",null,"",null,null,null,null,null,null,null,null,null,null,null,null,null,null,null,null,null,null,null,null,"SEEDLINGS",null,"",null,null,null,null,null,null,null,null,null,null,null,null,null,null,null,"WOODY USE",null,""]
[null,null,null,null,"YOUNG",null,0,null,null,null,null,null,null,null,null,null,null,null,null,null,null,null,"SEEDLINGS",null,0,null,null,null,null,null,null,null,null,null,null,null,null,null,null,null,null,null,null,null,null,"YOUNG",null,0,null,null,null,null,null,null,null,null,null,null,null,null,null,null,null,"SEEDLINGS",null,0,null,null,null,null,null,null,null,null,null,null,null,null,null,null,null,null,null,null,null,null,"YOUNG",null,0,null,null,null,null,null,null,null,null,null,null,null,null,null,null,null,"SEEDLINGS",null,0]
[null,null,null,null,"MATURE",null,0,null,null,null,null,null,null,null,null,null,null,null,null,null,null,null,"YOUNG",null,0,null,null,null,null,null,null,null,null,null,null,null,null,null,null,null,null,null,null,null,null,"MATURE",null,0,null,null,null,null,null,null,null,null,null,null,null,null,null,null,null,"YOUNG",null,0,null,null,null,null,null,null,null,null,null,null,null,null,null,null,null,null,null,null,null,null,"MATURE",null,0,null,null,null,null,null,null,null,null,null,null,null,null,null,null,null,"YOUNG",null,0]
[null,null,null,null,"RHIZOMATOUS",null,0,null,null,null,null,null,null,null,null,null,null,null,null,null,null,null,"MATURE",null,0,null,null,null,null,null,null,null,null,null,null,null,null,null,null,null,null,null,null,null,null,"RHIZOMATOUS",null,0,null,null,null,null,null,null,null,null,null,null,null,null,null,null,null,"MATURE",null,0,null,null,null,null,null,null,null,null,null,null,null,null,null,null,null,null,null,null,null,null,"RHIZOMATOUS",null,"",null,null,null,null,null,null,null,null,null,null,null,null,null,null,null,"MATURE",null,""]
[null,null,null,null,null,null,null,null,null,null,null,null,null,null,null,null,null,null,null,null,null,null,"RHIZOMATOUS",null,null,null,null,null,null,null,null,null,null,null,null,null,null,null,null,null,null,null,null,null,null,null,null,null,null,null,null,null,null,null,null,null,null,null,null,null,null,null,null,"RHIZOMATOUS",null,null,null,null,null,null,null,null,null,null,null,null,null,null,null,null,null,null,null,null,null,null,null,null,null,null,null,null,null,null,null,null,null,null,null,null,null,null,null,null,"RHIZOMATOUS"]
[]
[]
[]
[]
[]
[]
[]
[]
[]
[]
[]
[]
[]
[]
[]
[]
[]
[]
[]
[]
[]
[]
[]
[]
[]
[]
[]
[]
[null,null,null,null,null,null,null,null,null,null,null,null,null,null,null,null,null,null,null,null,null,null,null,null,null,null,{"$f":"STDEV(AA5:AA503)","v":{"$error":"#DIV/0!"}},null,null,null,null,null,null,null,null,null,null,null,null,null,null,null,null,null,null,null,null,null,null,null,null,null,null,null,null,null,null,null,null,null,null,null,null,null,null,null,null,{"$f":"STDEV(BP5:BP503)","v":{"$error":"#DIV/0!"}},null,null,null,null,null,null,null,null,null,null,null,null,null,null,null,null,null,null,null,null,null,null,null,null,null,null,null,null,null,null,null,null,null,null,null,null,null,null,null,null,{"$f":"STDEV(DE5:DE503)","v":{"$error":"#DIV/0!"}}]
[null,null,null,"Count",{"$f":"COUNT(E5:E503)","v":0},{"$f":"COUNT(F5:F503)","v":0},{"$f":"COUNT(G5:G503)","v":0},{"$f":"COUNT(H5:H503)","v":0},{"$f":"COUNT(I5:I503)","v":0},null,{"$f":"COUNT(K5:K503)","v":0},{"$f":"COUNTIF(L5:L503,\">\"\"\")","v":0},{"$f":"COUNTIF(M5:M503,\">\"\"\")","v":0},{"$f":"COUNT(N5:N503)","v":0},{"$f":"COUNT(O5:O503)","v":0},{"$f":"COUNT(P5:P503)","v":0},{"$f":"COUNT(Q5:Q503)","v":0},null,null,null,null,"Count",{"$f":"COUNT(W5:W503)","v":0},{"$f":"COUNT(X5:X503)","v":0},{"$f":"COUNT(Y5:Y503)","v":0},{"$f":"COUNT(Z5:Z503)","v":0},{"$f":"COUNT(AA5:AA503)","v":0},null,{"$f":"COUNT(AC5:AC503)","v":0},{"$f":"COUNTIF(AD5:AD503,\">\"\"\")","v":0},{"$f":"COUNTIF(AE5:AE503,\">\"\"\")","v":0},{"$f":"COUNT(AF5:AF503)","v":0},{"$f":"COUNT(AG5:AG503)","v":0},{"$f":"COUNT(AH5:AH503)","v":0},{"$f":"COUNT(AI5:AI503)","v":0},null,null,null,null,null,null,null,null,null,"Count",{"$f":"COUNT(AT5:AT503)","v":0},{"$f":"COUNT(AU5:AU503)","v":0},{"$f":"COUNT(AV5:AV503)","v":0},{"$f":"COUNT(AW5:AW503)","v":0},{"$f":"COUNT(AX5:AX503)","v":0},null,{"$f":"COUNT(AZ5:AZ503)","v":0},{"$f":"COUNTIF(BA5:BA503,\">\"\"\")","v":0},{"$f":"COUNTIF(BB5:BB503,\">\"\"\")","v":0},{"$f":"COUNT(BC5:BC503)","v":0},{"$f":"COUNT(BD5:BD503)","v":0},{"$f":"COUNT(BE5:BE503)","v":0},{"$f":"COUNT(BF5:BF503)","v":0},null,null,null,null,"Count",{"$f":"COUNT(BL5:BL503)","v":0},{"$f":"COUNT(BM5:BM503)","v":0},{"$f":"COUNT(BN5:BN503)","v":0},{"$f":"COUNT(BO5:BO503)","v":0},{"$f":"COUNT(BP5:BP503)","v":0},null,{"$f":"COUNT(BR5:BR503)","v":0},{"$f":"COUNTIF(BS5:BS503,\">\"\"\")","v":0},{"$f":"COUNTIF(BT5:BT503,\">\"\"\")","v":0},{"$f":"COUNT(BU5:BU503)","v":0},{"$f":"COUNT(BV5:BV503)","v":0},{"$f":"COUNT(BW5:BW503)","v":0},{"$f":"COUNT(BX5:BX503)","v":0},null,null,null,null,null,null,null,null,null,"Count",{"$f":"COUNT(CI5:CI503)","v":0},{"$f":"COUNT(CJ5:CJ503)","v":0},{"$f":"COUNT(CK5:CK503)","v":0},{"$f":"COUNT(CL5:CL503)","v":0},{"$f":"COUNT(CM5:CM503)","v":0},null,{"$f":"COUNT(CO5:CO503)","v":0},{"$f":"COUNTIF(CP5:CP503,\">\"\"\")","v":0},{"$f":"COUNTIF(CQ5:CQ503,\">\"\"\")","v":0},{"$f":"COUNT(CR5:CR503)","v":0},{"$f":"COUNT(CS5:CS503)","v":0},{"$f":"COUNT(CT5:CT503)","v":0},{"$f":"COUNT(CU5:CU503)","v":0},null,null,null,null,"Count",{"$f":"COUNT(DA5:DA503)","v":0},{"$f":"COUNT(DB5:DB503)","v":0},{"$f":"COUNT(DC5:DC503)","v":0},{"$f":"COUNT(DD5:DD503)","v":0},{"$f":"COUNT(DE5:DE503)","v":0},null,{"$f":"COUNT(DG5:DG503)","v":0},{"$f":"COUNTIF(DH5:DH503,\">\"\"\")","v":0},{"$f":"COUNTIF(DI5:DI503,\">\"\"\")","v":0},{"$f":"COUNT(DJ5:DJ503)","v":0},{"$f":"COUNT(DK5:DK503)","v":0},{"$f":"COUNT(DL5:DL503)","v":0},{"$f":"COUNT(DM5:DM503)","v":0}]
[]
[null,null,null,null,null,null,"Substrate","Count: ",{"$f":"COUNT(J5:J564)","v":0},null,null,null,null,null,null,null,null,null,null,null,null,null,null,null,"Substrate","Count: ",{"$f":"COUNT(AB5:AB564)","v":0},null,null,null,null,null,null,null,null,null,null,null,null,null,null,null,null,null,null,null,null,"Substrate","Count: ",{"$f":"COUNT(AY5:AY564)","v":0},null,null,null,null,null,null,null,null,null,null,null,null,null,null,null,"Substrate","Count: ",{"$f":"COUNT(BQ5:BQ564)","v":0},null,null,null,null,null,null,null,null,null,null,null,null,null,null,null,null,null,null,null,null,"Substrate","Count: ",{"$f":"COUNT(CN5:CN564)","v":0},null,null,null,null,null,null,null,null,null,null,null,null,null,null,null,"Substrate","Count: ",{"$f":"COUNT(DF5:DF564)","v":0}]
[null,null,null,"CI1","","",null,"*","",null,null,null,null,null,"",null,null,null,null,null,null,"CI1","","","*","",{"$f":"CONFIDENCE(0.05,AA541,AA542)","v":{"$error":"#DIV/0!"}},null,null,null,null,null,"",null,null,null,null,null,null,null,null,null,null,null,"CI1","","",null,"*","",null,null,null,null,null,"",null,null,null,null,null,null,"CI1","","","*","*","",null,null,null,null,null,"",null,null,null,null,null,null,null,null,null,null,null,"CI1","","",null,"*","",null,null,null,null,null,"",null,null,null,null,null,null,"CI1","","","*","",{"$f":"CONFIDENCE(0.05,DE541,DE542)","v":{"$error":"#DIV/0!"}},null,null,null,null,null,""]
[null,null,null,"CI2",{"$f":"IF(ISERROR(0.33*E504),\"\",0.33*E504)","v":""},{"$f":"IF(ISERROR(0.16*F504),\"\",0.16*F504)","v":""},{"$f":"IF(ISERROR(0.16*G504),\"\",0.16*G504)","v":""},{"$f":"IF(ISERROR(0.27*H504),\"\",0.27*H504)","v":""},{"$f":"IF(ISERROR(0.12*I504),\"\",0.12*I504)","v":""},null,{"$f":"IF(ISERROR(0.14*K504),\"\",0.14*K504)","v":""},{"$f":"IF(ISERROR(0.13*Comp!N5),\"\",0.13*Comp!N5)","v":""},{"$f":"IF(ISERROR(0.13*Comp!M5),\"\",0.13*Comp!M5)","v":""},{"$f":"IF(ISERROR(0.19*N504),\"\",0.19*N504)","v":""},{"$f":"IF(ISERROR(0.06*O504),\"\",0.06*O504)","v":""},{"$f":"IF(ISERROR(0.06*P504),\"\",0.06*P504)","v":""},{"$f":"IF(ISERROR(0.19*Q504),\"\",0.19*Q504)","v":""},null,null,null,null,"CI2",{"$f":"IF(ISERROR(0.33*W504),\"\",0.33*W504)","v":""},{"$f":"IF(ISERROR(0.16*X504),\"\",0.16*X504)","v":""},{"$f":"IF(ISERROR(0.16*Y504),\"\",0.16*Y504)","v":""},{"$f":"IF(ISERROR(0.27*Z504),\"\",0.27*Z504)","v":""},{"$f":"IF(ISERROR(0.12*AA504),\"\",0.12*AA504)","v":""},null,{"$f":"IF(ISERROR(0.14*AC504),\"\",0.14*AC504)","v":""},{"$f":"IF(ISERROR(0.13*Comp!N6),\"\",0.13*Comp!N6)","v":""},{"$f":"IF(ISERROR(0.13*Comp!M6),\"\",0.13*Comp!M6)","v":""},{"$f":"IF(ISERROR(0.19*AF504),\"\",0.19*AF504)","v":""},{"$f":"IF(ISERROR(0.06*AG504),\"\",0.06*AG504)","v":""},{"$f":"IF(ISERROR(0.06*AH504),\"\",0.06*AH504)","v":""},{"$f":"IF(ISERROR(0.19*AI504),\"\",0.19*AI504)","v":""},null,null,null,null,null,null,null,null,null,"CI2",{"$f":"IF(ISERROR(0.33*AT504),\"\",0.33*AT504)","v":""},{"$f":"IF(ISERROR(0.16*AU504),\"\",0.16*AU504)","v":""},{"$f":"IF(ISERROR(0.16*AV504),\"\",0.16*AV504)","v":""},{"$f":"IF(ISERROR(0.27*AW504),\"\",0.27*AW504)","v":""},{"$f":"IF(ISERROR(0.12*AX504),\"\",0.12*AX504)","v":""},null,{"$f":"IF(ISERROR(0.14*AZ504),\"\",0.14*AZ504)","v":""},{"$f":"IF(ISERROR(0.13*Comp!N7),\"\",0.13*Comp!N7)","v":""},{"$f":"IF(ISERROR(0.13*Comp!M7),\"\",0.13*Comp!M7)","v":""},{"$f":"IF(ISERROR(0.19*BC504),\"\",0.19*BC504)","v":""},{"$f":"IF(ISERROR(0.06*BD504),\"\",0.06*BD504)","v":""},{"$f":"IF(ISERROR(0.06*BE504),\"\",0.06*BE504)","v":""},{"$f":"IF(ISERROR(0.19*BF504),\"\",0.19*BF504)","v":""},null,null,null,null,"CI2",{"$f":"IF(ISERROR(0.33*BL504),\"\",0.33*BL504)","v":""},{"$f":"IF(ISERROR(0.16*BM504),\"\",0.16*BM504)","v":""},{"$f":"IF(ISERROR(0.16*BN504),\"\",0.16*BN504)","v":""},{"$f":"IF(ISERROR(0.27*BO504),\"\",0.27*BO504)","v":""},{"$f":"IF(ISERROR(0.12*BP504),\"\",0.12*BP504)","v":""},null,{"$f":"IF(ISERROR(0.14*BR504),\"\",0.14*BR504)","v":""},{"$f":"IF(ISERROR(0.13*Comp!N8),\"\",0.13*Comp!N8)","v":""},{"$f":"IF(ISERROR(0.13*Comp!M8),\"\",0.13*Comp!M8)","v":""},{"$f":"IF(ISERROR(0.19*BU504),\"\",0.19*BU504)","v":""},{"$f":"IF(ISERROR(0.06*BV504),\"\",0.06*BV504)","v":""},{"$f":"IF(ISERROR(0.06*BW504),\"\",0.06*BW504)","v":""},{"$f":"IF(ISERROR(0.19*BX504),\"\",0.19*BX504)","v":""},null,null,null,null,null,null,null,null,null,"CI2",{"$f":"IF(ISERROR(0.33*CI504),\"\",0.33*CI504)","v":""},{"$f":"IF(ISERROR(0.16*CJ504),\"\",0.16*CJ504)","v":""},{"$f":"IF(ISERROR(0.16*CK504),\"\",0.16*CK504)","v":""},{"$f":"IF(ISERROR(0.27*CL504),\"\",0.27*CL504)","v":""},{"$f":"IF(ISERROR(0.12*CM504),\"\",0.12*CM504)","v":""},null,{"$f":"IF(ISERROR(0.14*CO504),\"\",0.14*CO504)","v":""},{"$f":"IF(ISERROR(0.13*Comp!N9),\"\",0.13*Comp!N9)","v":0},{"$f":"IF(ISERROR(0.13*Comp!M9),\"\",0.13*Comp!M9)","v":0},{"$f":"IF(ISERROR(0.19*CR504),\"\",0.19*CR504)","v":""},{"$f":"IF(ISERROR(0.06*CS504),\"\",0.06*CS504)","v":""},{"$f":"IF(ISERROR(0.06*CT504),\"\",0.06*CT504)","v":""},{"$f":"IF(ISERROR(0.19*CU504),\"\",0.19*CU504)","v":""},null,null,null,null,"CI2",{"$f":"IF(ISERROR(0.33*DA504),\"\",0.33*DA504)","v":""},{"$f":"IF(ISERROR(0.16*DB504),\"\",0.16*DB504)","v":""},{"$f":"IF(ISERROR(0.16*DC504),\"\",0.16*DC504)","v":""},{"$f":"IF(ISERROR(0.27*DD504),\"\",0.27*DD504)","v":""},{"$f":"IF(ISERROR(0.12*DE504),\"\",0.12*DE504)","v":""},null,{"$f":"IF(ISERROR(0.14*DG504),\"\",0.14*DG504)","v":""},{"$f":"IF(ISERROR(0.13*Comp!N10),\"\",0.13*Comp!N10)","v":0},{"$f":"IF(ISERROR(0.13*Comp!M10),\"\",0.13*Comp!M10)","v":0},{"$f":"IF(ISERROR(0.19*DJ504),\"\",0.19*DJ504)","v":""},{"$f":"IF(ISERROR(0.06*DK504),\"\",0.06*DK504)","v":""},{"$f":"IF(ISERROR(0.06*DL504),\"\",0.06*DL504)","v":""},{"$f":"IF(ISERROR(0.19*DM504),\"\",0.19*DM504)","v":""}]
[null,null,null,"Selected CI",{"$f":"IF(ISNUMBER(E545),E545,E546)","v":""},{"$f":"IF(ISNUMBER(F545),F545,F546)","v":""},{"$f":"IF(ISNUMBER(G545),G545,G546)","v":""},{"$f":"IF(ISNUMBER(H545),H545,H546)","v":""},{"$f":"IF(ISNUMBER(I545),I545,I546)","v":""},null,{"$f":"IF(ISNUMBER(K545),K545,K546)","v":""},"","","","","",0,null,null,null,null,"Selected CI",{"$f":"IF(ISNUMBER(W545),W545,W546)","v":""},{"$f":"IF(ISNUMBER(X545),X545,X546)","v":""},{"$f":"IF(ISNUMBER(Y545),Y545,Y546)","v":""},{"$f":"IF(ISNUMBER(Z545),Z545,Z546)","v":""},{"$f":"IF(ISNUMBER(AA545),AA545,AA546)","v":""},null,{"$f":"IF(ISNUMBER(AC545),AC545,AC546)","v":""},"","","","","",0,null,null,null,null,null,null,null,null,null,"Selected CI",{"$f":"IF(ISNUMBER(AT545),AT545,AT546)","v":""},{"$f":"IF(ISNUMBER(AU545),AU545,AU546)","v":""},{"$f":"IF(ISNUMBER(AV545),AV545,AV546)","v":""},{"$f":"IF(ISNUMBER(AW545),AW545,AW546)","v":""},{"$f":"IF(ISNUMBER(AX545),AX545,AX546)","v":""},null,{"$f":"IF(ISNUMBER(AZ545),AZ545,AZ546)","v":""},"","","","","",0,null,null,null,null,"Selected CI",{"$f":"IF(ISNUMBER(BL545),BL545,BL546)","v":""},{"$f":"IF(ISNUMBER(BM545),BM545,BM546)","v":""},{"$f":"IF(ISNUMBER(BN545),BN545,BN546)","v":""},{"$f":"IF(ISNUMBER(BO545),BO545,BO546)","v":""},{"$f":"IF(ISNUMBER(BP545),BP545,BP546)","v":""},null,{"$f":"IF(ISNUMBER(BR545),BR545,BR546)","v":""},"","","","","",0,null,null,null,null,null,null,null,null,null,"Selected CI",{"$f":"IF(ISNUMBER(CI545),CI545,CI546)","v":""},{"$f":"IF(ISNUMBER(CJ545),CJ545,CJ546)","v":""},{"$f":"IF(ISNUMBER(CK545),CK545,CK546)","v":""},{"$f":"IF(ISNUMBER(CL545),CL545,CL546)","v":""},{"$f":"IF(ISNUMBER(CM545),CM545,CM546)","v":""},null,{"$f":"IF(ISNUMBER(CO545),CO545,CO546)","v":""},0,0,"","","","",null,null,null,null,"Selected CI",{"$f":"IF(ISNUMBER(DA545),DA545,DA546)","v":""},{"$f":"IF(ISNUMBER(DB545),DB545,DB546)","v":""},{"$f":"IF(ISNUMBER(DC545),DC545,DC546)","v":""},{"$f":"IF(ISNUMBER(DD545),DD545,DD546)","v":""},{"$f":"IF(ISNUMBER(DE545),DE545,DE546)","v":""},null,{"$f":"IF(ISNUMBER(DG545),DG545,DG546)","v":""},0,0,"","","",""]
[]
[null,null,null,null,null,null,"Substrate","CI1",{"$error":"#NUM!"},null,null,null,null,null,null,null,null,null,null,null,null,null,null,null,"Substrate","CI1",{"$error":"#NUM!"},null,null,null,null,null,null,null,null,null,null,null,null,null,null,null,null,null,null,null,null,"Substrate","CI1",{"$error":"#NUM!"},null,null,null,null,null,null,null,null,null,null,null,null,null,null,null,"Substrate","CI1",{"$error":"#NUM!"},null,null,null,null,null,null,null,null,null,null,null,null,null,null,null,null,null,null,null,null,"Substrate","CI1",null,null,null,null,null,null,null,null,null,null,null,null,null,null,null,null,"Substrate","CI1"]
[null,null,null,null,null,null,null,"CI2",{"$error":"#VALUE!"},null,null,null,null,null,null,null,null,null,null,null,null,null,null,null,null,"CI2",{"$error":"#VALUE!"},null,null,null,null,null,null,null,null,null,null,null,null,null,null,null,null,null,null,null,null,null,"CI2",{"$error":"#VALUE!"},null,null,null,null,null,null,null,null,null,null,null,null,null,null,null,null,"CI2",{"$error":"#VALUE!"},null,null,null,null,null,null,null,null,null,null,null,null,null,null,null,null,null,null,null,null,null,"CI2",{"$f":"IF(ISERROR(0.099*CM553),\"\",0.099*CM553)","v":""},null,null,null,null,null,null,null,null,null,null,null,null,null,null,null,null,"CI2",{"$f":"IF(ISERROR(0.099*DE553),\"\",0.099*DE553)","v":""}]
[null,null,null,null,null,null,null,"CI",{"$f":"IF(ISNUMBER(I549),I549,I550)","v":{"$error":"#VALUE!"}},null,null,null,null,null,null,null,null,null,null,null,null,null,null,null,null,"CI",{"$f":"IF(ISNUMBER(AA549),AA549,AA550)","v":{"$error":"#VALUE!"}},null,null,null,null,null,null,null,null,null,null,null,null,null,null,null,null,null,null,null,null,null,"CI",{"$f":"IF(ISNUMBER(AX549),AX549,AX550)","v":{"$error":"#VALUE!"}},null,null,null,null,null,null,null,null,null,null,null,null,null,null,null,null,"CI",{"$f":"IF(ISNUMBER(BP549),BP549,BP550)","v":{"$error":"#VALUE!"}},null,null,null,null,null,null,null,null,null,null,null,null,null,null,null,null,null,null,null,null,null,"CI",{"$f":"IF(ISNUMBER(CM549),CM549,CM550)","v":""},null,null,null,null,null,null,null,null,null,null,null,null,null,null,null,null,"CI",{"$f":"IF(ISNUMBER(DE549),DE549,DE550)","v":""}]
[]
[null,null,null,null,null,null,null,"% Fines",{"$f":"COUNTIF(J5:J564,\"<6\")/COUNT(J5:J564)","v":{"$error":"#DIV/0!"}},null,null,null,null,null,null,null,null,null,null,null,null,null,null,null,null,"% Fines",{"$f":"COUNTIF(AB5:AB564,\"<6\")/COUNT(AB5:AB564)","v":{"$error":"#DIV/0!"}},null,null,null,null,null,null,null,null,null,null,null,null,null,null,null,null,null,null,null,null,null,"% Fines",{"$f":"COUNTIF(AY5:AY564,\"<6\")/COUNT(AY5:AY564)","v":{"$error":"#DIV/0!"}},null,null,null,null,null,null,null,null,null,null,null,null,null,null,null,null,"% Fines",{"$f":"COUNTIF(BQ5:BQ564,\"<6\")/COUNT(BQ5:BQ564)","v":{"$error":"#DIV/0!"}},null,null,null,null,null,null,null,null,null,null,null,null,null,null,null,null,null,null,null,null,null,"% Fines",{"$f":"COUNTIF(CN5:CN564,\"<6\")/COUNT(CN5:CN564)","v":{"$error":"#DIV/0!"}},null,null,null,null,null,null,null,null,null,null,null,null,null,null,null,null,"% Fines",{"$f":"COUNTIF(DF5:DF564,\"<6\")/COUNT(DF5:DF564)","v":{"$error":"#DIV/0!"}}]
[null,null,null,null,null,null,null,"n",{"$f":"COUNTIF(J5:J564,\"<6\")","v":0}]
[null,null,null,null,null,null,null,"stdev",{"$f":"STDEV(IF(J5:J560<6,J5:J560))","v":0}]
[null,null,null,null,null,null,null,"ci",{"$f":"CONFIDENCE(0.05,I555,I554)","v":{"$error":"#NUM!"}}]
[]
[]
[]
[]
[]
[]
[]
[]
[]
[]
[]
[]
[]
[]
[]
[]
[]
[]
[]
[]
[1,2,3,4,5,6,7,8,9,10,11,12,13,14,15,16,17,18,19,20,21,22,23,24,25,26,27,28,29,30,31,32,33,34,35,36,37,38,39,40,41,42,43,44,45,46,47,48,49,50,51,52,53,54,55,56,57,58,59,60,61,62,63,64,65,66,67,68,69,70,71,72,73,74,75,76,77,78,79,80,81,82,83,84,85,86,87,88,89,90,91,92,93,94,95,96,97,98,99,100,101,102,103,104,105,106,107,108,109,110,111,112,113,114,115,116,117,118,119,120,121]
[]
[]
[]
[]
[]
[]
[]
[]
[]
[]
[]
[]
[]
[]
[]
[]
[]
[]
[]
[]
[]
[]
[]
[]
[]
[]
[]
[]
[]
[]
[]
[]
[]
[]
[]
[]
[]
[]
[]
[]
[]
[]
[]
[]
[]
[]
[]
[]
[]
[]
[]
[]
[]
[]
[]
[]
[]
[]
[]
[]
[]
[]
[]
[]
[]
[]
[]
[]
[null,null,null,null,null,null,null,null,null,null,null,null,null,null,null,null,null,null,null,null,null,null,null,"WOODY DATA - FREQUENCY",null,null,null,null,null,null,null,null,null,null,null,null,null,null,null,null,null,null,null,null,null,null,null,null,null,null,null,null,null,null,null,null,null,null,null,null,null,null,null,null,"WOODY DATA - FREQUENCY",null,null,null,null,null,null,null,null,null,null,null,null,null,null,null,null,null,null,null,null,null,null,null,null,null,null,null,null,null,null,null,null,null,null,null,null,null,null,null,null,"WOODY DATA - FREQUENCY"]
[null,null,null,null,null,null,null,null,null,null,null,null,null,null,null,null,null,null,null,null,null,null,null,"WOODY COMPOSTION",null,null,null,null,null,null,null,null,null,null,null,null,null,null,null,null,null,null,null,null,null,null,null,null,null,null,null,null,null,null,null,null,null,null,null,null,null,null,null,null,"WOODY COMPOSTION",null,null,null,null,null,null,null,null,null,null,null,null,null,null,null,null,null,null,null,null,null,null,null,null,null,null,null,null,null,null,null,null,null,null,null,null,null,null,null,null,"WOODY COMPOSTION"]
[null,null,null,null,null,null,null,null,null,null,null,null,null,null,null,null,null,null,null,null,null,null,null,"WOODY USE",null,null,null,null,null,null,null,null,null,null,null,null,null,null,null,null,null,null,null,null,null,null,null,null,null,null,null,null,null,null,null,null,null,null,null,null,null,null,null,null,"WOODY USE",null,null,null,null,null,null,null,null,null,null,null,null,null,null,null,null,null,null,null,null,null,null,null,null,null,null,null,null,null,null,null,null,null,null,null,null,null,null,null,null,"WOODY USE"]
[null,null,null,null,null,null,null,null,null,null,null,null,null,null,null,null,null,null,null,null,null,null,null,"SEEDLINGS",null,null,null,null,null,null,null,null,null,null,null,null,null,null,null,null,null,null,null,null,null,null,null,null,null,null,null,null,null,null,null,null,null,null,null,null,null,null,null,null,"SEEDLINGS",null,null,null,null,null,null,null,null,null,null,null,null,null,null,null,null,null,null,null,null,null,null,null,null,null,null,null,null,null,null,null,null,null,null,null,null,null,null,null,null,"SEEDLINGS"]
[null,null,null,null,null,null,null,null,null,null,null,null,null,null,null,null,null,null,null,null,null,null,null,"YOUNG",null,null,null,null,null,null,null,null,null,null,null,null,null,null,null,null,null,null,null,null,null,null,null,null,null,null,null,null,null,null,null,null,null,null,null,null,null,null,null,null,"YOUNG",null,null,null,null,null,null,null,null,null,null,null,null,null,null,null,null,null,null,null,null,null,null,null,null,null,null,null,null,null,null,null,null,null,null,null,null,null,null,null,null,"YOUNG"]
[null,null,null,null,null,null,null,null,null,null,null,null,null,null,null,null,null,null,null,null,null,null,null,"MATURE",null,null,null,null,null,null,null,null,null,null,null,null,null,null,null,null,null,null,null,null,null,null,null,null,null,null,null,null,null,null,null,null,null,null,null,null,null,null,null,null,"MATURE",null,null,null,null,null,null,null,null,null,null,null,null,null,null,null,null,null,null,null,null,null,null,null,null,null,null,null,null,null,null,null,null,null,null,null,null,null,null,null,null,"MATURE"]
[null,null,null,null,null,null,null,null,null,null,null,null,null,null,null,null,null,null,null,null,null,null,null,"RHIZOMATOUS",null,null,null,null,null,null,null,null,null,null,null,null,null,null,null,null,null,null,null,null,null,null,null,null,null,null,null,null,null,null,null,null,null,null,null,null,null,null,null,null,"RHIZOMATOUS",null,null,null,null,null,null,null,null,null,null,null,null,null,null,null,null,null,null,null,null,null,null,null,null,null,null,null,null,null,null,null,null,null,null,null,null,null,null,null,null,"RHIZOMATOUS"]

{"sheet":"Comp","index":2,"n_rows":75,"n_cols":22,"rows_kept":75,"cut":false,"hidden":false,"merged":[[2,6,2,7]]}
["COMPARISON TABLE"]
[null,null,"SHORT-TERM INDICATORS"]
[null,null,null,"Stubble Height",null,null,null,null,null,"Woody Use",null,"       Streambanks",null,null,null,null,null,null,null,"Absolute Streambank Cover (%)"]
["DMA","DATE",{"$f":"\"Median SH for all key species (\"&GetData!C17&\")\"","v":"Median SH for all key species (In)"},{"$f":"\"Average SH for all key species (\"&GetData!C17&\")\"","v":"Average SH for all key species (In)"},{"$f":"\"Average SH for all Key species GRAZED (\"&GetData!C17&\")\"","v":"Average SH for all Key species GRAZED (In)"},{"$f":"\"Average SH for all Key species UNGRAZED (\"&GetData!C17&\")\"","v":"Average SH for all Key species UNGRAZED (In)"},"Dom key species for SH",{"$f":"\"Avg SH of dom key species (\"&GetData!C17&\")\"","v":"Avg SH of dom key species (In)"},{"$f":"\"Average SH for selected key species from STHT tab (\"&GetData!C17&\")\"","v":"Average SH for selected key species from STHT tab (In)"},"Woody species use - all woody species MEDIAN (%)","Woody species use - all woody species mean (%) (bootstap)","Streambank alteration (% altered)","Streambank stability(%)","Streambank cover  (%)","Covered - stable (%)","Covered - unstable (%)","Uncovered - stable (%)","Uncovered - unstable (%)","Perennial vegetation","Embedded rock","Anchored wood","Bare ground, litter, moss"]
[{"$f":"CONCATENATE(GetData!B14,GetData!C14)","v":""},{"$f":"IF(GetData!D$14=\"\",\"\",GetData!D$14)","v":""},"","","","","","",null,"","","","","","","","","","","","",""]
[{"$f":"CONCATENATE(GetData!T14,GetData!U14)","v":""},{"$f":"IF(GetData!V$14=\"\",\"\",GetData!V$14)","v":""},"","","","","","",null,"","","","","","","","","","","","",""]
[{"$f":"CONCATENATE(GetData!AQ14,GetData!AR14)","v":""},{"$f":"IF(GetData!AS14=\"\",\"\",GetData!AS14)","v":""},"","","","","","",null,"","","","","","","","","","","","",""]
[{"$f":"CONCATENATE(GetData!BI14,GetData!BJ14)","v":""},{"$f":"IF(GetData!BK14=\"\",\"\",GetData!BK14)","v":""},"","","","","","",null,"","","","","","","","","","","","",""]
[{"$f":"CONCATENATE(GetData!CF14,GetData!CG14)","v":""},{"$f":"IF(GetData!CH14=\"\",\"\",GetData!CH14)","v":""}]
[{"$f":"CONCATENATE(GetData!CX14,GetData!CY14)","v":""},{"$f":"IF(GetData!CZ14=\"\",\"\",GetData!CZ14)","v":""}]
[null,"AVERAGE",{"$f":"IF(ISERROR(AVERAGE(C5:C10)),\"\",AVERAGE(C5:C10))","v":""},{"$f":"IF(ISERROR(AVERAGE(D5:D10)),\"\",AVERAGE(D5:D10))","v":""},"","",null,"",null,{"$f":"IF(ISERROR(AVERAGE(J5:J10)),\"\",AVERAGE(J5:J10))","v":""},{"$f":"IF(ISERROR(AVERAGE(K5:K10)),\"\",AVERAGE(K5:K10))","v":""},{"$f":"IF(ISERROR(AVERAGE(L5:L10)),\"\",AVERAGE(L5:L10))","v":""},{"$f":"IF(ISERROR(AVERAGE(M5:M10)),\"\",AVERAGE(M5:M10))","v":""},{"$f":"IF(ISERROR(AVERAGE(N5:N10)),\"\",AVERAGE(N5:N10))","v":""},{"$f":"IF(ISERROR(AVERAGE(O5:O10)),\"\",AVERAGE(O5:O10))","v":""},{"$f":"IF(ISERROR(AVERAGE(P5:P10)),\"\",AVERAGE(P5:P10))","v":""},{"$f":"IF(ISERROR(AVERAGE(Q5:Q10)),\"\",AVERAGE(Q5:Q10))","v":""},{"$f":"IF(ISERROR(AVERAGE(R5:R10)),\"\",AVERAGE(R5:R10))","v":""},{"$f":"IF(ISERROR(AVERAGE(S5:S10)),\"\",AVERAGE(S5:S10))","v":""},{"$f":"IF(ISERROR(AVERAGE(T5:T10)),\"\",AVERAGE(T5:T10))","v":""},{"$f":"IF(ISERROR(AVERAGE(U5:U10)),\"\",AVERAGE(U5:U10))","v":""},{"$f":"IF(ISERROR(AVERAGE(V5:V10)),\"\",AVERAGE(V5:V10))","v":""}]
[null,"Maximum Difference",{"$f":"MAX(C5:C10)-MIN(C5:C10)","v":0},{"$f":"MAX(D5:D10)-MIN(D5:D10)","v":0},{"$f":"MAX(E5:E10)-MIN(E5:E10)","v":0},0,null,0,null,0,0,0,0,0,0,0,0,0,0,0,0,0]
[]
[null,null,"LONG-TERM INDICATORS"]
[null,null,"Vegetation Ratings",null,null,null,null,null,"Miscellaneous Vegetation Metrics",null,null,null,null,"Woody Species Age Class",null,null,"Other metrics"]
["DMA","DATE","Greenline ecological status rating*","Site wetland rating ","Winward greenline stability rating","Vegetation biomass index"," Percent rhizomatous woody ","Percent forbs","Plant Diversity Index","Hydric plants (% by constancy)","Woody composition (%)","Woody species frequency        (N)","Hydric herbaceous  (%)","Percent seedlings","Percent young","Percent mature","Age class eveness (woody plants)","Woody composition by    plot (%)","Hydric woody plant composition (%)","Hydric plants (% by composition)","Stabilizing Hydrphytic vegetation (%)"]
[{"$f":"A5","v":""},{"$f":"B5","v":""},"","","","","","","",null,null,null,"","","","",""]
[{"$f":"A6","v":""},{"$f":"B6","v":""},"","","","","","","",null,null,null,"","","","",""]
[{"$f":"A7","v":""},"","","","","","","","",null,null,null,"","","","",""]
["","","","","","","","","",null,null,null,"","","","",""]
["",""]
["",""]
[null,"AVERAGE",{"$f":"IF(ISERROR(AVERAGE(C17:C22)),\"\",AVERAGE(C17:C22))","v":""},{"$f":"IF(ISERROR(AVERAGE(D17:D22)),\"\",AVERAGE(D17:D22))","v":""},{"$f":"IF(ISERROR(AVERAGE(E17:E22)),\"\",AVERAGE(E17:E22))","v":""},{"$f":"IF(ISERROR(AVERAGE(F17:F22)),\"\",AVERAGE(F17:F22))","v":""},null,{"$f":"IF(ISERROR(AVERAGE(H17:H22)),\"\",AVERAGE(H17:H22))","v":""},{"$f":"IF(ISERROR(AVERAGE(I17:I22)),\"\",AVERAGE(I17:I22))","v":""},{"$f":"IF(ISERROR(AVERAGE(J17:J22)),\"\",AVERAGE(J17:J22))","v":""},{"$f":"IF(ISERROR(AVERAGE(K17:K22)),\"\",AVERAGE(K17:K22))","v":""},{"$f":"IF(ISERROR(AVERAGE(L17:L22)),\"\",AVERAGE(L17:L22))","v":""},{"$f":"IF(ISERROR(AVERAGE(M17:M22)),\"\",AVERAGE(M17:M22))","v":""},{"$f":"IF(ISERROR(AVERAGE(N17:N22)),\"\",AVERAGE(N17:N22))","v":""},{"$f":"IF(ISERROR(AVERAGE(O17:O22)),\"\",AVERAGE(O17:O22))","v":""},{"$f":"IF(ISERROR(AVERAGE(P17:P22)),\"\",AVERAGE(P17:P22))","v":""},{"$f":"IF(ISERROR(AVERAGE(Q17:Q22)),\"\",AVERAGE(Q17:Q22))","v":""},{"$f":"IF(ISERROR(AVERAGE(R17:R22)),\"\",AVERAGE(R17:R22))","v":""},{"$f":"IF(ISERROR(AVERAGE(S17:S22)),\"\",AVERAGE(S17:S22))","v":""},{"$f":"IF(ISERROR(AVERAGE(T17:T22)),\"\",AVERAGE(T17:T22))","v":""},{"$f":"IF(ISERROR(AVERAGE(U17:U22)),\"\",AVERAGE(U17:U22))","v":""}]
[null,"Maximum Difference",{"$f":"MAX(C17:C22)-MIN(C17:C22)","v":0},0,0,0,0,0,0,0,0,0,0,0,0,0,0,0,0,0,0]
[]
[]
[null,null,"Substrate: ",null,null,null," ","                 Pools",null,null,null,"Width and Shade"]
["DMA","DATE","Percent fines","D16 Particle Size (mm)","D50 Particle Size (mm)","D84 Particle Size (mm)","Total number pools","Pool Frequency (#/mile)","Mean Residual Depth - All    (m)","Mean Residual Depth - >.06      (m)","Greenline-greenline width (m)  ","Average Woody Plant Height (m)","Shade Index","Bankfull width (m)"]
[{"$f":"A5","v":""},"","","","","","","","","","","","",""]
["","","","","","","","","","","","","",""]
["","","","","","","","","","","","","",""]
["","","","","","","","","","","","","",""]
["",""]
["",""]
[null,"AVERAGE",{"$f":"IF(ISERROR(AVERAGE(C29:C34)),\"\",AVERAGE(C29:C34))","v":""},{"$f":"IF(ISERROR(AVERAGE(D29:D34)),\"\",AVERAGE(D29:D34))","v":""},{"$f":"IF(ISERROR(AVERAGE(E29:E34)),\"\",AVERAGE(E29:E34))","v":""},{"$f":"IF(ISERROR(AVERAGE(F29:F34)),\"\",AVERAGE(F29:F34))","v":""},null,{"$f":"IF(ISERROR(AVERAGE(H29:H34)),\"\",AVERAGE(H29:H34))","v":""},{"$f":"IF(ISERROR(AVERAGE(I29:I34)),\"\",AVERAGE(I29:I34))","v":""},{"$f":"IF(ISERROR(AVERAGE(J29:J34)),\"\",AVERAGE(J29:J34))","v":""},{"$f":"IF(ISERROR(AVERAGE(K29:K34)),\"\",AVERAGE(K29:K34))","v":""},{"$f":"IF(ISERROR(AVERAGE(L29:L34)),\"\",AVERAGE(L29:L34))","v":""},{"$f":"IF(ISERROR(AVERAGE(M29:M34)),\"\",AVERAGE(M29:M34))","v":""},{"$f":"IF(ISERROR(AVERAGE(N29:N34)),\"\",AVERAGE(N29:N34))","v":""},{"$f":"IF(ISERROR(AVERAGE(O29:O34)),\"\",AVERAGE(O29:O34))","v":""},{"$f":"IF(ISERROR(AVERAGE(P29:P34)),\"\",AVERAGE(P29:P34))","v":""},{"$f":"IF(ISERROR(AVERAGE(Q29:Q34)),\"\",AVERAGE(Q29:Q34))","v":""},{"$f":"IF(ISERROR(AVERAGE(R29:R34)),\"\",AVERAGE(R29:R34))","v":""},{"$f":"IF(ISERROR(AVERAGE(S29:S34)),\"\",AVERAGE(S29:S34))","v":""},{"$f":"IF(ISERROR(AVERAGE(T29:T34)),\"\",AVERAGE(T29:T34))","v":""},{"$f":"IF(ISERROR(AVERAGE(U29:U34)),\"\",AVERAGE(U29:U34))","v":""}]
[null,"Maximum Difference",{"$f":"MAX(C29:C34)-MIN(C29:C34)","v":0},0,0,0,0,0,0,0,0,0,0,0]
[]
[]
[]
[]
["Table of Confidence Intervals (CI)"]
["DMA","Streambank Alteration","Stubble Height - dominant key species","Stubble Height - all key species","Woody Use","GGW","Substrate % Fines","Residual Pool Depths","Streambank Cover","Streambank Stability","Seral Status","Wetland Rating","Veg Stability","Ecol Status"]
[{"$f":"A5","v":""}]
[""]
[""]
[""]
[""]
[""]
[]
["Graph",null,"Metric value","95% CI","Margin of Error (ME)*"]
["DMA","DATE","Indicator name","CI (from table above)","ME (positive)","ME (Negative)"]
[{"$f":"$A$5","v":""},{"$f":"$B$5","v":""},null,null,{"$f":"IF(D52=\"\",\"\",0.5*D52)","v":""},{"$f":"IF(D52=\"\",\"\",0.5*D52)","v":""}]
[{"$f":"$A$6","v":""},{"$f":"$B$6","v":""},null,null,"",""]
[{"$f":"$A$7","v":""},{"$f":"$B$7","v":""},null,null,"",""]
[{"$f":"$A$8","v":""},{"$f":"$B$8","v":""},null,null,"",""]
[{"$f":"$A$9","v":""},{"$f":"$B$9","v":""},null,null,"",""]
[{"$f":"$A$10","v":""},{"$f":"$B$10","v":""},null,null,"",""]
[null,null,null,null,"* ME is calculated"]
[]
[]
[]
[]
[]
["Instructions for preparing a bar chart using the table above"]
["1.  Choose a metric and replace the title \"Indicator name\" with that metric name (e.g. GGW)"]
["2.  Copy the metric data for the indicator/metric into cells C52 to C57 (or the last cell containing the data)"]
["3.  Copy the CI data from the Table of confidence intervals for that metric into cells D62 to D57."]
["4.  Select cells A51 to C57"]
["5.  Select - Insert from the EXCEL ribbon at the top and then Bar graph (2D column)."]
["6.  Double click on the graph and select Add Chart element (far left side of the the ribbon)"]
["7.  Select Error bars, and then More Error Bar options"]
["8.  In the menu that opens, scroll down to the bottom to \"Custom\""]
["9.  For the \"Positive\" value - those above the top of the  bar, choose the ME (margin of error) by selecting cells E52 to E57"]
["10.  For the \"Negative\" value - those below the top of the  bar, choose the ME (margin of error) by selecting cells F52 to F57"]
["11.  The error bars for each Sample will be displayed in their corresponding bar on the chart."]

{"sheet":"Spatial","index":3,"n_rows":104,"n_cols":92,"rows_kept":104,"cut":false,"hidden":false,"merged":[[0,0,0,1],[1,10,1,12],[1,13,1,15],[1,16,1,18]]}
["DMA: ",null,"Link to INSTRUCTIONS",null,"CORRELATION TABLE",null,null,null,null,null,"MEAN/STANDARD DEVIATION/CONFIDENCE INTERVAL TABLE - BOTH STREAMBANKS",null,null,null,null,null,null,null,null,null,null,"Reference:   ","https://www.ecologycenter.us/vegetation-ecology/correlograms-morans-i.html",null,null,null,null,null,null,null,null,null,null,null,null,null,null,null,null,"Sample # at which the left side ends:",null,null,40,null,"Sample point spacing:",null,3.75,null,"Sample # at which the left side ends:",null,null,40,null,"Sample point spacing:",null,3.75,null,"Sample # at which the left side ends:",null,null,40,null,"Sample point spacing:",null,3.75,null,"Sample # at which the left side ends:",null,null,40,null,"Sample point spacing:",null,3.75,null,"Sample # at which the left side ends:",null,null,40,null,"Sample point spacing:",null,3.75,null,"Sample # at which the left side ends:",null,null,40,null,"Sample point spacing:",null,3.75]
["INDICATOR:",null,"Adjacent plots","Every other plot","Every third plot","Every fourth plot","Every fifth plot",null,"Sample spacing:",{"$f":"IF(AD27=1,AU1,IF(AD27=2,BD1,IF(AD27=3,BM1,IF(AD27=4,BV1,IF(AD27=5,CE1,IF(AD27=6,CN1,IF(AD27=\"\",\"NA\")))))))","v":3.75},"                                   Mean",null,null,"Standard Deviation",null,null,"   CONFIDENCE INTERVAL",null,null,null,null,null,null,null,null,null,null,null,null,null,null,null,null,null,null,null,null,null,null,"DMA 1",null,null,null,null,null,null,null,null,"DMA 2",null,null,null,null,null,null,null,null,"DMA 3",null,null,null,null,null,null,null,null,"DMA 4",null,null,null,null,null,null,null,null,"DMA 5",null,null,null,null,null,null,null,null,"DMA 6"]
[{"$f":"IF(AD29=1,\"Stubble Height\",IF(AD29=2,\"Woody RS use\",IF(AD29=3,\"GGW\",IF(AD29=4,\"Streambank Alt\",IF(AD29=5,\"Veg Stability\",IF(AD29=6,\"Wet rating\",\"Ecol status\"))))))","v":"Stubble Height"},"CORRELATION COEFF.",{"$f":"CORREL($B6:INDIRECT(CONCATENATE(\"$B\",B104)),B7:INDIRECT(CONCATENATE(\"B\",C104)))","v":{"$error":"#DIV/0!"}},{"$f":"CORREL($B6:INDIRECT(CONCATENATE(\"$B\",B104)),B8:INDIRECT(CONCATENATE(\"B\",D104)))","v":{"$error":"#DIV/0!"}},{"$f":"CORREL($B6:INDIRECT(CONCATENATE(\"$B\",B104)),B9:INDIRECT(CONCATENATE(\"B\",E104)))","v":{"$error":"#DIV/0!"}},{"$f":"CORREL($B6:INDIRECT(CONCATENATE(\"$B\",B104)),B10:INDIRECT(CONCATENATE(\"B\",F104)))","v":{"$error":"#DIV/0!"}},{"$f":"CORREL($B6:INDIRECT(CONCATENATE(\"$B\",B104)),B11:INDIRECT(CONCATENATE(\"B\",G104)))","v":{"$error":"#DIV/0!"}},null,"Bank",{"$f":"IF(AD39=1,\"Left\",IF(AD39=2,\"Right\",IF(AD39=3,\"Both\",\"\")))","v":"Left"},null,null,null,null,null,null,null,null,null,null,null,null,null,null,null,null,null,null,null,null,null,null,null,null,null,null,null,null,null,null,"                          SUMMARY BY PLOT",null,null,null,null,null,null,null,null,"                          SUMMARY BY PLOT",null,null,null,null,null,null,null,null,"                          SUMMARY BY PLOT",null,null,null,null,null,null,null,null,"                          SUMMARY BY PLOT",null,null,null,null,null,null,null,null,"                          SUMMARY BY PLOT",null,null,null,null,null,null,null,null,"                          SUMMARY BY PLOT"]
[null,"N",{"$f":"COUNT(C7:C101)","v":0},{"$f":"COUNT(D8:D101)","v":0},{"$f":"COUNT(E9:E101)","v":0},{"$f":"COUNT(F10:F101)","v":0},{"$f":"COUNT(G10:G101)","v":0},null,null,null,"Adjacent sample points","Every other Sample","Every 3rd sample point","Adjacent sample points","Every other sample","Every 3rd sample","Adjacent sample points","Every other sample","Every 3rd sample",null,null,null,null,null,null,null,null,null,null,null,null,null,null,null,null,null,null,null,null,"Sample #","Stubble height","Woody R S use","GGW","Streambank Alt","Veg stab","Wet rating","Ecol status",null,"Sample #","Stubble height","Woody R S use","GGW","Bank Alt","Veg stab","Wet rating","Ecol status",null,"Sample #","Stubble height","Woody R S use","GGW","Streambank Alt","Veg stab","Wet rating","Ecol status",null,"Sample #","Stubble height","Woody R S use","GGW","Streambank Alt","Veg stab","Wet rating","Ecol status",null,"Sample #","Stubble height","Woody R S use","GGW","Streambank Alt","Veg stab","Wet rating","Ecol status",null,"Sample #","Stubble height","Woody R S use","GGW","Streambank Alt","Veg stab","Wet rating","Ecol status"]
["SAMPLE POINT #","Sample Data",{"$f":"$A3","v":"Stubble Height"},{"$f":"$A3","v":"Stubble Height"},{"$f":"$A3","v":"Stubble Height"},{"$f":"$A3","v":"Stubble Height"},{"$f":"$A3","v":"Stubble Height"},"DATA: EVERY","DATA: EVERY",null,{"$f":"AVERAGE($B7:$B102)","v":{"$error":"#DIV/0!"}},{"$f":"AVERAGE($H7:$H102)","v":{"$error":"#DIV/0!"}},{"$f":"AVERAGE($I7:$I102)","v":{"$error":"#DIV/0!"}},{"$f":"STDEV($B7:$B102)","v":{"$error":"#DIV/0!"}},{"$f":"STDEV(H7:H102)","v":{"$error":"#DIV/0!"}},{"$f":"STDEV(I7:I102)","v":{"$error":"#DIV/0!"}},{"$f":"CONFIDENCE(0.05,N5,K6)","v":{"$error":"#DIV/0!"}},{"$f":"CONFIDENCE(0.05,O5,L6)","v":{"$error":"#DIV/0!"}},{"$f":"CONFIDENCE(0.05,P5,M6)","v":{"$error":"#DIV/0!"}},null,null,null,null,null,null,null,null,null,null,null,null,null,null,null,null,null,null,null,null,1,"","","","","","",null,null,1,"","","","","","","",null,null,"","","","","","","",null,null,"","","","","","","",null,null,"","","","","","","",null,null,"","","","","","",""]
[1,"",null,null,null,null,null,"OTHER PLOT","3rd PLOT","n =",{"$f":"C5","v":"Stubble Height"},{"$f":"COUNT(H9:H102)","v":0},{"$f":"COUNT(I9:I102)","v":0},null,null,null,null,null,null,null,null,"Data Distribution",null,null,null,"INSTRUCTIONS:  Analyze data for any of the DMAs uploaded into this module.",null,null,null,null,null,null,null,null,null,null,null,null,null,null,"","","","","","",null,null,null,"","","","","","","",null,null,"","","","","","","",null,null,"","","","","","","",null,null,"","","","","","","",null,null,"","","","","","",""]
[null,"",{"$f":"IF(B6=\"\",\"\",B6)","v":""},null,null,null,null,{"$f":"\"\"","v":""},{"$f":"\"\"","v":""},null,null,null,null,null,null,null,null,null,null,null,null,"Distance","Value",null,null,"1.  Use the combination of selections below to choose which data to analyze.",null,null,null,null,null,null,null,null,null,null,null,null,null,null,"","","","","","",null,null,null,"","","","","","","",null,null,"","","","","","","",null,null,"","","","","","","",null,null,"","","","","","","",null,null,"","","","","","",""]
[null,"",{"$f":"IF(B7=\"\",\"\",B7)","v":""},{"$f":"IF(B6=\"\",\"\",B6)","v":""},null,null,null,{"$f":"IF(B6=\"\",\"\",B6)","v":""},{"$f":"\"\"","v":""},null,null,null,null,null,null,null,null,null,null,null,null,{"$f":"J2","v":3.75},{"$f":"IF(B7=\"\",NA(),B7)","v":{"$error":"#N/A"}},null,null,"2.  Select the  DMA number that corresponds to the DMA tables at right.",null,null,null,null,null,null,null,null,null,null,null,null,null,null,"","","","","","",null,null,"","","","","","","","",null,"","","","","","","","",null,"","","","","","","","",null,"","","","","","","","",null,null,"","","","","","",""]
["","","",{"$f":"IF(B7=\"\",\"\",B7)","v":""},{"$f":"IF(B6=\"\",\"\",B6)","v":""},null,null,{"$f":"\"\"","v":""},{"$f":"IF(B8=\"\",\"\",B8)","v":""},null,null,null,null,null,null,null,"Correlogram data",null,null,null,null,{"$f":"A8*J$2","v":0},{"$f":"IF(B8=\"\",NA(),B8)","v":{"$error":"#N/A"}},null,null,"3.  Choose an indicator to analyze for that DMA, from the list provided.",null,null,null,null,null,null,null,null,null,null,null,null,null,null,"","","","","","",null,null,"","","","","","","","",null,"","","","","","","","",null,"","","","","","","","",null,"","","","","","","","",null,"","","","","","","",""]
["","","","",{"$f":"IF(B7=\"\",\"\",B7)","v":""},{"$f":"IF(B6=\"\",\"\",B6)","v":""},null,{"$f":"IF(B8=\"\",\"\",B8)","v":""},{"$f":"\"\"","v":""},null,null,null,null,null,null,null,"Sample spacing","Correlation coefficient",null,null,null,{"$error":"#VALUE!"},{"$f":"IF(B9=\"\",NA(),B9)","v":{"$error":"#N/A"}},null,null,"4. Choose a streambank to analyze.  Alternatively select both streambanks if each had previously shown no spatial autocorrelation.",null,null,null,null,null,null,null,null,null,null,null,null,null,null,"","","","","","",null,null,"","","","","","","","",null,"","","","","","","","",null,"","","","","","","","",null,"","","","","","","","",null,"","","","","","","",""]
["","","","","",{"$f":"IF(B7=\"\",\"\",B7)","v":""},{"$f":"IF(B6=\"\",\"\",B6)","v":""},{"$f":"\"\"","v":""},{"$f":"\"\"","v":""},null,null,null,null,null,null,"Adjacent",{"$f":"J2","v":3.75},{"$f":"C3","v":{"$error":"#DIV/0!"}},null,null,null,{"$error":"#VALUE!"},{"$error":"#N/A"},null,null,"5  Then click on the \"Analyze data\" button to run the routine.",null,null,null,null,null,null,null,null,null,null,null,null,null,null,"","","","","","",null,null,"","","","","","","","",null,"","","","","","","","",null,"","","","","","","","",null,"","","","","","","","",null,"","","","","","","",""]
["","","","","","",{"$f":"IF(B7=\"\",\"\",B7)","v":""},{"$f":"IF(B10=\"\",\"\",B10)","v":""},{"$f":"IF(B11=\"\",\"\",B11)","v":""},null,null,null,null,null,null,"Every other",{"$f":"Q$11*2","v":7.5},{"$f":"D3","v":{"$error":"#DIV/0!"}},null,null,null,{"$error":"#VALUE!"},{"$error":"#N/A"},null,null,"6. The selected data are copied into Columns A and B.",null,null,null,null,null,null,null,null,null,null,null,null,null,null,"","","","","","",null,null,"","","","","","","","",null,"","","","","","","","",null,"","","","","","","","",null,"","","","","","","","",null,"","","","","","","",""]
["","","","","","","",{"$f":"\"\"","v":""},{"$f":"\"\"","v":""},null,null,null,null,null,null,"Every 3rd",{"$f":"Q$11*3","v":11.25},{"$f":"E3","v":{"$error":"#DIV/0!"}},null,null,null,{"$error":"#VALUE!"},{"$error":"#N/A"},null,null,"7.  Results are automatically displayed in the correlation table, correlogram, and distribution graph.",null,null,null,null,null,null,null,null,null,null,null,null,null,null,"","","","","","",null,null,"","","","","","","","",null,"","","","","","","","",null,"","","","","","","","",null,"","","","","","","","",null,"","","","","","","",""]
["","","","","","","",{"$f":"IF(B12=\"\",\"\",B12)","v":""},{"$f":"\"\"","v":""},null,null,null,null,null,null,"Every 4th",{"$f":"Q$11*4","v":15},{"$f":"F3","v":{"$error":"#DIV/0!"}},null,null,null,{"$error":"#VALUE!"},{"$error":"#N/A"},null,null,"8.  Significance tests are displayed starting at cell C60.",null,null,null,null,null,null,null,null,null,null,null,null,null,null,"","","","","","",null,null,"","","","","","","","",null,"","","","","","","","",null,"","","","","","","","",null,"","","","","","","","",null,"","","","","","","",""]
["","","","","","","",{"$f":"\"\"","v":""},{"$f":"IF(B14=\"\",\"\",B14)","v":""},null,null,null,null,null,null,"Every 5th",{"$f":"Q$11*5","v":18.75},{"$f":"G3","v":{"$error":"#DIV/0!"}},null,null,null,{"$error":"#VALUE!"},{"$error":"#N/A"},null,null,null,null,null,null,null,null,null,null,null,null,null,null,null,null,null,"","","","","","","",null,"","","","","","","","",null,"","","","","","","","",null,"","","","","","","","",null,"","","","","","","","",null,"","","","","","","",""]
["","","","","","","",{"$f":"\"\"","v":""},{"$f":"\"\"","v":""},null,null,null,null,null,null,null,null,null,null,null,null,{"$error":"#VALUE!"},{"$error":"#N/A"},null,null,null,null,null,null,null,null,null,null,null,null,null,null,null,null,null,"","","","","","","",null,"","","","","","","","",null,"","","","","","","","",null,"","","","","","","","",null,"","","","","","","","",null,"","","","","","","",""]
["","","","","","","",{"$f":"IF(B15=\"\",\"\",B15)","v":""},{"$f":"\"\"","v":""},null,null,null,null,null,null,null,null,null,null,null,null,{"$error":"#VALUE!"},{"$error":"#N/A"},null,null,null,null,null,null,null,null,null,null,null,null,null,null,null,null,null,"","","","","","","",null,"","","","","","","","",null,"","","","","","","","",null,"","","","","","","","",null,"","","","","","","","",null,"","","","","","","",""]
["","","","","","","",{"$f":"\"\"","v":""},{"$f":"IF(B17=\"\",\"\",B17)","v":""},null,null,null,null,null,null,null,null,null,null,null,null,{"$error":"#VALUE!"},{"$error":"#N/A"},null,null,null,null,null,null,null,null,null,null,null,null,null,null,null,null,null,"","","","","","","",null,"","","","","","","","",null,"","","","","","","","",null,"","","","","","","","",null,"","","","","","","","",null,"","","","","","","",""]
["","","","","","","",{"$f":"IF(B17=\"\",\"\",B17)","v":""},{"$f":"\"\"","v":""},null,null,null,null,null,null,null,null,null,null,null,null,{"$error":"#VALUE!"},{"$error":"#N/A"},null,null,null,null,null,null,null,null,null,null,null,null,null,null,null,null,null,"","","","","","","",null,"","","","","","","","",null,"","","","","","","","",null,"","","","","","","","",null,"","","","","","","","",null,"","","","","","","",""]
["","","","","","","",{"$f":"\"\"","v":""},{"$f":"\"\"","v":""},null,null,null,null,null,null,null,null,null,null,null,null,{"$error":"#VALUE!"},{"$error":"#N/A"},null,null,null,null,null,null,null,null,null,null,null,null,null,null,null,null,null,"","","","","","","",null,"","","","","","","","",null,"","","","","","","","",null,"","","","","","","","",null,"","","","","","","","",null,"","","","","","","",""]
["","","","","","","",{"$f":"IF(B19=\"\",\"\",B19)","v":""},{"$f":"IF(B20=\"\",\"\",B20)","v":""},null,null,null,null,null,null,null,null,null,null,null,null,{"$error":"#VALUE!"},{"$error":"#N/A"},null,null,null,null,null,null,null,null,null,null,null,null,null,null,null,null,null,"","","","","","","",null,"","","","","","","","",null,"","","","","","","","",null,"","","","","","","","",null,"","","","","","","","",null,"","","","","","","",""]
["","","","","","","",{"$f":"\"\"","v":""},{"$f":"\"\"","v":""},null,null,null,null,null,null,null,null,null,null,null,null,{"$error":"#VALUE!"},{"$error":"#N/A"},null,null,null,null,null,null,null,null,null,null,null,null,null,null,null,null,null,"","","","","","","",null,"","","","","","","","",null,"","","","","","","","",null,"","","","","","","","",null,"","","","","","","","",null,"","","","","","","",""]
["","","","","","","",{"$f":"IF(B21=\"\",\"\",B21)","v":""},{"$f":"\"\"","v":""},null,null,null,null,null,null,null,null,null,null,null,null,{"$error":"#VALUE!"},{"$error":"#N/A"},null,null,null,null,null,null,null,null,null,null,null,null,null,null,null,null,null,"","","","","","","",null,"","","","","","","","",null,"","","","","","","","",null,"","","","","","","","",null,"","","","","","","","",null,"","","","","","","",""]
["","","","","","","",{"$f":"\"\"","v":""},{"$f":"IF(B23=\"\",\"\",B23)","v":""},null,null,null,null,null,null,null,null,null,null,null,null,{"$error":"#VALUE!"},{"$error":"#N/A"},null,null,null,null,null,null,null,null,null,null,null,null,null,null,null,null,null,"","","","","","","",null,"","","","","","","","",null,"","","","","","","","",null,"","","","","","","","",null,"","","","","","","","",null,"","","","","","","",""]
["","","","","","","",{"$f":"IF(B23=\"\",\"\",B23)","v":""},{"$f":"\"\"","v":""},null,null,null,null,null,null,null,null,null,null,null,null,{"$error":"#VALUE!"},{"$error":"#N/A"},null,null,null,null,null,"Insert the number in the box below",null,null,null,null,null,null,null,null,null,null,null,"","","","","","","",null,"","","","","","","","",null,"","","","","","","","",null,"","","","","","","","",null,"","","","","","","","",null,"","","","","","","",""]
["","","","","","","",{"$f":"\"\"","v":""},{"$f":"\"\"","v":""},null,null,"Spatial distribution graph",null,null,null,null,null,null,null,null,null,{"$error":"#VALUE!"},{"$error":"#N/A"},null,null,null,null,null,null,null,null,"Cells",null,"Reserved for analysis",null,null,null,null,null,null,"","","","","","","",null,"","","","","","","","",null,"","","","","","","","",null,"","","","","","","","",null,"","","","","","","","",null,"","","","","","","",""]
["","","","","","","",{"$f":"IF(B25=\"\",\"\",B25)","v":""},{"$f":"IF(B26=\"\",\"\",B26)","v":""},null,null,null,null,null,null,null,null,null,null,null,null,{"$error":"#VALUE!"},{"$error":"#N/A"},null,null,"Which DMA (1 through 6):  ",null,null,null,1,null,{"$f":"IF(AD27=1,1, IF(AD27=2,10,IF(AD27=3,19,IF(AD27=4,28,IF(AD27=5,37,IF(AD27=6,46,\"NA\"))))))","v":1},null,null,null,null,null,null,null,null,"","","","","","","",null,"","","","","","","","",null,"","","","","","","","",null,"","","","","","","","",null,"","","","","","","","",null,"","","","","","","",""]
["","","","","","","",{"$f":"\"\"","v":""},{"$f":"\"\"","v":""},null,"Data Distribution Along the length of the transect (both banks)",null,null,null,null,null,null,null,null,null,null,{"$error":"#VALUE!"},{"$error":"#N/A"},null,null,null,null,null,null,null,null,null,null,null,null,null,null,null,null,null,"","","","","","","",null,"","","","","","","","",null,"","","","","","","","",null,"","","","","","","","",null,"","","","","","","","",null,"","","","","","","",""]
["","","","","","","",{"$f":"IF(B27=\"\",\"\",B27)","v":""},{"$f":"\"\"","v":""},null,null,null,null,null,null,null,null,null,null,null,null,{"$error":"#VALUE!"},{"$error":"#N/A"},null,null,"Which Indicator/metric:(1 through 7)",null,null,null,1,null,{"$f":"IF(AD29=1,1,IF(AD29=2,2,IF(AD29=3,3,IF(AD29=4,4,IF(AD29=5,5,IF(AD29=6,6,\"7\"))))))","v":1},null,null,null,null,null,null,null,null,"","","","","","","",null,"","","","","","","","",null,"","","","","","","","",null,"","","","","","","","",null,"","","","","","","","",null,"","","","","","","",""]
["","","","","","","",{"$f":"\"\"","v":""},{"$f":"IF(B29=\"\",\"\",B29)","v":""},null,null,null,null,null,null,null,null,null,null,null,null,{"$error":"#VALUE!"},{"$error":"#N/A"},null,null,null,null,null,null,null,null,null,null,null,null,null,null,null,null,null,"","","","","","","",null,"","","","","","","","",null,"","","","","","","","",null,"","","","","","","","",null,"","","","","","","","",null,"","","","","","","",""]
["","","","","","","",{"$f":"IF(B29=\"\",\"\",B29)","v":""},{"$f":"\"\"","v":""},null,null,null,null,null,null,null,null,null,null,null,null,{"$error":"#VALUE!"},{"$error":"#N/A"},null,null,null,1,"Stubble height",null,null,null,null,null,null,null,null,null,null,null,null,"","","","","","","",null,"","","","","","","","",null,"","","","","","","","",null,"","","","","","","","",null,"","","","","","","","",null,"","","","","","","",""]
["","","","","","","",{"$f":"\"\"","v":""},{"$f":"\"\"","v":""},null,null,null,null,null,null,null,null,null,null,null,null,{"$error":"#VALUE!"},{"$error":"#N/A"},null,null,null,2,"Woody R S use",null,null,null,null,null,null,null,null,null,null,null,null,"","","","","","","",null,"","","","","","","","",null,"","","","","","","","",null,"","","","","","","","",null,"","","","","","","","",null,"","","","","","","",""]
["","","","","","","",{"$f":"IF(B31=\"\",\"\",B31)","v":""},{"$f":"IF(B32=\"\",\"\",B32)","v":""},null,null,null,null,null,null,null,null,null,null,null,null,{"$error":"#VALUE!"},{"$error":"#N/A"},null,null,null,3,"GGW",null,null,null,null,null,null,null,null,null,null,null,null,"","","","","","","",null,"","","","","","","","",null,"","","","","","","","",null,"","","","","","","","",null,"","","","","","","","",null,"","","","","","","",""]
["","","","","","","",{"$f":"\"\"","v":""},{"$f":"\"\"","v":""},null,null,null,null,null,null,null,null,null,null,null,null,{"$error":"#VALUE!"},{"$error":"#N/A"},null,null,null,4,"Streambank Alt",null,null,null,null,null,null,null,null,null,null,null,null,"","","","","","","",null,"","","","","","","","",null,"","","","","","","","",null,"","","","","","","","",null,"","","","","","","","",null,"","","","","","","",""]
["","","","","","","",{"$f":"\"\"","v":""},{"$f":"\"\"","v":""},null,null,null,null,null,null,null,null,null,null,null,null,{"$error":"#VALUE!"},{"$error":"#N/A"},null,null,null,5,"Veg stab",null,null,null,null,null,null,null,null,null,null,null,null,"","","","","","","",null,"","","","","","","","",null,"","","","","","","","",null,"","","","","","","","",null,"","","","","","","","",null,"","","","","","","",""]
["","","","","","","",{"$f":"IF(B34=\"\",\"\",B34)","v":""},{"$f":"IF(B35=\"\",\"\",B35)","v":""},null,null,null,null,null,null,null,null,null,null,null,null,{"$error":"#VALUE!"},{"$error":"#N/A"},null,null,null,6,"Wet rating",null,null,null,null,null,null,null,null,null,null,null,null,"","","","","","","",null,"","","","","","","","",null,"","","","","","","","",null,"","","","","","","","",null,"","","","","","","","",null,"","","","","","","",""]
["","","","","","","",{"$f":"\"\"","v":""},{"$f":"\"\"","v":""},null,null,null,null,null,null,null,null,null,null,null,null,{"$error":"#VALUE!"},{"$error":"#N/A"},null,null,null,7,"Ecol status",null,null,null,null,null,null,null,null,null,null,null,null,"","","","","","","",null,"","","","","","","","",null,"","","","","","","","",null,"","","","","","","","",null,"","","","","","","","",null,"","","","","","","",""]
["","","","","","","",{"$f":"IF(B36=\"\",\"\",B36)","v":""},{"$f":"\"\"","v":""},null,null,null,null,null,null,null,null,null,null,null,null,{"$error":"#VALUE!"},{"$error":"#N/A"},null,null,null,null,null,null,null,null,null,null,"First SP","Last SP",null,null,null,null,null,"","","","","","","",null,"","","","","","","","",null,"","","","","","","","",null,"","","","","","","","",null,"","","","","","","","",null,"","","","","","","",""]
["","","","","","","",{"$f":"\"\"","v":""},{"$f":"IF(B38=\"\",\"\",B38)","v":""},null,null,null,null,null,null,null,null,null,null,null,null,{"$error":"#VALUE!"},{"$error":"#N/A"},null,null,"Which streambank:",null,null,null,1,null,{"$f":"IF(AD27=1,AQ1,IF(AD27=2,AZ1,IF(AD27=3,BI1,IF(AD27=4,BR1,IF(AD27=5,CA1,IF(AD27=6,CJ1,\"NA\"))))))","v":40},"Left",{"$f":"IF(AD39=1,0,IF(AD39=2,AF40,0))","v":0},{"$f":"IF(AD39=1,AQ1,IF(AD39=2,AF41,AF41))","v":40},null,null,null,null,null,"","","","","","","",null,"","","","","","","","",null,"","","","","","","","",null,"","","","","","","","",null,"","","","","","","","",null,"","","","","","","",""]
["","","","","","","",{"$f":"IF(B38=\"\",\"\",B38)","v":""},{"$f":"\"\"","v":""},null,null,null,null,null,null,null,null,null,null,null,null,{"$error":"#VALUE!"},{"$error":"#N/A"},null,null,null,1,"Left",null,null,null,{"$f":"IF(AF39=\"NA\",\"NA\",AF39+1)","v":41},"Right",null,null,null,null,null,null,null,"","","","","","","",null,"","","","","","","","",null,"","","","","","","","",null,"","","","","","","","",null,"","","","","","","","",null,"","","","","","","",""]
["","","","","","","",{"$f":"\"\"","v":""},{"$f":"\"\"","v":""},null,null,null,null,null,null,null,null,null,null,null,null,{"$error":"#VALUE!"},{"$error":"#N/A"},null,null,null,2,"Right",null,null,null,95,"Bottom",null,null,null,null,null,null,null,"","","","","","","",null,"","","","","","","","",null,"","","","","","","","",null,"","","","","","","","",null,"","","","","","","","",null,"","","","","","","",""]
["","","","","","","",{"$f":"IF(B40=\"\",\"\",B40)","v":""},{"$f":"IF(B41=\"\",\"\",B41)","v":""},null,null,null,null,null,null,null,null,null,null,null,null,{"$error":"#VALUE!"},{"$error":"#N/A"},null,null,null,3,"Both",null,null,null,null,null,null,null,null,null,null,null,null,"","","","","","","",null,"","","","","","","","",null,"","","","","","","","",null,"","","","","","","","",null,"","","","","","","","",null,"","","","","","","",""]
["","","","","","","",{"$f":"\"\"","v":""},{"$f":"\"\"","v":""},null,null,null,null,null,null,null,null,null,null,null,null,{"$error":"#VALUE!"},{"$error":"#N/A"},null,null,null,null,null,null,null,null,null,null,null,null,null,null,null,null,null,"","","","","","","",null,"","","","","","","","",null,"","","","","","","","",null,"","","","","","","","",null,"","","","","","","","",null,"","","","","","","",""]
["","","","","","","",{"$f":"IF(B42=\"\",\"\",B42)","v":""},{"$f":"\"\"","v":""},null,null,null,null,null,null,null,null,null,null,null,null,{"$error":"#VALUE!"},{"$error":"#N/A"},null,null,null,null,null,null,null,null,null,null,null,null,null,null,null,null,null,"","","","","","","",null,"","","","","","","","",null,"","","","","","","","",null,"","","","","","","","",null,"","","","","","","","",null,"","","","","","","",""]
["","","","","","","",{"$f":"\"\"","v":""},{"$f":"IF(B44=\"\",\"\",B44)","v":""},null,null,null,null,null,null,null,null,null,null,null,null,{"$error":"#VALUE!"},{"$error":"#N/A"},null,null,null,null,null,null,null,null,null,null,null,null,null,null,null,null,null,"","","","","","","",null,"","","","","","","","",null,"","","","","","","","",null,"","","","","","","","",null,"","","","","","","","",null,"","","","","","","",""]
["","","","","","","",{"$f":"IF(B44=\"\",\"\",B44)","v":""},{"$f":"\"\"","v":""},null,null,null,null,null,null,null,null,null,null,null,null,{"$error":"#VALUE!"},{"$error":"#N/A"},null,null,null,null,null,null,"Analyze Data",null,null,null,null,null,null,null,null,null,null,"","","","","","","",null,"","","","","","","","",null,"","","","","","","","",null,"","","","","","","","",null,"","","","","","","","",null,"","","","","","","",""]
["","","","","","","",{"$f":"\"\"","v":""},{"$f":"\"\"","v":""},null,null,null,null,null,null,null,null,null,null,null,null,{"$error":"#VALUE!"},{"$error":"#N/A"},null,null,null,null,null,null,null,null,null,null,null,null,null,null,null,null,"","","","","","","","",null,"","","","","","","","",null,"","","","","","","","",null,"","","","","","","","",null,"","","","","","","","",null,"","","","","","","",""]
["","","","","","","",{"$f":"IF(B46=\"\",\"\",B46)","v":""},{"$f":"IF(B47=\"\",\"\",B47)","v":""},null,null,null,null,null,null,null,null,null,null,null,null,{"$error":"#VALUE!"},{"$error":"#N/A"},null,null,null,null,null,null,null,null,null,null,null,null,null,null,null,null,"","","","","","","","",null,"","","","","","","","",null,"","","","","","","","",null,"","","","","","","","",null,"","","","","","","","",null,"","","","","","","",""]
["","","","","","","",{"$f":"\"\"","v":""},{"$f":"\"\"","v":""},null,null,null,null,null,null,null,null,null,null,null,null,{"$error":"#VALUE!"},{"$error":"#N/A"},null,null,null,null,null,null,null,null,null,null,null,null,null,null,null,null,"","","","","","","","",null,"","","","","","","","",null,"","","","","","","","",null,"","","","","","","","",null,"","","","","","","","",null,"","","","","","","",""]
["","","","","","","",{"$f":"IF(B48=\"\",\"\",B48)","v":""},{"$f":"\"\"","v":""},null,null,null,null,null,null,null,null,null,null,null,null,{"$error":"#VALUE!"},{"$error":"#N/A"},null,null,null,null,null,null,null,null,null,null,null,null,null,null,null,null,"","","","","","","","",null,"","","","","","","","",null,"","","","","","","","",null,"","","","","","","","",null,"","","","","","","","",null,"","","","","","","",""]
["","","","","","","",{"$f":"\"\"","v":""},{"$f":"IF(B50=\"\",\"\",B50)","v":""},null,null,null,null,null,null,null,null,null,null,null,null,{"$error":"#VALUE!"},{"$error":"#N/A"},null,null,null,null,null,null,null,null,null,null,null,null,null,null,null,null,"","","","","","","","",null,"","","","","","","","",null,"","","","","","","","",null,"","","","","","","","",null,"","","","","","","","",null,"","","","","","","",""]
["","","","","","","",{"$f":"IF(B50=\"\",\"\",B50)","v":""},{"$f":"\"\"","v":""},null,null,null,null,null,null,null,null,null,null,null,null,{"$error":"#VALUE!"},{"$error":"#N/A"},null,null,null,null,null,null,null,null,null,null,null,null,null,null,null,null,"","","","","","","","",null,"","","","","","","","",null,"","","","","","","","",null,"","","","","","","","",null,"","","","","","","","",null,"","","","","","","",""]
["","","","","","","",{"$f":"\"\"","v":""},{"$f":"\"\"","v":""},null,null,null,null,null,null,null,null,null,null,null,null,{"$error":"#VALUE!"},{"$error":"#N/A"},null,null,null,null,null,null,null,null,null,null,null,null,null,null,null,null,"","","","","","","","",null,"","","","","","","","",null,"","","","","","","","",null,"","","","","","","","",null,"","","","","","","","",null,"","","","","","","",""]
["","","","","","","",{"$f":"\"\"","v":""},{"$f":"IF(B53=\"\",\"\",B53)","v":""},null,null,null,null,null,null,null,null,null,null,null,null,{"$error":"#VALUE!"},{"$error":"#N/A"},null,null,null,null,null,null,null,null,null,null,null,null,null,null,null,null,"","","","","","","","",null,"","","","","","","","",null,"","","","","","","","",null,"","","","","","","","",null,"","","","","","","","",null,"","","","","","","",""]
["","","","","","","",{"$f":"IF(B53=\"\",\"\",B53)","v":""},{"$f":"\"\"","v":""},null,null,null,null,null,null,null,null,null,null,null,null,{"$error":"#VALUE!"},{"$error":"#N/A"},null,null,null,null,null,null,null,null,null,null,null,null,null,null,null,null,"","","","","","","","",null,"","","","","","","","",null,"","","","","","","","",null,"","","","","","","","",null,"","","","","","","","",null,"","","","","","","",""]
["","","","","","","",{"$f":"\"\"","v":""},{"$f":"\"\"","v":""},null,null,null,null,null,null,null,null,null,null,null,null,{"$error":"#VALUE!"},{"$error":"#N/A"},null,null,null,null,null,null,null,null,null,null,null,null,null,null,null,null,"","","","","","","","",null,"","","","","","","","",null,"","","","","","","","",null,"","","","","","","","",null,"","","","","","","","",null,"","","","","","","",""]
["","","","","","","",{"$f":"IF(B55=\"\",\"\",B55)","v":""},{"$f":"IF(B56=\"\",\"\",B56)","v":""},null,null,null,null,null,null,null,null,null,null,null,null,{"$error":"#VALUE!"},{"$error":"#N/A"},null,null,null,null,null,null,null,null,null,null,null,null,null,null,null,null,"","","","","","","","",null,"","","","","","","","",null,"","","","","","","","",null,"","","","","","","","",null,"","","","","","","","",null,"","","","","","","",""]
["","","","","","","",{"$f":"\"\"","v":""},{"$f":"\"\"","v":""},null,null,null,null,null,null,null,null,null,null,null,null,{"$error":"#VALUE!"},{"$error":"#N/A"},null,null,null,null,null,null,null,null,null,null,null,null,null,null,null,null,"","","","","","","","",null,"","","","","","","","",null,"","","","","","","","",null,"","","","","","","","",null,"","","","","","","","",null,"","","","","","","",""]
["","","","","","","",{"$f":"IF(B57=\"\",\"\",B57)","v":""},{"$f":"\"\"","v":""},null,null,"Significance test using the t score",null,null,null,null,null,null,null,null,null,{"$error":"#VALUE!"},{"$error":"#N/A"},null,null,null,null,null,null,null,null,null,null,null,null,null,null,null,null,"","","","","","","","",null,"","","","","","","","",null,"","","","","","","","",null,"","","","","","","","",null,"","","","","","","","",null,"","","","","","","",""]
["","","","","","","",{"$f":"\"\"","v":""},{"$f":"IF(B59=\"\",\"\",B59)","v":""},null,null,"The null hypothesis (H0): The correlation between the two variables is zero. (reject if p value<.05)",null,null,null,null,null,null,null,null,null,{"$error":"#VALUE!"},{"$error":"#N/A"},null,null,null,null,null,null,null,null,null,null,null,null,null,null,null,null,"","","","","","","","",null,"","","","","","","","",null,"","","","","","","","",null,"","","","","","","","",null,"","","","","","","","",null,"","","","","","","",""]
["","","","","","","",{"$f":"IF(B59=\"\",\"\",B59)","v":""},{"$f":"\"\"","v":""},null,null,null,null,null,null,null,null,null,null,null,null,{"$error":"#VALUE!"},{"$error":"#N/A"},null,null,null,null,null,null,null,null,null,null,null,null,null,null,null,null,"","","","","","","","",null,"","","","","","","","",null,"","","","","","","","",null,"","","","","","","","",null,"","","","","","","","",null,"","","","","","","",""]
["","","","","","","",{"$f":"\"\"","v":""},{"$f":"\"\"","v":""},null,null,"The alternative hypothesis: (Ha): The correlation between the two variables is not zero, e.g. there is a statistically significant correlation.",null,null,null,null,null,null,null,null,null,{"$error":"#VALUE!"},{"$error":"#N/A"},null,null,null,null,null,null,null,null,null,null,null,null,null,null,null,null,"","","","","","","","",null,"","","","","","","","",null,"","","","","","","","",null,"","","","","","","","",null,"","","","","","","","",null,"","","","","","","",""]
["","","","","","","",{"$f":"IF(B61=\"\",\"\",B61)","v":""},{"$f":"IF(B62=\"\",\"\",B62)","v":""},null,null,null,null,null,null,null,null,null,null,null,null,{"$error":"#VALUE!"},{"$error":"#N/A"},null,null,null,null,null,null,null,null,null,null,null,null,null,null,null,null,"","","","","","","","",null,"","","","","","","","",null,"","","","","","","","",null,"","","","","","","","",null,"","","","","","","","",null,"","","","","","","",""]
["","","","","","","",{"$f":"\"\"","v":""},{"$f":"\"\"","v":""},null,null,null,"r","t score","p value","Significant?",null,null,null,null,null,{"$error":"#VALUE!"},{"$error":"#N/A"},null,null,null,null,null,null,null,null,null,null,null,null,null,null,null,null,"","","","","","","","",null,"","","","","","","","",null,"","","","","","","","",null,"","","","","","","","",null,"","","","","","","","",null,"","","","","","","",""]
["","","","","","","",{"$f":"IF(B63=\"\",\"\",B63)","v":""},{"$f":"\"\"","v":""},null,null,"Adjacent plots",{"$f":"C3","v":{"$error":"#DIV/0!"}},{"$f":"ABS(M65*SQRT(C4-2)/SQRT(1-M65^2))","v":{"$error":"#DIV/0!"}},{"$f":"_xlfn.T.DIST.2T(N65,C4-2)","v":{"$error":"#DIV/0!"}},{"$f":"IF(O65<0.05,\"y\",\"N\")","v":{"$error":"#DIV/0!"}},null,null,null,null,null,{"$error":"#VALUE!"},{"$error":"#N/A"},null,null,null,null,null,null,null,null,null,null,null,null,null,null,null,null,"","","","","","","","",null,"","","","","","","","",null,"","","","","","","","",null,"","","","","","","","",null,"","","","","","","","",null,"","","","","","","",""]
["","","","","","","",{"$f":"\"\"","v":""},{"$f":"IF(B65=\"\",\"\",B65)","v":""},null,null,"Every other plot",{"$f":"D3","v":{"$error":"#DIV/0!"}},{"$f":"ABS(M66*SQRT(D4-2)/SQRT(1-M66^2))","v":{"$error":"#DIV/0!"}},{"$f":"_xlfn.T.DIST.2T(N66,D4-2)","v":{"$error":"#DIV/0!"}},{"$f":"IF(O66<0.05,\"y\",\"N\")","v":{"$error":"#DIV/0!"}},null,null,null,null,null,{"$error":"#VALUE!"},{"$error":"#N/A"},null,null,null,null,null,null,null,null,null,null,null,null,null,null,null,null,"","","","","","","","",null,"","","","","","","","",null,"","","","","","","","",null,"","","","","","","","",null,"","","","","","","","",null,"","","","","","","",""]
["","","","","","","",{"$f":"IF(B65=\"\",\"\",B65)","v":""},{"$f":"\"\"","v":""},null,null,"Every third plot",{"$f":"E3","v":{"$error":"#DIV/0!"}},{"$f":"ABS(M67*SQRT(E4-2)/SQRT(1-M67^2))","v":{"$error":"#DIV/0!"}},{"$f":"_xlfn.T.DIST.2T(N67,E4-2)","v":{"$error":"#DIV/0!"}},{"$f":"IF(O67<0.05,\"y\",\"N\")","v":{"$error":"#DIV/0!"}},null,null,null,null,null,{"$error":"#VALUE!"},{"$error":"#N/A"},null,null,null,null,null,null,null,null,null,null,null,null,null,null,null,null,"","","","","","","","",null,"","","","","","","","",null,"","","","","","","","",null,"","","","","","","","",null,"","","","","","","","",null,"","","","","","","",""]
["","","","","","","",{"$f":"\"\"","v":""},{"$f":"\"\"","v":""},null,null,null,null,null,null,null,null,null,null,null,null,{"$error":"#VALUE!"},{"$error":"#N/A"},null,null,null,null,null,null,null,null,null,null,null,null,null,null,null,null,"","","","","","","","",null,"","","","","","","","",null,"","","","","","","","",null,"","","","","","","","",null,"","","","","","","","",null,"","","","","","","",""]
["","","","","","","",{"$f":"IF(B67=\"\",\"\",B67)","v":""},{"$f":"IF(B68=\"\",\"\",B68)","v":""},null,null,"If 'Significant\" = \"Y\" then reject the null hypothesis - indicates presence of spatial autocorrelation",null,null,null,null,null,null,null,null,null,{"$error":"#VALUE!"},{"$error":"#N/A"},null,null,null,null,null,null,null,null,null,null,null,null,null,null,null,null,"","","","","","","","",null,"","","","","","","","",null,"","","","","","","","",null,"","","","","","","","",null,"","","","","","","","",null,"","","","","","","",""]
["","","","","","","",{"$f":"\"\"","v":""},{"$f":"\"\"","v":""},null,null,"If 'Significant\" = \"N\" then accept the null hypothesis - indicates spatial autocorrelation is likely not present",null,null,null,null,null,null,null,null,null,{"$error":"#VALUE!"},{"$error":"#N/A"},null,null,null,null,null,null,null,null,null,null,null,null,null,null,null,null,"","","","","","","","",null,"","","","","","","","",null,"","","","","","","","",null,"","","","","","","","",null,"","","","","","","","",null,"","","","","","","",""]
["","","","","","","",{"$f":"IF(B69=\"\",\"\",B69)","v":""},{"$f":"\"\"","v":""},null,null,null,null,null,null,null,null,null,null,null,null,{"$error":"#VALUE!"},{"$error":"#N/A"},null,null,null,null,null,null,null,null,null,null,null,null,null,null,null,null,"","","","","","","","",null,"","","","","","","","",null,"","","","","","","","",null,"","","","","","","","",null,"","","","","","","","",null,"","","","","","","",""]
["","",{"$f":"IF(B71=\"\",\"\",B71)","v":""},"","","","",{"$f":"\"\"","v":""},{"$f":"IF(B71=\"\",\"\",B71)","v":""},null,null,null,null,null,null,null,null,null,null,null,null,{"$error":"#VALUE!"},{"$error":"#N/A"},null,null,null,null,null,null,null,null,null,null,null,null,null,null,null,null,"","","","","","","","",null,"","","","","","","","",null,"","","","","","","","",null,"","","","","","","","",null,"","","","","","","","",null,"","","","","","","",""]
["","","",{"$f":"IF(B71=\"\",\"\",B71)","v":""},"","","",{"$f":"\"\"","v":""},{"$f":"\"\"","v":""},null,null,null,null,null,null,null,null,null,null,null,null,{"$f":"A72*J$2","v":{"$error":"#VALUE!"}},{"$error":"#N/A"},null,null,null,null,null,null,null,null,null,null,null,null,null,null,null,null,"","","","","","","","",null,"","","","","","","","",null,"","","","","","","","",null,"","","","","","","","",null,"","","","","","","","",null,"","","","","","","",""]
["","","","",{"$f":"IF(B71=\"\",\"\",B71)","v":""},"","",{"$f":"IF(B72=\"\",\"\",B72)","v":""},{"$f":"\"\"","v":""},null,"EQUATIONS FOR THE SIGNIFICANCE TEST",null,null,null,null,null,null,null,null,null,null,{"$error":"#VALUE!"},{"$f":"IF(B73=\"\",NA(),B73)","v":{"$error":"#N/A"}},null,null,null,null,null,null,null,null,null,null,null,null,null,null,null,null,"","","","","","","","",null,"","","","","","","","",null,"","","","","","","","",null,"","","","","","","","",null,"","","","","","","","",null,"","","","","","","",""]
["","","","","",{"$f":"IF(B71=\"\",\"\",B71)","v":""},"",{"$f":"\"\"","v":""},{"$f":"IF(B74=\"\",\"\",B74)","v":""},null,"t","=r*sqrt(n-2)/sqrt(1-r^2)",null,null,null,null,null,null,null,null,null,{"$error":"#VALUE!"},{"$error":"#N/A"},null,null,null,null,null,null,null,null,null,null,null,null,null,null,null,null,"","","","","","","","",null,"","","","","","","","",null,"","","","","","","","",null,"","","","","","","","",null,"","","","","","","","",null,"","","","","","","",""]
["","","","","","",{"$f":"IF(B71=\"\",\"\",B71)","v":""},{"$f":"IF(B74=\"\",\"\",B74)","v":""},{"$f":"\"\"","v":""},null,"p","=T.DIST.2T(t,n-2)",null,null,null,null,null,null,null,null,null,{"$error":"#VALUE!"},{"$error":"#N/A"},null,null,null,null,null,null,null,null,null,null,null,null,null,null,null,null,"","","","","","","","",null,"","","","","","","","",null,"","","","","","","","",null,"","","","","","","","",null,"","","","","","","","",null,"","","","","","","",""]
["","","","","","","",{"$f":"\"\"","v":""},{"$f":"\"\"","v":""},null,null,null,null,null,null,null,null,null,null,null,null,{"$error":"#VALUE!"},{"$error":"#N/A"},null,null,null,null,null,null,null,null,null,null,null,null,null,null,null,null,"","","","","","","","",null,"","","","","","","","",null,"","","","","","","","",null,"","","","","","","","",null,"","","","","","","","",null,"","","","","","","",""]
["","","","","","","",{"$f":"IF(B76=\"\",\"\",B76)","v":""},{"$f":"IF(B77=\"\",\"\",B77)","v":""},null,"Reference:   Statologyj",null,null,null,null,null,null,null,null,null,null,{"$error":"#VALUE!"},{"$error":"#N/A"},null,null,null,null,null,null,null,null,null,null,null,null,null,null,null,null,"","","","","","","","",null,"","","","","","","","",null,"","","","","","","","",null,"","","","","","","","",null,"","","","","","","","",null,"","","","","","","",""]
["","","","","","","",{"$f":"\"\"","v":""},{"$f":"\"\"","v":""},null,null,"https://www.statology.org/p-value-correlation-excel/",null,null,null,null,null,null,null,null,null,{"$error":"#VALUE!"},{"$error":"#N/A"},null,null,null,null,null,null,null,null,null,null,null,null,null,null,null,null,"","","","","","","","",null,"","","","","","","","",null,"","","","","","","","",null,"","","","","","","","",null,"","","","","","","","",null,"","","","","","","",""]
["","","","","","","",{"$f":"IF(B78=\"\",\"\",B78)","v":""},{"$f":"\"\"","v":""},null,null,null,null,null,null,null,null,null,null,null,null,{"$error":"#VALUE!"},{"$error":"#N/A"},null,null,null,null,null,null,null,null,null,null,null,null,null,null,null,null,"","","","","","","","",null,"","","","","","","","",null,"","","","","","","","",null,"","","","","","","","",null,"","","","","","","","",null,"","","","","","","",""]
["","","","","","","",{"$f":"\"\"","v":""},{"$f":"IF(B80=\"\",\"\",B80)","v":""},null,null,null,null,null,null,null,null,null,null,null,null,{"$error":"#VALUE!"},{"$error":"#N/A"},null,null,null,null,null,null,null,null,null,null,null,null,null,null,null,null,"","","","","","","","",null,"","","","","","","","",null,"","","","","","","","",null,"","","","","","","","",null,"","","","","","","","",null,"","","","","","","",""]
["","","","","","","",{"$f":"IF(B80=\"\",\"\",B80)","v":""},{"$f":"\"\"","v":""},null,null,null,null,null,null,null,null,null,null,null,null,{"$error":"#VALUE!"},{"$error":"#N/A"},null,null,null,null,null,null,null,null,null,null,null,null,null,null,null,null,"","","","","","","","",null,"","","","","","","","",null,"","","","","","","","",null,"","","","","","","","",null,"","","","","","","","",null,"","","","","","","",""]
["","","","","","","",{"$f":"\"\"","v":""},{"$f":"\"\"","v":""},null,null,null,null,null,null,null,null,null,null,null,null,{"$error":"#VALUE!"},{"$error":"#N/A"},null,null,null,null,null,null,null,null,null,null,null,null,null,null,null,null,"","","","","","","","",null,"","","","","","","","",null,"","","","","","","","",null,"","","","","","","","",null,"","","","","","","","",null,"","","","","","","",""]
["","","","","","","",{"$f":"IF(B82=\"\",\"\",B82)","v":""},{"$f":"IF(B83=\"\",\"\",B83)","v":""},null,null,null,null,null,null,null,null,null,null,null,null,{"$error":"#VALUE!"},{"$error":"#N/A"},null,null,null,null,null,null,null,null,null,null,null,null,null,null,null,null,"","","","","","","","",null,"","","","","","","","",null,"","","","","","","","",null,"","","","","","","","",null,"","","","","","","","",null,"","","","","","","",""]
["","","","","","","",{"$f":"\"\"","v":""},{"$f":"\"\"","v":""},null,null,null,null,null,null,null,null,null,null,null,null,{"$error":"#VALUE!"},{"$error":"#N/A"},null,null,null,null,null,null,null,null,null,null,null,null,null,null,null,null,"","","","","","","","",null,"","","","","","","","",null,"","","","","","","","",null,"","","","","","","","",null,"","","","","","","","",null,"","","","","","","",""]
["","","","","","","",{"$f":"IF(B84=\"\",\"\",B84)","v":""},{"$f":"\"\"","v":""},null,null,null,null,null,null,null,null,null,null,null,null,{"$error":"#VALUE!"},{"$error":"#N/A"},null,null,null,null,null,null,null,null,null,null,null,null,null,null,null,null,"","","","","","","","",null,"","","","","","","","",null,"","","","","","","","",null,"","","","","","","","",null,"","","","","","","","",null,"","","","","","","",""]
["","","","","","","",{"$f":"\"\"","v":""},{"$f":"IF(B86=\"\",\"\",B86)","v":""},null,null,null,null,null,null,null,null,null,null,null,null,{"$error":"#VALUE!"},{"$error":"#N/A"},null,null,null,null,null,null,null,null,null,null,null,null,null,null,null,null,"","","","","","","","",null,"","","","","","","","",null,"","","","","","","","",null,"","","","","","","","",null,"","","","","","","","",null,"","","","","","","",""]
["","","","","","","",{"$f":"IF(B86=\"\",\"\",B86)","v":""},{"$f":"\"\"","v":""},null,null,null,null,null,null,null,null,null,null,null,null,{"$error":"#VALUE!"},{"$error":"#N/A"},null,null,null,null,null,null,null,null,null,null,null,null,null,null,null,null,"","","","","","","","",null,"","","","","","","","",null,"","","","","","","","",null,"","","","","","","","",null,"","","","","","","","",null,"","","","","","","",""]
["","","","","","","",{"$f":"\"\"","v":""},{"$f":"\"\"","v":""},null,null,null,null,null,null,null,null,null,null,null,null,{"$error":"#VALUE!"},{"$error":"#N/A"},null,null,null,null,null,null,null,null,null,null,null,null,null,null,null,null,"","","","","","","","",null,"","","","","","","","",null,"","","","","","","","",null,"","","","","","","","",null,"","","","","","","","",null,"","","","","","","",""]
["","","","","","","",{"$f":"IF(B88=\"\",\"\",B88)","v":""},{"$f":"IF(B89=\"\",\"\",B89)","v":""},null,null,null,null,null,null,null,null,null,null,null,null,{"$error":"#VALUE!"},{"$error":"#N/A"},null,null,null,null,null,null,null,null,null,null,null,null,null,null,null,null,"","","","","","","","",null,"","","","","","","","",null,"","","","","","","","",null,"","","","","","","","",null,"","","","","","","","",null,"","","","","","","",""]
["","","","","","","",{"$f":"\"\"","v":""},{"$f":"\"\"","v":""},null,null,null,null,null,null,null,null,null,null,null,null,{"$error":"#VALUE!"},{"$error":"#N/A"},null,null,null,null,null,null,null,null,null,null,null,null,null,null,null,null,"","","","","","","","",null,"","","","","","","","",null,"","","","","","","","",null,"","","","","","","","",null,"","","","","","","","",null,"","","","","","","",""]
["","","","","","","",{"$f":"\"\"","v":""},{"$f":"\"\"","v":""},null,null,null,null,null,null,null,null,null,null,null,null,{"$error":"#VALUE!"},{"$error":"#N/A"},null,null,null,null,null,null,null,null,null,null,null,null,null,null,null,null,"","","","","","","","",null,"","","","","","","","",null,"","","","","","","","",null,"","","","","","","","",null,"","","","","","","","",null,"","","","","","","",""]
["","","","","","","",{"$f":"IF(B91=\"\",\"\",B91)","v":""},{"$f":"IF(B92=\"\",\"\",B92)","v":""},null,null,null,null,null,null,null,null,null,null,null,null,{"$error":"#VALUE!"},{"$error":"#N/A"},null,null,null,null,null,null,null,null,null,null,null,null,null,null,null,null,"","","","","","","","",null,"","","","","","","","",null,"","","","","","","","",null,"","","","","","","","",null,"","","","","","","","",null,"","","","","","","",""]
["","","","","","","",{"$f":"\"\"","v":""},{"$f":"\"\"","v":""},null,null,null,null,null,null,null,null,null,null,null,null,{"$error":"#VALUE!"},{"$error":"#N/A"},null,null,null,null,null,null,null,null,null,null,null,null,null,null,null,null,"","","","","","","","",null,"","","","","","","","",null,"","","","","","","","",null,"","","","","","","","",null,"","","","","","","","",null,"","","","","","","",""]
["","","","","","","",{"$f":"IF(B93=\"\",\"\",B93)","v":""},{"$f":"\"\"","v":""},null,null,null,null,null,null,null,null,null,null,null,null,{"$error":"#VALUE!"},{"$error":"#N/A"},null,null,null,null,null,null,null,null,null,null,null,null,null,null,null,null,"","","","","","","","",null,"","","","","","","","",null,"","","","","","","","",null,"","","","","","","","",null,"","","","","","","","",null,"","","","","","","",""]
["","","","","","","",{"$f":"\"\"","v":""},{"$f":"IF(B95=\"\",\"\",B95)","v":""},null,null,null,null,null,null,null,null,null,null,null,null,{"$error":"#VALUE!"},{"$error":"#N/A"},null,null,null,null,null,null,null,null,null,null,null,null,null,null,null,null,"","","","","","","","",null,"","","","","","","","",null,"","","","","","","","",null,"","","","","","","","",null,"","","","","","","","",null,"","","","","","","",""]
["","","","","","","",{"$f":"IF(B95=\"\",\"\",B95)","v":""},{"$f":"\"\"","v":""},null,null,null,null,null,null,null,null,null,null,null,null,{"$error":"#VALUE!"},{"$error":"#N/A"},null,null,null,null,null,null,null,null,null,null,null,null,null,null,null,null,"","","","","","","","",null,"","","","","","","","",null,"","","","","","","","",null,"","","","","","","","",null,"","","","","","","","",null,"","","","","","","",""]
["","","","","","","",{"$f":"\"\"","v":""},{"$f":"\"\"","v":""},null,null,null,null,null,null,null,null,null,null,null,null,{"$error":"#VALUE!"},{"$error":"#N/A"},null,null,null,null,null,null,null,null,null,null,null,null,null,null,null,null,"","","","","","","","",null,"","","","","","","","",null,"","","","","","","","",null,"","","","","","","","",null,"","","","","","","","",null,"","","","","","","",""]
["","","","","","","",{"$f":"IF(B97=\"\",\"\",B97)","v":""},{"$f":"IF(B98=\"\",\"\",B98)","v":""},null,null,null,null,null,null,null,null,null,null,null,null,{"$error":"#VALUE!"},{"$error":"#N/A"},null,null,null,null,null,null,null,null,null,null,null,null,null,null,null,null,"","","","","","","","",null,"","","","","","","","",null,"","","","","","","","",null,"","","","","","","","",null,"","","","","","","","",null,"","","","","","","",""]
["","","","","","","",{"$f":"\"\"","v":""},{"$f":"\"\"","v":""},null,null,null,null,null,null,null,null,null,null,null,null,{"$error":"#VALUE!"},{"$error":"#N/A"},null,null,null,null,null,null,null,null,null,null,null,null,null,null,null,null,"","","","","","","","",null,"","","","","","","","",null,"","","","","","","","",null,"","","","","","","","",null,"","","","","","","","",null,"","","","","","","",""]
["","","",{"$f":"IF(B99=\"\",\"\",B99)","v":""},"","","",{"$f":"IF(B99=\"\",\"\",B99)","v":""},{"$f":"\"\"","v":""},null,null,null,null,null,null,null,null,null,null,null,null,{"$error":"#VALUE!"},{"$error":"#N/A"},null,null,null,null,null,null,null,null,null,null,null,null,null,null,null,null,"","","","","","","","",null,"","","","","","","","",null,"","","","","","","","",null,"","","","","","","","",null,"","","","","","","","",null,"","","","","","","",""]
["","",null,null,null,null,null,null,null,null,null,null,null,null,null,null,null,null,null,null,null,null,null,null,null,null,null,null,null,null,null,null,null,null,null,null,null,null,null,"","","","","","","","",null,"","","","","","","","",null,"","","","","","","","",null,"","","","","","","","",null,"","","","","","","","",null,"","","","","","","",""]
["","",null,null,null,null,null,null,null,null,null,null,null,null,null,null,null,null,null,null,null,null,null,null,null,null,null,null,null,null,null,null,null,null,null,null,null,null,null,"","","","","","","","",null,"","","","","","","","",null,"","","","","","","","",null,"","","","","","","","",null,"","","","","","","","",null,"","","","","","","",""]
["Sample point row=",{"$f":"MATCH(MAX(A6:A101),A:A,0)","v":6},{"$f":"B104+1","v":7},{"$f":"C104+1","v":8},{"$f":"D104+1","v":9},{"$f":"E104+1","v":10},{"$f":"F104+1","v":11}]

{"sheet":"Normal Plots","index":4,"n_rows":562,"n_cols":55,"rows_kept":562,"cut":false,"hidden":false,"merged":[]}
["Streambank Alteration","Bank Stability",null,null,"NORMAL PROBABILITY PLOTS",null,null,null,"(Using the Regression Function)",null,null,null,null,null,null,null,"Using Normal Dist function",null,null,null,null,null,null,null,null,null,null,null,null,"NORMAL PROBABILITY PLOTS",null,null,null,"(Using the \"Norm.Dist\" function)",null,null,null,null,null,null,null,null,"Transformations",null,null,null,null,"Natural Log","Exponential","ƛ=-.1","ƛ=.1","ƛ=.5","ƛ=.6","ƛ=.7","Phi"]
["00:00:00","",null,null,null,null,null,null,null,null,null,null,null,null,null,null,null,null,null,null,null,null,null,null,null,"Mean","Standard Deviation","Normal function*",null,null,null,null,null,null,null,null,null,null,null,null,null,null,null,null,null,null,null,{"$f":"IF($A3=\"\",\"\",LN($A3+1))","v":""},{"$f":"IF($A3=\"\",\"\",EXP($A3))","v":""},{"$f":"IF($A3=\"\",\"\",($A3+1)^-0.1)","v":""},{"$f":"IF($A3=\"\",\"\",($A3+1)^0.1)","v":""},{"$f":"IF($A3=\"\",\"\",($A3+1)^0.5)","v":""},{"$f":"IF($A3=\"\",\"\",($A3+1)^0.6)","v":""},null,{"$f":"IF($A3=\"\",\"\",LOG($A3,2))","v":""}]
["","","STEPS",null,null,null,null,null,null,null,null,null,null,null,null,null,null,null,null,null,null,null,null,null,{"$f":"IF(A3=\"\",\"\",A3)","v":""},{"$f":"AVERAGE(Y:Y)","v":{"$error":"#DIV/0!"}},{"$f":"STDEV(Y:Y)","v":{"$error":"#DIV/0!"}},{"$f":"IF(Y3=\"\",\"\",_xlfn.NORM.DIST(Y3,Z$3,AA$3,FALSE))","v":""},null,"STEPS",null,null,null,null,null,null,null,null,null,null,null,null,null,null,null,null,null,{"$f":"IF(A4=\"\",\"\",LN(A4+1))","v":""},{"$f":"IF($A4=\"\",\"\",EXP($A4))","v":""},{"$f":"IF($A4=\"\",\"\",($A4+1)^-0.1)","v":""},{"$f":"IF($A4=\"\",\"\",($A4+1)^0.1)","v":""},{"$f":"IF($A4=\"\",\"\",($A4+1)^0.5)","v":""},{"$f":"IF($A4=\"\",\"\",($A4+1)^0.6)","v":""},{"$f":"IF($A4=\"\",\"\",($A4+1)^0.7)","v":""},""]
["","","1.  Place the data to be tested for normality in column A, and any other data in column B (generated for you in \"Run normal probability plot\")",null,null,null,null,null,null,null,null,null,null,null,null,null,null,null,null,null,null,null,null,null,"",null,null,{"$f":"IF(Y4=\"\",\"\",_xlfn.NORM.DIST(Y4,Z$3,AA$3,FALSE))","v":""},null,null,null,null,null,null,null,null,null,null,null,null,null,null,null,null,null,null,null,"","","","","","","",""]
["","","2.  Select \"Data\" in the toolbar above then \"Data Analysis Tools\" (far right side of bar).",null,null,null,null,null,null,null,null,null,null,null,null,null,null,null,null,null,null,null,null,null,"",null,null,"",null,"1.  Select the data in column A",null,null,null,null,null,null,null,null,null,null,null,null,null,null,null,null,null,"","","","","","","",""]
["","","3.  Select \"Regression\" in the Data Analysis toolbox, then \"OK\"",null,null,null,null,null,null,null,null,null,null,null,null,null,null,null,null,null,null,null,null,null,"",null,null,"",null,"2.  Select: \"Data\", \"Sort\" \"Continue with the current selection\" (smallest to largest), then OK",null,null,null,null,null,null,null,null,null,null,null,null,null,null,null,null,null,"","","","","","","",""]
["","","4.  Input y range:  click on the box and then select the range of data in column A (down to the last value in the list)",null,null,null,null,null,null,null,null,null,null,null,null,null,null,null,null,null,null,null,null,null,"",null,null,"",null,"3.  Select the data in Column y",null,null,null,null,null,null,null,null,null,null,null,null,null,null,null,null,null,"","","","","","","",""]
["","","5.  Input x range:  click on the box and then select the range of data in column B (down to the the same row as was selected in column A)",null,null,null,null,null,null,null,null,null,null,null,null,null,null,null,null,null,null,null,null,null,"",null,null,"",null,"4. While holding down the Ctrl key select the data in column AB",null,null,null,null,null,null,null,null,null,null,null,null,null,null,null,null,null,"","","","","","","",""]
["","","6.  Output range:  click on the box and then select C15",null,null,null,null,null,null,null,null,null,null,null,null,null,null,null,null,null,null,null,null,null,"",null,null,"",null,"5.  Select from the menu above \"Insert\", then in the Charts group \"Scatter chart with smooth lines\"",null,null,null,null,null,null,null,null,null,null,null,null,null,null,null,null,null,"","","","","","","",""]
["","","7.  Click on Normal Probability Plots and then select OK",null,null,null,null,null,null,null,null,null,null,null,null,null,null,null,null,null,null,null,null,null,"",null,null,"",null,"6.   Select the chart and move it down to cell AD18",null,null,null,null,null,null,null,null,null,null,null,null,null,null,null,null,null,{"$f":"IF(A11=\"\",\"\",LN(A11+1))","v":""},{"$f":"IF($A11=\"\",\"\",EXP($A11))","v":""},{"$f":"IF($A11=\"\",\"\",($A11+1)^-0.1)","v":""},{"$f":"IF($A11=\"\",\"\",($A11+1)^0.1)","v":""},{"$f":"IF($A11=\"\",\"\",($A11+1)^0.5)","v":""},{"$f":"IF($A11=\"\",\"\",($A11+1)^0.6)","v":""},{"$f":"IF($A11=\"\",\"\",($A11+1)^0.7)","v":""},""]
["","","8.  The normal probability plot is shown at right",null,null,null,null,null,null,null,null,null,null,null,null,null,null,null,null,null,null,null,null,null,"",null,null,"",null,"7.  A normal probability curve will be bell-shaped",null,null,null,null,null,null,null,null,null,null,null,null,null,null,null,null,null,{"$f":"IF(A12=\"\",\"\",LN(A12+1))","v":""},{"$f":"IF($A12=\"\",\"\",EXP($A12))","v":""},{"$f":"IF($A12=\"\",\"\",($A12+1)^-0.1)","v":""},{"$f":"IF($A12=\"\",\"\",($A12+1)^0.1)","v":""},{"$f":"IF($A12=\"\",\"\",($A12+1)^0.5)","v":""},{"$f":"IF($A12=\"\",\"\",($A12+1)^0.6)","v":""},{"$f":"IF($A12=\"\",\"\",($A12+1)^0.7)","v":""},""]
["","",null,null,null,null,null,null,null,null,null,null,null,null,null,null,null,null,null,null,null,null,null,null,"",null,null,"",null,null,null,null,null,null,null,null,null,null,null,null,null,null,null,null,null,null,null,{"$f":"IF(A13=\"\",\"\",LN(A13+1))","v":""},{"$f":"IF($A13=\"\",\"\",EXP($A13))","v":""},{"$f":"IF($A13=\"\",\"\",($A13+1)^-0.1)","v":""},{"$f":"IF($A13=\"\",\"\",($A13+1)^0.1)","v":""},{"$f":"IF($A13=\"\",\"\",($A13+1)^0.5)","v":""},{"$f":"IF($A13=\"\",\"\",($A13+1)^0.6)","v":""},{"$f":"IF($A13=\"\",\"\",($A13+1)^0.7)","v":""},""]
["","","Elzinga et.al.: \"If the data come from a normal distribution, the plotted values fall along a straight line\n extending from the lower left corner towards the upper right corner.\"",null,null,null,null,null,null,null,null,null,null,null,null,null,null,null,null,null,null,null,null,null,"",null,null,"",null,"*   The NORM.DIST function calculates the probability that variable X falls below or at a specified value. The NORM.DIST function ",null,null,null,null,null,null,null,null,null,null,null,null,null,null,null,null,null,{"$f":"IF(A14=\"\",\"\",LN(A14+1))","v":""},{"$f":"IF($A14=\"\",\"\",EXP($A14))","v":""},{"$f":"IF($A14=\"\",\"\",($A14+1)^-0.1)","v":""},{"$f":"IF($A14=\"\",\"\",($A14+1)^0.1)","v":""},{"$f":"IF($A14=\"\",\"\",($A14+1)^0.5)","v":""},{"$f":"IF($A14=\"\",\"\",($A14+1)^0.6)","v":""},{"$f":"IF($A14=\"\",\"\",($A14+1)^0.7)","v":""},""]
["","",null,null,null,null,null,null,null,null,null,null,null,null,null,null,null,null,null,null,null,null,null,null,"",null,null,"",null,"uses the syntax. =NORM.DIST (x,mean,standard_dev,cumulative) where x is the variable that you want to compare, mean is the population mean, ",null,null,null,null,null,null,null,null,null,null,null,null,null,null,null,null,null,{"$f":"IF(A15=\"\",\"\",LN(A15+1))","v":""},{"$f":"IF($A15=\"\",\"\",EXP($A15))","v":""},{"$f":"IF($A15=\"\",\"\",($A15+1)^-0.1)","v":""},{"$f":"IF($A15=\"\",\"\",($A15+1)^0.1)","v":""},{"$f":"IF($A15=\"\",\"\",($A15+1)^0.5)","v":""},{"$f":"IF($A15=\"\",\"\",($A15+1)^0.6)","v":""},{"$f":"IF($A15=\"\",\"\",($A15+1)^0.7)","v":""},""]
["","",{"$f":"IF(A16=\"\",\"\",LN(A16+1))","v":""},{"$f":"IF($A16=\"\",\"\",EXP($A16))","v":""},{"$f":"IF($A16=\"\",\"\",($A16+1)^-0.1)","v":""},{"$f":"IF($A16=\"\",\"\",($A16+1)^0.1)","v":""},{"$f":"IF($A16=\"\",\"\",($A16+1)^0.5)","v":""},{"$f":"IF($A16=\"\",\"\",($A16+1)^0.6)","v":""},{"$f":"IF($A16=\"\",\"\",($A16+1)^0.7)","v":""},{"$f":"IF($A16=\"\",\"\",LOG($A16,2))","v":""}]
["","","",{"$f":"IF($A17=\"\",\"\",EXP($A17))","v":""},{"$f":"IF($A17=\"\",\"\",($A17+1)^-0.1)","v":""},{"$f":"IF($A17=\"\",\"\",($A17+1)^0.1)","v":""},{"$f":"IF($A17=\"\",\"\",($A17+1)^0.5)","v":""},{"$f":"IF($A17=\"\",\"\",($A17+1)^0.6)","v":""},{"$f":"IF($A17=\"\",\"\",($A17+1)^0.7)","v":""},""]
["","","",{"$f":"IF($A18=\"\",\"\",EXP($A18))","v":""},{"$f":"IF($A18=\"\",\"\",($A18+1)^-0.1)","v":""},{"$f":"IF($A18=\"\",\"\",($A18+1)^0.1)","v":""},{"$f":"IF($A18=\"\",\"\",($A18+1)^0.5)","v":""},{"$f":"IF($A18=\"\",\"\",($A18+1)^0.6)","v":""},{"$f":"IF($A18=\"\",\"\",($A18+1)^0.7)","v":""},""]
["","","","","","","","","",""]
["","","","","","","","","",""]
["","","","","","","","","",""]
["","","","","","","","","",""]
["","","","","","","","","",""]
["","","","","","","","","",""]
["","","","","","","","","",""]
["","","","","","","","","",""]
["","","","","","","","","",""]
["","","","","","","","","",""]
["","","","","","","","","",""]
["","","","","","","","","",""]
["","","","","","","","","",""]
["","","","","","","","","",""]
["","","","","","","","","",""]
["","","","","","","","","",""]
["","","","","","","","","",""]
["","","","","","","","","",""]
["","","","","","","","","",""]
["","","","","","","","","",""]
["","","","","","","","","",""]
["","","","","","","","","",""]
["","","","","","","","","",""]
["","","","","","","","","",""]
["","","","","","","","","",""]
["","","","","","","","","",""]
["","","","","","","","","",""]
["","","","","","","","","",""]
["","","","","","","","","",""]
["","","","","","","","","",{"$f":"IF($A48=\"\",\"\",LOG($A48,2))","v":""}]
["","","","","","","","","",""]
["","","","","","","","","",""]
["","","","","","","","","",""]
["","","","","","","","","",""]
["","","","","","","","","",""]
["","","","","","","","","",""]
["","","","","","","","","",""]
["","","","","","","","","",""]
["","","","","","","","","",""]
["","","","","","","","","",""]
["","","","","","","","","",""]
["","","","","","","","","",""]
["","","","","","","","","",""]
["","","","","","","","","",""]
["","","","","","","","","",""]
["","","","","","","","","",""]
["","","","","","","","","",""]
["","","","","","","","","",""]
["","","","","","","","","",""]
["","","","","","","","","",{"$f":"IF($A68=\"\",\"\",LOG($A68,2))","v":""}]
["","","","","","","","","",""]
["","","","","","","","","",""]
["","","","","","","","","",""]
["","","","","","","","","",""]
["","","","","","","","","",""]
["","","","","","","","","",""]
["","","","","","","","","",""]
["","","","","","","","","",""]
["","","","","","","","","",""]
["","","","","","","","","",""]
["","","","","","","","","",""]
["","",{"$f":"IF(A80=\"\",\"\",LN(A80+1))","v":""},"","","","","","",""]
["","","","","","","","","",""]
["","","",{"$f":"IF($A82=\"\",\"\",EXP($A82))","v":""},{"$f":"IF($A82=\"\",\"\",($A82+1)^-0.1)","v":""},{"$f":"IF($A82=\"\",\"\",($A82+1)^0.1)","v":""},{"$f":"IF($A82=\"\",\"\",($A82+1)^0.5)","v":""},{"$f":"IF($A82=\"\",\"\",($A82+1)^0.6)","v":""},{"$f":"IF($A82=\"\",\"\",($A82+1)^0.7)","v":""},""]
["","","","","","","","","",""]
["","","","","","","","","",""]
["","","","","","","","","",""]
["","","","","","","","","",""]
["","","","","","","","","",""]
["","","","","","","","","",""]
["","","","","","","","","",""]
["","","","","","","","","",""]
["","","","","","","","","",""]
["","","","","","","","","",""]
["","","","","","","","","",""]
["","","","","","","","","",""]
["","","","","","","","","",""]
["","","","","","","","","",""]
["","","","","","","","","",""]
["","","","","","","","","",""]
["","","","","","","","","",""]
["","","","","","","","","",""]
["","","","","","","","","",""]
["","","","","","","","","",""]
["","","","","","","","","",""]
["","","","","","","","","",""]
["","","","","","","","","",""]
["","","","","","","","","",""]
["","","","","","","","","",""]
["","","","","","","","","",""]
["","","","","","","","","",""]
["","","","","","","","","",""]
["","","","","","","","","",""]
["","","","","","","","","",""]
["","","","","","","","","",""]
["","","","","","","","","",""]
["","","","","","","","","",""]
["","","","","","","","","",""]
["","","","","","","","","",""]
["","","","","","","","","",""]
["","","","","","","","","",""]
["","","","","","","","","",""]
["","","","","","","","","",""]
["","","","","","","","","",""]
["","","","","","","","","",""]
["","","","","","","","","",""]
["","","","","","","","","",""]
["","","","","","","","","",""]
["","","","","","","","","",""]
["","","","","","","","","",""]
["","","","","","","","","",""]
["","","","","","","","","",""]
["","","","","","","","","",""]
["","","","","","","","","",{"$f":"IF($A132=\"\",\"\",LOG($A132,2))","v":""}]
["","","","","","","","","",""]
["","","","","","","","","",""]
["","","","","","","","","",""]
["","","","","","","","","",""]
["","","","","","","","","",""]
["","","","","","","","","",""]
["","","","","","","","","",""]
["","","","","","","","","",""]
["","","","","","","","","",""]
["","","","","","","","","",""]
["","","","","","","","","",""]
["","",{"$f":"IF(A144=\"\",\"\",LN(A144+1))","v":""},"","","","","","",""]
["","","","","","","","","",""]
["","","",{"$f":"IF($A146=\"\",\"\",EXP($A146))","v":""},{"$f":"IF($A146=\"\",\"\",($A146+1)^-0.1)","v":""},{"$f":"IF($A146=\"\",\"\",($A146+1)^0.1)","v":""},{"$f":"IF($A146=\"\",\"\",($A146+1)^0.5)","v":""},{"$f":"IF($A146=\"\",\"\",($A146+1)^0.6)","v":""},{"$f":"IF($A146=\"\",\"\",($A146+1)^0.7)","v":""},""]
["","","","","","","","","",""]
["","","","","","","","","",""]
["","","","","","","","","",""]
["","","","","","","","","",""]
["","","","","","","","","",""]
["","","","","","","","","",""]
["","","","","","","","","",""]
["","","","","","","","","",""]
["","","","","","","","","",""]
["","","","","","","","","",""]
["","","","","","","","","",""]
["","","","","","","","","",""]
["","","","","","","","","",""]
["","","","","","","","","",""]
["","","","","","","","","",""]
["","","","","","","","","",""]
["","","","","","","","","",""]
["","","","","","","","","",""]
["","","","","","","","","",""]
["","","","","","","","","",""]
["","","","","","","","","",""]
["","","","","","","","","",""]
["","","","","","","","","",""]
["","","","","","","","","",""]
["","","","","","","","","",""]
["","","","","","","","","",""]
["","","","","","","","","",""]
["","","","","","","","","",""]
["","","","","","","","","",""]
["","","","","","","","","",""]
["","","","","","","","","",""]
["","","","","","","","","",""]
["","","","","","","","","",""]
["","","","","","","","","",""]
["","","","","","","","","",""]
["","","","","","","","","",""]
["","","","","","","","","",""]
["","","","","","","","","",""]
["","","","","","","","","",""]
["","","","","","","","","",""]
["","","","","","","","","",""]
["","","","","","","","","",""]
["","","","","","","","","",""]
["","","","","","","","","",""]
["","","","","","","","","",""]
["","","","","","","","","",""]
["","","","","","","","","",""]
["","","","","","","","","",""]
["","","","","","","","","",""]
["","","","","","","","","",{"$f":"IF($A196=\"\",\"\",LOG($A196,2))","v":""}]
["","","","","","","","","",""]
["","","","","","","","","",""]
["","","","","","","","","",""]
["","","","","","","","","",""]
["","","","","","","","","",""]
["","","","","","","","","",""]
["","","","","","","","","",""]
["","","","","","","","","",""]
["","","","","","","","","",""]
["","","","","","","","","",""]
["","","","","","","","","",""]
["","",{"$f":"IF(A208=\"\",\"\",LN(A208+1))","v":""},"","","","","","",""]
["","","","","","","","","",""]
["","","",{"$f":"IF($A210=\"\",\"\",EXP($A210))","v":""},{"$f":"IF($A210=\"\",\"\",($A210+1)^-0.1)","v":""},{"$f":"IF($A210=\"\",\"\",($A210+1)^0.1)","v":""},{"$f":"IF($A210=\"\",\"\",($A210+1)^0.5)","v":""},{"$f":"IF($A210=\"\",\"\",($A210+1)^0.6)","v":""},{"$f":"IF($A210=\"\",\"\",($A210+1)^0.7)","v":""},""]
["","","","","","","","","",""]
["","","","","","","","","",""]
["","","","","","","","","",""]
["","","","","","","","","",""]
["","","","","","","","","",""]
["","","","","","","","","",""]
["","","","","","","","","",""]
["","","","","","","","","",""]
["","","","","","","","","",""]
["","","","","","","","","",""]
["","","","","","","","","",""]
["","","","","","","","","",""]
["","","","","","","","","",""]
["","","","","","","","","",""]
["","","","","","","","","",""]
["","","","","","","","","",""]
["","","","","","","","","",""]
["","","","","","","","","",""]
["","","","","","","","","",""]
["","","","","","","","","",""]
["","","","","","","","","",""]
["","","","","","","","","",""]
["","","","","","","","","",""]
["","","","","","","","","",""]
["","","","","","","","","",""]
["","","","","","","","","",""]
["","","","","","","","","",""]
["","","","","","","","","",""]
["","","","","","","","","",""]
["","","","","","","","","",""]
["","","","","","","","","",""]
["","","","","","","","","",""]
["","","","","","","","","",""]
["","","","","","","","","",""]
["","","","","","","","","",""]
["","","","","","","","","",""]
["","","","","","","","","",""]
["","","","","","","","","",""]
["","","","","","","","","",""]
["","","","","","","","","",""]
["","","","","","","","","",""]
["","","","","","","","","",""]
["","","","","","","","","",""]
["","","","","","","","","",""]
["","","","","","","","","",""]
["","","","","","","","","",""]
["","","","","","","","","",""]
["","","","","","","","","",""]
["","","","","","","","","",""]
["","","","","","","","","",{"$f":"IF($A260=\"\",\"\",LOG($A260,2))","v":""}]
["","","","","","","","","",""]
["","","","","","","","","",""]
["","","","","","","","","",""]
["","","","","","","","","",""]
["","","","","","","","","",""]
["","","","","","","","","",""]
["","","","","","","","","",""]
["","","","","","","","","",""]
["","","","","","","","","",""]
["","","","","","","","","",""]
["","","","","","","","","",""]
["","",{"$f":"IF(A272=\"\",\"\",LN(A272+1))","v":""},"","","","","","",""]
["","","","","","","","","",""]
["","","",{"$f":"IF($A274=\"\",\"\",EXP($A274))","v":""},{"$f":"IF($A274=\"\",\"\",($A274+1)^-0.1)","v":""},{"$f":"IF($A274=\"\",\"\",($A274+1)^0.1)","v":""},{"$f":"IF($A274=\"\",\"\",($A274+1)^0.5)","v":""},{"$f":"IF($A274=\"\",\"\",($A274+1)^0.6)","v":""},{"$f":"IF($A274=\"\",\"\",($A274+1)^0.7)","v":""},""]
["","","","","","","","","",""]
["","","","","","","","","",""]
["","","","","","","","","",""]
["","","","","","","","","",""]
["","","","","","","","","",""]
["","","","","","","","","",""]
["","","","","","","","","",""]
["","","","","","","","","",""]
["","","","","","","","","",""]
["","","","","","","","","",""]
["","","","","","","","","",""]
["","","","","","","","","",""]
["","","","","","","","","",""]
["","","","","","","","","",""]
["","","","","","","","","",""]
["","","","","","","","","",""]
["","","","","","","","","",""]
["","","","","","","","","",""]
["","","","","","","","","",""]
["","","","","","","","","",""]
["","","","","","","","","",""]
["","","","","","","","","",""]
["","","","","","","","","",""]
["","","","","","","","","",""]
["","","","","","","","","",""]
["","","","","","","","","",""]
["","","","","","","","","",""]
["","","","","","","","","",""]
["","","","","","","","","",""]
["","","","","","","","","",""]
["","","","","","","","","",""]
["","","","","","","","","",""]
["","","","","","","","","",""]
["","","","","","","","","",""]
["","","","","","","","","",""]
["","","","","","","","","",""]
["","","","","","","","","",""]
["","","","","","","","","",""]
["","","","","","","","","",""]
["","","","","","","","","",""]
["","","","","","","","","",""]
["","","","","","","","","",""]
["","","","","","","","","",""]
["","","","","","","","","",""]
["","","","","","","","","",""]
["","","","","","","","","",""]
["","","","","","","","","",""]
["","","","","","","","","",""]
["","","","","","","","","",""]
["","","","","","","","","",{"$f":"IF($A324=\"\",\"\",LOG($A324,2))","v":""}]
["","","","","","","","","",""]
["","","","","","","","","",""]
["","","","","","","","","",""]
["","","","","","","","","",""]
["","","","","","","","","",""]
["","","","","","","","","",""]
["","","","","","","","","",""]
["","","","","","","","","",""]
["","","","","","","","","",""]
["","","","","","","","","",""]
["","","","","","","","","",""]
["","",{"$f":"IF(A336=\"\",\"\",LN(A336+1))","v":""},"","","","","","",""]
["","","","","","","","","",""]
["","","",{"$f":"IF($A338=\"\",\"\",EXP($A338))","v":""},{"$f":"IF($A338=\"\",\"\",($A338+1)^-0.1)","v":""},{"$f":"IF($A338=\"\",\"\",($A338+1)^0.1)","v":""},{"$f":"IF($A338=\"\",\"\",($A338+1)^0.5)","v":""},{"$f":"IF($A338=\"\",\"\",($A338+1)^0.6)","v":""},{"$f":"IF($A338=\"\",\"\",($A338+1)^0.7)","v":""},""]
["","","","","","","","","",""]
["","","","","","","","","",""]
["","","","","","","","","",""]
["","","","","","","","","",""]
["","","","","","","","","",""]
["","","","","","","","","",""]
["","","","","","","","","",""]
["","","","","","","","","",""]
["","","","","","","","","",""]
["","","","","","","","","",""]
["","","","","","","","","",""]
["","","","","","","","","",""]
["","","","","","","","","",""]
["","","","","","","","","",""]
["","","","","","","","","",""]
["","","","","","","","","",""]
["","","","","","","","","",""]
["","","","","","","","","",""]
["","","","","","","","","",""]
["","","","","","","","","",""]
["","","","","","","","","",""]
["","","","","","","","","",""]
["","","","","","","","","",""]
["","","","","","","","","",""]
["","","","","","","","","",""]
["","","","","","","","","",""]
["","","","","","","","","",""]
["","","","","","","","","",""]
["","",null,null,null,null,null,null,null,null,null,null,null,null,null,null,null,null,null,null,null,null,null,null,{"$f":"IF(A366=\"\",\"\",A366)","v":""},null,null,{"$f":"IF(Y366=\"\",\"\",_xlfn.NORM.DIST(Y366,Z$3,AA$3,FALSE))","v":""},null,null,null,null,null,null,null,null,null,null,null,null,null,null,null,null,null,null,null,{"$f":"IF(A367=\"\",\"\",LN(A367+1))","v":""},{"$f":"IF($A367=\"\",\"\",EXP($A367))","v":""},{"$f":"IF($A367=\"\",\"\",($A367+1)^-0.1)","v":""},{"$f":"IF($A367=\"\",\"\",($A367+1)^0.1)","v":""},{"$f":"IF($A367=\"\",\"\",($A367+1)^0.5)","v":""},{"$f":"IF($A367=\"\",\"\",($A367+1)^0.6)","v":""},{"$f":"IF($A367=\"\",\"\",($A367+1)^0.7)","v":""},{"$f":"IF($A367=\"\",\"\",LOG($A367,2))","v":""}]
["","",null,null,null,null,null,null,null,null,null,null,null,null,null,null,null,null,null,null,null,null,null,null,"",null,null,"",null,null,null,null,null,null,null,null,null,null,null,null,null,null,null,null,null,null,null,"","","","","","","",""]
["","",null,null,null,null,null,null,null,null,null,null,null,null,null,null,null,null,null,null,null,null,null,null,"",null,null,"",null,null,null,null,null,null,null,null,null,null,null,null,null,null,null,null,null,null,null,"","","","","","","",""]
["","",null,null,null,null,null,null,null,null,null,null,null,null,null,null,null,null,null,null,null,null,null,null,"",null,null,"",null,null,null,null,null,null,null,null,null,null,null,null,null,null,null,null,null,null,null,"","","","","","","",""]
["","",null,null,null,null,null,null,null,null,null,null,null,null,null,null,null,null,null,null,null,null,null,null,"",null,null,"",null,null,null,null,null,null,null,null,null,null,null,null,null,null,null,null,null,null,null,"","","","","","","",""]
["","",null,null,null,null,null,null,null,null,null,null,null,null,null,null,null,null,null,null,null,null,null,null,"",null,null,"",null,null,null,null,null,null,null,null,null,null,null,null,null,null,null,null,null,null,null,"","","","","","","",""]
["","",null,null,null,null,null,null,null,null,null,null,null,null,null,null,null,null,null,null,null,null,null,null,"",null,null,"",null,null,null,null,null,null,null,null,null,null,null,null,null,null,null,null,null,null,null,"","","","","","","",""]
["","",null,null,null,null,null,null,null,null,null,null,null,null,null,null,null,null,null,null,null,null,null,null,"",null,null,"",null,null,null,null,null,null,null,null,null,null,null,null,null,null,null,null,null,null,null,"","","","","","","",""]
["","",null,null,null,null,null,null,null,null,null,null,null,null,null,null,null,null,null,null,null,null,null,null,"",null,null,"",null,null,null,null,null,null,null,null,null,null,null,null,null,null,null,null,null,null,null,"","","","","","","",""]
["","",null,null,null,null,null,null,null,null,null,null,null,null,null,null,null,null,null,null,null,null,null,null,"",null,null,"",null,null,null,null,null,null,null,null,null,null,null,null,null,null,null,null,null,null,null,"","","","","","","",""]
["","",null,null,null,null,null,null,null,null,null,null,null,null,null,null,null,null,null,null,null,null,null,null,"",null,null,"",null,null,null,null,null,null,null,null,null,null,null,null,null,null,null,null,null,null,null,"","","","","","","",""]
["","",null,null,null,null,null,null,null,null,null,null,null,null,null,null,null,null,null,null,null,null,null,null,"",null,null,"",null,null,null,null,null,null,null,null,null,null,null,null,null,null,null,null,null,null,null,"","","","","","","",""]
["","",null,null,null,null,null,null,null,null,null,null,null,null,null,null,null,null,null,null,null,null,null,null,"",null,null,"",null,null,null,null,null,null,null,null,null,null,null,null,null,null,null,null,null,null,null,"","","","","","","",""]
["","",null,null,null,null,null,null,null,null,null,null,null,null,null,null,null,null,null,null,null,null,null,null,"",null,null,"",null,null,null,null,null,null,null,null,null,null,null,null,null,null,null,null,null,null,null,"","","","","","","",""]
["","",null,null,null,null,null,null,null,null,null,null,null,null,null,null,null,null,null,null,null,null,null,null,"",null,null,"",null,null,null,null,null,null,null,null,null,null,null,null,null,null,null,null,null,null,null,"","","","","","","",""]
["","",null,null,null,null,null,null,null,null,null,null,null,null,null,null,null,null,null,null,null,null,null,null,"",null,null,"",null,null,null,null,null,null,null,null,null,null,null,null,null,null,null,null,null,null,null,"","","","","","","",""]
["","",null,null,null,null,null,null,null,null,null,null,null,null,null,null,null,null,null,null,null,null,null,null,"",null,null,"",null,null,null,null,null,null,null,null,null,null,null,null,null,null,null,null,null,null,null,"","","","","","","",""]
["","",null,null,null,null,null,null,null,null,null,null,null,null,null,null,null,null,null,null,null,null,null,null,"",null,null,"",null,null,null,null,null,null,null,null,null,null,null,null,null,null,null,null,null,null,null,"","","","","","","",""]
["","",null,null,null,null,null,null,null,null,null,null,null,null,null,null,null,null,null,null,null,null,null,null,"",null,null,"",null,null,null,null,null,null,null,null,null,null,null,null,null,null,null,null,null,null,null,"","","","","","","",""]
["","",null,null,null,null,null,null,null,null,null,null,null,null,null,null,null,null,null,null,null,null,null,null,"",null,null,"",null,null,null,null,null,null,null,null,null,null,null,null,null,null,null,null,null,null,null,"","","","","","","",""]
["","",null,null,null,null,null,null,null,null,null,null,null,null,null,null,null,null,null,null,null,null,null,null,"",null,null,"",null,null,null,null,null,null,null,null,null,null,null,null,null,null,null,null,null,null,null,"","","","","","","",""]
["","",null,null,null,null,null,null,null,null,null,null,null,null,null,null,null,null,null,null,null,null,null,null,"",null,null,"",null,null,null,null,null,null,null,null,null,null,null,null,null,null,null,null,null,null,null,"","","","","","","",{"$f":"IF($A388=\"\",\"\",LOG($A388,2))","v":""}]
["","",null,null,null,null,null,null,null,null,null,null,null,null,null,null,null,null,null,null,null,null,null,null,"",null,null,{"$f":"IF(Y388=\"\",\"\",_xlfn.NORM.DIST(Y388,Z$3,AA$3,FALSE))","v":""},null,null,null,null,null,null,null,null,null,null,null,null,null,null,null,null,null,null,null,"","","","","","","",""]
["","",null,null,null,null,null,null,null,null,null,null,null,null,null,null,null,null,null,null,null,null,null,null,"",null,null,"",null,null,null,null,null,null,null,null,null,null,null,null,null,null,null,null,null,null,null,"","","","","","","",""]
["","",null,null,null,null,null,null,null,null,null,null,null,null,null,null,null,null,null,null,null,null,null,null,"",null,null,"",null,null,null,null,null,null,null,null,null,null,null,null,null,null,null,null,null,null,null,"","","","","","","",""]
["","",null,null,null,null,null,null,null,null,null,null,null,null,null,null,null,null,null,null,null,null,null,null,"",null,null,"",null,null,null,null,null,null,null,null,null,null,null,null,null,null,null,null,null,null,null,"","","","","","","",""]
["","",null,null,null,null,null,null,null,null,null,null,null,null,null,null,null,null,null,null,null,null,null,null,"",null,null,"",null,null,null,null,null,null,null,null,null,null,null,null,null,null,null,null,null,null,null,"","","","","","","",""]
["","",null,null,null,null,null,null,null,null,null,null,null,null,null,null,null,null,null,null,null,null,null,null,"",null,null,"",null,null,null,null,null,null,null,null,null,null,null,null,null,null,null,null,null,null,null,"","","","","","","",""]
["","",null,null,null,null,null,null,null,null,null,null,null,null,null,null,null,null,null,null,null,null,null,null,"",null,null,"",null,null,null,null,null,null,null,null,null,null,null,null,null,null,null,null,null,null,null,"","","","","","","",""]
["","",null,null,null,null,null,null,null,null,null,null,null,null,null,null,null,null,null,null,null,null,null,null,"",null,null,"",null,null,null,null,null,null,null,null,null,null,null,null,null,null,null,null,null,null,null,"","","","","","","",""]
["","",null,null,null,null,null,null,null,null,null,null,null,null,null,null,null,null,null,null,null,null,null,null,"",null,null,"",null,null,null,null,null,null,null,null,null,null,null,null,null,null,null,null,null,null,null,"","","","","","","",""]
["","",null,null,null,null,null,null,null,null,null,null,null,null,null,null,null,null,null,null,null,null,null,null,"",null,null,"",null,null,null,null,null,null,null,null,null,null,null,null,null,null,null,null,null,null,null,"","","","","","","",""]
["","",null,null,null,null,null,null,null,null,null,null,null,null,null,null,null,null,null,null,null,null,null,null,"",null,null,"",null,null,null,null,null,null,null,null,null,null,null,null,null,null,null,null,null,null,null,"","","","","","","",""]
["","",null,null,null,null,null,null,null,null,null,null,null,null,null,null,null,null,null,null,null,null,null,null,"",null,null,"",null,null,null,null,null,null,null,null,null,null,null,null,null,null,null,null,null,null,null,"","","","","","","",""]
["","",null,null,null,null,null,null,null,null,null,null,null,null,null,null,null,null,null,null,null,null,null,null,"",null,null,"",null,null,null,null,null,null,null,null,null,null,null,null,null,null,null,null,null,null,null,"","","","","","","",""]
["","",null,null,null,null,null,null,null,null,null,null,null,null,null,null,null,null,null,null,null,null,null,null,"",null,null,"",null,null,null,null,null,null,null,null,null,null,null,null,null,null,null,null,null,null,null,{"$f":"IF(A402=\"\",\"\",LN(A402+1))","v":""},{"$f":"IF($A402=\"\",\"\",EXP($A402))","v":""},{"$f":"IF($A402=\"\",\"\",($A402+1)^-0.1)","v":""},{"$f":"IF($A402=\"\",\"\",($A402+1)^0.1)","v":""},{"$f":"IF($A402=\"\",\"\",($A402+1)^0.5)","v":""},{"$f":"IF($A402=\"\",\"\",($A402+1)^0.6)","v":""},{"$f":"IF($A402=\"\",\"\",($A402+1)^0.7)","v":""},""]
["","",null,null,null,null,null,null,null,null,null,null,null,null,null,null,null,null,null,null,null,null,null,null,"",null,null,"",null,null,null,null,null,null,null,null,null,null,null,null,null,null,null,null,null,null,null,"","","","","","","",""]
["","",null,null,null,null,null,null,null,null,null,null,null,null,null,null,null,null,null,null,null,null,null,null,"",null,null,"",null,null,null,null,null,null,null,null,null,null,null,null,null,null,null,null,null,null,null,"","","","","","","",""]
["","",null,null,null,null,null,null,null,null,null,null,null,null,null,null,null,null,null,null,null,null,null,null,"",null,null,"",null,null,null,null,null,null,null,null,null,null,null,null,null,null,null,null,null,null,null,"","","","","","","",""]
["","",null,null,null,null,null,null,null,null,null,null,null,null,null,null,null,null,null,null,null,null,null,null,"",null,null,"",null,null,null,null,null,null,null,null,null,null,null,null,null,null,null,null,null,null,null,"","","","","","","",""]
["","",null,null,null,null,null,null,null,null,null,null,null,null,null,null,null,null,null,null,null,null,null,null,"",null,null,"",null,null,null,null,null,null,null,null,null,null,null,null,null,null,null,null,null,null,null,"","","","","","","",""]
["","",null,null,null,null,null,null,null,null,null,null,null,null,null,null,null,null,null,null,null,null,null,null,"",null,null,"",null,null,null,null,null,null,null,null,null,null,null,null,null,null,null,null,null,null,null,"","","","","","","",""]
["","",null,null,null,null,null,null,null,null,null,null,null,null,null,null,null,null,null,null,null,null,null,null,"",null,null,"",null,null,null,null,null,null,null,null,null,null,null,null,null,null,null,null,null,null,null,"","","","","","","",""]
["","",null,null,null,null,null,null,null,null,null,null,null,null,null,null,null,null,null,null,null,null,null,null,"",null,null,"",null,null,null,null,null,null,null,null,null,null,null,null,null,null,null,null,null,null,null,"","","","","","","",""]
["","",null,null,null,null,null,null,null,null,null,null,null,null,null,null,null,null,null,null,null,null,null,null,"",null,null,"",null,null,null,null,null,null,null,null,null,null,null,null,null,null,null,null,null,null,null,"","","","","","","",""]
["","",null,null,null,null,null,null,null,null,null,null,null,null,null,null,null,null,null,null,null,null,null,null,"",null,null,"",null,null,null,null,null,null,null,null,null,null,null,null,null,null,null,null,null,null,null,"","","","","","","",""]
["","",null,null,null,null,null,null,null,null,null,null,null,null,null,null,null,null,null,null,null,null,null,null,"",null,null,"",null,null,null,null,null,null,null,null,null,null,null,null,null,null,null,null,null,null,null,"","","","","","","",""]
["","",null,null,null,null,null,null,null,null,null,null,null,null,null,null,null,null,null,null,null,null,null,null,"",null,null,"",null,null,null,null,null,null,null,null,null,null,null,null,null,null,null,null,null,null,null,"","","","","","","",""]
["","",null,null,null,null,null,null,null,null,null,null,null,null,null,null,null,null,null,null,null,null,null,null,"",null,null,"",null,null,null,null,null,null,null,null,null,null,null,null,null,null,null,null,null,null,null,"","","","","","","",""]
["","",null,null,null,null,null,null,null,null,null,null,null,null,null,null,null,null,null,null,null,null,null,null,"",null,null,"",null,null,null,null,null,null,null,null,null,null,null,null,null,null,null,null,null,null,null,"","","","","","","",""]
["","",null,null,null,null,null,null,null,null,null,null,null,null,null,null,null,null,null,null,null,null,null,null,"",null,null,"",null,null,null,null,null,null,null,null,null,null,null,null,null,null,null,null,null,null,null,"","","","","","","",""]
["","",null,null,null,null,null,null,null,null,null,null,null,null,null,null,null,null,null,null,null,null,null,null,"",null,null,"",null,null,null,null,null,null,null,null,null,null,null,null,null,null,null,null,null,null,null,"","","","","","","",""]
["","",null,null,null,null,null,null,null,null,null,null,null,null,null,null,null,null,null,null,null,null,null,null,"",null,null,"",null,null,null,null,null,null,null,null,null,null,null,null,null,null,null,null,null,null,null,"","","","","","","",""]
["","",null,null,null,null,null,null,null,null,null,null,null,null,null,null,null,null,null,null,null,null,null,null,"",null,null,"",null,null,null,null,null,null,null,null,null,null,null,null,null,null,null,null,null,null,null,"","","","","","","",""]
["","",null,null,null,null,null,null,null,null,null,null,null,null,null,null,null,null,null,null,null,null,null,null,"",null,null,"",null,null,null,null,null,null,null,null,null,null,null,null,null,null,null,null,null,null,null,"","","","","","","",""]
["","",null,null,null,null,null,null,null,null,null,null,null,null,null,null,null,null,null,null,null,null,null,null,"",null,null,"",null,null,null,null,null,null,null,null,null,null,null,null,null,null,null,null,null,null,null,"","","","","","","",""]
["","",null,null,null,null,null,null,null,null,null,null,null,null,null,null,null,null,null,null,null,null,null,null,"",null,null,"",null,null,null,null,null,null,null,null,null,null,null,null,null,null,null,null,null,null,null,"","","","","","","",""]
["","",null,null,null,null,null,null,null,null,null,null,null,null,null,null,null,null,null,null,null,null,null,null,"",null,null,"",null,null,null,null,null,null,null,null,null,null,null,null,null,null,null,null,null,null,null,"","","","","","","",""]
["","",null,null,null,null,null,null,null,null,null,null,null,null,null,null,null,null,null,null,null,null,null,null,"",null,null,"",null,null,null,null,null,null,null,null,null,null,null,null,null,null,null,null,null,null,null,"","","","","","","",""]
["","",null,null,null,null,null,null,null,null,null,null,null,null,null,null,null,null,null,null,null,null,null,null,{"$f":"IF(A425=\"\",\"\",A425)","v":""},null,null,"",null,null,null,null,null,null,null,null,null,null,null,null,null,null,null,null,null,null,null,"","","","","","","",""]
["","",null,null,null,null,null,null,null,null,null,null,null,null,null,null,null,null,null,null,null,null,null,null,"",null,null,"",null,null,null,null,null,null,null,null,null,null,null,null,null,null,null,null,null,null,null,"","","","","","","",""]
["","",null,null,null,null,null,null,null,null,null,null,null,null,null,null,null,null,null,null,null,null,null,null,"",null,null,"",null,null,null,null,null,null,null,null,null,null,null,null,null,null,null,null,null,null,null,"","","","","","","",""]
["","",null,null,null,null,null,null,null,null,null,null,null,null,null,null,null,null,null,null,null,null,null,null,"",null,null,"",null,null,null,null,null,null,null,null,null,null,null,null,null,null,null,null,null,null,null,"","","","","","","",""]
["","",null,null,null,null,null,null,null,null,null,null,null,null,null,null,null,null,null,null,null,null,null,null,"",null,null,"",null,null,null,null,null,null,null,null,null,null,null,null,null,null,null,null,null,null,null,"","","","","","","",""]
["","",null,null,null,null,null,null,null,null,null,null,null,null,null,null,null,null,null,null,null,null,null,null,"",null,null,"",null,null,null,null,null,null,null,null,null,null,null,null,null,null,null,null,null,null,null,"","","","","","","",""]
["","",null,null,null,null,null,null,null,null,null,null,null,null,null,null,null,null,null,null,null,null,null,null,"",null,null,"",null,null,null,null,null,null,null,null,null,null,null,null,null,null,null,null,null,null,null,"","","","","","","",""]
["","",null,null,null,null,null,null,null,null,null,null,null,null,null,null,null,null,null,null,null,null,null,null,"",null,null,"",null,null,null,null,null,null,null,null,null,null,null,null,null,null,null,null,null,null,null,"","","","","","","",""]
["","",null,null,null,null,null,null,null,null,null,null,null,null,null,null,null,null,null,null,null,null,null,null,"",null,null,"",null,null,null,null,null,null,null,null,null,null,null,null,null,null,null,null,null,null,null,"","","","","","","",""]
["","",null,null,null,null,null,null,null,null,null,null,null,null,null,null,null,null,null,null,null,null,null,null,"",null,null,"",null,null,null,null,null,null,null,null,null,null,null,null,null,null,null,null,null,null,null,"","","","","","","",""]
["","",null,null,null,null,null,null,null,null,null,null,null,null,null,null,null,null,null,null,null,null,null,null,"",null,null,"",null,null,null,null,null,null,null,null,null,null,null,null,null,null,null,null,null,null,null,"","","","","","","",""]
["","",null,null,null,null,null,null,null,null,null,null,null,null,null,null,null,null,null,null,null,null,null,null,"",null,null,"",null,null,null,null,null,null,null,null,null,null,null,null,null,null,null,null,null,null,null,"","","","","","","",""]
["","",null,null,null,null,null,null,null,null,null,null,null,null,null,null,null,null,null,null,null,null,null,null,"",null,null,"",null,null,null,null,null,null,null,null,null,null,null,null,null,null,null,null,null,null,null,"","","","","","","",""]
["","",null,null,null,null,null,null,null,null,null,null,null,null,null,null,null,null,null,null,null,null,null,null,"",null,null,"",null,null,null,null,null,null,null,null,null,null,null,null,null,null,null,null,null,null,null,"","","","","","","",""]
["","",null,null,null,null,null,null,null,null,null,null,null,null,null,null,null,null,null,null,null,null,null,null,"",null,null,"",null,null,null,null,null,null,null,null,null,null,null,null,null,null,null,null,null,null,null,"","","","","","","",""]
["","",null,null,null,null,null,null,null,null,null,null,null,null,null,null,null,null,null,null,null,null,null,null,"",null,null,"",null,null,null,null,null,null,null,null,null,null,null,null,null,null,null,null,null,null,null,"","","","","","","",""]
["","",null,null,null,null,null,null,null,null,null,null,null,null,null,null,null,null,null,null,null,null,null,null,"",null,null,"",null,null,null,null,null,null,null,null,null,null,null,null,null,null,null,null,null,null,null,"","","","","","","",""]
["","",null,null,null,null,null,null,null,null,null,null,null,null,null,null,null,null,null,null,null,null,null,null,"",null,null,"",null,null,null,null,null,null,null,null,null,null,null,null,null,null,null,null,null,null,null,"","","","","","","",""]
["","",null,null,null,null,null,null,null,null,null,null,null,null,null,null,null,null,null,null,null,null,null,null,"",null,null,"",null,null,null,null,null,null,null,null,null,null,null,null,null,null,null,null,null,null,null,"","","","","","","",""]
["","",null,null,null,null,null,null,null,null,null,null,null,null,null,null,null,null,null,null,null,null,null,null,"",null,null,"",null,null,null,null,null,null,null,null,null,null,null,null,null,null,null,null,null,null,null,"","","","","","","",""]
["","",null,null,null,null,null,null,null,null,null,null,null,null,null,null,null,null,null,null,null,null,null,null,"",null,null,"",null,null,null,null,null,null,null,null,null,null,null,null,null,null,null,null,null,null,null,"","","","","","","",""]
["","",null,null,null,null,null,null,null,null,null,null,null,null,null,null,null,null,null,null,null,null,null,null,"",null,null,"",null,null,null,null,null,null,null,null,null,null,null,null,null,null,null,null,null,null,null,"","","","","","","",""]
["","",null,null,null,null,null,null,null,null,null,null,null,null,null,null,null,null,null,null,null,null,null,null,"",null,null,"",null,null,null,null,null,null,null,null,null,null,null,null,null,null,null,null,null,null,null,"","","","","","","",""]
["","",null,null,null,null,null,null,null,null,null,null,null,null,null,null,null,null,null,null,null,null,null,null,"",null,null,"",null,null,null,null,null,null,null,null,null,null,null,null,null,null,null,null,null,null,null,"","","","","","","",""]
["","",null,null,null,null,null,null,null,null,null,null,null,null,null,null,null,null,null,null,null,null,null,null,"",null,null,"",null,null,null,null,null,null,null,null,null,null,null,null,null,null,null,null,null,null,null,"","","","","","","",""]
["","",null,null,null,null,null,null,null,null,null,null,null,null,null,null,null,null,null,null,null,null,null,null,"",null,null,"",null,null,null,null,null,null,null,null,null,null,null,null,null,null,null,null,null,null,null,"","","","","","","",""]
["","",null,null,null,null,null,null,null,null,null,null,null,null,null,null,null,null,null,null,null,null,null,null,"",null,null,"",null,null,null,null,null,null,null,null,null,null,null,null,null,null,null,null,null,null,null,"","","","","","","",{"$f":"IF($A452=\"\",\"\",LOG($A452,2))","v":""}]
["","",null,null,null,null,null,null,null,null,null,null,null,null,null,null,null,null,null,null,null,null,null,null,"",null,null,{"$f":"IF(Y452=\"\",\"\",_xlfn.NORM.DIST(Y452,Z$3,AA$3,FALSE))","v":""},null,null,null,null,null,null,null,null,null,null,null,null,null,null,null,null,null,null,null,"","","","","","","",""]
["","",null,null,null,null,null,null,null,null,null,null,null,null,null,null,null,null,null,null,null,null,null,null,"",null,null,"",null,null,null,null,null,null,null,null,null,null,null,null,null,null,null,null,null,null,null,"","","","","","","",""]
["","",null,null,null,null,null,null,null,null,null,null,null,null,null,null,null,null,null,null,null,null,null,null,"",null,null,"",null,null,null,null,null,null,null,null,null,null,null,null,null,null,null,null,null,null,null,"","","","","","","",""]
["","",null,null,null,null,null,null,null,null,null,null,null,null,null,null,null,null,null,null,null,null,null,null,"",null,null,"",null,null,null,null,null,null,null,null,null,null,null,null,null,null,null,null,null,null,null,"","","","","","","",""]
["","",null,null,null,null,null,null,null,null,null,null,null,null,null,null,null,null,null,null,null,null,null,null,"",null,null,"",null,null,null,null,null,null,null,null,null,null,null,null,null,null,null,null,null,null,null,"","","","","","","",""]
["","",null,null,null,null,null,null,null,null,null,null,null,null,null,null,null,null,null,null,null,null,null,null,"",null,null,"",null,null,null,null,null,null,null,null,null,null,null,null,null,null,null,null,null,null,null,"","","","","","","",""]
["","",null,null,null,null,null,null,null,null,null,null,null,null,null,null,null,null,null,null,null,null,null,null,"",null,null,"",null,null,null,null,null,null,null,null,null,null,null,null,null,null,null,null,null,null,null,"","","","","","","",""]
["","",null,null,null,null,null,null,null,null,null,null,null,null,null,null,null,null,null,null,null,null,null,null,"",null,null,"",null,null,null,null,null,null,null,null,null,null,null,null,null,null,null,null,null,null,null,"","","","","","","",""]
["","",null,null,null,null,null,null,null,null,null,null,null,null,null,null,null,null,null,null,null,null,null,null,"",null,null,"",null,null,null,null,null,null,null,null,null,null,null,null,null,null,null,null,null,null,null,"","","","","","","",""]
["","",null,null,null,null,null,null,null,null,null,null,null,null,null,null,null,null,null,null,null,null,null,null,"",null,null,"",null,null,null,null,null,null,null,null,null,null,null,null,null,null,null,null,null,null,null,"","","","","","","",""]
["","",null,null,null,null,null,null,null,null,null,null,null,null,null,null,null,null,null,null,null,null,null,null,"",null,null,"",null,null,null,null,null,null,null,null,null,null,null,null,null,null,null,null,null,null,null,"","","","","","","",""]
["","",null,null,null,null,null,null,null,null,null,null,null,null,null,null,null,null,null,null,null,null,null,null,"",null,null,"",null,null,null,null,null,null,null,null,null,null,null,null,null,null,null,null,null,null,null,"","","","","","","",""]
["","",null,null,null,null,null,null,null,null,null,null,null,null,null,null,null,null,null,null,null,null,null,null,"",null,null,"",null,null,null,null,null,null,null,null,null,null,null,null,null,null,null,null,null,null,null,"","","","","","","",""]
["","",null,null,null,null,null,null,null,null,null,null,null,null,null,null,null,null,null,null,null,null,null,null,"",null,null,"",null,null,null,null,null,null,null,null,null,null,null,null,null,null,null,null,null,null,null,{"$f":"IF(A466=\"\",\"\",LN(A466+1))","v":""},{"$f":"IF($A466=\"\",\"\",EXP($A466))","v":""},{"$f":"IF($A466=\"\",\"\",($A466+1)^-0.1)","v":""},{"$f":"IF($A466=\"\",\"\",($A466+1)^0.1)","v":""},{"$f":"IF($A466=\"\",\"\",($A466+1)^0.5)","v":""},{"$f":"IF($A466=\"\",\"\",($A466+1)^0.6)","v":""},{"$f":"IF($A466=\"\",\"\",($A466+1)^0.7)","v":""},""]
["","",null,null,null,null,null,null,null,null,null,null,null,null,null,null,null,null,null,null,null,null,null,null,"",null,null,"",null,null,null,null,null,null,null,null,null,null,null,null,null,null,null,null,null,null,null,"","","","","","","",""]
["","",null,null,null,null,null,null,null,null,null,null,null,null,null,null,null,null,null,null,null,null,null,null,"",null,null,"",null,null,null,null,null,null,null,null,null,null,null,null,null,null,null,null,null,null,null,"","","","","","","",""]
["","",null,null,null,null,null,null,null,null,null,null,null,null,null,null,null,null,null,null,null,null,null,null,"",null,null,"",null,null,null,null,null,null,null,null,null,null,null,null,null,null,null,null,null,null,null,"","","","","","","",""]
["","",null,null,null,null,null,null,null,null,null,null,null,null,null,null,null,null,null,null,null,null,null,null,"",null,null,"",null,null,null,null,null,null,null,null,null,null,null,null,null,null,null,null,null,null,null,"","","","","","","",""]
["","",null,null,null,null,null,null,null,null,null,null,null,null,null,null,null,null,null,null,null,null,null,null,"",null,null,"",null,null,null,null,null,null,null,null,null,null,null,null,null,null,null,null,null,null,null,"","","","","","","",""]
["","",null,null,null,null,null,null,null,null,null,null,null,null,null,null,null,null,null,null,null,null,null,null,"",null,null,"",null,null,null,null,null,null,null,null,null,null,null,null,null,null,null,null,null,null,null,"","","","","","","",""]
["","",null,null,null,null,null,null,null,null,null,null,null,null,null,null,null,null,null,null,null,null,null,null,"",null,null,"",null,null,null,null,null,null,null,null,null,null,null,null,null,null,null,null,null,null,null,"","","","","","","",""]
["","",null,null,null,null,null,null,null,null,null,null,null,null,null,null,null,null,null,null,null,null,null,null,"",null,null,"",null,null,null,null,null,null,null,null,null,null,null,null,null,null,null,null,null,null,null,"","","","","","","",""]
["","",null,null,null,null,null,null,null,null,null,null,null,null,null,null,null,null,null,null,null,null,null,null,"",null,null,"",null,null,null,null,null,null,null,null,null,null,null,null,null,null,null,null,null,null,null,"","","","","","","",""]
["","",null,null,null,null,null,null,null,null,null,null,null,null,null,null,null,null,null,null,null,null,null,null,"",null,null,"",null,null,null,null,null,null,null,null,null,null,null,null,null,null,null,null,null,null,null,"","","","","","","",""]
["","",null,null,null,null,null,null,null,null,null,null,null,null,null,null,null,null,null,null,null,null,null,null,"",null,null,"",null,null,null,null,null,null,null,null,null,null,null,null,null,null,null,null,null,null,null,"","","","","","","",""]
["","",null,null,null,null,null,null,null,null,null,null,null,null,null,null,null,null,null,null,null,null,null,null,"",null,null,"",null,null,null,null,null,null,null,null,null,null,null,null,null,null,null,null,null,null,null,"","","","","","","",""]
["","",null,null,null,null,null,null,null,null,null,null,null,null,null,null,null,null,null,null,null,null,null,null,"",null,null,"",null,null,null,null,null,null,null,null,null,null,null,null,null,null,null,null,null,null,null,"","","","","","","",""]
["","",null,null,null,null,null,null,null,null,null,null,null,null,null,null,null,null,null,null,null,null,null,null,"",null,null,"",null,null,null,null,null,null,null,null,null,null,null,null,null,null,null,null,null,null,null,"","","","","","","",""]
["","",null,null,null,null,null,null,null,null,null,null,null,null,null,null,null,null,null,null,null,null,null,null,"",null,null,"",null,null,null,null,null,null,null,null,null,null,null,null,null,null,null,null,null,null,null,"","","","","","","",""]
["","",null,null,null,null,null,null,null,null,null,null,null,null,null,null,null,null,null,null,null,null,null,null,"",null,null,"",null,null,null,null,null,null,null,null,null,null,null,null,null,null,null,null,null,null,null,"","","","","","","",""]
["","",null,null,null,null,null,null,null,null,null,null,null,null,null,null,null,null,null,null,null,null,null,null,"",null,null,"",null,null,null,null,null,null,null,null,null,null,null,null,null,null,null,null,null,null,null,"","","","","","","",""]
["","",null,null,null,null,null,null,null,null,null,null,null,null,null,null,null,null,null,null,null,null,null,null,"",null,null,"",null,null,null,null,null,null,null,null,null,null,null,null,null,null,null,null,null,null,null,"","","","","","","",""]
["","",null,null,null,null,null,null,null,null,null,null,null,null,null,null,null,null,null,null,null,null,null,null,"",null,null,"",null,null,null,null,null,null,null,null,null,null,null,null,null,null,null,null,null,null,null,"","","","","","","",""]
["","",null,null,null,null,null,null,null,null,null,null,null,null,null,null,null,null,null,null,null,null,null,null,"",null,null,"",null,null,null,null,null,null,null,null,null,null,null,null,null,null,null,null,null,null,null,"","","","","","","",""]
["","",null,null,null,null,null,null,null,null,null,null,null,null,null,null,null,null,null,null,null,null,null,null,"",null,null,"",null,null,null,null,null,null,null,null,null,null,null,null,null,null,null,null,null,null,null,"","","","","","","",""]
["","",null,null,null,null,null,null,null,null,null,null,null,null,null,null,null,null,null,null,null,null,null,null,"",null,null,"",null,null,null,null,null,null,null,null,null,null,null,null,null,null,null,null,null,null,null,"","","","","","","",""]
["","",null,null,null,null,null,null,null,null,null,null,null,null,null,null,null,null,null,null,null,null,null,null,"",null,null,"",null,null,null,null,null,null,null,null,null,null,null,null,null,null,null,null,null,null,null,"","","","","","","",""]
["","",null,null,null,null,null,null,null,null,null,null,null,null,null,null,null,null,null,null,null,null,null,null,{"$f":"IF(A489=\"\",\"\",A489)","v":""},null,null,"",null,null,null,null,null,null,null,null,null,null,null,null,null,null,null,null,null,null,null,"","","","","","","",""]
["","",null,null,null,null,null,null,null,null,null,null,null,null,null,null,null,null,null,null,null,null,null,null,"",null,null,"",null,null,null,null,null,null,null,null,null,null,null,null,null,null,null,null,null,null,null,"","","","","","","",""]
["","",null,null,null,null,null,null,null,null,null,null,null,null,null,null,null,null,null,null,null,null,null,null,"",null,null,"",null,null,null,null,null,null,null,null,null,null,null,null,null,null,null,null,null,null,null,"","","","","","","",""]
["","",null,null,null,null,null,null,null,null,null,null,null,null,null,null,null,null,null,null,null,null,null,null,"",null,null,"",null,null,null,null,null,null,null,null,null,null,null,null,null,null,null,null,null,null,null,"","","","","","","",""]
["","",null,null,null,null,null,null,null,null,null,null,null,null,null,null,null,null,null,null,null,null,null,null,"",null,null,"",null,null,null,null,null,null,null,null,null,null,null,null,null,null,null,null,null,null,null,"","","","","","","",""]
["","",null,null,null,null,null,null,null,null,null,null,null,null,null,null,null,null,null,null,null,null,null,null,"",null,null,"",null,null,null,null,null,null,null,null,null,null,null,null,null,null,null,null,null,null,null,"","","","","","","",""]
["","",null,null,null,null,null,null,null,null,null,null,null,null,null,null,null,null,null,null,null,null,null,null,"",null,null,"",null,null,null,null,null,null,null,null,null,null,null,null,null,null,null,null,null,null,null,"","","","","","","",""]
["","",null,null,null,null,null,null,null,null,null,null,null,null,null,null,null,null,null,null,null,null,null,null,"",null,null,"",null,null,null,null,null,null,null,null,null,null,null,null,null,null,null,null,null,null,null,"","","","","","","",""]
["","",null,null,null,null,null,null,null,null,null,null,null,null,null,null,null,null,null,null,null,null,null,null,"",null,null,"",null,null,null,null,null,null,null,null,null,null,null,null,null,null,null,null,null,null,null,"","","","","","","",""]
["","",null,null,null,null,null,null,null,null,null,null,null,null,null,null,null,null,null,null,null,null,null,null,"",null,null,"",null,null,null,null,null,null,null,null,null,null,null,null,null,null,null,null,null,null,null,"","","","","","","",""]
["","",null,null,null,null,null,null,null,null,null,null,null,null,null,null,null,null,null,null,null,null,null,null,"",null,null,"",null,null,null,null,null,null,null,null,null,null,null,null,null,null,null,null,null,null,null,"","","","","","","",""]
["","",null,null,null,null,null,null,null,null,null,null,null,null,null,null,null,null,null,null,null,null,null,null,"",null,null,"",null,null,null,null,null,null,null,null,null,null,null,null,null,null,null,null,null,null,null,"","","","","","","",""]
["","",null,null,null,null,null,null,null,null,null,null,null,null,null,null,null,null,null,null,null,null,null,null,"",null,null,"",null,null,null,null,null,null,null,null,null,null,null,null,null,null,null,null,null,null,null,"","","","","","","",""]
["","",null,null,null,null,null,null,null,null,null,null,null,null,null,null,null,null,null,null,null,null,null,null,"",null,null,"",null,null,null,null,null,null,null,null,null,null,null,null,null,null,null,null,null,null,null,"","","","","","","",""]
["","",null,null,null,null,null,null,null,null,null,null,null,null,null,null,null,null,null,null,null,null,null,null,"",null,null,"",null,null,null,null,null,null,null,null,null,null,null,null,null,null,null,null,null,null,null,"","","","","","","",""]
["","",null,null,null,null,null,null,null,null,null,null,null,null,null,null,null,null,null,null,null,null,null,null,"",null,null,""]
["","",null,null,null,null,null,null,null,null,null,null,null,null,null,null,null,null,null,null,null,null,null,null,""]
["","",null,null,null,null,null,null,null,null,null,null,null,null,null,null,null,null,null,null,null,null,null,null,""]
["","",null,null,null,null,null,null,null,null,null,null,null,null,null,null,null,null,null,null,null,null,null,null,""]
["","",null,null,null,null,null,null,null,null,null,null,null,null,null,null,null,null,null,null,null,null,null,null,""]
["","",null,null,null,null,null,null,null,null,null,null,null,null,null,null,null,null,null,null,null,null,null,null,""]
["","",null,null,null,null,null,null,null,null,null,null,null,null,null,null,null,null,null,null,null,null,null,null,""]
["","",null,null,null,null,null,null,null,null,null,null,null,null,null,null,null,null,null,null,null,null,null,null,""]
["","",null,null,null,null,null,null,null,null,null,null,null,null,null,null,null,null,null,null,null,null,null,null,""]
["","",null,null,null,null,null,null,null,null,null,null,null,null,null,null,null,null,null,null,null,null,null,null,""]
["","",null,null,null,null,null,null,null,null,null,null,null,null,null,null,null,null,null,null,null,null,null,null,""]
["","",null,null,null,null,null,null,null,null,null,null,null,null,null,null,null,null,null,null,null,null,null,null,""]
["","",null,null,null,null,null,null,null,null,null,null,null,null,null,null,null,null,null,null,null,null,null,null,""]
["","",null,null,null,null,null,null,null,null,null,null,null,null,null,null,null,null,null,null,null,null,null,null,""]
["","",null,null,null,null,null,null,null,null,null,null,null,null,null,null,null,null,null,null,null,null,null,null,""]
["","",null,null,null,null,null,null,null,null,null,null,null,null,null,null,null,null,null,null,null,null,null,null,""]
["","",null,null,null,null,null,null,null,null,null,null,null,null,null,null,null,null,null,null,null,null,null,null,""]
["","",null,null,null,null,null,null,null,null,null,null,null,null,null,null,null,null,null,null,null,null,null,null,""]
["","",null,null,null,null,null,null,null,null,null,null,null,null,null,null,null,null,null,null,null,null,null,null,""]
["","",null,null,null,null,null,null,null,null,null,null,null,null,null,null,null,null,null,null,null,null,null,null,""]
["","",null,null,null,null,null,null,null,null,null,null,null,null,null,null,null,null,null,null,null,null,null,null,""]
["","",null,null,null,null,null,null,null,null,null,null,null,null,null,null,null,null,null,null,null,null,null,null,""]
["","",null,null,null,null,null,null,null,null,null,null,null,null,null,null,null,null,null,null,null,null,null,null,""]
["","",null,null,null,null,null,null,null,null,null,null,null,null,null,null,null,null,null,null,null,null,null,null,""]
["","",null,null,null,null,null,null,null,null,null,null,null,null,null,null,null,null,null,null,null,null,null,null,""]
["","",null,null,null,null,null,null,null,null,null,null,null,null,null,null,null,null,null,null,null,null,null,null,""]
["","",null,null,null,null,null,null,null,null,null,null,null,null,null,null,null,null,null,null,null,null,null,null,""]
["","",null,null,null,null,null,null,null,null,null,null,null,null,null,null,null,null,null,null,null,null,null,null,""]
["","",null,null,null,null,null,null,null,null,null,null,null,null,null,null,null,null,null,null,null,null,null,null,""]
["","",null,null,null,null,null,null,null,null,null,null,null,null,null,null,null,null,null,null,null,null,null,null,""]
["","",null,null,null,null,null,null,null,null,null,null,null,null,null,null,null,null,null,null,null,null,null,null,""]
["","",null,null,null,null,null,null,null,null,null,null,null,null,null,null,null,null,null,null,null,null,null,null,""]
["","",null,null,null,null,null,null,null,null,null,null,null,null,null,null,null,null,null,null,null,null,null,null,""]
["","",null,null,null,null,null,null,null,null,null,null,null,null,null,null,null,null,null,null,null,null,null,null,""]
["","",null,null,null,null,null,null,null,null,null,null,null,null,null,null,null,null,null,null,null,null,null,null,""]
["","",null,null,null,null,null,null,null,null,null,null,null,null,null,null,null,null,null,null,null,null,null,null,""]
["","",null,null,null,null,null,null,null,null,null,null,null,null,null,null,null,null,null,null,null,null,null,null,""]
["","",null,null,null,null,null,null,null,null,null,null,null,null,null,null,null,null,null,null,null,null,null,null,""]
["","",null,null,null,null,null,null,null,null,null,null,null,null,null,null,null,null,null,null,null,null,null,null,""]
["","",null,null,null,null,null,null,null,null,null,null,null,null,null,null,null,null,null,null,null,null,null,null,""]
["","",null,null,null,null,null,null,null,null,null,null,null,null,null,null,null,null,null,null,null,null,null,null,""]
["","",null,null,null,null,null,null,null,null,null,null,null,null,null,null,null,null,null,null,null,null,null,null,""]
["","",null,null,null,null,null,null,null,null,null,null,null,null,null,null,null,null,null,null,null,null,null,null,""]
["","",null,null,null,null,null,null,null,null,null,null,null,null,null,null,null,null,null,null,null,null,null,null,""]
["","",null,null,null,null,null,null,null,null,null,null,null,null,null,null,null,null,null,null,null,null,null,null,""]
["","",null,null,null,null,null,null,null,null,null,null,null,null,null,null,null,null,null,null,null,null,null,null,""]
["","",null,null,null,null,null,null,null,null,null,null,null,null,null,null,null,null,null,null,null,null,null,null,""]
["","",null,null,null,null,null,null,null,null,null,null,null,null,null,null,null,null,null,null,null,null,null,null,""]
["","",null,null,null,null,null,null,null,null,null,null,null,null,null,null,null,null,null,null,null,null,null,null,""]
["","",null,null,null,null,null,null,null,null,null,null,null,null,null,null,null,null,null,null,null,null,null,null,""]
["","",null,null,null,null,null,null,null,null,null,null,null,null,null,null,null,null,null,null,null,null,null,null,""]
["","",null,null,null,null,null,null,null,null,null,null,null,null,null,null,null,null,null,null,null,null,null,null,""]
["","",null,null,null,null,null,null,null,null,null,null,null,null,null,null,null,null,null,null,null,null,null,null,""]
["","",null,null,null,null,null,null,null,null,null,null,null,null,null,null,null,null,null,null,null,null,null,null,""]
["","",null,null,null,null,null,null,null,null,null,null,null,null,null,null,null,null,null,null,null,null,null,null,""]
["","",null,null,null,null,null,null,null,null,null,null,null,null,null,null,null,null,null,null,null,null,null,null,""]
["","",null,null,null,null,null,null,null,null,null,null,null,null,null,null,null,null,null,null,null,null,null,null,""]
["","",null,null,null,null,null,null,null,null,null,null,null,null,null,null,null,null,null,null,null,null,null,null,""]
["","",null,null,null,null,null,null,null,null,null,null,null,null,null,null,null,null,null,null,null,null,null,null,""]

{"sheet":"Histograms","index":5,"n_rows":562,"n_cols":12,"rows_kept":562,"cut":false,"hidden":false,"merged":[]}
["Streambank Alteration",null,"Steps",null,"HISTOGRAMS"]
["00:00:00","BIN","1.  Copy data to be graphed into column A (title in cell A2)",null,null,null,null,null,"Skewness",null,"If this Skewness is between:"]
[null,{"$f":"MIN(A:A)","v":0},"2.  Select \"Data\" - then \"Data Analysis Tools\"",null,null,null,null,null,{"$f":"SKEW(A3:A365)","v":{"$error":"#DIV/0!"}},null,"1. -0.5 and 0.5, the distribution of the value is almost symmetrical - the distribution is normal"]
[null,{"$f":"B3+0.025*MAX(A$3:A$365)","v":0},"3. Select \"Histogram\"  then - OK",null,null,null,null,null,null,null,"2. -1 and -0.5, the data is negatively skewed, and if it is between 0.5 to 1, the data is positively skewed."]
[null,{"$f":"B4+(B4-B3)","v":0},"4.  Input range:  Select cell, then select the range of data ",null,null,null,null,null,null,null,null,"The distribution may be non-normal"]
[null,{"$f":"B5+(B5-B4)","v":0},"5.  Bin range:  Select cell, then select the bin data",null,null,null,null,null,null,null,"3. If the skewness is lower than -1 (negatively skewed) or greater than 1 (positively skewed), the data is highly skewed."]
[null,0,"6.  Click on Output Range then select the cell,  select cell C11",null,null,null,null,null,null,null,null,"The distribution is non-normal"]
["",0,"7.  Select Chart Output"]
["",0]
["",0]
["",0]
["",0]
["",0]
["",0]
["",0]
["",0]
["",0]
["",0]
["",0]
["",0]
["",0]
["",0]
["",0]
["",0]
["",0]
["",0]
["",0]
["",0]
["",0]
["",0]
["",0]
["",0]
["",0]
["",0]
["",0]
["",0]
["",0]
["",0]
["",0]
["",0]
["",0]
["",0]
["",0]
["",""]
["",""]
["",""]
["",""]
["",""]
["",""]
["",""]
["",""]
["",""]
["",""]
["",""]
["",""]
["",""]
["",""]
["",""]
["",""]
["",""]
["",""]
["",""]
["",""]
["",""]
["",""]
["",""]
["",""]
["",""]
["",""]
["",""]
["",""]
["",""]
["",""]
["",""]
["",""]
["",""]
["",""]
["",""]
["",""]
["",""]
["",""]
["",""]
["",""]
["",""]
["",""]
["",""]
["",""]
["",""]
["",""]
["",""]
["",""]
["",""]
["",""]
["",""]
["",""]
["",""]
["",""]
["",""]
["",""]
["",""]
["",""]
["",""]
["",""]
["",""]
["",""]
["",""]
["",""]
["",""]
["",""]
["",""]
["",""]
["",""]
["",""]
["",""]
["",""]
["",""]
["",""]
["",""]
["",""]
["",""]
["",""]
["",""]
["",""]
["",""]
["",""]
["",""]
["",""]
["",""]
["",""]
["",""]
["",""]
["",""]
["",""]
["",""]
["",""]
["",""]
["",""]
["",""]
["",""]
["",""]
["",""]
["",""]
["",""]
["",""]
["",""]
["",""]
["",""]
["",""]
["",""]
["",""]
["",""]
["",""]
["",""]
["",""]
["",""]
["",""]
["",""]
["",""]
["",""]
["",""]
["",""]
["",""]
["",""]
["",""]
["",""]
["",""]
["",""]
["",""]
["",""]
["",""]
["",""]
["",""]
["",""]
["",""]
["",""]
["",""]
["",""]
["",""]
["",""]
["",""]
["",""]
["",""]
["",""]
["",""]
["",""]
["",""]
["",""]
["",""]
["",""]
["",""]
["",""]
["",""]
["",""]
["",""]
["",""]
["",""]
["",""]
["",""]
["",""]
["",""]
["",""]
["",""]
["",""]
["",""]
["",""]
["",""]
["",""]
["",""]
["",""]
["",""]
["",""]
["",""]
["",""]
["",""]
["",""]
["",""]
["",""]
["",""]
["",""]
["",""]
["",""]
["",""]
["",""]
["",""]
["",""]
["",""]
["",""]
["",""]
["",""]
["",""]
["",""]
["",""]
["",""]
["",""]
["",""]
["",""]
["",""]
["",""]
["",""]
["",""]
["",""]
["",""]
["",""]
["",""]
["",""]
["",""]
["",""]
["",""]
["",""]
["",""]
["",""]
["",""]
["",""]
["",""]
["",""]
["",""]
["",""]
["",""]
["",""]
["",""]
["",""]
["",""]
["",""]
["",""]
["",""]
["",""]
["",""]
["",""]
["",""]
["",""]
["",""]
["",""]
["",""]
["",""]
["",""]
["",""]
["",""]
["",""]
["",""]
["",""]
["",""]
["",""]
["",""]
["",""]
["",""]
["",""]
["",""]
["",""]
["",""]
["",""]
["",""]
["",""]
["",""]
["",""]
["",""]
["",""]
["",""]
["",""]
["",""]
["",""]
["",""]
["",""]
["",""]
["",""]
["",""]
["",""]
["",""]
["",""]
["",""]
["",""]
["",""]
["",""]
["",""]
["",""]
["",""]
["",""]
["",""]
["",""]
["",""]
["",""]
["",""]
["",""]
["",""]
["",""]
["",""]
["",""]
["",""]
["",""]
["",""]
["",""]
["",""]
["",""]
["",""]
["",""]
["",""]
["",""]
["",""]
["",""]
["",""]
["",""]
["",""]
["",""]
["",""]
["",""]
["",""]
["",""]
["",""]
["",""]
["",""]
["",""]
["",""]
["",""]
["",""]
["",""]
["",""]
["",""]
["",""]
["",""]
["",""]
["",""]
["",""]
[""]
[""]
[""]
[""]
[""]
[""]
[""]
[""]
[""]
[""]
[""]
[""]
[""]
[""]
[""]
[""]
[""]
[""]
[""]
[""]
[""]
[""]
[""]
[""]
[""]
[""]
[""]
[""]
[""]
[""]
[""]
[""]
[""]
[""]
[""]
[""]
[""]
[""]
[""]
[""]
[""]
[""]
[""]
[""]
[""]
[""]
[""]
[""]
[""]
[""]
[""]
[""]
[""]
[""]
[""]
[""]
[""]
[""]
[""]
[""]
[""]
[""]
[""]
[""]
[""]
[""]
[""]
[""]
[""]
[""]
[""]
[""]
[""]
[""]
[""]
[""]
[""]
[""]
[""]
[""]
[""]
[""]
[""]
[""]
[""]
[""]
[""]
[""]
[""]
[""]
[""]
[""]
[""]
[""]
[""]
[""]
[""]
[""]
[""]
[""]
[""]
[""]
[""]
[""]
[""]
[""]
[""]
[""]
[""]
[""]
[""]
[""]
[""]
[""]
[""]
[""]
[""]
[""]
[""]
[""]
[""]
[""]
[""]
[""]
[""]
[""]
[""]
[""]
[""]
[""]
[""]
[""]
[""]
[""]
[""]
[""]
[""]
[""]
[""]
[""]
[""]
[""]
[""]
[""]
[""]
[""]
[""]
[""]
[""]
[""]
[""]
[""]
[""]
[""]
[""]
[""]
[""]
[""]
[""]
[""]
[""]
[""]
[""]
[""]
[""]
[""]
[""]
[""]
[""]
[""]
[""]
[""]
[""]
[""]
[""]
[""]
[""]
[""]
[""]
[""]
[""]
[""]
[""]
[""]
[""]
[""]
[""]
[""]
[""]
[""]
[""]
[""]
[""]
[""]
[""]
[""]
[""]
[""]
[""]
[""]
[""]

{"sheet":"Shterm","index":6,"n_rows":504,"n_cols":32,"rows_kept":504,"cut":false,"hidden":false,"merged":[]}
[{"$f":"\"STUBBLE HEIGHT (\"&GetData!C17&\")\"","v":"STUBBLE HEIGHT (In)"},null,null,null,null,null,null,null,null,null,"BANK ALTERATION",null,null,null,null,null,null,null,null,null,"WOODY SPECIES USE",null,null,null,null,null,null,null,null,null,null,{"$f":"Q5*5","v":1}]
[{"$f":"GetData!$A$13","v":"DMA ID"},{"$f":"GetData!$B$13","v":"PASTURE"},{"$f":"GetData!$C$13","v":"STREAM"},{"$f":"GetData!$D$13","v":"DATE"},null,null,null,null,null,null,{"$f":"A2","v":"DMA ID"},{"$f":"B2","v":"PASTURE"},"STREAM","DATE",null,null,null,null,null,null,{"$f":"K2","v":"DMA ID"},"PASTURE","STREAM","DATE",null,null,null,null,null,null,null,{"$f":"LN(Q5*100+1)","v":3.044522437723423}]
[{"$f":"GetData!$A$14","v":0},{"$f":"GetData!$B$14","v":0},{"$f":"GetData!$C$14","v":0},{"$f":"GetData!$D$14","v":"00:00:00"},null,null,null,null,null,null,{"$f":"A3","v":0},0,0,"00:00:00",null,null,null,null,null,null,0,0,0,"00:00:00"]
[null,null,null,null,null,null,"USER SUPPLIES THIS VALUE",null,null,null,null,null,null,null,null,null,"USER SUPPLIES THIS VALUE",null,null,null,null,null,null,null,null,null,"USER SUPPLIES THIS VALUE"]
["Stubble Height - dominant key species","Stubble Height - all key species","DOMINANT KEY SPECIES=",{"$f":"GetData!C16","v":{"$error":"#DIV/0!"}},null,"Grazing use criterion",6,null,null,null,{"$f":"GetData!E4","v":"Streambank Alteration"},"Bank Stability",null,null,null,"CRITERION (streambank alteration)",0.2,null,null,null,{"$f":"GetData!H4","v":"Woody Use"},null,null,null,null,"CRITERION",45]
[{"$f":"IF(GetData!F5=\"\",\"\",GetData!F5)","v":""},{"$f":"IF(GetData!G5=\"\",\"\",GetData!G5)","v":""},"Units =",{"$f":"IF(GetData!C17=\"I\",\" Inches\",\" Centimeters\")","v":" Centimeters"},null,null,null,null,null,null,{"$f":"IF(GetData!E5=\"\",\"\",GetData!E5)","v":""},{"$f":"IF(GetData!AL5=\"\",\"\",GetData!AL5)","v":""}]
[{"$f":"IF(GetData!F6=\"\",\"\",GetData!F6)","v":""},{"$f":"IF(GetData!G6=\"\",\"\",GetData!G6)","v":""},null,"STATISTICS","Stubble Height - dominant key species","Stubble Height - all key species",null,null,null,null,{"$f":"IF(GetData!E6=\"\",\"\",GetData!E6)","v":""},{"$f":"IF(GetData!AL6=\"\",\"\",GetData!AL6)","v":""},null,"STATISTICS",{"$f":"K5","v":"Streambank Alteration"},{"$f":"L5","v":"Bank Stability"},null,null,null,null,null,null,null,"STATISTICS",{"$f":"U5","v":"Woody Use"}]
[{"$f":"IF(GetData!F7=\"\",\"\",GetData!F7)","v":""},{"$f":"IF(GetData!G7=\"\",\"\",GetData!G7)","v":""},null,null,null,null,null,null,null,null,{"$f":"IF(GetData!E7=\"\",\"\",GetData!E7)","v":""},{"$f":"IF(GetData!AL7=\"\",\"\",GetData!AL7)","v":""},null,"MEDIAN",{"$f":"MEDIAN(K6:K364)/5","v":{"$error":"#DIV/0!"}},null,null,null,null,null,null,null,null,null,null,"MEDIAN"]
[{"$f":"IF(GetData!F8=\"\",\"\",GetData!F8)","v":""},{"$f":"IF(GetData!G8=\"\",\"\",GetData!G8)","v":""},null,"MEAN",{"$f":"AVERAGE(A$6:A$504)","v":{"$error":"#DIV/0!"}},{"$f":"AVERAGE(B$6:B$504)","v":{"$error":"#DIV/0!"}},null,null,null,null,{"$f":"IF(GetData!E8=\"\",\"\",GetData!E8)","v":""},{"$f":"IF(GetData!AL8=\"\",\"\",GetData!AL8)","v":""},null,"MEAN",{"$f":"(SUM(K6:K504)*5/(COUNT(K6:K504)*5))/5","v":{"$error":"#DIV/0!"}},{"$f":"AVERAGE(L6:L504)","v":{"$error":"#DIV/0!"}},null,null,null,null,null,null,null,"MEAN",{"$f":"SUM(U6:U364)*5/(COUNT(U6:U364)*5)","v":{"$error":"#DIV/0!"}},{"$f":"MEDIAN(U6:U364)","v":{"$error":"#NUM!"}}]
[{"$f":"IF(GetData!F9=\"\",\"\",GetData!F9)","v":""},{"$f":"IF(GetData!G9=\"\",\"\",GetData!G9)","v":""},null,"MEDIAN",{"$f":"MEDIAN(A$6:A$504)","v":{"$error":"#DIV/0!"}},{"$f":"MEDIAN(B$6:B$504)","v":{"$error":"#NUM!"}},null,null,null,null,{"$f":"IF(GetData!E9=\"\",\"\",GetData!E9)","v":""},{"$f":"IF(GetData!AL9=\"\",\"\",GetData!AL9)","v":""},null,"Confidence Interval",{"$f":"GetData!E547","v":""},{"$f":"GetData!P547","v":""},null,null,null,null,null,null,null,"Confidence Interval",{"$f":"GetData!H547*100","v":{"$error":"#VALUE!"}}]
[{"$f":"IF(GetData!F10=\"\",\"\",GetData!F10)","v":""},{"$f":"IF(GetData!G10=\"\",\"\",GetData!G10)","v":""},null,"CONF INTERVAL",{"$f":"GetData!F547","v":""},{"$f":"GetData!F547","v":""},null,null,null,null,{"$f":"IF(GetData!E10=\"\",\"\",GetData!E10)","v":""},{"$f":"IF(GetData!AL10=\"\",\"\",GetData!AL10)","v":""},null,null,null,null,null,null,null,null,{"$f":"IF(GetData!H10=\"\",\"\",GetData!H10)","v":""}]
[{"$f":"IF(GetData!F11=\"\",\"\",GetData!F11)","v":""},{"$f":"IF(GetData!G11=\"\",\"\",GetData!G11)","v":""},null,"N",{"$f":"COUNT(A$6:A$504)","v":0},{"$f":"COUNT(B$6:B$504)","v":0},null,null,null,null,{"$f":"IF(GetData!E11=\"\",\"\",GetData!E11)","v":""},{"$f":"IF(GetData!AL11=\"\",\"\",GetData!AL11)","v":""},null,"N",{"$f":"COUNT(K$6:K$364)","v":0},{"$f":"COUNT(L$6:L$504)","v":0},null,null,null,null,{"$f":"IF(GetData!H11=\"\",\"\",GetData!H11)","v":""},null,null,"N",{"$f":"COUNT(U$6:U$364)","v":0}]
[{"$f":"IF(GetData!F12=\"\",\"\",GetData!F12)","v":""},{"$f":"IF(GetData!G12=\"\",\"\",GetData!G12)","v":""},null,null,null,null,null,null,null,null,{"$f":"IF(GetData!E12=\"\",\"\",GetData!E12)","v":""},{"$f":"IF(GetData!AL12=\"\",\"\",GetData!AL12)","v":""},null,"CI RANGE",null,null,null,null,null,null,{"$f":"IF(GetData!H12=\"\",\"\",GetData!H12)","v":""},null,null,"CI RANGE"]
[{"$f":"IF(GetData!F13=\"\",\"\",GetData!F13)","v":""},{"$f":"IF(GetData!G13=\"\",\"\",GetData!G13)","v":""},null,"CI RANGE",null,null,null,null,null,null,{"$f":"IF(GetData!E13=\"\",\"\",GetData!E13)","v":""},{"$f":"IF(GetData!AL13=\"\",\"\",GetData!AL13)","v":""},null,"MAX",{"$f":"O9+O10","v":{"$error":"#DIV/0!"}},{"$f":"P9+P10","v":{"$error":"#DIV/0!"}},null,null,null,null,{"$f":"IF(GetData!H13=\"\",\"\",GetData!H13)","v":""},null,null,"MAX",{"$f":"Y9+Y10","v":{"$error":"#DIV/0!"}}]
[{"$f":"IF(GetData!F14=\"\",\"\",GetData!F14)","v":""},{"$f":"IF(GetData!G14=\"\",\"\",GetData!G14)","v":""},null,"MAX",{"$f":"E9+E11","v":{"$error":"#DIV/0!"}},{"$f":"F9+F11","v":{"$error":"#DIV/0!"}},null,null,null,null,{"$f":"IF(GetData!E14=\"\",\"\",GetData!E14)","v":""},{"$f":"IF(GetData!AL14=\"\",\"\",GetData!AL14)","v":""},null,"MIN",{"$f":"O9-O10","v":{"$error":"#DIV/0!"}},{"$f":"P9-P10","v":{"$error":"#DIV/0!"}},null,null,null,null,{"$f":"IF(GetData!H14=\"\",\"\",GetData!H14)","v":""},null,null,"MIN",{"$f":"Y9-Y10","v":{"$error":"#DIV/0!"}}]
[{"$f":"IF(GetData!F15=\"\",\"\",GetData!F15)","v":""},{"$f":"IF(GetData!G15=\"\",\"\",GetData!G15)","v":""},null,"MIN",{"$f":"E9-E11","v":{"$error":"#DIV/0!"}},{"$f":"F9-F11","v":{"$error":"#DIV/0!"}},null,null,null,null,{"$f":"IF(GetData!E15=\"\",\"\",GetData!E15)","v":""},{"$f":"IF(GetData!AL15=\"\",\"\",GetData!AL15)","v":""},null,null,null,null,null,null,null,null,{"$f":"IF(GetData!H15=\"\",\"\",GetData!H15)","v":""}]
[{"$f":"IF(GetData!F16=\"\",\"\",GetData!F16)","v":""},{"$f":"IF(GetData!G16=\"\",\"\",GetData!G16)","v":""},null,null,null,null,null,null,null,null,{"$f":"IF(GetData!E16=\"\",\"\",GetData!E16)","v":""},{"$f":"IF(GetData!AL16=\"\",\"\",GetData!AL16)","v":""},null,"EXCEEDES CRITERIA?(Y/N)",{"$f":"IF(Q5<=O15,\"YES\",\"NO\")","v":{"$error":"#DIV/0!"}},null,null,null,null,null,{"$f":"IF(GetData!H16=\"\",\"\",GetData!H16)","v":""},null,null,"VIOLATES CRITERIA?(Y/N)",{"$f":"IF(AA5<=Y15,\"YES\",\"NO\")","v":{"$error":"#DIV/0!"}}]
[{"$f":"IF(GetData!F17=\"\",\"\",GetData!F17)","v":""},{"$f":"IF(GetData!G17=\"\",\"\",GetData!G17)","v":""},null,"EXCEEDES CRITERION?(Y/N)",{"$f":"IF(E15<=$G5,\"YES\", \"NO\")","v":{"$error":"#DIV/0!"}},{"$f":"IF(F15<=$G5,\"YES\", \"NO\")","v":{"$error":"#DIV/0!"}},null,null,null,null,{"$f":"IF(GetData!E17=\"\",\"\",GetData!E17)","v":""},{"$f":"IF(GetData!AL17=\"\",\"\",GetData!AL17)","v":""},null,null,null,null,null,null,null,null,{"$f":"IF(GetData!H17=\"\",\"\",GetData!H17)","v":""}]
[{"$f":"IF(GetData!F18=\"\",\"\",GetData!F18)","v":""},{"$f":"IF(GetData!G18=\"\",\"\",GetData!G18)","v":""},null,null,null,null,null,null,null,null,{"$f":"IF(GetData!E18=\"\",\"\",GetData!E18)","v":""},{"$f":"IF(GetData!AL18=\"\",\"\",GetData!AL18)","v":""},null,null,null,null,null,null,null,null,{"$f":"IF(GetData!H18=\"\",\"\",GetData!H18)","v":""}]
[{"$f":"IF(GetData!F19=\"\",\"\",GetData!F19)","v":""},{"$f":"IF(GetData!G19=\"\",\"\",GetData!G19)","v":""},null,null,null,null,null,null,null,null,{"$f":"IF(GetData!E19=\"\",\"\",GetData!E19)","v":""},{"$f":"IF(GetData!AL19=\"\",\"\",GetData!AL19)","v":""},null,null,null,null,null,null,null,null,{"$f":"IF(GetData!H19=\"\",\"\",GetData!H19)","v":""}]
[{"$f":"IF(GetData!F20=\"\",\"\",GetData!F20)","v":""},{"$f":"IF(GetData!G20=\"\",\"\",GetData!G20)","v":""},null,null,null,null,null,null,null,null,{"$f":"IF(GetData!E20=\"\",\"\",GetData!E20)","v":""},{"$f":"IF(GetData!AL20=\"\",\"\",GetData!AL20)","v":""},null,null,null,null,null,null,null,null,{"$f":"IF(GetData!H20=\"\",\"\",GetData!H20)","v":""}]
[{"$f":"IF(GetData!F21=\"\",\"\",GetData!F21)","v":""},{"$f":"IF(GetData!G21=\"\",\"\",GetData!G21)","v":""},null,"Mean",{"$f":"E9","v":{"$error":"#DIV/0!"}},null,null,null,null,null,{"$f":"IF(GetData!E21=\"\",\"\",GetData!E21)","v":""},{"$f":"IF(GetData!AL21=\"\",\"\",GetData!AL21)","v":""},null,"Mean",{"$f":"O9","v":{"$error":"#DIV/0!"}},null,null,null,null,null,{"$f":"IF(GetData!H21=\"\",\"\",GetData!H21)","v":""},null,null,"Mean",{"$f":"Y9","v":{"$error":"#DIV/0!"}}]
[{"$f":"IF(GetData!F22=\"\",\"\",GetData!F22)","v":""},{"$f":"IF(GetData!G22=\"\",\"\",GetData!G22)","v":""},null,"Max",{"$f":"E15","v":{"$error":"#DIV/0!"}},null,null,null,null,null,{"$f":"IF(GetData!E22=\"\",\"\",GetData!E22)","v":""},{"$f":"IF(GetData!AL22=\"\",\"\",GetData!AL22)","v":""},null,"Max",{"$f":"O14","v":{"$error":"#DIV/0!"}},null,null,null,null,null,{"$f":"IF(GetData!H22=\"\",\"\",GetData!H22)","v":""},null,null,"Max",{"$f":"Y14","v":{"$error":"#DIV/0!"}}]
[{"$f":"IF(GetData!F23=\"\",\"\",GetData!F23)","v":""},{"$f":"IF(GetData!G23=\"\",\"\",GetData!G23)","v":""},null,"Min",{"$f":"E16","v":{"$error":"#DIV/0!"}},null,null,null,null,null,{"$f":"IF(GetData!E23=\"\",\"\",GetData!E23)","v":""},{"$f":"IF(GetData!AL23=\"\",\"\",GetData!AL23)","v":""},null,"Min",{"$f":"O15","v":{"$error":"#DIV/0!"}},null,null,null,null,null,{"$f":"IF(GetData!H23=\"\",\"\",GetData!H23)","v":""},null,null,"Min",{"$f":"Y15","v":{"$error":"#DIV/0!"}}]
[{"$f":"IF(GetData!F24=\"\",\"\",GetData!F24)","v":""},{"$f":"IF(GetData!G24=\"\",\"\",GetData!G24)","v":""},null,"Criteria",{"$f":"G5","v":6},null,null,null,null,null,{"$f":"IF(GetData!E24=\"\",\"\",GetData!E24)","v":""},{"$f":"IF(GetData!AL24=\"\",\"\",GetData!AL24)","v":""},null,"Criteria",{"$f":"Q5","v":0.2},null,null,null,null,null,{"$f":"IF(GetData!H24=\"\",\"\",GetData!H24)","v":""},null,null,"Criteria",{"$f":"AA5","v":45}]
[{"$f":"IF(GetData!F25=\"\",\"\",GetData!F25)","v":""},{"$f":"IF(GetData!G25=\"\",\"\",GetData!G25)","v":""},null,null,null,null,null,null,null,null,{"$f":"IF(GetData!E25=\"\",\"\",GetData!E25)","v":""},{"$f":"IF(GetData!AL25=\"\",\"\",GetData!AL25)","v":""},null,null,null,null,null,null,null,null,{"$f":"IF(GetData!H25=\"\",\"\",GetData!H25)","v":""}]
[{"$f":"IF(GetData!F26=\"\",\"\",GetData!F26)","v":""},{"$f":"IF(GetData!G26=\"\",\"\",GetData!G26)","v":""},null,null,null,null,null,null,null,null,{"$f":"IF(GetData!E26=\"\",\"\",GetData!E26)","v":""},{"$f":"IF(GetData!AL26=\"\",\"\",GetData!AL26)","v":""},null,null,null,null,null,null,null,null,{"$f":"IF(GetData!H26=\"\",\"\",GetData!H26)","v":""}]
[{"$f":"IF(GetData!F27=\"\",\"\",GetData!F27)","v":""},{"$f":"IF(GetData!G27=\"\",\"\",GetData!G27)","v":""},null,null,null,null,null,null,null,null,{"$f":"IF(GetData!E27=\"\",\"\",GetData!E27)","v":""},{"$f":"IF(GetData!AL27=\"\",\"\",GetData!AL27)","v":""},null,null,null,null,null,null,null,null,{"$f":"IF(GetData!H27=\"\",\"\",GetData!H27)","v":""}]
[{"$f":"IF(GetData!F28=\"\",\"\",GetData!F28)","v":""},{"$f":"IF(GetData!G28=\"\",\"\",GetData!G28)","v":""},null,null,null,null,null,null,null,null,{"$f":"IF(GetData!E28=\"\",\"\",GetData!E28)","v":""},{"$f":"IF(GetData!AL28=\"\",\"\",GetData!AL28)","v":""},null,null,null,null,null,null,null,null,{"$f":"IF(GetData!H28=\"\",\"\",GetData!H28)","v":""}]
[{"$f":"IF(GetData!F29=\"\",\"\",GetData!F29)","v":""},{"$f":"IF(GetData!G29=\"\",\"\",GetData!G29)","v":""},null,null,null,null,null,null,null,null,{"$f":"IF(GetData!E29=\"\",\"\",GetData!E29)","v":""},{"$f":"IF(GetData!AL29=\"\",\"\",GetData!AL29)","v":""},null,null,null,null,null,null,null,null,{"$f":"IF(GetData!H29=\"\",\"\",GetData!H29)","v":""}]
[{"$f":"IF(GetData!F30=\"\",\"\",GetData!F30)","v":""},{"$f":"IF(GetData!G30=\"\",\"\",GetData!G30)","v":""},null,null,null,null,null,null,null,null,{"$f":"IF(GetData!E30=\"\",\"\",GetData!E30)","v":""},{"$f":"IF(GetData!AL30=\"\",\"\",GetData!AL30)","v":""},null,null,null,null,null,null,null,null,{"$f":"IF(GetData!H30=\"\",\"\",GetData!H30)","v":""}]
[{"$f":"IF(GetData!F31=\"\",\"\",GetData!F31)","v":""},{"$f":"IF(GetData!G31=\"\",\"\",GetData!G31)","v":""},null,null,null,null,null,null,null,null,{"$f":"IF(GetData!E31=\"\",\"\",GetData!E31)","v":""},{"$f":"IF(GetData!AL31=\"\",\"\",GetData!AL31)","v":""},null,null,null,null,null,null,null,null,{"$f":"IF(GetData!H31=\"\",\"\",GetData!H31)","v":""}]
[{"$f":"IF(GetData!F32=\"\",\"\",GetData!F32)","v":""},{"$f":"IF(GetData!G32=\"\",\"\",GetData!G32)","v":""},null,null,null,null,null,null,null,null,{"$f":"IF(GetData!E32=\"\",\"\",GetData!E32)","v":""},{"$f":"IF(GetData!AL32=\"\",\"\",GetData!AL32)","v":""},null,null,null,null,null,null,null,null,{"$f":"IF(GetData!H32=\"\",\"\",GetData!H32)","v":""}]
[{"$f":"IF(GetData!F33=\"\",\"\",GetData!F33)","v":""},{"$f":"IF(GetData!G33=\"\",\"\",GetData!G33)","v":""},null,null,null,null,null,null,null,null,{"$f":"IF(GetData!E33=\"\",\"\",GetData!E33)","v":""},{"$f":"IF(GetData!AL33=\"\",\"\",GetData!AL33)","v":""},null,null,null,null,null,null,null,null,{"$f":"IF(GetData!H33=\"\",\"\",GetData!H33)","v":""}]
[{"$f":"IF(GetData!F34=\"\",\"\",GetData!F34)","v":""},{"$f":"IF(GetData!G34=\"\",\"\",GetData!G34)","v":""},null,null,null,null,null,null,null,null,{"$f":"IF(GetData!E34=\"\",\"\",GetData!E34)","v":""},{"$f":"IF(GetData!AL34=\"\",\"\",GetData!AL34)","v":""},null,null,null,null,null,null,null,null,{"$f":"IF(GetData!H34=\"\",\"\",GetData!H34)","v":""}]
[{"$f":"IF(GetData!F35=\"\",\"\",GetData!F35)","v":""},{"$f":"IF(GetData!G35=\"\",\"\",GetData!G35)","v":""},null,null,null,null,null,null,null,null,{"$f":"IF(GetData!E35=\"\",\"\",GetData!E35)","v":""},{"$f":"IF(GetData!AL35=\"\",\"\",GetData!AL35)","v":""},null,null,null,null,null,null,null,null,{"$f":"IF(GetData!H35=\"\",\"\",GetData!H35)","v":""}]
[{"$f":"IF(GetData!F36=\"\",\"\",GetData!F36)","v":""},{"$f":"IF(GetData!G36=\"\",\"\",GetData!G36)","v":""},null,null,null,null,null,null,null,null,{"$f":"IF(GetData!E36=\"\",\"\",GetData!E36)","v":""},{"$f":"IF(GetData!AL36=\"\",\"\",GetData!AL36)","v":""},null,null,null,null,null,null,null,null,{"$f":"IF(GetData!H36=\"\",\"\",GetData!H36)","v":""}]
[{"$f":"IF(GetData!F37=\"\",\"\",GetData!F37)","v":""},{"$f":"IF(GetData!G37=\"\",\"\",GetData!G37)","v":""},null,null,null,null,null,null,null,null,{"$f":"IF(GetData!E37=\"\",\"\",GetData!E37)","v":""},{"$f":"IF(GetData!AL37=\"\",\"\",GetData!AL37)","v":""},null,null,null,null,null,null,null,null,{"$f":"IF(GetData!H37=\"\",\"\",GetData!H37)","v":""}]
[{"$f":"IF(GetData!F38=\"\",\"\",GetData!F38)","v":""},{"$f":"IF(GetData!G38=\"\",\"\",GetData!G38)","v":""},null,null,null,null,null,null,null,null,{"$f":"IF(GetData!E38=\"\",\"\",GetData!E38)","v":""},{"$f":"IF(GetData!AL38=\"\",\"\",GetData!AL38)","v":""},null,null,null,null,null,null,null,null,{"$f":"IF(GetData!H38=\"\",\"\",GetData!H38)","v":""}]
[{"$f":"IF(GetData!F39=\"\",\"\",GetData!F39)","v":""},{"$f":"IF(GetData!G39=\"\",\"\",GetData!G39)","v":""},null,null,null,null,null,null,null,null,{"$f":"IF(GetData!E39=\"\",\"\",GetData!E39)","v":""},{"$f":"IF(GetData!AL39=\"\",\"\",GetData!AL39)","v":""},null,null,null,null,null,null,null,null,{"$f":"IF(GetData!H39=\"\",\"\",GetData!H39)","v":""}]
[{"$f":"IF(GetData!F40=\"\",\"\",GetData!F40)","v":""},{"$f":"IF(GetData!G40=\"\",\"\",GetData!G40)","v":""},null,null,null,null,null,null,null,null,{"$f":"IF(GetData!E40=\"\",\"\",GetData!E40)","v":""},{"$f":"IF(GetData!AL40=\"\",\"\",GetData!AL40)","v":""},null,null,null,null,null,null,null,null,{"$f":"IF(GetData!H40=\"\",\"\",GetData!H40)","v":""}]
[{"$f":"IF(GetData!F41=\"\",\"\",GetData!F41)","v":""},{"$f":"IF(GetData!G41=\"\",\"\",GetData!G41)","v":""},null,null,null,null,null,null,null,null,{"$f":"IF(GetData!E41=\"\",\"\",GetData!E41)","v":""},{"$f":"IF(GetData!AL41=\"\",\"\",GetData!AL41)","v":""},null,null,null,null,null,null,null,null,{"$f":"IF(GetData!H41=\"\",\"\",GetData!H41)","v":""}]
[{"$f":"IF(GetData!F42=\"\",\"\",GetData!F42)","v":""},{"$f":"IF(GetData!G42=\"\",\"\",GetData!G42)","v":""},null,null,null,null,null,null,null,null,{"$f":"IF(GetData!E42=\"\",\"\",GetData!E42)","v":""},{"$f":"IF(GetData!AL42=\"\",\"\",GetData!AL42)","v":""},null,null,null,null,null,null,null,null,{"$f":"IF(GetData!H42=\"\",\"\",GetData!H42)","v":""}]
[{"$f":"IF(GetData!F43=\"\",\"\",GetData!F43)","v":""},{"$f":"IF(GetData!G43=\"\",\"\",GetData!G43)","v":""},null,null,null,null,null,null,null,null,{"$f":"IF(GetData!E43=\"\",\"\",GetData!E43)","v":""},{"$f":"IF(GetData!AL43=\"\",\"\",GetData!AL43)","v":""},null,null,null,null,null,null,null,null,{"$f":"IF(GetData!H43=\"\",\"\",GetData!H43)","v":""}]
[{"$f":"IF(GetData!F44=\"\",\"\",GetData!F44)","v":""},{"$f":"IF(GetData!G44=\"\",\"\",GetData!G44)","v":""},null,null,null,null,null,null,null,null,{"$f":"IF(GetData!E44=\"\",\"\",GetData!E44)","v":""},{"$f":"IF(GetData!AL44=\"\",\"\",GetData!AL44)","v":""},null,null,null,null,null,null,null,null,{"$f":"IF(GetData!H44=\"\",\"\",GetData!H44)","v":""}]
[{"$f":"IF(GetData!F45=\"\",\"\",GetData!F45)","v":""},{"$f":"IF(GetData!G45=\"\",\"\",GetData!G45)","v":""},null,null,"RUN NORMAL PROBABILITY PLOT",null,null,null,null,null,{"$f":"IF(GetData!E45=\"\",\"\",GetData!E45)","v":""},{"$f":"IF(GetData!AL45=\"\",\"\",GetData!AL45)","v":""},null,null,"RUN NORMAL PROBABILITY PLOT",null,null,null,null,null,{"$f":"IF(GetData!H45=\"\",\"\",GetData!H45)","v":""},null,null,null,"RUN NORMAL PROBABILITY PLOT"]
[{"$f":"IF(GetData!F46=\"\",\"\",GetData!F46)","v":""},{"$f":"IF(GetData!G46=\"\",\"\",GetData!G46)","v":""},null,null,null,null,null,null,null,null,{"$f":"IF(GetData!E46=\"\",\"\",GetData!E46)","v":""},{"$f":"IF(GetData!AL46=\"\",\"\",GetData!AL46)","v":""},null,null,null,null,null,null,null,null,{"$f":"IF(GetData!H46=\"\",\"\",GetData!H46)","v":""}]
[{"$f":"IF(GetData!F47=\"\",\"\",GetData!F47)","v":""},{"$f":"IF(GetData!G47=\"\",\"\",GetData!G47)","v":""},null,null,null,null,null,null,null,null,{"$f":"IF(GetData!E47=\"\",\"\",GetData!E47)","v":""},{"$f":"IF(GetData!AL47=\"\",\"\",GetData!AL47)","v":""},null,null,null,null,null,null,null,null,{"$f":"IF(GetData!H47=\"\",\"\",GetData!H47)","v":""}]
[{"$f":"IF(GetData!F48=\"\",\"\",GetData!F48)","v":""},{"$f":"IF(GetData!G48=\"\",\"\",GetData!G48)","v":""},null,null,null,null,null,null,null,null,{"$f":"IF(GetData!E48=\"\",\"\",GetData!E48)","v":""},{"$f":"IF(GetData!AL48=\"\",\"\",GetData!AL48)","v":""},null,null,"Run Histogram",null,null,null,null,null,{"$f":"IF(GetData!H48=\"\",\"\",GetData!H48)","v":""}]
[{"$f":"IF(GetData!F49=\"\",\"\",GetData!F49)","v":""},{"$f":"IF(GetData!G49=\"\",\"\",GetData!G49)","v":""},null,null,"Run Histogram",null,null,null,null,null,{"$f":"IF(GetData!E49=\"\",\"\",GetData!E49)","v":""},{"$f":"IF(GetData!AL49=\"\",\"\",GetData!AL49)","v":""},null,null,null,null,null,null,null,null,{"$f":"IF(GetData!H49=\"\",\"\",GetData!H49)","v":""},null,null,null,"Run Histogram"]
[{"$f":"IF(GetData!F50=\"\",\"\",GetData!F50)","v":""},{"$f":"IF(GetData!G50=\"\",\"\",GetData!G50)","v":""},null,null,null,null,null,null,null,null,{"$f":"IF(GetData!E50=\"\",\"\",GetData!E50)","v":""},{"$f":"IF(GetData!AL50=\"\",\"\",GetData!AL50)","v":""},null,null,null,null,null,null,null,null,{"$f":"IF(GetData!H50=\"\",\"\",GetData!H50)","v":""}]
[{"$f":"IF(GetData!F51=\"\",\"\",GetData!F51)","v":""},{"$f":"IF(GetData!G51=\"\",\"\",GetData!G51)","v":""},null,null,null,null,null,null,null,null,{"$f":"IF(GetData!E51=\"\",\"\",GetData!E51)","v":""},{"$f":"IF(GetData!AL51=\"\",\"\",GetData!AL51)","v":""},null,null,null,null,null,null,null,null,{"$f":"IF(GetData!H51=\"\",\"\",GetData!H51)","v":""}]
[{"$f":"IF(GetData!F52=\"\",\"\",GetData!F52)","v":""},{"$f":"IF(GetData!G52=\"\",\"\",GetData!G52)","v":""},null,null,null,null,null,null,null,null,{"$f":"IF(GetData!E52=\"\",\"\",GetData!E52)","v":""},{"$f":"IF(GetData!AL52=\"\",\"\",GetData!AL52)","v":""},null,null,null,null,null,null,null,null,{"$f":"IF(GetData!H52=\"\",\"\",GetData!H52)","v":""}]
[{"$f":"IF(GetData!F53=\"\",\"\",GetData!F53)","v":""},{"$f":"IF(GetData!G53=\"\",\"\",GetData!G53)","v":""},null,null,null,null,null,null,null,null,{"$f":"IF(GetData!E53=\"\",\"\",GetData!E53)","v":""},{"$f":"IF(GetData!AL53=\"\",\"\",GetData!AL53)","v":""},null,null,null,null,null,null,null,null,{"$f":"IF(GetData!H53=\"\",\"\",GetData!H53)","v":""}]
[{"$f":"IF(GetData!F54=\"\",\"\",GetData!F54)","v":""},{"$f":"IF(GetData!G54=\"\",\"\",GetData!G54)","v":""},null,null,null,null,null,null,null,null,{"$f":"IF(GetData!E54=\"\",\"\",GetData!E54)","v":""},{"$f":"IF(GetData!AL54=\"\",\"\",GetData!AL54)","v":""},null,null,null,null,null,null,null,null,{"$f":"IF(GetData!H54=\"\",\"\",GetData!H54)","v":""}]
[{"$f":"IF(GetData!F55=\"\",\"\",GetData!F55)","v":""},{"$f":"IF(GetData!G55=\"\",\"\",GetData!G55)","v":""},null,null,null,null,null,null,null,null,{"$f":"IF(GetData!E55=\"\",\"\",GetData!E55)","v":""},{"$f":"IF(GetData!AL55=\"\",\"\",GetData!AL55)","v":""},null,null,null,null,null,null,null,null,{"$f":"IF(GetData!H55=\"\",\"\",GetData!H55)","v":""}]
[{"$f":"IF(GetData!F56=\"\",\"\",GetData!F56)","v":""},{"$f":"IF(GetData!G56=\"\",\"\",GetData!G56)","v":""},null,null,null,null,null,null,null,null,{"$f":"IF(GetData!E56=\"\",\"\",GetData!E56)","v":""},{"$f":"IF(GetData!AL56=\"\",\"\",GetData!AL56)","v":""},null,null,null,null,null,null,null,null,{"$f":"IF(GetData!H56=\"\",\"\",GetData!H56)","v":""}]
[{"$f":"IF(GetData!F57=\"\",\"\",GetData!F57)","v":""},{"$f":"IF(GetData!G57=\"\",\"\",GetData!G57)","v":""},null,null,null,null,null,null,null,null,{"$f":"IF(GetData!E57=\"\",\"\",GetData!E57)","v":""},{"$f":"IF(GetData!AL57=\"\",\"\",GetData!AL57)","v":""},null,null,null,null,null,null,null,null,{"$f":"IF(GetData!H57=\"\",\"\",GetData!H57)","v":""}]
[{"$f":"IF(GetData!F58=\"\",\"\",GetData!F58)","v":""},{"$f":"IF(GetData!G58=\"\",\"\",GetData!G58)","v":""},null,null,null,null,null,null,null,null,{"$f":"IF(GetData!E58=\"\",\"\",GetData!E58)","v":""},{"$f":"IF(GetData!AL58=\"\",\"\",GetData!AL58)","v":""},"ChiSquare",null,null,null,null,null,null,null,{"$f":"IF(GetData!H58=\"\",\"\",GetData!H58)","v":""}]
[{"$f":"IF(GetData!F59=\"\",\"\",GetData!F59)","v":""},{"$f":"IF(GetData!G59=\"\",\"\",GetData!G59)","v":""},null,null,null,null,null,null,null,null,{"$f":"IF(GetData!E59=\"\",\"\",GetData!E59)","v":""},{"$f":"IF(GetData!AL59=\"\",\"\",GetData!AL59)","v":""},null,"Contingency Tables (null hypothesis:  the two groups are not significantly different)",null,null,null,null,null,null,{"$f":"IF(GetData!H59=\"\",\"\",GetData!H59)","v":""}]
[{"$f":"IF(GetData!F60=\"\",\"\",GetData!F60)","v":""},{"$f":"IF(GetData!G60=\"\",\"\",GetData!G60)","v":""},null,null,null,null,null,null,null,null,{"$f":"IF(GetData!E60=\"\",\"\",GetData!E60)","v":""},{"$f":"IF(GetData!AL60=\"\",\"\",GetData!AL60)","v":""},null,"Bank Alteration","GROUP 1","GROUP 2",null,null,null,null,{"$f":"IF(GetData!H60=\"\",\"\",GetData!H60)","v":""}]
[{"$f":"IF(GetData!F61=\"\",\"\",GetData!F61)","v":""},{"$f":"IF(GetData!G61=\"\",\"\",GetData!G61)","v":""},null,null,null,null,null,null,null,null,{"$f":"IF(GetData!E61=\"\",\"\",GetData!E61)","v":""},{"$f":"IF(GetData!AL61=\"\",\"\",GetData!AL61)","v":""},null,null,{"$f":"K3","v":0},"Criteria",null,null,null,null,{"$f":"IF(GetData!H61=\"\",\"\",GetData!H61)","v":""}]
[{"$f":"IF(GetData!F62=\"\",\"\",GetData!F62)","v":""},{"$f":"IF(GetData!G62=\"\",\"\",GetData!G62)","v":""},null,null,null,null,null,null,null,null,{"$f":"IF(GetData!E62=\"\",\"\",GetData!E62)","v":""},{"$f":"IF(GetData!AL62=\"\",\"\",GetData!AL62)","v":""},null,"Altered",{"$f":"SUM(K6:K504)","v":{"$error":"#DIV/0!"}},{"$f":"Q5*(SUM(O63:O64))","v":{"$error":"#DIV/0!"}},null,null,null,null,{"$f":"IF(GetData!H62=\"\",\"\",GetData!H62)","v":""}]
[{"$f":"IF(GetData!F63=\"\",\"\",GetData!F63)","v":""},{"$f":"IF(GetData!G63=\"\",\"\",GetData!G63)","v":""},null,null,null,null,null,null,null,null,{"$f":"IF(GetData!E63=\"\",\"\",GetData!E63)","v":""},{"$f":"IF(GetData!AL63=\"\",\"\",GetData!AL63)","v":""},null,"Unaltered",{"$f":"COUNT(K6:K504)*5-O63","v":{"$error":"#DIV/0!"}},{"$f":"COUNT(K6:K504)*5-P63","v":{"$error":"#DIV/0!"}},null,null,null,null,{"$f":"IF(GetData!H63=\"\",\"\",GetData!H63)","v":""}]
[{"$f":"IF(GetData!F64=\"\",\"\",GetData!F64)","v":""},{"$f":"IF(GetData!G64=\"\",\"\",GetData!G64)","v":""},null,null,null,null,null,null,null,null,{"$f":"IF(GetData!E64=\"\",\"\",GetData!E64)","v":""},{"$f":"IF(GetData!AL64=\"\",\"\",GetData!AL64)","v":""},null,"Total",{"$f":"SUM(O63:O64)","v":{"$error":"#DIV/0!"}},{"$f":"SUM(P63:P64)","v":{"$error":"#DIV/0!"}},null,null,null,null,{"$f":"IF(GetData!H64=\"\",\"\",GetData!H64)","v":""}]
[{"$f":"IF(GetData!F65=\"\",\"\",GetData!F65)","v":""},{"$f":"IF(GetData!G65=\"\",\"\",GetData!G65)","v":""},null,null,null,null,null,null,null,null,{"$f":"IF(GetData!E65=\"\",\"\",GetData!E65)","v":""},{"$f":"IF(GetData!AL65=\"\",\"\",GetData!AL65)","v":""},null,null,null,null,null,null,null,null,{"$f":"IF(GetData!H65=\"\",\"\",GetData!H65)","v":""}]
[{"$f":"IF(GetData!F66=\"\",\"\",GetData!F66)","v":""},{"$f":"IF(GetData!G66=\"\",\"\",GetData!G66)","v":""},null,null,null,null,null,null,null,null,{"$f":"IF(GetData!E66=\"\",\"\",GetData!E66)","v":""},{"$f":"IF(GetData!AL66=\"\",\"\",GetData!AL66)","v":""},null,null,null,null,null,null,null,null,{"$f":"IF(GetData!H66=\"\",\"\",GetData!H66)","v":""}]
[{"$f":"IF(GetData!F67=\"\",\"\",GetData!F67)","v":""},{"$f":"IF(GetData!G67=\"\",\"\",GetData!G67)","v":""},null,null,null,null,null,null,null,null,{"$f":"IF(GetData!E67=\"\",\"\",GetData!E67)","v":""},{"$f":"IF(GetData!AL67=\"\",\"\",GetData!AL67)","v":""},null,null,"Percentage:","Bank alteration",null,null,null,null,{"$f":"IF(GetData!H67=\"\",\"\",GetData!H67)","v":""}]
[{"$f":"IF(GetData!F68=\"\",\"\",GetData!F68)","v":""},{"$f":"IF(GetData!G68=\"\",\"\",GetData!G68)","v":""},null,null,null,null,null,null,null,null,{"$f":"IF(GetData!E68=\"\",\"\",GetData!E68)","v":""},{"$f":"IF(GetData!AL68=\"\",\"\",GetData!AL68)","v":""},null,null,0,0,null,null,null,null,{"$f":"IF(GetData!H68=\"\",\"\",GetData!H68)","v":""}]
[{"$f":"IF(GetData!F69=\"\",\"\",GetData!F69)","v":""},{"$f":"IF(GetData!G69=\"\",\"\",GetData!G69)","v":""},null,null,null,null,null,null,null,null,{"$f":"IF(GetData!E69=\"\",\"\",GetData!E69)","v":""},{"$f":"IF(GetData!AL69=\"\",\"\",GetData!AL69)","v":""},null,"Altered(%)",{"$f":"O63/O$65","v":{"$error":"#DIV/0!"}},{"$f":"P63/P$65","v":{"$error":"#DIV/0!"}},null,null,null,null,{"$f":"IF(GetData!H69=\"\",\"\",GetData!H69)","v":""}]
[{"$f":"IF(GetData!F70=\"\",\"\",GetData!F70)","v":""},{"$f":"IF(GetData!G70=\"\",\"\",GetData!G70)","v":""},null,null,null,null,null,null,null,null,{"$f":"IF(GetData!E70=\"\",\"\",GetData!E70)","v":""},{"$f":"IF(GetData!AL70=\"\",\"\",GetData!AL70)","v":""},null,"Unaltered (%)",{"$f":"O64/O$65","v":{"$error":"#DIV/0!"}},{"$f":"P64/P$65","v":{"$error":"#DIV/0!"}},null,null,null,null,{"$f":"IF(GetData!H70=\"\",\"\",GetData!H70)","v":""}]
[{"$f":"IF(GetData!F71=\"\",\"\",GetData!F71)","v":""},{"$f":"IF(GetData!G71=\"\",\"\",GetData!G71)","v":""},null,null,null,null,null,null,null,null,{"$f":"IF(GetData!E71=\"\",\"\",GetData!E71)","v":""},{"$f":"IF(GetData!AL71=\"\",\"\",GetData!AL71)","v":""},null,"Total",{"$f":"SUM(O70:O71)","v":{"$error":"#DIV/0!"}},{"$f":"SUM(P70:P71)","v":{"$error":"#DIV/0!"}},null,null,null,null,{"$f":"IF(GetData!H71=\"\",\"\",GetData!H71)","v":""}]
[{"$f":"IF(GetData!F72=\"\",\"\",GetData!F72)","v":""},{"$f":"IF(GetData!G72=\"\",\"\",GetData!G72)","v":""},null,null,null,null,null,null,null,null,{"$f":"IF(GetData!E72=\"\",\"\",GetData!E72)","v":""},{"$f":"IF(GetData!AL72=\"\",\"\",GetData!AL72)","v":""},null,null,null,null,null,null,null,null,{"$f":"IF(GetData!H72=\"\",\"\",GetData!H72)","v":""}]
[{"$f":"IF(GetData!F73=\"\",\"\",GetData!F73)","v":""},{"$f":"IF(GetData!G73=\"\",\"\",GetData!G73)","v":""},null,null,null,null,null,null,null,null,{"$f":"IF(GetData!E73=\"\",\"\",GetData!E73)","v":""},{"$f":"IF(GetData!AL73=\"\",\"\",GetData!AL73)","v":""},null,null,null,null,null,null,null,null,{"$f":"IF(GetData!H73=\"\",\"\",GetData!H73)","v":""}]
[{"$f":"IF(GetData!F74=\"\",\"\",GetData!F74)","v":""},{"$f":"IF(GetData!G74=\"\",\"\",GetData!G74)","v":""},null,null,null,null,null,null,null,null,{"$f":"IF(GetData!E74=\"\",\"\",GetData!E74)","v":""},{"$f":"IF(GetData!AL74=\"\",\"\",GetData!AL74)","v":""},null,"Observed",null,null,null,null,null,null,{"$f":"IF(GetData!H74=\"\",\"\",GetData!H74)","v":""}]
[{"$f":"IF(GetData!F75=\"\",\"\",GetData!F75)","v":""},{"$f":"IF(GetData!G75=\"\",\"\",GetData!G75)","v":""},null,null,null,null,null,null,null,null,{"$f":"IF(GetData!E75=\"\",\"\",GetData!E75)","v":""},{"$f":"IF(GetData!AL75=\"\",\"\",GetData!AL75)","v":""},null,null,{"$f":"O62","v":0},"Criteria","Totals",null,null,null,{"$f":"IF(GetData!H75=\"\",\"\",GetData!H75)","v":""}]
[{"$f":"IF(GetData!F76=\"\",\"\",GetData!F76)","v":""},{"$f":"IF(GetData!G76=\"\",\"\",GetData!G76)","v":""},null,null,null,null,null,null,null,null,{"$f":"IF(GetData!E76=\"\",\"\",GetData!E76)","v":""},{"$f":"IF(GetData!AL76=\"\",\"\",GetData!AL76)","v":""},null,"Altered",{"$error":"#DIV/0!"},{"$error":"#DIV/0!"},{"$f":"SUM(O77:P77)","v":{"$error":"#DIV/0!"}},null,null,null,{"$f":"IF(GetData!H76=\"\",\"\",GetData!H76)","v":""}]
[{"$f":"IF(GetData!F77=\"\",\"\",GetData!F77)","v":""},{"$f":"IF(GetData!G77=\"\",\"\",GetData!G77)","v":""},null,null,null,null,null,null,null,null,{"$f":"IF(GetData!E77=\"\",\"\",GetData!E77)","v":""},{"$f":"IF(GetData!AL77=\"\",\"\",GetData!AL77)","v":""},null,"Unaltered",{"$error":"#DIV/0!"},{"$error":"#DIV/0!"},{"$f":"SUM(O78:P78)","v":{"$error":"#DIV/0!"}},null,null,null,{"$f":"IF(GetData!H77=\"\",\"\",GetData!H77)","v":""}]
[{"$f":"IF(GetData!F78=\"\",\"\",GetData!F78)","v":""},{"$f":"IF(GetData!G78=\"\",\"\",GetData!G78)","v":""},null,null,null,null,null,null,null,null,{"$f":"IF(GetData!E78=\"\",\"\",GetData!E78)","v":""},{"$f":"IF(GetData!AL78=\"\",\"\",GetData!AL78)","v":""},null,"Total",{"$f":"SUM(O77:O78)","v":{"$error":"#DIV/0!"}},{"$f":"SUM(P77:P78)","v":{"$error":"#DIV/0!"}},{"$f":"SUM(O79:P79)","v":{"$error":"#DIV/0!"}},null,null,null,{"$f":"IF(GetData!H78=\"\",\"\",GetData!H78)","v":""}]
[{"$f":"IF(GetData!F79=\"\",\"\",GetData!F79)","v":""},{"$f":"IF(GetData!G79=\"\",\"\",GetData!G79)","v":""},null,null,null,null,null,null,null,null,{"$f":"IF(GetData!E79=\"\",\"\",GetData!E79)","v":""},{"$f":"IF(GetData!AL79=\"\",\"\",GetData!AL79)","v":""},null,null,null,null,null,null,null,null,{"$f":"IF(GetData!H79=\"\",\"\",GetData!H79)","v":""}]
[{"$f":"IF(GetData!F80=\"\",\"\",GetData!F80)","v":""},{"$f":"IF(GetData!G80=\"\",\"\",GetData!G80)","v":""},null,null,null,null,null,null,null,null,{"$f":"IF(GetData!E80=\"\",\"\",GetData!E80)","v":""},{"$f":"IF(GetData!AL80=\"\",\"\",GetData!AL80)","v":""},null,null,null,null,null,null,null,null,{"$f":"IF(GetData!H80=\"\",\"\",GetData!H80)","v":""}]
[{"$f":"IF(GetData!F81=\"\",\"\",GetData!F81)","v":""},{"$f":"IF(GetData!G81=\"\",\"\",GetData!G81)","v":""},null,null,null,null,null,null,null,null,{"$f":"IF(GetData!E81=\"\",\"\",GetData!E81)","v":""},{"$f":"IF(GetData!AL81=\"\",\"\",GetData!AL81)","v":""},null,"Expected",null,null,null,null,null,null,{"$f":"IF(GetData!H81=\"\",\"\",GetData!H81)","v":""}]
[{"$f":"IF(GetData!F82=\"\",\"\",GetData!F82)","v":""},{"$f":"IF(GetData!G82=\"\",\"\",GetData!G82)","v":""},null,null,null,null,null,null,null,null,{"$f":"IF(GetData!E82=\"\",\"\",GetData!E82)","v":""},{"$f":"IF(GetData!AL82=\"\",\"\",GetData!AL82)","v":""},null,null,{"$f":"O62","v":0},{"$f":"P62","v":"Criteria"},"Totals",null,null,null,{"$f":"IF(GetData!H82=\"\",\"\",GetData!H82)","v":""}]
[{"$f":"IF(GetData!F83=\"\",\"\",GetData!F83)","v":""},{"$f":"IF(GetData!G83=\"\",\"\",GetData!G83)","v":""},null,null,null,null,null,null,null,null,{"$f":"IF(GetData!E83=\"\",\"\",GetData!E83)","v":""},{"$f":"IF(GetData!AL83=\"\",\"\",GetData!AL83)","v":""},null,"Altered",{"$f":"AVERAGE(O70:P70)*O65","v":{"$error":"#DIV/0!"}},{"$f":"AVERAGE(O70:P70*P65)","v":{"$error":"#DIV/0!"}},{"$f":"SUM(O84:P84)","v":{"$error":"#DIV/0!"}},null,null,null,{"$f":"IF(GetData!H83=\"\",\"\",GetData!H83)","v":""}]
[{"$f":"IF(GetData!F84=\"\",\"\",GetData!F84)","v":""},{"$f":"IF(GetData!G84=\"\",\"\",GetData!G84)","v":""},null,null,null,null,null,null,null,null,{"$f":"IF(GetData!E84=\"\",\"\",GetData!E84)","v":""},{"$f":"IF(GetData!AL84=\"\",\"\",GetData!AL84)","v":""},null,"Unaltered",{"$f":"AVERAGE(O71:P71)*O65","v":{"$error":"#DIV/0!"}},{"$f":"AVERAGE(O71:P71*P65)","v":{"$error":"#DIV/0!"}},{"$f":"SUM(O85:P85)","v":{"$error":"#DIV/0!"}},null,null,null,{"$f":"IF(GetData!H84=\"\",\"\",GetData!H84)","v":""}]
[{"$f":"IF(GetData!F85=\"\",\"\",GetData!F85)","v":""},{"$f":"IF(GetData!G85=\"\",\"\",GetData!G85)","v":""},null,null,null,null,null,null,null,null,{"$f":"IF(GetData!E85=\"\",\"\",GetData!E85)","v":""},{"$f":"IF(GetData!AL85=\"\",\"\",GetData!AL85)","v":""},null,"Total",{"$f":"SUM(O84:O85)","v":{"$error":"#DIV/0!"}},{"$f":"SUM(P84:P85)","v":{"$error":"#DIV/0!"}},{"$f":"SUM(O86:P86)","v":{"$error":"#DIV/0!"}},null,null,null,{"$f":"IF(GetData!H85=\"\",\"\",GetData!H85)","v":""}]
[{"$f":"IF(GetData!F86=\"\",\"\",GetData!F86)","v":""},{"$f":"IF(GetData!G86=\"\",\"\",GetData!G86)","v":""},null,null,null,null,null,null,null,null,{"$f":"IF(GetData!E86=\"\",\"\",GetData!E86)","v":""},{"$f":"IF(GetData!AL86=\"\",\"\",GetData!AL86)","v":""},null,null,null,null,null,null,null,null,{"$f":"IF(GetData!H86=\"\",\"\",GetData!H86)","v":""}]
[{"$f":"IF(GetData!F87=\"\",\"\",GetData!F87)","v":""},{"$f":"IF(GetData!G87=\"\",\"\",GetData!G87)","v":""},null,null,null,null,null,null,null,null,{"$f":"IF(GetData!E87=\"\",\"\",GetData!E87)","v":""},{"$f":"IF(GetData!AL87=\"\",\"\",GetData!AL87)","v":""},null,null,null,null,null,null,null,null,{"$f":"IF(GetData!H87=\"\",\"\",GetData!H87)","v":""}]
[{"$f":"IF(GetData!F88=\"\",\"\",GetData!F88)","v":""},{"$f":"IF(GetData!G88=\"\",\"\",GetData!G88)","v":""},null,null,null,null,null,null,null,null,{"$f":"IF(GetData!E88=\"\",\"\",GetData!E88)","v":""},{"$f":"IF(GetData!AL88=\"\",\"\",GetData!AL88)","v":""},null,null,null,null,null,null,null,null,{"$f":"IF(GetData!H88=\"\",\"\",GetData!H88)","v":""}]
[{"$f":"IF(GetData!F89=\"\",\"\",GetData!F89)","v":""},{"$f":"IF(GetData!G89=\"\",\"\",GetData!G89)","v":""},null,null,null,null,null,null,null,null,{"$f":"IF(GetData!E89=\"\",\"\",GetData!E89)","v":""},{"$f":"IF(GetData!AL89=\"\",\"\",GetData!AL89)","v":""},null,null,"Chi Square Bank Alteration",null,null,null,null,null,{"$f":"IF(GetData!H89=\"\",\"\",GetData!H89)","v":""}]
[{"$f":"IF(GetData!F90=\"\",\"\",GetData!F90)","v":""},{"$f":"IF(GetData!G90=\"\",\"\",GetData!G90)","v":""},null,null,null,null,null,null,null,null,{"$f":"IF(GetData!E90=\"\",\"\",GetData!E90)","v":""},{"$f":"IF(GetData!AL90=\"\",\"\",GetData!AL90)","v":""},null,null,{"$f":"(O77-O84)^2/O77+(P77-P84)^2/P77+(O78-O85)^2/O85+(P78-P85)^2/P85","v":{"$error":"#DIV/0!"}},null,"Lookup 1 df and alpha of .10",null,null,null,{"$f":"IF(GetData!H90=\"\",\"\",GetData!H90)","v":""}]
[{"$f":"IF(GetData!F91=\"\",\"\",GetData!F91)","v":""},{"$f":"IF(GetData!G91=\"\",\"\",GetData!G91)","v":""},null,null,null,null,null,null,null,null,{"$f":"IF(GetData!E91=\"\",\"\",GetData!E91)","v":""},{"$f":"IF(GetData!AL91=\"\",\"\",GetData!AL91)","v":""},null,null,{"$f":"IF(Q$92>O91,\"Accept the null hypothesis\",\"Reject the null hypothesis\")","v":{"$error":"#DIV/0!"}},null,2.71,null,null,null,{"$f":"IF(GetData!H91=\"\",\"\",GetData!H91)","v":""}]
[{"$f":"IF(GetData!F92=\"\",\"\",GetData!F92)","v":""},{"$f":"IF(GetData!G92=\"\",\"\",GetData!G92)","v":""},null,null,null,null,null,null,null,null,{"$f":"IF(GetData!E92=\"\",\"\",GetData!E92)","v":""},{"$f":"IF(GetData!AL92=\"\",\"\",GetData!AL92)","v":""},null,null,null,null,"Lookup 1 df and alpha of .05",null,null,null,{"$f":"IF(GetData!H92=\"\",\"\",GetData!H92)","v":""}]
[{"$f":"IF(GetData!F93=\"\",\"\",GetData!F93)","v":""},{"$f":"IF(GetData!G93=\"\",\"\",GetData!G93)","v":""},null,null,null,null,null,null,null,null,{"$f":"IF(GetData!E93=\"\",\"\",GetData!E93)","v":""},{"$f":"IF(GetData!AL93=\"\",\"\",GetData!AL93)","v":""},null,null,{"$f":"IF(Q$94>O91,\"Accept the null hypothesis\",\"Reject the null hypothesis\")","v":{"$error":"#DIV/0!"}},null,3.84,null,null,null,{"$f":"IF(GetData!H93=\"\",\"\",GetData!H93)","v":""}]
[{"$f":"IF(GetData!F94=\"\",\"\",GetData!F94)","v":""},{"$f":"IF(GetData!G94=\"\",\"\",GetData!G94)","v":""},null,null,null,null,null,null,null,null,{"$f":"IF(GetData!E94=\"\",\"\",GetData!E94)","v":""},{"$f":"IF(GetData!AL94=\"\",\"\",GetData!AL94)","v":""},null,null,null,null,"Lookup 1 df and alpha of .2",null,null,null,{"$f":"IF(GetData!H94=\"\",\"\",GetData!H94)","v":""}]
[{"$f":"IF(GetData!F95=\"\",\"\",GetData!F95)","v":""},{"$f":"IF(GetData!G95=\"\",\"\",GetData!G95)","v":""},null,null,null,null,null,null,null,null,{"$f":"IF(GetData!E95=\"\",\"\",GetData!E95)","v":""},{"$f":"IF(GetData!AL95=\"\",\"\",GetData!AL95)","v":""},null,null,{"$f":"IF(Q$94>O94,\"Accept the null hypothesis\",\"Reject the null hypothesis\")","v":{"$error":"#DIV/0!"}},null,1.64,null,null,null,{"$f":"IF(GetData!H95=\"\",\"\",GetData!H95)","v":""}]
[{"$f":"IF(GetData!F96=\"\",\"\",GetData!F96)","v":""},{"$f":"IF(GetData!G96=\"\",\"\",GetData!G96)","v":""},null,null,null,null,null,null,null,null,{"$f":"IF(GetData!E96=\"\",\"\",GetData!E96)","v":""},{"$f":"IF(GetData!AL96=\"\",\"\",GetData!AL96)","v":""},null,null,null,null,null,null,null,null,{"$f":"IF(GetData!H96=\"\",\"\",GetData!H96)","v":""}]
[{"$f":"IF(GetData!F97=\"\",\"\",GetData!F97)","v":""},{"$f":"IF(GetData!G97=\"\",\"\",GetData!G97)","v":""},null,null,null,null,null,null,null,null,{"$f":"IF(GetData!E97=\"\",\"\",GetData!E97)","v":""},{"$f":"IF(GetData!AL97=\"\",\"\",GetData!AL97)","v":""},null,null,null,null,null,null,null,null,{"$f":"IF(GetData!H97=\"\",\"\",GetData!H97)","v":""}]
[{"$f":"IF(GetData!F98=\"\",\"\",GetData!F98)","v":""},{"$f":"IF(GetData!G98=\"\",\"\",GetData!G98)","v":""},null,null,null,null,null,null,null,null,{"$f":"IF(GetData!E98=\"\",\"\",GetData!E98)","v":""},{"$f":"IF(GetData!AL98=\"\",\"\",GetData!AL98)","v":""},null,null,null,null,null,null,null,null,{"$f":"IF(GetData!H98=\"\",\"\",GetData!H98)","v":""}]
[{"$f":"IF(GetData!F99=\"\",\"\",GetData!F99)","v":""},{"$f":"IF(GetData!G99=\"\",\"\",GetData!G99)","v":""},null,null,null,null,null,null,null,null,{"$f":"IF(GetData!E99=\"\",\"\",GetData!E99)","v":""},{"$f":"IF(GetData!AL99=\"\",\"\",GetData!AL99)","v":""},null,null,null,null,null,null,null,null,{"$f":"IF(GetData!H99=\"\",\"\",GetData!H99)","v":""}]
[{"$f":"IF(GetData!F100=\"\",\"\",GetData!F100)","v":""},{"$f":"IF(GetData!G100=\"\",\"\",GetData!G100)","v":""},null,null,null,null,null,null,null,null,{"$f":"IF(GetData!E100=\"\",\"\",GetData!E100)","v":""},{"$f":"IF(GetData!AL100=\"\",\"\",GetData!AL100)","v":""},null,null,null,null,null,null,null,null,{"$f":"IF(GetData!H100=\"\",\"\",GetData!H100)","v":""}]
[{"$f":"IF(GetData!F101=\"\",\"\",GetData!F101)","v":""},{"$f":"IF(GetData!G101=\"\",\"\",GetData!G101)","v":""},null,null,null,null,null,null,null,null,{"$f":"IF(GetData!E101=\"\",\"\",GetData!E101)","v":""},{"$f":"IF(GetData!AL101=\"\",\"\",GetData!AL101)","v":""},null,null,null,null,null,null,null,null,{"$f":"IF(GetData!H101=\"\",\"\",GetData!H101)","v":""}]
[{"$f":"IF(GetData!F102=\"\",\"\",GetData!F102)","v":""},{"$f":"IF(GetData!G102=\"\",\"\",GetData!G102)","v":""},null,null,null,null,null,null,null,null,{"$f":"IF(GetData!E102=\"\",\"\",GetData!E102)","v":""},{"$f":"IF(GetData!AL102=\"\",\"\",GetData!AL102)","v":""},null,null,null,null,null,null,null,null,{"$f":"IF(GetData!H102=\"\",\"\",GetData!H102)","v":""}]
[{"$f":"IF(GetData!F103=\"\",\"\",GetData!F103)","v":""},{"$f":"IF(GetData!G103=\"\",\"\",GetData!G103)","v":""},null,null,null,null,null,null,null,null,{"$f":"IF(GetData!E103=\"\",\"\",GetData!E103)","v":""},{"$f":"IF(GetData!AL103=\"\",\"\",GetData!AL103)","v":""},null,null,null,null,null,null,null,null,{"$f":"IF(GetData!H103=\"\",\"\",GetData!H103)","v":""}]
[{"$f":"IF(GetData!F104=\"\",\"\",GetData!F104)","v":""},{"$f":"IF(GetData!G104=\"\",\"\",GetData!G104)","v":""},null,null,null,null,null,null,null,null,{"$f":"IF(GetData!E104=\"\",\"\",GetData!E104)","v":""},{"$f":"IF(GetData!AL104=\"\",\"\",GetData!AL104)","v":""},null,null,null,null,null,null,null,null,{"$f":"IF(GetData!H104=\"\",\"\",GetData!H104)","v":""}]
[{"$f":"IF(GetData!F105=\"\",\"\",GetData!F105)","v":""},{"$f":"IF(GetData!G105=\"\",\"\",GetData!G105)","v":""},null,null,null,null,null,null,null,null,{"$f":"IF(GetData!E105=\"\",\"\",GetData!E105)","v":""},{"$f":"IF(GetData!AL105=\"\",\"\",GetData!AL105)","v":""},null,null,null,null,null,null,null,null,{"$f":"IF(GetData!H105=\"\",\"\",GetData!H105)","v":""}]
[{"$f":"IF(GetData!F106=\"\",\"\",GetData!F106)","v":""},{"$f":"IF(GetData!G106=\"\",\"\",GetData!G106)","v":""},null,null,null,null,null,null,null,null,{"$f":"IF(GetData!E106=\"\",\"\",GetData!E106)","v":""},{"$f":"IF(GetData!AL106=\"\",\"\",GetData!AL106)","v":""},null,null,null,null,null,null,null,null,{"$f":"IF(GetData!H106=\"\",\"\",GetData!H106)","v":""}]
[{"$f":"IF(GetData!F107=\"\",\"\",GetData!F107)","v":""},{"$f":"IF(GetData!G107=\"\",\"\",GetData!G107)","v":""},null,null,null,null,null,null,null,null,{"$f":"IF(GetData!E107=\"\",\"\",GetData!E107)","v":""},{"$f":"IF(GetData!AL107=\"\",\"\",GetData!AL107)","v":""},null,null,null,null,null,null,null,null,{"$f":"IF(GetData!H107=\"\",\"\",GetData!H107)","v":""}]
[{"$f":"IF(GetData!F108=\"\",\"\",GetData!F108)","v":""},{"$f":"IF(GetData!G108=\"\",\"\",GetData!G108)","v":""},null,null,null,null,null,null,null,null,{"$f":"IF(GetData!E108=\"\",\"\",GetData!E108)","v":""},{"$f":"IF(GetData!AL108=\"\",\"\",GetData!AL108)","v":""},null,null,null,null,null,null,null,null,{"$f":"IF(GetData!H108=\"\",\"\",GetData!H108)","v":""}]
[{"$f":"IF(GetData!F109=\"\",\"\",GetData!F109)","v":""},{"$f":"IF(GetData!G109=\"\",\"\",GetData!G109)","v":""},null,null,null,null,null,null,null,null,{"$f":"IF(GetData!E109=\"\",\"\",GetData!E109)","v":""},{"$f":"IF(GetData!AL109=\"\",\"\",GetData!AL109)","v":""},null,null,null,null,null,null,null,null,{"$f":"IF(GetData!H109=\"\",\"\",GetData!H109)","v":""}]
[{"$f":"IF(GetData!F110=\"\",\"\",GetData!F110)","v":""},{"$f":"IF(GetData!G110=\"\",\"\",GetData!G110)","v":""},null,null,null,null,null,null,null,null,{"$f":"IF(GetData!E110=\"\",\"\",GetData!E110)","v":""},{"$f":"IF(GetData!AL110=\"\",\"\",GetData!AL110)","v":""},null,null,null,null,null,null,null,null,{"$f":"IF(GetData!H110=\"\",\"\",GetData!H110)","v":""}]
[{"$f":"IF(GetData!F111=\"\",\"\",GetData!F111)","v":""},{"$f":"IF(GetData!G111=\"\",\"\",GetData!G111)","v":""},null,null,null,null,null,null,null,null,{"$f":"IF(GetData!E111=\"\",\"\",GetData!E111)","v":""},{"$f":"IF(GetData!AL111=\"\",\"\",GetData!AL111)","v":""},null,null,null,null,null,null,null,null,{"$f":"IF(GetData!H111=\"\",\"\",GetData!H111)","v":""}]
[{"$f":"IF(GetData!F112=\"\",\"\",GetData!F112)","v":""},{"$f":"IF(GetData!G112=\"\",\"\",GetData!G112)","v":""},null,null,null,null,null,null,null,null,{"$f":"IF(GetData!E112=\"\",\"\",GetData!E112)","v":""},{"$f":"IF(GetData!AL112=\"\",\"\",GetData!AL112)","v":""},null,null,null,null,null,null,null,null,{"$f":"IF(GetData!H112=\"\",\"\",GetData!H112)","v":""}]
[{"$f":"IF(GetData!F113=\"\",\"\",GetData!F113)","v":""},{"$f":"IF(GetData!G113=\"\",\"\",GetData!G113)","v":""},null,null,null,null,null,null,null,null,{"$f":"IF(GetData!E113=\"\",\"\",GetData!E113)","v":""},{"$f":"IF(GetData!AL113=\"\",\"\",GetData!AL113)","v":""},null,null,null,null,null,null,null,null,{"$f":"IF(GetData!H113=\"\",\"\",GetData!H113)","v":""}]
[{"$f":"IF(GetData!F114=\"\",\"\",GetData!F114)","v":""},{"$f":"IF(GetData!G114=\"\",\"\",GetData!G114)","v":""},null,null,null,null,null,null,null,null,{"$f":"IF(GetData!E114=\"\",\"\",GetData!E114)","v":""},{"$f":"IF(GetData!AL114=\"\",\"\",GetData!AL114)","v":""},null,null,null,null,null,null,null,null,{"$f":"IF(GetData!H114=\"\",\"\",GetData!H114)","v":""}]
[{"$f":"IF(GetData!F115=\"\",\"\",GetData!F115)","v":""},{"$f":"IF(GetData!G115=\"\",\"\",GetData!G115)","v":""},null,null,null,null,null,null,null,null,{"$f":"IF(GetData!E115=\"\",\"\",GetData!E115)","v":""},{"$f":"IF(GetData!AL115=\"\",\"\",GetData!AL115)","v":""},null,null,null,null,null,null,null,null,{"$f":"IF(GetData!H115=\"\",\"\",GetData!H115)","v":""}]
[{"$f":"IF(GetData!F116=\"\",\"\",GetData!F116)","v":""},{"$f":"IF(GetData!G116=\"\",\"\",GetData!G116)","v":""},null,null,null,null,null,null,null,null,{"$f":"IF(GetData!E116=\"\",\"\",GetData!E116)","v":""},{"$f":"IF(GetData!AL116=\"\",\"\",GetData!AL116)","v":""},null,null,null,null,null,null,null,null,{"$f":"IF(GetData!H116=\"\",\"\",GetData!H116)","v":""}]
[{"$f":"IF(GetData!F117=\"\",\"\",GetData!F117)","v":""},{"$f":"IF(GetData!G117=\"\",\"\",GetData!G117)","v":""},null,null,null,null,null,null,null,null,{"$f":"IF(GetData!E117=\"\",\"\",GetData!E117)","v":""},{"$f":"IF(GetData!AL117=\"\",\"\",GetData!AL117)","v":""},null,null,null,null,null,null,null,null,{"$f":"IF(GetData!H117=\"\",\"\",GetData!H117)","v":""}]
[{"$f":"IF(GetData!F118=\"\",\"\",GetData!F118)","v":""},{"$f":"IF(GetData!G118=\"\",\"\",GetData!G118)","v":""},null,null,null,null,null,null,null,null,{"$f":"IF(GetData!E118=\"\",\"\",GetData!E118)","v":""},{"$f":"IF(GetData!AL118=\"\",\"\",GetData!AL118)","v":""},null,null,null,null,null,null,null,null,{"$f":"IF(GetData!H118=\"\",\"\",GetData!H118)","v":""}]
[{"$f":"IF(GetData!F119=\"\",\"\",GetData!F119)","v":""},{"$f":"IF(GetData!G119=\"\",\"\",GetData!G119)","v":""},null,null,null,null,null,null,null,null,{"$f":"IF(GetData!E119=\"\",\"\",GetData!E119)","v":""},{"$f":"IF(GetData!AL119=\"\",\"\",GetData!AL119)","v":""},null,null,null,null,null,null,null,null,{"$f":"IF(GetData!H119=\"\",\"\",GetData!H119)","v":""}]
[{"$f":"IF(GetData!F120=\"\",\"\",GetData!F120)","v":""},{"$f":"IF(GetData!G120=\"\",\"\",GetData!G120)","v":""},null,null,null,null,null,null,null,null,{"$f":"IF(GetData!E120=\"\",\"\",GetData!E120)","v":""},{"$f":"IF(GetData!AL120=\"\",\"\",GetData!AL120)","v":""},null,null,null,null,null,null,null,null,{"$f":"IF(GetData!H120=\"\",\"\",GetData!H120)","v":""}]
[{"$f":"IF(GetData!F121=\"\",\"\",GetData!F121)","v":""},{"$f":"IF(GetData!G121=\"\",\"\",GetData!G121)","v":""},null,null,null,null,null,null,null,null,{"$f":"IF(GetData!E121=\"\",\"\",GetData!E121)","v":""},{"$f":"IF(GetData!AL121=\"\",\"\",GetData!AL121)","v":""},null,null,null,null,null,null,null,null,{"$f":"IF(GetData!H121=\"\",\"\",GetData!H121)","v":""}]
[{"$f":"IF(GetData!F122=\"\",\"\",GetData!F122)","v":""},{"$f":"IF(GetData!G122=\"\",\"\",GetData!G122)","v":""},null,null,null,null,null,null,null,null,{"$f":"IF(GetData!E122=\"\",\"\",GetData!E122)","v":""},{"$f":"IF(GetData!AL122=\"\",\"\",GetData!AL122)","v":""},null,null,null,null,null,null,null,null,{"$f":"IF(GetData!H122=\"\",\"\",GetData!H122)","v":""}]
[{"$f":"IF(GetData!F123=\"\",\"\",GetData!F123)","v":""},{"$f":"IF(GetData!G123=\"\",\"\",GetData!G123)","v":""},null,null,null,null,null,null,null,null,{"$f":"IF(GetData!E123=\"\",\"\",GetData!E123)","v":""},{"$f":"IF(GetData!AL123=\"\",\"\",GetData!AL123)","v":""},null,null,null,null,null,null,null,null,{"$f":"IF(GetData!H123=\"\",\"\",GetData!H123)","v":""}]
[{"$f":"IF(GetData!F124=\"\",\"\",GetData!F124)","v":""},{"$f":"IF(GetData!G124=\"\",\"\",GetData!G124)","v":""},null,null,null,null,null,null,null,null,{"$f":"IF(GetData!E124=\"\",\"\",GetData!E124)","v":""},{"$f":"IF(GetData!AL124=\"\",\"\",GetData!AL124)","v":""},null,null,null,null,null,null,null,null,{"$f":"IF(GetData!H124=\"\",\"\",GetData!H124)","v":""}]
[{"$f":"IF(GetData!F125=\"\",\"\",GetData!F125)","v":""},{"$f":"IF(GetData!G125=\"\",\"\",GetData!G125)","v":""},null,null,null,null,null,null,null,null,{"$f":"IF(GetData!E125=\"\",\"\",GetData!E125)","v":""},{"$f":"IF(GetData!AL125=\"\",\"\",GetData!AL125)","v":""},null,null,null,null,null,null,null,null,{"$f":"IF(GetData!H125=\"\",\"\",GetData!H125)","v":""}]
[{"$f":"IF(GetData!F126=\"\",\"\",GetData!F126)","v":""},{"$f":"IF(GetData!G126=\"\",\"\",GetData!G126)","v":""},null,null,null,null,null,null,null,null,{"$f":"IF(GetData!E126=\"\",\"\",GetData!E126)","v":""},{"$f":"IF(GetData!AL126=\"\",\"\",GetData!AL126)","v":""},null,null,null,null,null,null,null,null,{"$f":"IF(GetData!H126=\"\",\"\",GetData!H126)","v":""}]
[{"$f":"IF(GetData!F127=\"\",\"\",GetData!F127)","v":""},{"$f":"IF(GetData!G127=\"\",\"\",GetData!G127)","v":""},null,null,null,null,null,null,null,null,{"$f":"IF(GetData!E127=\"\",\"\",GetData!E127)","v":""},{"$f":"IF(GetData!AL127=\"\",\"\",GetData!AL127)","v":""},null,null,null,null,null,null,null,null,{"$f":"IF(GetData!H127=\"\",\"\",GetData!H127)","v":""}]
[{"$f":"IF(GetData!F128=\"\",\"\",GetData!F128)","v":""},{"$f":"IF(GetData!G128=\"\",\"\",GetData!G128)","v":""},null,null,null,null,null,null,null,null,{"$f":"IF(GetData!E128=\"\",\"\",GetData!E128)","v":""},{"$f":"IF(GetData!AL128=\"\",\"\",GetData!AL128)","v":""},null,null,null,null,null,null,null,null,{"$f":"IF(GetData!H128=\"\",\"\",GetData!H128)","v":""}]
[{"$f":"IF(GetData!F129=\"\",\"\",GetData!F129)","v":""},{"$f":"IF(GetData!G129=\"\",\"\",GetData!G129)","v":""},null,null,null,null,null,null,null,null,{"$f":"IF(GetData!E129=\"\",\"\",GetData!E129)","v":""},{"$f":"IF(GetData!AL129=\"\",\"\",GetData!AL129)","v":""},null,null,null,null,null,null,null,null,{"$f":"IF(GetData!H129=\"\",\"\",GetData!H129)","v":""}]
[{"$f":"IF(GetData!F130=\"\",\"\",GetData!F130)","v":""},{"$f":"IF(GetData!G130=\"\",\"\",GetData!G130)","v":""},null,null,null,null,null,null,null,null,{"$f":"IF(GetData!E130=\"\",\"\",GetData!E130)","v":""},{"$f":"IF(GetData!AL130=\"\",\"\",GetData!AL130)","v":""},null,null,null,null,null,null,null,null,{"$f":"IF(GetData!H130=\"\",\"\",GetData!H130)","v":""}]
[{"$f":"IF(GetData!F131=\"\",\"\",GetData!F131)","v":""},{"$f":"IF(GetData!G131=\"\",\"\",GetData!G131)","v":""},null,null,null,null,null,null,null,null,{"$f":"IF(GetData!E131=\"\",\"\",GetData!E131)","v":""},{"$f":"IF(GetData!AL131=\"\",\"\",GetData!AL131)","v":""},null,null,null,null,null,null,null,null,{"$f":"IF(GetData!H131=\"\",\"\",GetData!H131)","v":""}]
[{"$f":"IF(GetData!F132=\"\",\"\",GetData!F132)","v":""},{"$f":"IF(GetData!G132=\"\",\"\",GetData!G132)","v":""},null,null,null,null,null,null,null,null,{"$f":"IF(GetData!E132=\"\",\"\",GetData!E132)","v":""},{"$f":"IF(GetData!AL132=\"\",\"\",GetData!AL132)","v":""},null,null,null,null,null,null,null,null,{"$f":"IF(GetData!H132=\"\",\"\",GetData!H132)","v":""}]
[{"$f":"IF(GetData!F133=\"\",\"\",GetData!F133)","v":""},{"$f":"IF(GetData!G133=\"\",\"\",GetData!G133)","v":""},null,null,null,null,null,null,null,null,{"$f":"IF(GetData!E133=\"\",\"\",GetData!E133)","v":""},{"$f":"IF(GetData!AL133=\"\",\"\",GetData!AL133)","v":""},null,null,null,null,null,null,null,null,{"$f":"IF(GetData!H133=\"\",\"\",GetData!H133)","v":""}]
[{"$f":"IF(GetData!F134=\"\",\"\",GetData!F134)","v":""},{"$f":"IF(GetData!G134=\"\",\"\",GetData!G134)","v":""},null,null,null,null,null,null,null,null,{"$f":"IF(GetData!E134=\"\",\"\",GetData!E134)","v":""},{"$f":"IF(GetData!AL134=\"\",\"\",GetData!AL134)","v":""},null,null,null,null,null,null,null,null,{"$f":"IF(GetData!H134=\"\",\"\",GetData!H134)","v":""}]
[{"$f":"IF(GetData!F135=\"\",\"\",GetData!F135)","v":""},{"$f":"IF(GetData!G135=\"\",\"\",GetData!G135)","v":""},null,null,null,null,null,null,null,null,{"$f":"IF(GetData!E135=\"\",\"\",GetData!E135)","v":""},{"$f":"IF(GetData!AL135=\"\",\"\",GetData!AL135)","v":""},null,null,null,null,null,null,null,null,{"$f":"IF(GetData!H135=\"\",\"\",GetData!H135)","v":""}]
[{"$f":"IF(GetData!F136=\"\",\"\",GetData!F136)","v":""},{"$f":"IF(GetData!G136=\"\",\"\",GetData!G136)","v":""},null,null,null,null,null,null,null,null,{"$f":"IF(GetData!E136=\"\",\"\",GetData!E136)","v":""},{"$f":"IF(GetData!AL136=\"\",\"\",GetData!AL136)","v":""},null,null,null,null,null,null,null,null,{"$f":"IF(GetData!H136=\"\",\"\",GetData!H136)","v":""}]
[{"$f":"IF(GetData!F137=\"\",\"\",GetData!F137)","v":""},{"$f":"IF(GetData!G137=\"\",\"\",GetData!G137)","v":""},null,null,null,null,null,null,null,null,{"$f":"IF(GetData!E137=\"\",\"\",GetData!E137)","v":""},{"$f":"IF(GetData!AL137=\"\",\"\",GetData!AL137)","v":""},null,null,null,null,null,null,null,null,{"$f":"IF(GetData!H137=\"\",\"\",GetData!H137)","v":""}]
[{"$f":"IF(GetData!F138=\"\",\"\",GetData!F138)","v":""},{"$f":"IF(GetData!G138=\"\",\"\",GetData!G138)","v":""},null,null,null,null,null,null,null,null,{"$f":"IF(GetData!E138=\"\",\"\",GetData!E138)","v":""},{"$f":"IF(GetData!AL138=\"\",\"\",GetData!AL138)","v":""},null,null,null,null,null,null,null,null,{"$f":"IF(GetData!H138=\"\",\"\",GetData!H138)","v":""}]
[{"$f":"IF(GetData!F139=\"\",\"\",GetData!F139)","v":""},{"$f":"IF(GetData!G139=\"\",\"\",GetData!G139)","v":""},null,null,null,null,null,null,null,null,{"$f":"IF(GetData!E139=\"\",\"\",GetData!E139)","v":""},{"$f":"IF(GetData!AL139=\"\",\"\",GetData!AL139)","v":""},null,null,null,null,null,null,null,null,{"$f":"IF(GetData!H139=\"\",\"\",GetData!H139)","v":""}]
[{"$f":"IF(GetData!F140=\"\",\"\",GetData!F140)","v":""},{"$f":"IF(GetData!G140=\"\",\"\",GetData!G140)","v":""},null,null,null,null,null,null,null,null,{"$f":"IF(GetData!E140=\"\",\"\",GetData!E140)","v":""},{"$f":"IF(GetData!AL140=\"\",\"\",GetData!AL140)","v":""},null,null,null,null,null,null,null,null,{"$f":"IF(GetData!H140=\"\",\"\",GetData!H140)","v":""}]
[{"$f":"IF(GetData!F141=\"\",\"\",GetData!F141)","v":""},{"$f":"IF(GetData!G141=\"\",\"\",GetData!G141)","v":""},null,null,null,null,null,null,null,null,{"$f":"IF(GetData!E141=\"\",\"\",GetData!E141)","v":""},{"$f":"IF(GetData!AL141=\"\",\"\",GetData!AL141)","v":""},null,null,null,null,null,null,null,null,{"$f":"IF(GetData!H141=\"\",\"\",GetData!H141)","v":""}]
[{"$f":"IF(GetData!F142=\"\",\"\",GetData!F142)","v":""},{"$f":"IF(GetData!G142=\"\",\"\",GetData!G142)","v":""},null,null,null,null,null,null,null,null,{"$f":"IF(GetData!E142=\"\",\"\",GetData!E142)","v":""},{"$f":"IF(GetData!AL142=\"\",\"\",GetData!AL142)","v":""},null,null,null,null,null,null,null,null,{"$f":"IF(GetData!H142=\"\",\"\",GetData!H142)","v":""}]
[{"$f":"IF(GetData!F143=\"\",\"\",GetData!F143)","v":""},{"$f":"IF(GetData!G143=\"\",\"\",GetData!G143)","v":""},null,null,null,null,null,null,null,null,{"$f":"IF(GetData!E143=\"\",\"\",GetData!E143)","v":""},{"$f":"IF(GetData!AL143=\"\",\"\",GetData!AL143)","v":""},null,null,null,null,null,null,null,null,{"$f":"IF(GetData!H143=\"\",\"\",GetData!H143)","v":""}]
[{"$f":"IF(GetData!F144=\"\",\"\",GetData!F144)","v":""},{"$f":"IF(GetData!G144=\"\",\"\",GetData!G144)","v":""},null,null,null,null,null,null,null,null,{"$f":"IF(GetData!E144=\"\",\"\",GetData!E144)","v":""},{"$f":"IF(GetData!AL144=\"\",\"\",GetData!AL144)","v":""},null,null,null,null,null,null,null,null,{"$f":"IF(GetData!H144=\"\",\"\",GetData!H144)","v":""}]
[{"$f":"IF(GetData!F145=\"\",\"\",GetData!F145)","v":""},{"$f":"IF(GetData!G145=\"\",\"\",GetData!G145)","v":""},null,null,null,null,null,null,null,null,{"$f":"IF(GetData!E145=\"\",\"\",GetData!E145)","v":""},{"$f":"IF(GetData!AL145=\"\",\"\",GetData!AL145)","v":""},null,null,null,null,null,null,null,null,{"$f":"IF(GetData!H145=\"\",\"\",GetData!H145)","v":""}]
[{"$f":"IF(GetData!F146=\"\",\"\",GetData!F146)","v":""},{"$f":"IF(GetData!G146=\"\",\"\",GetData!G146)","v":""},null,null,null,null,null,null,null,null,{"$f":"IF(GetData!E146=\"\",\"\",GetData!E146)","v":""},{"$f":"IF(GetData!AL146=\"\",\"\",GetData!AL146)","v":""},null,null,null,null,null,null,null,null,{"$f":"IF(GetData!H146=\"\",\"\",GetData!H146)","v":""}]
[{"$f":"IF(GetData!F147=\"\",\"\",GetData!F147)","v":""},{"$f":"IF(GetData!G147=\"\",\"\",GetData!G147)","v":""},null,null,null,null,null,null,null,null,{"$f":"IF(GetData!E147=\"\",\"\",GetData!E147)","v":""},{"$f":"IF(GetData!AL147=\"\",\"\",GetData!AL147)","v":""},null,null,null,null,null,null,null,null,{"$f":"IF(GetData!H147=\"\",\"\",GetData!H147)","v":""}]
[{"$f":"IF(GetData!F148=\"\",\"\",GetData!F148)","v":""},{"$f":"IF(GetData!G148=\"\",\"\",GetData!G148)","v":""},null,null,null,null,null,null,null,null,{"$f":"IF(GetData!E148=\"\",\"\",GetData!E148)","v":""},{"$f":"IF(GetData!AL148=\"\",\"\",GetData!AL148)","v":""},null,null,null,null,null,null,null,null,{"$f":"IF(GetData!H148=\"\",\"\",GetData!H148)","v":""}]
[{"$f":"IF(GetData!F149=\"\",\"\",GetData!F149)","v":""},{"$f":"IF(GetData!G149=\"\",\"\",GetData!G149)","v":""},null,null,null,null,null,null,null,null,{"$f":"IF(GetData!E149=\"\",\"\",GetData!E149)","v":""},{"$f":"IF(GetData!AL149=\"\",\"\",GetData!AL149)","v":""},null,null,null,null,null,null,null,null,{"$f":"IF(GetData!H149=\"\",\"\",GetData!H149)","v":""}]
[{"$f":"IF(GetData!F150=\"\",\"\",GetData!F150)","v":""},{"$f":"IF(GetData!G150=\"\",\"\",GetData!G150)","v":""},null,null,null,null,null,null,null,null,{"$f":"IF(GetData!E150=\"\",\"\",GetData!E150)","v":""},{"$f":"IF(GetData!AL150=\"\",\"\",GetData!AL150)","v":""},null,null,null,null,null,null,null,null,{"$f":"IF(GetData!H150=\"\",\"\",GetData!H150)","v":""}]
[{"$f":"IF(GetData!F151=\"\",\"\",GetData!F151)","v":""},{"$f":"IF(GetData!G151=\"\",\"\",GetData!G151)","v":""},null,null,null,null,null,null,null,null,{"$f":"IF(GetData!E151=\"\",\"\",GetData!E151)","v":""},{"$f":"IF(GetData!AL151=\"\",\"\",GetData!AL151)","v":""},null,null,null,null,null,null,null,null,{"$f":"IF(GetData!H151=\"\",\"\",GetData!H151)","v":""}]
[{"$f":"IF(GetData!F152=\"\",\"\",GetData!F152)","v":""},{"$f":"IF(GetData!G152=\"\",\"\",GetData!G152)","v":""},null,null,null,null,null,null,null,null,{"$f":"IF(GetData!E152=\"\",\"\",GetData!E152)","v":""},{"$f":"IF(GetData!AL152=\"\",\"\",GetData!AL152)","v":""},null,null,null,null,null,null,null,null,{"$f":"IF(GetData!H152=\"\",\"\",GetData!H152)","v":""}]
[{"$f":"IF(GetData!F153=\"\",\"\",GetData!F153)","v":""},{"$f":"IF(GetData!G153=\"\",\"\",GetData!G153)","v":""},null,null,null,null,null,null,null,null,{"$f":"IF(GetData!E153=\"\",\"\",GetData!E153)","v":""},{"$f":"IF(GetData!AL153=\"\",\"\",GetData!AL153)","v":""},null,null,null,null,null,null,null,null,{"$f":"IF(GetData!H153=\"\",\"\",GetData!H153)","v":""}]
[{"$f":"IF(GetData!F154=\"\",\"\",GetData!F154)","v":""},{"$f":"IF(GetData!G154=\"\",\"\",GetData!G154)","v":""},null,null,null,null,null,null,null,null,{"$f":"IF(GetData!E154=\"\",\"\",GetData!E154)","v":""},{"$f":"IF(GetData!AL154=\"\",\"\",GetData!AL154)","v":""},null,null,null,null,null,null,null,null,{"$f":"IF(GetData!H154=\"\",\"\",GetData!H154)","v":""}]
[{"$f":"IF(GetData!F155=\"\",\"\",GetData!F155)","v":""},{"$f":"IF(GetData!G155=\"\",\"\",GetData!G155)","v":""},null,null,null,null,null,null,null,null,{"$f":"IF(GetData!E155=\"\",\"\",GetData!E155)","v":""},{"$f":"IF(GetData!AL155=\"\",\"\",GetData!AL155)","v":""},null,null,null,null,null,null,null,null,{"$f":"IF(GetData!H155=\"\",\"\",GetData!H155)","v":""}]
[{"$f":"IF(GetData!F156=\"\",\"\",GetData!F156)","v":""},{"$f":"IF(GetData!G156=\"\",\"\",GetData!G156)","v":""},null,null,null,null,null,null,null,null,{"$f":"IF(GetData!E156=\"\",\"\",GetData!E156)","v":""},{"$f":"IF(GetData!AL156=\"\",\"\",GetData!AL156)","v":""},null,null,null,null,null,null,null,null,{"$f":"IF(GetData!H156=\"\",\"\",GetData!H156)","v":""}]
[{"$f":"IF(GetData!F157=\"\",\"\",GetData!F157)","v":""},{"$f":"IF(GetData!G157=\"\",\"\",GetData!G157)","v":""},null,null,null,null,null,null,null,null,{"$f":"IF(GetData!E157=\"\",\"\",GetData!E157)","v":""},{"$f":"IF(GetData!AL157=\"\",\"\",GetData!AL157)","v":""},null,null,null,null,null,null,null,null,{"$f":"IF(GetData!H157=\"\",\"\",GetData!H157)","v":""}]
[{"$f":"IF(GetData!F158=\"\",\"\",GetData!F158)","v":""},{"$f":"IF(GetData!G158=\"\",\"\",GetData!G158)","v":""},null,null,null,null,null,null,null,null,{"$f":"IF(GetData!E158=\"\",\"\",GetData!E158)","v":""},{"$f":"IF(GetData!AL158=\"\",\"\",GetData!AL158)","v":""},null,null,null,null,null,null,null,null,{"$f":"IF(GetData!H158=\"\",\"\",GetData!H158)","v":""}]
[{"$f":"IF(GetData!F159=\"\",\"\",GetData!F159)","v":""},{"$f":"IF(GetData!G159=\"\",\"\",GetData!G159)","v":""},null,null,null,null,null,null,null,null,{"$f":"IF(GetData!E159=\"\",\"\",GetData!E159)","v":""},{"$f":"IF(GetData!AL159=\"\",\"\",GetData!AL159)","v":""},null,null,null,null,null,null,null,null,{"$f":"IF(GetData!H159=\"\",\"\",GetData!H159)","v":""}]
[{"$f":"IF(GetData!F160=\"\",\"\",GetData!F160)","v":""},{"$f":"IF(GetData!G160=\"\",\"\",GetData!G160)","v":""},null,null,null,null,null,null,null,null,{"$f":"IF(GetData!E160=\"\",\"\",GetData!E160)","v":""},{"$f":"IF(GetData!AL160=\"\",\"\",GetData!AL160)","v":""},null,null,null,null,null,null,null,null,{"$f":"IF(GetData!H160=\"\",\"\",GetData!H160)","v":""}]
[{"$f":"IF(GetData!F161=\"\",\"\",GetData!F161)","v":""},{"$f":"IF(GetData!G161=\"\",\"\",GetData!G161)","v":""},null,null,null,null,null,null,null,null,{"$f":"IF(GetData!E161=\"\",\"\",GetData!E161)","v":""},{"$f":"IF(GetData!AL161=\"\",\"\",GetData!AL161)","v":""},null,null,null,null,null,null,null,null,{"$f":"IF(GetData!H161=\"\",\"\",GetData!H161)","v":""}]
[{"$f":"IF(GetData!F162=\"\",\"\",GetData!F162)","v":""},{"$f":"IF(GetData!G162=\"\",\"\",GetData!G162)","v":""},null,null,null,null,null,null,null,null,{"$f":"IF(GetData!E162=\"\",\"\",GetData!E162)","v":""},{"$f":"IF(GetData!AL162=\"\",\"\",GetData!AL162)","v":""},null,null,null,null,null,null,null,null,{"$f":"IF(GetData!H162=\"\",\"\",GetData!H162)","v":""}]
[{"$f":"IF(GetData!F163=\"\",\"\",GetData!F163)","v":""},{"$f":"IF(GetData!G163=\"\",\"\",GetData!G163)","v":""},null,null,null,null,null,null,null,null,{"$f":"IF(GetData!E163=\"\",\"\",GetData!E163)","v":""},{"$f":"IF(GetData!AL163=\"\",\"\",GetData!AL163)","v":""},null,null,null,null,null,null,null,null,{"$f":"IF(GetData!H163=\"\",\"\",GetData!H163)","v":""}]
[{"$f":"IF(GetData!F164=\"\",\"\",GetData!F164)","v":""},{"$f":"IF(GetData!G164=\"\",\"\",GetData!G164)","v":""},null,null,null,null,null,null,null,null,{"$f":"IF(GetData!E164=\"\",\"\",GetData!E164)","v":""},{"$f":"IF(GetData!AL164=\"\",\"\",GetData!AL164)","v":""},null,null,null,null,null,null,null,null,{"$f":"IF(GetData!H164=\"\",\"\",GetData!H164)","v":""}]
[{"$f":"IF(GetData!F165=\"\",\"\",GetData!F165)","v":""},{"$f":"IF(GetData!G165=\"\",\"\",GetData!G165)","v":""},null,null,null,null,null,null,null,null,{"$f":"IF(GetData!E165=\"\",\"\",GetData!E165)","v":""},{"$f":"IF(GetData!AL165=\"\",\"\",GetData!AL165)","v":""},null,null,null,null,null,null,null,null,{"$f":"IF(GetData!H165=\"\",\"\",GetData!H165)","v":""}]
[{"$f":"IF(GetData!F166=\"\",\"\",GetData!F166)","v":""},{"$f":"IF(GetData!G166=\"\",\"\",GetData!G166)","v":""},null,null,null,null,null,null,null,null,{"$f":"IF(GetData!E166=\"\",\"\",GetData!E166)","v":""},{"$f":"IF(GetData!AL166=\"\",\"\",GetData!AL166)","v":""},null,null,null,null,null,null,null,null,{"$f":"IF(GetData!H166=\"\",\"\",GetData!H166)","v":""}]
[{"$f":"IF(GetData!F167=\"\",\"\",GetData!F167)","v":""},{"$f":"IF(GetData!G167=\"\",\"\",GetData!G167)","v":""},null,null,null,null,null,null,null,null,{"$f":"IF(GetData!E167=\"\",\"\",GetData!E167)","v":""},{"$f":"IF(GetData!AL167=\"\",\"\",GetData!AL167)","v":""},null,null,null,null,null,null,null,null,{"$f":"IF(GetData!H167=\"\",\"\",GetData!H167)","v":""}]
[{"$f":"IF(GetData!F168=\"\",\"\",GetData!F168)","v":""},{"$f":"IF(GetData!G168=\"\",\"\",GetData!G168)","v":""},null,null,null,null,null,null,null,null,{"$f":"IF(GetData!E168=\"\",\"\",GetData!E168)","v":""},{"$f":"IF(GetData!AL168=\"\",\"\",GetData!AL168)","v":""},null,null,null,null,null,null,null,null,{"$f":"IF(GetData!H168=\"\",\"\",GetData!H168)","v":""}]
[{"$f":"IF(GetData!F169=\"\",\"\",GetData!F169)","v":""},{"$f":"IF(GetData!G169=\"\",\"\",GetData!G169)","v":""},null,null,null,null,null,null,null,null,{"$f":"IF(GetData!E169=\"\",\"\",GetData!E169)","v":""},{"$f":"IF(GetData!AL169=\"\",\"\",GetData!AL169)","v":""},null,null,null,null,null,null,null,null,{"$f":"IF(GetData!H169=\"\",\"\",GetData!H169)","v":""}]
[{"$f":"IF(GetData!F170=\"\",\"\",GetData!F170)","v":""},{"$f":"IF(GetData!G170=\"\",\"\",GetData!G170)","v":""},null,null,null,null,null,null,null,null,{"$f":"IF(GetData!E170=\"\",\"\",GetData!E170)","v":""},{"$f":"IF(GetData!AL170=\"\",\"\",GetData!AL170)","v":""},null,null,null,null,null,null,null,null,{"$f":"IF(GetData!H170=\"\",\"\",GetData!H170)","v":""}]
[{"$f":"IF(GetData!F171=\"\",\"\",GetData!F171)","v":""},{"$f":"IF(GetData!G171=\"\",\"\",GetData!G171)","v":""},null,null,null,null,null,null,null,null,{"$f":"IF(GetData!E171=\"\",\"\",GetData!E171)","v":""},{"$f":"IF(GetData!AL171=\"\",\"\",GetData!AL171)","v":""},null,null,null,null,null,null,null,null,{"$f":"IF(GetData!H171=\"\",\"\",GetData!H171)","v":""}]
[{"$f":"IF(GetData!F172=\"\",\"\",GetData!F172)","v":""},{"$f":"IF(GetData!G172=\"\",\"\",GetData!G172)","v":""},null,null,null,null,null,null,null,null,{"$f":"IF(GetData!E172=\"\",\"\",GetData!E172)","v":""},{"$f":"IF(GetData!AL172=\"\",\"\",GetData!AL172)","v":""},null,null,null,null,null,null,null,null,{"$f":"IF(GetData!H172=\"\",\"\",GetData!H172)","v":""}]
[{"$f":"IF(GetData!F173=\"\",\"\",GetData!F173)","v":""},{"$f":"IF(GetData!G173=\"\",\"\",GetData!G173)","v":""},null,null,null,null,null,null,null,null,{"$f":"IF(GetData!E173=\"\",\"\",GetData!E173)","v":""},{"$f":"IF(GetData!AL173=\"\",\"\",GetData!AL173)","v":""},null,null,null,null,null,null,null,null,{"$f":"IF(GetData!H173=\"\",\"\",GetData!H173)","v":""}]
[{"$f":"IF(GetData!F174=\"\",\"\",GetData!F174)","v":""},{"$f":"IF(GetData!G174=\"\",\"\",GetData!G174)","v":""},null,null,null,null,null,null,null,null,{"$f":"IF(GetData!E174=\"\",\"\",GetData!E174)","v":""},{"$f":"IF(GetData!AL174=\"\",\"\",GetData!AL174)","v":""},null,null,null,null,null,null,null,null,{"$f":"IF(GetData!H174=\"\",\"\",GetData!H174)","v":""}]
[{"$f":"IF(GetData!F175=\"\",\"\",GetData!F175)","v":""},{"$f":"IF(GetData!G175=\"\",\"\",GetData!G175)","v":""},null,null,null,null,null,null,null,null,{"$f":"IF(GetData!E175=\"\",\"\",GetData!E175)","v":""},{"$f":"IF(GetData!AL175=\"\",\"\",GetData!AL175)","v":""},null,null,null,null,null,null,null,null,{"$f":"IF(GetData!H175=\"\",\"\",GetData!H175)","v":""}]
[{"$f":"IF(GetData!F176=\"\",\"\",GetData!F176)","v":""},{"$f":"IF(GetData!G176=\"\",\"\",GetData!G176)","v":""},null,null,null,null,null,null,null,null,{"$f":"IF(GetData!E176=\"\",\"\",GetData!E176)","v":""},{"$f":"IF(GetData!AL176=\"\",\"\",GetData!AL176)","v":""},null,null,null,null,null,null,null,null,{"$f":"IF(GetData!H176=\"\",\"\",GetData!H176)","v":""}]
[{"$f":"IF(GetData!F177=\"\",\"\",GetData!F177)","v":""},{"$f":"IF(GetData!G177=\"\",\"\",GetData!G177)","v":""},null,null,null,null,null,null,null,null,{"$f":"IF(GetData!E177=\"\",\"\",GetData!E177)","v":""},{"$f":"IF(GetData!AL177=\"\",\"\",GetData!AL177)","v":""},null,null,null,null,null,null,null,null,{"$f":"IF(GetData!H177=\"\",\"\",GetData!H177)","v":""}]
[{"$f":"IF(GetData!F178=\"\",\"\",GetData!F178)","v":""},{"$f":"IF(GetData!G178=\"\",\"\",GetData!G178)","v":""},null,null,null,null,null,null,null,null,{"$f":"IF(GetData!E178=\"\",\"\",GetData!E178)","v":""},{"$f":"IF(GetData!AL178=\"\",\"\",GetData!AL178)","v":""},null,null,null,null,null,null,null,null,{"$f":"IF(GetData!H178=\"\",\"\",GetData!H178)","v":""}]
[{"$f":"IF(GetData!F179=\"\",\"\",GetData!F179)","v":""},{"$f":"IF(GetData!G179=\"\",\"\",GetData!G179)","v":""},null,null,null,null,null,null,null,null,{"$f":"IF(GetData!E179=\"\",\"\",GetData!E179)","v":""},{"$f":"IF(GetData!AL179=\"\",\"\",GetData!AL179)","v":""},null,null,null,null,null,null,null,null,{"$f":"IF(GetData!H179=\"\",\"\",GetData!H179)","v":""}]
[{"$f":"IF(GetData!F180=\"\",\"\",GetData!F180)","v":""},{"$f":"IF(GetData!G180=\"\",\"\",GetData!G180)","v":""},null,null,null,null,null,null,null,null,{"$f":"IF(GetData!E180=\"\",\"\",GetData!E180)","v":""},{"$f":"IF(GetData!AL180=\"\",\"\",GetData!AL180)","v":""},null,null,null,null,null,null,null,null,{"$f":"IF(GetData!H180=\"\",\"\",GetData!H180)","v":""}]
[{"$f":"IF(GetData!F181=\"\",\"\",GetData!F181)","v":""},{"$f":"IF(GetData!G181=\"\",\"\",GetData!G181)","v":""},null,null,null,null,null,null,null,null,{"$f":"IF(GetData!E181=\"\",\"\",GetData!E181)","v":""},{"$f":"IF(GetData!AL181=\"\",\"\",GetData!AL181)","v":""},null,null,null,null,null,null,null,null,{"$f":"IF(GetData!H181=\"\",\"\",GetData!H181)","v":""}]
[{"$f":"IF(GetData!F182=\"\",\"\",GetData!F182)","v":""},{"$f":"IF(GetData!G182=\"\",\"\",GetData!G182)","v":""},null,null,null,null,null,null,null,null,{"$f":"IF(GetData!E182=\"\",\"\",GetData!E182)","v":""},{"$f":"IF(GetData!AL182=\"\",\"\",GetData!AL182)","v":""},null,null,null,null,null,null,null,null,{"$f":"IF(GetData!H182=\"\",\"\",GetData!H182)","v":""}]
[{"$f":"IF(GetData!F183=\"\",\"\",GetData!F183)","v":""},{"$f":"IF(GetData!G183=\"\",\"\",GetData!G183)","v":""},null,null,null,null,null,null,null,null,{"$f":"IF(GetData!E183=\"\",\"\",GetData!E183)","v":""},{"$f":"IF(GetData!AL183=\"\",\"\",GetData!AL183)","v":""},null,null,null,null,null,null,null,null,{"$f":"IF(GetData!H183=\"\",\"\",GetData!H183)","v":""}]
[{"$f":"IF(GetData!F184=\"\",\"\",GetData!F184)","v":""},{"$f":"IF(GetData!G184=\"\",\"\",GetData!G184)","v":""},null,null,null,null,null,null,null,null,{"$f":"IF(GetData!E184=\"\",\"\",GetData!E184)","v":""},{"$f":"IF(GetData!AL184=\"\",\"\",GetData!AL184)","v":""},null,null,null,null,null,null,null,null,{"$f":"IF(GetData!H184=\"\",\"\",GetData!H184)","v":""}]
[{"$f":"IF(GetData!F185=\"\",\"\",GetData!F185)","v":""},{"$f":"IF(GetData!G185=\"\",\"\",GetData!G185)","v":""},null,null,null,null,null,null,null,null,{"$f":"IF(GetData!E185=\"\",\"\",GetData!E185)","v":""},{"$f":"IF(GetData!AL185=\"\",\"\",GetData!AL185)","v":""},null,null,null,null,null,null,null,null,{"$f":"IF(GetData!H185=\"\",\"\",GetData!H185)","v":""}]
[{"$f":"IF(GetData!F186=\"\",\"\",GetData!F186)","v":""},{"$f":"IF(GetData!G186=\"\",\"\",GetData!G186)","v":""},null,null,null,null,null,null,null,null,{"$f":"IF(GetData!E186=\"\",\"\",GetData!E186)","v":""},{"$f":"IF(GetData!AL186=\"\",\"\",GetData!AL186)","v":""},null,null,null,null,null,null,null,null,{"$f":"IF(GetData!H186=\"\",\"\",GetData!H186)","v":""}]
[{"$f":"IF(GetData!F187=\"\",\"\",GetData!F187)","v":""},{"$f":"IF(GetData!G187=\"\",\"\",GetData!G187)","v":""},null,null,null,null,null,null,null,null,{"$f":"IF(GetData!E187=\"\",\"\",GetData!E187)","v":""},{"$f":"IF(GetData!AL187=\"\",\"\",GetData!AL187)","v":""},null,null,null,null,null,null,null,null,{"$f":"IF(GetData!H187=\"\",\"\",GetData!H187)","v":""}]
[{"$f":"IF(GetData!F188=\"\",\"\",GetData!F188)","v":""},{"$f":"IF(GetData!G188=\"\",\"\",GetData!G188)","v":""},null,null,null,null,null,null,null,null,{"$f":"IF(GetData!E188=\"\",\"\",GetData!E188)","v":""},{"$f":"IF(GetData!AL188=\"\",\"\",GetData!AL188)","v":""},null,null,null,null,null,null,null,null,{"$f":"IF(GetData!H188=\"\",\"\",GetData!H188)","v":""}]
[{"$f":"IF(GetData!F189=\"\",\"\",GetData!F189)","v":""},{"$f":"IF(GetData!G189=\"\",\"\",GetData!G189)","v":""},null,null,null,null,null,null,null,null,{"$f":"IF(GetData!E189=\"\",\"\",GetData!E189)","v":""},{"$f":"IF(GetData!AL189=\"\",\"\",GetData!AL189)","v":""},null,null,null,null,null,null,null,null,{"$f":"IF(GetData!H189=\"\",\"\",GetData!H189)","v":""}]
[{"$f":"IF(GetData!F190=\"\",\"\",GetData!F190)","v":""},{"$f":"IF(GetData!G190=\"\",\"\",GetData!G190)","v":""},null,null,null,null,null,null,null,null,{"$f":"IF(GetData!E190=\"\",\"\",GetData!E190)","v":""},{"$f":"IF(GetData!AL190=\"\",\"\",GetData!AL190)","v":""},null,null,null,null,null,null,null,null,{"$f":"IF(GetData!H190=\"\",\"\",GetData!H190)","v":""}]
[{"$f":"IF(GetData!F191=\"\",\"\",GetData!F191)","v":""},{"$f":"IF(GetData!G191=\"\",\"\",GetData!G191)","v":""},null,null,null,null,null,null,null,null,{"$f":"IF(GetData!E191=\"\",\"\",GetData!E191)","v":""},{"$f":"IF(GetData!AL191=\"\",\"\",GetData!AL191)","v":""},null,null,null,null,null,null,null,null,{"$f":"IF(GetData!H191=\"\",\"\",GetData!H191)","v":""}]
[{"$f":"IF(GetData!F192=\"\",\"\",GetData!F192)","v":""},{"$f":"IF(GetData!G192=\"\",\"\",GetData!G192)","v":""},null,null,null,null,null,null,null,null,{"$f":"IF(GetData!E192=\"\",\"\",GetData!E192)","v":""},{"$f":"IF(GetData!AL192=\"\",\"\",GetData!AL192)","v":""},null,null,null,null,null,null,null,null,{"$f":"IF(GetData!H192=\"\",\"\",GetData!H192)","v":""}]
[{"$f":"IF(GetData!F193=\"\",\"\",GetData!F193)","v":""},{"$f":"IF(GetData!G193=\"\",\"\",GetData!G193)","v":""},null,null,null,null,null,null,null,null,{"$f":"IF(GetData!E193=\"\",\"\",GetData!E193)","v":""},{"$f":"IF(GetData!AL193=\"\",\"\",GetData!AL193)","v":""},null,null,null,null,null,null,null,null,{"$f":"IF(GetData!H193=\"\",\"\",GetData!H193)","v":""}]
[{"$f":"IF(GetData!F194=\"\",\"\",GetData!F194)","v":""},{"$f":"IF(GetData!G194=\"\",\"\",GetData!G194)","v":""},null,null,null,null,null,null,null,null,{"$f":"IF(GetData!E194=\"\",\"\",GetData!E194)","v":""},{"$f":"IF(GetData!AL194=\"\",\"\",GetData!AL194)","v":""},null,null,null,null,null,null,null,null,{"$f":"IF(GetData!H194=\"\",\"\",GetData!H194)","v":""}]
[{"$f":"IF(GetData!F195=\"\",\"\",GetData!F195)","v":""},{"$f":"IF(GetData!G195=\"\",\"\",GetData!G195)","v":""},null,null,null,null,null,null,null,null,{"$f":"IF(GetData!E195=\"\",\"\",GetData!E195)","v":""},{"$f":"IF(GetData!AL195=\"\",\"\",GetData!AL195)","v":""},null,null,null,null,null,null,null,null,{"$f":"IF(GetData!H195=\"\",\"\",GetData!H195)","v":""}]
[{"$f":"IF(GetData!F196=\"\",\"\",GetData!F196)","v":""},{"$f":"IF(GetData!G196=\"\",\"\",GetData!G196)","v":""},null,null,null,null,null,null,null,null,{"$f":"IF(GetData!E196=\"\",\"\",GetData!E196)","v":""},{"$f":"IF(GetData!AL196=\"\",\"\",GetData!AL196)","v":""},null,null,null,null,null,null,null,null,{"$f":"IF(GetData!H196=\"\",\"\",GetData!H196)","v":""}]
[{"$f":"IF(GetData!F197=\"\",\"\",GetData!F197)","v":""},{"$f":"IF(GetData!G197=\"\",\"\",GetData!G197)","v":""},null,null,null,null,null,null,null,null,{"$f":"IF(GetData!E197=\"\",\"\",GetData!E197)","v":""},{"$f":"IF(GetData!AL197=\"\",\"\",GetData!AL197)","v":""},null,null,null,null,null,null,null,null,{"$f":"IF(GetData!H197=\"\",\"\",GetData!H197)","v":""}]
[{"$f":"IF(GetData!F198=\"\",\"\",GetData!F198)","v":""},{"$f":"IF(GetData!G198=\"\",\"\",GetData!G198)","v":""},null,null,null,null,null,null,null,null,{"$f":"IF(GetData!E198=\"\",\"\",GetData!E198)","v":""},{"$f":"IF(GetData!AL198=\"\",\"\",GetData!AL198)","v":""},null,null,null,null,null,null,null,null,{"$f":"IF(GetData!H198=\"\",\"\",GetData!H198)","v":""}]
[{"$f":"IF(GetData!F199=\"\",\"\",GetData!F199)","v":""},{"$f":"IF(GetData!G199=\"\",\"\",GetData!G199)","v":""},null,null,null,null,null,null,null,null,{"$f":"IF(GetData!E199=\"\",\"\",GetData!E199)","v":""},{"$f":"IF(GetData!AL199=\"\",\"\",GetData!AL199)","v":""},null,null,null,null,null,null,null,null,{"$f":"IF(GetData!H199=\"\",\"\",GetData!H199)","v":""}]
[{"$f":"IF(GetData!F200=\"\",\"\",GetData!F200)","v":""},{"$f":"IF(GetData!G200=\"\",\"\",GetData!G200)","v":""},null,null,null,null,null,null,null,null,{"$f":"IF(GetData!E200=\"\",\"\",GetData!E200)","v":""},{"$f":"IF(GetData!AL200=\"\",\"\",GetData!AL200)","v":""},null,null,null,null,null,null,null,null,{"$f":"IF(GetData!H200=\"\",\"\",GetData!H200)","v":""}]
[{"$f":"IF(GetData!F201=\"\",\"\",GetData!F201)","v":""},{"$f":"IF(GetData!G201=\"\",\"\",GetData!G201)","v":""},null,null,null,null,null,null,null,null,{"$f":"IF(GetData!E201=\"\",\"\",GetData!E201)","v":""},{"$f":"IF(GetData!AL201=\"\",\"\",GetData!AL201)","v":""},null,null,null,null,null,null,null,null,{"$f":"IF(GetData!H201=\"\",\"\",GetData!H201)","v":""}]
[{"$f":"IF(GetData!F202=\"\",\"\",GetData!F202)","v":""},{"$f":"IF(GetData!G202=\"\",\"\",GetData!G202)","v":""},null,null,null,null,null,null,null,null,{"$f":"IF(GetData!E202=\"\",\"\",GetData!E202)","v":""},{"$f":"IF(GetData!AL202=\"\",\"\",GetData!AL202)","v":""},null,null,null,null,null,null,null,null,{"$f":"IF(GetData!H202=\"\",\"\",GetData!H202)","v":""}]
[{"$f":"IF(GetData!F203=\"\",\"\",GetData!F203)","v":""},{"$f":"IF(GetData!G203=\"\",\"\",GetData!G203)","v":""},null,null,null,null,null,null,null,null,{"$f":"IF(GetData!E203=\"\",\"\",GetData!E203)","v":""},{"$f":"IF(GetData!AL203=\"\",\"\",GetData!AL203)","v":""},null,null,null,null,null,null,null,null,{"$f":"IF(GetData!H203=\"\",\"\",GetData!H203)","v":""}]
[{"$f":"IF(GetData!F204=\"\",\"\",GetData!F204)","v":""},{"$f":"IF(GetData!G204=\"\",\"\",GetData!G204)","v":""},null,null,null,null,null,null,null,null,{"$f":"IF(GetData!E204=\"\",\"\",GetData!E204)","v":""},{"$f":"IF(GetData!AL204=\"\",\"\",GetData!AL204)","v":""},null,null,null,null,null,null,null,null,{"$f":"IF(GetData!H204=\"\",\"\",GetData!H204)","v":""}]
[{"$f":"IF(GetData!F205=\"\",\"\",GetData!F205)","v":""},{"$f":"IF(GetData!G205=\"\",\"\",GetData!G205)","v":""},null,null,null,null,null,null,null,null,{"$f":"IF(GetData!E205=\"\",\"\",GetData!E205)","v":""},{"$f":"IF(GetData!AL205=\"\",\"\",GetData!AL205)","v":""},null,null,null,null,null,null,null,null,{"$f":"IF(GetData!H205=\"\",\"\",GetData!H205)","v":""}]
[{"$f":"IF(GetData!F206=\"\",\"\",GetData!F206)","v":""},{"$f":"IF(GetData!G206=\"\",\"\",GetData!G206)","v":""},null,null,null,null,null,null,null,null,{"$f":"IF(GetData!E206=\"\",\"\",GetData!E206)","v":""},{"$f":"IF(GetData!AL206=\"\",\"\",GetData!AL206)","v":""},null,null,null,null,null,null,null,null,{"$f":"IF(GetData!H206=\"\",\"\",GetData!H206)","v":""}]
[{"$f":"IF(GetData!F207=\"\",\"\",GetData!F207)","v":""},{"$f":"IF(GetData!G207=\"\",\"\",GetData!G207)","v":""},null,null,null,null,null,null,null,null,{"$f":"IF(GetData!E207=\"\",\"\",GetData!E207)","v":""},{"$f":"IF(GetData!AL207=\"\",\"\",GetData!AL207)","v":""},null,null,null,null,null,null,null,null,{"$f":"IF(GetData!H207=\"\",\"\",GetData!H207)","v":""}]
[{"$f":"IF(GetData!F208=\"\",\"\",GetData!F208)","v":""},{"$f":"IF(GetData!G208=\"\",\"\",GetData!G208)","v":""},null,null,null,null,null,null,null,null,{"$f":"IF(GetData!E208=\"\",\"\",GetData!E208)","v":""},{"$f":"IF(GetData!AL208=\"\",\"\",GetData!AL208)","v":""},null,null,null,null,null,null,null,null,{"$f":"IF(GetData!H208=\"\",\"\",GetData!H208)","v":""}]
[{"$f":"IF(GetData!F209=\"\",\"\",GetData!F209)","v":""},{"$f":"IF(GetData!G209=\"\",\"\",GetData!G209)","v":""},null,null,null,null,null,null,null,null,{"$f":"IF(GetData!E209=\"\",\"\",GetData!E209)","v":""},{"$f":"IF(GetData!AL209=\"\",\"\",GetData!AL209)","v":""},null,null,null,null,null,null,null,null,{"$f":"IF(GetData!H209=\"\",\"\",GetData!H209)","v":""}]
[{"$f":"IF(GetData!F210=\"\",\"\",GetData!F210)","v":""},{"$f":"IF(GetData!G210=\"\",\"\",GetData!G210)","v":""},null,null,null,null,null,null,null,null,{"$f":"IF(GetData!E210=\"\",\"\",GetData!E210)","v":""},{"$f":"IF(GetData!AL210=\"\",\"\",GetData!AL210)","v":""},null,null,null,null,null,null,null,null,{"$f":"IF(GetData!H210=\"\",\"\",GetData!H210)","v":""}]
[{"$f":"IF(GetData!F211=\"\",\"\",GetData!F211)","v":""},{"$f":"IF(GetData!G211=\"\",\"\",GetData!G211)","v":""},null,null,null,null,null,null,null,null,{"$f":"IF(GetData!E211=\"\",\"\",GetData!E211)","v":""},{"$f":"IF(GetData!AL211=\"\",\"\",GetData!AL211)","v":""},null,null,null,null,null,null,null,null,{"$f":"IF(GetData!H211=\"\",\"\",GetData!H211)","v":""}]
[{"$f":"IF(GetData!F212=\"\",\"\",GetData!F212)","v":""},{"$f":"IF(GetData!G212=\"\",\"\",GetData!G212)","v":""},null,null,null,null,null,null,null,null,{"$f":"IF(GetData!E212=\"\",\"\",GetData!E212)","v":""},{"$f":"IF(GetData!AL212=\"\",\"\",GetData!AL212)","v":""},null,null,null,null,null,null,null,null,{"$f":"IF(GetData!H212=\"\",\"\",GetData!H212)","v":""}]
[{"$f":"IF(GetData!F213=\"\",\"\",GetData!F213)","v":""},{"$f":"IF(GetData!G213=\"\",\"\",GetData!G213)","v":""},null,null,null,null,null,null,null,null,{"$f":"IF(GetData!E213=\"\",\"\",GetData!E213)","v":""},{"$f":"IF(GetData!AL213=\"\",\"\",GetData!AL213)","v":""},null,null,null,null,null,null,null,null,{"$f":"IF(GetData!H213=\"\",\"\",GetData!H213)","v":""}]
[{"$f":"IF(GetData!F214=\"\",\"\",GetData!F214)","v":""},{"$f":"IF(GetData!G214=\"\",\"\",GetData!G214)","v":""},null,null,null,null,null,null,null,null,{"$f":"IF(GetData!E214=\"\",\"\",GetData!E214)","v":""},{"$f":"IF(GetData!AL214=\"\",\"\",GetData!AL214)","v":""},null,null,null,null,null,null,null,null,{"$f":"IF(GetData!H214=\"\",\"\",GetData!H214)","v":""}]
[{"$f":"IF(GetData!F215=\"\",\"\",GetData!F215)","v":""},{"$f":"IF(GetData!G215=\"\",\"\",GetData!G215)","v":""},null,null,null,null,null,null,null,null,{"$f":"IF(GetData!E215=\"\",\"\",GetData!E215)","v":""},{"$f":"IF(GetData!AL215=\"\",\"\",GetData!AL215)","v":""},null,null,null,null,null,null,null,null,{"$f":"IF(GetData!H215=\"\",\"\",GetData!H215)","v":""}]
[{"$f":"IF(GetData!F216=\"\",\"\",GetData!F216)","v":""},{"$f":"IF(GetData!G216=\"\",\"\",GetData!G216)","v":""},null,null,null,null,null,null,null,null,{"$f":"IF(GetData!E216=\"\",\"\",GetData!E216)","v":""},{"$f":"IF(GetData!AL216=\"\",\"\",GetData!AL216)","v":""},null,null,null,null,null,null,null,null,{"$f":"IF(GetData!H216=\"\",\"\",GetData!H216)","v":""}]
[{"$f":"IF(GetData!F217=\"\",\"\",GetData!F217)","v":""},{"$f":"IF(GetData!G217=\"\",\"\",GetData!G217)","v":""},null,null,null,null,null,null,null,null,{"$f":"IF(GetData!E217=\"\",\"\",GetData!E217)","v":""},{"$f":"IF(GetData!AL217=\"\",\"\",GetData!AL217)","v":""},null,null,null,null,null,null,null,null,{"$f":"IF(GetData!H217=\"\",\"\",GetData!H217)","v":""}]
[{"$f":"IF(GetData!F218=\"\",\"\",GetData!F218)","v":""},{"$f":"IF(GetData!G218=\"\",\"\",GetData!G218)","v":""},null,null,null,null,null,null,null,null,{"$f":"IF(GetData!E218=\"\",\"\",GetData!E218)","v":""},{"$f":"IF(GetData!AL218=\"\",\"\",GetData!AL218)","v":""},null,null,null,null,null,null,null,null,{"$f":"IF(GetData!H218=\"\",\"\",GetData!H218)","v":""}]
[{"$f":"IF(GetData!F219=\"\",\"\",GetData!F219)","v":""},{"$f":"IF(GetData!G219=\"\",\"\",GetData!G219)","v":""},null,null,null,null,null,null,null,null,{"$f":"IF(GetData!E219=\"\",\"\",GetData!E219)","v":""},{"$f":"IF(GetData!AL219=\"\",\"\",GetData!AL219)","v":""},null,null,null,null,null,null,null,null,{"$f":"IF(GetData!H219=\"\",\"\",GetData!H219)","v":""}]
[{"$f":"IF(GetData!F220=\"\",\"\",GetData!F220)","v":""},{"$f":"IF(GetData!G220=\"\",\"\",GetData!G220)","v":""},null,null,null,null,null,null,null,null,{"$f":"IF(GetData!E220=\"\",\"\",GetData!E220)","v":""},{"$f":"IF(GetData!AL220=\"\",\"\",GetData!AL220)","v":""},null,null,null,null,null,null,null,null,{"$f":"IF(GetData!H220=\"\",\"\",GetData!H220)","v":""}]
[{"$f":"IF(GetData!F221=\"\",\"\",GetData!F221)","v":""},{"$f":"IF(GetData!G221=\"\",\"\",GetData!G221)","v":""},null,null,null,null,null,null,null,null,{"$f":"IF(GetData!E221=\"\",\"\",GetData!E221)","v":""},{"$f":"IF(GetData!AL221=\"\",\"\",GetData!AL221)","v":""},null,null,null,null,null,null,null,null,{"$f":"IF(GetData!H221=\"\",\"\",GetData!H221)","v":""}]
[{"$f":"IF(GetData!F222=\"\",\"\",GetData!F222)","v":""},{"$f":"IF(GetData!G222=\"\",\"\",GetData!G222)","v":""},null,null,null,null,null,null,null,null,{"$f":"IF(GetData!E222=\"\",\"\",GetData!E222)","v":""},{"$f":"IF(GetData!AL222=\"\",\"\",GetData!AL222)","v":""},null,null,null,null,null,null,null,null,{"$f":"IF(GetData!H222=\"\",\"\",GetData!H222)","v":""}]
[{"$f":"IF(GetData!F223=\"\",\"\",GetData!F223)","v":""},{"$f":"IF(GetData!G223=\"\",\"\",GetData!G223)","v":""},null,null,null,null,null,null,null,null,{"$f":"IF(GetData!E223=\"\",\"\",GetData!E223)","v":""},{"$f":"IF(GetData!AL223=\"\",\"\",GetData!AL223)","v":""},null,null,null,null,null,null,null,null,{"$f":"IF(GetData!H223=\"\",\"\",GetData!H223)","v":""}]
[{"$f":"IF(GetData!F224=\"\",\"\",GetData!F224)","v":""},{"$f":"IF(GetData!G224=\"\",\"\",GetData!G224)","v":""},null,null,null,null,null,null,null,null,{"$f":"IF(GetData!E224=\"\",\"\",GetData!E224)","v":""},{"$f":"IF(GetData!AL224=\"\",\"\",GetData!AL224)","v":""},null,null,null,null,null,null,null,null,{"$f":"IF(GetData!H224=\"\",\"\",GetData!H224)","v":""}]
[{"$f":"IF(GetData!F225=\"\",\"\",GetData!F225)","v":""},{"$f":"IF(GetData!G225=\"\",\"\",GetData!G225)","v":""},null,null,null,null,null,null,null,null,{"$f":"IF(GetData!E225=\"\",\"\",GetData!E225)","v":""},{"$f":"IF(GetData!AL225=\"\",\"\",GetData!AL225)","v":""},null,null,null,null,null,null,null,null,{"$f":"IF(GetData!H225=\"\",\"\",GetData!H225)","v":""}]
[{"$f":"IF(GetData!F226=\"\",\"\",GetData!F226)","v":""},{"$f":"IF(GetData!G226=\"\",\"\",GetData!G226)","v":""},null,null,null,null,null,null,null,null,{"$f":"IF(GetData!E226=\"\",\"\",GetData!E226)","v":""},{"$f":"IF(GetData!AL226=\"\",\"\",GetData!AL226)","v":""},null,null,null,null,null,null,null,null,{"$f":"IF(GetData!H226=\"\",\"\",GetData!H226)","v":""}]
[{"$f":"IF(GetData!F227=\"\",\"\",GetData!F227)","v":""},{"$f":"IF(GetData!G227=\"\",\"\",GetData!G227)","v":""},null,null,null,null,null,null,null,null,{"$f":"IF(GetData!E227=\"\",\"\",GetData!E227)","v":""},{"$f":"IF(GetData!AL227=\"\",\"\",GetData!AL227)","v":""},null,null,null,null,null,null,null,null,{"$f":"IF(GetData!H227=\"\",\"\",GetData!H227)","v":""}]
[{"$f":"IF(GetData!F228=\"\",\"\",GetData!F228)","v":""},{"$f":"IF(GetData!G228=\"\",\"\",GetData!G228)","v":""},null,null,null,null,null,null,null,null,{"$f":"IF(GetData!E228=\"\",\"\",GetData!E228)","v":""},{"$f":"IF(GetData!AL228=\"\",\"\",GetData!AL228)","v":""},null,null,null,null,null,null,null,null,{"$f":"IF(GetData!H228=\"\",\"\",GetData!H228)","v":""}]
[{"$f":"IF(GetData!F229=\"\",\"\",GetData!F229)","v":""},{"$f":"IF(GetData!G229=\"\",\"\",GetData!G229)","v":""},null,null,null,null,null,null,null,null,{"$f":"IF(GetData!E229=\"\",\"\",GetData!E229)","v":""},{"$f":"IF(GetData!AL229=\"\",\"\",GetData!AL229)","v":""},null,null,null,null,null,null,null,null,{"$f":"IF(GetData!H229=\"\",\"\",GetData!H229)","v":""}]
[{"$f":"IF(GetData!F230=\"\",\"\",GetData!F230)","v":""},{"$f":"IF(GetData!G230=\"\",\"\",GetData!G230)","v":""},null,null,null,null,null,null,null,null,{"$f":"IF(GetData!E230=\"\",\"\",GetData!E230)","v":""},{"$f":"IF(GetData!AL230=\"\",\"\",GetData!AL230)","v":""},null,null,null,null,null,null,null,null,{"$f":"IF(GetData!H230=\"\",\"\",GetData!H230)","v":""}]
[{"$f":"IF(GetData!F231=\"\",\"\",GetData!F231)","v":""},{"$f":"IF(GetData!G231=\"\",\"\",GetData!G231)","v":""},null,null,null,null,null,null,null,null,{"$f":"IF(GetData!E231=\"\",\"\",GetData!E231)","v":""},{"$f":"IF(GetData!AL231=\"\",\"\",GetData!AL231)","v":""},null,null,null,null,null,null,null,null,{"$f":"IF(GetData!H231=\"\",\"\",GetData!H231)","v":""}]
[{"$f":"IF(GetData!F232=\"\",\"\",GetData!F232)","v":""},{"$f":"IF(GetData!G232=\"\",\"\",GetData!G232)","v":""},null,null,null,null,null,null,null,null,{"$f":"IF(GetData!E232=\"\",\"\",GetData!E232)","v":""},{"$f":"IF(GetData!AL232=\"\",\"\",GetData!AL232)","v":""},null,null,null,null,null,null,null,null,{"$f":"IF(GetData!H232=\"\",\"\",GetData!H232)","v":""}]
[{"$f":"IF(GetData!F233=\"\",\"\",GetData!F233)","v":""},{"$f":"IF(GetData!G233=\"\",\"\",GetData!G233)","v":""},null,null,null,null,null,null,null,null,{"$f":"IF(GetData!E233=\"\",\"\",GetData!E233)","v":""},{"$f":"IF(GetData!AL233=\"\",\"\",GetData!AL233)","v":""},null,null,null,null,null,null,null,null,{"$f":"IF(GetData!H233=\"\",\"\",GetData!H233)","v":""}]
[{"$f":"IF(GetData!F234=\"\",\"\",GetData!F234)","v":""},{"$f":"IF(GetData!G234=\"\",\"\",GetData!G234)","v":""},null,null,null,null,null,null,null,null,{"$f":"IF(GetData!E234=\"\",\"\",GetData!E234)","v":""},{"$f":"IF(GetData!AL234=\"\",\"\",GetData!AL234)","v":""},null,null,null,null,null,null,null,null,{"$f":"IF(GetData!H234=\"\",\"\",GetData!H234)","v":""}]
[{"$f":"IF(GetData!F235=\"\",\"\",GetData!F235)","v":""},{"$f":"IF(GetData!G235=\"\",\"\",GetData!G235)","v":""},null,null,null,null,null,null,null,null,{"$f":"IF(GetData!E235=\"\",\"\",GetData!E235)","v":""},{"$f":"IF(GetData!AL235=\"\",\"\",GetData!AL235)","v":""},null,null,null,null,null,null,null,null,{"$f":"IF(GetData!H235=\"\",\"\",GetData!H235)","v":""}]
[{"$f":"IF(GetData!F236=\"\",\"\",GetData!F236)","v":""},{"$f":"IF(GetData!G236=\"\",\"\",GetData!G236)","v":""},null,null,null,null,null,null,null,null,{"$f":"IF(GetData!E236=\"\",\"\",GetData!E236)","v":""},{"$f":"IF(GetData!AL236=\"\",\"\",GetData!AL236)","v":""},null,null,null,null,null,null,null,null,{"$f":"IF(GetData!H236=\"\",\"\",GetData!H236)","v":""}]
[{"$f":"IF(GetData!F237=\"\",\"\",GetData!F237)","v":""},{"$f":"IF(GetData!G237=\"\",\"\",GetData!G237)","v":""},null,null,null,null,null,null,null,null,{"$f":"IF(GetData!E237=\"\",\"\",GetData!E237)","v":""},{"$f":"IF(GetData!AL237=\"\",\"\",GetData!AL237)","v":""},null,null,null,null,null,null,null,null,{"$f":"IF(GetData!H237=\"\",\"\",GetData!H237)","v":""}]
[{"$f":"IF(GetData!F238=\"\",\"\",GetData!F238)","v":""},{"$f":"IF(GetData!G238=\"\",\"\",GetData!G238)","v":""},null,null,null,null,null,null,null,null,{"$f":"IF(GetData!E238=\"\",\"\",GetData!E238)","v":""},{"$f":"IF(GetData!AL238=\"\",\"\",GetData!AL238)","v":""},null,null,null,null,null,null,null,null,{"$f":"IF(GetData!H238=\"\",\"\",GetData!H238)","v":""}]
[{"$f":"IF(GetData!F239=\"\",\"\",GetData!F239)","v":""},{"$f":"IF(GetData!G239=\"\",\"\",GetData!G239)","v":""},null,null,null,null,null,null,null,null,{"$f":"IF(GetData!E239=\"\",\"\",GetData!E239)","v":""},{"$f":"IF(GetData!AL239=\"\",\"\",GetData!AL239)","v":""},null,null,null,null,null,null,null,null,{"$f":"IF(GetData!H239=\"\",\"\",GetData!H239)","v":""}]
[{"$f":"IF(GetData!F240=\"\",\"\",GetData!F240)","v":""},{"$f":"IF(GetData!G240=\"\",\"\",GetData!G240)","v":""},null,null,null,null,null,null,null,null,{"$f":"IF(GetData!E240=\"\",\"\",GetData!E240)","v":""},{"$f":"IF(GetData!AL240=\"\",\"\",GetData!AL240)","v":""},null,null,null,null,null,null,null,null,{"$f":"IF(GetData!H240=\"\",\"\",GetData!H240)","v":""}]
[{"$f":"IF(GetData!F241=\"\",\"\",GetData!F241)","v":""},{"$f":"IF(GetData!G241=\"\",\"\",GetData!G241)","v":""},null,null,null,null,null,null,null,null,{"$f":"IF(GetData!E241=\"\",\"\",GetData!E241)","v":""},{"$f":"IF(GetData!AL241=\"\",\"\",GetData!AL241)","v":""},null,null,null,null,null,null,null,null,{"$f":"IF(GetData!H241=\"\",\"\",GetData!H241)","v":""}]
[{"$f":"IF(GetData!F242=\"\",\"\",GetData!F242)","v":""},{"$f":"IF(GetData!G242=\"\",\"\",GetData!G242)","v":""},null,null,null,null,null,null,null,null,{"$f":"IF(GetData!E242=\"\",\"\",GetData!E242)","v":""},{"$f":"IF(GetData!AL242=\"\",\"\",GetData!AL242)","v":""},null,null,null,null,null,null,null,null,{"$f":"IF(GetData!H242=\"\",\"\",GetData!H242)","v":""}]
[{"$f":"IF(GetData!F243=\"\",\"\",GetData!F243)","v":""},{"$f":"IF(GetData!G243=\"\",\"\",GetData!G243)","v":""},null,null,null,null,null,null,null,null,{"$f":"IF(GetData!E243=\"\",\"\",GetData!E243)","v":""},{"$f":"IF(GetData!AL243=\"\",\"\",GetData!AL243)","v":""},null,null,null,null,null,null,null,null,{"$f":"IF(GetData!H243=\"\",\"\",GetData!H243)","v":""}]
[{"$f":"IF(GetData!F244=\"\",\"\",GetData!F244)","v":""},{"$f":"IF(GetData!G244=\"\",\"\",GetData!G244)","v":""},null,null,null,null,null,null,null,null,{"$f":"IF(GetData!E244=\"\",\"\",GetData!E244)","v":""},{"$f":"IF(GetData!AL244=\"\",\"\",GetData!AL244)","v":""},null,null,null,null,null,null,null,null,{"$f":"IF(GetData!H244=\"\",\"\",GetData!H244)","v":""}]
[{"$f":"IF(GetData!F245=\"\",\"\",GetData!F245)","v":""},{"$f":"IF(GetData!G245=\"\",\"\",GetData!G245)","v":""},null,null,null,null,null,null,null,null,{"$f":"IF(GetData!E245=\"\",\"\",GetData!E245)","v":""},{"$f":"IF(GetData!AL245=\"\",\"\",GetData!AL245)","v":""},null,null,null,null,null,null,null,null,{"$f":"IF(GetData!H245=\"\",\"\",GetData!H245)","v":""}]
[{"$f":"IF(GetData!F246=\"\",\"\",GetData!F246)","v":""},{"$f":"IF(GetData!G246=\"\",\"\",GetData!G246)","v":""},null,null,null,null,null,null,null,null,{"$f":"IF(GetData!E246=\"\",\"\",GetData!E246)","v":""},{"$f":"IF(GetData!AL246=\"\",\"\",GetData!AL246)","v":""},null,null,null,null,null,null,null,null,{"$f":"IF(GetData!H246=\"\",\"\",GetData!H246)","v":""}]
[{"$f":"IF(GetData!F247=\"\",\"\",GetData!F247)","v":""},{"$f":"IF(GetData!G247=\"\",\"\",GetData!G247)","v":""},null,null,null,null,null,null,null,null,{"$f":"IF(GetData!E247=\"\",\"\",GetData!E247)","v":""},{"$f":"IF(GetData!AL247=\"\",\"\",GetData!AL247)","v":""},null,null,null,null,null,null,null,null,{"$f":"IF(GetData!H247=\"\",\"\",GetData!H247)","v":""}]
[{"$f":"IF(GetData!F248=\"\",\"\",GetData!F248)","v":""},{"$f":"IF(GetData!G248=\"\",\"\",GetData!G248)","v":""},null,null,null,null,null,null,null,null,{"$f":"IF(GetData!E248=\"\",\"\",GetData!E248)","v":""},{"$f":"IF(GetData!AL248=\"\",\"\",GetData!AL248)","v":""},null,null,null,null,null,null,null,null,{"$f":"IF(GetData!H248=\"\",\"\",GetData!H248)","v":""}]
[{"$f":"IF(GetData!F249=\"\",\"\",GetData!F249)","v":""},{"$f":"IF(GetData!G249=\"\",\"\",GetData!G249)","v":""},null,null,null,null,null,null,null,null,{"$f":"IF(GetData!E249=\"\",\"\",GetData!E249)","v":""},{"$f":"IF(GetData!AL249=\"\",\"\",GetData!AL249)","v":""},null,null,null,null,null,null,null,null,{"$f":"IF(GetData!H249=\"\",\"\",GetData!H249)","v":""}]
[{"$f":"IF(GetData!F250=\"\",\"\",GetData!F250)","v":""},{"$f":"IF(GetData!G250=\"\",\"\",GetData!G250)","v":""},null,null,null,null,null,null,null,null,{"$f":"IF(GetData!E250=\"\",\"\",GetData!E250)","v":""},{"$f":"IF(GetData!AL250=\"\",\"\",GetData!AL250)","v":""},null,null,null,null,null,null,null,null,{"$f":"IF(GetData!H250=\"\",\"\",GetData!H250)","v":""}]
[{"$f":"IF(GetData!F251=\"\",\"\",GetData!F251)","v":""},{"$f":"IF(GetData!G251=\"\",\"\",GetData!G251)","v":""},null,null,null,null,null,null,null,null,{"$f":"IF(GetData!E251=\"\",\"\",GetData!E251)","v":""},{"$f":"IF(GetData!AL251=\"\",\"\",GetData!AL251)","v":""},null,null,null,null,null,null,null,null,{"$f":"IF(GetData!H251=\"\",\"\",GetData!H251)","v":""}]
[{"$f":"IF(GetData!F252=\"\",\"\",GetData!F252)","v":""},{"$f":"IF(GetData!G252=\"\",\"\",GetData!G252)","v":""},null,null,null,null,null,null,null,null,{"$f":"IF(GetData!E252=\"\",\"\",GetData!E252)","v":""},{"$f":"IF(GetData!AL252=\"\",\"\",GetData!AL252)","v":""},null,null,null,null,null,null,null,null,{"$f":"IF(GetData!H252=\"\",\"\",GetData!H252)","v":""}]
[{"$f":"IF(GetData!F253=\"\",\"\",GetData!F253)","v":""},{"$f":"IF(GetData!G253=\"\",\"\",GetData!G253)","v":""},null,null,null,null,null,null,null,null,{"$f":"IF(GetData!E253=\"\",\"\",GetData!E253)","v":""},{"$f":"IF(GetData!AL253=\"\",\"\",GetData!AL253)","v":""},null,null,null,null,null,null,null,null,{"$f":"IF(GetData!H253=\"\",\"\",GetData!H253)","v":""}]
[{"$f":"IF(GetData!F254=\"\",\"\",GetData!F254)","v":""},{"$f":"IF(GetData!G254=\"\",\"\",GetData!G254)","v":""},null,null,null,null,null,null,null,null,{"$f":"IF(GetData!E254=\"\",\"\",GetData!E254)","v":""},{"$f":"IF(GetData!AL254=\"\",\"\",GetData!AL254)","v":""},null,null,null,null,null,null,null,null,{"$f":"IF(GetData!H254=\"\",\"\",GetData!H254)","v":""}]
[{"$f":"IF(GetData!F255=\"\",\"\",GetData!F255)","v":""},{"$f":"IF(GetData!G255=\"\",\"\",GetData!G255)","v":""},null,null,null,null,null,null,null,null,{"$f":"IF(GetData!E255=\"\",\"\",GetData!E255)","v":""},{"$f":"IF(GetData!AL255=\"\",\"\",GetData!AL255)","v":""},null,null,null,null,null,null,null,null,{"$f":"IF(GetData!H255=\"\",\"\",GetData!H255)","v":""}]
[{"$f":"IF(GetData!F256=\"\",\"\",GetData!F256)","v":""},{"$f":"IF(GetData!G256=\"\",\"\",GetData!G256)","v":""},null,null,null,null,null,null,null,null,{"$f":"IF(GetData!E256=\"\",\"\",GetData!E256)","v":""},{"$f":"IF(GetData!AL256=\"\",\"\",GetData!AL256)","v":""},null,null,null,null,null,null,null,null,{"$f":"IF(GetData!H256=\"\",\"\",GetData!H256)","v":""}]
[{"$f":"IF(GetData!F257=\"\",\"\",GetData!F257)","v":""},{"$f":"IF(GetData!G257=\"\",\"\",GetData!G257)","v":""},null,null,null,null,null,null,null,null,{"$f":"IF(GetData!E257=\"\",\"\",GetData!E257)","v":""},{"$f":"IF(GetData!AL257=\"\",\"\",GetData!AL257)","v":""},null,null,null,null,null,null,null,null,{"$f":"IF(GetData!H257=\"\",\"\",GetData!H257)","v":""}]
[{"$f":"IF(GetData!F258=\"\",\"\",GetData!F258)","v":""},{"$f":"IF(GetData!G258=\"\",\"\",GetData!G258)","v":""},null,null,null,null,null,null,null,null,{"$f":"IF(GetData!E258=\"\",\"\",GetData!E258)","v":""},{"$f":"IF(GetData!AL258=\"\",\"\",GetData!AL258)","v":""},null,null,null,null,null,null,null,null,{"$f":"IF(GetData!H258=\"\",\"\",GetData!H258)","v":""}]
[{"$f":"IF(GetData!F259=\"\",\"\",GetData!F259)","v":""},{"$f":"IF(GetData!G259=\"\",\"\",GetData!G259)","v":""},null,null,null,null,null,null,null,null,{"$f":"IF(GetData!E259=\"\",\"\",GetData!E259)","v":""},{"$f":"IF(GetData!AL259=\"\",\"\",GetData!AL259)","v":""},null,null,null,null,null,null,null,null,{"$f":"IF(GetData!H259=\"\",\"\",GetData!H259)","v":""}]
[{"$f":"IF(GetData!F260=\"\",\"\",GetData!F260)","v":""},{"$f":"IF(GetData!G260=\"\",\"\",GetData!G260)","v":""},null,null,null,null,null,null,null,null,{"$f":"IF(GetData!E260=\"\",\"\",GetData!E260)","v":""},{"$f":"IF(GetData!AL260=\"\",\"\",GetData!AL260)","v":""},null,null,null,null,null,null,null,null,{"$f":"IF(GetData!H260=\"\",\"\",GetData!H260)","v":""}]
[{"$f":"IF(GetData!F261=\"\",\"\",GetData!F261)","v":""},{"$f":"IF(GetData!G261=\"\",\"\",GetData!G261)","v":""},null,null,null,null,null,null,null,null,{"$f":"IF(GetData!E261=\"\",\"\",GetData!E261)","v":""},{"$f":"IF(GetData!AL261=\"\",\"\",GetData!AL261)","v":""},null,null,null,null,null,null,null,null,{"$f":"IF(GetData!H261=\"\",\"\",GetData!H261)","v":""}]
[{"$f":"IF(GetData!F262=\"\",\"\",GetData!F262)","v":""},{"$f":"IF(GetData!G262=\"\",\"\",GetData!G262)","v":""},null,null,null,null,null,null,null,null,{"$f":"IF(GetData!E262=\"\",\"\",GetData!E262)","v":""},{"$f":"IF(GetData!AL262=\"\",\"\",GetData!AL262)","v":""},null,null,null,null,null,null,null,null,{"$f":"IF(GetData!H262=\"\",\"\",GetData!H262)","v":""}]
[{"$f":"IF(GetData!F263=\"\",\"\",GetData!F263)","v":""},{"$f":"IF(GetData!G263=\"\",\"\",GetData!G263)","v":""},null,null,null,null,null,null,null,null,{"$f":"IF(GetData!E263=\"\",\"\",GetData!E263)","v":""},{"$f":"IF(GetData!AL263=\"\",\"\",GetData!AL263)","v":""},null,null,null,null,null,null,null,null,{"$f":"IF(GetData!H263=\"\",\"\",GetData!H263)","v":""}]
[{"$f":"IF(GetData!F264=\"\",\"\",GetData!F264)","v":""},{"$f":"IF(GetData!G264=\"\",\"\",GetData!G264)","v":""},null,null,null,null,null,null,null,null,{"$f":"IF(GetData!E264=\"\",\"\",GetData!E264)","v":""},{"$f":"IF(GetData!AL264=\"\",\"\",GetData!AL264)","v":""},null,null,null,null,null,null,null,null,{"$f":"IF(GetData!H264=\"\",\"\",GetData!H264)","v":""}]
[{"$f":"IF(GetData!F265=\"\",\"\",GetData!F265)","v":""},{"$f":"IF(GetData!G265=\"\",\"\",GetData!G265)","v":""},null,null,null,null,null,null,null,null,{"$f":"IF(GetData!E265=\"\",\"\",GetData!E265)","v":""},{"$f":"IF(GetData!AL265=\"\",\"\",GetData!AL265)","v":""},null,null,null,null,null,null,null,null,{"$f":"IF(GetData!H265=\"\",\"\",GetData!H265)","v":""}]
[{"$f":"IF(GetData!F266=\"\",\"\",GetData!F266)","v":""},{"$f":"IF(GetData!G266=\"\",\"\",GetData!G266)","v":""},null,null,null,null,null,null,null,null,{"$f":"IF(GetData!E266=\"\",\"\",GetData!E266)","v":""},{"$f":"IF(GetData!AL266=\"\",\"\",GetData!AL266)","v":""},null,null,null,null,null,null,null,null,{"$f":"IF(GetData!H266=\"\",\"\",GetData!H266)","v":""}]
[{"$f":"IF(GetData!F267=\"\",\"\",GetData!F267)","v":""},{"$f":"IF(GetData!G267=\"\",\"\",GetData!G267)","v":""},null,null,null,null,null,null,null,null,{"$f":"IF(GetData!E267=\"\",\"\",GetData!E267)","v":""},{"$f":"IF(GetData!AL267=\"\",\"\",GetData!AL267)","v":""},null,null,null,null,null,null,null,null,{"$f":"IF(GetData!H267=\"\",\"\",GetData!H267)","v":""}]
[{"$f":"IF(GetData!F268=\"\",\"\",GetData!F268)","v":""},{"$f":"IF(GetData!G268=\"\",\"\",GetData!G268)","v":""},null,null,null,null,null,null,null,null,{"$f":"IF(GetData!E268=\"\",\"\",GetData!E268)","v":""},{"$f":"IF(GetData!AL268=\"\",\"\",GetData!AL268)","v":""},null,null,null,null,null,null,null,null,{"$f":"IF(GetData!H268=\"\",\"\",GetData!H268)","v":""}]
[{"$f":"IF(GetData!F269=\"\",\"\",GetData!F269)","v":""},{"$f":"IF(GetData!G269=\"\",\"\",GetData!G269)","v":""},null,null,null,null,null,null,null,null,{"$f":"IF(GetData!E269=\"\",\"\",GetData!E269)","v":""},{"$f":"IF(GetData!AL269=\"\",\"\",GetData!AL269)","v":""},null,null,null,null,null,null,null,null,{"$f":"IF(GetData!H269=\"\",\"\",GetData!H269)","v":""}]
[{"$f":"IF(GetData!F270=\"\",\"\",GetData!F270)","v":""},{"$f":"IF(GetData!G270=\"\",\"\",GetData!G270)","v":""},null,null,null,null,null,null,null,null,{"$f":"IF(GetData!E270=\"\",\"\",GetData!E270)","v":""},{"$f":"IF(GetData!AL270=\"\",\"\",GetData!AL270)","v":""},null,null,null,null,null,null,null,null,{"$f":"IF(GetData!H270=\"\",\"\",GetData!H270)","v":""}]
[{"$f":"IF(GetData!F271=\"\",\"\",GetData!F271)","v":""},{"$f":"IF(GetData!G271=\"\",\"\",GetData!G271)","v":""},null,null,null,null,null,null,null,null,{"$f":"IF(GetData!E271=\"\",\"\",GetData!E271)","v":""},{"$f":"IF(GetData!AL271=\"\",\"\",GetData!AL271)","v":""},null,null,null,null,null,null,null,null,{"$f":"IF(GetData!H271=\"\",\"\",GetData!H271)","v":""}]
[{"$f":"IF(GetData!F272=\"\",\"\",GetData!F272)","v":""},{"$f":"IF(GetData!G272=\"\",\"\",GetData!G272)","v":""},null,null,null,null,null,null,null,null,{"$f":"IF(GetData!E272=\"\",\"\",GetData!E272)","v":""},{"$f":"IF(GetData!AL272=\"\",\"\",GetData!AL272)","v":""},null,null,null,null,null,null,null,null,{"$f":"IF(GetData!H272=\"\",\"\",GetData!H272)","v":""}]
[{"$f":"IF(GetData!F273=\"\",\"\",GetData!F273)","v":""},{"$f":"IF(GetData!G273=\"\",\"\",GetData!G273)","v":""},null,null,null,null,null,null,null,null,{"$f":"IF(GetData!E273=\"\",\"\",GetData!E273)","v":""},{"$f":"IF(GetData!AL273=\"\",\"\",GetData!AL273)","v":""},null,null,null,null,null,null,null,null,{"$f":"IF(GetData!H273=\"\",\"\",GetData!H273)","v":""}]
[{"$f":"IF(GetData!F274=\"\",\"\",GetData!F274)","v":""},{"$f":"IF(GetData!G274=\"\",\"\",GetData!G274)","v":""},null,null,null,null,null,null,null,null,{"$f":"IF(GetData!E274=\"\",\"\",GetData!E274)","v":""},{"$f":"IF(GetData!AL274=\"\",\"\",GetData!AL274)","v":""},null,null,null,null,null,null,null,null,{"$f":"IF(GetData!H274=\"\",\"\",GetData!H274)","v":""}]
[{"$f":"IF(GetData!F275=\"\",\"\",GetData!F275)","v":""},{"$f":"IF(GetData!G275=\"\",\"\",GetData!G275)","v":""},null,null,null,null,null,null,null,null,{"$f":"IF(GetData!E275=\"\",\"\",GetData!E275)","v":""},{"$f":"IF(GetData!AL275=\"\",\"\",GetData!AL275)","v":""},null,null,null,null,null,null,null,null,{"$f":"IF(GetData!H275=\"\",\"\",GetData!H275)","v":""}]
[{"$f":"IF(GetData!F276=\"\",\"\",GetData!F276)","v":""},{"$f":"IF(GetData!G276=\"\",\"\",GetData!G276)","v":""},null,null,null,null,null,null,null,null,{"$f":"IF(GetData!E276=\"\",\"\",GetData!E276)","v":""},{"$f":"IF(GetData!AL276=\"\",\"\",GetData!AL276)","v":""},null,null,null,null,null,null,null,null,{"$f":"IF(GetData!H276=\"\",\"\",GetData!H276)","v":""}]
[{"$f":"IF(GetData!F277=\"\",\"\",GetData!F277)","v":""},{"$f":"IF(GetData!G277=\"\",\"\",GetData!G277)","v":""},null,null,null,null,null,null,null,null,{"$f":"IF(GetData!E277=\"\",\"\",GetData!E277)","v":""},{"$f":"IF(GetData!AL277=\"\",\"\",GetData!AL277)","v":""},null,null,null,null,null,null,null,null,{"$f":"IF(GetData!H277=\"\",\"\",GetData!H277)","v":""}]
[{"$f":"IF(GetData!F278=\"\",\"\",GetData!F278)","v":""},{"$f":"IF(GetData!G278=\"\",\"\",GetData!G278)","v":""},null,null,null,null,null,null,null,null,{"$f":"IF(GetData!E278=\"\",\"\",GetData!E278)","v":""},{"$f":"IF(GetData!AL278=\"\",\"\",GetData!AL278)","v":""},null,null,null,null,null,null,null,null,{"$f":"IF(GetData!H278=\"\",\"\",GetData!H278)","v":""}]
[{"$f":"IF(GetData!F279=\"\",\"\",GetData!F279)","v":""},{"$f":"IF(GetData!G279=\"\",\"\",GetData!G279)","v":""},null,null,null,null,null,null,null,null,{"$f":"IF(GetData!E279=\"\",\"\",GetData!E279)","v":""},{"$f":"IF(GetData!AL279=\"\",\"\",GetData!AL279)","v":""},null,null,null,null,null,null,null,null,{"$f":"IF(GetData!H279=\"\",\"\",GetData!H279)","v":""}]
[{"$f":"IF(GetData!F280=\"\",\"\",GetData!F280)","v":""},{"$f":"IF(GetData!G280=\"\",\"\",GetData!G280)","v":""},null,null,null,null,null,null,null,null,{"$f":"IF(GetData!E280=\"\",\"\",GetData!E280)","v":""},{"$f":"IF(GetData!AL280=\"\",\"\",GetData!AL280)","v":""},null,null,null,null,null,null,null,null,{"$f":"IF(GetData!H280=\"\",\"\",GetData!H280)","v":""}]
[{"$f":"IF(GetData!F281=\"\",\"\",GetData!F281)","v":""},{"$f":"IF(GetData!G281=\"\",\"\",GetData!G281)","v":""},null,null,null,null,null,null,null,null,{"$f":"IF(GetData!E281=\"\",\"\",GetData!E281)","v":""},{"$f":"IF(GetData!AL281=\"\",\"\",GetData!AL281)","v":""},null,null,null,null,null,null,null,null,{"$f":"IF(GetData!H281=\"\",\"\",GetData!H281)","v":""}]
[{"$f":"IF(GetData!F282=\"\",\"\",GetData!F282)","v":""},{"$f":"IF(GetData!G282=\"\",\"\",GetData!G282)","v":""},null,null,null,null,null,null,null,null,{"$f":"IF(GetData!E282=\"\",\"\",GetData!E282)","v":""},{"$f":"IF(GetData!AL282=\"\",\"\",GetData!AL282)","v":""},null,null,null,null,null,null,null,null,{"$f":"IF(GetData!H282=\"\",\"\",GetData!H282)","v":""}]
[{"$f":"IF(GetData!F283=\"\",\"\",GetData!F283)","v":""},{"$f":"IF(GetData!G283=\"\",\"\",GetData!G283)","v":""},null,null,null,null,null,null,null,null,{"$f":"IF(GetData!E283=\"\",\"\",GetData!E283)","v":""},{"$f":"IF(GetData!AL283=\"\",\"\",GetData!AL283)","v":""},null,null,null,null,null,null,null,null,{"$f":"IF(GetData!H283=\"\",\"\",GetData!H283)","v":""}]
[{"$f":"IF(GetData!F284=\"\",\"\",GetData!F284)","v":""},{"$f":"IF(GetData!G284=\"\",\"\",GetData!G284)","v":""},null,null,null,null,null,null,null,null,{"$f":"IF(GetData!E284=\"\",\"\",GetData!E284)","v":""},{"$f":"IF(GetData!AL284=\"\",\"\",GetData!AL284)","v":""},null,null,null,null,null,null,null,null,{"$f":"IF(GetData!H284=\"\",\"\",GetData!H284)","v":""}]
[{"$f":"IF(GetData!F285=\"\",\"\",GetData!F285)","v":""},{"$f":"IF(GetData!G285=\"\",\"\",GetData!G285)","v":""},null,null,null,null,null,null,null,null,{"$f":"IF(GetData!E285=\"\",\"\",GetData!E285)","v":""},{"$f":"IF(GetData!AL285=\"\",\"\",GetData!AL285)","v":""},null,null,null,null,null,null,null,null,{"$f":"IF(GetData!H285=\"\",\"\",GetData!H285)","v":""}]
[{"$f":"IF(GetData!F286=\"\",\"\",GetData!F286)","v":""},{"$f":"IF(GetData!G286=\"\",\"\",GetData!G286)","v":""},null,null,null,null,null,null,null,null,{"$f":"IF(GetData!E286=\"\",\"\",GetData!E286)","v":""},{"$f":"IF(GetData!AL286=\"\",\"\",GetData!AL286)","v":""},null,null,null,null,null,null,null,null,{"$f":"IF(GetData!H286=\"\",\"\",GetData!H286)","v":""}]
[{"$f":"IF(GetData!F287=\"\",\"\",GetData!F287)","v":""},{"$f":"IF(GetData!G287=\"\",\"\",GetData!G287)","v":""},null,null,null,null,null,null,null,null,{"$f":"IF(GetData!E287=\"\",\"\",GetData!E287)","v":""},{"$f":"IF(GetData!AL287=\"\",\"\",GetData!AL287)","v":""},null,null,null,null,null,null,null,null,{"$f":"IF(GetData!H287=\"\",\"\",GetData!H287)","v":""}]
[{"$f":"IF(GetData!F288=\"\",\"\",GetData!F288)","v":""},{"$f":"IF(GetData!G288=\"\",\"\",GetData!G288)","v":""},null,null,null,null,null,null,null,null,{"$f":"IF(GetData!E288=\"\",\"\",GetData!E288)","v":""},{"$f":"IF(GetData!AL288=\"\",\"\",GetData!AL288)","v":""},null,null,null,null,null,null,null,null,{"$f":"IF(GetData!H288=\"\",\"\",GetData!H288)","v":""}]
[{"$f":"IF(GetData!F289=\"\",\"\",GetData!F289)","v":""},{"$f":"IF(GetData!G289=\"\",\"\",GetData!G289)","v":""},null,null,null,null,null,null,null,null,{"$f":"IF(GetData!E289=\"\",\"\",GetData!E289)","v":""},{"$f":"IF(GetData!AL289=\"\",\"\",GetData!AL289)","v":""},null,null,null,null,null,null,null,null,{"$f":"IF(GetData!H289=\"\",\"\",GetData!H289)","v":""}]
[{"$f":"IF(GetData!F290=\"\",\"\",GetData!F290)","v":""},{"$f":"IF(GetData!G290=\"\",\"\",GetData!G290)","v":""},null,null,null,null,null,null,null,null,{"$f":"IF(GetData!E290=\"\",\"\",GetData!E290)","v":""},{"$f":"IF(GetData!AL290=\"\",\"\",GetData!AL290)","v":""},null,null,null,null,null,null,null,null,{"$f":"IF(GetData!H290=\"\",\"\",GetData!H290)","v":""}]
[{"$f":"IF(GetData!F291=\"\",\"\",GetData!F291)","v":""},{"$f":"IF(GetData!G291=\"\",\"\",GetData!G291)","v":""},null,null,null,null,null,null,null,null,{"$f":"IF(GetData!E291=\"\",\"\",GetData!E291)","v":""},{"$f":"IF(GetData!AL291=\"\",\"\",GetData!AL291)","v":""},null,null,null,null,null,null,null,null,{"$f":"IF(GetData!H291=\"\",\"\",GetData!H291)","v":""}]
[{"$f":"IF(GetData!F292=\"\",\"\",GetData!F292)","v":""},{"$f":"IF(GetData!G292=\"\",\"\",GetData!G292)","v":""},null,null,null,null,null,null,null,null,{"$f":"IF(GetData!E292=\"\",\"\",GetData!E292)","v":""},{"$f":"IF(GetData!AL292=\"\",\"\",GetData!AL292)","v":""},null,null,null,null,null,null,null,null,{"$f":"IF(GetData!H292=\"\",\"\",GetData!H292)","v":""}]
[{"$f":"IF(GetData!F293=\"\",\"\",GetData!F293)","v":""},{"$f":"IF(GetData!G293=\"\",\"\",GetData!G293)","v":""},null,null,null,null,null,null,null,null,{"$f":"IF(GetData!E293=\"\",\"\",GetData!E293)","v":""},{"$f":"IF(GetData!AL293=\"\",\"\",GetData!AL293)","v":""},null,null,null,null,null,null,null,null,{"$f":"IF(GetData!H293=\"\",\"\",GetData!H293)","v":""}]
[{"$f":"IF(GetData!F294=\"\",\"\",GetData!F294)","v":""},{"$f":"IF(GetData!G294=\"\",\"\",GetData!G294)","v":""},null,null,null,null,null,null,null,null,{"$f":"IF(GetData!E294=\"\",\"\",GetData!E294)","v":""},{"$f":"IF(GetData!AL294=\"\",\"\",GetData!AL294)","v":""},null,null,null,null,null,null,null,null,{"$f":"IF(GetData!H294=\"\",\"\",GetData!H294)","v":""}]
[{"$f":"IF(GetData!F295=\"\",\"\",GetData!F295)","v":""},{"$f":"IF(GetData!G295=\"\",\"\",GetData!G295)","v":""},null,null,null,null,null,null,null,null,{"$f":"IF(GetData!E295=\"\",\"\",GetData!E295)","v":""},{"$f":"IF(GetData!AL295=\"\",\"\",GetData!AL295)","v":""},null,null,null,null,null,null,null,null,{"$f":"IF(GetData!H295=\"\",\"\",GetData!H295)","v":""}]
[{"$f":"IF(GetData!F296=\"\",\"\",GetData!F296)","v":""},{"$f":"IF(GetData!G296=\"\",\"\",GetData!G296)","v":""},null,null,null,null,null,null,null,null,{"$f":"IF(GetData!E296=\"\",\"\",GetData!E296)","v":""},{"$f":"IF(GetData!AL296=\"\",\"\",GetData!AL296)","v":""},null,null,null,null,null,null,null,null,{"$f":"IF(GetData!H296=\"\",\"\",GetData!H296)","v":""}]
[{"$f":"IF(GetData!F297=\"\",\"\",GetData!F297)","v":""},{"$f":"IF(GetData!G297=\"\",\"\",GetData!G297)","v":""},null,null,null,null,null,null,null,null,{"$f":"IF(GetData!E297=\"\",\"\",GetData!E297)","v":""},{"$f":"IF(GetData!AL297=\"\",\"\",GetData!AL297)","v":""},null,null,null,null,null,null,null,null,{"$f":"IF(GetData!H297=\"\",\"\",GetData!H297)","v":""}]
[{"$f":"IF(GetData!F298=\"\",\"\",GetData!F298)","v":""},{"$f":"IF(GetData!G298=\"\",\"\",GetData!G298)","v":""},null,null,null,null,null,null,null,null,{"$f":"IF(GetData!E298=\"\",\"\",GetData!E298)","v":""},{"$f":"IF(GetData!AL298=\"\",\"\",GetData!AL298)","v":""},null,null,null,null,null,null,null,null,{"$f":"IF(GetData!H298=\"\",\"\",GetData!H298)","v":""}]
[{"$f":"IF(GetData!F299=\"\",\"\",GetData!F299)","v":""},{"$f":"IF(GetData!G299=\"\",\"\",GetData!G299)","v":""},null,null,null,null,null,null,null,null,{"$f":"IF(GetData!E299=\"\",\"\",GetData!E299)","v":""},{"$f":"IF(GetData!AL299=\"\",\"\",GetData!AL299)","v":""},null,null,null,null,null,null,null,null,{"$f":"IF(GetData!H299=\"\",\"\",GetData!H299)","v":""}]
[{"$f":"IF(GetData!F300=\"\",\"\",GetData!F300)","v":""},{"$f":"IF(GetData!G300=\"\",\"\",GetData!G300)","v":""},null,null,null,null,null,null,null,null,{"$f":"IF(GetData!E300=\"\",\"\",GetData!E300)","v":""},{"$f":"IF(GetData!AL300=\"\",\"\",GetData!AL300)","v":""},null,null,null,null,null,null,null,null,{"$f":"IF(GetData!H300=\"\",\"\",GetData!H300)","v":""}]
[{"$f":"IF(GetData!F301=\"\",\"\",GetData!F301)","v":""},{"$f":"IF(GetData!G301=\"\",\"\",GetData!G301)","v":""},null,null,null,null,null,null,null,null,{"$f":"IF(GetData!E301=\"\",\"\",GetData!E301)","v":""},{"$f":"IF(GetData!AL301=\"\",\"\",GetData!AL301)","v":""},null,null,null,null,null,null,null,null,{"$f":"IF(GetData!H301=\"\",\"\",GetData!H301)","v":""}]
[{"$f":"IF(GetData!F302=\"\",\"\",GetData!F302)","v":""},{"$f":"IF(GetData!G302=\"\",\"\",GetData!G302)","v":""},null,null,null,null,null,null,null,null,{"$f":"IF(GetData!E302=\"\",\"\",GetData!E302)","v":""},{"$f":"IF(GetData!AL302=\"\",\"\",GetData!AL302)","v":""},null,null,null,null,null,null,null,null,{"$f":"IF(GetData!H302=\"\",\"\",GetData!H302)","v":""}]
[{"$f":"IF(GetData!F303=\"\",\"\",GetData!F303)","v":""},{"$f":"IF(GetData!G303=\"\",\"\",GetData!G303)","v":""},null,null,null,null,null,null,null,null,{"$f":"IF(GetData!E303=\"\",\"\",GetData!E303)","v":""},{"$f":"IF(GetData!AL303=\"\",\"\",GetData!AL303)","v":""},null,null,null,null,null,null,null,null,{"$f":"IF(GetData!H303=\"\",\"\",GetData!H303)","v":""}]
[{"$f":"IF(GetData!F304=\"\",\"\",GetData!F304)","v":""},{"$f":"IF(GetData!G304=\"\",\"\",GetData!G304)","v":""},null,null,null,null,null,null,null,null,{"$f":"IF(GetData!E304=\"\",\"\",GetData!E304)","v":""},{"$f":"IF(GetData!AL304=\"\",\"\",GetData!AL304)","v":""},null,null,null,null,null,null,null,null,{"$f":"IF(GetData!H304=\"\",\"\",GetData!H304)","v":""}]
[{"$f":"IF(GetData!F305=\"\",\"\",GetData!F305)","v":""},{"$f":"IF(GetData!G305=\"\",\"\",GetData!G305)","v":""},null,null,null,null,null,null,null,null,{"$f":"IF(GetData!E305=\"\",\"\",GetData!E305)","v":""},{"$f":"IF(GetData!AL305=\"\",\"\",GetData!AL305)","v":""},null,null,null,null,null,null,null,null,{"$f":"IF(GetData!H305=\"\",\"\",GetData!H305)","v":""}]
[{"$f":"IF(GetData!F306=\"\",\"\",GetData!F306)","v":""},{"$f":"IF(GetData!G306=\"\",\"\",GetData!G306)","v":""},null,null,null,null,null,null,null,null,{"$f":"IF(GetData!E306=\"\",\"\",GetData!E306)","v":""},{"$f":"IF(GetData!AL306=\"\",\"\",GetData!AL306)","v":""},null,null,null,null,null,null,null,null,{"$f":"IF(GetData!H306=\"\",\"\",GetData!H306)","v":""}]
[{"$f":"IF(GetData!F307=\"\",\"\",GetData!F307)","v":""},{"$f":"IF(GetData!G307=\"\",\"\",GetData!G307)","v":""},null,null,null,null,null,null,null,null,{"$f":"IF(GetData!E307=\"\",\"\",GetData!E307)","v":""},{"$f":"IF(GetData!AL307=\"\",\"\",GetData!AL307)","v":""},null,null,null,null,null,null,null,null,{"$f":"IF(GetData!H307=\"\",\"\",GetData!H307)","v":""}]
[{"$f":"IF(GetData!F308=\"\",\"\",GetData!F308)","v":""},{"$f":"IF(GetData!G308=\"\",\"\",GetData!G308)","v":""},null,null,null,null,null,null,null,null,{"$f":"IF(GetData!E308=\"\",\"\",GetData!E308)","v":""},{"$f":"IF(GetData!AL308=\"\",\"\",GetData!AL308)","v":""},null,null,null,null,null,null,null,null,{"$f":"IF(GetData!H308=\"\",\"\",GetData!H308)","v":""}]
[{"$f":"IF(GetData!F309=\"\",\"\",GetData!F309)","v":""},{"$f":"IF(GetData!G309=\"\",\"\",GetData!G309)","v":""},null,null,null,null,null,null,null,null,{"$f":"IF(GetData!E309=\"\",\"\",GetData!E309)","v":""},{"$f":"IF(GetData!AL309=\"\",\"\",GetData!AL309)","v":""},null,null,null,null,null,null,null,null,{"$f":"IF(GetData!H309=\"\",\"\",GetData!H309)","v":""}]
[{"$f":"IF(GetData!F310=\"\",\"\",GetData!F310)","v":""},{"$f":"IF(GetData!G310=\"\",\"\",GetData!G310)","v":""},null,null,null,null,null,null,null,null,{"$f":"IF(GetData!E310=\"\",\"\",GetData!E310)","v":""},{"$f":"IF(GetData!AL310=\"\",\"\",GetData!AL310)","v":""},null,null,null,null,null,null,null,null,{"$f":"IF(GetData!H310=\"\",\"\",GetData!H310)","v":""}]
[{"$f":"IF(GetData!F311=\"\",\"\",GetData!F311)","v":""},{"$f":"IF(GetData!G311=\"\",\"\",GetData!G311)","v":""},null,null,null,null,null,null,null,null,{"$f":"IF(GetData!E311=\"\",\"\",GetData!E311)","v":""},{"$f":"IF(GetData!AL311=\"\",\"\",GetData!AL311)","v":""},null,null,null,null,null,null,null,null,{"$f":"IF(GetData!H311=\"\",\"\",GetData!H311)","v":""}]
[{"$f":"IF(GetData!F312=\"\",\"\",GetData!F312)","v":""},{"$f":"IF(GetData!G312=\"\",\"\",GetData!G312)","v":""},null,null,null,null,null,null,null,null,{"$f":"IF(GetData!E312=\"\",\"\",GetData!E312)","v":""},{"$f":"IF(GetData!AL312=\"\",\"\",GetData!AL312)","v":""},null,null,null,null,null,null,null,null,{"$f":"IF(GetData!H312=\"\",\"\",GetData!H312)","v":""}]
[{"$f":"IF(GetData!F313=\"\",\"\",GetData!F313)","v":""},{"$f":"IF(GetData!G313=\"\",\"\",GetData!G313)","v":""},null,null,null,null,null,null,null,null,{"$f":"IF(GetData!E313=\"\",\"\",GetData!E313)","v":""},{"$f":"IF(GetData!AL313=\"\",\"\",GetData!AL313)","v":""},null,null,null,null,null,null,null,null,{"$f":"IF(GetData!H313=\"\",\"\",GetData!H313)","v":""}]
[{"$f":"IF(GetData!F314=\"\",\"\",GetData!F314)","v":""},{"$f":"IF(GetData!G314=\"\",\"\",GetData!G314)","v":""},null,null,null,null,null,null,null,null,{"$f":"IF(GetData!E314=\"\",\"\",GetData!E314)","v":""},{"$f":"IF(GetData!AL314=\"\",\"\",GetData!AL314)","v":""},null,null,null,null,null,null,null,null,{"$f":"IF(GetData!H314=\"\",\"\",GetData!H314)","v":""}]
[{"$f":"IF(GetData!F315=\"\",\"\",GetData!F315)","v":""},{"$f":"IF(GetData!G315=\"\",\"\",GetData!G315)","v":""},null,null,null,null,null,null,null,null,{"$f":"IF(GetData!E315=\"\",\"\",GetData!E315)","v":""},{"$f":"IF(GetData!AL315=\"\",\"\",GetData!AL315)","v":""},null,null,null,null,null,null,null,null,{"$f":"IF(GetData!H315=\"\",\"\",GetData!H315)","v":""}]
[{"$f":"IF(GetData!F316=\"\",\"\",GetData!F316)","v":""},{"$f":"IF(GetData!G316=\"\",\"\",GetData!G316)","v":""},null,null,null,null,null,null,null,null,{"$f":"IF(GetData!E316=\"\",\"\",GetData!E316)","v":""},{"$f":"IF(GetData!AL316=\"\",\"\",GetData!AL316)","v":""},null,null,null,null,null,null,null,null,{"$f":"IF(GetData!H316=\"\",\"\",GetData!H316)","v":""}]
[{"$f":"IF(GetData!F317=\"\",\"\",GetData!F317)","v":""},{"$f":"IF(GetData!G317=\"\",\"\",GetData!G317)","v":""},null,null,null,null,null,null,null,null,{"$f":"IF(GetData!E317=\"\",\"\",GetData!E317)","v":""},{"$f":"IF(GetData!AL317=\"\",\"\",GetData!AL317)","v":""},null,null,null,null,null,null,null,null,{"$f":"IF(GetData!H317=\"\",\"\",GetData!H317)","v":""}]
[{"$f":"IF(GetData!F318=\"\",\"\",GetData!F318)","v":""},{"$f":"IF(GetData!G318=\"\",\"\",GetData!G318)","v":""},null,null,null,null,null,null,null,null,{"$f":"IF(GetData!E318=\"\",\"\",GetData!E318)","v":""},{"$f":"IF(GetData!AL318=\"\",\"\",GetData!AL318)","v":""},null,null,null,null,null,null,null,null,{"$f":"IF(GetData!H318=\"\",\"\",GetData!H318)","v":""}]
[{"$f":"IF(GetData!F319=\"\",\"\",GetData!F319)","v":""},{"$f":"IF(GetData!G319=\"\",\"\",GetData!G319)","v":""},null,null,null,null,null,null,null,null,{"$f":"IF(GetData!E319=\"\",\"\",GetData!E319)","v":""},{"$f":"IF(GetData!AL319=\"\",\"\",GetData!AL319)","v":""},null,null,null,null,null,null,null,null,{"$f":"IF(GetData!H319=\"\",\"\",GetData!H319)","v":""}]
[{"$f":"IF(GetData!F320=\"\",\"\",GetData!F320)","v":""},{"$f":"IF(GetData!G320=\"\",\"\",GetData!G320)","v":""},null,null,null,null,null,null,null,null,{"$f":"IF(GetData!E320=\"\",\"\",GetData!E320)","v":""},{"$f":"IF(GetData!AL320=\"\",\"\",GetData!AL320)","v":""},null,null,null,null,null,null,null,null,{"$f":"IF(GetData!H320=\"\",\"\",GetData!H320)","v":""}]
[{"$f":"IF(GetData!F321=\"\",\"\",GetData!F321)","v":""},{"$f":"IF(GetData!G321=\"\",\"\",GetData!G321)","v":""},null,null,null,null,null,null,null,null,{"$f":"IF(GetData!E321=\"\",\"\",GetData!E321)","v":""},{"$f":"IF(GetData!AL321=\"\",\"\",GetData!AL321)","v":""},null,null,null,null,null,null,null,null,{"$f":"IF(GetData!H321=\"\",\"\",GetData!H321)","v":""}]
[{"$f":"IF(GetData!F322=\"\",\"\",GetData!F322)","v":""},{"$f":"IF(GetData!G322=\"\",\"\",GetData!G322)","v":""},null,null,null,null,null,null,null,null,{"$f":"IF(GetData!E322=\"\",\"\",GetData!E322)","v":""},{"$f":"IF(GetData!AL322=\"\",\"\",GetData!AL322)","v":""},null,null,null,null,null,null,null,null,{"$f":"IF(GetData!H322=\"\",\"\",GetData!H322)","v":""}]
[{"$f":"IF(GetData!F323=\"\",\"\",GetData!F323)","v":""},{"$f":"IF(GetData!G323=\"\",\"\",GetData!G323)","v":""},null,null,null,null,null,null,null,null,{"$f":"IF(GetData!E323=\"\",\"\",GetData!E323)","v":""},{"$f":"IF(GetData!AL323=\"\",\"\",GetData!AL323)","v":""},null,null,null,null,null,null,null,null,{"$f":"IF(GetData!H323=\"\",\"\",GetData!H323)","v":""}]
[{"$f":"IF(GetData!F324=\"\",\"\",GetData!F324)","v":""},{"$f":"IF(GetData!G324=\"\",\"\",GetData!G324)","v":""},null,null,null,null,null,null,null,null,{"$f":"IF(GetData!E324=\"\",\"\",GetData!E324)","v":""},{"$f":"IF(GetData!AL324=\"\",\"\",GetData!AL324)","v":""},null,null,null,null,null,null,null,null,{"$f":"IF(GetData!H324=\"\",\"\",GetData!H324)","v":""}]
[{"$f":"IF(GetData!F325=\"\",\"\",GetData!F325)","v":""},{"$f":"IF(GetData!G325=\"\",\"\",GetData!G325)","v":""},null,null,null,null,null,null,null,null,{"$f":"IF(GetData!E325=\"\",\"\",GetData!E325)","v":""},{"$f":"IF(GetData!AL325=\"\",\"\",GetData!AL325)","v":""},null,null,null,null,null,null,null,null,{"$f":"IF(GetData!H325=\"\",\"\",GetData!H325)","v":""}]
[{"$f":"IF(GetData!F326=\"\",\"\",GetData!F326)","v":""},{"$f":"IF(GetData!G326=\"\",\"\",GetData!G326)","v":""},null,null,null,null,null,null,null,null,{"$f":"IF(GetData!E326=\"\",\"\",GetData!E326)","v":""},{"$f":"IF(GetData!AL326=\"\",\"\",GetData!AL326)","v":""},null,null,null,null,null,null,null,null,{"$f":"IF(GetData!H326=\"\",\"\",GetData!H326)","v":""}]
[{"$f":"IF(GetData!F327=\"\",\"\",GetData!F327)","v":""},{"$f":"IF(GetData!G327=\"\",\"\",GetData!G327)","v":""},null,null,null,null,null,null,null,null,{"$f":"IF(GetData!E327=\"\",\"\",GetData!E327)","v":""},{"$f":"IF(GetData!AL327=\"\",\"\",GetData!AL327)","v":""},null,null,null,null,null,null,null,null,{"$f":"IF(GetData!H327=\"\",\"\",GetData!H327)","v":""}]
[{"$f":"IF(GetData!F328=\"\",\"\",GetData!F328)","v":""},{"$f":"IF(GetData!G328=\"\",\"\",GetData!G328)","v":""},null,null,null,null,null,null,null,null,{"$f":"IF(GetData!E328=\"\",\"\",GetData!E328)","v":""},{"$f":"IF(GetData!AL328=\"\",\"\",GetData!AL328)","v":""},null,null,null,null,null,null,null,null,{"$f":"IF(GetData!H328=\"\",\"\",GetData!H328)","v":""}]
[{"$f":"IF(GetData!F329=\"\",\"\",GetData!F329)","v":""},{"$f":"IF(GetData!G329=\"\",\"\",GetData!G329)","v":""},null,null,null,null,null,null,null,null,{"$f":"IF(GetData!E329=\"\",\"\",GetData!E329)","v":""},{"$f":"IF(GetData!AL329=\"\",\"\",GetData!AL329)","v":""},null,null,null,null,null,null,null,null,{"$f":"IF(GetData!H329=\"\",\"\",GetData!H329)","v":""}]
[{"$f":"IF(GetData!F330=\"\",\"\",GetData!F330)","v":""},{"$f":"IF(GetData!G330=\"\",\"\",GetData!G330)","v":""},null,null,null,null,null,null,null,null,{"$f":"IF(GetData!E330=\"\",\"\",GetData!E330)","v":""},{"$f":"IF(GetData!AL330=\"\",\"\",GetData!AL330)","v":""},null,null,null,null,null,null,null,null,{"$f":"IF(GetData!H330=\"\",\"\",GetData!H330)","v":""}]
[{"$f":"IF(GetData!F331=\"\",\"\",GetData!F331)","v":""},{"$f":"IF(GetData!G331=\"\",\"\",GetData!G331)","v":""},null,null,null,null,null,null,null,null,{"$f":"IF(GetData!E331=\"\",\"\",GetData!E331)","v":""},{"$f":"IF(GetData!AL331=\"\",\"\",GetData!AL331)","v":""},null,null,null,null,null,null,null,null,{"$f":"IF(GetData!H331=\"\",\"\",GetData!H331)","v":""}]
[{"$f":"IF(GetData!F332=\"\",\"\",GetData!F332)","v":""},{"$f":"IF(GetData!G332=\"\",\"\",GetData!G332)","v":""},null,null,null,null,null,null,null,null,{"$f":"IF(GetData!E332=\"\",\"\",GetData!E332)","v":""},{"$f":"IF(GetData!AL332=\"\",\"\",GetData!AL332)","v":""},null,null,null,null,null,null,null,null,{"$f":"IF(GetData!H332=\"\",\"\",GetData!H332)","v":""}]
[{"$f":"IF(GetData!F333=\"\",\"\",GetData!F333)","v":""},{"$f":"IF(GetData!G333=\"\",\"\",GetData!G333)","v":""},null,null,null,null,null,null,null,null,{"$f":"IF(GetData!E333=\"\",\"\",GetData!E333)","v":""},{"$f":"IF(GetData!AL333=\"\",\"\",GetData!AL333)","v":""},null,null,null,null,null,null,null,null,{"$f":"IF(GetData!H333=\"\",\"\",GetData!H333)","v":""}]
[{"$f":"IF(GetData!F334=\"\",\"\",GetData!F334)","v":""},{"$f":"IF(GetData!G334=\"\",\"\",GetData!G334)","v":""},null,null,null,null,null,null,null,null,{"$f":"IF(GetData!E334=\"\",\"\",GetData!E334)","v":""},{"$f":"IF(GetData!AL334=\"\",\"\",GetData!AL334)","v":""},null,null,null,null,null,null,null,null,{"$f":"IF(GetData!H334=\"\",\"\",GetData!H334)","v":""}]
[{"$f":"IF(GetData!F335=\"\",\"\",GetData!F335)","v":""},{"$f":"IF(GetData!G335=\"\",\"\",GetData!G335)","v":""},null,null,null,null,null,null,null,null,{"$f":"IF(GetData!E335=\"\",\"\",GetData!E335)","v":""},{"$f":"IF(GetData!AL335=\"\",\"\",GetData!AL335)","v":""},null,null,null,null,null,null,null,null,{"$f":"IF(GetData!H335=\"\",\"\",GetData!H335)","v":""}]
[{"$f":"IF(GetData!F336=\"\",\"\",GetData!F336)","v":""},{"$f":"IF(GetData!G336=\"\",\"\",GetData!G336)","v":""},null,null,null,null,null,null,null,null,{"$f":"IF(GetData!E336=\"\",\"\",GetData!E336)","v":""},{"$f":"IF(GetData!AL336=\"\",\"\",GetData!AL336)","v":""},null,null,null,null,null,null,null,null,{"$f":"IF(GetData!H336=\"\",\"\",GetData!H336)","v":""}]
[{"$f":"IF(GetData!F337=\"\",\"\",GetData!F337)","v":""},{"$f":"IF(GetData!G337=\"\",\"\",GetData!G337)","v":""},null,null,null,null,null,null,null,null,{"$f":"IF(GetData!E337=\"\",\"\",GetData!E337)","v":""},{"$f":"IF(GetData!AL337=\"\",\"\",GetData!AL337)","v":""},null,null,null,null,null,null,null,null,{"$f":"IF(GetData!H337=\"\",\"\",GetData!H337)","v":""}]
[{"$f":"IF(GetData!F338=\"\",\"\",GetData!F338)","v":""},{"$f":"IF(GetData!G338=\"\",\"\",GetData!G338)","v":""},null,null,null,null,null,null,null,null,{"$f":"IF(GetData!E338=\"\",\"\",GetData!E338)","v":""},{"$f":"IF(GetData!AL338=\"\",\"\",GetData!AL338)","v":""},null,null,null,null,null,null,null,null,{"$f":"IF(GetData!H338=\"\",\"\",GetData!H338)","v":""}]
[{"$f":"IF(GetData!F339=\"\",\"\",GetData!F339)","v":""},{"$f":"IF(GetData!G339=\"\",\"\",GetData!G339)","v":""},null,null,null,null,null,null,null,null,{"$f":"IF(GetData!E339=\"\",\"\",GetData!E339)","v":""},{"$f":"IF(GetData!AL339=\"\",\"\",GetData!AL339)","v":""},null,null,null,null,null,null,null,null,{"$f":"IF(GetData!H339=\"\",\"\",GetData!H339)","v":""}]
[{"$f":"IF(GetData!F340=\"\",\"\",GetData!F340)","v":""},{"$f":"IF(GetData!G340=\"\",\"\",GetData!G340)","v":""},null,null,null,null,null,null,null,null,{"$f":"IF(GetData!E340=\"\",\"\",GetData!E340)","v":""},{"$f":"IF(GetData!AL340=\"\",\"\",GetData!AL340)","v":""},null,null,null,null,null,null,null,null,{"$f":"IF(GetData!H340=\"\",\"\",GetData!H340)","v":""}]
[{"$f":"IF(GetData!F341=\"\",\"\",GetData!F341)","v":""},{"$f":"IF(GetData!G341=\"\",\"\",GetData!G341)","v":""},null,null,null,null,null,null,null,null,{"$f":"IF(GetData!E341=\"\",\"\",GetData!E341)","v":""},{"$f":"IF(GetData!AL341=\"\",\"\",GetData!AL341)","v":""},null,null,null,null,null,null,null,null,{"$f":"IF(GetData!H341=\"\",\"\",GetData!H341)","v":""}]
[{"$f":"IF(GetData!F342=\"\",\"\",GetData!F342)","v":""},{"$f":"IF(GetData!G342=\"\",\"\",GetData!G342)","v":""},null,null,null,null,null,null,null,null,{"$f":"IF(GetData!E342=\"\",\"\",GetData!E342)","v":""},{"$f":"IF(GetData!AL342=\"\",\"\",GetData!AL342)","v":""},null,null,null,null,null,null,null,null,{"$f":"IF(GetData!H342=\"\",\"\",GetData!H342)","v":""}]
[{"$f":"IF(GetData!F343=\"\",\"\",GetData!F343)","v":""},{"$f":"IF(GetData!G343=\"\",\"\",GetData!G343)","v":""},null,null,null,null,null,null,null,null,{"$f":"IF(GetData!E343=\"\",\"\",GetData!E343)","v":""},{"$f":"IF(GetData!AL343=\"\",\"\",GetData!AL343)","v":""},null,null,null,null,null,null,null,null,{"$f":"IF(GetData!H343=\"\",\"\",GetData!H343)","v":""}]
[{"$f":"IF(GetData!F344=\"\",\"\",GetData!F344)","v":""},{"$f":"IF(GetData!G344=\"\",\"\",GetData!G344)","v":""},null,null,null,null,null,null,null,null,{"$f":"IF(GetData!E344=\"\",\"\",GetData!E344)","v":""},{"$f":"IF(GetData!AL344=\"\",\"\",GetData!AL344)","v":""},null,null,null,null,null,null,null,null,{"$f":"IF(GetData!H344=\"\",\"\",GetData!H344)","v":""}]
[{"$f":"IF(GetData!F345=\"\",\"\",GetData!F345)","v":""},{"$f":"IF(GetData!G345=\"\",\"\",GetData!G345)","v":""},null,null,null,null,null,null,null,null,{"$f":"IF(GetData!E345=\"\",\"\",GetData!E345)","v":""},{"$f":"IF(GetData!AL345=\"\",\"\",GetData!AL345)","v":""},null,null,null,null,null,null,null,null,{"$f":"IF(GetData!H345=\"\",\"\",GetData!H345)","v":""}]
[{"$f":"IF(GetData!F346=\"\",\"\",GetData!F346)","v":""},{"$f":"IF(GetData!G346=\"\",\"\",GetData!G346)","v":""},null,null,null,null,null,null,null,null,{"$f":"IF(GetData!E346=\"\",\"\",GetData!E346)","v":""},{"$f":"IF(GetData!AL346=\"\",\"\",GetData!AL346)","v":""},null,null,null,null,null,null,null,null,{"$f":"IF(GetData!H346=\"\",\"\",GetData!H346)","v":""}]
[{"$f":"IF(GetData!F347=\"\",\"\",GetData!F347)","v":""},{"$f":"IF(GetData!G347=\"\",\"\",GetData!G347)","v":""},null,null,null,null,null,null,null,null,{"$f":"IF(GetData!E347=\"\",\"\",GetData!E347)","v":""},{"$f":"IF(GetData!AL347=\"\",\"\",GetData!AL347)","v":""},null,null,null,null,null,null,null,null,{"$f":"IF(GetData!H347=\"\",\"\",GetData!H347)","v":""}]
[{"$f":"IF(GetData!F348=\"\",\"\",GetData!F348)","v":""},{"$f":"IF(GetData!G348=\"\",\"\",GetData!G348)","v":""},null,null,null,null,null,null,null,null,{"$f":"IF(GetData!E348=\"\",\"\",GetData!E348)","v":""},{"$f":"IF(GetData!AL348=\"\",\"\",GetData!AL348)","v":""},null,null,null,null,null,null,null,null,{"$f":"IF(GetData!H348=\"\",\"\",GetData!H348)","v":""}]
[{"$f":"IF(GetData!F349=\"\",\"\",GetData!F349)","v":""},{"$f":"IF(GetData!G349=\"\",\"\",GetData!G349)","v":""},null,null,null,null,null,null,null,null,{"$f":"IF(GetData!E349=\"\",\"\",GetData!E349)","v":""},{"$f":"IF(GetData!AL349=\"\",\"\",GetData!AL349)","v":""},null,null,null,null,null,null,null,null,{"$f":"IF(GetData!H349=\"\",\"\",GetData!H349)","v":""}]
[{"$f":"IF(GetData!F350=\"\",\"\",GetData!F350)","v":""},{"$f":"IF(GetData!G350=\"\",\"\",GetData!G350)","v":""},null,null,null,null,null,null,null,null,{"$f":"IF(GetData!E350=\"\",\"\",GetData!E350)","v":""},{"$f":"IF(GetData!AL350=\"\",\"\",GetData!AL350)","v":""},null,null,null,null,null,null,null,null,{"$f":"IF(GetData!H350=\"\",\"\",GetData!H350)","v":""}]
[{"$f":"IF(GetData!F351=\"\",\"\",GetData!F351)","v":""},{"$f":"IF(GetData!G351=\"\",\"\",GetData!G351)","v":""},null,null,null,null,null,null,null,null,{"$f":"IF(GetData!E351=\"\",\"\",GetData!E351)","v":""},{"$f":"IF(GetData!AL351=\"\",\"\",GetData!AL351)","v":""},null,null,null,null,null,null,null,null,{"$f":"IF(GetData!H351=\"\",\"\",GetData!H351)","v":""}]
[{"$f":"IF(GetData!F352=\"\",\"\",GetData!F352)","v":""},{"$f":"IF(GetData!G352=\"\",\"\",GetData!G352)","v":""},null,null,null,null,null,null,null,null,{"$f":"IF(GetData!E352=\"\",\"\",GetData!E352)","v":""},{"$f":"IF(GetData!AL352=\"\",\"\",GetData!AL352)","v":""},null,null,null,null,null,null,null,null,{"$f":"IF(GetData!H352=\"\",\"\",GetData!H352)","v":""}]
[{"$f":"IF(GetData!F353=\"\",\"\",GetData!F353)","v":""},{"$f":"IF(GetData!G353=\"\",\"\",GetData!G353)","v":""},null,null,null,null,null,null,null,null,{"$f":"IF(GetData!E353=\"\",\"\",GetData!E353)","v":""},{"$f":"IF(GetData!AL353=\"\",\"\",GetData!AL353)","v":""},null,null,null,null,null,null,null,null,{"$f":"IF(GetData!H353=\"\",\"\",GetData!H353)","v":""}]
[{"$f":"IF(GetData!F354=\"\",\"\",GetData!F354)","v":""},{"$f":"IF(GetData!G354=\"\",\"\",GetData!G354)","v":""},null,null,null,null,null,null,null,null,{"$f":"IF(GetData!E354=\"\",\"\",GetData!E354)","v":""},{"$f":"IF(GetData!AL354=\"\",\"\",GetData!AL354)","v":""},null,null,null,null,null,null,null,null,{"$f":"IF(GetData!H354=\"\",\"\",GetData!H354)","v":""}]
[{"$f":"IF(GetData!F355=\"\",\"\",GetData!F355)","v":""},{"$f":"IF(GetData!G355=\"\",\"\",GetData!G355)","v":""},null,null,null,null,null,null,null,null,{"$f":"IF(GetData!E355=\"\",\"\",GetData!E355)","v":""},{"$f":"IF(GetData!AL355=\"\",\"\",GetData!AL355)","v":""},null,null,null,null,null,null,null,null,{"$f":"IF(GetData!H355=\"\",\"\",GetData!H355)","v":""}]
[{"$f":"IF(GetData!F356=\"\",\"\",GetData!F356)","v":""},{"$f":"IF(GetData!G356=\"\",\"\",GetData!G356)","v":""},null,null,null,null,null,null,null,null,{"$f":"IF(GetData!E356=\"\",\"\",GetData!E356)","v":""},{"$f":"IF(GetData!AL356=\"\",\"\",GetData!AL356)","v":""},null,null,null,null,null,null,null,null,{"$f":"IF(GetData!H356=\"\",\"\",GetData!H356)","v":""}]
[{"$f":"IF(GetData!F357=\"\",\"\",GetData!F357)","v":""},{"$f":"IF(GetData!G357=\"\",\"\",GetData!G357)","v":""},null,null,null,null,null,null,null,null,{"$f":"IF(GetData!E357=\"\",\"\",GetData!E357)","v":""},{"$f":"IF(GetData!AL357=\"\",\"\",GetData!AL357)","v":""},null,null,null,null,null,null,null,null,{"$f":"IF(GetData!H357=\"\",\"\",GetData!H357)","v":""}]
[{"$f":"IF(GetData!F358=\"\",\"\",GetData!F358)","v":""},{"$f":"IF(GetData!G358=\"\",\"\",GetData!G358)","v":""},null,null,null,null,null,null,null,null,{"$f":"IF(GetData!E358=\"\",\"\",GetData!E358)","v":""},{"$f":"IF(GetData!AL358=\"\",\"\",GetData!AL358)","v":""},null,null,null,null,null,null,null,null,{"$f":"IF(GetData!H358=\"\",\"\",GetData!H358)","v":""}]
[{"$f":"IF(GetData!F359=\"\",\"\",GetData!F359)","v":""},{"$f":"IF(GetData!G359=\"\",\"\",GetData!G359)","v":""},null,null,null,null,null,null,null,null,{"$f":"IF(GetData!E359=\"\",\"\",GetData!E359)","v":""},{"$f":"IF(GetData!AL359=\"\",\"\",GetData!AL359)","v":""},null,null,null,null,null,null,null,null,{"$f":"IF(GetData!H359=\"\",\"\",GetData!H359)","v":""}]
[{"$f":"IF(GetData!F360=\"\",\"\",GetData!F360)","v":""},{"$f":"IF(GetData!G360=\"\",\"\",GetData!G360)","v":""},null,null,null,null,null,null,null,null,{"$f":"IF(GetData!E360=\"\",\"\",GetData!E360)","v":""},{"$f":"IF(GetData!AL360=\"\",\"\",GetData!AL360)","v":""},null,null,null,null,null,null,null,null,{"$f":"IF(GetData!H360=\"\",\"\",GetData!H360)","v":""}]
[{"$f":"IF(GetData!F361=\"\",\"\",GetData!F361)","v":""},{"$f":"IF(GetData!G361=\"\",\"\",GetData!G361)","v":""},null,null,null,null,null,null,null,null,{"$f":"IF(GetData!E361=\"\",\"\",GetData!E361)","v":""},{"$f":"IF(GetData!AL361=\"\",\"\",GetData!AL361)","v":""},null,null,null,null,null,null,null,null,{"$f":"IF(GetData!H361=\"\",\"\",GetData!H361)","v":""}]
[{"$f":"IF(GetData!F362=\"\",\"\",GetData!F362)","v":""},{"$f":"IF(GetData!G362=\"\",\"\",GetData!G362)","v":""},null,null,null,null,null,null,null,null,{"$f":"IF(GetData!E503=\"\",\"\",GetData!E503)","v":""},{"$f":"IF(GetData!AL362=\"\",\"\",GetData!AL362)","v":""},null,null,null,null,null,null,null,null,{"$f":"IF(GetData!H362=\"\",\"\",GetData!H362)","v":""}]
[{"$f":"IF(GetData!F363=\"\",\"\",GetData!F363)","v":""},{"$f":"IF(GetData!G363=\"\",\"\",GetData!G363)","v":""},null,null,null,null,null,null,null,null,{"$f":"IF(GetData!E504=\"\",\"\",GetData!E504)","v":{"$error":"#DIV/0!"}},{"$f":"IF(GetData!AL363=\"\",\"\",GetData!AL363)","v":""},null,null,null,null,null,null,null,null,{"$f":"IF(GetData!H363=\"\",\"\",GetData!H363)","v":""}]
[{"$f":"IF(GetData!F364=\"\",\"\",GetData!F364)","v":""},{"$f":"IF(GetData!G364=\"\",\"\",GetData!G364)","v":""}]
[{"$f":"IF(GetData!F365=\"\",\"\",GetData!F365)","v":""},{"$f":"IF(GetData!G365=\"\",\"\",GetData!G365)","v":""}]
[{"$f":"IF(GetData!F366=\"\",\"\",GetData!F366)","v":""},{"$f":"IF(GetData!G366=\"\",\"\",GetData!G366)","v":""}]
[{"$f":"IF(GetData!F367=\"\",\"\",GetData!F367)","v":""},{"$f":"IF(GetData!G367=\"\",\"\",GetData!G367)","v":""}]
[{"$f":"IF(GetData!F368=\"\",\"\",GetData!F368)","v":""},{"$f":"IF(GetData!G368=\"\",\"\",GetData!G368)","v":""}]
[{"$f":"IF(GetData!F369=\"\",\"\",GetData!F369)","v":""},{"$f":"IF(GetData!G369=\"\",\"\",GetData!G369)","v":""}]
[{"$f":"IF(GetData!F370=\"\",\"\",GetData!F370)","v":""},{"$f":"IF(GetData!G370=\"\",\"\",GetData!G370)","v":""}]
[{"$f":"IF(GetData!F371=\"\",\"\",GetData!F371)","v":""},{"$f":"IF(GetData!G371=\"\",\"\",GetData!G371)","v":""}]
[{"$f":"IF(GetData!F372=\"\",\"\",GetData!F372)","v":""},{"$f":"IF(GetData!G372=\"\",\"\",GetData!G372)","v":""}]
[{"$f":"IF(GetData!F373=\"\",\"\",GetData!F373)","v":""},{"$f":"IF(GetData!G373=\"\",\"\",GetData!G373)","v":""}]
[{"$f":"IF(GetData!F374=\"\",\"\",GetData!F374)","v":""},{"$f":"IF(GetData!G374=\"\",\"\",GetData!G374)","v":""}]
[{"$f":"IF(GetData!F375=\"\",\"\",GetData!F375)","v":""},{"$f":"IF(GetData!G375=\"\",\"\",GetData!G375)","v":""}]
[{"$f":"IF(GetData!F376=\"\",\"\",GetData!F376)","v":""},{"$f":"IF(GetData!G376=\"\",\"\",GetData!G376)","v":""}]
[{"$f":"IF(GetData!F377=\"\",\"\",GetData!F377)","v":""},{"$f":"IF(GetData!G377=\"\",\"\",GetData!G377)","v":""}]
[{"$f":"IF(GetData!F378=\"\",\"\",GetData!F378)","v":""},{"$f":"IF(GetData!G378=\"\",\"\",GetData!G378)","v":""}]
[{"$f":"IF(GetData!F379=\"\",\"\",GetData!F379)","v":""},{"$f":"IF(GetData!G379=\"\",\"\",GetData!G379)","v":""}]
[{"$f":"IF(GetData!F380=\"\",\"\",GetData!F380)","v":""},{"$f":"IF(GetData!G380=\"\",\"\",GetData!G380)","v":""}]
[{"$f":"IF(GetData!F381=\"\",\"\",GetData!F381)","v":""},{"$f":"IF(GetData!G381=\"\",\"\",GetData!G381)","v":""}]
[{"$f":"IF(GetData!F382=\"\",\"\",GetData!F382)","v":""},{"$f":"IF(GetData!G382=\"\",\"\",GetData!G382)","v":""}]
[{"$f":"IF(GetData!F383=\"\",\"\",GetData!F383)","v":""},{"$f":"IF(GetData!G383=\"\",\"\",GetData!G383)","v":""}]
[{"$f":"IF(GetData!F384=\"\",\"\",GetData!F384)","v":""},{"$f":"IF(GetData!G384=\"\",\"\",GetData!G384)","v":""}]
[{"$f":"IF(GetData!F385=\"\",\"\",GetData!F385)","v":""},{"$f":"IF(GetData!G385=\"\",\"\",GetData!G385)","v":""}]
[{"$f":"IF(GetData!F386=\"\",\"\",GetData!F386)","v":""},{"$f":"IF(GetData!G386=\"\",\"\",GetData!G386)","v":""}]
[{"$f":"IF(GetData!F387=\"\",\"\",GetData!F387)","v":""},{"$f":"IF(GetData!G387=\"\",\"\",GetData!G387)","v":""}]
[{"$f":"IF(GetData!F388=\"\",\"\",GetData!F388)","v":""},{"$f":"IF(GetData!G388=\"\",\"\",GetData!G388)","v":""}]
[{"$f":"IF(GetData!F389=\"\",\"\",GetData!F389)","v":""},{"$f":"IF(GetData!G389=\"\",\"\",GetData!G389)","v":""}]
[{"$f":"IF(GetData!F390=\"\",\"\",GetData!F390)","v":""},{"$f":"IF(GetData!G390=\"\",\"\",GetData!G390)","v":""}]
[{"$f":"IF(GetData!F391=\"\",\"\",GetData!F391)","v":""},{"$f":"IF(GetData!G391=\"\",\"\",GetData!G391)","v":""}]
[{"$f":"IF(GetData!F392=\"\",\"\",GetData!F392)","v":""},{"$f":"IF(GetData!G392=\"\",\"\",GetData!G392)","v":""}]
[{"$f":"IF(GetData!F393=\"\",\"\",GetData!F393)","v":""},{"$f":"IF(GetData!G393=\"\",\"\",GetData!G393)","v":""}]
[{"$f":"IF(GetData!F394=\"\",\"\",GetData!F394)","v":""},{"$f":"IF(GetData!G394=\"\",\"\",GetData!G394)","v":""}]
[{"$f":"IF(GetData!F395=\"\",\"\",GetData!F395)","v":""},{"$f":"IF(GetData!G395=\"\",\"\",GetData!G395)","v":""}]
[{"$f":"IF(GetData!F396=\"\",\"\",GetData!F396)","v":""},{"$f":"IF(GetData!G396=\"\",\"\",GetData!G396)","v":""}]
[{"$f":"IF(GetData!F397=\"\",\"\",GetData!F397)","v":""},{"$f":"IF(GetData!G397=\"\",\"\",GetData!G397)","v":""}]
[{"$f":"IF(GetData!F398=\"\",\"\",GetData!F398)","v":""},{"$f":"IF(GetData!G398=\"\",\"\",GetData!G398)","v":""}]
[{"$f":"IF(GetData!F399=\"\",\"\",GetData!F399)","v":""},{"$f":"IF(GetData!G399=\"\",\"\",GetData!G399)","v":""}]
[{"$f":"IF(GetData!F400=\"\",\"\",GetData!F400)","v":""},{"$f":"IF(GetData!G400=\"\",\"\",GetData!G400)","v":""}]
[{"$f":"IF(GetData!F401=\"\",\"\",GetData!F401)","v":""},{"$f":"IF(GetData!G401=\"\",\"\",GetData!G401)","v":""}]
[{"$f":"IF(GetData!F402=\"\",\"\",GetData!F402)","v":""},{"$f":"IF(GetData!G402=\"\",\"\",GetData!G402)","v":""}]
[{"$f":"IF(GetData!F403=\"\",\"\",GetData!F403)","v":""},{"$f":"IF(GetData!G403=\"\",\"\",GetData!G403)","v":""}]
[{"$f":"IF(GetData!F404=\"\",\"\",GetData!F404)","v":""},{"$f":"IF(GetData!G404=\"\",\"\",GetData!G404)","v":""}]
[{"$f":"IF(GetData!F405=\"\",\"\",GetData!F405)","v":""},{"$f":"IF(GetData!G405=\"\",\"\",GetData!G405)","v":""}]
[{"$f":"IF(GetData!F406=\"\",\"\",GetData!F406)","v":""},{"$f":"IF(GetData!G406=\"\",\"\",GetData!G406)","v":""}]
[{"$f":"IF(GetData!F407=\"\",\"\",GetData!F407)","v":""},{"$f":"IF(GetData!G407=\"\",\"\",GetData!G407)","v":""}]
[{"$f":"IF(GetData!F408=\"\",\"\",GetData!F408)","v":""},{"$f":"IF(GetData!G408=\"\",\"\",GetData!G408)","v":""}]
[{"$f":"IF(GetData!F409=\"\",\"\",GetData!F409)","v":""},{"$f":"IF(GetData!G409=\"\",\"\",GetData!G409)","v":""}]
[{"$f":"IF(GetData!F410=\"\",\"\",GetData!F410)","v":""},{"$f":"IF(GetData!G410=\"\",\"\",GetData!G410)","v":""}]
[{"$f":"IF(GetData!F411=\"\",\"\",GetData!F411)","v":""},{"$f":"IF(GetData!G411=\"\",\"\",GetData!G411)","v":""}]
[{"$f":"IF(GetData!F412=\"\",\"\",GetData!F412)","v":""},{"$f":"IF(GetData!G412=\"\",\"\",GetData!G412)","v":""}]
[{"$f":"IF(GetData!F413=\"\",\"\",GetData!F413)","v":""},{"$f":"IF(GetData!G413=\"\",\"\",GetData!G413)","v":""}]
[{"$f":"IF(GetData!F414=\"\",\"\",GetData!F414)","v":""},{"$f":"IF(GetData!G414=\"\",\"\",GetData!G414)","v":""}]
[{"$f":"IF(GetData!F415=\"\",\"\",GetData!F415)","v":""},{"$f":"IF(GetData!G415=\"\",\"\",GetData!G415)","v":""}]
[{"$f":"IF(GetData!F416=\"\",\"\",GetData!F416)","v":""},{"$f":"IF(GetData!G416=\"\",\"\",GetData!G416)","v":""}]
[{"$f":"IF(GetData!F417=\"\",\"\",GetData!F417)","v":""},{"$f":"IF(GetData!G417=\"\",\"\",GetData!G417)","v":""}]
[{"$f":"IF(GetData!F418=\"\",\"\",GetData!F418)","v":""},{"$f":"IF(GetData!G418=\"\",\"\",GetData!G418)","v":""}]
[{"$f":"IF(GetData!F419=\"\",\"\",GetData!F419)","v":""},{"$f":"IF(GetData!G419=\"\",\"\",GetData!G419)","v":""}]
[{"$f":"IF(GetData!F420=\"\",\"\",GetData!F420)","v":""},{"$f":"IF(GetData!G420=\"\",\"\",GetData!G420)","v":""}]
[{"$f":"IF(GetData!F421=\"\",\"\",GetData!F421)","v":""},{"$f":"IF(GetData!G421=\"\",\"\",GetData!G421)","v":""}]
[{"$f":"IF(GetData!F422=\"\",\"\",GetData!F422)","v":""},{"$f":"IF(GetData!G422=\"\",\"\",GetData!G422)","v":""}]
[{"$f":"IF(GetData!F423=\"\",\"\",GetData!F423)","v":""},{"$f":"IF(GetData!G423=\"\",\"\",GetData!G423)","v":""}]
[{"$f":"IF(GetData!F424=\"\",\"\",GetData!F424)","v":""},{"$f":"IF(GetData!G424=\"\",\"\",GetData!G424)","v":""}]
[{"$f":"IF(GetData!F425=\"\",\"\",GetData!F425)","v":""},{"$f":"IF(GetData!G425=\"\",\"\",GetData!G425)","v":""}]
[{"$f":"IF(GetData!F426=\"\",\"\",GetData!F426)","v":""},{"$f":"IF(GetData!G426=\"\",\"\",GetData!G426)","v":""}]
[{"$f":"IF(GetData!F427=\"\",\"\",GetData!F427)","v":""},{"$f":"IF(GetData!G427=\"\",\"\",GetData!G427)","v":""}]
[{"$f":"IF(GetData!F428=\"\",\"\",GetData!F428)","v":""},{"$f":"IF(GetData!G428=\"\",\"\",GetData!G428)","v":""}]
[{"$f":"IF(GetData!F429=\"\",\"\",GetData!F429)","v":""},{"$f":"IF(GetData!G429=\"\",\"\",GetData!G429)","v":""}]
[{"$f":"IF(GetData!F430=\"\",\"\",GetData!F430)","v":""},{"$f":"IF(GetData!G430=\"\",\"\",GetData!G430)","v":""}]
[{"$f":"IF(GetData!F431=\"\",\"\",GetData!F431)","v":""},{"$f":"IF(GetData!G431=\"\",\"\",GetData!G431)","v":""}]
[{"$f":"IF(GetData!F432=\"\",\"\",GetData!F432)","v":""},{"$f":"IF(GetData!G432=\"\",\"\",GetData!G432)","v":""}]
[{"$f":"IF(GetData!F433=\"\",\"\",GetData!F433)","v":""},{"$f":"IF(GetData!G433=\"\",\"\",GetData!G433)","v":""}]
[{"$f":"IF(GetData!F434=\"\",\"\",GetData!F434)","v":""},{"$f":"IF(GetData!G434=\"\",\"\",GetData!G434)","v":""}]
[{"$f":"IF(GetData!F435=\"\",\"\",GetData!F435)","v":""},{"$f":"IF(GetData!G435=\"\",\"\",GetData!G435)","v":""}]
[{"$f":"IF(GetData!F436=\"\",\"\",GetData!F436)","v":""},{"$f":"IF(GetData!G436=\"\",\"\",GetData!G436)","v":""}]
[{"$f":"IF(GetData!F437=\"\",\"\",GetData!F437)","v":""},{"$f":"IF(GetData!G437=\"\",\"\",GetData!G437)","v":""}]
[{"$f":"IF(GetData!F438=\"\",\"\",GetData!F438)","v":""},{"$f":"IF(GetData!G438=\"\",\"\",GetData!G438)","v":""}]
[{"$f":"IF(GetData!F439=\"\",\"\",GetData!F439)","v":""},{"$f":"IF(GetData!G439=\"\",\"\",GetData!G439)","v":""}]
[{"$f":"IF(GetData!F440=\"\",\"\",GetData!F440)","v":""},{"$f":"IF(GetData!G440=\"\",\"\",GetData!G440)","v":""}]
[{"$f":"IF(GetData!F441=\"\",\"\",GetData!F441)","v":""},{"$f":"IF(GetData!G441=\"\",\"\",GetData!G441)","v":""}]
[{"$f":"IF(GetData!F442=\"\",\"\",GetData!F442)","v":""},{"$f":"IF(GetData!G442=\"\",\"\",GetData!G442)","v":""}]
[{"$f":"IF(GetData!F443=\"\",\"\",GetData!F443)","v":""},{"$f":"IF(GetData!G443=\"\",\"\",GetData!G443)","v":""}]
[{"$f":"IF(GetData!F444=\"\",\"\",GetData!F444)","v":""},{"$f":"IF(GetData!G444=\"\",\"\",GetData!G444)","v":""}]
[{"$f":"IF(GetData!F445=\"\",\"\",GetData!F445)","v":""},{"$f":"IF(GetData!G445=\"\",\"\",GetData!G445)","v":""}]
[{"$f":"IF(GetData!F446=\"\",\"\",GetData!F446)","v":""},{"$f":"IF(GetData!G446=\"\",\"\",GetData!G446)","v":""}]
[{"$f":"IF(GetData!F447=\"\",\"\",GetData!F447)","v":""},{"$f":"IF(GetData!G447=\"\",\"\",GetData!G447)","v":""}]
[{"$f":"IF(GetData!F448=\"\",\"\",GetData!F448)","v":""},{"$f":"IF(GetData!G448=\"\",\"\",GetData!G448)","v":""}]
[{"$f":"IF(GetData!F449=\"\",\"\",GetData!F449)","v":""},{"$f":"IF(GetData!G449=\"\",\"\",GetData!G449)","v":""}]
[{"$f":"IF(GetData!F450=\"\",\"\",GetData!F450)","v":""},{"$f":"IF(GetData!G450=\"\",\"\",GetData!G450)","v":""}]
[{"$f":"IF(GetData!F451=\"\",\"\",GetData!F451)","v":""},{"$f":"IF(GetData!G451=\"\",\"\",GetData!G451)","v":""}]
[{"$f":"IF(GetData!F452=\"\",\"\",GetData!F452)","v":""},{"$f":"IF(GetData!G452=\"\",\"\",GetData!G452)","v":""}]
[{"$f":"IF(GetData!F453=\"\",\"\",GetData!F453)","v":""},{"$f":"IF(GetData!G453=\"\",\"\",GetData!G453)","v":""}]
[{"$f":"IF(GetData!F454=\"\",\"\",GetData!F454)","v":""},{"$f":"IF(GetData!G454=\"\",\"\",GetData!G454)","v":""}]
[{"$f":"IF(GetData!F455=\"\",\"\",GetData!F455)","v":""},{"$f":"IF(GetData!G455=\"\",\"\",GetData!G455)","v":""}]
[{"$f":"IF(GetData!F456=\"\",\"\",GetData!F456)","v":""},{"$f":"IF(GetData!G456=\"\",\"\",GetData!G456)","v":""}]
[{"$f":"IF(GetData!F457=\"\",\"\",GetData!F457)","v":""},{"$f":"IF(GetData!G457=\"\",\"\",GetData!G457)","v":""}]
[{"$f":"IF(GetData!F458=\"\",\"\",GetData!F458)","v":""},{"$f":"IF(GetData!G458=\"\",\"\",GetData!G458)","v":""}]
[{"$f":"IF(GetData!F459=\"\",\"\",GetData!F459)","v":""},{"$f":"IF(GetData!G459=\"\",\"\",GetData!G459)","v":""}]
[{"$f":"IF(GetData!F460=\"\",\"\",GetData!F460)","v":""},{"$f":"IF(GetData!G460=\"\",\"\",GetData!G460)","v":""}]
[{"$f":"IF(GetData!F461=\"\",\"\",GetData!F461)","v":""},{"$f":"IF(GetData!G461=\"\",\"\",GetData!G461)","v":""}]
[{"$f":"IF(GetData!F462=\"\",\"\",GetData!F462)","v":""},{"$f":"IF(GetData!G462=\"\",\"\",GetData!G462)","v":""}]
[{"$f":"IF(GetData!F463=\"\",\"\",GetData!F463)","v":""},{"$f":"IF(GetData!G463=\"\",\"\",GetData!G463)","v":""}]
[{"$f":"IF(GetData!F464=\"\",\"\",GetData!F464)","v":""},{"$f":"IF(GetData!G464=\"\",\"\",GetData!G464)","v":""}]
[{"$f":"IF(GetData!F465=\"\",\"\",GetData!F465)","v":""},{"$f":"IF(GetData!G465=\"\",\"\",GetData!G465)","v":""}]
[{"$f":"IF(GetData!F466=\"\",\"\",GetData!F466)","v":""},{"$f":"IF(GetData!G466=\"\",\"\",GetData!G466)","v":""}]
[{"$f":"IF(GetData!F467=\"\",\"\",GetData!F467)","v":""},{"$f":"IF(GetData!G467=\"\",\"\",GetData!G467)","v":""}]
[{"$f":"IF(GetData!F468=\"\",\"\",GetData!F468)","v":""},{"$f":"IF(GetData!G468=\"\",\"\",GetData!G468)","v":""}]
[{"$f":"IF(GetData!F469=\"\",\"\",GetData!F469)","v":""},{"$f":"IF(GetData!G469=\"\",\"\",GetData!G469)","v":""}]
[{"$f":"IF(GetData!F470=\"\",\"\",GetData!F470)","v":""},{"$f":"IF(GetData!G470=\"\",\"\",GetData!G470)","v":""}]
[{"$f":"IF(GetData!F471=\"\",\"\",GetData!F471)","v":""},{"$f":"IF(GetData!G471=\"\",\"\",GetData!G471)","v":""}]
[{"$f":"IF(GetData!F472=\"\",\"\",GetData!F472)","v":""},{"$f":"IF(GetData!G472=\"\",\"\",GetData!G472)","v":""}]
[{"$f":"IF(GetData!F473=\"\",\"\",GetData!F473)","v":""},{"$f":"IF(GetData!G473=\"\",\"\",GetData!G473)","v":""}]
[{"$f":"IF(GetData!F474=\"\",\"\",GetData!F474)","v":""},{"$f":"IF(GetData!G474=\"\",\"\",GetData!G474)","v":""}]
[{"$f":"IF(GetData!F475=\"\",\"\",GetData!F475)","v":""},{"$f":"IF(GetData!G475=\"\",\"\",GetData!G475)","v":""}]
[{"$f":"IF(GetData!F476=\"\",\"\",GetData!F476)","v":""},{"$f":"IF(GetData!G476=\"\",\"\",GetData!G476)","v":""}]
[{"$f":"IF(GetData!F477=\"\",\"\",GetData!F477)","v":""},{"$f":"IF(GetData!G477=\"\",\"\",GetData!G477)","v":""}]
[{"$f":"IF(GetData!F478=\"\",\"\",GetData!F478)","v":""},{"$f":"IF(GetData!G478=\"\",\"\",GetData!G478)","v":""}]
[{"$f":"IF(GetData!F479=\"\",\"\",GetData!F479)","v":""},{"$f":"IF(GetData!G479=\"\",\"\",GetData!G479)","v":""}]
[{"$f":"IF(GetData!F480=\"\",\"\",GetData!F480)","v":""},{"$f":"IF(GetData!G480=\"\",\"\",GetData!G480)","v":""}]
[{"$f":"IF(GetData!F481=\"\",\"\",GetData!F481)","v":""},{"$f":"IF(GetData!G481=\"\",\"\",GetData!G481)","v":""}]
[{"$f":"IF(GetData!F482=\"\",\"\",GetData!F482)","v":""},{"$f":"IF(GetData!G482=\"\",\"\",GetData!G482)","v":""}]
[{"$f":"IF(GetData!F483=\"\",\"\",GetData!F483)","v":""},{"$f":"IF(GetData!G483=\"\",\"\",GetData!G483)","v":""}]
[{"$f":"IF(GetData!F484=\"\",\"\",GetData!F484)","v":""},{"$f":"IF(GetData!G484=\"\",\"\",GetData!G484)","v":""}]
[{"$f":"IF(GetData!F485=\"\",\"\",GetData!F485)","v":""},{"$f":"IF(GetData!G485=\"\",\"\",GetData!G485)","v":""}]
[{"$f":"IF(GetData!F486=\"\",\"\",GetData!F486)","v":""},{"$f":"IF(GetData!G486=\"\",\"\",GetData!G486)","v":""}]
[{"$f":"IF(GetData!F487=\"\",\"\",GetData!F487)","v":""},{"$f":"IF(GetData!G487=\"\",\"\",GetData!G487)","v":""}]
[{"$f":"IF(GetData!F488=\"\",\"\",GetData!F488)","v":""},{"$f":"IF(GetData!G488=\"\",\"\",GetData!G488)","v":""}]
[{"$f":"IF(GetData!F489=\"\",\"\",GetData!F489)","v":""},{"$f":"IF(GetData!G489=\"\",\"\",GetData!G489)","v":""}]
[{"$f":"IF(GetData!F490=\"\",\"\",GetData!F490)","v":""},{"$f":"IF(GetData!G490=\"\",\"\",GetData!G490)","v":""}]
[{"$f":"IF(GetData!F491=\"\",\"\",GetData!F491)","v":""},{"$f":"IF(GetData!G491=\"\",\"\",GetData!G491)","v":""}]
[{"$f":"IF(GetData!F492=\"\",\"\",GetData!F492)","v":""},{"$f":"IF(GetData!G492=\"\",\"\",GetData!G492)","v":""}]
[{"$f":"IF(GetData!F493=\"\",\"\",GetData!F493)","v":""},{"$f":"IF(GetData!G493=\"\",\"\",GetData!G493)","v":""}]
[{"$f":"IF(GetData!F494=\"\",\"\",GetData!F494)","v":""},{"$f":"IF(GetData!G494=\"\",\"\",GetData!G494)","v":""}]
[{"$f":"IF(GetData!F495=\"\",\"\",GetData!F495)","v":""},{"$f":"IF(GetData!G495=\"\",\"\",GetData!G495)","v":""}]
[{"$f":"IF(GetData!F496=\"\",\"\",GetData!F496)","v":""},{"$f":"IF(GetData!G496=\"\",\"\",GetData!G496)","v":""}]
[{"$f":"IF(GetData!F497=\"\",\"\",GetData!F497)","v":""},{"$f":"IF(GetData!G497=\"\",\"\",GetData!G497)","v":""}]
[{"$f":"IF(GetData!F498=\"\",\"\",GetData!F498)","v":""},{"$f":"IF(GetData!G498=\"\",\"\",GetData!G498)","v":""}]
[{"$f":"IF(GetData!F499=\"\",\"\",GetData!F499)","v":{"$error":"#DIV/0!"}},{"$f":"IF(GetData!G499=\"\",\"\",GetData!G499)","v":""}]
[{"$f":"IF(GetData!F500=\"\",\"\",GetData!F500)","v":{"$error":"#DIV/0!"}},{"$f":"IF(GetData!G500=\"\",\"\",GetData!G500)","v":""}]
[{"$f":"IF(GetData!F501=\"\",\"\",GetData!F501)","v":{"$error":"#DIV/0!"}},{"$f":"IF(GetData!G501=\"\",\"\",GetData!G501)","v":""}]
[{"$f":"IF(GetData!F502=\"\",\"\",GetData!F502)","v":{"$error":"#DIV/0!"}},{"$f":"IF(GetData!G502=\"\",\"\",GetData!G502)","v":""}]
[{"$f":"IF(GetData!F503=\"\",\"\",GetData!F503)","v":{"$error":"#DIV/0!"}},{"$f":"IF(GetData!G503=\"\",\"\",GetData!G503)","v":""}]

{"sheet":"Channel","index":7,"n_rows":565,"n_cols":45,"rows_kept":565,"cut":false,"hidden":false,"merged":[]}
["GREENLINE-GREENLINE WIDTH",null,null,null,null,null,null,null,null,"SUBSTRATE",null,null,null,null,null,null,null,null,"RESIDUAL POOLS",null,null,null,null,null,null,null,null,"STREAMBANK COVER",null,null,null,null,null,null,null,null,"STREAMBANK STABILITY"]
[{"$f":"GetData!$A$13&\" - FIRST DMA\"","v":"DMA ID - FIRST DMA"},{"$f":"GetData!$B$13","v":"PASTURE"},{"$f":"GetData!$C$13","v":"STREAM"},{"$f":"GetData!$D$13","v":"DATE"},null,{"$f":"GetData!$S$13&\" - SECOND DMA\"","v":"DMA ID - SECOND DMA"},{"$f":"GetData!$T$13","v":"PASTURE"},{"$f":"GetData!$U$13","v":"STREAM"},{"$f":"GetData!$V$13","v":"DATE"},{"$f":"GetData!$A$13&\" - FIRST DMA\"","v":"DMA ID - FIRST DMA"},{"$f":"GetData!$B$13","v":"PASTURE"},{"$f":"GetData!$C$13","v":"STREAM"},{"$f":"GetData!$D$13","v":"DATE"},null,{"$f":"GetData!$S$13&\" - SECOND DMA\"","v":"DMA ID - SECOND DMA"},{"$f":"GetData!$B$13","v":"PASTURE"},{"$f":"GetData!$C$13","v":"STREAM"},{"$f":"GetData!$D$13","v":"DATE"},{"$f":"GetData!$A$13&\" - FIRST DMA\"","v":"DMA ID - FIRST DMA"},{"$f":"GetData!$B$13","v":"PASTURE"},{"$f":"GetData!$C$13","v":"STREAM"},{"$f":"GetData!$D$13","v":"DATE"},null,{"$f":"GetData!$S$13&\" - SECOND DMA\"","v":"DMA ID - SECOND DMA"},{"$f":"GetData!$T$13","v":"PASTURE"},{"$f":"GetData!$U$13","v":"STREAM"},{"$f":"GetData!$V$13","v":"DATE"},{"$f":"S2","v":"DMA ID - FIRST DMA"},{"$f":"T2","v":"PASTURE"},"STREAM","DATE",null,{"$f":"X2","v":"DMA ID - SECOND DMA"},"PASTURE","STREAM","DATE","DMA ID - FIRST DMA","PASTURE","STREAM","DATE",null,{"$f":"AG2","v":"DMA ID - SECOND DMA"},"PASTURE","STREAM","DATE"]
[{"$f":"GetData!$A$14","v":0},{"$f":"GetData!$B$14","v":0},{"$f":"GetData!$C$14","v":0},{"$f":"GetData!$D$14","v":"00:00:00"},null,{"$f":"GetData!$S$14","v":0},{"$f":"GetData!$T$14","v":0},{"$f":"GetData!$U$14","v":0},{"$f":"GetData!$V$14","v":"00:00:00"},{"$f":"GetData!$A$14","v":0},{"$f":"GetData!$B$14","v":0},{"$f":"GetData!$C$14","v":0},{"$f":"GetData!$D$14","v":"00:00:00"},null,{"$f":"GetData!$S$14","v":0},{"$f":"GetData!$T$14","v":0},{"$f":"GetData!$U$14","v":0},{"$f":"GetData!$V$14","v":"00:00:00"},{"$f":"GetData!$A$14","v":0},{"$f":"GetData!$B$14","v":0},{"$f":"GetData!$C$14","v":0},{"$f":"GetData!$D$14","v":"00:00:00"},null,{"$f":"GetData!$S$14","v":0},{"$f":"GetData!$T$14","v":0},{"$f":"GetData!$U$14","v":0},{"$f":"GetData!$V$14","v":"00:00:00"},{"$f":"S3","v":0},0,0,"00:00:00",null,0,0,0,"00:00:00",0,0,0,"00:00:00",null,0,0,0,"00:00:00"]
["GGW",null,null,null,null,null,null,null,null,"PARTICLE SIZE",null,null,null,null,null,null,null,null,"POOLS",null,null,null,null,null,null,null,null,"COVER",null,null,null,null,null,null,null,null,"STABILITY"]
[{"$f":"CONCATENATE(A3,\" \",TEXT(D3,\"mm/dd/yyy\"))","v":"0 01/00/1900"},{"$f":"CONCATENATE(F3,\" \",TEXT(I3,\"mm/dd/yyy\"))","v":"0 01/00/1900"},null,"STATISTICS",{"$f":"A5","v":"0 01/00/1900"},{"$f":"B5","v":"0 01/00/1900"},null,null,null,{"$f":"CONCATENATE(J3,\" \",TEXT(M3,\"mm/dd/yyy\"))","v":"0 01/00/1900"},{"$f":"CONCATENATE(O3,\" \",TEXT(R3,\"mm/dd/yyy\"))","v":"0 01/00/1900"},null,"STATISTICS",{"$f":"J5","v":"0 01/00/1900"},{"$f":"K5","v":"0 01/00/1900"},null,null,null,{"$f":"CONCATENATE(S3,\" \",TEXT(V3,\"mm/dd/yyy\"))","v":"0 01/00/1900"},{"$f":"CONCATENATE(X3,\" \",TEXT(AA3,\"mm/dd/yyy\"))","v":"0 01/00/1900"},null,"STATISTICS",{"$f":"S5","v":"0 01/00/1900"},{"$f":"T5","v":"0 01/00/1900"},null,null,null,{"$f":"CONCATENATE(AB3,\" \",TEXT(AE3,\"mm/dd/yyy\"))","v":"0 01/00/1900"},{"$f":"CONCATENATE(AG3,\" \",TEXT(AJ3,\"mm/dd/yyy\"))","v":"0 01/00/1900"},null,"STATISTICS",{"$f":"AB5","v":"0 01/00/1900"},{"$f":"AC5","v":"0 01/00/1900"},null,null,null,{"$f":"CONCATENATE(AK3,\" \",TEXT(AN3,\"mm/dd/yyy\"))","v":"0 01/00/1900"},{"$f":"CONCATENATE(AP3,\" \",TEXT(AS3,\"mm/dd/yyy\"))","v":"0 01/00/1900"},null,"STATISTICS",{"$f":"AK5","v":"0 01/00/1900"},{"$f":"AL5","v":"0 01/00/1900"}]
[{"$f":"IF(GetData!I5=\"\",\"\",GetData!I5)","v":""},{"$f":"IF(GetData!AA5=\"\",\"\",GetData!AA5)","v":""},null,null,null,null,null,null,null,{"$f":"IF(GetData!J5=\"\",\"\",GetData!J5)","v":""},{"$f":"IF(GetData!AB5=\"\",\"\",GetData!AB5)","v":""},null,null,null,null,null,null,null,{"$f":"IF(GetData!K5=\"\",\"\",GetData!K5)","v":""},{"$f":"IF(GetData!AC5=\"\",\"\",GetData!AC5)","v":""},null,null,null,null,null,null,null,{"$f":"IF(GetData!L5=\"\",\"\",GetData!L5)","v":""},{"$f":"IF(GetData!AD5=\"\",\"\",GetData!AD5)","v":""},null,null,null,null,null,null,null,{"$f":"IF(GetData!M5=\"\",\"\",GetData!M5)","v":""},{"$f":"IF(GetData!AE5=\"\",\"\",GetData!AE5)","v":""}]
[{"$f":"IF(GetData!I6=\"\",\"\",GetData!I6)","v":""},{"$f":"IF(GetData!AA6=\"\",\"\",GetData!AA6)","v":""},null,"MEAN",{"$f":"AVERAGE(A$6:A$364)","v":{"$error":"#DIV/0!"}},{"$f":"AVERAGE(B$6:B$364)","v":{"$error":"#DIV/0!"}},null,null,null,{"$f":"IF(GetData!J6=\"\",\"\",GetData!J6)","v":""},{"$f":"IF(GetData!AB6=\"\",\"\",GetData!AB6)","v":""},null,"MEAN",{"$f":"AVERAGE(J$6:J$565)","v":{"$error":"#DIV/0!"}},{"$f":"AVERAGE(K$6:K$565)","v":{"$error":"#DIV/0!"}},null,null,null,{"$f":"IF(GetData!K6=\"\",\"\",GetData!K6)","v":""},{"$f":"IF(GetData!AC6=\"\",\"\",GetData!AC6)","v":""},null,"MEAN",{"$f":"AVERAGE(S$6:S$364)","v":{"$error":"#DIV/0!"}},{"$f":"AVERAGE(T$6:T$364)","v":{"$error":"#DIV/0!"}},null,null,null,{"$f":"IF(GetData!L6=\"\",\"\",GetData!L6)","v":""},{"$f":"IF(GetData!AD6=\"\",\"\",GetData!AD6)","v":""},null,"COVERED",{"$f":"COUNTIF(AB$6:AB$365,\"C\")","v":0},{"$f":"COUNTIF(AC$6:AC$365,\"C\")","v":0},null,null,null,{"$f":"IF(GetData!M6=\"\",\"\",GetData!M6)","v":""},{"$f":"IF(GetData!AE6=\"\",\"\",GetData!AE6)","v":""},null,"STABLE",{"$f":"COUNTIF(AK$6:AK$365,\"S\")","v":0},{"$f":"COUNTIF(AL$6:AL$365,\"S\")","v":0}]
[{"$f":"IF(GetData!I7=\"\",\"\",GetData!I7)","v":""},{"$f":"IF(GetData!AA7=\"\",\"\",GetData!AA7)","v":""},null,"MEDIAN",{"$f":"MEDIAN(A$6:A$364)","v":{"$error":"#DIV/0!"}},{"$f":"MEDIAN(B$6:B$364)","v":{"$error":"#NUM!"}},null,null,null,{"$f":"IF(GetData!J7=\"\",\"\",GetData!J7)","v":""},{"$f":"IF(GetData!AB7=\"\",\"\",GetData!AB7)","v":""},null,"MEDIAN",{"$f":"MEDIAN(J$6:J$565)","v":{"$error":"#NUM!"}},{"$f":"MEDIAN(K$6:K$565)","v":{"$error":"#NUM!"}},null,null,null,{"$f":"IF(GetData!K7=\"\",\"\",GetData!K7)","v":""},{"$f":"IF(GetData!AC7=\"\",\"\",GetData!AC7)","v":""},null,"MEDIAN",{"$f":"MEDIAN(S$6:S$364)","v":{"$error":"#DIV/0!"}},{"$f":"MEDIAN(T$6:T$364)","v":{"$error":"#NUM!"}},null,null,null,{"$f":"IF(GetData!L7=\"\",\"\",GetData!L7)","v":""},{"$f":"IF(GetData!AD7=\"\",\"\",GetData!AD7)","v":""},null,"UNCOVERED",{"$f":"COUNTIF(AB$6:AB$365,\"U\")","v":0},{"$f":"COUNTIF(AC$6:AC$365,\"U\")","v":0},null,null,null,{"$f":"IF(GetData!M7=\"\",\"\",GetData!M7)","v":""},{"$f":"IF(GetData!AE7=\"\",\"\",GetData!AE7)","v":""},null,"UNSTABLE",{"$f":"COUNTIF(AK$6:AK$365,\"U\")","v":0},{"$f":"COUNTIF(AL$6:AL$365,\"U\")","v":0}]
[{"$f":"IF(GetData!I8=\"\",\"\",GetData!I8)","v":""},{"$f":"IF(GetData!AA8=\"\",\"\",GetData!AA8)","v":""},null,"CONF INTERVAL",{"$f":"GetData!I547","v":""},{"$f":"GetData!AA547","v":""},null,null,null,{"$f":"IF(GetData!J8=\"\",\"\",GetData!J8)","v":""},{"$f":"IF(GetData!AB8=\"\",\"\",GetData!AB8)","v":""},null,"CONF INTERVAL",{"$f":"GetData!I551","v":{"$error":"#VALUE!"}},{"$f":"GetData!AA551","v":{"$error":"#VALUE!"}},null,null,null,{"$f":"IF(GetData!K8=\"\",\"\",GetData!K8)","v":""},{"$f":"IF(GetData!AC8=\"\",\"\",GetData!AC8)","v":""},null,"CONF INTERVAL",{"$f":"GetData!K547","v":""},{"$f":"GetData!AC547","v":""},null,null,null,{"$f":"IF(GetData!L8=\"\",\"\",GetData!L8)","v":""},{"$f":"IF(GetData!AD8=\"\",\"\",GetData!AD8)","v":""},null,"N",{"$f":"COUNTIF(AB6:AB365,\">\"\"\")","v":0},{"$f":"COUNTIF(AC6:AC365,\">\"\"\")","v":0},null,null,null,{"$f":"IF(GetData!M8=\"\",\"\",GetData!M8)","v":""},{"$f":"IF(GetData!AE8=\"\",\"\",GetData!AE8)","v":""},null,"N",{"$f":"COUNTIF(AK6:AK365,\">\"\"\")","v":0},{"$f":"COUNTIF(AL6:AL365,\">\"\"\")","v":0}]
[{"$f":"IF(GetData!I9=\"\",\"\",GetData!I9)","v":""},{"$f":"IF(GetData!AA9=\"\",\"\",GetData!AA9)","v":""},null,"N",{"$f":"COUNT(A$6:A$364)","v":0},{"$f":"COUNT(B$6:B$364)","v":0},null,null,null,{"$f":"IF(GetData!J9=\"\",\"\",GetData!J9)","v":""},{"$f":"IF(GetData!AB9=\"\",\"\",GetData!AB9)","v":""},null,"N",{"$f":"COUNT(J$6:J$361)","v":0},{"$f":"COUNT(K$6:K$361)","v":0},null,null,null,{"$f":"IF(GetData!K9=\"\",\"\",GetData!K9)","v":""},{"$f":"IF(GetData!AC9=\"\",\"\",GetData!AC9)","v":""},null,"N",{"$f":"COUNT(S$5:S$364)","v":0},{"$f":"COUNT(T$6:T$364)","v":0},null,null,null,{"$f":"IF(GetData!L9=\"\",\"\",GetData!L9)","v":""},{"$f":"IF(GetData!AD9=\"\",\"\",GetData!AD9)","v":""},null,null,null,null,null,null,null,{"$f":"IF(GetData!M9=\"\",\"\",GetData!M9)","v":""},{"$f":"IF(GetData!AE9=\"\",\"\",GetData!AE9)","v":""}]
[{"$f":"IF(GetData!I10=\"\",\"\",GetData!I10)","v":""},{"$f":"IF(GetData!AA10=\"\",\"\",GetData!AA10)","v":""},null,null,null,null,null,null,null,{"$f":"IF(GetData!J10=\"\",\"\",GetData!J10)","v":""},{"$f":"IF(GetData!AB10=\"\",\"\",GetData!AB10)","v":""},null,null,null,null,null,null,null,{"$f":"IF(GetData!K10=\"\",\"\",GetData!K10)","v":""},{"$f":"IF(GetData!AC10=\"\",\"\",GetData!AC10)","v":""},null,null,null,null,null,null,null,{"$f":"IF(GetData!L10=\"\",\"\",GetData!L10)","v":""},{"$f":"IF(GetData!AD10=\"\",\"\",GetData!AD10)","v":""},null,null,null,null,null,null,null,{"$f":"IF(GetData!M10=\"\",\"\",GetData!M10)","v":""},{"$f":"IF(GetData!AE10=\"\",\"\",GetData!AE10)","v":""},null,null,{"$f":"AO5","v":"0 01/00/1900"},{"$f":"AP5","v":"0 01/00/1900"}]
[{"$f":"IF(GetData!I11=\"\",\"\",GetData!I11)","v":""},{"$f":"IF(GetData!AA11=\"\",\"\",GetData!AA11)","v":""},null,"CI RANGE",null,null,null,null,null,{"$f":"IF(GetData!J11=\"\",\"\",GetData!J11)","v":""},{"$f":"IF(GetData!AB11=\"\",\"\",GetData!AB11)","v":""},null,"CI RANGE",null,null,null,null,null,{"$f":"IF(GetData!K11=\"\",\"\",GetData!K11)","v":""},{"$f":"IF(GetData!AC11=\"\",\"\",GetData!AC11)","v":""},null,"CI RANGE",null,null,null,null,null,{"$f":"IF(GetData!L11=\"\",\"\",GetData!L11)","v":""},{"$f":"IF(GetData!AD11=\"\",\"\",GetData!AD11)","v":""},null,null,{"$f":"AF5","v":"0 01/00/1900"},{"$f":"AG5","v":"0 01/00/1900"},null,null,null,{"$f":"IF(GetData!M11=\"\",\"\",GetData!M11)","v":""},{"$f":"IF(GetData!AE11=\"\",\"\",GetData!AE11)","v":""},null,"Percent Stable",{"$f":"AO7/AO9","v":{"$error":"#DIV/0!"}},{"$f":"AP7/AP9","v":{"$error":"#DIV/0!"}}]
[{"$f":"IF(GetData!I12=\"\",\"\",GetData!I12)","v":""},{"$f":"IF(GetData!AA12=\"\",\"\",GetData!AA12)","v":""},null,"MAX",{"$f":"E7+E9","v":{"$error":"#DIV/0!"}},{"$f":"F7+F9","v":{"$error":"#DIV/0!"}},null,null,null,{"$f":"IF(GetData!J12=\"\",\"\",GetData!J12)","v":""},{"$f":"IF(GetData!AB12=\"\",\"\",GetData!AB12)","v":""},null,"MAX",{"$f":"N7+N9","v":{"$error":"#DIV/0!"}},{"$f":"O7+O9","v":{"$error":"#DIV/0!"}},null,null,null,{"$f":"IF(GetData!K12=\"\",\"\",GetData!K12)","v":""},{"$f":"IF(GetData!AC12=\"\",\"\",GetData!AC12)","v":""},null,"MAX",{"$f":"W7+W9","v":{"$error":"#DIV/0!"}},{"$f":"X7+X9","v":{"$error":"#DIV/0!"}},null,null,null,{"$f":"IF(GetData!L12=\"\",\"\",GetData!L12)","v":""},{"$f":"IF(GetData!AD12=\"\",\"\",GetData!AD12)","v":""},null,"Percent COVER",{"$f":"AF7/AF9","v":{"$error":"#DIV/0!"}},{"$f":"AG7/AG9","v":{"$error":"#DIV/0!"}},null,null,null,{"$f":"IF(GetData!M12=\"\",\"\",GetData!M12)","v":""},{"$f":"IF(GetData!AE12=\"\",\"\",GetData!AE12)","v":""}]
[{"$f":"IF(GetData!I13=\"\",\"\",GetData!I13)","v":""},{"$f":"IF(GetData!AA13=\"\",\"\",GetData!AA13)","v":""},null,"MIN",{"$f":"E7-E9","v":{"$error":"#DIV/0!"}},{"$f":"F7-F9","v":{"$error":"#DIV/0!"}},null,null,null,{"$f":"IF(GetData!J13=\"\",\"\",GetData!J13)","v":""},{"$f":"IF(GetData!AB13=\"\",\"\",GetData!AB13)","v":""},null,"MIN",{"$f":"N7-N9","v":{"$error":"#DIV/0!"}},{"$f":"O7-O9","v":{"$error":"#DIV/0!"}},null,null,null,{"$f":"IF(GetData!K13=\"\",\"\",GetData!K13)","v":""},{"$f":"IF(GetData!AC13=\"\",\"\",GetData!AC13)","v":""},null,"MIN",{"$f":"W7-W9","v":{"$error":"#DIV/0!"}},{"$f":"X7-X9","v":{"$error":"#DIV/0!"}},null,null,null,{"$f":"IF(GetData!L13=\"\",\"\",GetData!L13)","v":""},{"$f":"IF(GetData!AD13=\"\",\"\",GetData!AD13)","v":""},null,null,null,null,null,null,null,{"$f":"IF(GetData!M13=\"\",\"\",GetData!M13)","v":""},{"$f":"IF(GetData!AE13=\"\",\"\",GetData!AE13)","v":""}]
[{"$f":"IF(GetData!I14=\"\",\"\",GetData!I14)","v":""},{"$f":"IF(GetData!AA14=\"\",\"\",GetData!AA14)","v":""},null,null,null,null,null,null,null,{"$f":"IF(GetData!J14=\"\",\"\",GetData!J14)","v":""},{"$f":"IF(GetData!AB14=\"\",\"\",GetData!AB14)","v":""},null,null,null,null,null,null,null,{"$f":"IF(GetData!K14=\"\",\"\",GetData!K14)","v":""},{"$f":"IF(GetData!AC14=\"\",\"\",GetData!AC14)","v":""},null,null,null,null,null,null,null,{"$f":"IF(GetData!L14=\"\",\"\",GetData!L14)","v":""},{"$f":"IF(GetData!AD14=\"\",\"\",GetData!AD14)","v":""},null,null,null,null,null,null,null,{"$f":"IF(GetData!M14=\"\",\"\",GetData!M14)","v":""},{"$f":"IF(GetData!AE14=\"\",\"\",GetData!AE14)","v":""}]
[{"$f":"IF(GetData!I15=\"\",\"\",GetData!I15)","v":""},{"$f":"IF(GetData!AA15=\"\",\"\",GetData!AA15)","v":""},null,null,null,null,null,null,null,{"$f":"IF(GetData!J15=\"\",\"\",GetData!J15)","v":""},{"$f":"IF(GetData!AB15=\"\",\"\",GetData!AB15)","v":""},null,null,null,null,null,null,null,{"$f":"IF(GetData!K15=\"\",\"\",GetData!K15)","v":""},{"$f":"IF(GetData!AC15=\"\",\"\",GetData!AC15)","v":""},null,null,null,null,null,null,null,{"$f":"IF(GetData!L15=\"\",\"\",GetData!L15)","v":""},{"$f":"IF(GetData!AD15=\"\",\"\",GetData!AD15)","v":""},null,null,null,null,null,null,null,{"$f":"IF(GetData!M15=\"\",\"\",GetData!M15)","v":""},{"$f":"IF(GetData!AE15=\"\",\"\",GetData!AE15)","v":""}]
[{"$f":"IF(GetData!I16=\"\",\"\",GetData!I16)","v":""},{"$f":"IF(GetData!AA16=\"\",\"\",GetData!AA16)","v":""},null,null,null,null,null,null,null,{"$f":"IF(GetData!J16=\"\",\"\",GetData!J16)","v":""},{"$f":"IF(GetData!AB16=\"\",\"\",GetData!AB16)","v":""},null,null,null,null,null,null,null,{"$f":"IF(GetData!K16=\"\",\"\",GetData!K16)","v":""},{"$f":"IF(GetData!AC16=\"\",\"\",GetData!AC16)","v":""},null,null,null,null,null,null,null,{"$f":"IF(GetData!L16=\"\",\"\",GetData!L16)","v":""},{"$f":"IF(GetData!AD16=\"\",\"\",GetData!AD16)","v":""},null,null,null,null,null,null,null,{"$f":"IF(GetData!M16=\"\",\"\",GetData!M16)","v":""},{"$f":"IF(GetData!AE16=\"\",\"\",GetData!AE16)","v":""}]
[{"$f":"IF(GetData!I17=\"\",\"\",GetData!I17)","v":""},{"$f":"IF(GetData!AA17=\"\",\"\",GetData!AA17)","v":""},null,null,null,null,null,null,null,{"$f":"IF(GetData!J17=\"\",\"\",GetData!J17)","v":""},{"$f":"IF(GetData!AB17=\"\",\"\",GetData!AB17)","v":""},null,null,null,null,null,null,null,{"$f":"IF(GetData!K17=\"\",\"\",GetData!K17)","v":""},{"$f":"IF(GetData!AC17=\"\",\"\",GetData!AC17)","v":""},null,null,null,null,null,null,null,{"$f":"IF(GetData!L17=\"\",\"\",GetData!L17)","v":""},{"$f":"IF(GetData!AD17=\"\",\"\",GetData!AD17)","v":""},null,null,null,null,null,null,null,{"$f":"IF(GetData!M17=\"\",\"\",GetData!M17)","v":""},{"$f":"IF(GetData!AE17=\"\",\"\",GetData!AE17)","v":""}]
[{"$f":"IF(GetData!I18=\"\",\"\",GetData!I18)","v":""},{"$f":"IF(GetData!AA18=\"\",\"\",GetData!AA18)","v":""},null,null,{"$f":"E5","v":"0 01/00/1900"},{"$f":"F5","v":"0 01/00/1900"},null,null,null,{"$f":"IF(GetData!J18=\"\",\"\",GetData!J18)","v":""},{"$f":"IF(GetData!AB18=\"\",\"\",GetData!AB18)","v":""},null,null,{"$f":"N5","v":"0 01/00/1900"},{"$f":"O5","v":"0 01/00/1900"},null,null,null,{"$f":"IF(GetData!K18=\"\",\"\",GetData!K18)","v":""},{"$f":"IF(GetData!AC18=\"\",\"\",GetData!AC18)","v":""},null,null,{"$f":"W5","v":"0 01/00/1900"},{"$f":"X5","v":"0 01/00/1900"},null,null,null,{"$f":"IF(GetData!L18=\"\",\"\",GetData!L18)","v":""},{"$f":"IF(GetData!AD18=\"\",\"\",GetData!AD18)","v":""},null,null,null,null,null,null,null,{"$f":"IF(GetData!M18=\"\",\"\",GetData!M18)","v":""},{"$f":"IF(GetData!AE18=\"\",\"\",GetData!AE18)","v":""}]
[{"$f":"IF(GetData!I19=\"\",\"\",GetData!I19)","v":""},{"$f":"IF(GetData!AA19=\"\",\"\",GetData!AA19)","v":""},null,"Mean",{"$f":"E7","v":{"$error":"#DIV/0!"}},{"$f":"F7","v":{"$error":"#DIV/0!"}},{"$f":"IF(E20>F20,1,0)","v":{"$error":"#DIV/0!"}},null,null,{"$f":"IF(GetData!J19=\"\",\"\",GetData!J19)","v":""},{"$f":"IF(GetData!AB19=\"\",\"\",GetData!AB19)","v":""},null,"Mean",{"$f":"N7","v":{"$error":"#DIV/0!"}},{"$f":"O7","v":{"$error":"#DIV/0!"}},{"$f":"IF(N20>O20,1,0)","v":{"$error":"#DIV/0!"}},null,null,{"$f":"IF(GetData!K19=\"\",\"\",GetData!K19)","v":""},{"$f":"IF(GetData!AC19=\"\",\"\",GetData!AC19)","v":""},null,"Mean",{"$f":"W7","v":{"$error":"#DIV/0!"}},{"$f":"X7","v":{"$error":"#DIV/0!"}},{"$f":"IF(W20>X20,1,0)","v":{"$error":"#DIV/0!"}},null,null,{"$f":"IF(GetData!L19=\"\",\"\",GetData!L19)","v":""},{"$f":"IF(GetData!AD19=\"\",\"\",GetData!AD19)","v":""},null,null,null,null,{"$f":"IF(AF13>AG13,1,0)","v":{"$error":"#DIV/0!"}},null,null,{"$f":"IF(GetData!M19=\"\",\"\",GetData!M19)","v":""},{"$f":"IF(GetData!AE19=\"\",\"\",GetData!AE19)","v":""},null,null,null,null,{"$f":"IF(AO12>AP12,1,0)","v":{"$error":"#DIV/0!"}}]
[{"$f":"IF(GetData!I20=\"\",\"\",GetData!I20)","v":""},{"$f":"IF(GetData!AA20=\"\",\"\",GetData!AA20)","v":""},null,"MAX CI",{"$f":"MAX(E9:F9)","v":0},{"$f":"MAX(E9:F9)","v":0},null,null,null,{"$f":"IF(GetData!J20=\"\",\"\",GetData!J20)","v":""},{"$f":"IF(GetData!AB20=\"\",\"\",GetData!AB20)","v":""},null,"MAX CI",{"$f":"MAX(N9:O9)","v":{"$error":"#VALUE!"}},{"$f":"MAX(N9:O9)","v":{"$error":"#VALUE!"}},null,null,null,{"$f":"IF(GetData!K20=\"\",\"\",GetData!K20)","v":""},{"$f":"IF(GetData!AC20=\"\",\"\",GetData!AC20)","v":""},null,"MAX CI",{"$f":"MAX(W9:X9)","v":0},{"$f":"MAX(W9:X9)","v":0},null,null,null,{"$f":"IF(GetData!L20=\"\",\"\",GetData!L20)","v":""},{"$f":"IF(GetData!AD20=\"\",\"\",GetData!AD20)","v":""},null,null,null,null,null,null,null,{"$f":"IF(GetData!M20=\"\",\"\",GetData!M20)","v":""},{"$f":"IF(GetData!AE20=\"\",\"\",GetData!AE20)","v":""}]
[{"$f":"IF(GetData!I21=\"\",\"\",GetData!I21)","v":""},{"$f":"IF(GetData!AA21=\"\",\"\",GetData!AA21)","v":""},null,"MAX/MIN",{"$f":"IF(E20<F20,E20+E21,E20-E21)","v":{"$error":"#DIV/0!"}},{"$f":"IF(F20<E20,F20+F21,F20-F21)","v":{"$error":"#DIV/0!"}},{"$f":"IF(E22<F22,1,0)","v":{"$error":"#DIV/0!"}},null,null,{"$f":"IF(GetData!J21=\"\",\"\",GetData!J21)","v":""},{"$f":"IF(GetData!AB21=\"\",\"\",GetData!AB21)","v":""},null,"MAX/MIN",{"$f":"IF(N20<O20,N20+N21,N20-N21)","v":{"$error":"#DIV/0!"}},{"$f":"IF(O20<N20,O20+O21,O20-O21)","v":{"$error":"#DIV/0!"}},{"$f":"IF(N22<O22,1,0)","v":{"$error":"#DIV/0!"}},null,null,{"$f":"IF(GetData!K21=\"\",\"\",GetData!K21)","v":""},{"$f":"IF(GetData!AC21=\"\",\"\",GetData!AC21)","v":""},null,"MAX/MIN",{"$f":"IF(W20<X20,W20+W21,W20-W21)","v":{"$error":"#DIV/0!"}},{"$f":"IF(X20<W20,X20+X21,X20-X21)","v":{"$error":"#DIV/0!"}},{"$f":"IF(W22<X22,1,0)","v":{"$error":"#DIV/0!"}},null,null,{"$f":"IF(GetData!L21=\"\",\"\",GetData!L21)","v":""},{"$f":"IF(GetData!AD21=\"\",\"\",GetData!AD21)","v":""},null,null,null,null,{"$f":"IF(AF22<AG22,1,0)","v":0},null,null,{"$f":"IF(GetData!M21=\"\",\"\",GetData!M21)","v":""},{"$f":"IF(GetData!AE21=\"\",\"\",GetData!AE21)","v":""},null,null,null,null,{"$f":"IF(AO22<AP22,1,0)","v":0}]
[{"$f":"IF(GetData!I22=\"\",\"\",GetData!I22)","v":""},{"$f":"IF(GetData!AA22=\"\",\"\",GetData!AA22)","v":""},null,"                    Significantly different?",null,{"$f":"IF(SUM(G20:G22)=1,\"Y\",\"N\")","v":{"$error":"#DIV/0!"}},null,null,null,{"$f":"IF(GetData!J22=\"\",\"\",GetData!J22)","v":""},{"$f":"IF(GetData!AB22=\"\",\"\",GetData!AB22)","v":""},null,"                    Significantly different?",null,{"$f":"IF(SUM(P20:P22)=1,\"Y\",\"N\")","v":{"$error":"#DIV/0!"}},null,null,null,{"$f":"IF(GetData!K22=\"\",\"\",GetData!K22)","v":""},{"$f":"IF(GetData!AC22=\"\",\"\",GetData!AC22)","v":""},null,"                    Significantly different?",null,{"$f":"IF(SUM(Y20:Y22)=1,\"Y\",\"N\")","v":{"$error":"#DIV/0!"}},null,null,null,{"$f":"IF(GetData!L22=\"\",\"\",GetData!L22)","v":""},{"$f":"IF(GetData!AD22=\"\",\"\",GetData!AD22)","v":""},null,null,null,null,null,null,null,{"$f":"IF(GetData!M22=\"\",\"\",GetData!M22)","v":""},{"$f":"IF(GetData!AE22=\"\",\"\",GetData!AE22)","v":""}]
[{"$f":"IF(GetData!I23=\"\",\"\",GetData!I23)","v":""},{"$f":"IF(GetData!AA23=\"\",\"\",GetData!AA23)","v":""},null,null,null,null,null,null,null,{"$f":"IF(GetData!J23=\"\",\"\",GetData!J23)","v":""},{"$f":"IF(GetData!AB23=\"\",\"\",GetData!AB23)","v":""},null,null,null,null,null,null,null,{"$f":"IF(GetData!K23=\"\",\"\",GetData!K23)","v":""},{"$f":"IF(GetData!AC23=\"\",\"\",GetData!AC23)","v":""},null,null,null,null,null,null,null,{"$f":"IF(GetData!L23=\"\",\"\",GetData!L23)","v":""},{"$f":"IF(GetData!AD23=\"\",\"\",GetData!AD23)","v":""},null,null,null,null,null,null,null,{"$f":"IF(GetData!M23=\"\",\"\",GetData!M23)","v":""},{"$f":"IF(GetData!AE23=\"\",\"\",GetData!AE23)","v":""}]
[{"$f":"IF(GetData!I24=\"\",\"\",GetData!I24)","v":""},{"$f":"IF(GetData!AA24=\"\",\"\",GetData!AA24)","v":""},null,null,null,null,null,null,null,{"$f":"IF(GetData!J24=\"\",\"\",GetData!J24)","v":""},{"$f":"IF(GetData!AB24=\"\",\"\",GetData!AB24)","v":""},null,null,null,null,null,null,null,{"$f":"IF(GetData!K24=\"\",\"\",GetData!K24)","v":""},{"$f":"IF(GetData!AC24=\"\",\"\",GetData!AC24)","v":""},null,null,null,null,null,null,null,{"$f":"IF(GetData!L24=\"\",\"\",GetData!L24)","v":""},{"$f":"IF(GetData!AD24=\"\",\"\",GetData!AD24)","v":""},null,null,null,null,null,null,null,{"$f":"IF(GetData!M24=\"\",\"\",GetData!M24)","v":""},{"$f":"IF(GetData!AE24=\"\",\"\",GetData!AE24)","v":""}]
[{"$f":"IF(GetData!I25=\"\",\"\",GetData!I25)","v":""},{"$f":"IF(GetData!AA25=\"\",\"\",GetData!AA25)","v":""},null,null,null,null,null,null,null,{"$f":"IF(GetData!J25=\"\",\"\",GetData!J25)","v":""},{"$f":"IF(GetData!AB25=\"\",\"\",GetData!AB25)","v":""},null,null,null,null,null,null,null,{"$f":"IF(GetData!K25=\"\",\"\",GetData!K25)","v":""},{"$f":"IF(GetData!AC25=\"\",\"\",GetData!AC25)","v":""},null,null,null,null,null,null,null,{"$f":"IF(GetData!L25=\"\",\"\",GetData!L25)","v":""},{"$f":"IF(GetData!AD25=\"\",\"\",GetData!AD25)","v":""},null,null,null,null,null,null,null,{"$f":"IF(GetData!M25=\"\",\"\",GetData!M25)","v":""},{"$f":"IF(GetData!AE25=\"\",\"\",GetData!AE25)","v":""}]
[{"$f":"IF(GetData!I26=\"\",\"\",GetData!I26)","v":""},{"$f":"IF(GetData!AA26=\"\",\"\",GetData!AA26)","v":""},null,null,null,null,null,null,null,{"$f":"IF(GetData!J26=\"\",\"\",GetData!J26)","v":""},{"$f":"IF(GetData!AB26=\"\",\"\",GetData!AB26)","v":""},null,null,null,null,null,null,null,{"$f":"IF(GetData!K26=\"\",\"\",GetData!K26)","v":""},{"$f":"IF(GetData!AC26=\"\",\"\",GetData!AC26)","v":""},null,null,null,null,null,null,null,{"$f":"IF(GetData!L26=\"\",\"\",GetData!L26)","v":""},{"$f":"IF(GetData!AD26=\"\",\"\",GetData!AD26)","v":""},null,null,null,null,null,null,null,{"$f":"IF(GetData!M26=\"\",\"\",GetData!M26)","v":""},{"$f":"IF(GetData!AE26=\"\",\"\",GetData!AE26)","v":""}]
[{"$f":"IF(GetData!I27=\"\",\"\",GetData!I27)","v":""},{"$f":"IF(GetData!AA27=\"\",\"\",GetData!AA27)","v":""},null,null,null,null,null,null,null,{"$f":"IF(GetData!J27=\"\",\"\",GetData!J27)","v":""},{"$f":"IF(GetData!AB27=\"\",\"\",GetData!AB27)","v":""},null,null,null,null,null,null,null,{"$f":"IF(GetData!K27=\"\",\"\",GetData!K27)","v":""},{"$f":"IF(GetData!AC27=\"\",\"\",GetData!AC27)","v":""},null,null,null,null,null,null,null,{"$f":"IF(GetData!L27=\"\",\"\",GetData!L27)","v":""},{"$f":"IF(GetData!AD27=\"\",\"\",GetData!AD27)","v":""},null,null,null,null,null,null,null,{"$f":"IF(GetData!M27=\"\",\"\",GetData!M27)","v":""},{"$f":"IF(GetData!AE27=\"\",\"\",GetData!AE27)","v":""}]
[{"$f":"IF(GetData!I28=\"\",\"\",GetData!I28)","v":""},{"$f":"IF(GetData!AA28=\"\",\"\",GetData!AA28)","v":""},null,null,null,null,null,null,null,{"$f":"IF(GetData!J28=\"\",\"\",GetData!J28)","v":""},{"$f":"IF(GetData!AB28=\"\",\"\",GetData!AB28)","v":""},null,null,null,null,null,null,null,{"$f":"IF(GetData!K28=\"\",\"\",GetData!K28)","v":""},{"$f":"IF(GetData!AC28=\"\",\"\",GetData!AC28)","v":""},null,null,null,null,null,null,null,{"$f":"IF(GetData!L28=\"\",\"\",GetData!L28)","v":""},{"$f":"IF(GetData!AD28=\"\",\"\",GetData!AD28)","v":""},null,null,null,null,null,null,null,{"$f":"IF(GetData!M28=\"\",\"\",GetData!M28)","v":""},{"$f":"IF(GetData!AE28=\"\",\"\",GetData!AE28)","v":""}]
[{"$f":"IF(GetData!I29=\"\",\"\",GetData!I29)","v":""},{"$f":"IF(GetData!AA29=\"\",\"\",GetData!AA29)","v":""},null,null,null,null,null,null,null,{"$f":"IF(GetData!J29=\"\",\"\",GetData!J29)","v":""},{"$f":"IF(GetData!AB29=\"\",\"\",GetData!AB29)","v":""},null,null,null,null,null,null,null,{"$f":"IF(GetData!K29=\"\",\"\",GetData!K29)","v":""},{"$f":"IF(GetData!AC29=\"\",\"\",GetData!AC29)","v":""},null,null,null,null,null,null,null,{"$f":"IF(GetData!L29=\"\",\"\",GetData!L29)","v":""},{"$f":"IF(GetData!AD29=\"\",\"\",GetData!AD29)","v":""},null,null,null,null,null,null,null,{"$f":"IF(GetData!M29=\"\",\"\",GetData!M29)","v":""},{"$f":"IF(GetData!AE29=\"\",\"\",GetData!AE29)","v":""}]
[{"$f":"IF(GetData!I30=\"\",\"\",GetData!I30)","v":""},{"$f":"IF(GetData!AA30=\"\",\"\",GetData!AA30)","v":""},null,null,null,null,null,null,null,{"$f":"IF(GetData!J30=\"\",\"\",GetData!J30)","v":""},{"$f":"IF(GetData!AB30=\"\",\"\",GetData!AB30)","v":""},null,null,null,null,null,null,null,{"$f":"IF(GetData!K30=\"\",\"\",GetData!K30)","v":""},{"$f":"IF(GetData!AC30=\"\",\"\",GetData!AC30)","v":""},null,null,null,null,null,null,null,{"$f":"IF(GetData!L30=\"\",\"\",GetData!L30)","v":""},{"$f":"IF(GetData!AD30=\"\",\"\",GetData!AD30)","v":""},null,null,null,null,null,null,null,{"$f":"IF(GetData!M30=\"\",\"\",GetData!M30)","v":""},{"$f":"IF(GetData!AE30=\"\",\"\",GetData!AE30)","v":""}]
[{"$f":"IF(GetData!I31=\"\",\"\",GetData!I31)","v":""},{"$f":"IF(GetData!AA31=\"\",\"\",GetData!AA31)","v":""},null,null,null,null,null,null,null,{"$f":"IF(GetData!J31=\"\",\"\",GetData!J31)","v":""},{"$f":"IF(GetData!AB31=\"\",\"\",GetData!AB31)","v":""},null,null,null,null,null,null,null,{"$f":"IF(GetData!K31=\"\",\"\",GetData!K31)","v":""},{"$f":"IF(GetData!AC31=\"\",\"\",GetData!AC31)","v":""},null,null,null,null,null,null,null,{"$f":"IF(GetData!L31=\"\",\"\",GetData!L31)","v":""},{"$f":"IF(GetData!AD31=\"\",\"\",GetData!AD31)","v":""},null,null,null,null,null,null,null,{"$f":"IF(GetData!M31=\"\",\"\",GetData!M31)","v":""},{"$f":"IF(GetData!AE31=\"\",\"\",GetData!AE31)","v":""},null,null," RUN CHI SQUARE TEST"]
[{"$f":"IF(GetData!I32=\"\",\"\",GetData!I32)","v":""},{"$f":"IF(GetData!AA32=\"\",\"\",GetData!AA32)","v":""},null,null,null,null,null,null,null,{"$f":"IF(GetData!J32=\"\",\"\",GetData!J32)","v":""},{"$f":"IF(GetData!AB32=\"\",\"\",GetData!AB32)","v":""},null,null,null,null,null,null,null,{"$f":"IF(GetData!K32=\"\",\"\",GetData!K32)","v":""},{"$f":"IF(GetData!AC32=\"\",\"\",GetData!AC32)","v":""},null,null,null,null,null,null,null,{"$f":"IF(GetData!L32=\"\",\"\",GetData!L32)","v":""},{"$f":"IF(GetData!AD32=\"\",\"\",GetData!AD32)","v":""},null,null," RUN CHI SQUARE TEST",null,null,null,null,{"$f":"IF(GetData!M32=\"\",\"\",GetData!M32)","v":""},{"$f":"IF(GetData!AE32=\"\",\"\",GetData!AE32)","v":""}]
[{"$f":"IF(GetData!I33=\"\",\"\",GetData!I33)","v":""},{"$f":"IF(GetData!AA33=\"\",\"\",GetData!AA33)","v":""},null,null,null,null,null,null,null,{"$f":"IF(GetData!J33=\"\",\"\",GetData!J33)","v":""},{"$f":"IF(GetData!AB33=\"\",\"\",GetData!AB33)","v":""},null,null,null,null,null,null,null,{"$f":"IF(GetData!K33=\"\",\"\",GetData!K33)","v":""},{"$f":"IF(GetData!AC33=\"\",\"\",GetData!AC33)","v":""},null,null,null,null,null,null,null,{"$f":"IF(GetData!L33=\"\",\"\",GetData!L33)","v":""},{"$f":"IF(GetData!AD33=\"\",\"\",GetData!AD33)","v":""},null,null,null,null,null,null,null,{"$f":"IF(GetData!M33=\"\",\"\",GetData!M33)","v":""},{"$f":"IF(GetData!AE33=\"\",\"\",GetData!AE33)","v":""}]
[{"$f":"IF(GetData!I34=\"\",\"\",GetData!I34)","v":""},{"$f":"IF(GetData!AA34=\"\",\"\",GetData!AA34)","v":""},null,null,null,null,null,null,null,{"$f":"IF(GetData!J34=\"\",\"\",GetData!J34)","v":""},{"$f":"IF(GetData!AB34=\"\",\"\",GetData!AB34)","v":""},null,null,null,null,null,null,null,{"$f":"IF(GetData!K34=\"\",\"\",GetData!K34)","v":""},{"$f":"IF(GetData!AC34=\"\",\"\",GetData!AC34)","v":""},null,null,null,null,null,null,null,{"$f":"IF(GetData!L34=\"\",\"\",GetData!L34)","v":""},{"$f":"IF(GetData!AD34=\"\",\"\",GetData!AD34)","v":""},null,null,null,null,null,null,null,{"$f":"IF(GetData!M34=\"\",\"\",GetData!M34)","v":""},{"$f":"IF(GetData!AE34=\"\",\"\",GetData!AE34)","v":""}]
[{"$f":"IF(GetData!I35=\"\",\"\",GetData!I35)","v":""},{"$f":"IF(GetData!AA35=\"\",\"\",GetData!AA35)","v":""},null,null,null,null,null,null,null,{"$f":"IF(GetData!J35=\"\",\"\",GetData!J35)","v":""},{"$f":"IF(GetData!AB35=\"\",\"\",GetData!AB35)","v":""},null,null,null,null,null,null,null,{"$f":"IF(GetData!K35=\"\",\"\",GetData!K35)","v":""},{"$f":"IF(GetData!AC35=\"\",\"\",GetData!AC35)","v":""},null,null,null,null,null,null,null,{"$f":"IF(GetData!L35=\"\",\"\",GetData!L35)","v":""},{"$f":"IF(GetData!AD35=\"\",\"\",GetData!AD35)","v":""},null,null,null,null,null,null,null,{"$f":"IF(GetData!M35=\"\",\"\",GetData!M35)","v":""},{"$f":"IF(GetData!AE35=\"\",\"\",GetData!AE35)","v":""}]
[{"$f":"IF(GetData!I36=\"\",\"\",GetData!I36)","v":""},{"$f":"IF(GetData!AA36=\"\",\"\",GetData!AA36)","v":""},null,null,null,null,null,null,null,{"$f":"IF(GetData!J36=\"\",\"\",GetData!J36)","v":""},{"$f":"IF(GetData!AB36=\"\",\"\",GetData!AB36)","v":""},null,null,null,null,null,null,null,{"$f":"IF(GetData!K36=\"\",\"\",GetData!K36)","v":""},{"$f":"IF(GetData!AC36=\"\",\"\",GetData!AC36)","v":""},null,null,null,null,null,null,null,{"$f":"IF(GetData!L36=\"\",\"\",GetData!L36)","v":""},{"$f":"IF(GetData!AD36=\"\",\"\",GetData!AD36)","v":""},null,null,null,null,null,null,null,{"$f":"IF(GetData!M36=\"\",\"\",GetData!M36)","v":""},{"$f":"IF(GetData!AE36=\"\",\"\",GetData!AE36)","v":""}]
[{"$f":"IF(GetData!I37=\"\",\"\",GetData!I37)","v":""},{"$f":"IF(GetData!AA37=\"\",\"\",GetData!AA37)","v":""},null,null,null,null,null,null,null,{"$f":"IF(GetData!J37=\"\",\"\",GetData!J37)","v":""},{"$f":"IF(GetData!AB37=\"\",\"\",GetData!AB37)","v":""},null,null,null,null,null,null,null,{"$f":"IF(GetData!K37=\"\",\"\",GetData!K37)","v":""},{"$f":"IF(GetData!AC37=\"\",\"\",GetData!AC37)","v":""},null,null,null,null,null,null,null,{"$f":"IF(GetData!L37=\"\",\"\",GetData!L37)","v":""},{"$f":"IF(GetData!AD37=\"\",\"\",GetData!AD37)","v":""},null,null,null,null,null,null,null,{"$f":"IF(GetData!M37=\"\",\"\",GetData!M37)","v":""},{"$f":"IF(GetData!AE37=\"\",\"\",GetData!AE37)","v":""}]
[{"$f":"IF(GetData!I38=\"\",\"\",GetData!I38)","v":""},{"$f":"IF(GetData!AA38=\"\",\"\",GetData!AA38)","v":""},null,null,null,null,null,null,null,{"$f":"IF(GetData!J38=\"\",\"\",GetData!J38)","v":""},{"$f":"IF(GetData!AB38=\"\",\"\",GetData!AB38)","v":""},null,null,null,null,null,null,null,{"$f":"IF(GetData!K38=\"\",\"\",GetData!K38)","v":""},{"$f":"IF(GetData!AC38=\"\",\"\",GetData!AC38)","v":""},null,null,null,null,null,null,null,{"$f":"IF(GetData!L38=\"\",\"\",GetData!L38)","v":""},{"$f":"IF(GetData!AD38=\"\",\"\",GetData!AD38)","v":""},null,null,null,null,null,null,null,{"$f":"IF(GetData!M38=\"\",\"\",GetData!M38)","v":""},{"$f":"IF(GetData!AE38=\"\",\"\",GetData!AE38)","v":""}]
[{"$f":"IF(GetData!I39=\"\",\"\",GetData!I39)","v":""},{"$f":"IF(GetData!AA39=\"\",\"\",GetData!AA39)","v":""},null,null,null,null,null,null,null,{"$f":"IF(GetData!J39=\"\",\"\",GetData!J39)","v":""},{"$f":"IF(GetData!AB39=\"\",\"\",GetData!AB39)","v":""},null,null,null,null,null,null,null,{"$f":"IF(GetData!K39=\"\",\"\",GetData!K39)","v":""},{"$f":"IF(GetData!AC39=\"\",\"\",GetData!AC39)","v":""},null,null,null,null,null,null,null,{"$f":"IF(GetData!L39=\"\",\"\",GetData!L39)","v":""},{"$f":"IF(GetData!AD39=\"\",\"\",GetData!AD39)","v":""},null,null,null,null,null,null,null,{"$f":"IF(GetData!M39=\"\",\"\",GetData!M39)","v":""},{"$f":"IF(GetData!AE39=\"\",\"\",GetData!AE39)","v":""}]
[{"$f":"IF(GetData!I40=\"\",\"\",GetData!I40)","v":""},{"$f":"IF(GetData!AA40=\"\",\"\",GetData!AA40)","v":""},null,null,null,null,null,null,null,{"$f":"IF(GetData!J40=\"\",\"\",GetData!J40)","v":""},{"$f":"IF(GetData!AB40=\"\",\"\",GetData!AB40)","v":""},null,null,null,null,null,null,null,{"$f":"IF(GetData!K40=\"\",\"\",GetData!K40)","v":""},{"$f":"IF(GetData!AC40=\"\",\"\",GetData!AC40)","v":""},null,null,null,null,null,null,null,{"$f":"IF(GetData!L40=\"\",\"\",GetData!L40)","v":""},{"$f":"IF(GetData!AD40=\"\",\"\",GetData!AD40)","v":""},null,null,null,null,null,null,null,{"$f":"IF(GetData!M40=\"\",\"\",GetData!M40)","v":""},{"$f":"IF(GetData!AE40=\"\",\"\",GetData!AE40)","v":""}]
[{"$f":"IF(GetData!I41=\"\",\"\",GetData!I41)","v":""},{"$f":"IF(GetData!AA41=\"\",\"\",GetData!AA41)","v":""},null,null,null,null,null,null,null,{"$f":"IF(GetData!J41=\"\",\"\",GetData!J41)","v":""},{"$f":"IF(GetData!AB41=\"\",\"\",GetData!AB41)","v":""},null,null,null,null,null,null,null,{"$f":"IF(GetData!K41=\"\",\"\",GetData!K41)","v":""},{"$f":"IF(GetData!AC41=\"\",\"\",GetData!AC41)","v":""},null,null,null,null,null,null,null,{"$f":"IF(GetData!L41=\"\",\"\",GetData!L41)","v":""},{"$f":"IF(GetData!AD41=\"\",\"\",GetData!AD41)","v":""},null,null,null,null,null,null,null,{"$f":"IF(GetData!M41=\"\",\"\",GetData!M41)","v":""},{"$f":"IF(GetData!AE41=\"\",\"\",GetData!AE41)","v":""}]
[{"$f":"IF(GetData!I42=\"\",\"\",GetData!I42)","v":""},{"$f":"IF(GetData!AA42=\"\",\"\",GetData!AA42)","v":""},null,null,null,null,null,null,null,{"$f":"IF(GetData!J42=\"\",\"\",GetData!J42)","v":""},{"$f":"IF(GetData!AB42=\"\",\"\",GetData!AB42)","v":""},null,null,null,null,null,null,null,{"$f":"IF(GetData!K42=\"\",\"\",GetData!K42)","v":""},{"$f":"IF(GetData!AC42=\"\",\"\",GetData!AC42)","v":""},null,null,null,null,null,null,null,{"$f":"IF(GetData!L42=\"\",\"\",GetData!L42)","v":""},{"$f":"IF(GetData!AD42=\"\",\"\",GetData!AD42)","v":""},null,null,null,null,null,null,null,{"$f":"IF(GetData!M42=\"\",\"\",GetData!M42)","v":""},{"$f":"IF(GetData!AE42=\"\",\"\",GetData!AE42)","v":""}]
[{"$f":"IF(GetData!I43=\"\",\"\",GetData!I43)","v":""},{"$f":"IF(GetData!AA43=\"\",\"\",GetData!AA43)","v":""},null,null,null,null,null,null,null,{"$f":"IF(GetData!J43=\"\",\"\",GetData!J43)","v":""},{"$f":"IF(GetData!AB43=\"\",\"\",GetData!AB43)","v":""},null,null,null,null,null,null,null,{"$f":"IF(GetData!K43=\"\",\"\",GetData!K43)","v":""},{"$f":"IF(GetData!AC43=\"\",\"\",GetData!AC43)","v":""},null,null,null,null,null,null,null,{"$f":"IF(GetData!L43=\"\",\"\",GetData!L43)","v":""},{"$f":"IF(GetData!AD43=\"\",\"\",GetData!AD43)","v":""},null,null,null,null,null,null,null,{"$f":"IF(GetData!M43=\"\",\"\",GetData!M43)","v":""},{"$f":"IF(GetData!AE43=\"\",\"\",GetData!AE43)","v":""}]
[{"$f":"IF(GetData!I44=\"\",\"\",GetData!I44)","v":""},{"$f":"IF(GetData!AA44=\"\",\"\",GetData!AA44)","v":""},null,null,null,null,null,null,null,{"$f":"IF(GetData!J44=\"\",\"\",GetData!J44)","v":""},{"$f":"IF(GetData!AB44=\"\",\"\",GetData!AB44)","v":""},null,null,null,null,null,null,null,{"$f":"IF(GetData!K44=\"\",\"\",GetData!K44)","v":""},{"$f":"IF(GetData!AC44=\"\",\"\",GetData!AC44)","v":""},null,null,null,null,null,null,null,{"$f":"IF(GetData!L44=\"\",\"\",GetData!L44)","v":""},{"$f":"IF(GetData!AD44=\"\",\"\",GetData!AD44)","v":""},null,null,null,null,null,null,null,{"$f":"IF(GetData!M44=\"\",\"\",GetData!M44)","v":""},{"$f":"IF(GetData!AE44=\"\",\"\",GetData!AE44)","v":""}]
[{"$f":"IF(GetData!I45=\"\",\"\",GetData!I45)","v":""},{"$f":"IF(GetData!AA45=\"\",\"\",GetData!AA45)","v":""},null,null," RUN NORMAL PROBABILITY PLOT",null,null,null,null,{"$f":"IF(GetData!J45=\"\",\"\",GetData!J45)","v":""},{"$f":"IF(GetData!AB45=\"\",\"\",GetData!AB45)","v":""},null,null," RUN NORMAL PROBABILITY PLOT",null,null,null,null,{"$f":"IF(GetData!K45=\"\",\"\",GetData!K45)","v":""},{"$f":"IF(GetData!AC45=\"\",\"\",GetData!AC45)","v":""},null,null," RUN NORMAL PROBABILITY PLOT",null,null,null,null,{"$f":"IF(GetData!L45=\"\",\"\",GetData!L45)","v":""},{"$f":"IF(GetData!AD45=\"\",\"\",GetData!AD45)","v":""},null,null,null,null,null,null,null,{"$f":"IF(GetData!M45=\"\",\"\",GetData!M45)","v":""},{"$f":"IF(GetData!AE45=\"\",\"\",GetData!AE45)","v":""}]
[{"$f":"IF(GetData!I46=\"\",\"\",GetData!I46)","v":""},{"$f":"IF(GetData!AA46=\"\",\"\",GetData!AA46)","v":""},null,null,null,null,null,null,null,{"$f":"IF(GetData!J46=\"\",\"\",GetData!J46)","v":""},{"$f":"IF(GetData!AB46=\"\",\"\",GetData!AB46)","v":""},null,null,null,null,null,null,null,{"$f":"IF(GetData!K46=\"\",\"\",GetData!K46)","v":""},{"$f":"IF(GetData!AC46=\"\",\"\",GetData!AC46)","v":""},null,null,null,null,null,null,null,{"$f":"IF(GetData!L46=\"\",\"\",GetData!L46)","v":""},{"$f":"IF(GetData!AD46=\"\",\"\",GetData!AD46)","v":""},null,null,null,null,null,null,null,{"$f":"IF(GetData!M46=\"\",\"\",GetData!M46)","v":""},{"$f":"IF(GetData!AE46=\"\",\"\",GetData!AE46)","v":""}]
[{"$f":"IF(GetData!I47=\"\",\"\",GetData!I47)","v":""},{"$f":"IF(GetData!AA47=\"\",\"\",GetData!AA47)","v":""},null,null,null,null,null,null,null,{"$f":"IF(GetData!J47=\"\",\"\",GetData!J47)","v":""},{"$f":"IF(GetData!AB47=\"\",\"\",GetData!AB47)","v":""},null,null,null,null,null,null,null,{"$f":"IF(GetData!K47=\"\",\"\",GetData!K47)","v":""},{"$f":"IF(GetData!AC47=\"\",\"\",GetData!AC47)","v":""},null,null,null,null,null,null,null,{"$f":"IF(GetData!L47=\"\",\"\",GetData!L47)","v":""},{"$f":"IF(GetData!AD47=\"\",\"\",GetData!AD47)","v":""},null,null,null,null,null,null,null,{"$f":"IF(GetData!M47=\"\",\"\",GetData!M47)","v":""},{"$f":"IF(GetData!AE47=\"\",\"\",GetData!AE47)","v":""}]
[{"$f":"IF(GetData!I48=\"\",\"\",GetData!I48)","v":""},{"$f":"IF(GetData!AA48=\"\",\"\",GetData!AA48)","v":""},null,null,null,null,null,null,null,{"$f":"IF(GetData!J48=\"\",\"\",GetData!J48)","v":""},{"$f":"IF(GetData!AB48=\"\",\"\",GetData!AB48)","v":""},null,null,null,null,null,null,null,{"$f":"IF(GetData!K48=\"\",\"\",GetData!K48)","v":""},{"$f":"IF(GetData!AC48=\"\",\"\",GetData!AC48)","v":""},null,null,null,null,null,null,null,{"$f":"IF(GetData!L48=\"\",\"\",GetData!L48)","v":""},{"$f":"IF(GetData!AD48=\"\",\"\",GetData!AD48)","v":""},null,null,null,null,null,null,null,{"$f":"IF(GetData!M48=\"\",\"\",GetData!M48)","v":""},{"$f":"IF(GetData!AE48=\"\",\"\",GetData!AE48)","v":""}]
[{"$f":"IF(GetData!I49=\"\",\"\",GetData!I49)","v":""},{"$f":"IF(GetData!AA49=\"\",\"\",GetData!AA49)","v":""},null,null," Run Histogram",null,null,null,null,{"$f":"IF(GetData!J49=\"\",\"\",GetData!J49)","v":""},{"$f":"IF(GetData!AB49=\"\",\"\",GetData!AB49)","v":""},null,null," Run Histogram",null,null,null,null,{"$f":"IF(GetData!K49=\"\",\"\",GetData!K49)","v":""},{"$f":"IF(GetData!AC49=\"\",\"\",GetData!AC49)","v":""},null,null," Run Histogram",null,null,null,null,{"$f":"IF(GetData!L49=\"\",\"\",GetData!L49)","v":""},{"$f":"IF(GetData!AD49=\"\",\"\",GetData!AD49)","v":""},null,null,null,null,null,null,null,{"$f":"IF(GetData!M49=\"\",\"\",GetData!M49)","v":""},{"$f":"IF(GetData!AE49=\"\",\"\",GetData!AE49)","v":""}]
[{"$f":"IF(GetData!I50=\"\",\"\",GetData!I50)","v":""},{"$f":"IF(GetData!AA50=\"\",\"\",GetData!AA50)","v":""},null,null,null,null,null,null,null,{"$f":"IF(GetData!J50=\"\",\"\",GetData!J50)","v":""},{"$f":"IF(GetData!AB50=\"\",\"\",GetData!AB50)","v":""},null,null,null,null,null,null,null,{"$f":"IF(GetData!K50=\"\",\"\",GetData!K50)","v":""},{"$f":"IF(GetData!AC50=\"\",\"\",GetData!AC50)","v":""},null,null,null,null,null,null,null,{"$f":"IF(GetData!L50=\"\",\"\",GetData!L50)","v":""},{"$f":"IF(GetData!AD50=\"\",\"\",GetData!AD50)","v":""},null,null,null,null,null,null,null,{"$f":"IF(GetData!M50=\"\",\"\",GetData!M50)","v":""},{"$f":"IF(GetData!AE50=\"\",\"\",GetData!AE50)","v":""}]
[{"$f":"IF(GetData!I51=\"\",\"\",GetData!I51)","v":""},{"$f":"IF(GetData!AA51=\"\",\"\",GetData!AA51)","v":""},null,null,null,null,null,null,null,{"$f":"IF(GetData!J51=\"\",\"\",GetData!J51)","v":""},{"$f":"IF(GetData!AB51=\"\",\"\",GetData!AB51)","v":""},null,null,null,null,null,null,null,{"$f":"IF(GetData!K51=\"\",\"\",GetData!K51)","v":""},{"$f":"IF(GetData!AC51=\"\",\"\",GetData!AC51)","v":""},null,null,null,null,null,null,null,{"$f":"IF(GetData!L51=\"\",\"\",GetData!L51)","v":""},{"$f":"IF(GetData!AD51=\"\",\"\",GetData!AD51)","v":""},null,null,null,null,null,null,null,{"$f":"IF(GetData!M51=\"\",\"\",GetData!M51)","v":""},{"$f":"IF(GetData!AE51=\"\",\"\",GetData!AE51)","v":""}]
[{"$f":"IF(GetData!I52=\"\",\"\",GetData!I52)","v":""},{"$f":"IF(GetData!AA52=\"\",\"\",GetData!AA52)","v":""},null,null,null,null,null,null,null,{"$f":"IF(GetData!J52=\"\",\"\",GetData!J52)","v":""},{"$f":"IF(GetData!AB52=\"\",\"\",GetData!AB52)","v":""},null,null,null,null,null,null,null,{"$f":"IF(GetData!K52=\"\",\"\",GetData!K52)","v":""},{"$f":"IF(GetData!AC52=\"\",\"\",GetData!AC52)","v":""},null,null,null,null,null,null,null,{"$f":"IF(GetData!L52=\"\",\"\",GetData!L52)","v":""},{"$f":"IF(GetData!AD52=\"\",\"\",GetData!AD52)","v":""},null,null,null,null,null,null,null,{"$f":"IF(GetData!M52=\"\",\"\",GetData!M52)","v":""},{"$f":"IF(GetData!AE52=\"\",\"\",GetData!AE52)","v":""}]
[{"$f":"IF(GetData!I53=\"\",\"\",GetData!I53)","v":""},{"$f":"IF(GetData!AA53=\"\",\"\",GetData!AA53)","v":""},null,null," Run T-Test (if normal distribution)",null,null,null,null,{"$f":"IF(GetData!J53=\"\",\"\",GetData!J53)","v":""},{"$f":"IF(GetData!AB53=\"\",\"\",GetData!AB53)","v":""},null,null," Run T-Test (if normal distribution)",null,null,null,null,{"$f":"IF(GetData!K53=\"\",\"\",GetData!K53)","v":""},{"$f":"IF(GetData!AC53=\"\",\"\",GetData!AC53)","v":""},null,null," Run T-Test (if normal distribution)",null,null,null,null,{"$f":"IF(GetData!L53=\"\",\"\",GetData!L53)","v":""},{"$f":"IF(GetData!AD53=\"\",\"\",GetData!AD53)","v":""},null,null,null,null,null,null,null,{"$f":"IF(GetData!M53=\"\",\"\",GetData!M53)","v":""},{"$f":"IF(GetData!AE53=\"\",\"\",GetData!AE53)","v":""}]
[{"$f":"IF(GetData!I54=\"\",\"\",GetData!I54)","v":""},{"$f":"IF(GetData!AA54=\"\",\"\",GetData!AA54)","v":""},null,null,null,null,null,null,null,{"$f":"IF(GetData!J54=\"\",\"\",GetData!J54)","v":""},{"$f":"IF(GetData!AB54=\"\",\"\",GetData!AB54)","v":""},null,null,null,null,null,null,null,{"$f":"IF(GetData!K54=\"\",\"\",GetData!K54)","v":""},{"$f":"IF(GetData!AC54=\"\",\"\",GetData!AC54)","v":""},null,null,null,null,null,null,null,{"$f":"IF(GetData!L54=\"\",\"\",GetData!L54)","v":""},{"$f":"IF(GetData!AD54=\"\",\"\",GetData!AD54)","v":""},null,null,null,null,null,null,null,{"$f":"IF(GetData!M54=\"\",\"\",GetData!M54)","v":""},{"$f":"IF(GetData!AE54=\"\",\"\",GetData!AE54)","v":""}]
[{"$f":"IF(GetData!I55=\"\",\"\",GetData!I55)","v":""},{"$f":"IF(GetData!AA55=\"\",\"\",GetData!AA55)","v":""},null,null,null,null,null,null,null,{"$f":"IF(GetData!J55=\"\",\"\",GetData!J55)","v":""},{"$f":"IF(GetData!AB55=\"\",\"\",GetData!AB55)","v":""},null,null,null,null,null,null,null,{"$f":"IF(GetData!K55=\"\",\"\",GetData!K55)","v":""},{"$f":"IF(GetData!AC55=\"\",\"\",GetData!AC55)","v":""},null,null,null,null,null,null,null,{"$f":"IF(GetData!L55=\"\",\"\",GetData!L55)","v":""},{"$f":"IF(GetData!AD55=\"\",\"\",GetData!AD55)","v":""},null,null,null,null,null,null,null,{"$f":"IF(GetData!M55=\"\",\"\",GetData!M55)","v":""},{"$f":"IF(GetData!AE55=\"\",\"\",GetData!AE55)","v":""}]
[{"$f":"IF(GetData!I56=\"\",\"\",GetData!I56)","v":""},{"$f":"IF(GetData!AA56=\"\",\"\",GetData!AA56)","v":""},null,null,null,null,null,null,null,{"$f":"IF(GetData!J56=\"\",\"\",GetData!J56)","v":""},{"$f":"IF(GetData!AB56=\"\",\"\",GetData!AB56)","v":""},null,null,null,null,null,null,null,{"$f":"IF(GetData!K56=\"\",\"\",GetData!K56)","v":""},{"$f":"IF(GetData!AC56=\"\",\"\",GetData!AC56)","v":""},null,null,null,null,null,null,null,{"$f":"IF(GetData!L56=\"\",\"\",GetData!L56)","v":""},{"$f":"IF(GetData!AD56=\"\",\"\",GetData!AD56)","v":""},null,null,null,null,null,null,null,{"$f":"IF(GetData!M56=\"\",\"\",GetData!M56)","v":""},{"$f":"IF(GetData!AE56=\"\",\"\",GetData!AE56)","v":""}]
[{"$f":"IF(GetData!I57=\"\",\"\",GetData!I57)","v":""},{"$f":"IF(GetData!AA57=\"\",\"\",GetData!AA57)","v":""},null,null," Run Mann-Whitney U test (if not normal distribution)",null,null,null,null,{"$f":"IF(GetData!J57=\"\",\"\",GetData!J57)","v":""},{"$f":"IF(GetData!AB57=\"\",\"\",GetData!AB57)","v":""},null,null," Run Mann-Whitney U test (if not normal distribution)",null,null,null,null,{"$f":"IF(GetData!K57=\"\",\"\",GetData!K57)","v":""},{"$f":"IF(GetData!AC57=\"\",\"\",GetData!AC57)","v":""},null,null," Run Mann-Whitney U test (if not normal distribution)",null,null,null,null,{"$f":"IF(GetData!L57=\"\",\"\",GetData!L57)","v":""},{"$f":"IF(GetData!AD57=\"\",\"\",GetData!AD57)","v":""},null,null,null,null,null,null,null,{"$f":"IF(GetData!M57=\"\",\"\",GetData!M57)","v":""},{"$f":"IF(GetData!AE57=\"\",\"\",GetData!AE57)","v":""}]
[{"$f":"IF(GetData!I58=\"\",\"\",GetData!I58)","v":""},{"$f":"IF(GetData!AA58=\"\",\"\",GetData!AA58)","v":""},null,null,null,null,null,null,null,{"$f":"IF(GetData!J58=\"\",\"\",GetData!J58)","v":""},{"$f":"IF(GetData!AB58=\"\",\"\",GetData!AB58)","v":""},null,null,null,null,null,null,null,{"$f":"IF(GetData!K58=\"\",\"\",GetData!K58)","v":""},{"$f":"IF(GetData!AC58=\"\",\"\",GetData!AC58)","v":""},null,null,null,null,null,null,null,{"$f":"IF(GetData!L58=\"\",\"\",GetData!L58)","v":""},{"$f":"IF(GetData!AD58=\"\",\"\",GetData!AD58)","v":""},null,null,null,null,null,null,null,{"$f":"IF(GetData!M58=\"\",\"\",GetData!M58)","v":""},{"$f":"IF(GetData!AE58=\"\",\"\",GetData!AE58)","v":""}]
[{"$f":"IF(GetData!I59=\"\",\"\",GetData!I59)","v":""},{"$f":"IF(GetData!AA59=\"\",\"\",GetData!AA59)","v":""},null,null,null,null,null,null,null,{"$f":"IF(GetData!J59=\"\",\"\",GetData!J59)","v":""},{"$f":"IF(GetData!AB59=\"\",\"\",GetData!AB59)","v":""},null,null,null,null,null,null,null,{"$f":"IF(GetData!K59=\"\",\"\",GetData!K59)","v":""},{"$f":"IF(GetData!AC59=\"\",\"\",GetData!AC59)","v":""},null,null,null,null,null,null,null,{"$f":"IF(GetData!L59=\"\",\"\",GetData!L59)","v":""},{"$f":"IF(GetData!AD59=\"\",\"\",GetData!AD59)","v":""},null,null,null,null,null,null,null,{"$f":"IF(GetData!M59=\"\",\"\",GetData!M59)","v":""},{"$f":"IF(GetData!AE59=\"\",\"\",GetData!AE59)","v":""}]
[{"$f":"IF(GetData!I60=\"\",\"\",GetData!I60)","v":""},{"$f":"IF(GetData!AA60=\"\",\"\",GetData!AA60)","v":""},null,null,null,null,null,null,null,{"$f":"IF(GetData!J60=\"\",\"\",GetData!J60)","v":""},{"$f":"IF(GetData!AB60=\"\",\"\",GetData!AB60)","v":""},null,null,null,null,null,null,null,{"$f":"IF(GetData!K60=\"\",\"\",GetData!K60)","v":""},{"$f":"IF(GetData!AC60=\"\",\"\",GetData!AC60)","v":""},null,null,null,null,null,null,null,{"$f":"IF(GetData!L60=\"\",\"\",GetData!L60)","v":""},{"$f":"IF(GetData!AD60=\"\",\"\",GetData!AD60)","v":""},null,null,null,null,null,null,null,{"$f":"IF(GetData!M60=\"\",\"\",GetData!M60)","v":""},{"$f":"IF(GetData!AE60=\"\",\"\",GetData!AE60)","v":""}]
[{"$f":"IF(GetData!I61=\"\",\"\",GetData!I61)","v":""},{"$f":"IF(GetData!AA61=\"\",\"\",GetData!AA61)","v":""},null,null,null,null,null,null,null,{"$f":"IF(GetData!J61=\"\",\"\",GetData!J61)","v":""},{"$f":"IF(GetData!AB61=\"\",\"\",GetData!AB61)","v":""},null,null,null,null,null,null,null,{"$f":"IF(GetData!K61=\"\",\"\",GetData!K61)","v":""},{"$f":"IF(GetData!AC61=\"\",\"\",GetData!AC61)","v":""},null,null,null,null,null,null,null,{"$f":"IF(GetData!L61=\"\",\"\",GetData!L61)","v":""},{"$f":"IF(GetData!AD61=\"\",\"\",GetData!AD61)","v":""},null,null,null,null,null,null,null,{"$f":"IF(GetData!M61=\"\",\"\",GetData!M61)","v":""},{"$f":"IF(GetData!AE61=\"\",\"\",GetData!AE61)","v":""}]
[{"$f":"IF(GetData!I62=\"\",\"\",GetData!I62)","v":""},{"$f":"IF(GetData!AA62=\"\",\"\",GetData!AA62)","v":""},null,null,null,null,null,null,null,{"$f":"IF(GetData!J62=\"\",\"\",GetData!J62)","v":""},{"$f":"IF(GetData!AB62=\"\",\"\",GetData!AB62)","v":""},null,null,null,null,null,null,null,{"$f":"IF(GetData!K62=\"\",\"\",GetData!K62)","v":""},{"$f":"IF(GetData!AC62=\"\",\"\",GetData!AC62)","v":""},null,null,null,null,null,null,null,{"$f":"IF(GetData!L62=\"\",\"\",GetData!L62)","v":""},{"$f":"IF(GetData!AD62=\"\",\"\",GetData!AD62)","v":""},null,null,null,null,null,null,null,{"$f":"IF(GetData!M62=\"\",\"\",GetData!M62)","v":""},{"$f":"IF(GetData!AE62=\"\",\"\",GetData!AE62)","v":""}]
[{"$f":"IF(GetData!I63=\"\",\"\",GetData!I63)","v":""},{"$f":"IF(GetData!AA63=\"\",\"\",GetData!AA63)","v":""},null,null,null,null,null,null,null,{"$f":"IF(GetData!J63=\"\",\"\",GetData!J63)","v":""},{"$f":"IF(GetData!AB63=\"\",\"\",GetData!AB63)","v":""},null,null,null,null,null,null,null,{"$f":"IF(GetData!K63=\"\",\"\",GetData!K63)","v":""},{"$f":"IF(GetData!AC63=\"\",\"\",GetData!AC63)","v":""},null,null,null,null,null,null,null,{"$f":"IF(GetData!L63=\"\",\"\",GetData!L63)","v":""},{"$f":"IF(GetData!AD63=\"\",\"\",GetData!AD63)","v":""},null,null,null,null,null,null,null,{"$f":"IF(GetData!M63=\"\",\"\",GetData!M63)","v":""},{"$f":"IF(GetData!AE63=\"\",\"\",GetData!AE63)","v":""}]
[{"$f":"IF(GetData!I64=\"\",\"\",GetData!I64)","v":""},{"$f":"IF(GetData!AA64=\"\",\"\",GetData!AA64)","v":""},null,null,null,null,null,null,null,{"$f":"IF(GetData!J64=\"\",\"\",GetData!J64)","v":""},{"$f":"IF(GetData!AB64=\"\",\"\",GetData!AB64)","v":""},null,null,null,null,null,null,null,{"$f":"IF(GetData!K64=\"\",\"\",GetData!K64)","v":""},{"$f":"IF(GetData!AC64=\"\",\"\",GetData!AC64)","v":""},null,null,null,null,null,null,null,{"$f":"IF(GetData!L64=\"\",\"\",GetData!L64)","v":""},{"$f":"IF(GetData!AD64=\"\",\"\",GetData!AD64)","v":""},null,null,null,null,null,null,null,{"$f":"IF(GetData!M64=\"\",\"\",GetData!M64)","v":""},{"$f":"IF(GetData!AE64=\"\",\"\",GetData!AE64)","v":""}]
[{"$f":"IF(GetData!I65=\"\",\"\",GetData!I65)","v":""},{"$f":"IF(GetData!AA65=\"\",\"\",GetData!AA65)","v":""},null,null,null,null,null,null,null,{"$f":"IF(GetData!J65=\"\",\"\",GetData!J65)","v":""},{"$f":"IF(GetData!AB65=\"\",\"\",GetData!AB65)","v":""},null,null,null,null,null,null,null,{"$f":"IF(GetData!K65=\"\",\"\",GetData!K65)","v":""},{"$f":"IF(GetData!AC65=\"\",\"\",GetData!AC65)","v":""},null,null,null,null,null,null,null,{"$f":"IF(GetData!L65=\"\",\"\",GetData!L65)","v":""},{"$f":"IF(GetData!AD65=\"\",\"\",GetData!AD65)","v":""},null,null,null,null,null,null,null,{"$f":"IF(GetData!M65=\"\",\"\",GetData!M65)","v":""},{"$f":"IF(GetData!AE65=\"\",\"\",GetData!AE65)","v":""}]
[{"$f":"IF(GetData!I66=\"\",\"\",GetData!I66)","v":""},{"$f":"IF(GetData!AA66=\"\",\"\",GetData!AA66)","v":""},null,null,null,null,null,null,null,{"$f":"IF(GetData!J66=\"\",\"\",GetData!J66)","v":""},{"$f":"IF(GetData!AB66=\"\",\"\",GetData!AB66)","v":""},null,null,null,null,null,null,null,{"$f":"IF(GetData!K66=\"\",\"\",GetData!K66)","v":""},{"$f":"IF(GetData!AC66=\"\",\"\",GetData!AC66)","v":""},null,null,null,null,null,null,null,{"$f":"IF(GetData!L66=\"\",\"\",GetData!L66)","v":""},{"$f":"IF(GetData!AD66=\"\",\"\",GetData!AD66)","v":""},null,null,null,null,null,null,null,{"$f":"IF(GetData!M66=\"\",\"\",GetData!M66)","v":""},{"$f":"IF(GetData!AE66=\"\",\"\",GetData!AE66)","v":""}]
[{"$f":"IF(GetData!I67=\"\",\"\",GetData!I67)","v":""},{"$f":"IF(GetData!AA67=\"\",\"\",GetData!AA67)","v":""},null,null,null,null,null,null,null,{"$f":"IF(GetData!J67=\"\",\"\",GetData!J67)","v":""},{"$f":"IF(GetData!AB67=\"\",\"\",GetData!AB67)","v":""},null,null,null,null,null,null,null,{"$f":"IF(GetData!K67=\"\",\"\",GetData!K67)","v":""},{"$f":"IF(GetData!AC67=\"\",\"\",GetData!AC67)","v":""},null,null,null,null,null,null,null,{"$f":"IF(GetData!L67=\"\",\"\",GetData!L67)","v":""},{"$f":"IF(GetData!AD67=\"\",\"\",GetData!AD67)","v":""},null,null,null,null,null,null,null,{"$f":"IF(GetData!M67=\"\",\"\",GetData!M67)","v":""},{"$f":"IF(GetData!AE67=\"\",\"\",GetData!AE67)","v":""}]
[{"$f":"IF(GetData!I68=\"\",\"\",GetData!I68)","v":""},{"$f":"IF(GetData!AA68=\"\",\"\",GetData!AA68)","v":""},null,null,null,null,null,null,null,{"$f":"IF(GetData!J68=\"\",\"\",GetData!J68)","v":""},{"$f":"IF(GetData!AB68=\"\",\"\",GetData!AB68)","v":""},null,null,null,null,null,null,null,{"$f":"IF(GetData!K68=\"\",\"\",GetData!K68)","v":""},{"$f":"IF(GetData!AC68=\"\",\"\",GetData!AC68)","v":""},null,null,null,null,null,null,null,{"$f":"IF(GetData!L68=\"\",\"\",GetData!L68)","v":""},{"$f":"IF(GetData!AD68=\"\",\"\",GetData!AD68)","v":""},null,null,null,null,null,null,null,{"$f":"IF(GetData!M68=\"\",\"\",GetData!M68)","v":""},{"$f":"IF(GetData!AE68=\"\",\"\",GetData!AE68)","v":""}]
[{"$f":"IF(GetData!I69=\"\",\"\",GetData!I69)","v":""},{"$f":"IF(GetData!AA69=\"\",\"\",GetData!AA69)","v":""},null,null,null,null,null,null,null,{"$f":"IF(GetData!J69=\"\",\"\",GetData!J69)","v":""},{"$f":"IF(GetData!AB69=\"\",\"\",GetData!AB69)","v":""},null,null,null,null,null,null,null,{"$f":"IF(GetData!K69=\"\",\"\",GetData!K69)","v":""},{"$f":"IF(GetData!AC69=\"\",\"\",GetData!AC69)","v":""},null,null,null,null,null,null,null,{"$f":"IF(GetData!L69=\"\",\"\",GetData!L69)","v":""},{"$f":"IF(GetData!AD69=\"\",\"\",GetData!AD69)","v":""},null,null,null,null,null,null,null,{"$f":"IF(GetData!M69=\"\",\"\",GetData!M69)","v":""},{"$f":"IF(GetData!AE69=\"\",\"\",GetData!AE69)","v":""}]
[{"$f":"IF(GetData!I70=\"\",\"\",GetData!I70)","v":""},{"$f":"IF(GetData!AA70=\"\",\"\",GetData!AA70)","v":""},null,null,null,null,null,null,null,{"$f":"IF(GetData!J70=\"\",\"\",GetData!J70)","v":""},{"$f":"IF(GetData!AB70=\"\",\"\",GetData!AB70)","v":""},null,null,null,null,null,null,null,{"$f":"IF(GetData!K70=\"\",\"\",GetData!K70)","v":""},{"$f":"IF(GetData!AC70=\"\",\"\",GetData!AC70)","v":""},null,null,null,null,null,null,null,{"$f":"IF(GetData!L70=\"\",\"\",GetData!L70)","v":""},{"$f":"IF(GetData!AD70=\"\",\"\",GetData!AD70)","v":""},null,null,null,null,null,null,null,{"$f":"IF(GetData!M70=\"\",\"\",GetData!M70)","v":""},{"$f":"IF(GetData!AE70=\"\",\"\",GetData!AE70)","v":""}]
[{"$f":"IF(GetData!I71=\"\",\"\",GetData!I71)","v":""},{"$f":"IF(GetData!AA71=\"\",\"\",GetData!AA71)","v":""},null,null,null,null,null,null,null,{"$f":"IF(GetData!J71=\"\",\"\",GetData!J71)","v":""},{"$f":"IF(GetData!AB71=\"\",\"\",GetData!AB71)","v":""},null,null,null,null,null,null,null,{"$f":"IF(GetData!K71=\"\",\"\",GetData!K71)","v":""},{"$f":"IF(GetData!AC71=\"\",\"\",GetData!AC71)","v":""},null,null,null,null,null,null,null,{"$f":"IF(GetData!L71=\"\",\"\",GetData!L71)","v":""},{"$f":"IF(GetData!AD71=\"\",\"\",GetData!AD71)","v":""},null,null,null,null,null,null,null,{"$f":"IF(GetData!M71=\"\",\"\",GetData!M71)","v":""},{"$f":"IF(GetData!AE71=\"\",\"\",GetData!AE71)","v":""}]
[{"$f":"IF(GetData!I72=\"\",\"\",GetData!I72)","v":""},{"$f":"IF(GetData!AA72=\"\",\"\",GetData!AA72)","v":""},null,null,null,null,null,null,null,{"$f":"IF(GetData!J72=\"\",\"\",GetData!J72)","v":""},{"$f":"IF(GetData!AB72=\"\",\"\",GetData!AB72)","v":""},null,null,null,null,null,null,null,{"$f":"IF(GetData!K72=\"\",\"\",GetData!K72)","v":""},{"$f":"IF(GetData!AC72=\"\",\"\",GetData!AC72)","v":""},null,null,null,null,null,null,null,{"$f":"IF(GetData!L72=\"\",\"\",GetData!L72)","v":""},{"$f":"IF(GetData!AD72=\"\",\"\",GetData!AD72)","v":""},null,null,null,null,null,null,null,{"$f":"IF(GetData!M72=\"\",\"\",GetData!M72)","v":""},{"$f":"IF(GetData!AE72=\"\",\"\",GetData!AE72)","v":""}]
[{"$f":"IF(GetData!I73=\"\",\"\",GetData!I73)","v":""},{"$f":"IF(GetData!AA73=\"\",\"\",GetData!AA73)","v":""},null,null,null,null,null,null,null,{"$f":"IF(GetData!J73=\"\",\"\",GetData!J73)","v":""},{"$f":"IF(GetData!AB73=\"\",\"\",GetData!AB73)","v":""},null,null,null,null,null,null,null,{"$f":"IF(GetData!K73=\"\",\"\",GetData!K73)","v":""},{"$f":"IF(GetData!AC73=\"\",\"\",GetData!AC73)","v":""},null,null,null,null,null,null,null,{"$f":"IF(GetData!L73=\"\",\"\",GetData!L73)","v":""},{"$f":"IF(GetData!AD73=\"\",\"\",GetData!AD73)","v":""},null,null,null,null,null,null,null,{"$f":"IF(GetData!M73=\"\",\"\",GetData!M73)","v":""},{"$f":"IF(GetData!AE73=\"\",\"\",GetData!AE73)","v":""}]
[{"$f":"IF(GetData!I74=\"\",\"\",GetData!I74)","v":""},{"$f":"IF(GetData!AA74=\"\",\"\",GetData!AA74)","v":""},null,null,null,null,null,null,null,{"$f":"IF(GetData!J74=\"\",\"\",GetData!J74)","v":""},{"$f":"IF(GetData!AB74=\"\",\"\",GetData!AB74)","v":""},null,null,null,null,null,null,null,{"$f":"IF(GetData!K74=\"\",\"\",GetData!K74)","v":""},{"$f":"IF(GetData!AC74=\"\",\"\",GetData!AC74)","v":""},null,null,null,null,null,null,null,{"$f":"IF(GetData!L74=\"\",\"\",GetData!L74)","v":""},{"$f":"IF(GetData!AD74=\"\",\"\",GetData!AD74)","v":""},null,null,null,null,null,null,null,{"$f":"IF(GetData!M74=\"\",\"\",GetData!M74)","v":""},{"$f":"IF(GetData!AE74=\"\",\"\",GetData!AE74)","v":""}]
[{"$f":"IF(GetData!I75=\"\",\"\",GetData!I75)","v":""},{"$f":"IF(GetData!AA75=\"\",\"\",GetData!AA75)","v":""},null,null,null,null,null,null,null,{"$f":"IF(GetData!J75=\"\",\"\",GetData!J75)","v":""},{"$f":"IF(GetData!AB75=\"\",\"\",GetData!AB75)","v":""},null,null,null,null,null,null,null,{"$f":"IF(GetData!K75=\"\",\"\",GetData!K75)","v":""},{"$f":"IF(GetData!AC75=\"\",\"\",GetData!AC75)","v":""},null,null,null,null,null,null,null,{"$f":"IF(GetData!L75=\"\",\"\",GetData!L75)","v":""},{"$f":"IF(GetData!AD75=\"\",\"\",GetData!AD75)","v":""},null,null,null,null,null,null,null,{"$f":"IF(GetData!M75=\"\",\"\",GetData!M75)","v":""},{"$f":"IF(GetData!AE75=\"\",\"\",GetData!AE75)","v":""}]
[{"$f":"IF(GetData!I76=\"\",\"\",GetData!I76)","v":""},{"$f":"IF(GetData!AA76=\"\",\"\",GetData!AA76)","v":""},null,null,null,null,null,null,null,{"$f":"IF(GetData!J76=\"\",\"\",GetData!J76)","v":""},{"$f":"IF(GetData!AB76=\"\",\"\",GetData!AB76)","v":""},null,null,null,null,null,null,null,{"$f":"IF(GetData!K76=\"\",\"\",GetData!K76)","v":""},{"$f":"IF(GetData!AC76=\"\",\"\",GetData!AC76)","v":""},null,null,null,null,null,null,null,{"$f":"IF(GetData!L76=\"\",\"\",GetData!L76)","v":""},{"$f":"IF(GetData!AD76=\"\",\"\",GetData!AD76)","v":""},null,null,null,null,null,null,null,{"$f":"IF(GetData!M76=\"\",\"\",GetData!M76)","v":""},{"$f":"IF(GetData!AE76=\"\",\"\",GetData!AE76)","v":""}]
[{"$f":"IF(GetData!I77=\"\",\"\",GetData!I77)","v":""},{"$f":"IF(GetData!AA77=\"\",\"\",GetData!AA77)","v":""},null,null,null,null,null,null,null,{"$f":"IF(GetData!J77=\"\",\"\",GetData!J77)","v":""},{"$f":"IF(GetData!AB77=\"\",\"\",GetData!AB77)","v":""},null,null,null,null,null,null,null,{"$f":"IF(GetData!K77=\"\",\"\",GetData!K77)","v":""},{"$f":"IF(GetData!AC77=\"\",\"\",GetData!AC77)","v":""},null,null,null,null,null,null,null,{"$f":"IF(GetData!L77=\"\",\"\",GetData!L77)","v":""},{"$f":"IF(GetData!AD77=\"\",\"\",GetData!AD77)","v":""},null,null,null,null,null,null,null,{"$f":"IF(GetData!M77=\"\",\"\",GetData!M77)","v":""},{"$f":"IF(GetData!AE77=\"\",\"\",GetData!AE77)","v":""}]
[{"$f":"IF(GetData!I78=\"\",\"\",GetData!I78)","v":""},{"$f":"IF(GetData!AA78=\"\",\"\",GetData!AA78)","v":""},null,null,null,null,null,null,null,{"$f":"IF(GetData!J78=\"\",\"\",GetData!J78)","v":""},{"$f":"IF(GetData!AB78=\"\",\"\",GetData!AB78)","v":""},null,null,null,null,null,null,null,{"$f":"IF(GetData!K78=\"\",\"\",GetData!K78)","v":""},{"$f":"IF(GetData!AC78=\"\",\"\",GetData!AC78)","v":""},null,null,null,null,null,null,null,{"$f":"IF(GetData!L78=\"\",\"\",GetData!L78)","v":""},{"$f":"IF(GetData!AD78=\"\",\"\",GetData!AD78)","v":""},null,null,null,null,null,null,null,{"$f":"IF(GetData!M78=\"\",\"\",GetData!M78)","v":""},{"$f":"IF(GetData!AE78=\"\",\"\",GetData!AE78)","v":""}]
[{"$f":"IF(GetData!I79=\"\",\"\",GetData!I79)","v":""},{"$f":"IF(GetData!AA79=\"\",\"\",GetData!AA79)","v":""},null,null,null,null,null,null,null,{"$f":"IF(GetData!J79=\"\",\"\",GetData!J79)","v":""},{"$f":"IF(GetData!AB79=\"\",\"\",GetData!AB79)","v":""},null,null,null,null,null,null,null,{"$f":"IF(GetData!K79=\"\",\"\",GetData!K79)","v":""},{"$f":"IF(GetData!AC79=\"\",\"\",GetData!AC79)","v":""},null,null,null,null,null,null,null,{"$f":"IF(GetData!L79=\"\",\"\",GetData!L79)","v":""},{"$f":"IF(GetData!AD79=\"\",\"\",GetData!AD79)","v":""},null,null,null,null,null,null,null,{"$f":"IF(GetData!M79=\"\",\"\",GetData!M79)","v":""},{"$f":"IF(GetData!AE79=\"\",\"\",GetData!AE79)","v":""}]
[{"$f":"IF(GetData!I80=\"\",\"\",GetData!I80)","v":""},{"$f":"IF(GetData!AA80=\"\",\"\",GetData!AA80)","v":""},null,null,null,null,null,null,null,{"$f":"IF(GetData!J80=\"\",\"\",GetData!J80)","v":""},{"$f":"IF(GetData!AB80=\"\",\"\",GetData!AB80)","v":""},null,null,null,null,null,null,null,{"$f":"IF(GetData!K80=\"\",\"\",GetData!K80)","v":""},{"$f":"IF(GetData!AC80=\"\",\"\",GetData!AC80)","v":""},null,null,null,null,null,null,null,{"$f":"IF(GetData!L80=\"\",\"\",GetData!L80)","v":""},{"$f":"IF(GetData!AD80=\"\",\"\",GetData!AD80)","v":""},null,null,null,null,null,null,null,{"$f":"IF(GetData!M80=\"\",\"\",GetData!M80)","v":""},{"$f":"IF(GetData!AE80=\"\",\"\",GetData!AE80)","v":""}]
[{"$f":"IF(GetData!I81=\"\",\"\",GetData!I81)","v":""},{"$f":"IF(GetData!AA81=\"\",\"\",GetData!AA81)","v":""},null,null,null,null,null,null,null,{"$f":"IF(GetData!J81=\"\",\"\",GetData!J81)","v":""},{"$f":"IF(GetData!AB81=\"\",\"\",GetData!AB81)","v":""},null,null,null,null,null,null,null,{"$f":"IF(GetData!K81=\"\",\"\",GetData!K81)","v":""},{"$f":"IF(GetData!AC81=\"\",\"\",GetData!AC81)","v":""},null,null,null,null,null,null,null,{"$f":"IF(GetData!L81=\"\",\"\",GetData!L81)","v":""},{"$f":"IF(GetData!AD81=\"\",\"\",GetData!AD81)","v":""},null,null,null,null,null,null,null,{"$f":"IF(GetData!M81=\"\",\"\",GetData!M81)","v":""},{"$f":"IF(GetData!AE81=\"\",\"\",GetData!AE81)","v":""}]
[{"$f":"IF(GetData!I82=\"\",\"\",GetData!I82)","v":""},{"$f":"IF(GetData!AA82=\"\",\"\",GetData!AA82)","v":""},null,null,null,null,null,null,null,{"$f":"IF(GetData!J82=\"\",\"\",GetData!J82)","v":""},{"$f":"IF(GetData!AB82=\"\",\"\",GetData!AB82)","v":""},null,null,null,null,null,null,null,{"$f":"IF(GetData!K82=\"\",\"\",GetData!K82)","v":""},{"$f":"IF(GetData!AC82=\"\",\"\",GetData!AC82)","v":""},null,null,null,null,null,null,null,{"$f":"IF(GetData!L82=\"\",\"\",GetData!L82)","v":""},{"$f":"IF(GetData!AD82=\"\",\"\",GetData!AD82)","v":""},null,null,null,null,null,null,null,{"$f":"IF(GetData!M82=\"\",\"\",GetData!M82)","v":""},{"$f":"IF(GetData!AE82=\"\",\"\",GetData!AE82)","v":""}]
[{"$f":"IF(GetData!I83=\"\",\"\",GetData!I83)","v":""},{"$f":"IF(GetData!AA83=\"\",\"\",GetData!AA83)","v":""},null,null,null,null,null,null,null,{"$f":"IF(GetData!J83=\"\",\"\",GetData!J83)","v":""},{"$f":"IF(GetData!AB83=\"\",\"\",GetData!AB83)","v":""},null,null,null,null,null,null,null,{"$f":"IF(GetData!K83=\"\",\"\",GetData!K83)","v":""},{"$f":"IF(GetData!AC83=\"\",\"\",GetData!AC83)","v":""},null,null,null,null,null,null,null,{"$f":"IF(GetData!L83=\"\",\"\",GetData!L83)","v":""},{"$f":"IF(GetData!AD83=\"\",\"\",GetData!AD83)","v":""},null,null,null,null,null,null,null,{"$f":"IF(GetData!M83=\"\",\"\",GetData!M83)","v":""},{"$f":"IF(GetData!AE83=\"\",\"\",GetData!AE83)","v":""}]
[{"$f":"IF(GetData!I84=\"\",\"\",GetData!I84)","v":""},{"$f":"IF(GetData!AA84=\"\",\"\",GetData!AA84)","v":""},null,null,null,null,null,null,null,{"$f":"IF(GetData!J84=\"\",\"\",GetData!J84)","v":""},{"$f":"IF(GetData!AB84=\"\",\"\",GetData!AB84)","v":""},null,null,null,null,null,null,null,{"$f":"IF(GetData!K84=\"\",\"\",GetData!K84)","v":""},{"$f":"IF(GetData!AC84=\"\",\"\",GetData!AC84)","v":""},null,null,null,null,null,null,null,{"$f":"IF(GetData!L84=\"\",\"\",GetData!L84)","v":""},{"$f":"IF(GetData!AD84=\"\",\"\",GetData!AD84)","v":""},null,null,null,null,null,null,null,{"$f":"IF(GetData!M84=\"\",\"\",GetData!M84)","v":""},{"$f":"IF(GetData!AE84=\"\",\"\",GetData!AE84)","v":""}]
[{"$f":"IF(GetData!I85=\"\",\"\",GetData!I85)","v":""},{"$f":"IF(GetData!AA85=\"\",\"\",GetData!AA85)","v":""},null,null,null,null,null,null,null,{"$f":"IF(GetData!J85=\"\",\"\",GetData!J85)","v":""},{"$f":"IF(GetData!AB85=\"\",\"\",GetData!AB85)","v":""},null,null,null,null,null,null,null,{"$f":"IF(GetData!K85=\"\",\"\",GetData!K85)","v":""},{"$f":"IF(GetData!AC85=\"\",\"\",GetData!AC85)","v":""},null,null,null,null,null,null,null,{"$f":"IF(GetData!L85=\"\",\"\",GetData!L85)","v":""},{"$f":"IF(GetData!AD85=\"\",\"\",GetData!AD85)","v":""},null,null,null,null,null,null,null,{"$f":"IF(GetData!M85=\"\",\"\",GetData!M85)","v":""},{"$f":"IF(GetData!AE85=\"\",\"\",GetData!AE85)","v":""}]
[{"$f":"IF(GetData!I86=\"\",\"\",GetData!I86)","v":""},{"$f":"IF(GetData!AA86=\"\",\"\",GetData!AA86)","v":""},null,null,null,null,null,null,null,{"$f":"IF(GetData!J86=\"\",\"\",GetData!J86)","v":""},{"$f":"IF(GetData!AB86=\"\",\"\",GetData!AB86)","v":""},null,null,null,null,null,null,null,{"$f":"IF(GetData!K86=\"\",\"\",GetData!K86)","v":""},{"$f":"IF(GetData!AC86=\"\",\"\",GetData!AC86)","v":""},null,null,null,null,null,null,null,{"$f":"IF(GetData!L86=\"\",\"\",GetData!L86)","v":""},{"$f":"IF(GetData!AD86=\"\",\"\",GetData!AD86)","v":""},null,null,null,null,null,null,null,{"$f":"IF(GetData!M86=\"\",\"\",GetData!M86)","v":""},{"$f":"IF(GetData!AE86=\"\",\"\",GetData!AE86)","v":""}]
[{"$f":"IF(GetData!I87=\"\",\"\",GetData!I87)","v":""},{"$f":"IF(GetData!AA87=\"\",\"\",GetData!AA87)","v":""},null,null,null,null,null,null,null,{"$f":"IF(GetData!J87=\"\",\"\",GetData!J87)","v":""},{"$f":"IF(GetData!AB87=\"\",\"\",GetData!AB87)","v":""},null,null,null,null,null,null,null,{"$f":"IF(GetData!K87=\"\",\"\",GetData!K87)","v":""},{"$f":"IF(GetData!AC87=\"\",\"\",GetData!AC87)","v":""},null,null,null,null,null,null,null,null,null,null,null,null,null,null,null,null,{"$f":"IF(GetData!M87=\"\",\"\",GetData!M87)","v":""},{"$f":"IF(GetData!AE87=\"\",\"\",GetData!AE87)","v":""}]
[{"$f":"IF(GetData!I88=\"\",\"\",GetData!I88)","v":""},{"$f":"IF(GetData!AA88=\"\",\"\",GetData!AA88)","v":""},null,null,null,null,null,null,null,{"$f":"IF(GetData!J88=\"\",\"\",GetData!J88)","v":""},{"$f":"IF(GetData!AB88=\"\",\"\",GetData!AB88)","v":""},null,null,null,null,null,null,null,{"$f":"IF(GetData!K88=\"\",\"\",GetData!K88)","v":""},{"$f":"IF(GetData!AC88=\"\",\"\",GetData!AC88)","v":""},null,null,null,null,null,null,null,null,null,null,null,null,null,null,null,null,{"$f":"IF(GetData!M88=\"\",\"\",GetData!M88)","v":""},{"$f":"IF(GetData!AE88=\"\",\"\",GetData!AE88)","v":""}]
[{"$f":"IF(GetData!I89=\"\",\"\",GetData!I89)","v":""},{"$f":"IF(GetData!AA89=\"\",\"\",GetData!AA89)","v":""},null,null,null,null,null,null,null,{"$f":"IF(GetData!J89=\"\",\"\",GetData!J89)","v":""},{"$f":"IF(GetData!AB89=\"\",\"\",GetData!AB89)","v":""},null,null,null,null,null,null,null,{"$f":"IF(GetData!K89=\"\",\"\",GetData!K89)","v":""},{"$f":"IF(GetData!AC89=\"\",\"\",GetData!AC89)","v":""},null,null,null,null,null,null,null,null,null,null,null,null,null,null,null,null,{"$f":"IF(GetData!M89=\"\",\"\",GetData!M89)","v":""},{"$f":"IF(GetData!AE89=\"\",\"\",GetData!AE89)","v":""}]
[{"$f":"IF(GetData!I90=\"\",\"\",GetData!I90)","v":""},{"$f":"IF(GetData!AA90=\"\",\"\",GetData!AA90)","v":""},null,null,null,null,null,null,null,{"$f":"IF(GetData!J90=\"\",\"\",GetData!J90)","v":""},{"$f":"IF(GetData!AB90=\"\",\"\",GetData!AB90)","v":""},null,null,null,null,null,null,null,{"$f":"IF(GetData!K90=\"\",\"\",GetData!K90)","v":""},{"$f":"IF(GetData!AC90=\"\",\"\",GetData!AC90)","v":""},null,null,null,null,null,null,null,null,null,null,null,null,null,null,null,null,{"$f":"IF(GetData!M90=\"\",\"\",GetData!M90)","v":""},{"$f":"IF(GetData!AE90=\"\",\"\",GetData!AE90)","v":""}]
[{"$f":"IF(GetData!I91=\"\",\"\",GetData!I91)","v":""},{"$f":"IF(GetData!AA91=\"\",\"\",GetData!AA91)","v":""},null,null,null,null,null,null,null,{"$f":"IF(GetData!J91=\"\",\"\",GetData!J91)","v":""},{"$f":"IF(GetData!AB91=\"\",\"\",GetData!AB91)","v":""},null,null,null,null,null,null,null,{"$f":"IF(GetData!K91=\"\",\"\",GetData!K91)","v":""},{"$f":"IF(GetData!AC91=\"\",\"\",GetData!AC91)","v":""},null,null,null,null,null,null,null,null,null,null,null,null,null,null,null,null,{"$f":"IF(GetData!M91=\"\",\"\",GetData!M91)","v":""},{"$f":"IF(GetData!AE91=\"\",\"\",GetData!AE91)","v":""}]
[{"$f":"IF(GetData!I92=\"\",\"\",GetData!I92)","v":""},{"$f":"IF(GetData!AA92=\"\",\"\",GetData!AA92)","v":""},null,null,null,null,null,null,null,{"$f":"IF(GetData!J92=\"\",\"\",GetData!J92)","v":""},{"$f":"IF(GetData!AB92=\"\",\"\",GetData!AB92)","v":""},null,null,null,null,null,null,null,{"$f":"IF(GetData!K92=\"\",\"\",GetData!K92)","v":""},{"$f":"IF(GetData!AC92=\"\",\"\",GetData!AC92)","v":""},null,null,null,null,null,null,null,null,null,null,null,null,null,null,null,null,{"$f":"IF(GetData!M92=\"\",\"\",GetData!M92)","v":""},{"$f":"IF(GetData!AE92=\"\",\"\",GetData!AE92)","v":""}]
[{"$f":"IF(GetData!I93=\"\",\"\",GetData!I93)","v":""},{"$f":"IF(GetData!AA93=\"\",\"\",GetData!AA93)","v":""},null,null,null,null,null,null,null,{"$f":"IF(GetData!J93=\"\",\"\",GetData!J93)","v":""},{"$f":"IF(GetData!AB93=\"\",\"\",GetData!AB93)","v":""},null,null,null,null,null,null,null,{"$f":"IF(GetData!K93=\"\",\"\",GetData!K93)","v":""},{"$f":"IF(GetData!AC93=\"\",\"\",GetData!AC93)","v":""},null,null,null,null,null,null,null,{"$f":"IF(GetData!L93=\"\",\"\",GetData!L93)","v":""},{"$f":"IF(GetData!AD93=\"\",\"\",GetData!AD93)","v":""},null,null,null,null,null,null,null,{"$f":"IF(GetData!M93=\"\",\"\",GetData!M93)","v":""},{"$f":"IF(GetData!AE93=\"\",\"\",GetData!AE93)","v":""}]
[{"$f":"IF(GetData!I94=\"\",\"\",GetData!I94)","v":""},{"$f":"IF(GetData!AA94=\"\",\"\",GetData!AA94)","v":""},null,null,null,null,null,null,null,{"$f":"IF(GetData!J94=\"\",\"\",GetData!J94)","v":""},{"$f":"IF(GetData!AB94=\"\",\"\",GetData!AB94)","v":""},null,null,null,null,null,null,null,{"$f":"IF(GetData!K94=\"\",\"\",GetData!K94)","v":""},{"$f":"IF(GetData!AC94=\"\",\"\",GetData!AC94)","v":""},null,null,null,null,null,null,null,{"$f":"IF(GetData!L94=\"\",\"\",GetData!L94)","v":""},{"$f":"IF(GetData!AD94=\"\",\"\",GetData!AD94)","v":""},null,null,null,null,null,null,null,{"$f":"IF(GetData!M94=\"\",\"\",GetData!M94)","v":""},{"$f":"IF(GetData!AE94=\"\",\"\",GetData!AE94)","v":""}]
[{"$f":"IF(GetData!I95=\"\",\"\",GetData!I95)","v":""},{"$f":"IF(GetData!AA95=\"\",\"\",GetData!AA95)","v":""},null,null,null,null,null,null,null,{"$f":"IF(GetData!J95=\"\",\"\",GetData!J95)","v":""},{"$f":"IF(GetData!AB95=\"\",\"\",GetData!AB95)","v":""},null,null,null,null,null,null,null,{"$f":"IF(GetData!K95=\"\",\"\",GetData!K95)","v":""},{"$f":"IF(GetData!AC95=\"\",\"\",GetData!AC95)","v":""},null,null,null,null,null,null,null,{"$f":"IF(GetData!L95=\"\",\"\",GetData!L95)","v":""},{"$f":"IF(GetData!AD95=\"\",\"\",GetData!AD95)","v":""},null,null,null,null,null,null,null,{"$f":"IF(GetData!M95=\"\",\"\",GetData!M95)","v":""},{"$f":"IF(GetData!AE95=\"\",\"\",GetData!AE95)","v":""}]
[{"$f":"IF(GetData!I96=\"\",\"\",GetData!I96)","v":""},{"$f":"IF(GetData!AA96=\"\",\"\",GetData!AA96)","v":""},null,null,null,null,null,null,null,{"$f":"IF(GetData!J96=\"\",\"\",GetData!J96)","v":""},{"$f":"IF(GetData!AB96=\"\",\"\",GetData!AB96)","v":""},null,null,null,null,null,null,null,{"$f":"IF(GetData!K96=\"\",\"\",GetData!K96)","v":""},{"$f":"IF(GetData!AC96=\"\",\"\",GetData!AC96)","v":""},null,null,null,null,null,null,null,{"$f":"IF(GetData!L96=\"\",\"\",GetData!L96)","v":""},{"$f":"IF(GetData!AD96=\"\",\"\",GetData!AD96)","v":""},null,null,null,null,null,null,null,{"$f":"IF(GetData!M96=\"\",\"\",GetData!M96)","v":""},{"$f":"IF(GetData!AE96=\"\",\"\",GetData!AE96)","v":""}]
[{"$f":"IF(GetData!I97=\"\",\"\",GetData!I97)","v":""},{"$f":"IF(GetData!AA97=\"\",\"\",GetData!AA97)","v":""},null,null,null,null,null,null,null,{"$f":"IF(GetData!J97=\"\",\"\",GetData!J97)","v":""},{"$f":"IF(GetData!AB97=\"\",\"\",GetData!AB97)","v":""},null,null,null,null,null,null,null,{"$f":"IF(GetData!K97=\"\",\"\",GetData!K97)","v":""},{"$f":"IF(GetData!AC97=\"\",\"\",GetData!AC97)","v":""},null,null,null,null,null,null,null,{"$f":"IF(GetData!L97=\"\",\"\",GetData!L97)","v":""},{"$f":"IF(GetData!AD97=\"\",\"\",GetData!AD97)","v":""},null,null,null,null,null,null,null,{"$f":"IF(GetData!M97=\"\",\"\",GetData!M97)","v":""},{"$f":"IF(GetData!AE97=\"\",\"\",GetData!AE97)","v":""}]
[{"$f":"IF(GetData!I98=\"\",\"\",GetData!I98)","v":""},{"$f":"IF(GetData!AA98=\"\",\"\",GetData!AA98)","v":""},null,null,null,null,null,null,null,{"$f":"IF(GetData!J98=\"\",\"\",GetData!J98)","v":""},{"$f":"IF(GetData!AB98=\"\",\"\",GetData!AB98)","v":""},null,null,null,null,null,null,null,{"$f":"IF(GetData!K98=\"\",\"\",GetData!K98)","v":""},{"$f":"IF(GetData!AC98=\"\",\"\",GetData!AC98)","v":""},null,null,null,null,null,null,null,{"$f":"IF(GetData!L98=\"\",\"\",GetData!L98)","v":""},{"$f":"IF(GetData!AD98=\"\",\"\",GetData!AD98)","v":""},null,null,null,null,null,null,null,{"$f":"IF(GetData!M98=\"\",\"\",GetData!M98)","v":""},{"$f":"IF(GetData!AE98=\"\",\"\",GetData!AE98)","v":""}]
[{"$f":"IF(GetData!I99=\"\",\"\",GetData!I99)","v":""},{"$f":"IF(GetData!AA99=\"\",\"\",GetData!AA99)","v":""},null,null,null,null,null,null,null,{"$f":"IF(GetData!J99=\"\",\"\",GetData!J99)","v":""},{"$f":"IF(GetData!AB99=\"\",\"\",GetData!AB99)","v":""},null,null,null,null,null,null,null,{"$f":"IF(GetData!K99=\"\",\"\",GetData!K99)","v":""},{"$f":"IF(GetData!AC99=\"\",\"\",GetData!AC99)","v":""},null,null,null,null,null,null,null,{"$f":"IF(GetData!L99=\"\",\"\",GetData!L99)","v":""},{"$f":"IF(GetData!AD99=\"\",\"\",GetData!AD99)","v":""},null,null,null,null,null,null,null,{"$f":"IF(GetData!M99=\"\",\"\",GetData!M99)","v":""},{"$f":"IF(GetData!AE99=\"\",\"\",GetData!AE99)","v":""}]
[{"$f":"IF(GetData!I100=\"\",\"\",GetData!I100)","v":""},{"$f":"IF(GetData!AA100=\"\",\"\",GetData!AA100)","v":""},null,null,null,null,null,null,null,{"$f":"IF(GetData!J100=\"\",\"\",GetData!J100)","v":""},{"$f":"IF(GetData!AB100=\"\",\"\",GetData!AB100)","v":""},null,null,null,null,null,null,null,{"$f":"IF(GetData!K100=\"\",\"\",GetData!K100)","v":""},{"$f":"IF(GetData!AC100=\"\",\"\",GetData!AC100)","v":""},null,null,null,null,null,null,null,{"$f":"IF(GetData!L100=\"\",\"\",GetData!L100)","v":""},{"$f":"IF(GetData!AD100=\"\",\"\",GetData!AD100)","v":""},null,null,null,null,null,null,null,{"$f":"IF(GetData!M100=\"\",\"\",GetData!M100)","v":""},{"$f":"IF(GetData!AE100=\"\",\"\",GetData!AE100)","v":""}]
[{"$f":"IF(GetData!I101=\"\",\"\",GetData!I101)","v":""},{"$f":"IF(GetData!AA101=\"\",\"\",GetData!AA101)","v":""},null,null,null,null,null,null,null,{"$f":"IF(GetData!J101=\"\",\"\",GetData!J101)","v":""},{"$f":"IF(GetData!AB101=\"\",\"\",GetData!AB101)","v":""},null,null,null,null,null,null,null,{"$f":"IF(GetData!K101=\"\",\"\",GetData!K101)","v":""},{"$f":"IF(GetData!AC101=\"\",\"\",GetData!AC101)","v":""},null,null,null,null,null,null,null,{"$f":"IF(GetData!L101=\"\",\"\",GetData!L101)","v":""},{"$f":"IF(GetData!AD101=\"\",\"\",GetData!AD101)","v":""},null,null,null,null,null,null,null,{"$f":"IF(GetData!M101=\"\",\"\",GetData!M101)","v":""},{"$f":"IF(GetData!AE101=\"\",\"\",GetData!AE101)","v":""}]
[{"$f":"IF(GetData!I102=\"\",\"\",GetData!I102)","v":""},{"$f":"IF(GetData!AA102=\"\",\"\",GetData!AA102)","v":""},null,null,null,null,null,null,null,{"$f":"IF(GetData!J102=\"\",\"\",GetData!J102)","v":""},{"$f":"IF(GetData!AB102=\"\",\"\",GetData!AB102)","v":""},null,null,null,null,null,null,null,{"$f":"IF(GetData!K102=\"\",\"\",GetData!K102)","v":""},{"$f":"IF(GetData!AC102=\"\",\"\",GetData!AC102)","v":""},null,null,null,null,null,null,null,{"$f":"IF(GetData!L102=\"\",\"\",GetData!L102)","v":""},{"$f":"IF(GetData!AD102=\"\",\"\",GetData!AD102)","v":""},null,null,null,null,null,null,null,{"$f":"IF(GetData!M102=\"\",\"\",GetData!M102)","v":""},{"$f":"IF(GetData!AE102=\"\",\"\",GetData!AE102)","v":""}]
[{"$f":"IF(GetData!I103=\"\",\"\",GetData!I103)","v":""},{"$f":"IF(GetData!AA103=\"\",\"\",GetData!AA103)","v":""},null,null,null,null,null,null,null,{"$f":"IF(GetData!J103=\"\",\"\",GetData!J103)","v":""},{"$f":"IF(GetData!AB103=\"\",\"\",GetData!AB103)","v":""},null,null,null,null,null,null,null,{"$f":"IF(GetData!K103=\"\",\"\",GetData!K103)","v":""},{"$f":"IF(GetData!AC103=\"\",\"\",GetData!AC103)","v":""},null,null,null,null,null,null,null,{"$f":"IF(GetData!L103=\"\",\"\",GetData!L103)","v":""},{"$f":"IF(GetData!AD103=\"\",\"\",GetData!AD103)","v":""},null,null,null,null,null,null,null,{"$f":"IF(GetData!M103=\"\",\"\",GetData!M103)","v":""},{"$f":"IF(GetData!AE103=\"\",\"\",GetData!AE103)","v":""}]
[{"$f":"IF(GetData!I104=\"\",\"\",GetData!I104)","v":""},{"$f":"IF(GetData!AA104=\"\",\"\",GetData!AA104)","v":""},null,null,null,null,null,null,null,{"$f":"IF(GetData!J104=\"\",\"\",GetData!J104)","v":""},{"$f":"IF(GetData!AB104=\"\",\"\",GetData!AB104)","v":""},null,null,null,null,null,null,null,{"$f":"IF(GetData!K104=\"\",\"\",GetData!K104)","v":""},{"$f":"IF(GetData!AC104=\"\",\"\",GetData!AC104)","v":""},null,null,null,null,null,null,null,{"$f":"IF(GetData!L104=\"\",\"\",GetData!L104)","v":""},{"$f":"IF(GetData!AD104=\"\",\"\",GetData!AD104)","v":""},null,null,null,null,null,null,null,{"$f":"IF(GetData!M104=\"\",\"\",GetData!M104)","v":""},{"$f":"IF(GetData!AE104=\"\",\"\",GetData!AE104)","v":""}]
[{"$f":"IF(GetData!I105=\"\",\"\",GetData!I105)","v":""},{"$f":"IF(GetData!AA105=\"\",\"\",GetData!AA105)","v":""},null,null,null,null,null,null,null,{"$f":"IF(GetData!J105=\"\",\"\",GetData!J105)","v":""},{"$f":"IF(GetData!AB105=\"\",\"\",GetData!AB105)","v":""},null,null,null,null,null,null,null,{"$f":"IF(GetData!K105=\"\",\"\",GetData!K105)","v":""},{"$f":"IF(GetData!AC105=\"\",\"\",GetData!AC105)","v":""},null,null,null,null,null,null,null,{"$f":"IF(GetData!L105=\"\",\"\",GetData!L105)","v":""},{"$f":"IF(GetData!AD105=\"\",\"\",GetData!AD105)","v":""},null,null,null,null,null,null,null,{"$f":"IF(GetData!M105=\"\",\"\",GetData!M105)","v":""},{"$f":"IF(GetData!AE105=\"\",\"\",GetData!AE105)","v":""}]
[{"$f":"IF(GetData!I106=\"\",\"\",GetData!I106)","v":""},{"$f":"IF(GetData!AA106=\"\",\"\",GetData!AA106)","v":""},null,null,null,null,null,null,null,{"$f":"IF(GetData!J106=\"\",\"\",GetData!J106)","v":""},{"$f":"IF(GetData!AB106=\"\",\"\",GetData!AB106)","v":""},null,null,null,null,null,null,null,{"$f":"IF(GetData!K106=\"\",\"\",GetData!K106)","v":""},{"$f":"IF(GetData!AC106=\"\",\"\",GetData!AC106)","v":""},null,null,null,null,null,null,null,{"$f":"IF(GetData!L106=\"\",\"\",GetData!L106)","v":""},{"$f":"IF(GetData!AD106=\"\",\"\",GetData!AD106)","v":""},null,null,null,null,null,null,null,{"$f":"IF(GetData!M106=\"\",\"\",GetData!M106)","v":""},{"$f":"IF(GetData!AE106=\"\",\"\",GetData!AE106)","v":""}]
[{"$f":"IF(GetData!I107=\"\",\"\",GetData!I107)","v":""},{"$f":"IF(GetData!AA107=\"\",\"\",GetData!AA107)","v":""},null,null,null,null,null,null,null,{"$f":"IF(GetData!J107=\"\",\"\",GetData!J107)","v":""},{"$f":"IF(GetData!AB107=\"\",\"\",GetData!AB107)","v":""},null,null,null,null,null,null,null,{"$f":"IF(GetData!K107=\"\",\"\",GetData!K107)","v":""},{"$f":"IF(GetData!AC107=\"\",\"\",GetData!AC107)","v":""},null,null,null,null,null,null,null,{"$f":"IF(GetData!L107=\"\",\"\",GetData!L107)","v":""},{"$f":"IF(GetData!AD107=\"\",\"\",GetData!AD107)","v":""},null,null,null,null,null,null,null,{"$f":"IF(GetData!M107=\"\",\"\",GetData!M107)","v":""},{"$f":"IF(GetData!AE107=\"\",\"\",GetData!AE107)","v":""}]
[{"$f":"IF(GetData!I108=\"\",\"\",GetData!I108)","v":""},{"$f":"IF(GetData!AA108=\"\",\"\",GetData!AA108)","v":""},null,null,null,null,null,null,null,{"$f":"IF(GetData!J108=\"\",\"\",GetData!J108)","v":""},{"$f":"IF(GetData!AB108=\"\",\"\",GetData!AB108)","v":""},null,null,null,null,null,null,null,{"$f":"IF(GetData!K108=\"\",\"\",GetData!K108)","v":""},{"$f":"IF(GetData!AC108=\"\",\"\",GetData!AC108)","v":""},null,null,null,null,null,null,null,{"$f":"IF(GetData!L108=\"\",\"\",GetData!L108)","v":""},{"$f":"IF(GetData!AD108=\"\",\"\",GetData!AD108)","v":""},null,null,null,null,null,null,null,{"$f":"IF(GetData!M108=\"\",\"\",GetData!M108)","v":""},{"$f":"IF(GetData!AE108=\"\",\"\",GetData!AE108)","v":""}]
[{"$f":"IF(GetData!I109=\"\",\"\",GetData!I109)","v":""},{"$f":"IF(GetData!AA109=\"\",\"\",GetData!AA109)","v":""},null,null,null,null,null,null,null,{"$f":"IF(GetData!J109=\"\",\"\",GetData!J109)","v":""},{"$f":"IF(GetData!AB109=\"\",\"\",GetData!AB109)","v":""},null,null,null,null,null,null,null,{"$f":"IF(GetData!K109=\"\",\"\",GetData!K109)","v":""},{"$f":"IF(GetData!AC109=\"\",\"\",GetData!AC109)","v":""},null,null,null,null,null,null,null,{"$f":"IF(GetData!L109=\"\",\"\",GetData!L109)","v":""},{"$f":"IF(GetData!AD109=\"\",\"\",GetData!AD109)","v":""},null,null,null,null,null,null,null,{"$f":"IF(GetData!M109=\"\",\"\",GetData!M109)","v":""},{"$f":"IF(GetData!AE109=\"\",\"\",GetData!AE109)","v":""}]
[{"$f":"IF(GetData!I110=\"\",\"\",GetData!I110)","v":""},{"$f":"IF(GetData!AA110=\"\",\"\",GetData!AA110)","v":""},null,null,null,null,null,null,null,{"$f":"IF(GetData!J110=\"\",\"\",GetData!J110)","v":""},{"$f":"IF(GetData!AB110=\"\",\"\",GetData!AB110)","v":""},null,null,null,null,null,null,null,{"$f":"IF(GetData!K110=\"\",\"\",GetData!K110)","v":""},{"$f":"IF(GetData!AC110=\"\",\"\",GetData!AC110)","v":""},null,null,null,null,null,null,null,{"$f":"IF(GetData!L110=\"\",\"\",GetData!L110)","v":""},{"$f":"IF(GetData!AD110=\"\",\"\",GetData!AD110)","v":""},null,null,null,null,null,null,null,{"$f":"IF(GetData!M110=\"\",\"\",GetData!M110)","v":""},{"$f":"IF(GetData!AE110=\"\",\"\",GetData!AE110)","v":""}]
[{"$f":"IF(GetData!I111=\"\",\"\",GetData!I111)","v":""},{"$f":"IF(GetData!AA111=\"\",\"\",GetData!AA111)","v":""},null,null,null,null,null,null,null,{"$f":"IF(GetData!J111=\"\",\"\",GetData!J111)","v":""},{"$f":"IF(GetData!AB111=\"\",\"\",GetData!AB111)","v":""},null,null,null,null,null,null,null,{"$f":"IF(GetData!K111=\"\",\"\",GetData!K111)","v":""},{"$f":"IF(GetData!AC111=\"\",\"\",GetData!AC111)","v":""},null,null,null,null,null,null,null,{"$f":"IF(GetData!L111=\"\",\"\",GetData!L111)","v":""},{"$f":"IF(GetData!AD111=\"\",\"\",GetData!AD111)","v":""},null,null,null,null,null,null,null,{"$f":"IF(GetData!M111=\"\",\"\",GetData!M111)","v":""},{"$f":"IF(GetData!AE111=\"\",\"\",GetData!AE111)","v":""}]
[{"$f":"IF(GetData!I112=\"\",\"\",GetData!I112)","v":""},{"$f":"IF(GetData!AA112=\"\",\"\",GetData!AA112)","v":""},null,null,null,null,null,null,null,{"$f":"IF(GetData!J112=\"\",\"\",GetData!J112)","v":""},{"$f":"IF(GetData!AB112=\"\",\"\",GetData!AB112)","v":""},null,null,null,null,null,null,null,{"$f":"IF(GetData!K112=\"\",\"\",GetData!K112)","v":""},{"$f":"IF(GetData!AC112=\"\",\"\",GetData!AC112)","v":""},null,null,null,null,null,null,null,{"$f":"IF(GetData!L112=\"\",\"\",GetData!L112)","v":""},{"$f":"IF(GetData!AD112=\"\",\"\",GetData!AD112)","v":""},null,null,null,null,null,null,null,{"$f":"IF(GetData!M112=\"\",\"\",GetData!M112)","v":""},{"$f":"IF(GetData!AE112=\"\",\"\",GetData!AE112)","v":""}]
[{"$f":"IF(GetData!I113=\"\",\"\",GetData!I113)","v":""},{"$f":"IF(GetData!AA113=\"\",\"\",GetData!AA113)","v":""},null,null,null,null,null,null,null,{"$f":"IF(GetData!J113=\"\",\"\",GetData!J113)","v":""},{"$f":"IF(GetData!AB113=\"\",\"\",GetData!AB113)","v":""},null,null,null,null,null,null,null,{"$f":"IF(GetData!K113=\"\",\"\",GetData!K113)","v":""},{"$f":"IF(GetData!AC113=\"\",\"\",GetData!AC113)","v":""},null,null,null,null,null,null,null,{"$f":"IF(GetData!L113=\"\",\"\",GetData!L113)","v":""},{"$f":"IF(GetData!AD113=\"\",\"\",GetData!AD113)","v":""},null,null,null,null,null,null,null,{"$f":"IF(GetData!M113=\"\",\"\",GetData!M113)","v":""},{"$f":"IF(GetData!AE113=\"\",\"\",GetData!AE113)","v":""}]
[{"$f":"IF(GetData!I114=\"\",\"\",GetData!I114)","v":""},{"$f":"IF(GetData!AA114=\"\",\"\",GetData!AA114)","v":""},null,null,null,null,null,null,null,{"$f":"IF(GetData!J114=\"\",\"\",GetData!J114)","v":""},{"$f":"IF(GetData!AB114=\"\",\"\",GetData!AB114)","v":""},null,null,null,null,null,null,null,{"$f":"IF(GetData!K114=\"\",\"\",GetData!K114)","v":""},{"$f":"IF(GetData!AC114=\"\",\"\",GetData!AC114)","v":""},null,null,null,null,null,null,null,{"$f":"IF(GetData!L114=\"\",\"\",GetData!L114)","v":""},{"$f":"IF(GetData!AD114=\"\",\"\",GetData!AD114)","v":""},null,null,null,null,null,null,null,{"$f":"IF(GetData!M114=\"\",\"\",GetData!M114)","v":""},{"$f":"IF(GetData!AE114=\"\",\"\",GetData!AE114)","v":""}]
[{"$f":"IF(GetData!I115=\"\",\"\",GetData!I115)","v":""},{"$f":"IF(GetData!AA115=\"\",\"\",GetData!AA115)","v":""},null,null,null,null,null,null,null,{"$f":"IF(GetData!J115=\"\",\"\",GetData!J115)","v":""},{"$f":"IF(GetData!AB115=\"\",\"\",GetData!AB115)","v":""},null,null,null,null,null,null,null,{"$f":"IF(GetData!K115=\"\",\"\",GetData!K115)","v":""},{"$f":"IF(GetData!AC115=\"\",\"\",GetData!AC115)","v":""},null,null,null,null,null,null,null,{"$f":"IF(GetData!L115=\"\",\"\",GetData!L115)","v":""},{"$f":"IF(GetData!AD115=\"\",\"\",GetData!AD115)","v":""},null,null,null,null,null,null,null,{"$f":"IF(GetData!M115=\"\",\"\",GetData!M115)","v":""},{"$f":"IF(GetData!AE115=\"\",\"\",GetData!AE115)","v":""}]
[{"$f":"IF(GetData!I116=\"\",\"\",GetData!I116)","v":""},{"$f":"IF(GetData!AA116=\"\",\"\",GetData!AA116)","v":""},null,null,null,null,null,null,null,{"$f":"IF(GetData!J116=\"\",\"\",GetData!J116)","v":""},{"$f":"IF(GetData!AB116=\"\",\"\",GetData!AB116)","v":""},null,null,null,null,null,null,null,{"$f":"IF(GetData!K116=\"\",\"\",GetData!K116)","v":""},{"$f":"IF(GetData!AC116=\"\",\"\",GetData!AC116)","v":""},null,null,null,null,null,null,null,{"$f":"IF(GetData!L116=\"\",\"\",GetData!L116)","v":""},{"$f":"IF(GetData!AD116=\"\",\"\",GetData!AD116)","v":""},null,null,null,null,null,null,null,{"$f":"IF(GetData!M116=\"\",\"\",GetData!M116)","v":""},{"$f":"IF(GetData!AE116=\"\",\"\",GetData!AE116)","v":""}]
[{"$f":"IF(GetData!I117=\"\",\"\",GetData!I117)","v":""},{"$f":"IF(GetData!AA117=\"\",\"\",GetData!AA117)","v":""},null,null,null,null,null,null,null,{"$f":"IF(GetData!J117=\"\",\"\",GetData!J117)","v":""},{"$f":"IF(GetData!AB117=\"\",\"\",GetData!AB117)","v":""},null,null,null,null,null,null,null,{"$f":"IF(GetData!K117=\"\",\"\",GetData!K117)","v":""},{"$f":"IF(GetData!AC117=\"\",\"\",GetData!AC117)","v":""},null,null,null,null,null,null,null,{"$f":"IF(GetData!L117=\"\",\"\",GetData!L117)","v":""},{"$f":"IF(GetData!AD117=\"\",\"\",GetData!AD117)","v":""},null,null,null,null,null,null,null,{"$f":"IF(GetData!M117=\"\",\"\",GetData!M117)","v":""},{"$f":"IF(GetData!AE117=\"\",\"\",GetData!AE117)","v":""}]
[{"$f":"IF(GetData!I118=\"\",\"\",GetData!I118)","v":""},{"$f":"IF(GetData!AA118=\"\",\"\",GetData!AA118)","v":""},null,null,null,null,null,null,null,{"$f":"IF(GetData!J118=\"\",\"\",GetData!J118)","v":""},{"$f":"IF(GetData!AB118=\"\",\"\",GetData!AB118)","v":""},null,null,null,null,null,null,null,{"$f":"IF(GetData!K118=\"\",\"\",GetData!K118)","v":""},{"$f":"IF(GetData!AC118=\"\",\"\",GetData!AC118)","v":""},null,null,null,null,null,null,null,{"$f":"IF(GetData!L118=\"\",\"\",GetData!L118)","v":""},{"$f":"IF(GetData!AD118=\"\",\"\",GetData!AD118)","v":""},null,null,null,null,null,null,null,{"$f":"IF(GetData!M118=\"\",\"\",GetData!M118)","v":""},{"$f":"IF(GetData!AE118=\"\",\"\",GetData!AE118)","v":""}]
[{"$f":"IF(GetData!I119=\"\",\"\",GetData!I119)","v":""},{"$f":"IF(GetData!AA119=\"\",\"\",GetData!AA119)","v":""},null,null,null,null,null,null,null,{"$f":"IF(GetData!J119=\"\",\"\",GetData!J119)","v":""},{"$f":"IF(GetData!AB119=\"\",\"\",GetData!AB119)","v":""},null,null,null,null,null,null,null,{"$f":"IF(GetData!K119=\"\",\"\",GetData!K119)","v":""},{"$f":"IF(GetData!AC119=\"\",\"\",GetData!AC119)","v":""},null,null,null,null,null,null,null,{"$f":"IF(GetData!L119=\"\",\"\",GetData!L119)","v":""},{"$f":"IF(GetData!AD119=\"\",\"\",GetData!AD119)","v":""},null,null,null,null,null,null,null,{"$f":"IF(GetData!M119=\"\",\"\",GetData!M119)","v":""},{"$f":"IF(GetData!AE119=\"\",\"\",GetData!AE119)","v":""}]
[{"$f":"IF(GetData!I120=\"\",\"\",GetData!I120)","v":""},{"$f":"IF(GetData!AA120=\"\",\"\",GetData!AA120)","v":""},null,null,null,null,null,null,null,{"$f":"IF(GetData!J120=\"\",\"\",GetData!J120)","v":""},{"$f":"IF(GetData!AB120=\"\",\"\",GetData!AB120)","v":""},null,null,null,null,null,null,null,{"$f":"IF(GetData!K120=\"\",\"\",GetData!K120)","v":""},{"$f":"IF(GetData!AC120=\"\",\"\",GetData!AC120)","v":""},null,null,null,null,null,null,null,{"$f":"IF(GetData!L120=\"\",\"\",GetData!L120)","v":""},{"$f":"IF(GetData!AD120=\"\",\"\",GetData!AD120)","v":""},null,null,null,null,null,null,null,{"$f":"IF(GetData!M120=\"\",\"\",GetData!M120)","v":""},{"$f":"IF(GetData!AE120=\"\",\"\",GetData!AE120)","v":""}]
[{"$f":"IF(GetData!I121=\"\",\"\",GetData!I121)","v":""},{"$f":"IF(GetData!AA121=\"\",\"\",GetData!AA121)","v":""},null,null,null,null,null,null,null,{"$f":"IF(GetData!J121=\"\",\"\",GetData!J121)","v":""},{"$f":"IF(GetData!AB121=\"\",\"\",GetData!AB121)","v":""},null,null,null,null,null,null,null,{"$f":"IF(GetData!K121=\"\",\"\",GetData!K121)","v":""},{"$f":"IF(GetData!AC121=\"\",\"\",GetData!AC121)","v":""},null,null,null,null,null,null,null,{"$f":"IF(GetData!L121=\"\",\"\",GetData!L121)","v":""},{"$f":"IF(GetData!AD121=\"\",\"\",GetData!AD121)","v":""},null,null,null,null,null,null,null,{"$f":"IF(GetData!M121=\"\",\"\",GetData!M121)","v":""},{"$f":"IF(GetData!AE121=\"\",\"\",GetData!AE121)","v":""}]
[{"$f":"IF(GetData!I122=\"\",\"\",GetData!I122)","v":""},{"$f":"IF(GetData!AA122=\"\",\"\",GetData!AA122)","v":""},null,null,null,null,null,null,null,{"$f":"IF(GetData!J122=\"\",\"\",GetData!J122)","v":""},{"$f":"IF(GetData!AB122=\"\",\"\",GetData!AB122)","v":""},null,null,null,null,null,null,null,{"$f":"IF(GetData!K122=\"\",\"\",GetData!K122)","v":""},{"$f":"IF(GetData!AC122=\"\",\"\",GetData!AC122)","v":""},null,null,null,null,null,null,null,{"$f":"IF(GetData!L122=\"\",\"\",GetData!L122)","v":""},{"$f":"IF(GetData!AD122=\"\",\"\",GetData!AD122)","v":""},null,null,null,null,null,null,null,{"$f":"IF(GetData!M122=\"\",\"\",GetData!M122)","v":""},{"$f":"IF(GetData!AE122=\"\",\"\",GetData!AE122)","v":""}]
[{"$f":"IF(GetData!I123=\"\",\"\",GetData!I123)","v":""},{"$f":"IF(GetData!AA123=\"\",\"\",GetData!AA123)","v":""},null,null,null,null,null,null,null,{"$f":"IF(GetData!J123=\"\",\"\",GetData!J123)","v":""},{"$f":"IF(GetData!AB123=\"\",\"\",GetData!AB123)","v":""},null,null,null,null,null,null,null,{"$f":"IF(GetData!K123=\"\",\"\",GetData!K123)","v":""},{"$f":"IF(GetData!AC123=\"\",\"\",GetData!AC123)","v":""},null,null,null,null,null,null,null,{"$f":"IF(GetData!L123=\"\",\"\",GetData!L123)","v":""},{"$f":"IF(GetData!AD123=\"\",\"\",GetData!AD123)","v":""},null,null,null,null,null,null,null,{"$f":"IF(GetData!M123=\"\",\"\",GetData!M123)","v":""},{"$f":"IF(GetData!AE123=\"\",\"\",GetData!AE123)","v":""}]
[{"$f":"IF(GetData!I124=\"\",\"\",GetData!I124)","v":""},{"$f":"IF(GetData!AA124=\"\",\"\",GetData!AA124)","v":""},null,null,null,null,null,null,null,{"$f":"IF(GetData!J124=\"\",\"\",GetData!J124)","v":""},{"$f":"IF(GetData!AB124=\"\",\"\",GetData!AB124)","v":""},null,null,null,null,null,null,null,{"$f":"IF(GetData!K124=\"\",\"\",GetData!K124)","v":""},{"$f":"IF(GetData!AC124=\"\",\"\",GetData!AC124)","v":""},null,null,null,null,null,null,null,{"$f":"IF(GetData!L124=\"\",\"\",GetData!L124)","v":""},{"$f":"IF(GetData!AD124=\"\",\"\",GetData!AD124)","v":""},null,null,null,null,null,null,null,{"$f":"IF(GetData!M124=\"\",\"\",GetData!M124)","v":""},{"$f":"IF(GetData!AE124=\"\",\"\",GetData!AE124)","v":""}]
[{"$f":"IF(GetData!I125=\"\",\"\",GetData!I125)","v":""},{"$f":"IF(GetData!AA125=\"\",\"\",GetData!AA125)","v":""},null,null,null,null,null,null,null,{"$f":"IF(GetData!J125=\"\",\"\",GetData!J125)","v":""},{"$f":"IF(GetData!AB125=\"\",\"\",GetData!AB125)","v":""},null,null,null,null,null,null,null,{"$f":"IF(GetData!K125=\"\",\"\",GetData!K125)","v":""},{"$f":"IF(GetData!AC125=\"\",\"\",GetData!AC125)","v":""},null,null,null,null,null,null,null,{"$f":"IF(GetData!L125=\"\",\"\",GetData!L125)","v":""},{"$f":"IF(GetData!AD125=\"\",\"\",GetData!AD125)","v":""},null,null,null,null,null,null,null,{"$f":"IF(GetData!M125=\"\",\"\",GetData!M125)","v":""},{"$f":"IF(GetData!AE125=\"\",\"\",GetData!AE125)","v":""}]
[{"$f":"IF(GetData!I126=\"\",\"\",GetData!I126)","v":""},{"$f":"IF(GetData!AA126=\"\",\"\",GetData!AA126)","v":""},null,null,null,null,null,null,null,{"$f":"IF(GetData!J126=\"\",\"\",GetData!J126)","v":""},{"$f":"IF(GetData!AB126=\"\",\"\",GetData!AB126)","v":""},null,null,null,null,null,null,null,{"$f":"IF(GetData!K126=\"\",\"\",GetData!K126)","v":""},{"$f":"IF(GetData!AC126=\"\",\"\",GetData!AC126)","v":""},null,null,null,null,null,null,null,{"$f":"IF(GetData!L126=\"\",\"\",GetData!L126)","v":""},{"$f":"IF(GetData!AD126=\"\",\"\",GetData!AD126)","v":""},null,null,null,null,null,null,null,{"$f":"IF(GetData!M126=\"\",\"\",GetData!M126)","v":""},{"$f":"IF(GetData!AE126=\"\",\"\",GetData!AE126)","v":""}]
[{"$f":"IF(GetData!I127=\"\",\"\",GetData!I127)","v":""},{"$f":"IF(GetData!AA127=\"\",\"\",GetData!AA127)","v":""},null,null,null,null,null,null,null,{"$f":"IF(GetData!J127=\"\",\"\",GetData!J127)","v":""},{"$f":"IF(GetData!AB127=\"\",\"\",GetData!AB127)","v":""},null,null,null,null,null,null,null,{"$f":"IF(GetData!K127=\"\",\"\",GetData!K127)","v":""},{"$f":"IF(GetData!AC127=\"\",\"\",GetData!AC127)","v":""},null,null,null,null,null,null,null,{"$f":"IF(GetData!L127=\"\",\"\",GetData!L127)","v":""},{"$f":"IF(GetData!AD127=\"\",\"\",GetData!AD127)","v":""},null,null,null,null,null,null,null,{"$f":"IF(GetData!M127=\"\",\"\",GetData!M127)","v":""},{"$f":"IF(GetData!AE127=\"\",\"\",GetData!AE127)","v":""}]
[{"$f":"IF(GetData!I128=\"\",\"\",GetData!I128)","v":""},{"$f":"IF(GetData!AA128=\"\",\"\",GetData!AA128)","v":""},null,null,null,null,null,null,null,{"$f":"IF(GetData!J128=\"\",\"\",GetData!J128)","v":""},{"$f":"IF(GetData!AB128=\"\",\"\",GetData!AB128)","v":""},null,null,null,null,null,null,null,{"$f":"IF(GetData!K128=\"\",\"\",GetData!K128)","v":""},{"$f":"IF(GetData!AC128=\"\",\"\",GetData!AC128)","v":""},null,null,null,null,null,null,null,{"$f":"IF(GetData!L128=\"\",\"\",GetData!L128)","v":""},{"$f":"IF(GetData!AD128=\"\",\"\",GetData!AD128)","v":""},null,null,null,null,null,null,null,{"$f":"IF(GetData!M128=\"\",\"\",GetData!M128)","v":""},{"$f":"IF(GetData!AE128=\"\",\"\",GetData!AE128)","v":""}]
[{"$f":"IF(GetData!I129=\"\",\"\",GetData!I129)","v":""},{"$f":"IF(GetData!AA129=\"\",\"\",GetData!AA129)","v":""},null,null,null,null,null,null,null,{"$f":"IF(GetData!J129=\"\",\"\",GetData!J129)","v":""},{"$f":"IF(GetData!AB129=\"\",\"\",GetData!AB129)","v":""},null,null,null,null,null,null,null,{"$f":"IF(GetData!K129=\"\",\"\",GetData!K129)","v":""},{"$f":"IF(GetData!AC129=\"\",\"\",GetData!AC129)","v":""},null,null,null,null,null,null,null,{"$f":"IF(GetData!L129=\"\",\"\",GetData!L129)","v":""},{"$f":"IF(GetData!AD129=\"\",\"\",GetData!AD129)","v":""},null,null,null,null,null,null,null,{"$f":"IF(GetData!M129=\"\",\"\",GetData!M129)","v":""},{"$f":"IF(GetData!AE129=\"\",\"\",GetData!AE129)","v":""}]
[{"$f":"IF(GetData!I130=\"\",\"\",GetData!I130)","v":""},{"$f":"IF(GetData!AA130=\"\",\"\",GetData!AA130)","v":""},null,null,null,null,null,null,null,{"$f":"IF(GetData!J130=\"\",\"\",GetData!J130)","v":""},{"$f":"IF(GetData!AB130=\"\",\"\",GetData!AB130)","v":""},null,null,null,null,null,null,null,{"$f":"IF(GetData!K130=\"\",\"\",GetData!K130)","v":""},{"$f":"IF(GetData!AC130=\"\",\"\",GetData!AC130)","v":""},null,null,null,null,null,null,null,{"$f":"IF(GetData!L130=\"\",\"\",GetData!L130)","v":""},{"$f":"IF(GetData!AD130=\"\",\"\",GetData!AD130)","v":""},null,null,null,null,null,null,null,{"$f":"IF(GetData!M130=\"\",\"\",GetData!M130)","v":""},{"$f":"IF(GetData!AE130=\"\",\"\",GetData!AE130)","v":""}]
[{"$f":"IF(GetData!I131=\"\",\"\",GetData!I131)","v":""},{"$f":"IF(GetData!AA131=\"\",\"\",GetData!AA131)","v":""},null,null,null,null,null,null,null,{"$f":"IF(GetData!J131=\"\",\"\",GetData!J131)","v":""},{"$f":"IF(GetData!AB131=\"\",\"\",GetData!AB131)","v":""},null,null,null,null,null,null,null,{"$f":"IF(GetData!K131=\"\",\"\",GetData!K131)","v":""},{"$f":"IF(GetData!AC131=\"\",\"\",GetData!AC131)","v":""},null,null,null,null,null,null,null,{"$f":"IF(GetData!L131=\"\",\"\",GetData!L131)","v":""},{"$f":"IF(GetData!AD131=\"\",\"\",GetData!AD131)","v":""},null,null,null,null,null,null,null,{"$f":"IF(GetData!M131=\"\",\"\",GetData!M131)","v":""},{"$f":"IF(GetData!AE131=\"\",\"\",GetData!AE131)","v":""}]
[{"$f":"IF(GetData!I132=\"\",\"\",GetData!I132)","v":""},{"$f":"IF(GetData!AA132=\"\",\"\",GetData!AA132)","v":""},null,null,null,null,null,null,null,{"$f":"IF(GetData!J132=\"\",\"\",GetData!J132)","v":""},{"$f":"IF(GetData!AB132=\"\",\"\",GetData!AB132)","v":""},null,null,null,null,null,null,null,{"$f":"IF(GetData!K132=\"\",\"\",GetData!K132)","v":""},{"$f":"IF(GetData!AC132=\"\",\"\",GetData!AC132)","v":""},null,null,null,null,null,null,null,{"$f":"IF(GetData!L132=\"\",\"\",GetData!L132)","v":""},{"$f":"IF(GetData!AD132=\"\",\"\",GetData!AD132)","v":""},null,null,null,null,null,null,null,{"$f":"IF(GetData!M132=\"\",\"\",GetData!M132)","v":""},{"$f":"IF(GetData!AE132=\"\",\"\",GetData!AE132)","v":""}]
[{"$f":"IF(GetData!I133=\"\",\"\",GetData!I133)","v":""},{"$f":"IF(GetData!AA133=\"\",\"\",GetData!AA133)","v":""},null,null,null,null,null,null,null,{"$f":"IF(GetData!J133=\"\",\"\",GetData!J133)","v":""},{"$f":"IF(GetData!AB133=\"\",\"\",GetData!AB133)","v":""},null,null,null,null,null,null,null,{"$f":"IF(GetData!K133=\"\",\"\",GetData!K133)","v":""},{"$f":"IF(GetData!AC133=\"\",\"\",GetData!AC133)","v":""},null,null,null,null,null,null,null,{"$f":"IF(GetData!L133=\"\",\"\",GetData!L133)","v":""},{"$f":"IF(GetData!AD133=\"\",\"\",GetData!AD133)","v":""},null,null,null,null,null,null,null,{"$f":"IF(GetData!M133=\"\",\"\",GetData!M133)","v":""},{"$f":"IF(GetData!AE133=\"\",\"\",GetData!AE133)","v":""}]
[{"$f":"IF(GetData!I134=\"\",\"\",GetData!I134)","v":""},{"$f":"IF(GetData!AA134=\"\",\"\",GetData!AA134)","v":""},null,null,null,null,null,null,null,{"$f":"IF(GetData!J134=\"\",\"\",GetData!J134)","v":""},{"$f":"IF(GetData!AB134=\"\",\"\",GetData!AB134)","v":""},null,null,null,null,null,null,null,{"$f":"IF(GetData!K134=\"\",\"\",GetData!K134)","v":""},{"$f":"IF(GetData!AC134=\"\",\"\",GetData!AC134)","v":""},null,null,null,null,null,null,null,{"$f":"IF(GetData!L134=\"\",\"\",GetData!L134)","v":""},{"$f":"IF(GetData!AD134=\"\",\"\",GetData!AD134)","v":""},null,null,null,null,null,null,null,{"$f":"IF(GetData!M134=\"\",\"\",GetData!M134)","v":""},{"$f":"IF(GetData!AE134=\"\",\"\",GetData!AE134)","v":""}]
[{"$f":"IF(GetData!I135=\"\",\"\",GetData!I135)","v":""},{"$f":"IF(GetData!AA135=\"\",\"\",GetData!AA135)","v":""},null,null,null,null,null,null,null,{"$f":"IF(GetData!J135=\"\",\"\",GetData!J135)","v":""},{"$f":"IF(GetData!AB135=\"\",\"\",GetData!AB135)","v":""},null,null,null,null,null,null,null,{"$f":"IF(GetData!K135=\"\",\"\",GetData!K135)","v":""},{"$f":"IF(GetData!AC135=\"\",\"\",GetData!AC135)","v":""},null,null,null,null,null,null,null,{"$f":"IF(GetData!L135=\"\",\"\",GetData!L135)","v":""},{"$f":"IF(GetData!AD135=\"\",\"\",GetData!AD135)","v":""},null,null,null,null,null,null,null,{"$f":"IF(GetData!M135=\"\",\"\",GetData!M135)","v":""},{"$f":"IF(GetData!AE135=\"\",\"\",GetData!AE135)","v":""}]
[{"$f":"IF(GetData!I136=\"\",\"\",GetData!I136)","v":""},{"$f":"IF(GetData!AA136=\"\",\"\",GetData!AA136)","v":""},null,null,null,null,null,null,null,{"$f":"IF(GetData!J136=\"\",\"\",GetData!J136)","v":""},{"$f":"IF(GetData!AB136=\"\",\"\",GetData!AB136)","v":""},null,null,null,null,null,null,null,{"$f":"IF(GetData!K136=\"\",\"\",GetData!K136)","v":""},{"$f":"IF(GetData!AC136=\"\",\"\",GetData!AC136)","v":""},null,null,null,null,null,null,null,{"$f":"IF(GetData!L136=\"\",\"\",GetData!L136)","v":""},{"$f":"IF(GetData!AD136=\"\",\"\",GetData!AD136)","v":""},null,null,null,null,null,null,null,{"$f":"IF(GetData!M136=\"\",\"\",GetData!M136)","v":""},{"$f":"IF(GetData!AE136=\"\",\"\",GetData!AE136)","v":""}]
[{"$f":"IF(GetData!I137=\"\",\"\",GetData!I137)","v":""},{"$f":"IF(GetData!AA137=\"\",\"\",GetData!AA137)","v":""},null,null,null,null,null,null,null,{"$f":"IF(GetData!J137=\"\",\"\",GetData!J137)","v":""},{"$f":"IF(GetData!AB137=\"\",\"\",GetData!AB137)","v":""},null,null,null,null,null,null,null,{"$f":"IF(GetData!K137=\"\",\"\",GetData!K137)","v":""},{"$f":"IF(GetData!AC137=\"\",\"\",GetData!AC137)","v":""},null,null,null,null,null,null,null,{"$f":"IF(GetData!L137=\"\",\"\",GetData!L137)","v":""},{"$f":"IF(GetData!AD137=\"\",\"\",GetData!AD137)","v":""},null,null,null,null,null,null,null,{"$f":"IF(GetData!M137=\"\",\"\",GetData!M137)","v":""},{"$f":"IF(GetData!AE137=\"\",\"\",GetData!AE137)","v":""}]
[{"$f":"IF(GetData!I138=\"\",\"\",GetData!I138)","v":""},{"$f":"IF(GetData!AA138=\"\",\"\",GetData!AA138)","v":""},null,null,null,null,null,null,null,{"$f":"IF(GetData!J138=\"\",\"\",GetData!J138)","v":""},{"$f":"IF(GetData!AB138=\"\",\"\",GetData!AB138)","v":""},null,null,null,null,null,null,null,{"$f":"IF(GetData!K138=\"\",\"\",GetData!K138)","v":""},{"$f":"IF(GetData!AC138=\"\",\"\",GetData!AC138)","v":""},null,null,null,null,null,null,null,{"$f":"IF(GetData!L138=\"\",\"\",GetData!L138)","v":""},{"$f":"IF(GetData!AD138=\"\",\"\",GetData!AD138)","v":""},null,null,null,null,null,null,null,{"$f":"IF(GetData!M138=\"\",\"\",GetData!M138)","v":""},{"$f":"IF(GetData!AE138=\"\",\"\",GetData!AE138)","v":""}]
[{"$f":"IF(GetData!I139=\"\",\"\",GetData!I139)","v":""},{"$f":"IF(GetData!AA139=\"\",\"\",GetData!AA139)","v":""},null,null,null,null,null,null,null,{"$f":"IF(GetData!J139=\"\",\"\",GetData!J139)","v":""},{"$f":"IF(GetData!AB139=\"\",\"\",GetData!AB139)","v":""},null,null,null,null,null,null,null,{"$f":"IF(GetData!K139=\"\",\"\",GetData!K139)","v":""},{"$f":"IF(GetData!AC139=\"\",\"\",GetData!AC139)","v":""},null,null,null,null,null,null,null,{"$f":"IF(GetData!L139=\"\",\"\",GetData!L139)","v":""},{"$f":"IF(GetData!AD139=\"\",\"\",GetData!AD139)","v":""},null,null,null,null,null,null,null,{"$f":"IF(GetData!M139=\"\",\"\",GetData!M139)","v":""},{"$f":"IF(GetData!AE139=\"\",\"\",GetData!AE139)","v":""}]
[{"$f":"IF(GetData!I140=\"\",\"\",GetData!I140)","v":""},{"$f":"IF(GetData!AA140=\"\",\"\",GetData!AA140)","v":""},null,null,null,null,null,null,null,{"$f":"IF(GetData!J140=\"\",\"\",GetData!J140)","v":""},{"$f":"IF(GetData!AB140=\"\",\"\",GetData!AB140)","v":""},null,null,null,null,null,null,null,{"$f":"IF(GetData!K140=\"\",\"\",GetData!K140)","v":""},{"$f":"IF(GetData!AC140=\"\",\"\",GetData!AC140)","v":""},null,null,null,null,null,null,null,{"$f":"IF(GetData!L140=\"\",\"\",GetData!L140)","v":""},{"$f":"IF(GetData!AD140=\"\",\"\",GetData!AD140)","v":""},null,null,null,null,null,null,null,{"$f":"IF(GetData!M140=\"\",\"\",GetData!M140)","v":""},{"$f":"IF(GetData!AE140=\"\",\"\",GetData!AE140)","v":""}]
[{"$f":"IF(GetData!I141=\"\",\"\",GetData!I141)","v":""},{"$f":"IF(GetData!AA141=\"\",\"\",GetData!AA141)","v":""},null,null,null,null,null,null,null,{"$f":"IF(GetData!J141=\"\",\"\",GetData!J141)","v":""},{"$f":"IF(GetData!AB141=\"\",\"\",GetData!AB141)","v":""},null,null,null,null,null,null,null,{"$f":"IF(GetData!K141=\"\",\"\",GetData!K141)","v":""},{"$f":"IF(GetData!AC141=\"\",\"\",GetData!AC141)","v":""},null,null,null,null,null,null,null,{"$f":"IF(GetData!L141=\"\",\"\",GetData!L141)","v":""},{"$f":"IF(GetData!AD141=\"\",\"\",GetData!AD141)","v":""},null,null,null,null,null,null,null,{"$f":"IF(GetData!M141=\"\",\"\",GetData!M141)","v":""},{"$f":"IF(GetData!AE141=\"\",\"\",GetData!AE141)","v":""}]
[{"$f":"IF(GetData!I142=\"\",\"\",GetData!I142)","v":""},{"$f":"IF(GetData!AA142=\"\",\"\",GetData!AA142)","v":""},null,null,null,null,null,null,null,{"$f":"IF(GetData!J142=\"\",\"\",GetData!J142)","v":""},{"$f":"IF(GetData!AB142=\"\",\"\",GetData!AB142)","v":""},null,null,null,null,null,null,null,{"$f":"IF(GetData!K142=\"\",\"\",GetData!K142)","v":""},{"$f":"IF(GetData!AC142=\"\",\"\",GetData!AC142)","v":""},null,null,null,null,null,null,null,{"$f":"IF(GetData!L142=\"\",\"\",GetData!L142)","v":""},{"$f":"IF(GetData!AD142=\"\",\"\",GetData!AD142)","v":""},null,null,null,null,null,null,null,{"$f":"IF(GetData!M142=\"\",\"\",GetData!M142)","v":""},{"$f":"IF(GetData!AE142=\"\",\"\",GetData!AE142)","v":""}]
[{"$f":"IF(GetData!I143=\"\",\"\",GetData!I143)","v":""},{"$f":"IF(GetData!AA143=\"\",\"\",GetData!AA143)","v":""},null,null,null,null,null,null,null,{"$f":"IF(GetData!J143=\"\",\"\",GetData!J143)","v":""},{"$f":"IF(GetData!AB143=\"\",\"\",GetData!AB143)","v":""},null,null,null,null,null,null,null,{"$f":"IF(GetData!K143=\"\",\"\",GetData!K143)","v":""},{"$f":"IF(GetData!AC143=\"\",\"\",GetData!AC143)","v":""},null,null,null,null,null,null,null,{"$f":"IF(GetData!L143=\"\",\"\",GetData!L143)","v":""},{"$f":"IF(GetData!AD143=\"\",\"\",GetData!AD143)","v":""},null,null,null,null,null,null,null,{"$f":"IF(GetData!M143=\"\",\"\",GetData!M143)","v":""},{"$f":"IF(GetData!AE143=\"\",\"\",GetData!AE143)","v":""}]
[{"$f":"IF(GetData!I144=\"\",\"\",GetData!I144)","v":""},{"$f":"IF(GetData!AA144=\"\",\"\",GetData!AA144)","v":""},null,null,null,null,null,null,null,{"$f":"IF(GetData!J144=\"\",\"\",GetData!J144)","v":""},{"$f":"IF(GetData!AB144=\"\",\"\",GetData!AB144)","v":""},null,null,null,null,null,null,null,{"$f":"IF(GetData!K144=\"\",\"\",GetData!K144)","v":""},{"$f":"IF(GetData!AC144=\"\",\"\",GetData!AC144)","v":""},null,null,null,null,null,null,null,{"$f":"IF(GetData!L144=\"\",\"\",GetData!L144)","v":""},{"$f":"IF(GetData!AD144=\"\",\"\",GetData!AD144)","v":""},null,null,null,null,null,null,null,{"$f":"IF(GetData!M144=\"\",\"\",GetData!M144)","v":""},{"$f":"IF(GetData!AE144=\"\",\"\",GetData!AE144)","v":""}]
[{"$f":"IF(GetData!I145=\"\",\"\",GetData!I145)","v":""},{"$f":"IF(GetData!AA145=\"\",\"\",GetData!AA145)","v":""},null,null,null,null,null,null,null,{"$f":"IF(GetData!J145=\"\",\"\",GetData!J145)","v":""},{"$f":"IF(GetData!AB145=\"\",\"\",GetData!AB145)","v":""},null,null,null,null,null,null,null,{"$f":"IF(GetData!K145=\"\",\"\",GetData!K145)","v":""},{"$f":"IF(GetData!AC145=\"\",\"\",GetData!AC145)","v":""},null,null,null,null,null,null,null,{"$f":"IF(GetData!L145=\"\",\"\",GetData!L145)","v":""},{"$f":"IF(GetData!AD145=\"\",\"\",GetData!AD145)","v":""},null,null,null,null,null,null,null,{"$f":"IF(GetData!M145=\"\",\"\",GetData!M145)","v":""},{"$f":"IF(GetData!AE145=\"\",\"\",GetData!AE145)","v":""}]
[{"$f":"IF(GetData!I146=\"\",\"\",GetData!I146)","v":""},{"$f":"IF(GetData!AA146=\"\",\"\",GetData!AA146)","v":""},null,null,null,null,null,null,null,{"$f":"IF(GetData!J146=\"\",\"\",GetData!J146)","v":""},{"$f":"IF(GetData!AB146=\"\",\"\",GetData!AB146)","v":""},null,null,null,null,null,null,null,{"$f":"IF(GetData!K146=\"\",\"\",GetData!K146)","v":""},{"$f":"IF(GetData!AC146=\"\",\"\",GetData!AC146)","v":""},null,null,null,null,null,null,null,{"$f":"IF(GetData!L146=\"\",\"\",GetData!L146)","v":""},{"$f":"IF(GetData!AD146=\"\",\"\",GetData!AD146)","v":""},null,null,null,null,null,null,null,{"$f":"IF(GetData!M146=\"\",\"\",GetData!M146)","v":""},{"$f":"IF(GetData!AE146=\"\",\"\",GetData!AE146)","v":""}]
[{"$f":"IF(GetData!I147=\"\",\"\",GetData!I147)","v":""},{"$f":"IF(GetData!AA147=\"\",\"\",GetData!AA147)","v":""},null,null,null,null,null,null,null,{"$f":"IF(GetData!J147=\"\",\"\",GetData!J147)","v":""},{"$f":"IF(GetData!AB147=\"\",\"\",GetData!AB147)","v":""},null,null,null,null,null,null,null,{"$f":"IF(GetData!K147=\"\",\"\",GetData!K147)","v":""},{"$f":"IF(GetData!AC147=\"\",\"\",GetData!AC147)","v":""},null,null,null,null,null,null,null,{"$f":"IF(GetData!L147=\"\",\"\",GetData!L147)","v":""},{"$f":"IF(GetData!AD147=\"\",\"\",GetData!AD147)","v":""},null,null,null,null,null,null,null,{"$f":"IF(GetData!M147=\"\",\"\",GetData!M147)","v":""},{"$f":"IF(GetData!AE147=\"\",\"\",GetData!AE147)","v":""}]
[{"$f":"IF(GetData!I148=\"\",\"\",GetData!I148)","v":""},{"$f":"IF(GetData!AA148=\"\",\"\",GetData!AA148)","v":""},null,null,null,null,null,null,null,{"$f":"IF(GetData!J148=\"\",\"\",GetData!J148)","v":""},{"$f":"IF(GetData!AB148=\"\",\"\",GetData!AB148)","v":""},null,null,null,null,null,null,null,{"$f":"IF(GetData!K148=\"\",\"\",GetData!K148)","v":""},{"$f":"IF(GetData!AC148=\"\",\"\",GetData!AC148)","v":""},null,null,null,null,null,null,null,{"$f":"IF(GetData!L148=\"\",\"\",GetData!L148)","v":""},{"$f":"IF(GetData!AD148=\"\",\"\",GetData!AD148)","v":""},null,null,null,null,null,null,null,{"$f":"IF(GetData!M148=\"\",\"\",GetData!M148)","v":""},{"$f":"IF(GetData!AE148=\"\",\"\",GetData!AE148)","v":""}]
[{"$f":"IF(GetData!I149=\"\",\"\",GetData!I149)","v":""},{"$f":"IF(GetData!AA149=\"\",\"\",GetData!AA149)","v":""},null,null,null,null,null,null,null,{"$f":"IF(GetData!J149=\"\",\"\",GetData!J149)","v":""},{"$f":"IF(GetData!AB149=\"\",\"\",GetData!AB149)","v":""},null,null,null,null,null,null,null,{"$f":"IF(GetData!K149=\"\",\"\",GetData!K149)","v":""},{"$f":"IF(GetData!AC149=\"\",\"\",GetData!AC149)","v":""},null,null,null,null,null,null,null,{"$f":"IF(GetData!L149=\"\",\"\",GetData!L149)","v":""},{"$f":"IF(GetData!AD149=\"\",\"\",GetData!AD149)","v":""},null,null,null,null,null,null,null,{"$f":"IF(GetData!M149=\"\",\"\",GetData!M149)","v":""},{"$f":"IF(GetData!AE149=\"\",\"\",GetData!AE149)","v":""}]
[{"$f":"IF(GetData!I150=\"\",\"\",GetData!I150)","v":""},{"$f":"IF(GetData!AA150=\"\",\"\",GetData!AA150)","v":""},null,null,null,null,null,null,null,{"$f":"IF(GetData!J150=\"\",\"\",GetData!J150)","v":""},{"$f":"IF(GetData!AB150=\"\",\"\",GetData!AB150)","v":""},null,null,null,null,null,null,null,{"$f":"IF(GetData!K150=\"\",\"\",GetData!K150)","v":""},{"$f":"IF(GetData!AC150=\"\",\"\",GetData!AC150)","v":""},null,null,null,null,null,null,null,{"$f":"IF(GetData!L150=\"\",\"\",GetData!L150)","v":""},{"$f":"IF(GetData!AD150=\"\",\"\",GetData!AD150)","v":""},null,null,null,null,null,null,null,{"$f":"IF(GetData!M150=\"\",\"\",GetData!M150)","v":""},{"$f":"IF(GetData!AE150=\"\",\"\",GetData!AE150)","v":""}]
[{"$f":"IF(GetData!I151=\"\",\"\",GetData!I151)","v":""},{"$f":"IF(GetData!AA151=\"\",\"\",GetData!AA151)","v":""},null,null,null,null,null,null,null,{"$f":"IF(GetData!J151=\"\",\"\",GetData!J151)","v":""},{"$f":"IF(GetData!AB151=\"\",\"\",GetData!AB151)","v":""},null,null,null,null,null,null,null,{"$f":"IF(GetData!K151=\"\",\"\",GetData!K151)","v":""},{"$f":"IF(GetData!AC151=\"\",\"\",GetData!AC151)","v":""},null,null,null,null,null,null,null,{"$f":"IF(GetData!L151=\"\",\"\",GetData!L151)","v":""},{"$f":"IF(GetData!AD151=\"\",\"\",GetData!AD151)","v":""},null,null,null,null,null,null,null,{"$f":"IF(GetData!M151=\"\",\"\",GetData!M151)","v":""},{"$f":"IF(GetData!AE151=\"\",\"\",GetData!AE151)","v":""}]
[{"$f":"IF(GetData!I152=\"\",\"\",GetData!I152)","v":""},{"$f":"IF(GetData!AA152=\"\",\"\",GetData!AA152)","v":""},null,null,null,null,null,null,null,{"$f":"IF(GetData!J152=\"\",\"\",GetData!J152)","v":""},{"$f":"IF(GetData!AB152=\"\",\"\",GetData!AB152)","v":""},null,null,null,null,null,null,null,{"$f":"IF(GetData!K152=\"\",\"\",GetData!K152)","v":""},{"$f":"IF(GetData!AC152=\"\",\"\",GetData!AC152)","v":""},null,null,null,null,null,null,null,{"$f":"IF(GetData!L152=\"\",\"\",GetData!L152)","v":""},{"$f":"IF(GetData!AD152=\"\",\"\",GetData!AD152)","v":""},null,null,null,null,null,null,null,{"$f":"IF(GetData!M152=\"\",\"\",GetData!M152)","v":""},{"$f":"IF(GetData!AE152=\"\",\"\",GetData!AE152)","v":""}]
[{"$f":"IF(GetData!I153=\"\",\"\",GetData!I153)","v":""},{"$f":"IF(GetData!AA153=\"\",\"\",GetData!AA153)","v":""},null,null,null,null,null,null,null,{"$f":"IF(GetData!J153=\"\",\"\",GetData!J153)","v":""},{"$f":"IF(GetData!AB153=\"\",\"\",GetData!AB153)","v":""},null,null,null,null,null,null,null,{"$f":"IF(GetData!K153=\"\",\"\",GetData!K153)","v":""},{"$f":"IF(GetData!AC153=\"\",\"\",GetData!AC153)","v":""},null,null,null,null,null,null,null,{"$f":"IF(GetData!L153=\"\",\"\",GetData!L153)","v":""},{"$f":"IF(GetData!AD153=\"\",\"\",GetData!AD153)","v":""},null,null,null,null,null,null,null,{"$f":"IF(GetData!M153=\"\",\"\",GetData!M153)","v":""},{"$f":"IF(GetData!AE153=\"\",\"\",GetData!AE153)","v":""}]
[{"$f":"IF(GetData!I154=\"\",\"\",GetData!I154)","v":""},{"$f":"IF(GetData!AA154=\"\",\"\",GetData!AA154)","v":""},null,null,null,null,null,null,null,{"$f":"IF(GetData!J154=\"\",\"\",GetData!J154)","v":""},{"$f":"IF(GetData!AB154=\"\",\"\",GetData!AB154)","v":""},null,null,null,null,null,null,null,{"$f":"IF(GetData!K154=\"\",\"\",GetData!K154)","v":""},{"$f":"IF(GetData!AC154=\"\",\"\",GetData!AC154)","v":""},null,null,null,null,null,null,null,{"$f":"IF(GetData!L154=\"\",\"\",GetData!L154)","v":""},{"$f":"IF(GetData!AD154=\"\",\"\",GetData!AD154)","v":""},null,null,null,null,null,null,null,{"$f":"IF(GetData!M154=\"\",\"\",GetData!M154)","v":""},{"$f":"IF(GetData!AE154=\"\",\"\",GetData!AE154)","v":""}]
[{"$f":"IF(GetData!I155=\"\",\"\",GetData!I155)","v":""},{"$f":"IF(GetData!AA155=\"\",\"\",GetData!AA155)","v":""},null,null,null,null,null,null,null,{"$f":"IF(GetData!J155=\"\",\"\",GetData!J155)","v":""},{"$f":"IF(GetData!AB155=\"\",\"\",GetData!AB155)","v":""},null,null,null,null,null,null,null,{"$f":"IF(GetData!K155=\"\",\"\",GetData!K155)","v":""},{"$f":"IF(GetData!AC155=\"\",\"\",GetData!AC155)","v":""},null,null,null,null,null,null,null,{"$f":"IF(GetData!L155=\"\",\"\",GetData!L155)","v":""},{"$f":"IF(GetData!AD155=\"\",\"\",GetData!AD155)","v":""},null,null,null,null,null,null,null,{"$f":"IF(GetData!M155=\"\",\"\",GetData!M155)","v":""},{"$f":"IF(GetData!AE155=\"\",\"\",GetData!AE155)","v":""}]
[{"$f":"IF(GetData!I156=\"\",\"\",GetData!I156)","v":""},{"$f":"IF(GetData!AA156=\"\",\"\",GetData!AA156)","v":""},null,null,null,null,null,null,null,{"$f":"IF(GetData!J156=\"\",\"\",GetData!J156)","v":""},{"$f":"IF(GetData!AB156=\"\",\"\",GetData!AB156)","v":""},null,null,null,null,null,null,null,{"$f":"IF(GetData!K156=\"\",\"\",GetData!K156)","v":""},{"$f":"IF(GetData!AC156=\"\",\"\",GetData!AC156)","v":""},null,null,null,null,null,null,null,{"$f":"IF(GetData!L156=\"\",\"\",GetData!L156)","v":""},{"$f":"IF(GetData!AD156=\"\",\"\",GetData!AD156)","v":""},null,null,null,null,null,null,null,{"$f":"IF(GetData!M156=\"\",\"\",GetData!M156)","v":""},{"$f":"IF(GetData!AE156=\"\",\"\",GetData!AE156)","v":""}]
[{"$f":"IF(GetData!I157=\"\",\"\",GetData!I157)","v":""},{"$f":"IF(GetData!AA157=\"\",\"\",GetData!AA157)","v":""},null,null,null,null,null,null,null,{"$f":"IF(GetData!J157=\"\",\"\",GetData!J157)","v":""},{"$f":"IF(GetData!AB157=\"\",\"\",GetData!AB157)","v":""},null,null,null,null,null,null,null,{"$f":"IF(GetData!K157=\"\",\"\",GetData!K157)","v":""},{"$f":"IF(GetData!AC157=\"\",\"\",GetData!AC157)","v":""},null,null,null,null,null,null,null,{"$f":"IF(GetData!L157=\"\",\"\",GetData!L157)","v":""},{"$f":"IF(GetData!AD157=\"\",\"\",GetData!AD157)","v":""},null,null,null,null,null,null,null,{"$f":"IF(GetData!M157=\"\",\"\",GetData!M157)","v":""},{"$f":"IF(GetData!AE157=\"\",\"\",GetData!AE157)","v":""}]
[{"$f":"IF(GetData!I158=\"\",\"\",GetData!I158)","v":""},{"$f":"IF(GetData!AA158=\"\",\"\",GetData!AA158)","v":""},null,null,null,null,null,null,null,{"$f":"IF(GetData!J158=\"\",\"\",GetData!J158)","v":""},{"$f":"IF(GetData!AB158=\"\",\"\",GetData!AB158)","v":""},null,null,null,null,null,null,null,{"$f":"IF(GetData!K158=\"\",\"\",GetData!K158)","v":""},{"$f":"IF(GetData!AC158=\"\",\"\",GetData!AC158)","v":""},null,null,null,null,null,null,null,{"$f":"IF(GetData!L158=\"\",\"\",GetData!L158)","v":""},{"$f":"IF(GetData!AD158=\"\",\"\",GetData!AD158)","v":""},null,null,null,null,null,null,null,{"$f":"IF(GetData!M158=\"\",\"\",GetData!M158)","v":""},{"$f":"IF(GetData!AE158=\"\",\"\",GetData!AE158)","v":""}]
[{"$f":"IF(GetData!I159=\"\",\"\",GetData!I159)","v":""},{"$f":"IF(GetData!AA159=\"\",\"\",GetData!AA159)","v":""},null,null,null,null,null,null,null,{"$f":"IF(GetData!J159=\"\",\"\",GetData!J159)","v":""},{"$f":"IF(GetData!AB159=\"\",\"\",GetData!AB159)","v":""},null,null,null,null,null,null,null,{"$f":"IF(GetData!K159=\"\",\"\",GetData!K159)","v":""},{"$f":"IF(GetData!AC159=\"\",\"\",GetData!AC159)","v":""},null,null,null,null,null,null,null,{"$f":"IF(GetData!L159=\"\",\"\",GetData!L159)","v":""},{"$f":"IF(GetData!AD159=\"\",\"\",GetData!AD159)","v":""},null,null,null,null,null,null,null,{"$f":"IF(GetData!M159=\"\",\"\",GetData!M159)","v":""},{"$f":"IF(GetData!AE159=\"\",\"\",GetData!AE159)","v":""}]
[{"$f":"IF(GetData!I160=\"\",\"\",GetData!I160)","v":""},{"$f":"IF(GetData!AA160=\"\",\"\",GetData!AA160)","v":""},null,null,null,null,null,null,null,{"$f":"IF(GetData!J160=\"\",\"\",GetData!J160)","v":""},{"$f":"IF(GetData!AB160=\"\",\"\",GetData!AB160)","v":""},null,null,null,null,null,null,null,{"$f":"IF(GetData!K160=\"\",\"\",GetData!K160)","v":""},{"$f":"IF(GetData!AC160=\"\",\"\",GetData!AC160)","v":""},null,null,null,null,null,null,null,{"$f":"IF(GetData!L160=\"\",\"\",GetData!L160)","v":""},{"$f":"IF(GetData!AD160=\"\",\"\",GetData!AD160)","v":""},null,null,null,null,null,null,null,{"$f":"IF(GetData!M160=\"\",\"\",GetData!M160)","v":""},{"$f":"IF(GetData!AE160=\"\",\"\",GetData!AE160)","v":""}]
[{"$f":"IF(GetData!I161=\"\",\"\",GetData!I161)","v":""},{"$f":"IF(GetData!AA161=\"\",\"\",GetData!AA161)","v":""},null,null,null,null,null,null,null,{"$f":"IF(GetData!J161=\"\",\"\",GetData!J161)","v":""},{"$f":"IF(GetData!AB161=\"\",\"\",GetData!AB161)","v":""},null,null,null,null,null,null,null,{"$f":"IF(GetData!K161=\"\",\"\",GetData!K161)","v":""},{"$f":"IF(GetData!AC161=\"\",\"\",GetData!AC161)","v":""},null,null,null,null,null,null,null,{"$f":"IF(GetData!L161=\"\",\"\",GetData!L161)","v":""},{"$f":"IF(GetData!AD161=\"\",\"\",GetData!AD161)","v":""},null,null,null,null,null,null,null,{"$f":"IF(GetData!M161=\"\",\"\",GetData!M161)","v":""},{"$f":"IF(GetData!AE161=\"\",\"\",GetData!AE161)","v":""}]
[{"$f":"IF(GetData!I162=\"\",\"\",GetData!I162)","v":""},{"$f":"IF(GetData!AA162=\"\",\"\",GetData!AA162)","v":""},null,null,null,null,null,null,null,{"$f":"IF(GetData!J162=\"\",\"\",GetData!J162)","v":""},{"$f":"IF(GetData!AB162=\"\",\"\",GetData!AB162)","v":""},null,null,null,null,null,null,null,{"$f":"IF(GetData!K162=\"\",\"\",GetData!K162)","v":""},{"$f":"IF(GetData!AC162=\"\",\"\",GetData!AC162)","v":""},null,null,null,null,null,null,null,{"$f":"IF(GetData!L162=\"\",\"\",GetData!L162)","v":""},{"$f":"IF(GetData!AD162=\"\",\"\",GetData!AD162)","v":""},null,null,null,null,null,null,null,{"$f":"IF(GetData!M162=\"\",\"\",GetData!M162)","v":""},{"$f":"IF(GetData!AE162=\"\",\"\",GetData!AE162)","v":""}]
[{"$f":"IF(GetData!I163=\"\",\"\",GetData!I163)","v":""},{"$f":"IF(GetData!AA163=\"\",\"\",GetData!AA163)","v":""},null,null,null,null,null,null,null,{"$f":"IF(GetData!J163=\"\",\"\",GetData!J163)","v":""},{"$f":"IF(GetData!AB163=\"\",\"\",GetData!AB163)","v":""},null,null,null,null,null,null,null,{"$f":"IF(GetData!K163=\"\",\"\",GetData!K163)","v":""},{"$f":"IF(GetData!AC163=\"\",\"\",GetData!AC163)","v":""},null,null,null,null,null,null,null,{"$f":"IF(GetData!L163=\"\",\"\",GetData!L163)","v":""},{"$f":"IF(GetData!AD163=\"\",\"\",GetData!AD163)","v":""},null,null,null,null,null,null,null,{"$f":"IF(GetData!M163=\"\",\"\",GetData!M163)","v":""},{"$f":"IF(GetData!AE163=\"\",\"\",GetData!AE163)","v":""}]
[{"$f":"IF(GetData!I164=\"\",\"\",GetData!I164)","v":""},{"$f":"IF(GetData!AA164=\"\",\"\",GetData!AA164)","v":""},null,null,null,null,null,null,null,{"$f":"IF(GetData!J164=\"\",\"\",GetData!J164)","v":""},{"$f":"IF(GetData!AB164=\"\",\"\",GetData!AB164)","v":""},null,null,null,null,null,null,null,{"$f":"IF(GetData!K164=\"\",\"\",GetData!K164)","v":""},{"$f":"IF(GetData!AC164=\"\",\"\",GetData!AC164)","v":""},null,null,null,null,null,null,null,{"$f":"IF(GetData!L164=\"\",\"\",GetData!L164)","v":""},{"$f":"IF(GetData!AD164=\"\",\"\",GetData!AD164)","v":""},null,null,null,null,null,null,null,{"$f":"IF(GetData!M164=\"\",\"\",GetData!M164)","v":""},{"$f":"IF(GetData!AE164=\"\",\"\",GetData!AE164)","v":""}]
[{"$f":"IF(GetData!I165=\"\",\"\",GetData!I165)","v":""},{"$f":"IF(GetData!AA165=\"\",\"\",GetData!AA165)","v":""},null,null,null,null,null,null,null,{"$f":"IF(GetData!J165=\"\",\"\",GetData!J165)","v":""},{"$f":"IF(GetData!AB165=\"\",\"\",GetData!AB165)","v":""},null,null,null,null,null,null,null,{"$f":"IF(GetData!K165=\"\",\"\",GetData!K165)","v":""},{"$f":"IF(GetData!AC165=\"\",\"\",GetData!AC165)","v":""},null,null,null,null,null,null,null,{"$f":"IF(GetData!L165=\"\",\"\",GetData!L165)","v":""},{"$f":"IF(GetData!AD165=\"\",\"\",GetData!AD165)","v":""},null,null,null,null,null,null,null,{"$f":"IF(GetData!M165=\"\",\"\",GetData!M165)","v":""},{"$f":"IF(GetData!AE165=\"\",\"\",GetData!AE165)","v":""}]
[{"$f":"IF(GetData!I166=\"\",\"\",GetData!I166)","v":""},{"$f":"IF(GetData!AA166=\"\",\"\",GetData!AA166)","v":""},null,null,null,null,null,null,null,{"$f":"IF(GetData!J166=\"\",\"\",GetData!J166)","v":""},{"$f":"IF(GetData!AB166=\"\",\"\",GetData!AB166)","v":""},null,null,null,null,null,null,null,{"$f":"IF(GetData!K166=\"\",\"\",GetData!K166)","v":""},{"$f":"IF(GetData!AC166=\"\",\"\",GetData!AC166)","v":""},null,null,null,null,null,null,null,{"$f":"IF(GetData!L166=\"\",\"\",GetData!L166)","v":""},{"$f":"IF(GetData!AD166=\"\",\"\",GetData!AD166)","v":""},null,null,null,null,null,null,null,{"$f":"IF(GetData!M166=\"\",\"\",GetData!M166)","v":""},{"$f":"IF(GetData!AE166=\"\",\"\",GetData!AE166)","v":""}]
[{"$f":"IF(GetData!I167=\"\",\"\",GetData!I167)","v":""},{"$f":"IF(GetData!AA167=\"\",\"\",GetData!AA167)","v":""},null,null,null,null,null,null,null,{"$f":"IF(GetData!J167=\"\",\"\",GetData!J167)","v":""},{"$f":"IF(GetData!AB167=\"\",\"\",GetData!AB167)","v":""},null,null,null,null,null,null,null,{"$f":"IF(GetData!K167=\"\",\"\",GetData!K167)","v":""},{"$f":"IF(GetData!AC167=\"\",\"\",GetData!AC167)","v":""},null,null,null,null,null,null,null,{"$f":"IF(GetData!L167=\"\",\"\",GetData!L167)","v":""},{"$f":"IF(GetData!AD167=\"\",\"\",GetData!AD167)","v":""},null,null,null,null,null,null,null,{"$f":"IF(GetData!M167=\"\",\"\",GetData!M167)","v":""},{"$f":"IF(GetData!AE167=\"\",\"\",GetData!AE167)","v":""}]
[{"$f":"IF(GetData!I168=\"\",\"\",GetData!I168)","v":""},{"$f":"IF(GetData!AA168=\"\",\"\",GetData!AA168)","v":""},null,null,null,null,null,null,null,{"$f":"IF(GetData!J168=\"\",\"\",GetData!J168)","v":""},{"$f":"IF(GetData!AB168=\"\",\"\",GetData!AB168)","v":""},null,null,null,null,null,null,null,{"$f":"IF(GetData!K168=\"\",\"\",GetData!K168)","v":""},{"$f":"IF(GetData!AC168=\"\",\"\",GetData!AC168)","v":""},null,null,null,null,null,null,null,{"$f":"IF(GetData!L168=\"\",\"\",GetData!L168)","v":""},{"$f":"IF(GetData!AD168=\"\",\"\",GetData!AD168)","v":""},null,null,null,null,null,null,null,{"$f":"IF(GetData!M168=\"\",\"\",GetData!M168)","v":""},{"$f":"IF(GetData!AE168=\"\",\"\",GetData!AE168)","v":""}]
[{"$f":"IF(GetData!I169=\"\",\"\",GetData!I169)","v":""},{"$f":"IF(GetData!AA169=\"\",\"\",GetData!AA169)","v":""},null,null,null,null,null,null,null,{"$f":"IF(GetData!J169=\"\",\"\",GetData!J169)","v":""},{"$f":"IF(GetData!AB169=\"\",\"\",GetData!AB169)","v":""},null,null,null,null,null,null,null,{"$f":"IF(GetData!K169=\"\",\"\",GetData!K169)","v":""},{"$f":"IF(GetData!AC169=\"\",\"\",GetData!AC169)","v":""},null,null,null,null,null,null,null,{"$f":"IF(GetData!L169=\"\",\"\",GetData!L169)","v":""},{"$f":"IF(GetData!AD169=\"\",\"\",GetData!AD169)","v":""},null,null,null,null,null,null,null,{"$f":"IF(GetData!M169=\"\",\"\",GetData!M169)","v":""},{"$f":"IF(GetData!AE169=\"\",\"\",GetData!AE169)","v":""}]
[{"$f":"IF(GetData!I170=\"\",\"\",GetData!I170)","v":""},{"$f":"IF(GetData!AA170=\"\",\"\",GetData!AA170)","v":""},null,null,null,null,null,null,null,{"$f":"IF(GetData!J170=\"\",\"\",GetData!J170)","v":""},{"$f":"IF(GetData!AB170=\"\",\"\",GetData!AB170)","v":""},null,null,null,null,null,null,null,{"$f":"IF(GetData!K170=\"\",\"\",GetData!K170)","v":""},{"$f":"IF(GetData!AC170=\"\",\"\",GetData!AC170)","v":""},null,null,null,null,null,null,null,{"$f":"IF(GetData!L170=\"\",\"\",GetData!L170)","v":""},{"$f":"IF(GetData!AD170=\"\",\"\",GetData!AD170)","v":""},null,null,null,null,null,null,null,{"$f":"IF(GetData!M170=\"\",\"\",GetData!M170)","v":""},{"$f":"IF(GetData!AE170=\"\",\"\",GetData!AE170)","v":""}]
[{"$f":"IF(GetData!I171=\"\",\"\",GetData!I171)","v":""},{"$f":"IF(GetData!AA171=\"\",\"\",GetData!AA171)","v":""},null,null,null,null,null,null,null,{"$f":"IF(GetData!J171=\"\",\"\",GetData!J171)","v":""},{"$f":"IF(GetData!AB171=\"\",\"\",GetData!AB171)","v":""},null,null,null,null,null,null,null,{"$f":"IF(GetData!K171=\"\",\"\",GetData!K171)","v":""},{"$f":"IF(GetData!AC171=\"\",\"\",GetData!AC171)","v":""},null,null,null,null,null,null,null,{"$f":"IF(GetData!L171=\"\",\"\",GetData!L171)","v":""},{"$f":"IF(GetData!AD171=\"\",\"\",GetData!AD171)","v":""},null,null,null,null,null,null,null,{"$f":"IF(GetData!M171=\"\",\"\",GetData!M171)","v":""},{"$f":"IF(GetData!AE171=\"\",\"\",GetData!AE171)","v":""}]
[{"$f":"IF(GetData!I172=\"\",\"\",GetData!I172)","v":""},{"$f":"IF(GetData!AA172=\"\",\"\",GetData!AA172)","v":""},null,null,null,null,null,null,null,{"$f":"IF(GetData!J172=\"\",\"\",GetData!J172)","v":""},{"$f":"IF(GetData!AB172=\"\",\"\",GetData!AB172)","v":""},null,null,null,null,null,null,null,{"$f":"IF(GetData!K172=\"\",\"\",GetData!K172)","v":""},{"$f":"IF(GetData!AC172=\"\",\"\",GetData!AC172)","v":""},null,null,null,null,null,null,null,{"$f":"IF(GetData!L172=\"\",\"\",GetData!L172)","v":""},{"$f":"IF(GetData!AD172=\"\",\"\",GetData!AD172)","v":""},null,null,null,null,null,null,null,{"$f":"IF(GetData!M172=\"\",\"\",GetData!M172)","v":""},{"$f":"IF(GetData!AE172=\"\",\"\",GetData!AE172)","v":""}]
[{"$f":"IF(GetData!I173=\"\",\"\",GetData!I173)","v":""},{"$f":"IF(GetData!AA173=\"\",\"\",GetData!AA173)","v":""},null,null,null,null,null,null,null,{"$f":"IF(GetData!J173=\"\",\"\",GetData!J173)","v":""},{"$f":"IF(GetData!AB173=\"\",\"\",GetData!AB173)","v":""},null,null,null,null,null,null,null,{"$f":"IF(GetData!K173=\"\",\"\",GetData!K173)","v":""},{"$f":"IF(GetData!AC173=\"\",\"\",GetData!AC173)","v":""},null,null,null,null,null,null,null,{"$f":"IF(GetData!L173=\"\",\"\",GetData!L173)","v":""},{"$f":"IF(GetData!AD173=\"\",\"\",GetData!AD173)","v":""},null,null,null,null,null,null,null,{"$f":"IF(GetData!M173=\"\",\"\",GetData!M173)","v":""},{"$f":"IF(GetData!AE173=\"\",\"\",GetData!AE173)","v":""}]
[{"$f":"IF(GetData!I174=\"\",\"\",GetData!I174)","v":""},{"$f":"IF(GetData!AA174=\"\",\"\",GetData!AA174)","v":""},null,null,null,null,null,null,null,{"$f":"IF(GetData!J174=\"\",\"\",GetData!J174)","v":""},{"$f":"IF(GetData!AB174=\"\",\"\",GetData!AB174)","v":""},null,null,null,null,null,null,null,{"$f":"IF(GetData!K174=\"\",\"\",GetData!K174)","v":""},{"$f":"IF(GetData!AC174=\"\",\"\",GetData!AC174)","v":""},null,null,null,null,null,null,null,{"$f":"IF(GetData!L174=\"\",\"\",GetData!L174)","v":""},{"$f":"IF(GetData!AD174=\"\",\"\",GetData!AD174)","v":""},null,null,null,null,null,null,null,{"$f":"IF(GetData!M174=\"\",\"\",GetData!M174)","v":""},{"$f":"IF(GetData!AE174=\"\",\"\",GetData!AE174)","v":""}]
[{"$f":"IF(GetData!I175=\"\",\"\",GetData!I175)","v":""},{"$f":"IF(GetData!AA175=\"\",\"\",GetData!AA175)","v":""},null,null,null,null,null,null,null,{"$f":"IF(GetData!J175=\"\",\"\",GetData!J175)","v":""},{"$f":"IF(GetData!AB175=\"\",\"\",GetData!AB175)","v":""},null,null,null,null,null,null,null,{"$f":"IF(GetData!K175=\"\",\"\",GetData!K175)","v":""},{"$f":"IF(GetData!AC175=\"\",\"\",GetData!AC175)","v":""},null,null,null,null,null,null,null,{"$f":"IF(GetData!L175=\"\",\"\",GetData!L175)","v":""},{"$f":"IF(GetData!AD175=\"\",\"\",GetData!AD175)","v":""},null,null,null,null,null,null,null,{"$f":"IF(GetData!M175=\"\",\"\",GetData!M175)","v":""},{"$f":"IF(GetData!AE175=\"\",\"\",GetData!AE175)","v":""}]
[{"$f":"IF(GetData!I176=\"\",\"\",GetData!I176)","v":""},{"$f":"IF(GetData!AA176=\"\",\"\",GetData!AA176)","v":""},null,null,null,null,null,null,null,{"$f":"IF(GetData!J176=\"\",\"\",GetData!J176)","v":""},{"$f":"IF(GetData!AB176=\"\",\"\",GetData!AB176)","v":""},null,null,null,null,null,null,null,{"$f":"IF(GetData!K176=\"\",\"\",GetData!K176)","v":""},{"$f":"IF(GetData!AC176=\"\",\"\",GetData!AC176)","v":""},null,null,null,null,null,null,null,{"$f":"IF(GetData!L176=\"\",\"\",GetData!L176)","v":""},{"$f":"IF(GetData!AD176=\"\",\"\",GetData!AD176)","v":""},null,null,null,null,null,null,null,{"$f":"IF(GetData!M176=\"\",\"\",GetData!M176)","v":""},{"$f":"IF(GetData!AE176=\"\",\"\",GetData!AE176)","v":""}]
[{"$f":"IF(GetData!I177=\"\",\"\",GetData!I177)","v":""},{"$f":"IF(GetData!AA177=\"\",\"\",GetData!AA177)","v":""},null,null,null,null,null,null,null,{"$f":"IF(GetData!J177=\"\",\"\",GetData!J177)","v":""},{"$f":"IF(GetData!AB177=\"\",\"\",GetData!AB177)","v":""},null,null,null,null,null,null,null,{"$f":"IF(GetData!K177=\"\",\"\",GetData!K177)","v":""},{"$f":"IF(GetData!AC177=\"\",\"\",GetData!AC177)","v":""},null,null,null,null,null,null,null,{"$f":"IF(GetData!L177=\"\",\"\",GetData!L177)","v":""},{"$f":"IF(GetData!AD177=\"\",\"\",GetData!AD177)","v":""},null,null,null,null,null,null,null,{"$f":"IF(GetData!M177=\"\",\"\",GetData!M177)","v":""},{"$f":"IF(GetData!AE177=\"\",\"\",GetData!AE177)","v":""}]
[{"$f":"IF(GetData!I178=\"\",\"\",GetData!I178)","v":""},{"$f":"IF(GetData!AA178=\"\",\"\",GetData!AA178)","v":""},null,null,null,null,null,null,null,{"$f":"IF(GetData!J178=\"\",\"\",GetData!J178)","v":""},{"$f":"IF(GetData!AB178=\"\",\"\",GetData!AB178)","v":""},null,null,null,null,null,null,null,{"$f":"IF(GetData!K178=\"\",\"\",GetData!K178)","v":""},{"$f":"IF(GetData!AC178=\"\",\"\",GetData!AC178)","v":""},null,null,null,null,null,null,null,{"$f":"IF(GetData!L178=\"\",\"\",GetData!L178)","v":""},{"$f":"IF(GetData!AD178=\"\",\"\",GetData!AD178)","v":""},null,null,null,null,null,null,null,{"$f":"IF(GetData!M178=\"\",\"\",GetData!M178)","v":""},{"$f":"IF(GetData!AE178=\"\",\"\",GetData!AE178)","v":""}]
[{"$f":"IF(GetData!I179=\"\",\"\",GetData!I179)","v":""},{"$f":"IF(GetData!AA179=\"\",\"\",GetData!AA179)","v":""},null,null,null,null,null,null,null,{"$f":"IF(GetData!J179=\"\",\"\",GetData!J179)","v":""},{"$f":"IF(GetData!AB179=\"\",\"\",GetData!AB179)","v":""},null,null,null,null,null,null,null,{"$f":"IF(GetData!K179=\"\",\"\",GetData!K179)","v":""},{"$f":"IF(GetData!AC179=\"\",\"\",GetData!AC179)","v":""},null,null,null,null,null,null,null,{"$f":"IF(GetData!L179=\"\",\"\",GetData!L179)","v":""},{"$f":"IF(GetData!AD179=\"\",\"\",GetData!AD179)","v":""},null,null,null,null,null,null,null,{"$f":"IF(GetData!M179=\"\",\"\",GetData!M179)","v":""},{"$f":"IF(GetData!AE179=\"\",\"\",GetData!AE179)","v":""}]
[{"$f":"IF(GetData!I180=\"\",\"\",GetData!I180)","v":""},{"$f":"IF(GetData!AA180=\"\",\"\",GetData!AA180)","v":""},null,null,null,null,null,null,null,{"$f":"IF(GetData!J180=\"\",\"\",GetData!J180)","v":""},{"$f":"IF(GetData!AB180=\"\",\"\",GetData!AB180)","v":""},null,null,null,null,null,null,null,{"$f":"IF(GetData!K180=\"\",\"\",GetData!K180)","v":""},{"$f":"IF(GetData!AC180=\"\",\"\",GetData!AC180)","v":""},null,null,null,null,null,null,null,{"$f":"IF(GetData!L180=\"\",\"\",GetData!L180)","v":""},{"$f":"IF(GetData!AD180=\"\",\"\",GetData!AD180)","v":""},null,null,null,null,null,null,null,{"$f":"IF(GetData!M180=\"\",\"\",GetData!M180)","v":""},{"$f":"IF(GetData!AE180=\"\",\"\",GetData!AE180)","v":""}]
[{"$f":"IF(GetData!I181=\"\",\"\",GetData!I181)","v":""},{"$f":"IF(GetData!AA181=\"\",\"\",GetData!AA181)","v":""},null,null,null,null,null,null,null,{"$f":"IF(GetData!J181=\"\",\"\",GetData!J181)","v":""},{"$f":"IF(GetData!AB181=\"\",\"\",GetData!AB181)","v":""},null,null,null,null,null,null,null,{"$f":"IF(GetData!K181=\"\",\"\",GetData!K181)","v":""},{"$f":"IF(GetData!AC181=\"\",\"\",GetData!AC181)","v":""},null,null,null,null,null,null,null,{"$f":"IF(GetData!L181=\"\",\"\",GetData!L181)","v":""},{"$f":"IF(GetData!AD181=\"\",\"\",GetData!AD181)","v":""},null,null,null,null,null,null,null,{"$f":"IF(GetData!M181=\"\",\"\",GetData!M181)","v":""},{"$f":"IF(GetData!AE181=\"\",\"\",GetData!AE181)","v":""}]
[{"$f":"IF(GetData!I182=\"\",\"\",GetData!I182)","v":""},{"$f":"IF(GetData!AA182=\"\",\"\",GetData!AA182)","v":""},null,null,null,null,null,null,null,{"$f":"IF(GetData!J182=\"\",\"\",GetData!J182)","v":""},{"$f":"IF(GetData!AB182=\"\",\"\",GetData!AB182)","v":""},null,null,null,null,null,null,null,{"$f":"IF(GetData!K182=\"\",\"\",GetData!K182)","v":""},{"$f":"IF(GetData!AC182=\"\",\"\",GetData!AC182)","v":""},null,null,null,null,null,null,null,{"$f":"IF(GetData!L182=\"\",\"\",GetData!L182)","v":""},{"$f":"IF(GetData!AD182=\"\",\"\",GetData!AD182)","v":""},null,null,null,null,null,null,null,{"$f":"IF(GetData!M182=\"\",\"\",GetData!M182)","v":""},{"$f":"IF(GetData!AE182=\"\",\"\",GetData!AE182)","v":""}]
[{"$f":"IF(GetData!I183=\"\",\"\",GetData!I183)","v":""},{"$f":"IF(GetData!AA183=\"\",\"\",GetData!AA183)","v":""},null,null,null,null,null,null,null,{"$f":"IF(GetData!J183=\"\",\"\",GetData!J183)","v":""},{"$f":"IF(GetData!AB183=\"\",\"\",GetData!AB183)","v":""},null,null,null,null,null,null,null,{"$f":"IF(GetData!K183=\"\",\"\",GetData!K183)","v":""},{"$f":"IF(GetData!AC183=\"\",\"\",GetData!AC183)","v":""},null,null,null,null,null,null,null,{"$f":"IF(GetData!L183=\"\",\"\",GetData!L183)","v":""},{"$f":"IF(GetData!AD183=\"\",\"\",GetData!AD183)","v":""},null,null,null,null,null,null,null,{"$f":"IF(GetData!M183=\"\",\"\",GetData!M183)","v":""},{"$f":"IF(GetData!AE183=\"\",\"\",GetData!AE183)","v":""}]
[{"$f":"IF(GetData!I184=\"\",\"\",GetData!I184)","v":""},{"$f":"IF(GetData!AA184=\"\",\"\",GetData!AA184)","v":""},null,null,null,null,null,null,null,{"$f":"IF(GetData!J184=\"\",\"\",GetData!J184)","v":""},{"$f":"IF(GetData!AB184=\"\",\"\",GetData!AB184)","v":""},null,null,null,null,null,null,null,{"$f":"IF(GetData!K184=\"\",\"\",GetData!K184)","v":""},{"$f":"IF(GetData!AC184=\"\",\"\",GetData!AC184)","v":""},null,null,null,null,null,null,null,{"$f":"IF(GetData!L184=\"\",\"\",GetData!L184)","v":""},{"$f":"IF(GetData!AD184=\"\",\"\",GetData!AD184)","v":""},null,null,null,null,null,null,null,{"$f":"IF(GetData!M184=\"\",\"\",GetData!M184)","v":""},{"$f":"IF(GetData!AE184=\"\",\"\",GetData!AE184)","v":""}]
[{"$f":"IF(GetData!I185=\"\",\"\",GetData!I185)","v":""},{"$f":"IF(GetData!AA185=\"\",\"\",GetData!AA185)","v":""},null,null,null,null,null,null,null,{"$f":"IF(GetData!J185=\"\",\"\",GetData!J185)","v":""},{"$f":"IF(GetData!AB185=\"\",\"\",GetData!AB185)","v":""},null,null,null,null,null,null,null,{"$f":"IF(GetData!K185=\"\",\"\",GetData!K185)","v":""},{"$f":"IF(GetData!AC185=\"\",\"\",GetData!AC185)","v":""},null,null,null,null,null,null,null,{"$f":"IF(GetData!L185=\"\",\"\",GetData!L185)","v":""},{"$f":"IF(GetData!AD185=\"\",\"\",GetData!AD185)","v":""},null,null,null,null,null,null,null,{"$f":"IF(GetData!M185=\"\",\"\",GetData!M185)","v":""},{"$f":"IF(GetData!AE185=\"\",\"\",GetData!AE185)","v":""}]
[{"$f":"IF(GetData!I186=\"\",\"\",GetData!I186)","v":""},{"$f":"IF(GetData!AA186=\"\",\"\",GetData!AA186)","v":""},null,null,null,null,null,null,null,{"$f":"IF(GetData!J186=\"\",\"\",GetData!J186)","v":""},{"$f":"IF(GetData!AB186=\"\",\"\",GetData!AB186)","v":""},null,null,null,null,null,null,null,{"$f":"IF(GetData!K186=\"\",\"\",GetData!K186)","v":""},{"$f":"IF(GetData!AC186=\"\",\"\",GetData!AC186)","v":""},null,null,null,null,null,null,null,{"$f":"IF(GetData!L186=\"\",\"\",GetData!L186)","v":""},{"$f":"IF(GetData!AD186=\"\",\"\",GetData!AD186)","v":""},null,null,null,null,null,null,null,{"$f":"IF(GetData!M186=\"\",\"\",GetData!M186)","v":""},{"$f":"IF(GetData!AE186=\"\",\"\",GetData!AE186)","v":""}]
[{"$f":"IF(GetData!I187=\"\",\"\",GetData!I187)","v":""},{"$f":"IF(GetData!AA187=\"\",\"\",GetData!AA187)","v":""},null,null,null,null,null,null,null,{"$f":"IF(GetData!J187=\"\",\"\",GetData!J187)","v":""},{"$f":"IF(GetData!AB187=\"\",\"\",GetData!AB187)","v":""},null,null,null,null,null,null,null,{"$f":"IF(GetData!K187=\"\",\"\",GetData!K187)","v":""},{"$f":"IF(GetData!AC187=\"\",\"\",GetData!AC187)","v":""},null,null,null,null,null,null,null,{"$f":"IF(GetData!L187=\"\",\"\",GetData!L187)","v":""},{"$f":"IF(GetData!AD187=\"\",\"\",GetData!AD187)","v":""},null,null,null,null,null,null,null,{"$f":"IF(GetData!M187=\"\",\"\",GetData!M187)","v":""},{"$f":"IF(GetData!AE187=\"\",\"\",GetData!AE187)","v":""}]
[{"$f":"IF(GetData!I188=\"\",\"\",GetData!I188)","v":""},{"$f":"IF(GetData!AA188=\"\",\"\",GetData!AA188)","v":""},null,null,null,null,null,null,null,{"$f":"IF(GetData!J188=\"\",\"\",GetData!J188)","v":""},{"$f":"IF(GetData!AB188=\"\",\"\",GetData!AB188)","v":""},null,null,null,null,null,null,null,{"$f":"IF(GetData!K188=\"\",\"\",GetData!K188)","v":""},{"$f":"IF(GetData!AC188=\"\",\"\",GetData!AC188)","v":""},null,null,null,null,null,null,null,{"$f":"IF(GetData!L188=\"\",\"\",GetData!L188)","v":""},{"$f":"IF(GetData!AD188=\"\",\"\",GetData!AD188)","v":""},null,null,null,null,null,null,null,{"$f":"IF(GetData!M188=\"\",\"\",GetData!M188)","v":""},{"$f":"IF(GetData!AE188=\"\",\"\",GetData!AE188)","v":""}]
[{"$f":"IF(GetData!I189=\"\",\"\",GetData!I189)","v":""},{"$f":"IF(GetData!AA189=\"\",\"\",GetData!AA189)","v":""},null,null,null,null,null,null,null,{"$f":"IF(GetData!J189=\"\",\"\",GetData!J189)","v":""},{"$f":"IF(GetData!AB189=\"\",\"\",GetData!AB189)","v":""},null,null,null,null,null,null,null,{"$f":"IF(GetData!K189=\"\",\"\",GetData!K189)","v":""},{"$f":"IF(GetData!AC189=\"\",\"\",GetData!AC189)","v":""},null,null,null,null,null,null,null,{"$f":"IF(GetData!L189=\"\",\"\",GetData!L189)","v":""},{"$f":"IF(GetData!AD189=\"\",\"\",GetData!AD189)","v":""},null,null,null,null,null,null,null,{"$f":"IF(GetData!M189=\"\",\"\",GetData!M189)","v":""},{"$f":"IF(GetData!AE189=\"\",\"\",GetData!AE189)","v":""}]
[{"$f":"IF(GetData!I190=\"\",\"\",GetData!I190)","v":""},{"$f":"IF(GetData!AA190=\"\",\"\",GetData!AA190)","v":""},null,null,null,null,null,null,null,{"$f":"IF(GetData!J190=\"\",\"\",GetData!J190)","v":""},{"$f":"IF(GetData!AB190=\"\",\"\",GetData!AB190)","v":""},null,null,null,null,null,null,null,{"$f":"IF(GetData!K190=\"\",\"\",GetData!K190)","v":""},{"$f":"IF(GetData!AC190=\"\",\"\",GetData!AC190)","v":""},null,null,null,null,null,null,null,{"$f":"IF(GetData!L190=\"\",\"\",GetData!L190)","v":""},{"$f":"IF(GetData!AD190=\"\",\"\",GetData!AD190)","v":""},null,null,null,null,null,null,null,{"$f":"IF(GetData!M190=\"\",\"\",GetData!M190)","v":""},{"$f":"IF(GetData!AE190=\"\",\"\",GetData!AE190)","v":""}]
[{"$f":"IF(GetData!I191=\"\",\"\",GetData!I191)","v":""},{"$f":"IF(GetData!AA191=\"\",\"\",GetData!AA191)","v":""},null,null,null,null,null,null,null,{"$f":"IF(GetData!J191=\"\",\"\",GetData!J191)","v":""},{"$f":"IF(GetData!AB191=\"\",\"\",GetData!AB191)","v":""},null,null,null,null,null,null,null,{"$f":"IF(GetData!K191=\"\",\"\",GetData!K191)","v":""},{"$f":"IF(GetData!AC191=\"\",\"\",GetData!AC191)","v":""},null,null,null,null,null,null,null,{"$f":"IF(GetData!L191=\"\",\"\",GetData!L191)","v":""},{"$f":"IF(GetData!AD191=\"\",\"\",GetData!AD191)","v":""},null,null,null,null,null,null,null,{"$f":"IF(GetData!M191=\"\",\"\",GetData!M191)","v":""},{"$f":"IF(GetData!AE191=\"\",\"\",GetData!AE191)","v":""}]
[{"$f":"IF(GetData!I192=\"\",\"\",GetData!I192)","v":""},{"$f":"IF(GetData!AA192=\"\",\"\",GetData!AA192)","v":""},null,null,null,null,null,null,null,{"$f":"IF(GetData!J192=\"\",\"\",GetData!J192)","v":""},{"$f":"IF(GetData!AB192=\"\",\"\",GetData!AB192)","v":""},null,null,null,null,null,null,null,{"$f":"IF(GetData!K192=\"\",\"\",GetData!K192)","v":""},{"$f":"IF(GetData!AC192=\"\",\"\",GetData!AC192)","v":""},null,null,null,null,null,null,null,{"$f":"IF(GetData!L192=\"\",\"\",GetData!L192)","v":""},{"$f":"IF(GetData!AD192=\"\",\"\",GetData!AD192)","v":""},null,null,null,null,null,null,null,{"$f":"IF(GetData!M192=\"\",\"\",GetData!M192)","v":""},{"$f":"IF(GetData!AE192=\"\",\"\",GetData!AE192)","v":""}]
[{"$f":"IF(GetData!I193=\"\",\"\",GetData!I193)","v":""},{"$f":"IF(GetData!AA193=\"\",\"\",GetData!AA193)","v":""},null,null,null,null,null,null,null,{"$f":"IF(GetData!J193=\"\",\"\",GetData!J193)","v":""},{"$f":"IF(GetData!AB193=\"\",\"\",GetData!AB193)","v":""},null,null,null,null,null,null,null,{"$f":"IF(GetData!K193=\"\",\"\",GetData!K193)","v":""},{"$f":"IF(GetData!AC193=\"\",\"\",GetData!AC193)","v":""},null,null,null,null,null,null,null,{"$f":"IF(GetData!L193=\"\",\"\",GetData!L193)","v":""},{"$f":"IF(GetData!AD193=\"\",\"\",GetData!AD193)","v":""},null,null,null,null,null,null,null,{"$f":"IF(GetData!M193=\"\",\"\",GetData!M193)","v":""},{"$f":"IF(GetData!AE193=\"\",\"\",GetData!AE193)","v":""}]
[{"$f":"IF(GetData!I194=\"\",\"\",GetData!I194)","v":""},{"$f":"IF(GetData!AA194=\"\",\"\",GetData!AA194)","v":""},null,null,null,null,null,null,null,{"$f":"IF(GetData!J194=\"\",\"\",GetData!J194)","v":""},{"$f":"IF(GetData!AB194=\"\",\"\",GetData!AB194)","v":""},null,null,null,null,null,null,null,{"$f":"IF(GetData!K194=\"\",\"\",GetData!K194)","v":""},{"$f":"IF(GetData!AC194=\"\",\"\",GetData!AC194)","v":""},null,null,null,null,null,null,null,{"$f":"IF(GetData!L194=\"\",\"\",GetData!L194)","v":""},{"$f":"IF(GetData!AD194=\"\",\"\",GetData!AD194)","v":""},null,null,null,null,null,null,null,{"$f":"IF(GetData!M194=\"\",\"\",GetData!M194)","v":""},{"$f":"IF(GetData!AE194=\"\",\"\",GetData!AE194)","v":""}]
[{"$f":"IF(GetData!I195=\"\",\"\",GetData!I195)","v":""},{"$f":"IF(GetData!AA195=\"\",\"\",GetData!AA195)","v":""},null,null,null,null,null,null,null,{"$f":"IF(GetData!J195=\"\",\"\",GetData!J195)","v":""},{"$f":"IF(GetData!AB195=\"\",\"\",GetData!AB195)","v":""},null,null,null,null,null,null,null,{"$f":"IF(GetData!K195=\"\",\"\",GetData!K195)","v":""},{"$f":"IF(GetData!AC195=\"\",\"\",GetData!AC195)","v":""},null,null,null,null,null,null,null,{"$f":"IF(GetData!L195=\"\",\"\",GetData!L195)","v":""},{"$f":"IF(GetData!AD195=\"\",\"\",GetData!AD195)","v":""},null,null,null,null,null,null,null,{"$f":"IF(GetData!M195=\"\",\"\",GetData!M195)","v":""},{"$f":"IF(GetData!AE195=\"\",\"\",GetData!AE195)","v":""}]
[{"$f":"IF(GetData!I196=\"\",\"\",GetData!I196)","v":""},{"$f":"IF(GetData!AA196=\"\",\"\",GetData!AA196)","v":""},null,null,null,null,null,null,null,{"$f":"IF(GetData!J196=\"\",\"\",GetData!J196)","v":""},{"$f":"IF(GetData!AB196=\"\",\"\",GetData!AB196)","v":""},null,null,null,null,null,null,null,{"$f":"IF(GetData!K196=\"\",\"\",GetData!K196)","v":""},{"$f":"IF(GetData!AC196=\"\",\"\",GetData!AC196)","v":""},null,null,null,null,null,null,null,{"$f":"IF(GetData!L196=\"\",\"\",GetData!L196)","v":""},{"$f":"IF(GetData!AD196=\"\",\"\",GetData!AD196)","v":""},null,null,null,null,null,null,null,{"$f":"IF(GetData!M196=\"\",\"\",GetData!M196)","v":""},{"$f":"IF(GetData!AE196=\"\",\"\",GetData!AE196)","v":""}]
[{"$f":"IF(GetData!I197=\"\",\"\",GetData!I197)","v":""},{"$f":"IF(GetData!AA197=\"\",\"\",GetData!AA197)","v":""},null,null,null,null,null,null,null,{"$f":"IF(GetData!J197=\"\",\"\",GetData!J197)","v":""},{"$f":"IF(GetData!AB197=\"\",\"\",GetData!AB197)","v":""},null,null,null,null,null,null,null,{"$f":"IF(GetData!K197=\"\",\"\",GetData!K197)","v":""},{"$f":"IF(GetData!AC197=\"\",\"\",GetData!AC197)","v":""},null,null,null,null,null,null,null,{"$f":"IF(GetData!L197=\"\",\"\",GetData!L197)","v":""},{"$f":"IF(GetData!AD197=\"\",\"\",GetData!AD197)","v":""},null,null,null,null,null,null,null,{"$f":"IF(GetData!M197=\"\",\"\",GetData!M197)","v":""},{"$f":"IF(GetData!AE197=\"\",\"\",GetData!AE197)","v":""}]
[{"$f":"IF(GetData!I198=\"\",\"\",GetData!I198)","v":""},{"$f":"IF(GetData!AA198=\"\",\"\",GetData!AA198)","v":""},null,null,null,null,null,null,null,{"$f":"IF(GetData!J198=\"\",\"\",GetData!J198)","v":""},{"$f":"IF(GetData!AB198=\"\",\"\",GetData!AB198)","v":""},null,null,null,null,null,null,null,{"$f":"IF(GetData!K198=\"\",\"\",GetData!K198)","v":""},{"$f":"IF(GetData!AC198=\"\",\"\",GetData!AC198)","v":""},null,null,null,null,null,null,null,{"$f":"IF(GetData!L198=\"\",\"\",GetData!L198)","v":""},{"$f":"IF(GetData!AD198=\"\",\"\",GetData!AD198)","v":""},null,null,null,null,null,null,null,{"$f":"IF(GetData!M198=\"\",\"\",GetData!M198)","v":""},{"$f":"IF(GetData!AE198=\"\",\"\",GetData!AE198)","v":""}]
[{"$f":"IF(GetData!I199=\"\",\"\",GetData!I199)","v":""},{"$f":"IF(GetData!AA199=\"\",\"\",GetData!AA199)","v":""},null,null,null,null,null,null,null,{"$f":"IF(GetData!J199=\"\",\"\",GetData!J199)","v":""},{"$f":"IF(GetData!AB199=\"\",\"\",GetData!AB199)","v":""},null,null,null,null,null,null,null,{"$f":"IF(GetData!K199=\"\",\"\",GetData!K199)","v":""},{"$f":"IF(GetData!AC199=\"\",\"\",GetData!AC199)","v":""},null,null,null,null,null,null,null,{"$f":"IF(GetData!L199=\"\",\"\",GetData!L199)","v":""},{"$f":"IF(GetData!AD199=\"\",\"\",GetData!AD199)","v":""},null,null,null,null,null,null,null,{"$f":"IF(GetData!M199=\"\",\"\",GetData!M199)","v":""},{"$f":"IF(GetData!AE199=\"\",\"\",GetData!AE199)","v":""}]
[{"$f":"IF(GetData!I200=\"\",\"\",GetData!I200)","v":""},{"$f":"IF(GetData!AA200=\"\",\"\",GetData!AA200)","v":""},null,null,null,null,null,null,null,{"$f":"IF(GetData!J200=\"\",\"\",GetData!J200)","v":""},{"$f":"IF(GetData!AB200=\"\",\"\",GetData!AB200)","v":""},null,null,null,null,null,null,null,{"$f":"IF(GetData!K200=\"\",\"\",GetData!K200)","v":""},{"$f":"IF(GetData!AC200=\"\",\"\",GetData!AC200)","v":""},null,null,null,null,null,null,null,{"$f":"IF(GetData!L200=\"\",\"\",GetData!L200)","v":""},{"$f":"IF(GetData!AD200=\"\",\"\",GetData!AD200)","v":""},null,null,null,null,null,null,null,{"$f":"IF(GetData!M200=\"\",\"\",GetData!M200)","v":""},{"$f":"IF(GetData!AE200=\"\",\"\",GetData!AE200)","v":""}]
[{"$f":"IF(GetData!I201=\"\",\"\",GetData!I201)","v":""},{"$f":"IF(GetData!AA201=\"\",\"\",GetData!AA201)","v":""},null,null,null,null,null,null,null,{"$f":"IF(GetData!J201=\"\",\"\",GetData!J201)","v":""},{"$f":"IF(GetData!AB201=\"\",\"\",GetData!AB201)","v":""},null,null,null,null,null,null,null,{"$f":"IF(GetData!K201=\"\",\"\",GetData!K201)","v":""},{"$f":"IF(GetData!AC201=\"\",\"\",GetData!AC201)","v":""},null,null,null,null,null,null,null,{"$f":"IF(GetData!L201=\"\",\"\",GetData!L201)","v":""},{"$f":"IF(GetData!AD201=\"\",\"\",GetData!AD201)","v":""},null,null,null,null,null,null,null,{"$f":"IF(GetData!M201=\"\",\"\",GetData!M201)","v":""},{"$f":"IF(GetData!AE201=\"\",\"\",GetData!AE201)","v":""}]
[{"$f":"IF(GetData!I202=\"\",\"\",GetData!I202)","v":""},{"$f":"IF(GetData!AA202=\"\",\"\",GetData!AA202)","v":""},null,null,null,null,null,null,null,{"$f":"IF(GetData!J202=\"\",\"\",GetData!J202)","v":""},{"$f":"IF(GetData!AB202=\"\",\"\",GetData!AB202)","v":""},null,null,null,null,null,null,null,{"$f":"IF(GetData!K202=\"\",\"\",GetData!K202)","v":""},{"$f":"IF(GetData!AC202=\"\",\"\",GetData!AC202)","v":""},null,null,null,null,null,null,null,{"$f":"IF(GetData!L202=\"\",\"\",GetData!L202)","v":""},{"$f":"IF(GetData!AD202=\"\",\"\",GetData!AD202)","v":""},null,null,null,null,null,null,null,{"$f":"IF(GetData!M202=\"\",\"\",GetData!M202)","v":""},{"$f":"IF(GetData!AE202=\"\",\"\",GetData!AE202)","v":""}]
[{"$f":"IF(GetData!I203=\"\",\"\",GetData!I203)","v":""},{"$f":"IF(GetData!AA203=\"\",\"\",GetData!AA203)","v":""},null,null,null,null,null,null,null,{"$f":"IF(GetData!J203=\"\",\"\",GetData!J203)","v":""},{"$f":"IF(GetData!AB203=\"\",\"\",GetData!AB203)","v":""},null,null,null,null,null,null,null,{"$f":"IF(GetData!K203=\"\",\"\",GetData!K203)","v":""},{"$f":"IF(GetData!AC203=\"\",\"\",GetData!AC203)","v":""},null,null,null,null,null,null,null,{"$f":"IF(GetData!L203=\"\",\"\",GetData!L203)","v":""},{"$f":"IF(GetData!AD203=\"\",\"\",GetData!AD203)","v":""},null,null,null,null,null,null,null,{"$f":"IF(GetData!M203=\"\",\"\",GetData!M203)","v":""},{"$f":"IF(GetData!AE203=\"\",\"\",GetData!AE203)","v":""}]
[{"$f":"IF(GetData!I204=\"\",\"\",GetData!I204)","v":""},{"$f":"IF(GetData!AA204=\"\",\"\",GetData!AA204)","v":""},null,null,null,null,null,null,null,{"$f":"IF(GetData!J204=\"\",\"\",GetData!J204)","v":""},{"$f":"IF(GetData!AB204=\"\",\"\",GetData!AB204)","v":""},null,null,null,null,null,null,null,{"$f":"IF(GetData!K204=\"\",\"\",GetData!K204)","v":""},{"$f":"IF(GetData!AC204=\"\",\"\",GetData!AC204)","v":""},null,null,null,null,null,null,null,{"$f":"IF(GetData!L204=\"\",\"\",GetData!L204)","v":""},{"$f":"IF(GetData!AD204=\"\",\"\",GetData!AD204)","v":""},null,null,null,null,null,null,null,{"$f":"IF(GetData!M204=\"\",\"\",GetData!M204)","v":""},{"$f":"IF(GetData!AE204=\"\",\"\",GetData!AE204)","v":""}]
[{"$f":"IF(GetData!I205=\"\",\"\",GetData!I205)","v":""},{"$f":"IF(GetData!AA205=\"\",\"\",GetData!AA205)","v":""},null,null,null,null,null,null,null,{"$f":"IF(GetData!J205=\"\",\"\",GetData!J205)","v":""},{"$f":"IF(GetData!AB205=\"\",\"\",GetData!AB205)","v":""},null,null,null,null,null,null,null,{"$f":"IF(GetData!K205=\"\",\"\",GetData!K205)","v":""},{"$f":"IF(GetData!AC205=\"\",\"\",GetData!AC205)","v":""},null,null,null,null,null,null,null,{"$f":"IF(GetData!L205=\"\",\"\",GetData!L205)","v":""},{"$f":"IF(GetData!AD205=\"\",\"\",GetData!AD205)","v":""},null,null,null,null,null,null,null,{"$f":"IF(GetData!M205=\"\",\"\",GetData!M205)","v":""},{"$f":"IF(GetData!AE205=\"\",\"\",GetData!AE205)","v":""}]
[{"$f":"IF(GetData!I206=\"\",\"\",GetData!I206)","v":""},{"$f":"IF(GetData!AA206=\"\",\"\",GetData!AA206)","v":""},null,null,null,null,null,null,null,{"$f":"IF(GetData!J206=\"\",\"\",GetData!J206)","v":""},{"$f":"IF(GetData!AB206=\"\",\"\",GetData!AB206)","v":""},null,null,null,null,null,null,null,{"$f":"IF(GetData!K206=\"\",\"\",GetData!K206)","v":""},{"$f":"IF(GetData!AC206=\"\",\"\",GetData!AC206)","v":""},null,null,null,null,null,null,null,{"$f":"IF(GetData!L206=\"\",\"\",GetData!L206)","v":""},{"$f":"IF(GetData!AD206=\"\",\"\",GetData!AD206)","v":""},null,null,null,null,null,null,null,{"$f":"IF(GetData!M206=\"\",\"\",GetData!M206)","v":""},{"$f":"IF(GetData!AE206=\"\",\"\",GetData!AE206)","v":""}]
[{"$f":"IF(GetData!I207=\"\",\"\",GetData!I207)","v":""},{"$f":"IF(GetData!AA207=\"\",\"\",GetData!AA207)","v":""},null,null,null,null,null,null,null,{"$f":"IF(GetData!J207=\"\",\"\",GetData!J207)","v":""},{"$f":"IF(GetData!AB207=\"\",\"\",GetData!AB207)","v":""},null,null,null,null,null,null,null,{"$f":"IF(GetData!K207=\"\",\"\",GetData!K207)","v":""},{"$f":"IF(GetData!AC207=\"\",\"\",GetData!AC207)","v":""},null,null,null,null,null,null,null,{"$f":"IF(GetData!L207=\"\",\"\",GetData!L207)","v":""},{"$f":"IF(GetData!AD207=\"\",\"\",GetData!AD207)","v":""},null,null,null,null,null,null,null,{"$f":"IF(GetData!M207=\"\",\"\",GetData!M207)","v":""},{"$f":"IF(GetData!AE207=\"\",\"\",GetData!AE207)","v":""}]
[{"$f":"IF(GetData!I208=\"\",\"\",GetData!I208)","v":""},{"$f":"IF(GetData!AA208=\"\",\"\",GetData!AA208)","v":""},null,null,null,null,null,null,null,{"$f":"IF(GetData!J208=\"\",\"\",GetData!J208)","v":""},{"$f":"IF(GetData!AB208=\"\",\"\",GetData!AB208)","v":""},null,null,null,null,null,null,null,{"$f":"IF(GetData!K208=\"\",\"\",GetData!K208)","v":""},{"$f":"IF(GetData!AC208=\"\",\"\",GetData!AC208)","v":""},null,null,null,null,null,null,null,{"$f":"IF(GetData!L208=\"\",\"\",GetData!L208)","v":""},{"$f":"IF(GetData!AD208=\"\",\"\",GetData!AD208)","v":""},null,null,null,null,null,null,null,{"$f":"IF(GetData!M208=\"\",\"\",GetData!M208)","v":""},{"$f":"IF(GetData!AE208=\"\",\"\",GetData!AE208)","v":""}]
[{"$f":"IF(GetData!I209=\"\",\"\",GetData!I209)","v":""},{"$f":"IF(GetData!AA209=\"\",\"\",GetData!AA209)","v":""},null,null,null,null,null,null,null,{"$f":"IF(GetData!J209=\"\",\"\",GetData!J209)","v":""},{"$f":"IF(GetData!AB209=\"\",\"\",GetData!AB209)","v":""},null,null,null,null,null,null,null,{"$f":"IF(GetData!K209=\"\",\"\",GetData!K209)","v":""},{"$f":"IF(GetData!AC209=\"\",\"\",GetData!AC209)","v":""},null,null,null,null,null,null,null,{"$f":"IF(GetData!L209=\"\",\"\",GetData!L209)","v":""},{"$f":"IF(GetData!AD209=\"\",\"\",GetData!AD209)","v":""},null,null,null,null,null,null,null,{"$f":"IF(GetData!M209=\"\",\"\",GetData!M209)","v":""},{"$f":"IF(GetData!AE209=\"\",\"\",GetData!AE209)","v":""}]
[{"$f":"IF(GetData!I210=\"\",\"\",GetData!I210)","v":""},{"$f":"IF(GetData!AA210=\"\",\"\",GetData!AA210)","v":""},null,null,null,null,null,null,null,{"$f":"IF(GetData!J210=\"\",\"\",GetData!J210)","v":""},{"$f":"IF(GetData!AB210=\"\",\"\",GetData!AB210)","v":""},null,null,null,null,null,null,null,{"$f":"IF(GetData!K210=\"\",\"\",GetData!K210)","v":""},{"$f":"IF(GetData!AC210=\"\",\"\",GetData!AC210)","v":""},null,null,null,null,null,null,null,{"$f":"IF(GetData!L210=\"\",\"\",GetData!L210)","v":""},{"$f":"IF(GetData!AD210=\"\",\"\",GetData!AD210)","v":""},null,null,null,null,null,null,null,{"$f":"IF(GetData!M210=\"\",\"\",GetData!M210)","v":""},{"$f":"IF(GetData!AE210=\"\",\"\",GetData!AE210)","v":""}]
[{"$f":"IF(GetData!I211=\"\",\"\",GetData!I211)","v":""},{"$f":"IF(GetData!AA211=\"\",\"\",GetData!AA211)","v":""},null,null,null,null,null,null,null,{"$f":"IF(GetData!J211=\"\",\"\",GetData!J211)","v":""},{"$f":"IF(GetData!AB211=\"\",\"\",GetData!AB211)","v":""},null,null,null,null,null,null,null,{"$f":"IF(GetData!K211=\"\",\"\",GetData!K211)","v":""},{"$f":"IF(GetData!AC211=\"\",\"\",GetData!AC211)","v":""},null,null,null,null,null,null,null,{"$f":"IF(GetData!L211=\"\",\"\",GetData!L211)","v":""},{"$f":"IF(GetData!AD211=\"\",\"\",GetData!AD211)","v":""},null,null,null,null,null,null,null,{"$f":"IF(GetData!M211=\"\",\"\",GetData!M211)","v":""},{"$f":"IF(GetData!AE211=\"\",\"\",GetData!AE211)","v":""}]
[{"$f":"IF(GetData!I212=\"\",\"\",GetData!I212)","v":""},{"$f":"IF(GetData!AA212=\"\",\"\",GetData!AA212)","v":""},null,null,null,null,null,null,null,{"$f":"IF(GetData!J212=\"\",\"\",GetData!J212)","v":""},{"$f":"IF(GetData!AB212=\"\",\"\",GetData!AB212)","v":""},null,null,null,null,null,null,null,{"$f":"IF(GetData!K212=\"\",\"\",GetData!K212)","v":""},{"$f":"IF(GetData!AC212=\"\",\"\",GetData!AC212)","v":""},null,null,null,null,null,null,null,{"$f":"IF(GetData!L212=\"\",\"\",GetData!L212)","v":""},{"$f":"IF(GetData!AD212=\"\",\"\",GetData!AD212)","v":""},null,null,null,null,null,null,null,{"$f":"IF(GetData!M212=\"\",\"\",GetData!M212)","v":""},{"$f":"IF(GetData!AE212=\"\",\"\",GetData!AE212)","v":""}]
[{"$f":"IF(GetData!I213=\"\",\"\",GetData!I213)","v":""},{"$f":"IF(GetData!AA213=\"\",\"\",GetData!AA213)","v":""},null,null,null,null,null,null,null,{"$f":"IF(GetData!J213=\"\",\"\",GetData!J213)","v":""},{"$f":"IF(GetData!AB213=\"\",\"\",GetData!AB213)","v":""},null,null,null,null,null,null,null,{"$f":"IF(GetData!K213=\"\",\"\",GetData!K213)","v":""},{"$f":"IF(GetData!AC213=\"\",\"\",GetData!AC213)","v":""},null,null,null,null,null,null,null,{"$f":"IF(GetData!L213=\"\",\"\",GetData!L213)","v":""},{"$f":"IF(GetData!AD213=\"\",\"\",GetData!AD213)","v":""},null,null,null,null,null,null,null,{"$f":"IF(GetData!M213=\"\",\"\",GetData!M213)","v":""},{"$f":"IF(GetData!AE213=\"\",\"\",GetData!AE213)","v":""}]
[{"$f":"IF(GetData!I214=\"\",\"\",GetData!I214)","v":""},{"$f":"IF(GetData!AA214=\"\",\"\",GetData!AA214)","v":""},null,null,null,null,null,null,null,{"$f":"IF(GetData!J214=\"\",\"\",GetData!J214)","v":""},{"$f":"IF(GetData!AB214=\"\",\"\",GetData!AB214)","v":""},null,null,null,null,null,null,null,{"$f":"IF(GetData!K214=\"\",\"\",GetData!K214)","v":""},{"$f":"IF(GetData!AC214=\"\",\"\",GetData!AC214)","v":""},null,null,null,null,null,null,null,{"$f":"IF(GetData!L214=\"\",\"\",GetData!L214)","v":""},{"$f":"IF(GetData!AD214=\"\",\"\",GetData!AD214)","v":""},null,null,null,null,null,null,null,{"$f":"IF(GetData!M214=\"\",\"\",GetData!M214)","v":""},{"$f":"IF(GetData!AE214=\"\",\"\",GetData!AE214)","v":""}]
[{"$f":"IF(GetData!I215=\"\",\"\",GetData!I215)","v":""},{"$f":"IF(GetData!AA215=\"\",\"\",GetData!AA215)","v":""},null,null,null,null,null,null,null,{"$f":"IF(GetData!J215=\"\",\"\",GetData!J215)","v":""},{"$f":"IF(GetData!AB215=\"\",\"\",GetData!AB215)","v":""},null,null,null,null,null,null,null,{"$f":"IF(GetData!K215=\"\",\"\",GetData!K215)","v":""},{"$f":"IF(GetData!AC215=\"\",\"\",GetData!AC215)","v":""},null,null,null,null,null,null,null,{"$f":"IF(GetData!L215=\"\",\"\",GetData!L215)","v":""},{"$f":"IF(GetData!AD215=\"\",\"\",GetData!AD215)","v":""},null,null,null,null,null,null,null,{"$f":"IF(GetData!M215=\"\",\"\",GetData!M215)","v":""},{"$f":"IF(GetData!AE215=\"\",\"\",GetData!AE215)","v":""}]
[{"$f":"IF(GetData!I216=\"\",\"\",GetData!I216)","v":""},{"$f":"IF(GetData!AA216=\"\",\"\",GetData!AA216)","v":""},null,null,null,null,null,null,null,{"$f":"IF(GetData!J216=\"\",\"\",GetData!J216)","v":""},{"$f":"IF(GetData!AB216=\"\",\"\",GetData!AB216)","v":""},null,null,null,null,null,null,null,{"$f":"IF(GetData!K216=\"\",\"\",GetData!K216)","v":""},{"$f":"IF(GetData!AC216=\"\",\"\",GetData!AC216)","v":""},null,null,null,null,null,null,null,{"$f":"IF(GetData!L216=\"\",\"\",GetData!L216)","v":""},{"$f":"IF(GetData!AD216=\"\",\"\",GetData!AD216)","v":""},null,null,null,null,null,null,null,{"$f":"IF(GetData!M216=\"\",\"\",GetData!M216)","v":""},{"$f":"IF(GetData!AE216=\"\",\"\",GetData!AE216)","v":""}]
[{"$f":"IF(GetData!I217=\"\",\"\",GetData!I217)","v":""},{"$f":"IF(GetData!AA217=\"\",\"\",GetData!AA217)","v":""},null,null,null,null,null,null,null,{"$f":"IF(GetData!J217=\"\",\"\",GetData!J217)","v":""},{"$f":"IF(GetData!AB217=\"\",\"\",GetData!AB217)","v":""},null,null,null,null,null,null,null,{"$f":"IF(GetData!K217=\"\",\"\",GetData!K217)","v":""},{"$f":"IF(GetData!AC217=\"\",\"\",GetData!AC217)","v":""},null,null,null,null,null,null,null,{"$f":"IF(GetData!L217=\"\",\"\",GetData!L217)","v":""},{"$f":"IF(GetData!AD217=\"\",\"\",GetData!AD217)","v":""},null,null,null,null,null,null,null,{"$f":"IF(GetData!M217=\"\",\"\",GetData!M217)","v":""},{"$f":"IF(GetData!AE217=\"\",\"\",GetData!AE217)","v":""}]
[{"$f":"IF(GetData!I218=\"\",\"\",GetData!I218)","v":""},{"$f":"IF(GetData!AA218=\"\",\"\",GetData!AA218)","v":""},null,null,null,null,null,null,null,{"$f":"IF(GetData!J218=\"\",\"\",GetData!J218)","v":""},{"$f":"IF(GetData!AB218=\"\",\"\",GetData!AB218)","v":""},null,null,null,null,null,null,null,{"$f":"IF(GetData!K218=\"\",\"\",GetData!K218)","v":""},{"$f":"IF(GetData!AC218=\"\",\"\",GetData!AC218)","v":""},null,null,null,null,null,null,null,{"$f":"IF(GetData!L218=\"\",\"\",GetData!L218)","v":""},{"$f":"IF(GetData!AD218=\"\",\"\",GetData!AD218)","v":""},null,null,null,null,null,null,null,{"$f":"IF(GetData!M218=\"\",\"\",GetData!M218)","v":""},{"$f":"IF(GetData!AE218=\"\",\"\",GetData!AE218)","v":""}]
[{"$f":"IF(GetData!I219=\"\",\"\",GetData!I219)","v":""},{"$f":"IF(GetData!AA219=\"\",\"\",GetData!AA219)","v":""},null,null,null,null,null,null,null,{"$f":"IF(GetData!J219=\"\",\"\",GetData!J219)","v":""},{"$f":"IF(GetData!AB219=\"\",\"\",GetData!AB219)","v":""},null,null,null,null,null,null,null,{"$f":"IF(GetData!K219=\"\",\"\",GetData!K219)","v":""},{"$f":"IF(GetData!AC219=\"\",\"\",GetData!AC219)","v":""},null,null,null,null,null,null,null,{"$f":"IF(GetData!L219=\"\",\"\",GetData!L219)","v":""},{"$f":"IF(GetData!AD219=\"\",\"\",GetData!AD219)","v":""},null,null,null,null,null,null,null,{"$f":"IF(GetData!M219=\"\",\"\",GetData!M219)","v":""},{"$f":"IF(GetData!AE219=\"\",\"\",GetData!AE219)","v":""}]
[{"$f":"IF(GetData!I220=\"\",\"\",GetData!I220)","v":""},{"$f":"IF(GetData!AA220=\"\",\"\",GetData!AA220)","v":""},null,null,null,null,null,null,null,{"$f":"IF(GetData!J220=\"\",\"\",GetData!J220)","v":""},{"$f":"IF(GetData!AB220=\"\",\"\",GetData!AB220)","v":""},null,null,null,null,null,null,null,{"$f":"IF(GetData!K220=\"\",\"\",GetData!K220)","v":""},{"$f":"IF(GetData!AC220=\"\",\"\",GetData!AC220)","v":""},null,null,null,null,null,null,null,{"$f":"IF(GetData!L220=\"\",\"\",GetData!L220)","v":""},{"$f":"IF(GetData!AD220=\"\",\"\",GetData!AD220)","v":""},null,null,null,null,null,null,null,{"$f":"IF(GetData!M220=\"\",\"\",GetData!M220)","v":""},{"$f":"IF(GetData!AE220=\"\",\"\",GetData!AE220)","v":""}]
[{"$f":"IF(GetData!I221=\"\",\"\",GetData!I221)","v":""},{"$f":"IF(GetData!AA221=\"\",\"\",GetData!AA221)","v":""},null,null,null,null,null,null,null,{"$f":"IF(GetData!J221=\"\",\"\",GetData!J221)","v":""},{"$f":"IF(GetData!AB221=\"\",\"\",GetData!AB221)","v":""},null,null,null,null,null,null,null,{"$f":"IF(GetData!K221=\"\",\"\",GetData!K221)","v":""},{"$f":"IF(GetData!AC221=\"\",\"\",GetData!AC221)","v":""},null,null,null,null,null,null,null,{"$f":"IF(GetData!L221=\"\",\"\",GetData!L221)","v":""},{"$f":"IF(GetData!AD221=\"\",\"\",GetData!AD221)","v":""},null,null,null,null,null,null,null,{"$f":"IF(GetData!M221=\"\",\"\",GetData!M221)","v":""},{"$f":"IF(GetData!AE221=\"\",\"\",GetData!AE221)","v":""}]
[{"$f":"IF(GetData!I222=\"\",\"\",GetData!I222)","v":""},{"$f":"IF(GetData!AA222=\"\",\"\",GetData!AA222)","v":""},null,null,null,null,null,null,null,{"$f":"IF(GetData!J222=\"\",\"\",GetData!J222)","v":""},{"$f":"IF(GetData!AB222=\"\",\"\",GetData!AB222)","v":""},null,null,null,null,null,null,null,{"$f":"IF(GetData!K222=\"\",\"\",GetData!K222)","v":""},{"$f":"IF(GetData!AC222=\"\",\"\",GetData!AC222)","v":""},null,null,null,null,null,null,null,{"$f":"IF(GetData!L222=\"\",\"\",GetData!L222)","v":""},{"$f":"IF(GetData!AD222=\"\",\"\",GetData!AD222)","v":""},null,null,null,null,null,null,null,{"$f":"IF(GetData!M222=\"\",\"\",GetData!M222)","v":""},{"$f":"IF(GetData!AE222=\"\",\"\",GetData!AE222)","v":""}]
[{"$f":"IF(GetData!I223=\"\",\"\",GetData!I223)","v":""},{"$f":"IF(GetData!AA223=\"\",\"\",GetData!AA223)","v":""},null,null,null,null,null,null,null,{"$f":"IF(GetData!J223=\"\",\"\",GetData!J223)","v":""},{"$f":"IF(GetData!AB223=\"\",\"\",GetData!AB223)","v":""},null,null,null,null,null,null,null,{"$f":"IF(GetData!K223=\"\",\"\",GetData!K223)","v":""},{"$f":"IF(GetData!AC223=\"\",\"\",GetData!AC223)","v":""},null,null,null,null,null,null,null,{"$f":"IF(GetData!L223=\"\",\"\",GetData!L223)","v":""},{"$f":"IF(GetData!AD223=\"\",\"\",GetData!AD223)","v":""},null,null,null,null,null,null,null,{"$f":"IF(GetData!M223=\"\",\"\",GetData!M223)","v":""},{"$f":"IF(GetData!AE223=\"\",\"\",GetData!AE223)","v":""}]
[{"$f":"IF(GetData!I224=\"\",\"\",GetData!I224)","v":""},{"$f":"IF(GetData!AA224=\"\",\"\",GetData!AA224)","v":""},null,null,null,null,null,null,null,{"$f":"IF(GetData!J224=\"\",\"\",GetData!J224)","v":""},{"$f":"IF(GetData!AB224=\"\",\"\",GetData!AB224)","v":""},null,null,null,null,null,null,null,{"$f":"IF(GetData!K224=\"\",\"\",GetData!K224)","v":""},{"$f":"IF(GetData!AC224=\"\",\"\",GetData!AC224)","v":""},null,null,null,null,null,null,null,{"$f":"IF(GetData!L224=\"\",\"\",GetData!L224)","v":""},{"$f":"IF(GetData!AD224=\"\",\"\",GetData!AD224)","v":""},null,null,null,null,null,null,null,{"$f":"IF(GetData!M224=\"\",\"\",GetData!M224)","v":""},{"$f":"IF(GetData!AE224=\"\",\"\",GetData!AE224)","v":""}]
[{"$f":"IF(GetData!I225=\"\",\"\",GetData!I225)","v":""},{"$f":"IF(GetData!AA225=\"\",\"\",GetData!AA225)","v":""},null,null,null,null,null,null,null,{"$f":"IF(GetData!J225=\"\",\"\",GetData!J225)","v":""},{"$f":"IF(GetData!AB225=\"\",\"\",GetData!AB225)","v":""},null,null,null,null,null,null,null,{"$f":"IF(GetData!K225=\"\",\"\",GetData!K225)","v":""},{"$f":"IF(GetData!AC225=\"\",\"\",GetData!AC225)","v":""},null,null,null,null,null,null,null,{"$f":"IF(GetData!L225=\"\",\"\",GetData!L225)","v":""},{"$f":"IF(GetData!AD225=\"\",\"\",GetData!AD225)","v":""},null,null,null,null,null,null,null,{"$f":"IF(GetData!M225=\"\",\"\",GetData!M225)","v":""},{"$f":"IF(GetData!AE225=\"\",\"\",GetData!AE225)","v":""}]
[{"$f":"IF(GetData!I226=\"\",\"\",GetData!I226)","v":""},{"$f":"IF(GetData!AA226=\"\",\"\",GetData!AA226)","v":""},null,null,null,null,null,null,null,{"$f":"IF(GetData!J226=\"\",\"\",GetData!J226)","v":""},{"$f":"IF(GetData!AB226=\"\",\"\",GetData!AB226)","v":""},null,null,null,null,null,null,null,{"$f":"IF(GetData!K226=\"\",\"\",GetData!K226)","v":""},{"$f":"IF(GetData!AC226=\"\",\"\",GetData!AC226)","v":""},null,null,null,null,null,null,null,{"$f":"IF(GetData!L226=\"\",\"\",GetData!L226)","v":""},{"$f":"IF(GetData!AD226=\"\",\"\",GetData!AD226)","v":""},null,null,null,null,null,null,null,{"$f":"IF(GetData!M226=\"\",\"\",GetData!M226)","v":""},{"$f":"IF(GetData!AE226=\"\",\"\",GetData!AE226)","v":""}]
[{"$f":"IF(GetData!I227=\"\",\"\",GetData!I227)","v":""},{"$f":"IF(GetData!AA227=\"\",\"\",GetData!AA227)","v":""},null,null,null,null,null,null,null,{"$f":"IF(GetData!J227=\"\",\"\",GetData!J227)","v":""},{"$f":"IF(GetData!AB227=\"\",\"\",GetData!AB227)","v":""},null,null,null,null,null,null,null,{"$f":"IF(GetData!K227=\"\",\"\",GetData!K227)","v":""},{"$f":"IF(GetData!AC227=\"\",\"\",GetData!AC227)","v":""},null,null,null,null,null,null,null,{"$f":"IF(GetData!L227=\"\",\"\",GetData!L227)","v":""},{"$f":"IF(GetData!AD227=\"\",\"\",GetData!AD227)","v":""},null,null,null,null,null,null,null,{"$f":"IF(GetData!M227=\"\",\"\",GetData!M227)","v":""},{"$f":"IF(GetData!AE227=\"\",\"\",GetData!AE227)","v":""}]
[{"$f":"IF(GetData!I228=\"\",\"\",GetData!I228)","v":""},{"$f":"IF(GetData!AA228=\"\",\"\",GetData!AA228)","v":""},null,null,null,null,null,null,null,{"$f":"IF(GetData!J228=\"\",\"\",GetData!J228)","v":""},{"$f":"IF(GetData!AB228=\"\",\"\",GetData!AB228)","v":""},null,null,null,null,null,null,null,{"$f":"IF(GetData!K228=\"\",\"\",GetData!K228)","v":""},{"$f":"IF(GetData!AC228=\"\",\"\",GetData!AC228)","v":""},null,null,null,null,null,null,null,{"$f":"IF(GetData!L228=\"\",\"\",GetData!L228)","v":""},{"$f":"IF(GetData!AD228=\"\",\"\",GetData!AD228)","v":""},null,null,null,null,null,null,null,{"$f":"IF(GetData!M228=\"\",\"\",GetData!M228)","v":""},{"$f":"IF(GetData!AE228=\"\",\"\",GetData!AE228)","v":""}]
[{"$f":"IF(GetData!I229=\"\",\"\",GetData!I229)","v":""},{"$f":"IF(GetData!AA229=\"\",\"\",GetData!AA229)","v":""},null,null,null,null,null,null,null,{"$f":"IF(GetData!J229=\"\",\"\",GetData!J229)","v":""},{"$f":"IF(GetData!AB229=\"\",\"\",GetData!AB229)","v":""},null,null,null,null,null,null,null,{"$f":"IF(GetData!K229=\"\",\"\",GetData!K229)","v":""},{"$f":"IF(GetData!AC229=\"\",\"\",GetData!AC229)","v":""},null,null,null,null,null,null,null,{"$f":"IF(GetData!L229=\"\",\"\",GetData!L229)","v":""},{"$f":"IF(GetData!AD229=\"\",\"\",GetData!AD229)","v":""},null,null,null,null,null,null,null,{"$f":"IF(GetData!M229=\"\",\"\",GetData!M229)","v":""},{"$f":"IF(GetData!AE229=\"\",\"\",GetData!AE229)","v":""}]
[{"$f":"IF(GetData!I230=\"\",\"\",GetData!I230)","v":""},{"$f":"IF(GetData!AA230=\"\",\"\",GetData!AA230)","v":""},null,null,null,null,null,null,null,{"$f":"IF(GetData!J230=\"\",\"\",GetData!J230)","v":""},{"$f":"IF(GetData!AB230=\"\",\"\",GetData!AB230)","v":""},null,null,null,null,null,null,null,{"$f":"IF(GetData!K230=\"\",\"\",GetData!K230)","v":""},{"$f":"IF(GetData!AC230=\"\",\"\",GetData!AC230)","v":""},null,null,null,null,null,null,null,{"$f":"IF(GetData!L230=\"\",\"\",GetData!L230)","v":""},{"$f":"IF(GetData!AD230=\"\",\"\",GetData!AD230)","v":""},null,null,null,null,null,null,null,{"$f":"IF(GetData!M230=\"\",\"\",GetData!M230)","v":""},{"$f":"IF(GetData!AE230=\"\",\"\",GetData!AE230)","v":""}]
[{"$f":"IF(GetData!I231=\"\",\"\",GetData!I231)","v":""},{"$f":"IF(GetData!AA231=\"\",\"\",GetData!AA231)","v":""},null,null,null,null,null,null,null,{"$f":"IF(GetData!J231=\"\",\"\",GetData!J231)","v":""},{"$f":"IF(GetData!AB231=\"\",\"\",GetData!AB231)","v":""},null,null,null,null,null,null,null,{"$f":"IF(GetData!K231=\"\",\"\",GetData!K231)","v":""},{"$f":"IF(GetData!AC231=\"\",\"\",GetData!AC231)","v":""},null,null,null,null,null,null,null,{"$f":"IF(GetData!L231=\"\",\"\",GetData!L231)","v":""},{"$f":"IF(GetData!AD231=\"\",\"\",GetData!AD231)","v":""},null,null,null,null,null,null,null,{"$f":"IF(GetData!M231=\"\",\"\",GetData!M231)","v":""},{"$f":"IF(GetData!AE231=\"\",\"\",GetData!AE231)","v":""}]
[{"$f":"IF(GetData!I232=\"\",\"\",GetData!I232)","v":""},{"$f":"IF(GetData!AA232=\"\",\"\",GetData!AA232)","v":""},null,null,null,null,null,null,null,{"$f":"IF(GetData!J232=\"\",\"\",GetData!J232)","v":""},{"$f":"IF(GetData!AB232=\"\",\"\",GetData!AB232)","v":""},null,null,null,null,null,null,null,{"$f":"IF(GetData!K232=\"\",\"\",GetData!K232)","v":""},{"$f":"IF(GetData!AC232=\"\",\"\",GetData!AC232)","v":""},null,null,null,null,null,null,null,{"$f":"IF(GetData!L232=\"\",\"\",GetData!L232)","v":""},{"$f":"IF(GetData!AD232=\"\",\"\",GetData!AD232)","v":""},null,null,null,null,null,null,null,{"$f":"IF(GetData!M232=\"\",\"\",GetData!M232)","v":""},{"$f":"IF(GetData!AE232=\"\",\"\",GetData!AE232)","v":""}]
[{"$f":"IF(GetData!I233=\"\",\"\",GetData!I233)","v":""},{"$f":"IF(GetData!AA233=\"\",\"\",GetData!AA233)","v":""},null,null,null,null,null,null,null,{"$f":"IF(GetData!J233=\"\",\"\",GetData!J233)","v":""},{"$f":"IF(GetData!AB233=\"\",\"\",GetData!AB233)","v":""},null,null,null,null,null,null,null,{"$f":"IF(GetData!K233=\"\",\"\",GetData!K233)","v":""},{"$f":"IF(GetData!AC233=\"\",\"\",GetData!AC233)","v":""},null,null,null,null,null,null,null,{"$f":"IF(GetData!L233=\"\",\"\",GetData!L233)","v":""},{"$f":"IF(GetData!AD233=\"\",\"\",GetData!AD233)","v":""},null,null,null,null,null,null,null,{"$f":"IF(GetData!M233=\"\",\"\",GetData!M233)","v":""},{"$f":"IF(GetData!AE233=\"\",\"\",GetData!AE233)","v":""}]
[{"$f":"IF(GetData!I234=\"\",\"\",GetData!I234)","v":""},{"$f":"IF(GetData!AA234=\"\",\"\",GetData!AA234)","v":""},null,null,null,null,null,null,null,{"$f":"IF(GetData!J234=\"\",\"\",GetData!J234)","v":""},{"$f":"IF(GetData!AB234=\"\",\"\",GetData!AB234)","v":""},null,null,null,null,null,null,null,{"$f":"IF(GetData!K234=\"\",\"\",GetData!K234)","v":""},{"$f":"IF(GetData!AC234=\"\",\"\",GetData!AC234)","v":""},null,null,null,null,null,null,null,{"$f":"IF(GetData!L234=\"\",\"\",GetData!L234)","v":""},{"$f":"IF(GetData!AD234=\"\",\"\",GetData!AD234)","v":""},null,null,null,null,null,null,null,{"$f":"IF(GetData!M234=\"\",\"\",GetData!M234)","v":""},{"$f":"IF(GetData!AE234=\"\",\"\",GetData!AE234)","v":""}]
[{"$f":"IF(GetData!I235=\"\",\"\",GetData!I235)","v":""},{"$f":"IF(GetData!AA235=\"\",\"\",GetData!AA235)","v":""},null,null,null,null,null,null,null,{"$f":"IF(GetData!J235=\"\",\"\",GetData!J235)","v":""},{"$f":"IF(GetData!AB235=\"\",\"\",GetData!AB235)","v":""},null,null,null,null,null,null,null,{"$f":"IF(GetData!K235=\"\",\"\",GetData!K235)","v":""},{"$f":"IF(GetData!AC235=\"\",\"\",GetData!AC235)","v":""},null,null,null,null,null,null,null,{"$f":"IF(GetData!L235=\"\",\"\",GetData!L235)","v":""},{"$f":"IF(GetData!AD235=\"\",\"\",GetData!AD235)","v":""},null,null,null,null,null,null,null,{"$f":"IF(GetData!M235=\"\",\"\",GetData!M235)","v":""},{"$f":"IF(GetData!AE235=\"\",\"\",GetData!AE235)","v":""}]
[{"$f":"IF(GetData!I236=\"\",\"\",GetData!I236)","v":""},{"$f":"IF(GetData!AA236=\"\",\"\",GetData!AA236)","v":""},null,null,null,null,null,null,null,{"$f":"IF(GetData!J236=\"\",\"\",GetData!J236)","v":""},{"$f":"IF(GetData!AB236=\"\",\"\",GetData!AB236)","v":""},null,null,null,null,null,null,null,{"$f":"IF(GetData!K236=\"\",\"\",GetData!K236)","v":""},{"$f":"IF(GetData!AC236=\"\",\"\",GetData!AC236)","v":""},null,null,null,null,null,null,null,{"$f":"IF(GetData!L236=\"\",\"\",GetData!L236)","v":""},{"$f":"IF(GetData!AD236=\"\",\"\",GetData!AD236)","v":""},null,null,null,null,null,null,null,{"$f":"IF(GetData!M236=\"\",\"\",GetData!M236)","v":""},{"$f":"IF(GetData!AE236=\"\",\"\",GetData!AE236)","v":""}]
[{"$f":"IF(GetData!I237=\"\",\"\",GetData!I237)","v":""},{"$f":"IF(GetData!AA237=\"\",\"\",GetData!AA237)","v":""},null,null,null,null,null,null,null,{"$f":"IF(GetData!J237=\"\",\"\",GetData!J237)","v":""},{"$f":"IF(GetData!AB237=\"\",\"\",GetData!AB237)","v":""},null,null,null,null,null,null,null,{"$f":"IF(GetData!K237=\"\",\"\",GetData!K237)","v":""},{"$f":"IF(GetData!AC237=\"\",\"\",GetData!AC237)","v":""},null,null,null,null,null,null,null,{"$f":"IF(GetData!L237=\"\",\"\",GetData!L237)","v":""},{"$f":"IF(GetData!AD237=\"\",\"\",GetData!AD237)","v":""},null,null,null,null,null,null,null,{"$f":"IF(GetData!M237=\"\",\"\",GetData!M237)","v":""},{"$f":"IF(GetData!AE237=\"\",\"\",GetData!AE237)","v":""}]
[{"$f":"IF(GetData!I238=\"\",\"\",GetData!I238)","v":""},{"$f":"IF(GetData!AA238=\"\",\"\",GetData!AA238)","v":""},null,null,null,null,null,null,null,{"$f":"IF(GetData!J238=\"\",\"\",GetData!J238)","v":""},{"$f":"IF(GetData!AB238=\"\",\"\",GetData!AB238)","v":""},null,null,null,null,null,null,null,{"$f":"IF(GetData!K238=\"\",\"\",GetData!K238)","v":""},{"$f":"IF(GetData!AC238=\"\",\"\",GetData!AC238)","v":""},null,null,null,null,null,null,null,{"$f":"IF(GetData!L238=\"\",\"\",GetData!L238)","v":""},{"$f":"IF(GetData!AD238=\"\",\"\",GetData!AD238)","v":""},null,null,null,null,null,null,null,{"$f":"IF(GetData!M238=\"\",\"\",GetData!M238)","v":""},{"$f":"IF(GetData!AE238=\"\",\"\",GetData!AE238)","v":""}]
[{"$f":"IF(GetData!I239=\"\",\"\",GetData!I239)","v":""},{"$f":"IF(GetData!AA239=\"\",\"\",GetData!AA239)","v":""},null,null,null,null,null,null,null,{"$f":"IF(GetData!J239=\"\",\"\",GetData!J239)","v":""},{"$f":"IF(GetData!AB239=\"\",\"\",GetData!AB239)","v":""},null,null,null,null,null,null,null,{"$f":"IF(GetData!K239=\"\",\"\",GetData!K239)","v":""},{"$f":"IF(GetData!AC239=\"\",\"\",GetData!AC239)","v":""},null,null,null,null,null,null,null,{"$f":"IF(GetData!L239=\"\",\"\",GetData!L239)","v":""},{"$f":"IF(GetData!AD239=\"\",\"\",GetData!AD239)","v":""},null,null,null,null,null,null,null,{"$f":"IF(GetData!M239=\"\",\"\",GetData!M239)","v":""},{"$f":"IF(GetData!AE239=\"\",\"\",GetData!AE239)","v":""}]
[{"$f":"IF(GetData!I240=\"\",\"\",GetData!I240)","v":""},{"$f":"IF(GetData!AA240=\"\",\"\",GetData!AA240)","v":""},null,null,null,null,null,null,null,{"$f":"IF(GetData!J240=\"\",\"\",GetData!J240)","v":""},{"$f":"IF(GetData!AB240=\"\",\"\",GetData!AB240)","v":""},null,null,null,null,null,null,null,{"$f":"IF(GetData!K240=\"\",\"\",GetData!K240)","v":""},{"$f":"IF(GetData!AC240=\"\",\"\",GetData!AC240)","v":""},null,null,null,null,null,null,null,{"$f":"IF(GetData!L240=\"\",\"\",GetData!L240)","v":""},{"$f":"IF(GetData!AD240=\"\",\"\",GetData!AD240)","v":""},null,null,null,null,null,null,null,{"$f":"IF(GetData!M240=\"\",\"\",GetData!M240)","v":""},{"$f":"IF(GetData!AE240=\"\",\"\",GetData!AE240)","v":""}]
[{"$f":"IF(GetData!I241=\"\",\"\",GetData!I241)","v":""},{"$f":"IF(GetData!AA241=\"\",\"\",GetData!AA241)","v":""},null,null,null,null,null,null,null,{"$f":"IF(GetData!J241=\"\",\"\",GetData!J241)","v":""},{"$f":"IF(GetData!AB241=\"\",\"\",GetData!AB241)","v":""},null,null,null,null,null,null,null,{"$f":"IF(GetData!K241=\"\",\"\",GetData!K241)","v":""},{"$f":"IF(GetData!AC241=\"\",\"\",GetData!AC241)","v":""},null,null,null,null,null,null,null,{"$f":"IF(GetData!L241=\"\",\"\",GetData!L241)","v":""},{"$f":"IF(GetData!AD241=\"\",\"\",GetData!AD241)","v":""},null,null,null,null,null,null,null,{"$f":"IF(GetData!M241=\"\",\"\",GetData!M241)","v":""},{"$f":"IF(GetData!AE241=\"\",\"\",GetData!AE241)","v":""}]
[{"$f":"IF(GetData!I242=\"\",\"\",GetData!I242)","v":""},{"$f":"IF(GetData!AA242=\"\",\"\",GetData!AA242)","v":""},null,null,null,null,null,null,null,{"$f":"IF(GetData!J242=\"\",\"\",GetData!J242)","v":""},{"$f":"IF(GetData!AB242=\"\",\"\",GetData!AB242)","v":""},null,null,null,null,null,null,null,{"$f":"IF(GetData!K242=\"\",\"\",GetData!K242)","v":""},{"$f":"IF(GetData!AC242=\"\",\"\",GetData!AC242)","v":""},null,null,null,null,null,null,null,{"$f":"IF(GetData!L242=\"\",\"\",GetData!L242)","v":""},{"$f":"IF(GetData!AD242=\"\",\"\",GetData!AD242)","v":""},null,null,null,null,null,null,null,{"$f":"IF(GetData!M242=\"\",\"\",GetData!M242)","v":""},{"$f":"IF(GetData!AE242=\"\",\"\",GetData!AE242)","v":""}]
[{"$f":"IF(GetData!I243=\"\",\"\",GetData!I243)","v":""},{"$f":"IF(GetData!AA243=\"\",\"\",GetData!AA243)","v":""},null,null,null,null,null,null,null,{"$f":"IF(GetData!J243=\"\",\"\",GetData!J243)","v":""},{"$f":"IF(GetData!AB243=\"\",\"\",GetData!AB243)","v":""},null,null,null,null,null,null,null,{"$f":"IF(GetData!K243=\"\",\"\",GetData!K243)","v":""},{"$f":"IF(GetData!AC243=\"\",\"\",GetData!AC243)","v":""},null,null,null,null,null,null,null,{"$f":"IF(GetData!L243=\"\",\"\",GetData!L243)","v":""},{"$f":"IF(GetData!AD243=\"\",\"\",GetData!AD243)","v":""},null,null,null,null,null,null,null,{"$f":"IF(GetData!M243=\"\",\"\",GetData!M243)","v":""},{"$f":"IF(GetData!AE243=\"\",\"\",GetData!AE243)","v":""}]
[{"$f":"IF(GetData!I244=\"\",\"\",GetData!I244)","v":""},{"$f":"IF(GetData!AA244=\"\",\"\",GetData!AA244)","v":""},null,null,null,null,null,null,null,{"$f":"IF(GetData!J244=\"\",\"\",GetData!J244)","v":""},{"$f":"IF(GetData!AB244=\"\",\"\",GetData!AB244)","v":""},null,null,null,null,null,null,null,{"$f":"IF(GetData!K244=\"\",\"\",GetData!K244)","v":""},{"$f":"IF(GetData!AC244=\"\",\"\",GetData!AC244)","v":""},null,null,null,null,null,null,null,{"$f":"IF(GetData!L244=\"\",\"\",GetData!L244)","v":""},{"$f":"IF(GetData!AD244=\"\",\"\",GetData!AD244)","v":""},null,null,null,null,null,null,null,{"$f":"IF(GetData!M244=\"\",\"\",GetData!M244)","v":""},{"$f":"IF(GetData!AE244=\"\",\"\",GetData!AE244)","v":""}]
[{"$f":"IF(GetData!I245=\"\",\"\",GetData!I245)","v":""},{"$f":"IF(GetData!AA245=\"\",\"\",GetData!AA245)","v":""},null,null,null,null,null,null,null,{"$f":"IF(GetData!J245=\"\",\"\",GetData!J245)","v":""},{"$f":"IF(GetData!AB245=\"\",\"\",GetData!AB245)","v":""},null,null,null,null,null,null,null,{"$f":"IF(GetData!K245=\"\",\"\",GetData!K245)","v":""},{"$f":"IF(GetData!AC245=\"\",\"\",GetData!AC245)","v":""},null,null,null,null,null,null,null,{"$f":"IF(GetData!L245=\"\",\"\",GetData!L245)","v":""},{"$f":"IF(GetData!AD245=\"\",\"\",GetData!AD245)","v":""},null,null,null,null,null,null,null,{"$f":"IF(GetData!M245=\"\",\"\",GetData!M245)","v":""},{"$f":"IF(GetData!AE245=\"\",\"\",GetData!AE245)","v":""}]
[{"$f":"IF(GetData!I246=\"\",\"\",GetData!I246)","v":""},{"$f":"IF(GetData!AA246=\"\",\"\",GetData!AA246)","v":""},null,null,null,null,null,null,null,{"$f":"IF(GetData!J246=\"\",\"\",GetData!J246)","v":""},{"$f":"IF(GetData!AB246=\"\",\"\",GetData!AB246)","v":""},null,null,null,null,null,null,null,{"$f":"IF(GetData!K246=\"\",\"\",GetData!K246)","v":""},{"$f":"IF(GetData!AC246=\"\",\"\",GetData!AC246)","v":""},null,null,null,null,null,null,null,{"$f":"IF(GetData!L246=\"\",\"\",GetData!L246)","v":""},{"$f":"IF(GetData!AD246=\"\",\"\",GetData!AD246)","v":""},null,null,null,null,null,null,null,{"$f":"IF(GetData!M246=\"\",\"\",GetData!M246)","v":""},{"$f":"IF(GetData!AE246=\"\",\"\",GetData!AE246)","v":""}]
[{"$f":"IF(GetData!I247=\"\",\"\",GetData!I247)","v":""},{"$f":"IF(GetData!AA247=\"\",\"\",GetData!AA247)","v":""},null,null,null,null,null,null,null,{"$f":"IF(GetData!J247=\"\",\"\",GetData!J247)","v":""},{"$f":"IF(GetData!AB247=\"\",\"\",GetData!AB247)","v":""},null,null,null,null,null,null,null,{"$f":"IF(GetData!K247=\"\",\"\",GetData!K247)","v":""},{"$f":"IF(GetData!AC247=\"\",\"\",GetData!AC247)","v":""},null,null,null,null,null,null,null,{"$f":"IF(GetData!L247=\"\",\"\",GetData!L247)","v":""},{"$f":"IF(GetData!AD247=\"\",\"\",GetData!AD247)","v":""},null,null,null,null,null,null,null,{"$f":"IF(GetData!M247=\"\",\"\",GetData!M247)","v":""},{"$f":"IF(GetData!AE247=\"\",\"\",GetData!AE247)","v":""}]
[{"$f":"IF(GetData!I248=\"\",\"\",GetData!I248)","v":""},{"$f":"IF(GetData!AA248=\"\",\"\",GetData!AA248)","v":""},null,null,null,null,null,null,null,{"$f":"IF(GetData!J248=\"\",\"\",GetData!J248)","v":""},{"$f":"IF(GetData!AB248=\"\",\"\",GetData!AB248)","v":""},null,null,null,null,null,null,null,{"$f":"IF(GetData!K248=\"\",\"\",GetData!K248)","v":""},{"$f":"IF(GetData!AC248=\"\",\"\",GetData!AC248)","v":""},null,null,null,null,null,null,null,{"$f":"IF(GetData!L248=\"\",\"\",GetData!L248)","v":""},{"$f":"IF(GetData!AD248=\"\",\"\",GetData!AD248)","v":""},null,null,null,null,null,null,null,{"$f":"IF(GetData!M248=\"\",\"\",GetData!M248)","v":""},{"$f":"IF(GetData!AE248=\"\",\"\",GetData!AE248)","v":""}]
[{"$f":"IF(GetData!I249=\"\",\"\",GetData!I249)","v":""},{"$f":"IF(GetData!AA249=\"\",\"\",GetData!AA249)","v":""},null,null,null,null,null,null,null,{"$f":"IF(GetData!J249=\"\",\"\",GetData!J249)","v":""},{"$f":"IF(GetData!AB249=\"\",\"\",GetData!AB249)","v":""},null,null,null,null,null,null,null,{"$f":"IF(GetData!K249=\"\",\"\",GetData!K249)","v":""},{"$f":"IF(GetData!AC249=\"\",\"\",GetData!AC249)","v":""},null,null,null,null,null,null,null,{"$f":"IF(GetData!L249=\"\",\"\",GetData!L249)","v":""},{"$f":"IF(GetData!AD249=\"\",\"\",GetData!AD249)","v":""},null,null,null,null,null,null,null,{"$f":"IF(GetData!M249=\"\",\"\",GetData!M249)","v":""},{"$f":"IF(GetData!AE249=\"\",\"\",GetData!AE249)","v":""}]
[{"$f":"IF(GetData!I250=\"\",\"\",GetData!I250)","v":""},{"$f":"IF(GetData!AA250=\"\",\"\",GetData!AA250)","v":""},null,null,null,null,null,null,null,{"$f":"IF(GetData!J250=\"\",\"\",GetData!J250)","v":""},{"$f":"IF(GetData!AB250=\"\",\"\",GetData!AB250)","v":""},null,null,null,null,null,null,null,{"$f":"IF(GetData!K250=\"\",\"\",GetData!K250)","v":""},{"$f":"IF(GetData!AC250=\"\",\"\",GetData!AC250)","v":""},null,null,null,null,null,null,null,{"$f":"IF(GetData!L250=\"\",\"\",GetData!L250)","v":""},{"$f":"IF(GetData!AD250=\"\",\"\",GetData!AD250)","v":""},null,null,null,null,null,null,null,{"$f":"IF(GetData!M250=\"\",\"\",GetData!M250)","v":""},{"$f":"IF(GetData!AE250=\"\",\"\",GetData!AE250)","v":""}]
[{"$f":"IF(GetData!I251=\"\",\"\",GetData!I251)","v":""},{"$f":"IF(GetData!AA251=\"\",\"\",GetData!AA251)","v":""},null,null,null,null,null,null,null,{"$f":"IF(GetData!J251=\"\",\"\",GetData!J251)","v":""},{"$f":"IF(GetData!AB251=\"\",\"\",GetData!AB251)","v":""},null,null,null,null,null,null,null,{"$f":"IF(GetData!K251=\"\",\"\",GetData!K251)","v":""},{"$f":"IF(GetData!AC251=\"\",\"\",GetData!AC251)","v":""},null,null,null,null,null,null,null,{"$f":"IF(GetData!L251=\"\",\"\",GetData!L251)","v":""},{"$f":"IF(GetData!AD251=\"\",\"\",GetData!AD251)","v":""},null,null,null,null,null,null,null,{"$f":"IF(GetData!M251=\"\",\"\",GetData!M251)","v":""},{"$f":"IF(GetData!AE251=\"\",\"\",GetData!AE251)","v":""}]
[{"$f":"IF(GetData!I252=\"\",\"\",GetData!I252)","v":""},{"$f":"IF(GetData!AA252=\"\",\"\",GetData!AA252)","v":""},null,null,null,null,null,null,null,{"$f":"IF(GetData!J252=\"\",\"\",GetData!J252)","v":""},{"$f":"IF(GetData!AB252=\"\",\"\",GetData!AB252)","v":""},null,null,null,null,null,null,null,{"$f":"IF(GetData!K252=\"\",\"\",GetData!K252)","v":""},{"$f":"IF(GetData!AC252=\"\",\"\",GetData!AC252)","v":""},null,null,null,null,null,null,null,{"$f":"IF(GetData!L252=\"\",\"\",GetData!L252)","v":""},{"$f":"IF(GetData!AD252=\"\",\"\",GetData!AD252)","v":""},null,null,null,null,null,null,null,{"$f":"IF(GetData!M252=\"\",\"\",GetData!M252)","v":""},{"$f":"IF(GetData!AE252=\"\",\"\",GetData!AE252)","v":""}]
[{"$f":"IF(GetData!I253=\"\",\"\",GetData!I253)","v":""},{"$f":"IF(GetData!AA253=\"\",\"\",GetData!AA253)","v":""},null,null,null,null,null,null,null,{"$f":"IF(GetData!J253=\"\",\"\",GetData!J253)","v":""},{"$f":"IF(GetData!AB253=\"\",\"\",GetData!AB253)","v":""},null,null,null,null,null,null,null,{"$f":"IF(GetData!K253=\"\",\"\",GetData!K253)","v":""},{"$f":"IF(GetData!AC253=\"\",\"\",GetData!AC253)","v":""},null,null,null,null,null,null,null,{"$f":"IF(GetData!L253=\"\",\"\",GetData!L253)","v":""},{"$f":"IF(GetData!AD253=\"\",\"\",GetData!AD253)","v":""},null,null,null,null,null,null,null,{"$f":"IF(GetData!M253=\"\",\"\",GetData!M253)","v":""},{"$f":"IF(GetData!AE253=\"\",\"\",GetData!AE253)","v":""}]
[{"$f":"IF(GetData!I254=\"\",\"\",GetData!I254)","v":""},{"$f":"IF(GetData!AA254=\"\",\"\",GetData!AA254)","v":""},null,null,null,null,null,null,null,{"$f":"IF(GetData!J254=\"\",\"\",GetData!J254)","v":""},{"$f":"IF(GetData!AB254=\"\",\"\",GetData!AB254)","v":""},null,null,null,null,null,null,null,{"$f":"IF(GetData!K254=\"\",\"\",GetData!K254)","v":""},{"$f":"IF(GetData!AC254=\"\",\"\",GetData!AC254)","v":""},null,null,null,null,null,null,null,{"$f":"IF(GetData!L254=\"\",\"\",GetData!L254)","v":""},{"$f":"IF(GetData!AD254=\"\",\"\",GetData!AD254)","v":""},null,null,null,null,null,null,null,{"$f":"IF(GetData!M254=\"\",\"\",GetData!M254)","v":""},{"$f":"IF(GetData!AE254=\"\",\"\",GetData!AE254)","v":""}]
[{"$f":"IF(GetData!I255=\"\",\"\",GetData!I255)","v":""},{"$f":"IF(GetData!AA255=\"\",\"\",GetData!AA255)","v":""},null,null,null,null,null,null,null,{"$f":"IF(GetData!J255=\"\",\"\",GetData!J255)","v":""},{"$f":"IF(GetData!AB255=\"\",\"\",GetData!AB255)","v":""},null,null,null,null,null,null,null,{"$f":"IF(GetData!K255=\"\",\"\",GetData!K255)","v":""},{"$f":"IF(GetData!AC255=\"\",\"\",GetData!AC255)","v":""},null,null,null,null,null,null,null,{"$f":"IF(GetData!L255=\"\",\"\",GetData!L255)","v":""},{"$f":"IF(GetData!AD255=\"\",\"\",GetData!AD255)","v":""},null,null,null,null,null,null,null,{"$f":"IF(GetData!M255=\"\",\"\",GetData!M255)","v":""},{"$f":"IF(GetData!AE255=\"\",\"\",GetData!AE255)","v":""}]
[{"$f":"IF(GetData!I256=\"\",\"\",GetData!I256)","v":""},{"$f":"IF(GetData!AA256=\"\",\"\",GetData!AA256)","v":""},null,null,null,null,null,null,null,{"$f":"IF(GetData!J256=\"\",\"\",GetData!J256)","v":""},{"$f":"IF(GetData!AB256=\"\",\"\",GetData!AB256)","v":""},null,null,null,null,null,null,null,{"$f":"IF(GetData!K256=\"\",\"\",GetData!K256)","v":""},{"$f":"IF(GetData!AC256=\"\",\"\",GetData!AC256)","v":""},null,null,null,null,null,null,null,{"$f":"IF(GetData!L256=\"\",\"\",GetData!L256)","v":""},{"$f":"IF(GetData!AD256=\"\",\"\",GetData!AD256)","v":""},null,null,null,null,null,null,null,{"$f":"IF(GetData!M256=\"\",\"\",GetData!M256)","v":""},{"$f":"IF(GetData!AE256=\"\",\"\",GetData!AE256)","v":""}]
[{"$f":"IF(GetData!I257=\"\",\"\",GetData!I257)","v":""},{"$f":"IF(GetData!AA257=\"\",\"\",GetData!AA257)","v":""},null,null,null,null,null,null,null,{"$f":"IF(GetData!J257=\"\",\"\",GetData!J257)","v":""},{"$f":"IF(GetData!AB257=\"\",\"\",GetData!AB257)","v":""},null,null,null,null,null,null,null,{"$f":"IF(GetData!K257=\"\",\"\",GetData!K257)","v":""},{"$f":"IF(GetData!AC257=\"\",\"\",GetData!AC257)","v":""},null,null,null,null,null,null,null,{"$f":"IF(GetData!L257=\"\",\"\",GetData!L257)","v":""},{"$f":"IF(GetData!AD257=\"\",\"\",GetData!AD257)","v":""},null,null,null,null,null,null,null,{"$f":"IF(GetData!M257=\"\",\"\",GetData!M257)","v":""},{"$f":"IF(GetData!AE257=\"\",\"\",GetData!AE257)","v":""}]
[{"$f":"IF(GetData!I258=\"\",\"\",GetData!I258)","v":""},{"$f":"IF(GetData!AA258=\"\",\"\",GetData!AA258)","v":""},null,null,null,null,null,null,null,{"$f":"IF(GetData!J258=\"\",\"\",GetData!J258)","v":""},{"$f":"IF(GetData!AB258=\"\",\"\",GetData!AB258)","v":""},null,null,null,null,null,null,null,{"$f":"IF(GetData!K258=\"\",\"\",GetData!K258)","v":""},{"$f":"IF(GetData!AC258=\"\",\"\",GetData!AC258)","v":""},null,null,null,null,null,null,null,{"$f":"IF(GetData!L258=\"\",\"\",GetData!L258)","v":""},{"$f":"IF(GetData!AD258=\"\",\"\",GetData!AD258)","v":""},null,null,null,null,null,null,null,{"$f":"IF(GetData!M258=\"\",\"\",GetData!M258)","v":""},{"$f":"IF(GetData!AE258=\"\",\"\",GetData!AE258)","v":""}]
[{"$f":"IF(GetData!I259=\"\",\"\",GetData!I259)","v":""},{"$f":"IF(GetData!AA259=\"\",\"\",GetData!AA259)","v":""},null,null,null,null,null,null,null,{"$f":"IF(GetData!J259=\"\",\"\",GetData!J259)","v":""},{"$f":"IF(GetData!AB259=\"\",\"\",GetData!AB259)","v":""},null,null,null,null,null,null,null,{"$f":"IF(GetData!K259=\"\",\"\",GetData!K259)","v":""},{"$f":"IF(GetData!AC259=\"\",\"\",GetData!AC259)","v":""},null,null,null,null,null,null,null,{"$f":"IF(GetData!L259=\"\",\"\",GetData!L259)","v":""},{"$f":"IF(GetData!AD259=\"\",\"\",GetData!AD259)","v":""},null,null,null,null,null,null,null,{"$f":"IF(GetData!M259=\"\",\"\",GetData!M259)","v":""},{"$f":"IF(GetData!AE259=\"\",\"\",GetData!AE259)","v":""}]
[{"$f":"IF(GetData!I260=\"\",\"\",GetData!I260)","v":""},{"$f":"IF(GetData!AA260=\"\",\"\",GetData!AA260)","v":""},null,null,null,null,null,null,null,{"$f":"IF(GetData!J260=\"\",\"\",GetData!J260)","v":""},{"$f":"IF(GetData!AB260=\"\",\"\",GetData!AB260)","v":""},null,null,null,null,null,null,null,{"$f":"IF(GetData!K260=\"\",\"\",GetData!K260)","v":""},{"$f":"IF(GetData!AC260=\"\",\"\",GetData!AC260)","v":""},null,null,null,null,null,null,null,{"$f":"IF(GetData!L260=\"\",\"\",GetData!L260)","v":""},{"$f":"IF(GetData!AD260=\"\",\"\",GetData!AD260)","v":""},null,null,null,null,null,null,null,{"$f":"IF(GetData!M260=\"\",\"\",GetData!M260)","v":""},{"$f":"IF(GetData!AE260=\"\",\"\",GetData!AE260)","v":""}]
[{"$f":"IF(GetData!I261=\"\",\"\",GetData!I261)","v":""},{"$f":"IF(GetData!AA261=\"\",\"\",GetData!AA261)","v":""},null,null,null,null,null,null,null,{"$f":"IF(GetData!J261=\"\",\"\",GetData!J261)","v":""},{"$f":"IF(GetData!AB261=\"\",\"\",GetData!AB261)","v":""},null,null,null,null,null,null,null,{"$f":"IF(GetData!K261=\"\",\"\",GetData!K261)","v":""},{"$f":"IF(GetData!AC261=\"\",\"\",GetData!AC261)","v":""},null,null,null,null,null,null,null,{"$f":"IF(GetData!L261=\"\",\"\",GetData!L261)","v":""},{"$f":"IF(GetData!AD261=\"\",\"\",GetData!AD261)","v":""},null,null,null,null,null,null,null,{"$f":"IF(GetData!M261=\"\",\"\",GetData!M261)","v":""},{"$f":"IF(GetData!AE261=\"\",\"\",GetData!AE261)","v":""}]
[{"$f":"IF(GetData!I262=\"\",\"\",GetData!I262)","v":""},{"$f":"IF(GetData!AA262=\"\",\"\",GetData!AA262)","v":""},null,null,null,null,null,null,null,{"$f":"IF(GetData!J262=\"\",\"\",GetData!J262)","v":""},{"$f":"IF(GetData!AB262=\"\",\"\",GetData!AB262)","v":""},null,null,null,null,null,null,null,{"$f":"IF(GetData!K262=\"\",\"\",GetData!K262)","v":""},{"$f":"IF(GetData!AC262=\"\",\"\",GetData!AC262)","v":""},null,null,null,null,null,null,null,{"$f":"IF(GetData!L262=\"\",\"\",GetData!L262)","v":""},{"$f":"IF(GetData!AD262=\"\",\"\",GetData!AD262)","v":""},null,null,null,null,null,null,null,{"$f":"IF(GetData!M262=\"\",\"\",GetData!M262)","v":""},{"$f":"IF(GetData!AE262=\"\",\"\",GetData!AE262)","v":""}]
[{"$f":"IF(GetData!I263=\"\",\"\",GetData!I263)","v":""},{"$f":"IF(GetData!AA263=\"\",\"\",GetData!AA263)","v":""},null,null,null,null,null,null,null,{"$f":"IF(GetData!J263=\"\",\"\",GetData!J263)","v":""},{"$f":"IF(GetData!AB263=\"\",\"\",GetData!AB263)","v":""},null,null,null,null,null,null,null,{"$f":"IF(GetData!K263=\"\",\"\",GetData!K263)","v":""},{"$f":"IF(GetData!AC263=\"\",\"\",GetData!AC263)","v":""},null,null,null,null,null,null,null,{"$f":"IF(GetData!L263=\"\",\"\",GetData!L263)","v":""},{"$f":"IF(GetData!AD263=\"\",\"\",GetData!AD263)","v":""},null,null,null,null,null,null,null,{"$f":"IF(GetData!M263=\"\",\"\",GetData!M263)","v":""},{"$f":"IF(GetData!AE263=\"\",\"\",GetData!AE263)","v":""}]
[{"$f":"IF(GetData!I264=\"\",\"\",GetData!I264)","v":""},{"$f":"IF(GetData!AA264=\"\",\"\",GetData!AA264)","v":""},null,null,null,null,null,null,null,{"$f":"IF(GetData!J264=\"\",\"\",GetData!J264)","v":""},{"$f":"IF(GetData!AB264=\"\",\"\",GetData!AB264)","v":""},null,null,null,null,null,null,null,{"$f":"IF(GetData!K264=\"\",\"\",GetData!K264)","v":""},{"$f":"IF(GetData!AC264=\"\",\"\",GetData!AC264)","v":""},null,null,null,null,null,null,null,{"$f":"IF(GetData!L264=\"\",\"\",GetData!L264)","v":""},{"$f":"IF(GetData!AD264=\"\",\"\",GetData!AD264)","v":""},null,null,null,null,null,null,null,{"$f":"IF(GetData!M264=\"\",\"\",GetData!M264)","v":""},{"$f":"IF(GetData!AE264=\"\",\"\",GetData!AE264)","v":""}]
[{"$f":"IF(GetData!I265=\"\",\"\",GetData!I265)","v":""},{"$f":"IF(GetData!AA265=\"\",\"\",GetData!AA265)","v":""},null,null,null,null,null,null,null,{"$f":"IF(GetData!J265=\"\",\"\",GetData!J265)","v":""},{"$f":"IF(GetData!AB265=\"\",\"\",GetData!AB265)","v":""},null,null,null,null,null,null,null,{"$f":"IF(GetData!K265=\"\",\"\",GetData!K265)","v":""},{"$f":"IF(GetData!AC265=\"\",\"\",GetData!AC265)","v":""},null,null,null,null,null,null,null,{"$f":"IF(GetData!L265=\"\",\"\",GetData!L265)","v":""},{"$f":"IF(GetData!AD265=\"\",\"\",GetData!AD265)","v":""},null,null,null,null,null,null,null,{"$f":"IF(GetData!M265=\"\",\"\",GetData!M265)","v":""},{"$f":"IF(GetData!AE265=\"\",\"\",GetData!AE265)","v":""}]
[{"$f":"IF(GetData!I266=\"\",\"\",GetData!I266)","v":""},{"$f":"IF(GetData!AA266=\"\",\"\",GetData!AA266)","v":""},null,null,null,null,null,null,null,{"$f":"IF(GetData!J266=\"\",\"\",GetData!J266)","v":""},{"$f":"IF(GetData!AB266=\"\",\"\",GetData!AB266)","v":""},null,null,null,null,null,null,null,{"$f":"IF(GetData!K266=\"\",\"\",GetData!K266)","v":""},{"$f":"IF(GetData!AC266=\"\",\"\",GetData!AC266)","v":""},null,null,null,null,null,null,null,{"$f":"IF(GetData!L266=\"\",\"\",GetData!L266)","v":""},{"$f":"IF(GetData!AD266=\"\",\"\",GetData!AD266)","v":""},null,null,null,null,null,null,null,{"$f":"IF(GetData!M266=\"\",\"\",GetData!M266)","v":""},{"$f":"IF(GetData!AE266=\"\",\"\",GetData!AE266)","v":""}]
[{"$f":"IF(GetData!I267=\"\",\"\",GetData!I267)","v":""},{"$f":"IF(GetData!AA267=\"\",\"\",GetData!AA267)","v":""},null,null,null,null,null,null,null,{"$f":"IF(GetData!J267=\"\",\"\",GetData!J267)","v":""},{"$f":"IF(GetData!AB267=\"\",\"\",GetData!AB267)","v":""},null,null,null,null,null,null,null,{"$f":"IF(GetData!K267=\"\",\"\",GetData!K267)","v":""},{"$f":"IF(GetData!AC267=\"\",\"\",GetData!AC267)","v":""},null,null,null,null,null,null,null,{"$f":"IF(GetData!L267=\"\",\"\",GetData!L267)","v":""},{"$f":"IF(GetData!AD267=\"\",\"\",GetData!AD267)","v":""},null,null,null,null,null,null,null,{"$f":"IF(GetData!M267=\"\",\"\",GetData!M267)","v":""},{"$f":"IF(GetData!AE267=\"\",\"\",GetData!AE267)","v":""}]
[{"$f":"IF(GetData!I268=\"\",\"\",GetData!I268)","v":""},{"$f":"IF(GetData!AA268=\"\",\"\",GetData!AA268)","v":""},null,null,null,null,null,null,null,{"$f":"IF(GetData!J268=\"\",\"\",GetData!J268)","v":""},{"$f":"IF(GetData!AB268=\"\",\"\",GetData!AB268)","v":""},null,null,null,null,null,null,null,{"$f":"IF(GetData!K268=\"\",\"\",GetData!K268)","v":""},{"$f":"IF(GetData!AC268=\"\",\"\",GetData!AC268)","v":""},null,null,null,null,null,null,null,{"$f":"IF(GetData!L268=\"\",\"\",GetData!L268)","v":""},{"$f":"IF(GetData!AD268=\"\",\"\",GetData!AD268)","v":""},null,null,null,null,null,null,null,{"$f":"IF(GetData!M268=\"\",\"\",GetData!M268)","v":""},{"$f":"IF(GetData!AE268=\"\",\"\",GetData!AE268)","v":""}]
[{"$f":"IF(GetData!I269=\"\",\"\",GetData!I269)","v":""},{"$f":"IF(GetData!AA269=\"\",\"\",GetData!AA269)","v":""},null,null,null,null,null,null,null,{"$f":"IF(GetData!J269=\"\",\"\",GetData!J269)","v":""},{"$f":"IF(GetData!AB269=\"\",\"\",GetData!AB269)","v":""},null,null,null,null,null,null,null,{"$f":"IF(GetData!K269=\"\",\"\",GetData!K269)","v":""},{"$f":"IF(GetData!AC269=\"\",\"\",GetData!AC269)","v":""},null,null,null,null,null,null,null,{"$f":"IF(GetData!L269=\"\",\"\",GetData!L269)","v":""},{"$f":"IF(GetData!AD269=\"\",\"\",GetData!AD269)","v":""},null,null,null,null,null,null,null,{"$f":"IF(GetData!M269=\"\",\"\",GetData!M269)","v":""},{"$f":"IF(GetData!AE269=\"\",\"\",GetData!AE269)","v":""}]
[{"$f":"IF(GetData!I270=\"\",\"\",GetData!I270)","v":""},{"$f":"IF(GetData!AA270=\"\",\"\",GetData!AA270)","v":""},null,null,null,null,null,null,null,{"$f":"IF(GetData!J270=\"\",\"\",GetData!J270)","v":""},{"$f":"IF(GetData!AB270=\"\",\"\",GetData!AB270)","v":""},null,null,null,null,null,null,null,{"$f":"IF(GetData!K270=\"\",\"\",GetData!K270)","v":""},{"$f":"IF(GetData!AC270=\"\",\"\",GetData!AC270)","v":""},null,null,null,null,null,null,null,{"$f":"IF(GetData!L270=\"\",\"\",GetData!L270)","v":""},{"$f":"IF(GetData!AD270=\"\",\"\",GetData!AD270)","v":""},null,null,null,null,null,null,null,{"$f":"IF(GetData!M270=\"\",\"\",GetData!M270)","v":""},{"$f":"IF(GetData!AE270=\"\",\"\",GetData!AE270)","v":""}]
[{"$f":"IF(GetData!I271=\"\",\"\",GetData!I271)","v":""},{"$f":"IF(GetData!AA271=\"\",\"\",GetData!AA271)","v":""},null,null,null,null,null,null,null,{"$f":"IF(GetData!J271=\"\",\"\",GetData!J271)","v":""},{"$f":"IF(GetData!AB271=\"\",\"\",GetData!AB271)","v":""},null,null,null,null,null,null,null,{"$f":"IF(GetData!K271=\"\",\"\",GetData!K271)","v":""},{"$f":"IF(GetData!AC271=\"\",\"\",GetData!AC271)","v":""},null,null,null,null,null,null,null,{"$f":"IF(GetData!L271=\"\",\"\",GetData!L271)","v":""},{"$f":"IF(GetData!AD271=\"\",\"\",GetData!AD271)","v":""},null,null,null,null,null,null,null,{"$f":"IF(GetData!M271=\"\",\"\",GetData!M271)","v":""},{"$f":"IF(GetData!AE271=\"\",\"\",GetData!AE271)","v":""}]
[{"$f":"IF(GetData!I272=\"\",\"\",GetData!I272)","v":""},{"$f":"IF(GetData!AA272=\"\",\"\",GetData!AA272)","v":""},null,null,null,null,null,null,null,{"$f":"IF(GetData!J272=\"\",\"\",GetData!J272)","v":""},{"$f":"IF(GetData!AB272=\"\",\"\",GetData!AB272)","v":""},null,null,null,null,null,null,null,{"$f":"IF(GetData!K272=\"\",\"\",GetData!K272)","v":""},{"$f":"IF(GetData!AC272=\"\",\"\",GetData!AC272)","v":""},null,null,null,null,null,null,null,{"$f":"IF(GetData!L272=\"\",\"\",GetData!L272)","v":""},{"$f":"IF(GetData!AD272=\"\",\"\",GetData!AD272)","v":""},null,null,null,null,null,null,null,{"$f":"IF(GetData!M272=\"\",\"\",GetData!M272)","v":""},{"$f":"IF(GetData!AE272=\"\",\"\",GetData!AE272)","v":""}]
[{"$f":"IF(GetData!I273=\"\",\"\",GetData!I273)","v":""},{"$f":"IF(GetData!AA273=\"\",\"\",GetData!AA273)","v":""},null,null,null,null,null,null,null,{"$f":"IF(GetData!J273=\"\",\"\",GetData!J273)","v":""},{"$f":"IF(GetData!AB273=\"\",\"\",GetData!AB273)","v":""},null,null,null,null,null,null,null,{"$f":"IF(GetData!K273=\"\",\"\",GetData!K273)","v":""},{"$f":"IF(GetData!AC273=\"\",\"\",GetData!AC273)","v":""},null,null,null,null,null,null,null,{"$f":"IF(GetData!L273=\"\",\"\",GetData!L273)","v":""},{"$f":"IF(GetData!AD273=\"\",\"\",GetData!AD273)","v":""},null,null,null,null,null,null,null,{"$f":"IF(GetData!M273=\"\",\"\",GetData!M273)","v":""},{"$f":"IF(GetData!AE273=\"\",\"\",GetData!AE273)","v":""}]
[{"$f":"IF(GetData!I274=\"\",\"\",GetData!I274)","v":""},{"$f":"IF(GetData!AA274=\"\",\"\",GetData!AA274)","v":""},null,null,null,null,null,null,null,{"$f":"IF(GetData!J274=\"\",\"\",GetData!J274)","v":""},{"$f":"IF(GetData!AB274=\"\",\"\",GetData!AB274)","v":""},null,null,null,null,null,null,null,{"$f":"IF(GetData!K274=\"\",\"\",GetData!K274)","v":""},{"$f":"IF(GetData!AC274=\"\",\"\",GetData!AC274)","v":""},null,null,null,null,null,null,null,{"$f":"IF(GetData!L274=\"\",\"\",GetData!L274)","v":""},{"$f":"IF(GetData!AD274=\"\",\"\",GetData!AD274)","v":""},null,null,null,null,null,null,null,{"$f":"IF(GetData!M274=\"\",\"\",GetData!M274)","v":""},{"$f":"IF(GetData!AE274=\"\",\"\",GetData!AE274)","v":""}]
[{"$f":"IF(GetData!I275=\"\",\"\",GetData!I275)","v":""},{"$f":"IF(GetData!AA275=\"\",\"\",GetData!AA275)","v":""},null,null,null,null,null,null,null,{"$f":"IF(GetData!J275=\"\",\"\",GetData!J275)","v":""},{"$f":"IF(GetData!AB275=\"\",\"\",GetData!AB275)","v":""},null,null,null,null,null,null,null,{"$f":"IF(GetData!K275=\"\",\"\",GetData!K275)","v":""},{"$f":"IF(GetData!AC275=\"\",\"\",GetData!AC275)","v":""},null,null,null,null,null,null,null,{"$f":"IF(GetData!L275=\"\",\"\",GetData!L275)","v":""},{"$f":"IF(GetData!AD275=\"\",\"\",GetData!AD275)","v":""},null,null,null,null,null,null,null,{"$f":"IF(GetData!M275=\"\",\"\",GetData!M275)","v":""},{"$f":"IF(GetData!AE275=\"\",\"\",GetData!AE275)","v":""}]
[{"$f":"IF(GetData!I276=\"\",\"\",GetData!I276)","v":""},{"$f":"IF(GetData!AA276=\"\",\"\",GetData!AA276)","v":""},null,null,null,null,null,null,null,{"$f":"IF(GetData!J276=\"\",\"\",GetData!J276)","v":""},{"$f":"IF(GetData!AB276=\"\",\"\",GetData!AB276)","v":""},null,null,null,null,null,null,null,{"$f":"IF(GetData!K276=\"\",\"\",GetData!K276)","v":""},{"$f":"IF(GetData!AC276=\"\",\"\",GetData!AC276)","v":""},null,null,null,null,null,null,null,{"$f":"IF(GetData!L276=\"\",\"\",GetData!L276)","v":""},{"$f":"IF(GetData!AD276=\"\",\"\",GetData!AD276)","v":""},null,null,null,null,null,null,null,{"$f":"IF(GetData!M276=\"\",\"\",GetData!M276)","v":""},{"$f":"IF(GetData!AE276=\"\",\"\",GetData!AE276)","v":""}]
[{"$f":"IF(GetData!I277=\"\",\"\",GetData!I277)","v":""},{"$f":"IF(GetData!AA277=\"\",\"\",GetData!AA277)","v":""},null,null,null,null,null,null,null,{"$f":"IF(GetData!J277=\"\",\"\",GetData!J277)","v":""},{"$f":"IF(GetData!AB277=\"\",\"\",GetData!AB277)","v":""},null,null,null,null,null,null,null,{"$f":"IF(GetData!K277=\"\",\"\",GetData!K277)","v":""},{"$f":"IF(GetData!AC277=\"\",\"\",GetData!AC277)","v":""},null,null,null,null,null,null,null,{"$f":"IF(GetData!L277=\"\",\"\",GetData!L277)","v":""},{"$f":"IF(GetData!AD277=\"\",\"\",GetData!AD277)","v":""},null,null,null,null,null,null,null,{"$f":"IF(GetData!M277=\"\",\"\",GetData!M277)","v":""},{"$f":"IF(GetData!AE277=\"\",\"\",GetData!AE277)","v":""}]
[{"$f":"IF(GetData!I278=\"\",\"\",GetData!I278)","v":""},{"$f":"IF(GetData!AA278=\"\",\"\",GetData!AA278)","v":""},null,null,null,null,null,null,null,{"$f":"IF(GetData!J278=\"\",\"\",GetData!J278)","v":""},{"$f":"IF(GetData!AB278=\"\",\"\",GetData!AB278)","v":""},null,null,null,null,null,null,null,{"$f":"IF(GetData!K278=\"\",\"\",GetData!K278)","v":""},{"$f":"IF(GetData!AC278=\"\",\"\",GetData!AC278)","v":""},null,null,null,null,null,null,null,{"$f":"IF(GetData!L278=\"\",\"\",GetData!L278)","v":""},{"$f":"IF(GetData!AD278=\"\",\"\",GetData!AD278)","v":""},null,null,null,null,null,null,null,{"$f":"IF(GetData!M278=\"\",\"\",GetData!M278)","v":""},{"$f":"IF(GetData!AE278=\"\",\"\",GetData!AE278)","v":""}]
[{"$f":"IF(GetData!I279=\"\",\"\",GetData!I279)","v":""},{"$f":"IF(GetData!AA279=\"\",\"\",GetData!AA279)","v":""},null,null,null,null,null,null,null,{"$f":"IF(GetData!J279=\"\",\"\",GetData!J279)","v":""},{"$f":"IF(GetData!AB279=\"\",\"\",GetData!AB279)","v":""},null,null,null,null,null,null,null,{"$f":"IF(GetData!K279=\"\",\"\",GetData!K279)","v":""},{"$f":"IF(GetData!AC279=\"\",\"\",GetData!AC279)","v":""},null,null,null,null,null,null,null,{"$f":"IF(GetData!L279=\"\",\"\",GetData!L279)","v":""},{"$f":"IF(GetData!AD279=\"\",\"\",GetData!AD279)","v":""},null,null,null,null,null,null,null,{"$f":"IF(GetData!M279=\"\",\"\",GetData!M279)","v":""},{"$f":"IF(GetData!AE279=\"\",\"\",GetData!AE279)","v":""}]
[{"$f":"IF(GetData!I280=\"\",\"\",GetData!I280)","v":""},{"$f":"IF(GetData!AA280=\"\",\"\",GetData!AA280)","v":""},null,null,null,null,null,null,null,{"$f":"IF(GetData!J280=\"\",\"\",GetData!J280)","v":""},{"$f":"IF(GetData!AB280=\"\",\"\",GetData!AB280)","v":""},null,null,null,null,null,null,null,{"$f":"IF(GetData!K280=\"\",\"\",GetData!K280)","v":""},{"$f":"IF(GetData!AC280=\"\",\"\",GetData!AC280)","v":""},null,null,null,null,null,null,null,{"$f":"IF(GetData!L280=\"\",\"\",GetData!L280)","v":""},{"$f":"IF(GetData!AD280=\"\",\"\",GetData!AD280)","v":""},null,null,null,null,null,null,null,{"$f":"IF(GetData!M280=\"\",\"\",GetData!M280)","v":""},{"$f":"IF(GetData!AE280=\"\",\"\",GetData!AE280)","v":""}]
[{"$f":"IF(GetData!I281=\"\",\"\",GetData!I281)","v":""},{"$f":"IF(GetData!AA281=\"\",\"\",GetData!AA281)","v":""},null,null,null,null,null,null,null,{"$f":"IF(GetData!J281=\"\",\"\",GetData!J281)","v":""},{"$f":"IF(GetData!AB281=\"\",\"\",GetData!AB281)","v":""},null,null,null,null,null,null,null,{"$f":"IF(GetData!K281=\"\",\"\",GetData!K281)","v":""},{"$f":"IF(GetData!AC281=\"\",\"\",GetData!AC281)","v":""},null,null,null,null,null,null,null,{"$f":"IF(GetData!L281=\"\",\"\",GetData!L281)","v":""},{"$f":"IF(GetData!AD281=\"\",\"\",GetData!AD281)","v":""},null,null,null,null,null,null,null,{"$f":"IF(GetData!M281=\"\",\"\",GetData!M281)","v":""},{"$f":"IF(GetData!AE281=\"\",\"\",GetData!AE281)","v":""}]
[{"$f":"IF(GetData!I282=\"\",\"\",GetData!I282)","v":""},{"$f":"IF(GetData!AA282=\"\",\"\",GetData!AA282)","v":""},null,null,null,null,null,null,null,{"$f":"IF(GetData!J282=\"\",\"\",GetData!J282)","v":""},{"$f":"IF(GetData!AB282=\"\",\"\",GetData!AB282)","v":""},null,null,null,null,null,null,null,{"$f":"IF(GetData!K282=\"\",\"\",GetData!K282)","v":""},{"$f":"IF(GetData!AC282=\"\",\"\",GetData!AC282)","v":""},null,null,null,null,null,null,null,{"$f":"IF(GetData!L282=\"\",\"\",GetData!L282)","v":""},{"$f":"IF(GetData!AD282=\"\",\"\",GetData!AD282)","v":""},null,null,null,null,null,null,null,{"$f":"IF(GetData!M282=\"\",\"\",GetData!M282)","v":""},{"$f":"IF(GetData!AE282=\"\",\"\",GetData!AE282)","v":""}]
[{"$f":"IF(GetData!I283=\"\",\"\",GetData!I283)","v":""},{"$f":"IF(GetData!AA283=\"\",\"\",GetData!AA283)","v":""},null,null,null,null,null,null,null,{"$f":"IF(GetData!J283=\"\",\"\",GetData!J283)","v":""},{"$f":"IF(GetData!AB283=\"\",\"\",GetData!AB283)","v":""},null,null,null,null,null,null,null,{"$f":"IF(GetData!K283=\"\",\"\",GetData!K283)","v":""},{"$f":"IF(GetData!AC283=\"\",\"\",GetData!AC283)","v":""},null,null,null,null,null,null,null,{"$f":"IF(GetData!L283=\"\",\"\",GetData!L283)","v":""},{"$f":"IF(GetData!AD283=\"\",\"\",GetData!AD283)","v":""},null,null,null,null,null,null,null,{"$f":"IF(GetData!M283=\"\",\"\",GetData!M283)","v":""},{"$f":"IF(GetData!AE283=\"\",\"\",GetData!AE283)","v":""}]
[{"$f":"IF(GetData!I284=\"\",\"\",GetData!I284)","v":""},{"$f":"IF(GetData!AA284=\"\",\"\",GetData!AA284)","v":""},null,null,null,null,null,null,null,{"$f":"IF(GetData!J284=\"\",\"\",GetData!J284)","v":""},{"$f":"IF(GetData!AB284=\"\",\"\",GetData!AB284)","v":""},null,null,null,null,null,null,null,{"$f":"IF(GetData!K284=\"\",\"\",GetData!K284)","v":""},{"$f":"IF(GetData!AC284=\"\",\"\",GetData!AC284)","v":""},null,null,null,null,null,null,null,{"$f":"IF(GetData!L284=\"\",\"\",GetData!L284)","v":""},{"$f":"IF(GetData!AD284=\"\",\"\",GetData!AD284)","v":""},null,null,null,null,null,null,null,{"$f":"IF(GetData!M284=\"\",\"\",GetData!M284)","v":""},{"$f":"IF(GetData!AE284=\"\",\"\",GetData!AE284)","v":""}]
[{"$f":"IF(GetData!I285=\"\",\"\",GetData!I285)","v":""},{"$f":"IF(GetData!AA285=\"\",\"\",GetData!AA285)","v":""},null,null,null,null,null,null,null,{"$f":"IF(GetData!J285=\"\",\"\",GetData!J285)","v":""},{"$f":"IF(GetData!AB285=\"\",\"\",GetData!AB285)","v":""},null,null,null,null,null,null,null,{"$f":"IF(GetData!K285=\"\",\"\",GetData!K285)","v":""},{"$f":"IF(GetData!AC285=\"\",\"\",GetData!AC285)","v":""},null,null,null,null,null,null,null,{"$f":"IF(GetData!L285=\"\",\"\",GetData!L285)","v":""},{"$f":"IF(GetData!AD285=\"\",\"\",GetData!AD285)","v":""},null,null,null,null,null,null,null,{"$f":"IF(GetData!M285=\"\",\"\",GetData!M285)","v":""},{"$f":"IF(GetData!AE285=\"\",\"\",GetData!AE285)","v":""}]
[{"$f":"IF(GetData!I286=\"\",\"\",GetData!I286)","v":""},{"$f":"IF(GetData!AA286=\"\",\"\",GetData!AA286)","v":""},null,null,null,null,null,null,null,{"$f":"IF(GetData!J286=\"\",\"\",GetData!J286)","v":""},{"$f":"IF(GetData!AB286=\"\",\"\",GetData!AB286)","v":""},null,null,null,null,null,null,null,{"$f":"IF(GetData!K286=\"\",\"\",GetData!K286)","v":""},{"$f":"IF(GetData!AC286=\"\",\"\",GetData!AC286)","v":""},null,null,null,null,null,null,null,{"$f":"IF(GetData!L286=\"\",\"\",GetData!L286)","v":""},{"$f":"IF(GetData!AD286=\"\",\"\",GetData!AD286)","v":""},null,null,null,null,null,null,null,{"$f":"IF(GetData!M286=\"\",\"\",GetData!M286)","v":""},{"$f":"IF(GetData!AE286=\"\",\"\",GetData!AE286)","v":""}]
[{"$f":"IF(GetData!I287=\"\",\"\",GetData!I287)","v":""},{"$f":"IF(GetData!AA287=\"\",\"\",GetData!AA287)","v":""},null,null,null,null,null,null,null,{"$f":"IF(GetData!J287=\"\",\"\",GetData!J287)","v":""},{"$f":"IF(GetData!AB287=\"\",\"\",GetData!AB287)","v":""},null,null,null,null,null,null,null,{"$f":"IF(GetData!K287=\"\",\"\",GetData!K287)","v":""},{"$f":"IF(GetData!AC287=\"\",\"\",GetData!AC287)","v":""},null,null,null,null,null,null,null,{"$f":"IF(GetData!L287=\"\",\"\",GetData!L287)","v":""},{"$f":"IF(GetData!AD287=\"\",\"\",GetData!AD287)","v":""},null,null,null,null,null,null,null,{"$f":"IF(GetData!M287=\"\",\"\",GetData!M287)","v":""},{"$f":"IF(GetData!AE287=\"\",\"\",GetData!AE287)","v":""}]
[{"$f":"IF(GetData!I288=\"\",\"\",GetData!I288)","v":""},{"$f":"IF(GetData!AA288=\"\",\"\",GetData!AA288)","v":""},null,null,null,null,null,null,null,{"$f":"IF(GetData!J288=\"\",\"\",GetData!J288)","v":""},{"$f":"IF(GetData!AB288=\"\",\"\",GetData!AB288)","v":""},null,null,null,null,null,null,null,{"$f":"IF(GetData!K288=\"\",\"\",GetData!K288)","v":""},{"$f":"IF(GetData!AC288=\"\",\"\",GetData!AC288)","v":""},null,null,null,null,null,null,null,{"$f":"IF(GetData!L288=\"\",\"\",GetData!L288)","v":""},{"$f":"IF(GetData!AD288=\"\",\"\",GetData!AD288)","v":""},null,null,null,null,null,null,null,{"$f":"IF(GetData!M288=\"\",\"\",GetData!M288)","v":""},{"$f":"IF(GetData!AE288=\"\",\"\",GetData!AE288)","v":""}]
[{"$f":"IF(GetData!I289=\"\",\"\",GetData!I289)","v":""},{"$f":"IF(GetData!AA289=\"\",\"\",GetData!AA289)","v":""},null,null,null,null,null,null,null,{"$f":"IF(GetData!J289=\"\",\"\",GetData!J289)","v":""},{"$f":"IF(GetData!AB289=\"\",\"\",GetData!AB289)","v":""},null,null,null,null,null,null,null,{"$f":"IF(GetData!K289=\"\",\"\",GetData!K289)","v":""},{"$f":"IF(GetData!AC289=\"\",\"\",GetData!AC289)","v":""},null,null,null,null,null,null,null,{"$f":"IF(GetData!L289=\"\",\"\",GetData!L289)","v":""},{"$f":"IF(GetData!AD289=\"\",\"\",GetData!AD289)","v":""},null,null,null,null,null,null,null,{"$f":"IF(GetData!M289=\"\",\"\",GetData!M289)","v":""},{"$f":"IF(GetData!AE289=\"\",\"\",GetData!AE289)","v":""}]
[{"$f":"IF(GetData!I290=\"\",\"\",GetData!I290)","v":""},{"$f":"IF(GetData!AA290=\"\",\"\",GetData!AA290)","v":""},null,null,null,null,null,null,null,{"$f":"IF(GetData!J290=\"\",\"\",GetData!J290)","v":""},{"$f":"IF(GetData!AB290=\"\",\"\",GetData!AB290)","v":""},null,null,null,null,null,null,null,{"$f":"IF(GetData!K290=\"\",\"\",GetData!K290)","v":""},{"$f":"IF(GetData!AC290=\"\",\"\",GetData!AC290)","v":""},null,null,null,null,null,null,null,{"$f":"IF(GetData!L290=\"\",\"\",GetData!L290)","v":""},{"$f":"IF(GetData!AD290=\"\",\"\",GetData!AD290)","v":""},null,null,null,null,null,null,null,{"$f":"IF(GetData!M290=\"\",\"\",GetData!M290)","v":""},{"$f":"IF(GetData!AE290=\"\",\"\",GetData!AE290)","v":""}]
[{"$f":"IF(GetData!I291=\"\",\"\",GetData!I291)","v":""},{"$f":"IF(GetData!AA291=\"\",\"\",GetData!AA291)","v":""},null,null,null,null,null,null,null,{"$f":"IF(GetData!J291=\"\",\"\",GetData!J291)","v":""},{"$f":"IF(GetData!AB291=\"\",\"\",GetData!AB291)","v":""},null,null,null,null,null,null,null,{"$f":"IF(GetData!K291=\"\",\"\",GetData!K291)","v":""},{"$f":"IF(GetData!AC291=\"\",\"\",GetData!AC291)","v":""},null,null,null,null,null,null,null,{"$f":"IF(GetData!L291=\"\",\"\",GetData!L291)","v":""},{"$f":"IF(GetData!AD291=\"\",\"\",GetData!AD291)","v":""},null,null,null,null,null,null,null,{"$f":"IF(GetData!M291=\"\",\"\",GetData!M291)","v":""},{"$f":"IF(GetData!AE291=\"\",\"\",GetData!AE291)","v":""}]
[{"$f":"IF(GetData!I292=\"\",\"\",GetData!I292)","v":""},{"$f":"IF(GetData!AA292=\"\",\"\",GetData!AA292)","v":""},null,null,null,null,null,null,null,{"$f":"IF(GetData!J292=\"\",\"\",GetData!J292)","v":""},{"$f":"IF(GetData!AB292=\"\",\"\",GetData!AB292)","v":""},null,null,null,null,null,null,null,{"$f":"IF(GetData!K292=\"\",\"\",GetData!K292)","v":""},{"$f":"IF(GetData!AC292=\"\",\"\",GetData!AC292)","v":""},null,null,null,null,null,null,null,{"$f":"IF(GetData!L292=\"\",\"\",GetData!L292)","v":""},{"$f":"IF(GetData!AD292=\"\",\"\",GetData!AD292)","v":""},null,null,null,null,null,null,null,{"$f":"IF(GetData!M292=\"\",\"\",GetData!M292)","v":""},{"$f":"IF(GetData!AE292=\"\",\"\",GetData!AE292)","v":""}]
[{"$f":"IF(GetData!I293=\"\",\"\",GetData!I293)","v":""},{"$f":"IF(GetData!AA293=\"\",\"\",GetData!AA293)","v":""},null,null,null,null,null,null,null,{"$f":"IF(GetData!J293=\"\",\"\",GetData!J293)","v":""},{"$f":"IF(GetData!AB293=\"\",\"\",GetData!AB293)","v":""},null,null,null,null,null,null,null,{"$f":"IF(GetData!K293=\"\",\"\",GetData!K293)","v":""},{"$f":"IF(GetData!AC293=\"\",\"\",GetData!AC293)","v":""},null,null,null,null,null,null,null,{"$f":"IF(GetData!L293=\"\",\"\",GetData!L293)","v":""},{"$f":"IF(GetData!AD293=\"\",\"\",GetData!AD293)","v":""},null,null,null,null,null,null,null,{"$f":"IF(GetData!M293=\"\",\"\",GetData!M293)","v":""},{"$f":"IF(GetData!AE293=\"\",\"\",GetData!AE293)","v":""}]
[{"$f":"IF(GetData!I294=\"\",\"\",GetData!I294)","v":""},{"$f":"IF(GetData!AA294=\"\",\"\",GetData!AA294)","v":""},null,null,null,null,null,null,null,{"$f":"IF(GetData!J294=\"\",\"\",GetData!J294)","v":""},{"$f":"IF(GetData!AB294=\"\",\"\",GetData!AB294)","v":""},null,null,null,null,null,null,null,{"$f":"IF(GetData!K294=\"\",\"\",GetData!K294)","v":""},{"$f":"IF(GetData!AC294=\"\",\"\",GetData!AC294)","v":""},null,null,null,null,null,null,null,{"$f":"IF(GetData!L294=\"\",\"\",GetData!L294)","v":""},{"$f":"IF(GetData!AD294=\"\",\"\",GetData!AD294)","v":""},null,null,null,null,null,null,null,{"$f":"IF(GetData!M294=\"\",\"\",GetData!M294)","v":""},{"$f":"IF(GetData!AE294=\"\",\"\",GetData!AE294)","v":""}]
[{"$f":"IF(GetData!I295=\"\",\"\",GetData!I295)","v":""},{"$f":"IF(GetData!AA295=\"\",\"\",GetData!AA295)","v":""},null,null,null,null,null,null,null,{"$f":"IF(GetData!J295=\"\",\"\",GetData!J295)","v":""},{"$f":"IF(GetData!AB295=\"\",\"\",GetData!AB295)","v":""},null,null,null,null,null,null,null,{"$f":"IF(GetData!K295=\"\",\"\",GetData!K295)","v":""},{"$f":"IF(GetData!AC295=\"\",\"\",GetData!AC295)","v":""},null,null,null,null,null,null,null,{"$f":"IF(GetData!L295=\"\",\"\",GetData!L295)","v":""},{"$f":"IF(GetData!AD295=\"\",\"\",GetData!AD295)","v":""},null,null,null,null,null,null,null,{"$f":"IF(GetData!M295=\"\",\"\",GetData!M295)","v":""},{"$f":"IF(GetData!AE295=\"\",\"\",GetData!AE295)","v":""}]
[{"$f":"IF(GetData!I296=\"\",\"\",GetData!I296)","v":""},{"$f":"IF(GetData!AA296=\"\",\"\",GetData!AA296)","v":""},null,null,null,null,null,null,null,{"$f":"IF(GetData!J296=\"\",\"\",GetData!J296)","v":""},{"$f":"IF(GetData!AB296=\"\",\"\",GetData!AB296)","v":""},null,null,null,null,null,null,null,{"$f":"IF(GetData!K296=\"\",\"\",GetData!K296)","v":""},{"$f":"IF(GetData!AC296=\"\",\"\",GetData!AC296)","v":""},null,null,null,null,null,null,null,{"$f":"IF(GetData!L296=\"\",\"\",GetData!L296)","v":""},{"$f":"IF(GetData!AD296=\"\",\"\",GetData!AD296)","v":""},null,null,null,null,null,null,null,{"$f":"IF(GetData!M296=\"\",\"\",GetData!M296)","v":""},{"$f":"IF(GetData!AE296=\"\",\"\",GetData!AE296)","v":""}]
[{"$f":"IF(GetData!I297=\"\",\"\",GetData!I297)","v":""},{"$f":"IF(GetData!AA297=\"\",\"\",GetData!AA297)","v":""},null,null,null,null,null,null,null,{"$f":"IF(GetData!J297=\"\",\"\",GetData!J297)","v":""},{"$f":"IF(GetData!AB297=\"\",\"\",GetData!AB297)","v":""},null,null,null,null,null,null,null,{"$f":"IF(GetData!K297=\"\",\"\",GetData!K297)","v":""},{"$f":"IF(GetData!AC297=\"\",\"\",GetData!AC297)","v":""},null,null,null,null,null,null,null,{"$f":"IF(GetData!L297=\"\",\"\",GetData!L297)","v":""},{"$f":"IF(GetData!AD297=\"\",\"\",GetData!AD297)","v":""},null,null,null,null,null,null,null,{"$f":"IF(GetData!M297=\"\",\"\",GetData!M297)","v":""},{"$f":"IF(GetData!AE297=\"\",\"\",GetData!AE297)","v":""}]
[{"$f":"IF(GetData!I298=\"\",\"\",GetData!I298)","v":""},{"$f":"IF(GetData!AA298=\"\",\"\",GetData!AA298)","v":""},null,null,null,null,null,null,null,{"$f":"IF(GetData!J298=\"\",\"\",GetData!J298)","v":""},{"$f":"IF(GetData!AB298=\"\",\"\",GetData!AB298)","v":""},null,null,null,null,null,null,null,{"$f":"IF(GetData!K298=\"\",\"\",GetData!K298)","v":""},{"$f":"IF(GetData!AC298=\"\",\"\",GetData!AC298)","v":""},null,null,null,null,null,null,null,{"$f":"IF(GetData!L298=\"\",\"\",GetData!L298)","v":""},{"$f":"IF(GetData!AD298=\"\",\"\",GetData!AD298)","v":""},null,null,null,null,null,null,null,{"$f":"IF(GetData!M298=\"\",\"\",GetData!M298)","v":""},{"$f":"IF(GetData!AE298=\"\",\"\",GetData!AE298)","v":""}]
[{"$f":"IF(GetData!I299=\"\",\"\",GetData!I299)","v":""},{"$f":"IF(GetData!AA299=\"\",\"\",GetData!AA299)","v":""},null,null,null,null,null,null,null,{"$f":"IF(GetData!J299=\"\",\"\",GetData!J299)","v":""},{"$f":"IF(GetData!AB299=\"\",\"\",GetData!AB299)","v":""},null,null,null,null,null,null,null,{"$f":"IF(GetData!K299=\"\",\"\",GetData!K299)","v":""},{"$f":"IF(GetData!AC299=\"\",\"\",GetData!AC299)","v":""},null,null,null,null,null,null,null,{"$f":"IF(GetData!L299=\"\",\"\",GetData!L299)","v":""},{"$f":"IF(GetData!AD299=\"\",\"\",GetData!AD299)","v":""},null,null,null,null,null,null,null,{"$f":"IF(GetData!M299=\"\",\"\",GetData!M299)","v":""},{"$f":"IF(GetData!AE299=\"\",\"\",GetData!AE299)","v":""}]
[{"$f":"IF(GetData!I300=\"\",\"\",GetData!I300)","v":""},{"$f":"IF(GetData!AA300=\"\",\"\",GetData!AA300)","v":""},null,null,null,null,null,null,null,{"$f":"IF(GetData!J300=\"\",\"\",GetData!J300)","v":""},{"$f":"IF(GetData!AB300=\"\",\"\",GetData!AB300)","v":""},null,null,null,null,null,null,null,{"$f":"IF(GetData!K300=\"\",\"\",GetData!K300)","v":""},{"$f":"IF(GetData!AC300=\"\",\"\",GetData!AC300)","v":""},null,null,null,null,null,null,null,{"$f":"IF(GetData!L300=\"\",\"\",GetData!L300)","v":""},{"$f":"IF(GetData!AD300=\"\",\"\",GetData!AD300)","v":""},null,null,null,null,null,null,null,{"$f":"IF(GetData!M300=\"\",\"\",GetData!M300)","v":""},{"$f":"IF(GetData!AE300=\"\",\"\",GetData!AE300)","v":""}]
[{"$f":"IF(GetData!I301=\"\",\"\",GetData!I301)","v":""},{"$f":"IF(GetData!AA301=\"\",\"\",GetData!AA301)","v":""},null,null,null,null,null,null,null,{"$f":"IF(GetData!J301=\"\",\"\",GetData!J301)","v":""},{"$f":"IF(GetData!AB301=\"\",\"\",GetData!AB301)","v":""},null,null,null,null,null,null,null,{"$f":"IF(GetData!K301=\"\",\"\",GetData!K301)","v":""},{"$f":"IF(GetData!AC301=\"\",\"\",GetData!AC301)","v":""},null,null,null,null,null,null,null,{"$f":"IF(GetData!L301=\"\",\"\",GetData!L301)","v":""},{"$f":"IF(GetData!AD301=\"\",\"\",GetData!AD301)","v":""},null,null,null,null,null,null,null,{"$f":"IF(GetData!M301=\"\",\"\",GetData!M301)","v":""},{"$f":"IF(GetData!AE301=\"\",\"\",GetData!AE301)","v":""}]
[{"$f":"IF(GetData!I302=\"\",\"\",GetData!I302)","v":""},{"$f":"IF(GetData!AA302=\"\",\"\",GetData!AA302)","v":""},null,null,null,null,null,null,null,{"$f":"IF(GetData!J302=\"\",\"\",GetData!J302)","v":""},{"$f":"IF(GetData!AB302=\"\",\"\",GetData!AB302)","v":""},null,null,null,null,null,null,null,{"$f":"IF(GetData!K302=\"\",\"\",GetData!K302)","v":""},{"$f":"IF(GetData!AC302=\"\",\"\",GetData!AC302)","v":""},null,null,null,null,null,null,null,{"$f":"IF(GetData!L302=\"\",\"\",GetData!L302)","v":""},{"$f":"IF(GetData!AD302=\"\",\"\",GetData!AD302)","v":""},null,null,null,null,null,null,null,{"$f":"IF(GetData!M302=\"\",\"\",GetData!M302)","v":""},{"$f":"IF(GetData!AE302=\"\",\"\",GetData!AE302)","v":""}]
[{"$f":"IF(GetData!I303=\"\",\"\",GetData!I303)","v":""},{"$f":"IF(GetData!AA303=\"\",\"\",GetData!AA303)","v":""},null,null,null,null,null,null,null,{"$f":"IF(GetData!J303=\"\",\"\",GetData!J303)","v":""},{"$f":"IF(GetData!AB303=\"\",\"\",GetData!AB303)","v":""},null,null,null,null,null,null,null,{"$f":"IF(GetData!K303=\"\",\"\",GetData!K303)","v":""},{"$f":"IF(GetData!AC303=\"\",\"\",GetData!AC303)","v":""},null,null,null,null,null,null,null,{"$f":"IF(GetData!L303=\"\",\"\",GetData!L303)","v":""},{"$f":"IF(GetData!AD303=\"\",\"\",GetData!AD303)","v":""},null,null,null,null,null,null,null,{"$f":"IF(GetData!M303=\"\",\"\",GetData!M303)","v":""},{"$f":"IF(GetData!AE303=\"\",\"\",GetData!AE303)","v":""}]
[{"$f":"IF(GetData!I304=\"\",\"\",GetData!I304)","v":""},{"$f":"IF(GetData!AA304=\"\",\"\",GetData!AA304)","v":""},null,null,null,null,null,null,null,{"$f":"IF(GetData!J304=\"\",\"\",GetData!J304)","v":""},{"$f":"IF(GetData!AB304=\"\",\"\",GetData!AB304)","v":""},null,null,null,null,null,null,null,{"$f":"IF(GetData!K304=\"\",\"\",GetData!K304)","v":""},{"$f":"IF(GetData!AC304=\"\",\"\",GetData!AC304)","v":""},null,null,null,null,null,null,null,{"$f":"IF(GetData!L304=\"\",\"\",GetData!L304)","v":""},{"$f":"IF(GetData!AD304=\"\",\"\",GetData!AD304)","v":""},null,null,null,null,null,null,null,{"$f":"IF(GetData!M304=\"\",\"\",GetData!M304)","v":""},{"$f":"IF(GetData!AE304=\"\",\"\",GetData!AE304)","v":""}]
[{"$f":"IF(GetData!I305=\"\",\"\",GetData!I305)","v":""},{"$f":"IF(GetData!AA305=\"\",\"\",GetData!AA305)","v":""},null,null,null,null,null,null,null,{"$f":"IF(GetData!J305=\"\",\"\",GetData!J305)","v":""},{"$f":"IF(GetData!AB305=\"\",\"\",GetData!AB305)","v":""},null,null,null,null,null,null,null,{"$f":"IF(GetData!K305=\"\",\"\",GetData!K305)","v":""},{"$f":"IF(GetData!AC305=\"\",\"\",GetData!AC305)","v":""},null,null,null,null,null,null,null,{"$f":"IF(GetData!L305=\"\",\"\",GetData!L305)","v":""},{"$f":"IF(GetData!AD305=\"\",\"\",GetData!AD305)","v":""},null,null,null,null,null,null,null,{"$f":"IF(GetData!M305=\"\",\"\",GetData!M305)","v":""},{"$f":"IF(GetData!AE305=\"\",\"\",GetData!AE305)","v":""}]
[{"$f":"IF(GetData!I306=\"\",\"\",GetData!I306)","v":""},{"$f":"IF(GetData!AA306=\"\",\"\",GetData!AA306)","v":""},null,null,null,null,null,null,null,{"$f":"IF(GetData!J306=\"\",\"\",GetData!J306)","v":""},{"$f":"IF(GetData!AB306=\"\",\"\",GetData!AB306)","v":""},null,null,null,null,null,null,null,{"$f":"IF(GetData!K306=\"\",\"\",GetData!K306)","v":""},{"$f":"IF(GetData!AC306=\"\",\"\",GetData!AC306)","v":""},null,null,null,null,null,null,null,{"$f":"IF(GetData!L306=\"\",\"\",GetData!L306)","v":""},{"$f":"IF(GetData!AD306=\"\",\"\",GetData!AD306)","v":""},null,null,null,null,null,null,null,{"$f":"IF(GetData!M306=\"\",\"\",GetData!M306)","v":""},{"$f":"IF(GetData!AE306=\"\",\"\",GetData!AE306)","v":""}]
[{"$f":"IF(GetData!I307=\"\",\"\",GetData!I307)","v":""},{"$f":"IF(GetData!AA307=\"\",\"\",GetData!AA307)","v":""},null,null,null,null,null,null,null,{"$f":"IF(GetData!J307=\"\",\"\",GetData!J307)","v":""},{"$f":"IF(GetData!AB307=\"\",\"\",GetData!AB307)","v":""},null,null,null,null,null,null,null,{"$f":"IF(GetData!K307=\"\",\"\",GetData!K307)","v":""},{"$f":"IF(GetData!AC307=\"\",\"\",GetData!AC307)","v":""},null,null,null,null,null,null,null,{"$f":"IF(GetData!L307=\"\",\"\",GetData!L307)","v":""},{"$f":"IF(GetData!AD307=\"\",\"\",GetData!AD307)","v":""},null,null,null,null,null,null,null,{"$f":"IF(GetData!M307=\"\",\"\",GetData!M307)","v":""},{"$f":"IF(GetData!AE307=\"\",\"\",GetData!AE307)","v":""}]
[{"$f":"IF(GetData!I308=\"\",\"\",GetData!I308)","v":""},{"$f":"IF(GetData!AA308=\"\",\"\",GetData!AA308)","v":""},null,null,null,null,null,null,null,{"$f":"IF(GetData!J308=\"\",\"\",GetData!J308)","v":""},{"$f":"IF(GetData!AB308=\"\",\"\",GetData!AB308)","v":""},null,null,null,null,null,null,null,{"$f":"IF(GetData!K308=\"\",\"\",GetData!K308)","v":""},{"$f":"IF(GetData!AC308=\"\",\"\",GetData!AC308)","v":""},null,null,null,null,null,null,null,{"$f":"IF(GetData!L308=\"\",\"\",GetData!L308)","v":""},{"$f":"IF(GetData!AD308=\"\",\"\",GetData!AD308)","v":""},null,null,null,null,null,null,null,{"$f":"IF(GetData!M308=\"\",\"\",GetData!M308)","v":""},{"$f":"IF(GetData!AE308=\"\",\"\",GetData!AE308)","v":""}]
[{"$f":"IF(GetData!I309=\"\",\"\",GetData!I309)","v":""},{"$f":"IF(GetData!AA309=\"\",\"\",GetData!AA309)","v":""},null,null,null,null,null,null,null,{"$f":"IF(GetData!J309=\"\",\"\",GetData!J309)","v":""},{"$f":"IF(GetData!AB309=\"\",\"\",GetData!AB309)","v":""},null,null,null,null,null,null,null,{"$f":"IF(GetData!K309=\"\",\"\",GetData!K309)","v":""},{"$f":"IF(GetData!AC309=\"\",\"\",GetData!AC309)","v":""},null,null,null,null,null,null,null,{"$f":"IF(GetData!L309=\"\",\"\",GetData!L309)","v":""},{"$f":"IF(GetData!AD309=\"\",\"\",GetData!AD309)","v":""},null,null,null,null,null,null,null,{"$f":"IF(GetData!M309=\"\",\"\",GetData!M309)","v":""},{"$f":"IF(GetData!AE309=\"\",\"\",GetData!AE309)","v":""}]
[{"$f":"IF(GetData!I310=\"\",\"\",GetData!I310)","v":""},{"$f":"IF(GetData!AA310=\"\",\"\",GetData!AA310)","v":""},null,null,null,null,null,null,null,{"$f":"IF(GetData!J310=\"\",\"\",GetData!J310)","v":""},{"$f":"IF(GetData!AB310=\"\",\"\",GetData!AB310)","v":""},null,null,null,null,null,null,null,{"$f":"IF(GetData!K310=\"\",\"\",GetData!K310)","v":""},{"$f":"IF(GetData!AC310=\"\",\"\",GetData!AC310)","v":""},null,null,null,null,null,null,null,{"$f":"IF(GetData!L310=\"\",\"\",GetData!L310)","v":""},{"$f":"IF(GetData!AD310=\"\",\"\",GetData!AD310)","v":""},null,null,null,null,null,null,null,{"$f":"IF(GetData!M310=\"\",\"\",GetData!M310)","v":""},{"$f":"IF(GetData!AE310=\"\",\"\",GetData!AE310)","v":""}]
[{"$f":"IF(GetData!I311=\"\",\"\",GetData!I311)","v":""},{"$f":"IF(GetData!AA311=\"\",\"\",GetData!AA311)","v":""},null,null,null,null,null,null,null,{"$f":"IF(GetData!J311=\"\",\"\",GetData!J311)","v":""},{"$f":"IF(GetData!AB311=\"\",\"\",GetData!AB311)","v":""},null,null,null,null,null,null,null,{"$f":"IF(GetData!K311=\"\",\"\",GetData!K311)","v":""},{"$f":"IF(GetData!AC311=\"\",\"\",GetData!AC311)","v":""},null,null,null,null,null,null,null,{"$f":"IF(GetData!L311=\"\",\"\",GetData!L311)","v":""},{"$f":"IF(GetData!AD311=\"\",\"\",GetData!AD311)","v":""},null,null,null,null,null,null,null,{"$f":"IF(GetData!M311=\"\",\"\",GetData!M311)","v":""},{"$f":"IF(GetData!AE311=\"\",\"\",GetData!AE311)","v":""}]
[{"$f":"IF(GetData!I312=\"\",\"\",GetData!I312)","v":""},{"$f":"IF(GetData!AA312=\"\",\"\",GetData!AA312)","v":""},null,null,null,null,null,null,null,{"$f":"IF(GetData!J312=\"\",\"\",GetData!J312)","v":""},{"$f":"IF(GetData!AB312=\"\",\"\",GetData!AB312)","v":""},null,null,null,null,null,null,null,{"$f":"IF(GetData!K312=\"\",\"\",GetData!K312)","v":""},{"$f":"IF(GetData!AC312=\"\",\"\",GetData!AC312)","v":""},null,null,null,null,null,null,null,{"$f":"IF(GetData!L312=\"\",\"\",GetData!L312)","v":""},{"$f":"IF(GetData!AD312=\"\",\"\",GetData!AD312)","v":""},null,null,null,null,null,null,null,{"$f":"IF(GetData!M312=\"\",\"\",GetData!M312)","v":""},{"$f":"IF(GetData!AE312=\"\",\"\",GetData!AE312)","v":""}]
[{"$f":"IF(GetData!I313=\"\",\"\",GetData!I313)","v":""},{"$f":"IF(GetData!AA313=\"\",\"\",GetData!AA313)","v":""},null,null,null,null,null,null,null,{"$f":"IF(GetData!J313=\"\",\"\",GetData!J313)","v":""},{"$f":"IF(GetData!AB313=\"\",\"\",GetData!AB313)","v":""},null,null,null,null,null,null,null,{"$f":"IF(GetData!K313=\"\",\"\",GetData!K313)","v":""},{"$f":"IF(GetData!AC313=\"\",\"\",GetData!AC313)","v":""},null,null,null,null,null,null,null,{"$f":"IF(GetData!L313=\"\",\"\",GetData!L313)","v":""},{"$f":"IF(GetData!AD313=\"\",\"\",GetData!AD313)","v":""},null,null,null,null,null,null,null,{"$f":"IF(GetData!M313=\"\",\"\",GetData!M313)","v":""},{"$f":"IF(GetData!AE313=\"\",\"\",GetData!AE313)","v":""}]
[{"$f":"IF(GetData!I314=\"\",\"\",GetData!I314)","v":""},{"$f":"IF(GetData!AA314=\"\",\"\",GetData!AA314)","v":""},null,null,null,null,null,null,null,{"$f":"IF(GetData!J314=\"\",\"\",GetData!J314)","v":""},{"$f":"IF(GetData!AB314=\"\",\"\",GetData!AB314)","v":""},null,null,null,null,null,null,null,{"$f":"IF(GetData!K314=\"\",\"\",GetData!K314)","v":""},{"$f":"IF(GetData!AC314=\"\",\"\",GetData!AC314)","v":""},null,null,null,null,null,null,null,{"$f":"IF(GetData!L314=\"\",\"\",GetData!L314)","v":""},{"$f":"IF(GetData!AD314=\"\",\"\",GetData!AD314)","v":""},null,null,null,null,null,null,null,{"$f":"IF(GetData!M314=\"\",\"\",GetData!M314)","v":""},{"$f":"IF(GetData!AE314=\"\",\"\",GetData!AE314)","v":""}]
[{"$f":"IF(GetData!I315=\"\",\"\",GetData!I315)","v":""},{"$f":"IF(GetData!AA315=\"\",\"\",GetData!AA315)","v":""},null,null,null,null,null,null,null,{"$f":"IF(GetData!J315=\"\",\"\",GetData!J315)","v":""},{"$f":"IF(GetData!AB315=\"\",\"\",GetData!AB315)","v":""},null,null,null,null,null,null,null,{"$f":"IF(GetData!K315=\"\",\"\",GetData!K315)","v":""},{"$f":"IF(GetData!AC315=\"\",\"\",GetData!AC315)","v":""},null,null,null,null,null,null,null,{"$f":"IF(GetData!L315=\"\",\"\",GetData!L315)","v":""},{"$f":"IF(GetData!AD315=\"\",\"\",GetData!AD315)","v":""},null,null,null,null,null,null,null,{"$f":"IF(GetData!M315=\"\",\"\",GetData!M315)","v":""},{"$f":"IF(GetData!AE315=\"\",\"\",GetData!AE315)","v":""}]
[{"$f":"IF(GetData!I316=\"\",\"\",GetData!I316)","v":""},{"$f":"IF(GetData!AA316=\"\",\"\",GetData!AA316)","v":""},null,null,null,null,null,null,null,{"$f":"IF(GetData!J316=\"\",\"\",GetData!J316)","v":""},{"$f":"IF(GetData!AB316=\"\",\"\",GetData!AB316)","v":""},null,null,null,null,null,null,null,{"$f":"IF(GetData!K316=\"\",\"\",GetData!K316)","v":""},{"$f":"IF(GetData!AC316=\"\",\"\",GetData!AC316)","v":""},null,null,null,null,null,null,null,{"$f":"IF(GetData!L316=\"\",\"\",GetData!L316)","v":""},{"$f":"IF(GetData!AD316=\"\",\"\",GetData!AD316)","v":""},null,null,null,null,null,null,null,{"$f":"IF(GetData!M316=\"\",\"\",GetData!M316)","v":""},{"$f":"IF(GetData!AE316=\"\",\"\",GetData!AE316)","v":""}]
[{"$f":"IF(GetData!I317=\"\",\"\",GetData!I317)","v":""},{"$f":"IF(GetData!AA317=\"\",\"\",GetData!AA317)","v":""},null,null,null,null,null,null,null,{"$f":"IF(GetData!J317=\"\",\"\",GetData!J317)","v":""},{"$f":"IF(GetData!AB317=\"\",\"\",GetData!AB317)","v":""},null,null,null,null,null,null,null,{"$f":"IF(GetData!K317=\"\",\"\",GetData!K317)","v":""},{"$f":"IF(GetData!AC317=\"\",\"\",GetData!AC317)","v":""},null,null,null,null,null,null,null,{"$f":"IF(GetData!L317=\"\",\"\",GetData!L317)","v":""},{"$f":"IF(GetData!AD317=\"\",\"\",GetData!AD317)","v":""},null,null,null,null,null,null,null,{"$f":"IF(GetData!M317=\"\",\"\",GetData!M317)","v":""},{"$f":"IF(GetData!AE317=\"\",\"\",GetData!AE317)","v":""}]
[{"$f":"IF(GetData!I318=\"\",\"\",GetData!I318)","v":""},{"$f":"IF(GetData!AA318=\"\",\"\",GetData!AA318)","v":""},null,null,null,null,null,null,null,{"$f":"IF(GetData!J318=\"\",\"\",GetData!J318)","v":""},{"$f":"IF(GetData!AB318=\"\",\"\",GetData!AB318)","v":""},null,null,null,null,null,null,null,{"$f":"IF(GetData!K318=\"\",\"\",GetData!K318)","v":""},{"$f":"IF(GetData!AC318=\"\",\"\",GetData!AC318)","v":""},null,null,null,null,null,null,null,{"$f":"IF(GetData!L318=\"\",\"\",GetData!L318)","v":""},{"$f":"IF(GetData!AD318=\"\",\"\",GetData!AD318)","v":""},null,null,null,null,null,null,null,{"$f":"IF(GetData!M318=\"\",\"\",GetData!M318)","v":""},{"$f":"IF(GetData!AE318=\"\",\"\",GetData!AE318)","v":""}]
[{"$f":"IF(GetData!I319=\"\",\"\",GetData!I319)","v":""},{"$f":"IF(GetData!AA319=\"\",\"\",GetData!AA319)","v":""},null,null,null,null,null,null,null,{"$f":"IF(GetData!J319=\"\",\"\",GetData!J319)","v":""},{"$f":"IF(GetData!AB319=\"\",\"\",GetData!AB319)","v":""},null,null,null,null,null,null,null,{"$f":"IF(GetData!K319=\"\",\"\",GetData!K319)","v":""},{"$f":"IF(GetData!AC319=\"\",\"\",GetData!AC319)","v":""},null,null,null,null,null,null,null,{"$f":"IF(GetData!L319=\"\",\"\",GetData!L319)","v":""},{"$f":"IF(GetData!AD319=\"\",\"\",GetData!AD319)","v":""},null,null,null,null,null,null,null,{"$f":"IF(GetData!M319=\"\",\"\",GetData!M319)","v":""},{"$f":"IF(GetData!AE319=\"\",\"\",GetData!AE319)","v":""}]
[{"$f":"IF(GetData!I320=\"\",\"\",GetData!I320)","v":""},{"$f":"IF(GetData!AA320=\"\",\"\",GetData!AA320)","v":""},null,null,null,null,null,null,null,{"$f":"IF(GetData!J320=\"\",\"\",GetData!J320)","v":""},{"$f":"IF(GetData!AB320=\"\",\"\",GetData!AB320)","v":""},null,null,null,null,null,null,null,{"$f":"IF(GetData!K320=\"\",\"\",GetData!K320)","v":""},{"$f":"IF(GetData!AC320=\"\",\"\",GetData!AC320)","v":""},null,null,null,null,null,null,null,{"$f":"IF(GetData!L320=\"\",\"\",GetData!L320)","v":""},{"$f":"IF(GetData!AD320=\"\",\"\",GetData!AD320)","v":""},null,null,null,null,null,null,null,{"$f":"IF(GetData!M320=\"\",\"\",GetData!M320)","v":""},{"$f":"IF(GetData!AE320=\"\",\"\",GetData!AE320)","v":""}]
[{"$f":"IF(GetData!I321=\"\",\"\",GetData!I321)","v":""},{"$f":"IF(GetData!AA321=\"\",\"\",GetData!AA321)","v":""},null,null,null,null,null,null,null,{"$f":"IF(GetData!J321=\"\",\"\",GetData!J321)","v":""},{"$f":"IF(GetData!AB321=\"\",\"\",GetData!AB321)","v":""},null,null,null,null,null,null,null,{"$f":"IF(GetData!K321=\"\",\"\",GetData!K321)","v":""},{"$f":"IF(GetData!AC321=\"\",\"\",GetData!AC321)","v":""},null,null,null,null,null,null,null,{"$f":"IF(GetData!L321=\"\",\"\",GetData!L321)","v":""},{"$f":"IF(GetData!AD321=\"\",\"\",GetData!AD321)","v":""},null,null,null,null,null,null,null,{"$f":"IF(GetData!M321=\"\",\"\",GetData!M321)","v":""},{"$f":"IF(GetData!AE321=\"\",\"\",GetData!AE321)","v":""}]
[{"$f":"IF(GetData!I322=\"\",\"\",GetData!I322)","v":""},{"$f":"IF(GetData!AA322=\"\",\"\",GetData!AA322)","v":""},null,null,null,null,null,null,null,{"$f":"IF(GetData!J322=\"\",\"\",GetData!J322)","v":""},{"$f":"IF(GetData!AB322=\"\",\"\",GetData!AB322)","v":""},null,null,null,null,null,null,null,{"$f":"IF(GetData!K322=\"\",\"\",GetData!K322)","v":""},{"$f":"IF(GetData!AC322=\"\",\"\",GetData!AC322)","v":""},null,null,null,null,null,null,null,{"$f":"IF(GetData!L322=\"\",\"\",GetData!L322)","v":""},{"$f":"IF(GetData!AD322=\"\",\"\",GetData!AD322)","v":""},null,null,null,null,null,null,null,{"$f":"IF(GetData!M322=\"\",\"\",GetData!M322)","v":""},{"$f":"IF(GetData!AE322=\"\",\"\",GetData!AE322)","v":""}]
[{"$f":"IF(GetData!I323=\"\",\"\",GetData!I323)","v":""},{"$f":"IF(GetData!AA323=\"\",\"\",GetData!AA323)","v":""},null,null,null,null,null,null,null,{"$f":"IF(GetData!J323=\"\",\"\",GetData!J323)","v":""},{"$f":"IF(GetData!AB323=\"\",\"\",GetData!AB323)","v":""},null,null,null,null,null,null,null,{"$f":"IF(GetData!K323=\"\",\"\",GetData!K323)","v":""},{"$f":"IF(GetData!AC323=\"\",\"\",GetData!AC323)","v":""},null,null,null,null,null,null,null,{"$f":"IF(GetData!L323=\"\",\"\",GetData!L323)","v":""},{"$f":"IF(GetData!AD323=\"\",\"\",GetData!AD323)","v":""},null,null,null,null,null,null,null,{"$f":"IF(GetData!M323=\"\",\"\",GetData!M323)","v":""},{"$f":"IF(GetData!AE323=\"\",\"\",GetData!AE323)","v":""}]
[{"$f":"IF(GetData!I324=\"\",\"\",GetData!I324)","v":""},{"$f":"IF(GetData!AA324=\"\",\"\",GetData!AA324)","v":""},null,null,null,null,null,null,null,{"$f":"IF(GetData!J324=\"\",\"\",GetData!J324)","v":""},{"$f":"IF(GetData!AB324=\"\",\"\",GetData!AB324)","v":""},null,null,null,null,null,null,null,{"$f":"IF(GetData!K324=\"\",\"\",GetData!K324)","v":""},{"$f":"IF(GetData!AC324=\"\",\"\",GetData!AC324)","v":""},null,null,null,null,null,null,null,{"$f":"IF(GetData!L324=\"\",\"\",GetData!L324)","v":""},{"$f":"IF(GetData!AD324=\"\",\"\",GetData!AD324)","v":""},null,null,null,null,null,null,null,{"$f":"IF(GetData!M324=\"\",\"\",GetData!M324)","v":""},{"$f":"IF(GetData!AE324=\"\",\"\",GetData!AE324)","v":""}]
[{"$f":"IF(GetData!I325=\"\",\"\",GetData!I325)","v":""},{"$f":"IF(GetData!AA325=\"\",\"\",GetData!AA325)","v":""},null,null,null,null,null,null,null,{"$f":"IF(GetData!J325=\"\",\"\",GetData!J325)","v":""},{"$f":"IF(GetData!AB325=\"\",\"\",GetData!AB325)","v":""},null,null,null,null,null,null,null,{"$f":"IF(GetData!K325=\"\",\"\",GetData!K325)","v":""},{"$f":"IF(GetData!AC325=\"\",\"\",GetData!AC325)","v":""},null,null,null,null,null,null,null,{"$f":"IF(GetData!L325=\"\",\"\",GetData!L325)","v":""},{"$f":"IF(GetData!AD325=\"\",\"\",GetData!AD325)","v":""},null,null,null,null,null,null,null,{"$f":"IF(GetData!M325=\"\",\"\",GetData!M325)","v":""},{"$f":"IF(GetData!AE325=\"\",\"\",GetData!AE325)","v":""}]
[{"$f":"IF(GetData!I326=\"\",\"\",GetData!I326)","v":""},{"$f":"IF(GetData!AA326=\"\",\"\",GetData!AA326)","v":""},null,null,null,null,null,null,null,{"$f":"IF(GetData!J326=\"\",\"\",GetData!J326)","v":""},{"$f":"IF(GetData!AB326=\"\",\"\",GetData!AB326)","v":""},null,null,null,null,null,null,null,{"$f":"IF(GetData!K326=\"\",\"\",GetData!K326)","v":""},{"$f":"IF(GetData!AC326=\"\",\"\",GetData!AC326)","v":""},null,null,null,null,null,null,null,{"$f":"IF(GetData!L326=\"\",\"\",GetData!L326)","v":""},{"$f":"IF(GetData!AD326=\"\",\"\",GetData!AD326)","v":""},null,null,null,null,null,null,null,{"$f":"IF(GetData!M326=\"\",\"\",GetData!M326)","v":""},{"$f":"IF(GetData!AE326=\"\",\"\",GetData!AE326)","v":""}]
[{"$f":"IF(GetData!I327=\"\",\"\",GetData!I327)","v":""},{"$f":"IF(GetData!AA327=\"\",\"\",GetData!AA327)","v":""},null,null,null,null,null,null,null,{"$f":"IF(GetData!J327=\"\",\"\",GetData!J327)","v":""},{"$f":"IF(GetData!AB327=\"\",\"\",GetData!AB327)","v":""},null,null,null,null,null,null,null,{"$f":"IF(GetData!K327=\"\",\"\",GetData!K327)","v":""},{"$f":"IF(GetData!AC327=\"\",\"\",GetData!AC327)","v":""},null,null,null,null,null,null,null,{"$f":"IF(GetData!L327=\"\",\"\",GetData!L327)","v":""},{"$f":"IF(GetData!AD327=\"\",\"\",GetData!AD327)","v":""},null,null,null,null,null,null,null,{"$f":"IF(GetData!M327=\"\",\"\",GetData!M327)","v":""},{"$f":"IF(GetData!AE327=\"\",\"\",GetData!AE327)","v":""}]
[{"$f":"IF(GetData!I328=\"\",\"\",GetData!I328)","v":""},{"$f":"IF(GetData!AA328=\"\",\"\",GetData!AA328)","v":""},null,null,null,null,null,null,null,{"$f":"IF(GetData!J328=\"\",\"\",GetData!J328)","v":""},{"$f":"IF(GetData!AB328=\"\",\"\",GetData!AB328)","v":""},null,null,null,null,null,null,null,{"$f":"IF(GetData!K328=\"\",\"\",GetData!K328)","v":""},{"$f":"IF(GetData!AC328=\"\",\"\",GetData!AC328)","v":""},null,null,null,null,null,null,null,{"$f":"IF(GetData!L328=\"\",\"\",GetData!L328)","v":""},{"$f":"IF(GetData!AD328=\"\",\"\",GetData!AD328)","v":""},null,null,null,null,null,null,null,{"$f":"IF(GetData!M328=\"\",\"\",GetData!M328)","v":""},{"$f":"IF(GetData!AE328=\"\",\"\",GetData!AE328)","v":""}]
[{"$f":"IF(GetData!I329=\"\",\"\",GetData!I329)","v":""},{"$f":"IF(GetData!AA329=\"\",\"\",GetData!AA329)","v":""},null,null,null,null,null,null,null,{"$f":"IF(GetData!J329=\"\",\"\",GetData!J329)","v":""},{"$f":"IF(GetData!AB329=\"\",\"\",GetData!AB329)","v":""},null,null,null,null,null,null,null,{"$f":"IF(GetData!K329=\"\",\"\",GetData!K329)","v":""},{"$f":"IF(GetData!AC329=\"\",\"\",GetData!AC329)","v":""},null,null,null,null,null,null,null,{"$f":"IF(GetData!L329=\"\",\"\",GetData!L329)","v":""},{"$f":"IF(GetData!AD329=\"\",\"\",GetData!AD329)","v":""},null,null,null,null,null,null,null,{"$f":"IF(GetData!M329=\"\",\"\",GetData!M329)","v":""},{"$f":"IF(GetData!AE329=\"\",\"\",GetData!AE329)","v":""}]
[{"$f":"IF(GetData!I330=\"\",\"\",GetData!I330)","v":""},{"$f":"IF(GetData!AA330=\"\",\"\",GetData!AA330)","v":""},null,null,null,null,null,null,null,{"$f":"IF(GetData!J330=\"\",\"\",GetData!J330)","v":""},{"$f":"IF(GetData!AB330=\"\",\"\",GetData!AB330)","v":""},null,null,null,null,null,null,null,{"$f":"IF(GetData!K330=\"\",\"\",GetData!K330)","v":""},{"$f":"IF(GetData!AC330=\"\",\"\",GetData!AC330)","v":""},null,null,null,null,null,null,null,{"$f":"IF(GetData!L330=\"\",\"\",GetData!L330)","v":""},{"$f":"IF(GetData!AD330=\"\",\"\",GetData!AD330)","v":""},null,null,null,null,null,null,null,{"$f":"IF(GetData!M330=\"\",\"\",GetData!M330)","v":""},{"$f":"IF(GetData!AE330=\"\",\"\",GetData!AE330)","v":""}]
[{"$f":"IF(GetData!I331=\"\",\"\",GetData!I331)","v":""},{"$f":"IF(GetData!AA331=\"\",\"\",GetData!AA331)","v":""},null,null,null,null,null,null,null,{"$f":"IF(GetData!J331=\"\",\"\",GetData!J331)","v":""},{"$f":"IF(GetData!AB331=\"\",\"\",GetData!AB331)","v":""},null,null,null,null,null,null,null,{"$f":"IF(GetData!K331=\"\",\"\",GetData!K331)","v":""},{"$f":"IF(GetData!AC331=\"\",\"\",GetData!AC331)","v":""},null,null,null,null,null,null,null,{"$f":"IF(GetData!L331=\"\",\"\",GetData!L331)","v":""},{"$f":"IF(GetData!AD331=\"\",\"\",GetData!AD331)","v":""},null,null,null,null,null,null,null,{"$f":"IF(GetData!M331=\"\",\"\",GetData!M331)","v":""},{"$f":"IF(GetData!AE331=\"\",\"\",GetData!AE331)","v":""}]
[{"$f":"IF(GetData!I332=\"\",\"\",GetData!I332)","v":""},{"$f":"IF(GetData!AA332=\"\",\"\",GetData!AA332)","v":""},null,null,null,null,null,null,null,{"$f":"IF(GetData!J332=\"\",\"\",GetData!J332)","v":""},{"$f":"IF(GetData!AB332=\"\",\"\",GetData!AB332)","v":""},null,null,null,null,null,null,null,{"$f":"IF(GetData!K332=\"\",\"\",GetData!K332)","v":""},{"$f":"IF(GetData!AC332=\"\",\"\",GetData!AC332)","v":""},null,null,null,null,null,null,null,{"$f":"IF(GetData!L332=\"\",\"\",GetData!L332)","v":""},{"$f":"IF(GetData!AD332=\"\",\"\",GetData!AD332)","v":""},null,null,null,null,null,null,null,{"$f":"IF(GetData!M332=\"\",\"\",GetData!M332)","v":""},{"$f":"IF(GetData!AE332=\"\",\"\",GetData!AE332)","v":""}]
[{"$f":"IF(GetData!I333=\"\",\"\",GetData!I333)","v":""},{"$f":"IF(GetData!AA333=\"\",\"\",GetData!AA333)","v":""},null,null,null,null,null,null,null,{"$f":"IF(GetData!J333=\"\",\"\",GetData!J333)","v":""},{"$f":"IF(GetData!AB333=\"\",\"\",GetData!AB333)","v":""},null,null,null,null,null,null,null,{"$f":"IF(GetData!K333=\"\",\"\",GetData!K333)","v":""},{"$f":"IF(GetData!AC333=\"\",\"\",GetData!AC333)","v":""},null,null,null,null,null,null,null,{"$f":"IF(GetData!L333=\"\",\"\",GetData!L333)","v":""},{"$f":"IF(GetData!AD333=\"\",\"\",GetData!AD333)","v":""},null,null,null,null,null,null,null,{"$f":"IF(GetData!M333=\"\",\"\",GetData!M333)","v":""},{"$f":"IF(GetData!AE333=\"\",\"\",GetData!AE333)","v":""}]
[{"$f":"IF(GetData!I334=\"\",\"\",GetData!I334)","v":""},{"$f":"IF(GetData!AA334=\"\",\"\",GetData!AA334)","v":""},null,null,null,null,null,null,null,{"$f":"IF(GetData!J334=\"\",\"\",GetData!J334)","v":""},{"$f":"IF(GetData!AB334=\"\",\"\",GetData!AB334)","v":""},null,null,null,null,null,null,null,{"$f":"IF(GetData!K334=\"\",\"\",GetData!K334)","v":""},{"$f":"IF(GetData!AC334=\"\",\"\",GetData!AC334)","v":""},null,null,null,null,null,null,null,{"$f":"IF(GetData!L334=\"\",\"\",GetData!L334)","v":""},{"$f":"IF(GetData!AD334=\"\",\"\",GetData!AD334)","v":""},null,null,null,null,null,null,null,{"$f":"IF(GetData!M334=\"\",\"\",GetData!M334)","v":""},{"$f":"IF(GetData!AE334=\"\",\"\",GetData!AE334)","v":""}]
[{"$f":"IF(GetData!I335=\"\",\"\",GetData!I335)","v":""},{"$f":"IF(GetData!AA335=\"\",\"\",GetData!AA335)","v":""},null,null,null,null,null,null,null,{"$f":"IF(GetData!J335=\"\",\"\",GetData!J335)","v":""},{"$f":"IF(GetData!AB335=\"\",\"\",GetData!AB335)","v":""},null,null,null,null,null,null,null,{"$f":"IF(GetData!K335=\"\",\"\",GetData!K335)","v":""},{"$f":"IF(GetData!AC335=\"\",\"\",GetData!AC335)","v":""},null,null,null,null,null,null,null,{"$f":"IF(GetData!L335=\"\",\"\",GetData!L335)","v":""},{"$f":"IF(GetData!AD335=\"\",\"\",GetData!AD335)","v":""},null,null,null,null,null,null,null,{"$f":"IF(GetData!M335=\"\",\"\",GetData!M335)","v":""},{"$f":"IF(GetData!AE335=\"\",\"\",GetData!AE335)","v":""}]
[{"$f":"IF(GetData!I336=\"\",\"\",GetData!I336)","v":""},{"$f":"IF(GetData!AA336=\"\",\"\",GetData!AA336)","v":""},null,null,null,null,null,null,null,{"$f":"IF(GetData!J336=\"\",\"\",GetData!J336)","v":""},{"$f":"IF(GetData!AB336=\"\",\"\",GetData!AB336)","v":""},null,null,null,null,null,null,null,{"$f":"IF(GetData!K336=\"\",\"\",GetData!K336)","v":""},{"$f":"IF(GetData!AC336=\"\",\"\",GetData!AC336)","v":""},null,null,null,null,null,null,null,{"$f":"IF(GetData!L336=\"\",\"\",GetData!L336)","v":""},{"$f":"IF(GetData!AD336=\"\",\"\",GetData!AD336)","v":""},null,null,null,null,null,null,null,{"$f":"IF(GetData!M336=\"\",\"\",GetData!M336)","v":""},{"$f":"IF(GetData!AE336=\"\",\"\",GetData!AE336)","v":""}]
[{"$f":"IF(GetData!I337=\"\",\"\",GetData!I337)","v":""},{"$f":"IF(GetData!AA337=\"\",\"\",GetData!AA337)","v":""},null,null,null,null,null,null,null,{"$f":"IF(GetData!J337=\"\",\"\",GetData!J337)","v":""},{"$f":"IF(GetData!AB337=\"\",\"\",GetData!AB337)","v":""},null,null,null,null,null,null,null,{"$f":"IF(GetData!K337=\"\",\"\",GetData!K337)","v":""},{"$f":"IF(GetData!AC337=\"\",\"\",GetData!AC337)","v":""},null,null,null,null,null,null,null,{"$f":"IF(GetData!L337=\"\",\"\",GetData!L337)","v":""},{"$f":"IF(GetData!AD337=\"\",\"\",GetData!AD337)","v":""},null,null,null,null,null,null,null,{"$f":"IF(GetData!M337=\"\",\"\",GetData!M337)","v":""},{"$f":"IF(GetData!AE337=\"\",\"\",GetData!AE337)","v":""}]
[{"$f":"IF(GetData!I338=\"\",\"\",GetData!I338)","v":""},{"$f":"IF(GetData!AA338=\"\",\"\",GetData!AA338)","v":""},null,null,null,null,null,null,null,{"$f":"IF(GetData!J338=\"\",\"\",GetData!J338)","v":""},{"$f":"IF(GetData!AB338=\"\",\"\",GetData!AB338)","v":""},null,null,null,null,null,null,null,{"$f":"IF(GetData!K338=\"\",\"\",GetData!K338)","v":""},{"$f":"IF(GetData!AC338=\"\",\"\",GetData!AC338)","v":""},null,null,null,null,null,null,null,{"$f":"IF(GetData!L338=\"\",\"\",GetData!L338)","v":""},{"$f":"IF(GetData!AD338=\"\",\"\",GetData!AD338)","v":""},null,null,null,null,null,null,null,{"$f":"IF(GetData!M338=\"\",\"\",GetData!M338)","v":""},{"$f":"IF(GetData!AE338=\"\",\"\",GetData!AE338)","v":""}]
[{"$f":"IF(GetData!I339=\"\",\"\",GetData!I339)","v":""},{"$f":"IF(GetData!AA339=\"\",\"\",GetData!AA339)","v":""},null,null,null,null,null,null,null,{"$f":"IF(GetData!J339=\"\",\"\",GetData!J339)","v":""},{"$f":"IF(GetData!AB339=\"\",\"\",GetData!AB339)","v":""},null,null,null,null,null,null,null,{"$f":"IF(GetData!K339=\"\",\"\",GetData!K339)","v":""},{"$f":"IF(GetData!AC339=\"\",\"\",GetData!AC339)","v":""},null,null,null,null,null,null,null,{"$f":"IF(GetData!L339=\"\",\"\",GetData!L339)","v":""},{"$f":"IF(GetData!AD339=\"\",\"\",GetData!AD339)","v":""},null,null,null,null,null,null,null,{"$f":"IF(GetData!M339=\"\",\"\",GetData!M339)","v":""},{"$f":"IF(GetData!AE339=\"\",\"\",GetData!AE339)","v":""}]
[{"$f":"IF(GetData!I340=\"\",\"\",GetData!I340)","v":""},{"$f":"IF(GetData!AA340=\"\",\"\",GetData!AA340)","v":""},null,null,null,null,null,null,null,{"$f":"IF(GetData!J340=\"\",\"\",GetData!J340)","v":""},{"$f":"IF(GetData!AB340=\"\",\"\",GetData!AB340)","v":""},null,null,null,null,null,null,null,{"$f":"IF(GetData!K340=\"\",\"\",GetData!K340)","v":""},{"$f":"IF(GetData!AC340=\"\",\"\",GetData!AC340)","v":""},null,null,null,null,null,null,null,{"$f":"IF(GetData!L340=\"\",\"\",GetData!L340)","v":""},{"$f":"IF(GetData!AD340=\"\",\"\",GetData!AD340)","v":""},null,null,null,null,null,null,null,{"$f":"IF(GetData!M340=\"\",\"\",GetData!M340)","v":""},{"$f":"IF(GetData!AE340=\"\",\"\",GetData!AE340)","v":""}]
[{"$f":"IF(GetData!I341=\"\",\"\",GetData!I341)","v":""},{"$f":"IF(GetData!AA341=\"\",\"\",GetData!AA341)","v":""},null,null,null,null,null,null,null,{"$f":"IF(GetData!J341=\"\",\"\",GetData!J341)","v":""},{"$f":"IF(GetData!AB341=\"\",\"\",GetData!AB341)","v":""},null,null,null,null,null,null,null,{"$f":"IF(GetData!K341=\"\",\"\",GetData!K341)","v":""},{"$f":"IF(GetData!AC341=\"\",\"\",GetData!AC341)","v":""},null,null,null,null,null,null,null,{"$f":"IF(GetData!L341=\"\",\"\",GetData!L341)","v":""},{"$f":"IF(GetData!AD341=\"\",\"\",GetData!AD341)","v":""},null,null,null,null,null,null,null,{"$f":"IF(GetData!M341=\"\",\"\",GetData!M341)","v":""},{"$f":"IF(GetData!AE341=\"\",\"\",GetData!AE341)","v":""}]
[{"$f":"IF(GetData!I342=\"\",\"\",GetData!I342)","v":""},{"$f":"IF(GetData!AA342=\"\",\"\",GetData!AA342)","v":""},null,null,null,null,null,null,null,{"$f":"IF(GetData!J342=\"\",\"\",GetData!J342)","v":""},{"$f":"IF(GetData!AB342=\"\",\"\",GetData!AB342)","v":""},null,null,null,null,null,null,null,{"$f":"IF(GetData!K342=\"\",\"\",GetData!K342)","v":""},{"$f":"IF(GetData!AC342=\"\",\"\",GetData!AC342)","v":""},null,null,null,null,null,null,null,{"$f":"IF(GetData!L342=\"\",\"\",GetData!L342)","v":""},{"$f":"IF(GetData!AD342=\"\",\"\",GetData!AD342)","v":""},null,null,null,null,null,null,null,{"$f":"IF(GetData!M342=\"\",\"\",GetData!M342)","v":""},{"$f":"IF(GetData!AE342=\"\",\"\",GetData!AE342)","v":""}]
[{"$f":"IF(GetData!I343=\"\",\"\",GetData!I343)","v":""},{"$f":"IF(GetData!AA343=\"\",\"\",GetData!AA343)","v":""},null,null,null,null,null,null,null,{"$f":"IF(GetData!J343=\"\",\"\",GetData!J343)","v":""},{"$f":"IF(GetData!AB343=\"\",\"\",GetData!AB343)","v":""},null,null,null,null,null,null,null,{"$f":"IF(GetData!K343=\"\",\"\",GetData!K343)","v":""},{"$f":"IF(GetData!AC343=\"\",\"\",GetData!AC343)","v":""},null,null,null,null,null,null,null,{"$f":"IF(GetData!L343=\"\",\"\",GetData!L343)","v":""},{"$f":"IF(GetData!AD343=\"\",\"\",GetData!AD343)","v":""},null,null,null,null,null,null,null,{"$f":"IF(GetData!M343=\"\",\"\",GetData!M343)","v":""},{"$f":"IF(GetData!AE343=\"\",\"\",GetData!AE343)","v":""}]
[{"$f":"IF(GetData!I344=\"\",\"\",GetData!I344)","v":""},{"$f":"IF(GetData!AA344=\"\",\"\",GetData!AA344)","v":""},null,null,null,null,null,null,null,{"$f":"IF(GetData!J344=\"\",\"\",GetData!J344)","v":""},{"$f":"IF(GetData!AB344=\"\",\"\",GetData!AB344)","v":""},null,null,null,null,null,null,null,{"$f":"IF(GetData!K344=\"\",\"\",GetData!K344)","v":""},{"$f":"IF(GetData!AC344=\"\",\"\",GetData!AC344)","v":""},null,null,null,null,null,null,null,{"$f":"IF(GetData!L344=\"\",\"\",GetData!L344)","v":""},{"$f":"IF(GetData!AD344=\"\",\"\",GetData!AD344)","v":""},null,null,null,null,null,null,null,{"$f":"IF(GetData!M344=\"\",\"\",GetData!M344)","v":""},{"$f":"IF(GetData!AE344=\"\",\"\",GetData!AE344)","v":""}]
[{"$f":"IF(GetData!I345=\"\",\"\",GetData!I345)","v":""},{"$f":"IF(GetData!AA345=\"\",\"\",GetData!AA345)","v":""},null,null,null,null,null,null,null,{"$f":"IF(GetData!J345=\"\",\"\",GetData!J345)","v":""},{"$f":"IF(GetData!AB345=\"\",\"\",GetData!AB345)","v":""},null,null,null,null,null,null,null,{"$f":"IF(GetData!K345=\"\",\"\",GetData!K345)","v":""},{"$f":"IF(GetData!AC345=\"\",\"\",GetData!AC345)","v":""},null,null,null,null,null,null,null,{"$f":"IF(GetData!L345=\"\",\"\",GetData!L345)","v":""},{"$f":"IF(GetData!AD345=\"\",\"\",GetData!AD345)","v":""},null,null,null,null,null,null,null,{"$f":"IF(GetData!M345=\"\",\"\",GetData!M345)","v":""},{"$f":"IF(GetData!AE345=\"\",\"\",GetData!AE345)","v":""}]
[{"$f":"IF(GetData!I346=\"\",\"\",GetData!I346)","v":""},{"$f":"IF(GetData!AA346=\"\",\"\",GetData!AA346)","v":""},null,null,null,null,null,null,null,{"$f":"IF(GetData!J346=\"\",\"\",GetData!J346)","v":""},{"$f":"IF(GetData!AB346=\"\",\"\",GetData!AB346)","v":""},null,null,null,null,null,null,null,{"$f":"IF(GetData!K346=\"\",\"\",GetData!K346)","v":""},{"$f":"IF(GetData!AC346=\"\",\"\",GetData!AC346)","v":""},null,null,null,null,null,null,null,{"$f":"IF(GetData!L346=\"\",\"\",GetData!L346)","v":""},{"$f":"IF(GetData!AD346=\"\",\"\",GetData!AD346)","v":""},null,null,null,null,null,null,null,{"$f":"IF(GetData!M346=\"\",\"\",GetData!M346)","v":""},{"$f":"IF(GetData!AE346=\"\",\"\",GetData!AE346)","v":""}]
[{"$f":"IF(GetData!I347=\"\",\"\",GetData!I347)","v":""},{"$f":"IF(GetData!AA347=\"\",\"\",GetData!AA347)","v":""},null,null,null,null,null,null,null,{"$f":"IF(GetData!J347=\"\",\"\",GetData!J347)","v":""},{"$f":"IF(GetData!AB347=\"\",\"\",GetData!AB347)","v":""},null,null,null,null,null,null,null,{"$f":"IF(GetData!K347=\"\",\"\",GetData!K347)","v":""},{"$f":"IF(GetData!AC347=\"\",\"\",GetData!AC347)","v":""},null,null,null,null,null,null,null,{"$f":"IF(GetData!L347=\"\",\"\",GetData!L347)","v":""},{"$f":"IF(GetData!AD347=\"\",\"\",GetData!AD347)","v":""},null,null,null,null,null,null,null,{"$f":"IF(GetData!M347=\"\",\"\",GetData!M347)","v":""},{"$f":"IF(GetData!AE347=\"\",\"\",GetData!AE347)","v":""}]
[{"$f":"IF(GetData!I348=\"\",\"\",GetData!I348)","v":""},{"$f":"IF(GetData!AA348=\"\",\"\",GetData!AA348)","v":""},null,null,null,null,null,null,null,{"$f":"IF(GetData!J348=\"\",\"\",GetData!J348)","v":""},{"$f":"IF(GetData!AB348=\"\",\"\",GetData!AB348)","v":""},null,null,null,null,null,null,null,{"$f":"IF(GetData!K348=\"\",\"\",GetData!K348)","v":""},{"$f":"IF(GetData!AC348=\"\",\"\",GetData!AC348)","v":""},null,null,null,null,null,null,null,{"$f":"IF(GetData!L348=\"\",\"\",GetData!L348)","v":""},{"$f":"IF(GetData!AD348=\"\",\"\",GetData!AD348)","v":""},null,null,null,null,null,null,null,{"$f":"IF(GetData!M348=\"\",\"\",GetData!M348)","v":""},{"$f":"IF(GetData!AE348=\"\",\"\",GetData!AE348)","v":""}]
[{"$f":"IF(GetData!I349=\"\",\"\",GetData!I349)","v":""},{"$f":"IF(GetData!AA349=\"\",\"\",GetData!AA349)","v":""},null,null,null,null,null,null,null,{"$f":"IF(GetData!J349=\"\",\"\",GetData!J349)","v":""},{"$f":"IF(GetData!AB349=\"\",\"\",GetData!AB349)","v":""},null,null,null,null,null,null,null,{"$f":"IF(GetData!K349=\"\",\"\",GetData!K349)","v":""},{"$f":"IF(GetData!AC349=\"\",\"\",GetData!AC349)","v":""},null,null,null,null,null,null,null,{"$f":"IF(GetData!L349=\"\",\"\",GetData!L349)","v":""},{"$f":"IF(GetData!AD349=\"\",\"\",GetData!AD349)","v":""},null,null,null,null,null,null,null,{"$f":"IF(GetData!M349=\"\",\"\",GetData!M349)","v":""},{"$f":"IF(GetData!AE349=\"\",\"\",GetData!AE349)","v":""}]
[{"$f":"IF(GetData!I350=\"\",\"\",GetData!I350)","v":""},{"$f":"IF(GetData!AA350=\"\",\"\",GetData!AA350)","v":""},null,null,null,null,null,null,null,{"$f":"IF(GetData!J350=\"\",\"\",GetData!J350)","v":""},{"$f":"IF(GetData!AB350=\"\",\"\",GetData!AB350)","v":""},null,null,null,null,null,null,null,{"$f":"IF(GetData!K350=\"\",\"\",GetData!K350)","v":""},{"$f":"IF(GetData!AC350=\"\",\"\",GetData!AC350)","v":""},null,null,null,null,null,null,null,{"$f":"IF(GetData!L350=\"\",\"\",GetData!L350)","v":""},{"$f":"IF(GetData!AD350=\"\",\"\",GetData!AD350)","v":""},null,null,null,null,null,null,null,{"$f":"IF(GetData!M350=\"\",\"\",GetData!M350)","v":""},{"$f":"IF(GetData!AE350=\"\",\"\",GetData!AE350)","v":""}]
[{"$f":"IF(GetData!I351=\"\",\"\",GetData!I351)","v":""},{"$f":"IF(GetData!AA351=\"\",\"\",GetData!AA351)","v":""},null,null,null,null,null,null,null,{"$f":"IF(GetData!J351=\"\",\"\",GetData!J351)","v":""},{"$f":"IF(GetData!AB351=\"\",\"\",GetData!AB351)","v":""},null,null,null,null,null,null,null,{"$f":"IF(GetData!K351=\"\",\"\",GetData!K351)","v":""},{"$f":"IF(GetData!AC351=\"\",\"\",GetData!AC351)","v":""},null,null,null,null,null,null,null,{"$f":"IF(GetData!L351=\"\",\"\",GetData!L351)","v":""},{"$f":"IF(GetData!AD351=\"\",\"\",GetData!AD351)","v":""},null,null,null,null,null,null,null,{"$f":"IF(GetData!M351=\"\",\"\",GetData!M351)","v":""},{"$f":"IF(GetData!AE351=\"\",\"\",GetData!AE351)","v":""}]
[{"$f":"IF(GetData!I352=\"\",\"\",GetData!I352)","v":""},{"$f":"IF(GetData!AA352=\"\",\"\",GetData!AA352)","v":""},null,null,null,null,null,null,null,{"$f":"IF(GetData!J352=\"\",\"\",GetData!J352)","v":""},{"$f":"IF(GetData!AB352=\"\",\"\",GetData!AB352)","v":""},null,null,null,null,null,null,null,{"$f":"IF(GetData!K352=\"\",\"\",GetData!K352)","v":""},{"$f":"IF(GetData!AC352=\"\",\"\",GetData!AC352)","v":""},null,null,null,null,null,null,null,{"$f":"IF(GetData!L352=\"\",\"\",GetData!L352)","v":""},{"$f":"IF(GetData!AD352=\"\",\"\",GetData!AD352)","v":""},null,null,null,null,null,null,null,{"$f":"IF(GetData!M352=\"\",\"\",GetData!M352)","v":""},{"$f":"IF(GetData!AE352=\"\",\"\",GetData!AE352)","v":""}]
[{"$f":"IF(GetData!I353=\"\",\"\",GetData!I353)","v":""},{"$f":"IF(GetData!AA353=\"\",\"\",GetData!AA353)","v":""},null,null,null,null,null,null,null,{"$f":"IF(GetData!J353=\"\",\"\",GetData!J353)","v":""},{"$f":"IF(GetData!AB353=\"\",\"\",GetData!AB353)","v":""},null,null,null,null,null,null,null,{"$f":"IF(GetData!K353=\"\",\"\",GetData!K353)","v":""},{"$f":"IF(GetData!AC353=\"\",\"\",GetData!AC353)","v":""},null,null,null,null,null,null,null,{"$f":"IF(GetData!L353=\"\",\"\",GetData!L353)","v":""},{"$f":"IF(GetData!AD353=\"\",\"\",GetData!AD353)","v":""},null,null,null,null,null,null,null,{"$f":"IF(GetData!M353=\"\",\"\",GetData!M353)","v":""},{"$f":"IF(GetData!AE353=\"\",\"\",GetData!AE353)","v":""}]
[{"$f":"IF(GetData!I354=\"\",\"\",GetData!I354)","v":""},{"$f":"IF(GetData!AA354=\"\",\"\",GetData!AA354)","v":""},null,null,null,null,null,null,null,{"$f":"IF(GetData!J354=\"\",\"\",GetData!J354)","v":""},{"$f":"IF(GetData!AB354=\"\",\"\",GetData!AB354)","v":""},null,null,null,null,null,null,null,{"$f":"IF(GetData!K354=\"\",\"\",GetData!K354)","v":""},{"$f":"IF(GetData!AC354=\"\",\"\",GetData!AC354)","v":""},null,null,null,null,null,null,null,{"$f":"IF(GetData!L354=\"\",\"\",GetData!L354)","v":""},{"$f":"IF(GetData!AD354=\"\",\"\",GetData!AD354)","v":""},null,null,null,null,null,null,null,{"$f":"IF(GetData!M354=\"\",\"\",GetData!M354)","v":""},{"$f":"IF(GetData!AE354=\"\",\"\",GetData!AE354)","v":""}]
[{"$f":"IF(GetData!I355=\"\",\"\",GetData!I355)","v":""},{"$f":"IF(GetData!AA355=\"\",\"\",GetData!AA355)","v":""},null,null,null,null,null,null,null,{"$f":"IF(GetData!J355=\"\",\"\",GetData!J355)","v":""},{"$f":"IF(GetData!AB355=\"\",\"\",GetData!AB355)","v":""},null,null,null,null,null,null,null,{"$f":"IF(GetData!K355=\"\",\"\",GetData!K355)","v":""},{"$f":"IF(GetData!AC355=\"\",\"\",GetData!AC355)","v":""},null,null,null,null,null,null,null,{"$f":"IF(GetData!L355=\"\",\"\",GetData!L355)","v":""},{"$f":"IF(GetData!AD355=\"\",\"\",GetData!AD355)","v":""},null,null,null,null,null,null,null,{"$f":"IF(GetData!M355=\"\",\"\",GetData!M355)","v":""},{"$f":"IF(GetData!AE355=\"\",\"\",GetData!AE355)","v":""}]
[{"$f":"IF(GetData!I356=\"\",\"\",GetData!I356)","v":""},{"$f":"IF(GetData!AA356=\"\",\"\",GetData!AA356)","v":""},null,null,null,null,null,null,null,{"$f":"IF(GetData!J356=\"\",\"\",GetData!J356)","v":""},{"$f":"IF(GetData!AB356=\"\",\"\",GetData!AB356)","v":""},null,null,null,null,null,null,null,{"$f":"IF(GetData!K356=\"\",\"\",GetData!K356)","v":""},{"$f":"IF(GetData!AC356=\"\",\"\",GetData!AC356)","v":""},null,null,null,null,null,null,null,{"$f":"IF(GetData!L356=\"\",\"\",GetData!L356)","v":""},{"$f":"IF(GetData!AD356=\"\",\"\",GetData!AD356)","v":""},null,null,null,null,null,null,null,{"$f":"IF(GetData!M356=\"\",\"\",GetData!M356)","v":""},{"$f":"IF(GetData!AE356=\"\",\"\",GetData!AE356)","v":""}]
[{"$f":"IF(GetData!I357=\"\",\"\",GetData!I357)","v":""},{"$f":"IF(GetData!AA357=\"\",\"\",GetData!AA357)","v":""},null,null,null,null,null,null,null,{"$f":"IF(GetData!J357=\"\",\"\",GetData!J357)","v":""},{"$f":"IF(GetData!AB357=\"\",\"\",GetData!AB357)","v":""},null,null,null,null,null,null,null,{"$f":"IF(GetData!K357=\"\",\"\",GetData!K357)","v":""},{"$f":"IF(GetData!AC357=\"\",\"\",GetData!AC357)","v":""},null,null,null,null,null,null,null,{"$f":"IF(GetData!L357=\"\",\"\",GetData!L357)","v":""},{"$f":"IF(GetData!AD357=\"\",\"\",GetData!AD357)","v":""},null,null,null,null,null,null,null,{"$f":"IF(GetData!M357=\"\",\"\",GetData!M357)","v":""},{"$f":"IF(GetData!AE357=\"\",\"\",GetData!AE357)","v":""}]
[{"$f":"IF(GetData!I358=\"\",\"\",GetData!I358)","v":""},{"$f":"IF(GetData!AA358=\"\",\"\",GetData!AA358)","v":""},null,null,null,null,null,null,null,{"$f":"IF(GetData!J358=\"\",\"\",GetData!J358)","v":""},{"$f":"IF(GetData!AB358=\"\",\"\",GetData!AB358)","v":""},null,null,null,null,null,null,null,{"$f":"IF(GetData!K358=\"\",\"\",GetData!K358)","v":""},{"$f":"IF(GetData!AC358=\"\",\"\",GetData!AC358)","v":""},null,null,null,null,null,null,null,{"$f":"IF(GetData!L358=\"\",\"\",GetData!L358)","v":""},{"$f":"IF(GetData!AD358=\"\",\"\",GetData!AD358)","v":""},null,null,null,null,null,null,null,{"$f":"IF(GetData!M358=\"\",\"\",GetData!M358)","v":""},{"$f":"IF(GetData!AE358=\"\",\"\",GetData!AE358)","v":""}]
[{"$f":"IF(GetData!I359=\"\",\"\",GetData!I359)","v":""},{"$f":"IF(GetData!AA359=\"\",\"\",GetData!AA359)","v":""},null,null,null,null,null,null,null,{"$f":"IF(GetData!J359=\"\",\"\",GetData!J359)","v":""},{"$f":"IF(GetData!AB359=\"\",\"\",GetData!AB359)","v":""},null,null,null,null,null,null,null,{"$f":"IF(GetData!K359=\"\",\"\",GetData!K359)","v":""},{"$f":"IF(GetData!AC359=\"\",\"\",GetData!AC359)","v":""},null,null,null,null,null,null,null,{"$f":"IF(GetData!L359=\"\",\"\",GetData!L359)","v":""},{"$f":"IF(GetData!AD359=\"\",\"\",GetData!AD359)","v":""},null,null,null,null,null,null,null,{"$f":"IF(GetData!M359=\"\",\"\",GetData!M359)","v":""},{"$f":"IF(GetData!AE359=\"\",\"\",GetData!AE359)","v":""}]
[{"$f":"IF(GetData!I360=\"\",\"\",GetData!I360)","v":""},{"$f":"IF(GetData!AA360=\"\",\"\",GetData!AA360)","v":""},null,null,null,null,null,null,null,{"$f":"IF(GetData!J360=\"\",\"\",GetData!J360)","v":""},{"$f":"IF(GetData!AB360=\"\",\"\",GetData!AB360)","v":""},null,null,null,null,null,null,null,{"$f":"IF(GetData!K360=\"\",\"\",GetData!K360)","v":""},{"$f":"IF(GetData!AC360=\"\",\"\",GetData!AC360)","v":""},null,null,null,null,null,null,null,{"$f":"IF(GetData!L360=\"\",\"\",GetData!L360)","v":""},{"$f":"IF(GetData!AD360=\"\",\"\",GetData!AD360)","v":""},null,null,null,null,null,null,null,{"$f":"IF(GetData!M360=\"\",\"\",GetData!M360)","v":""},{"$f":"IF(GetData!AE360=\"\",\"\",GetData!AE360)","v":""}]
[{"$f":"IF(GetData!I361=\"\",\"\",GetData!I361)","v":""},{"$f":"IF(GetData!AA361=\"\",\"\",GetData!AA361)","v":""},null,null,null,null,null,null,null,{"$f":"IF(GetData!J361=\"\",\"\",GetData!J361)","v":""},{"$f":"IF(GetData!AB361=\"\",\"\",GetData!AB361)","v":""},null,null,null,null,null,null,null,{"$f":"IF(GetData!K361=\"\",\"\",GetData!K361)","v":""},{"$f":"IF(GetData!AC361=\"\",\"\",GetData!AC361)","v":""},null,null,null,null,null,null,null,{"$f":"IF(GetData!L361=\"\",\"\",GetData!L361)","v":""},{"$f":"IF(GetData!AD361=\"\",\"\",GetData!AD361)","v":""},null,null,null,null,null,null,null,{"$f":"IF(GetData!M361=\"\",\"\",GetData!M361)","v":""},{"$f":"IF(GetData!AE361=\"\",\"\",GetData!AE361)","v":""}]
[{"$f":"IF(GetData!I503=\"\",\"\",GetData!I503)","v":""},{"$f":"IF(GetData!AA362=\"\",\"\",GetData!AA362)","v":""},null,null,null,null,null,null,null,{"$f":"IF(GetData!J362=\"\",\"\",GetData!J362)","v":""},{"$f":"IF(GetData!AB362=\"\",\"\",GetData!AB362)","v":""},null,null,null,null,null,null,null,{"$f":"IF(GetData!K504=\"\",\"\",GetData!K504)","v":{"$error":"#DIV/0!"}},{"$f":"IF(GetData!AC362=\"\",\"\",GetData!AC362)","v":""},null,null,null,null,null,null,null,{"$f":"IF(GetData!L504=\"\",\"\",GetData!L504)","v":""},{"$f":"IF(GetData!AD362=\"\",\"\",GetData!AD362)","v":""},null,null,null,null,null,null,null,{"$f":"IF(GetData!M504=\"\",\"\",GetData!M504)","v":""},{"$f":"IF(GetData!AE362=\"\",\"\",GetData!AE362)","v":""}]
[{"$f":"IF(GetData!I504=\"\",\"\",GetData!I504)","v":{"$error":"#DIV/0!"}},{"$f":"IF(GetData!AA363=\"\",\"\",GetData!AA363)","v":""},null,null,null,null,null,null,null,{"$f":"IF(GetData!J363=\"\",\"\",GetData!J363)","v":""},{"$f":"IF(GetData!AB363=\"\",\"\",GetData!AB363)","v":""},null,null,null,null,null,null,null,{"$f":"IF(GetData!K505=\"\",\"\",GetData!K505)","v":"Composition:"},{"$f":"IF(GetData!AC363=\"\",\"\",GetData!AC363)","v":""},null,null,null,null,null,null,null,{"$f":"IF(GetData!L505=\"\",\"\",GetData!L505)","v":{"$error":"#DIV/0!"}},{"$f":"IF(GetData!AD363=\"\",\"\",GetData!AD363)","v":""},null,null,null,null,null,null,null,{"$f":"IF(GetData!M505=\"\",\"\",GetData!M505)","v":{"$error":"#DIV/0!"}},{"$f":"IF(GetData!AE363=\"\",\"\",GetData!AE363)","v":""}]
[null,null,null,null,null,null,null,null,null,{"$f":"IF(GetData!J364=\"\",\"\",GetData!J364)","v":""},{"$f":"IF(GetData!AB364=\"\",\"\",GetData!AB364)","v":""}]
[null,null,null,null,null,null,null,null,null,{"$f":"IF(GetData!J365=\"\",\"\",GetData!J365)","v":""},{"$f":"IF(GetData!AB365=\"\",\"\",GetData!AB365)","v":""}]
[null,null,null,null,null,null,null,null,null,{"$f":"IF(GetData!J366=\"\",\"\",GetData!J366)","v":""},{"$f":"IF(GetData!AB366=\"\",\"\",GetData!AB366)","v":""}]
[null,null,null,null,null,null,null,null,null,{"$f":"IF(GetData!J367=\"\",\"\",GetData!J367)","v":""},{"$f":"IF(GetData!AB367=\"\",\"\",GetData!AB367)","v":""}]
[null,null,null,null,null,null,null,null,null,{"$f":"IF(GetData!J368=\"\",\"\",GetData!J368)","v":""},{"$f":"IF(GetData!AB368=\"\",\"\",GetData!AB368)","v":""}]
[null,null,null,null,null,null,null,null,null,{"$f":"IF(GetData!J369=\"\",\"\",GetData!J369)","v":""},{"$f":"IF(GetData!AB369=\"\",\"\",GetData!AB369)","v":""}]
[null,null,null,null,null,null,null,null,null,{"$f":"IF(GetData!J370=\"\",\"\",GetData!J370)","v":""},{"$f":"IF(GetData!AB370=\"\",\"\",GetData!AB370)","v":""}]
[null,null,null,null,null,null,null,null,null,{"$f":"IF(GetData!J371=\"\",\"\",GetData!J371)","v":""},{"$f":"IF(GetData!AB371=\"\",\"\",GetData!AB371)","v":""}]
[null,null,null,null,null,null,null,null,null,{"$f":"IF(GetData!J372=\"\",\"\",GetData!J372)","v":""},{"$f":"IF(GetData!AB372=\"\",\"\",GetData!AB372)","v":""}]
[null,null,null,null,null,null,null,null,null,{"$f":"IF(GetData!J373=\"\",\"\",GetData!J373)","v":""},{"$f":"IF(GetData!AB373=\"\",\"\",GetData!AB373)","v":""}]
[null,null,null,null,null,null,null,null,null,{"$f":"IF(GetData!J374=\"\",\"\",GetData!J374)","v":""},{"$f":"IF(GetData!AB374=\"\",\"\",GetData!AB374)","v":""}]
[null,null,null,null,null,null,null,null,null,{"$f":"IF(GetData!J375=\"\",\"\",GetData!J375)","v":""},{"$f":"IF(GetData!AB375=\"\",\"\",GetData!AB375)","v":""}]
[null,null,null,null,null,null,null,null,null,{"$f":"IF(GetData!J376=\"\",\"\",GetData!J376)","v":""},{"$f":"IF(GetData!AB376=\"\",\"\",GetData!AB376)","v":""}]
[null,null,null,null,null,null,null,null,null,{"$f":"IF(GetData!J377=\"\",\"\",GetData!J377)","v":""},{"$f":"IF(GetData!AB377=\"\",\"\",GetData!AB377)","v":""}]
[null,null,null,null,null,null,null,null,null,{"$f":"IF(GetData!J378=\"\",\"\",GetData!J378)","v":""},{"$f":"IF(GetData!AB378=\"\",\"\",GetData!AB378)","v":""}]
[null,null,null,null,null,null,null,null,null,{"$f":"IF(GetData!J379=\"\",\"\",GetData!J379)","v":""},{"$f":"IF(GetData!AB379=\"\",\"\",GetData!AB379)","v":""}]
[null,null,null,null,null,null,null,null,null,{"$f":"IF(GetData!J380=\"\",\"\",GetData!J380)","v":""},{"$f":"IF(GetData!AB380=\"\",\"\",GetData!AB380)","v":""}]
[null,null,null,null,null,null,null,null,null,{"$f":"IF(GetData!J381=\"\",\"\",GetData!J381)","v":""},{"$f":"IF(GetData!AB381=\"\",\"\",GetData!AB381)","v":""}]
[null,null,null,null,null,null,null,null,null,{"$f":"IF(GetData!J382=\"\",\"\",GetData!J382)","v":""},{"$f":"IF(GetData!AB382=\"\",\"\",GetData!AB382)","v":""}]
[null,null,null,null,null,null,null,null,null,{"$f":"IF(GetData!J383=\"\",\"\",GetData!J383)","v":""},{"$f":"IF(GetData!AB383=\"\",\"\",GetData!AB383)","v":""}]
[null,null,null,null,null,null,null,null,null,{"$f":"IF(GetData!J384=\"\",\"\",GetData!J384)","v":""},{"$f":"IF(GetData!AB384=\"\",\"\",GetData!AB384)","v":""}]
[null,null,null,null,null,null,null,null,null,{"$f":"IF(GetData!J385=\"\",\"\",GetData!J385)","v":""},{"$f":"IF(GetData!AB385=\"\",\"\",GetData!AB385)","v":""}]
[null,null,null,null,null,null,null,null,null,{"$f":"IF(GetData!J386=\"\",\"\",GetData!J386)","v":""},{"$f":"IF(GetData!AB386=\"\",\"\",GetData!AB386)","v":""}]
[null,null,null,null,null,null,null,null,null,{"$f":"IF(GetData!J387=\"\",\"\",GetData!J387)","v":""},{"$f":"IF(GetData!AB387=\"\",\"\",GetData!AB387)","v":""}]
[null,null,null,null,null,null,null,null,null,{"$f":"IF(GetData!J388=\"\",\"\",GetData!J388)","v":""},{"$f":"IF(GetData!AB388=\"\",\"\",GetData!AB388)","v":""}]
[null,null,null,null,null,null,null,null,null,{"$f":"IF(GetData!J389=\"\",\"\",GetData!J389)","v":""},{"$f":"IF(GetData!AB389=\"\",\"\",GetData!AB389)","v":""}]
[null,null,null,null,null,null,null,null,null,{"$f":"IF(GetData!J390=\"\",\"\",GetData!J390)","v":""},{"$f":"IF(GetData!AB390=\"\",\"\",GetData!AB390)","v":""}]
[null,null,null,null,null,null,null,null,null,{"$f":"IF(GetData!J391=\"\",\"\",GetData!J391)","v":""},{"$f":"IF(GetData!AB391=\"\",\"\",GetData!AB391)","v":""}]
[null,null,null,null,null,null,null,null,null,{"$f":"IF(GetData!J392=\"\",\"\",GetData!J392)","v":""},{"$f":"IF(GetData!AB392=\"\",\"\",GetData!AB392)","v":""}]
[null,null,null,null,null,null,null,null,null,{"$f":"IF(GetData!J393=\"\",\"\",GetData!J393)","v":""},{"$f":"IF(GetData!AB393=\"\",\"\",GetData!AB393)","v":""}]
[null,null,null,null,null,null,null,null,null,{"$f":"IF(GetData!J394=\"\",\"\",GetData!J394)","v":""},{"$f":"IF(GetData!AB394=\"\",\"\",GetData!AB394)","v":""}]
[null,null,null,null,null,null,null,null,null,{"$f":"IF(GetData!J395=\"\",\"\",GetData!J395)","v":""},{"$f":"IF(GetData!AB395=\"\",\"\",GetData!AB395)","v":""}]
[null,null,null,null,null,null,null,null,null,{"$f":"IF(GetData!J396=\"\",\"\",GetData!J396)","v":""},{"$f":"IF(GetData!AB396=\"\",\"\",GetData!AB396)","v":""}]
[null,null,null,null,null,null,null,null,null,{"$f":"IF(GetData!J397=\"\",\"\",GetData!J397)","v":""},{"$f":"IF(GetData!AB397=\"\",\"\",GetData!AB397)","v":""}]
[null,null,null,null,null,null,null,null,null,{"$f":"IF(GetData!J398=\"\",\"\",GetData!J398)","v":""},{"$f":"IF(GetData!AB398=\"\",\"\",GetData!AB398)","v":""}]
[null,null,null,null,null,null,null,null,null,{"$f":"IF(GetData!J399=\"\",\"\",GetData!J399)","v":""},{"$f":"IF(GetData!AB399=\"\",\"\",GetData!AB399)","v":""}]
[null,null,null,null,null,null,null,null,null,{"$f":"IF(GetData!J400=\"\",\"\",GetData!J400)","v":""},{"$f":"IF(GetData!AB400=\"\",\"\",GetData!AB400)","v":""}]
[null,null,null,null,null,null,null,null,null,{"$f":"IF(GetData!J401=\"\",\"\",GetData!J401)","v":""},{"$f":"IF(GetData!AB401=\"\",\"\",GetData!AB401)","v":""}]
[null,null,null,null,null,null,null,null,null,{"$f":"IF(GetData!J402=\"\",\"\",GetData!J402)","v":""},{"$f":"IF(GetData!AB402=\"\",\"\",GetData!AB402)","v":""}]
[null,null,null,null,null,null,null,null,null,{"$f":"IF(GetData!J403=\"\",\"\",GetData!J403)","v":""},{"$f":"IF(GetData!AB403=\"\",\"\",GetData!AB403)","v":""}]
[null,null,null,null,null,null,null,null,null,{"$f":"IF(GetData!J404=\"\",\"\",GetData!J404)","v":""},{"$f":"IF(GetData!AB404=\"\",\"\",GetData!AB404)","v":""}]
[null,null,null,null,null,null,null,null,null,{"$f":"IF(GetData!J405=\"\",\"\",GetData!J405)","v":""},{"$f":"IF(GetData!AB405=\"\",\"\",GetData!AB405)","v":""}]
[null,null,null,null,null,null,null,null,null,{"$f":"IF(GetData!J406=\"\",\"\",GetData!J406)","v":""},{"$f":"IF(GetData!AB406=\"\",\"\",GetData!AB406)","v":""}]
[null,null,null,null,null,null,null,null,null,{"$f":"IF(GetData!J407=\"\",\"\",GetData!J407)","v":""},{"$f":"IF(GetData!AB407=\"\",\"\",GetData!AB407)","v":""}]
[null,null,null,null,null,null,null,null,null,{"$f":"IF(GetData!J408=\"\",\"\",GetData!J408)","v":""},{"$f":"IF(GetData!AB408=\"\",\"\",GetData!AB408)","v":""}]
[null,null,null,null,null,null,null,null,null,{"$f":"IF(GetData!J409=\"\",\"\",GetData!J409)","v":""},{"$f":"IF(GetData!AB409=\"\",\"\",GetData!AB409)","v":""}]
[null,null,null,null,null,null,null,null,null,{"$f":"IF(GetData!J410=\"\",\"\",GetData!J410)","v":""},{"$f":"IF(GetData!AB410=\"\",\"\",GetData!AB410)","v":""}]
[null,null,null,null,null,null,null,null,null,{"$f":"IF(GetData!J411=\"\",\"\",GetData!J411)","v":""},{"$f":"IF(GetData!AB411=\"\",\"\",GetData!AB411)","v":""}]
[null,null,null,null,null,null,null,null,null,{"$f":"IF(GetData!J412=\"\",\"\",GetData!J412)","v":""},{"$f":"IF(GetData!AB412=\"\",\"\",GetData!AB412)","v":""}]
[null,null,null,null,null,null,null,null,null,{"$f":"IF(GetData!J413=\"\",\"\",GetData!J413)","v":""},{"$f":"IF(GetData!AB413=\"\",\"\",GetData!AB413)","v":""}]
[null,null,null,null,null,null,null,null,null,{"$f":"IF(GetData!J414=\"\",\"\",GetData!J414)","v":""},{"$f":"IF(GetData!AB414=\"\",\"\",GetData!AB414)","v":""}]
[null,null,null,null,null,null,null,null,null,{"$f":"IF(GetData!J415=\"\",\"\",GetData!J415)","v":""},{"$f":"IF(GetData!AB415=\"\",\"\",GetData!AB415)","v":""}]
[null,null,null,null,null,null,null,null,null,{"$f":"IF(GetData!J416=\"\",\"\",GetData!J416)","v":""},{"$f":"IF(GetData!AB416=\"\",\"\",GetData!AB416)","v":""}]
[null,null,null,null,null,null,null,null,null,{"$f":"IF(GetData!J417=\"\",\"\",GetData!J417)","v":""},{"$f":"IF(GetData!AB417=\"\",\"\",GetData!AB417)","v":""}]
[null,null,null,null,null,null,null,null,null,{"$f":"IF(GetData!J418=\"\",\"\",GetData!J418)","v":""},{"$f":"IF(GetData!AB418=\"\",\"\",GetData!AB418)","v":""}]
[null,null,null,null,null,null,null,null,null,{"$f":"IF(GetData!J419=\"\",\"\",GetData!J419)","v":""},{"$f":"IF(GetData!AB419=\"\",\"\",GetData!AB419)","v":""}]
[null,null,null,null,null,null,null,null,null,{"$f":"IF(GetData!J420=\"\",\"\",GetData!J420)","v":""},{"$f":"IF(GetData!AB420=\"\",\"\",GetData!AB420)","v":""}]
[null,null,null,null,null,null,null,null,null,{"$f":"IF(GetData!J421=\"\",\"\",GetData!J421)","v":""},{"$f":"IF(GetData!AB421=\"\",\"\",GetData!AB421)","v":""}]
[null,null,null,null,null,null,null,null,null,{"$f":"IF(GetData!J422=\"\",\"\",GetData!J422)","v":""},{"$f":"IF(GetData!AB422=\"\",\"\",GetData!AB422)","v":""}]
[null,null,null,null,null,null,null,null,null,{"$f":"IF(GetData!J423=\"\",\"\",GetData!J423)","v":""},{"$f":"IF(GetData!AB423=\"\",\"\",GetData!AB423)","v":""}]
[null,null,null,null,null,null,null,null,null,{"$f":"IF(GetData!J424=\"\",\"\",GetData!J424)","v":""},{"$f":"IF(GetData!AB424=\"\",\"\",GetData!AB424)","v":""}]
[null,null,null,null,null,null,null,null,null,{"$f":"IF(GetData!J425=\"\",\"\",GetData!J425)","v":""},{"$f":"IF(GetData!AB425=\"\",\"\",GetData!AB425)","v":""}]
[null,null,null,null,null,null,null,null,null,{"$f":"IF(GetData!J426=\"\",\"\",GetData!J426)","v":""},{"$f":"IF(GetData!AB426=\"\",\"\",GetData!AB426)","v":""}]
[null,null,null,null,null,null,null,null,null,{"$f":"IF(GetData!J427=\"\",\"\",GetData!J427)","v":""},{"$f":"IF(GetData!AB427=\"\",\"\",GetData!AB427)","v":""}]
[null,null,null,null,null,null,null,null,null,{"$f":"IF(GetData!J428=\"\",\"\",GetData!J428)","v":""},{"$f":"IF(GetData!AB428=\"\",\"\",GetData!AB428)","v":""}]
[null,null,null,null,null,null,null,null,null,{"$f":"IF(GetData!J429=\"\",\"\",GetData!J429)","v":""},{"$f":"IF(GetData!AB429=\"\",\"\",GetData!AB429)","v":""}]
[null,null,null,null,null,null,null,null,null,{"$f":"IF(GetData!J430=\"\",\"\",GetData!J430)","v":""},{"$f":"IF(GetData!AB430=\"\",\"\",GetData!AB430)","v":""}]
[null,null,null,null,null,null,null,null,null,{"$f":"IF(GetData!J431=\"\",\"\",GetData!J431)","v":""},{"$f":"IF(GetData!AB431=\"\",\"\",GetData!AB431)","v":""}]
[null,null,null,null,null,null,null,null,null,{"$f":"IF(GetData!J432=\"\",\"\",GetData!J432)","v":""},{"$f":"IF(GetData!AB432=\"\",\"\",GetData!AB432)","v":""}]
[null,null,null,null,null,null,null,null,null,{"$f":"IF(GetData!J433=\"\",\"\",GetData!J433)","v":""},{"$f":"IF(GetData!AB433=\"\",\"\",GetData!AB433)","v":""}]
[null,null,null,null,null,null,null,null,null,{"$f":"IF(GetData!J434=\"\",\"\",GetData!J434)","v":""},{"$f":"IF(GetData!AB434=\"\",\"\",GetData!AB434)","v":""}]
[null,null,null,null,null,null,null,null,null,{"$f":"IF(GetData!J435=\"\",\"\",GetData!J435)","v":""},{"$f":"IF(GetData!AB435=\"\",\"\",GetData!AB435)","v":""}]
[null,null,null,null,null,null,null,null,null,{"$f":"IF(GetData!J436=\"\",\"\",GetData!J436)","v":""},{"$f":"IF(GetData!AB436=\"\",\"\",GetData!AB436)","v":""}]
[null,null,null,null,null,null,null,null,null,{"$f":"IF(GetData!J437=\"\",\"\",GetData!J437)","v":""},{"$f":"IF(GetData!AB437=\"\",\"\",GetData!AB437)","v":""}]
[null,null,null,null,null,null,null,null,null,{"$f":"IF(GetData!J438=\"\",\"\",GetData!J438)","v":""},{"$f":"IF(GetData!AB438=\"\",\"\",GetData!AB438)","v":""}]
[null,null,null,null,null,null,null,null,null,{"$f":"IF(GetData!J439=\"\",\"\",GetData!J439)","v":""},{"$f":"IF(GetData!AB439=\"\",\"\",GetData!AB439)","v":""}]
[null,null,null,null,null,null,null,null,null,{"$f":"IF(GetData!J440=\"\",\"\",GetData!J440)","v":""},{"$f":"IF(GetData!AB440=\"\",\"\",GetData!AB440)","v":""}]
[null,null,null,null,null,null,null,null,null,{"$f":"IF(GetData!J441=\"\",\"\",GetData!J441)","v":""},{"$f":"IF(GetData!AB441=\"\",\"\",GetData!AB441)","v":""}]
[null,null,null,null,null,null,null,null,null,{"$f":"IF(GetData!J442=\"\",\"\",GetData!J442)","v":""},{"$f":"IF(GetData!AB442=\"\",\"\",GetData!AB442)","v":""}]
[null,null,null,null,null,null,null,null,null,{"$f":"IF(GetData!J443=\"\",\"\",GetData!J443)","v":""},{"$f":"IF(GetData!AB443=\"\",\"\",GetData!AB443)","v":""}]
[null,null,null,null,null,null,null,null,null,{"$f":"IF(GetData!J444=\"\",\"\",GetData!J444)","v":""},{"$f":"IF(GetData!AB444=\"\",\"\",GetData!AB444)","v":""}]
[null,null,null,null,null,null,null,null,null,{"$f":"IF(GetData!J445=\"\",\"\",GetData!J445)","v":""},{"$f":"IF(GetData!AB445=\"\",\"\",GetData!AB445)","v":""}]
[null,null,null,null,null,null,null,null,null,{"$f":"IF(GetData!J446=\"\",\"\",GetData!J446)","v":""},{"$f":"IF(GetData!AB446=\"\",\"\",GetData!AB446)","v":""}]
[null,null,null,null,null,null,null,null,null,{"$f":"IF(GetData!J447=\"\",\"\",GetData!J447)","v":""},{"$f":"IF(GetData!AB447=\"\",\"\",GetData!AB447)","v":""}]
[null,null,null,null,null,null,null,null,null,{"$f":"IF(GetData!J448=\"\",\"\",GetData!J448)","v":""},{"$f":"IF(GetData!AB448=\"\",\"\",GetData!AB448)","v":""}]
[null,null,null,null,null,null,null,null,null,{"$f":"IF(GetData!J449=\"\",\"\",GetData!J449)","v":""},{"$f":"IF(GetData!AB449=\"\",\"\",GetData!AB449)","v":""}]
[null,null,null,null,null,null,null,null,null,{"$f":"IF(GetData!J450=\"\",\"\",GetData!J450)","v":""},{"$f":"IF(GetData!AB450=\"\",\"\",GetData!AB450)","v":""}]
[null,null,null,null,null,null,null,null,null,{"$f":"IF(GetData!J451=\"\",\"\",GetData!J451)","v":""},{"$f":"IF(GetData!AB451=\"\",\"\",GetData!AB451)","v":""}]
[null,null,null,null,null,null,null,null,null,{"$f":"IF(GetData!J452=\"\",\"\",GetData!J452)","v":""},{"$f":"IF(GetData!AB452=\"\",\"\",GetData!AB452)","v":""}]
[null,null,null,null,null,null,null,null,null,{"$f":"IF(GetData!J453=\"\",\"\",GetData!J453)","v":""},{"$f":"IF(GetData!AB453=\"\",\"\",GetData!AB453)","v":""}]
[null,null,null,null,null,null,null,null,null,{"$f":"IF(GetData!J454=\"\",\"\",GetData!J454)","v":""},{"$f":"IF(GetData!AB454=\"\",\"\",GetData!AB454)","v":""}]
[null,null,null,null,null,null,null,null,null,{"$f":"IF(GetData!J455=\"\",\"\",GetData!J455)","v":""},{"$f":"IF(GetData!AB455=\"\",\"\",GetData!AB455)","v":""}]
[null,null,null,null,null,null,null,null,null,{"$f":"IF(GetData!J456=\"\",\"\",GetData!J456)","v":""},{"$f":"IF(GetData!AB456=\"\",\"\",GetData!AB456)","v":""}]
[null,null,null,null,null,null,null,null,null,{"$f":"IF(GetData!J457=\"\",\"\",GetData!J457)","v":""},{"$f":"IF(GetData!AB457=\"\",\"\",GetData!AB457)","v":""}]
[null,null,null,null,null,null,null,null,null,{"$f":"IF(GetData!J458=\"\",\"\",GetData!J458)","v":""},{"$f":"IF(GetData!AB458=\"\",\"\",GetData!AB458)","v":""}]
[null,null,null,null,null,null,null,null,null,{"$f":"IF(GetData!J459=\"\",\"\",GetData!J459)","v":""},{"$f":"IF(GetData!AB459=\"\",\"\",GetData!AB459)","v":""}]
[null,null,null,null,null,null,null,null,null,{"$f":"IF(GetData!J460=\"\",\"\",GetData!J460)","v":""},{"$f":"IF(GetData!AB460=\"\",\"\",GetData!AB460)","v":""}]
[null,null,null,null,null,null,null,null,null,{"$f":"IF(GetData!J461=\"\",\"\",GetData!J461)","v":""},{"$f":"IF(GetData!AB461=\"\",\"\",GetData!AB461)","v":""}]
[null,null,null,null,null,null,null,null,null,{"$f":"IF(GetData!J462=\"\",\"\",GetData!J462)","v":""},{"$f":"IF(GetData!AB462=\"\",\"\",GetData!AB462)","v":""}]
[null,null,null,null,null,null,null,null,null,{"$f":"IF(GetData!J463=\"\",\"\",GetData!J463)","v":""},{"$f":"IF(GetData!AB463=\"\",\"\",GetData!AB463)","v":""}]
[null,null,null,null,null,null,null,null,null,{"$f":"IF(GetData!J464=\"\",\"\",GetData!J464)","v":""},{"$f":"IF(GetData!AB464=\"\",\"\",GetData!AB464)","v":""}]
[null,null,null,null,null,null,null,null,null,{"$f":"IF(GetData!J465=\"\",\"\",GetData!J465)","v":""},{"$f":"IF(GetData!AB465=\"\",\"\",GetData!AB465)","v":""}]
[null,null,null,null,null,null,null,null,null,{"$f":"IF(GetData!J466=\"\",\"\",GetData!J466)","v":""},{"$f":"IF(GetData!AB466=\"\",\"\",GetData!AB466)","v":""}]
[null,null,null,null,null,null,null,null,null,{"$f":"IF(GetData!J467=\"\",\"\",GetData!J467)","v":""},{"$f":"IF(GetData!AB467=\"\",\"\",GetData!AB467)","v":""}]
[null,null,null,null,null,null,null,null,null,{"$f":"IF(GetData!J468=\"\",\"\",GetData!J468)","v":""},{"$f":"IF(GetData!AB468=\"\",\"\",GetData!AB468)","v":""}]
[null,null,null,null,null,null,null,null,null,{"$f":"IF(GetData!J469=\"\",\"\",GetData!J469)","v":""},{"$f":"IF(GetData!AB469=\"\",\"\",GetData!AB469)","v":""}]
[null,null,null,null,null,null,null,null,null,{"$f":"IF(GetData!J470=\"\",\"\",GetData!J470)","v":""},{"$f":"IF(GetData!AB470=\"\",\"\",GetData!AB470)","v":""}]
[null,null,null,null,null,null,null,null,null,{"$f":"IF(GetData!J471=\"\",\"\",GetData!J471)","v":""},{"$f":"IF(GetData!AB471=\"\",\"\",GetData!AB471)","v":""}]
[null,null,null,null,null,null,null,null,null,{"$f":"IF(GetData!J472=\"\",\"\",GetData!J472)","v":""},{"$f":"IF(GetData!AB472=\"\",\"\",GetData!AB472)","v":""}]
[null,null,null,null,null,null,null,null,null,{"$f":"IF(GetData!J473=\"\",\"\",GetData!J473)","v":""},{"$f":"IF(GetData!AB473=\"\",\"\",GetData!AB473)","v":""}]
[null,null,null,null,null,null,null,null,null,{"$f":"IF(GetData!J474=\"\",\"\",GetData!J474)","v":""},{"$f":"IF(GetData!AB474=\"\",\"\",GetData!AB474)","v":""}]
[null,null,null,null,null,null,null,null,null,{"$f":"IF(GetData!J475=\"\",\"\",GetData!J475)","v":""},{"$f":"IF(GetData!AB475=\"\",\"\",GetData!AB475)","v":""}]
[null,null,null,null,null,null,null,null,null,{"$f":"IF(GetData!J476=\"\",\"\",GetData!J476)","v":""},{"$f":"IF(GetData!AB476=\"\",\"\",GetData!AB476)","v":""}]
[null,null,null,null,null,null,null,null,null,{"$f":"IF(GetData!J477=\"\",\"\",GetData!J477)","v":""},{"$f":"IF(GetData!AB477=\"\",\"\",GetData!AB477)","v":""}]
[null,null,null,null,null,null,null,null,null,{"$f":"IF(GetData!J478=\"\",\"\",GetData!J478)","v":""},{"$f":"IF(GetData!AB478=\"\",\"\",GetData!AB478)","v":""}]
[null,null,null,null,null,null,null,null,null,{"$f":"IF(GetData!J479=\"\",\"\",GetData!J479)","v":""},{"$f":"IF(GetData!AB479=\"\",\"\",GetData!AB479)","v":""}]
[null,null,null,null,null,null,null,null,null,{"$f":"IF(GetData!J480=\"\",\"\",GetData!J480)","v":""},{"$f":"IF(GetData!AB480=\"\",\"\",GetData!AB480)","v":""}]
[null,null,null,null,null,null,null,null,null,{"$f":"IF(GetData!J481=\"\",\"\",GetData!J481)","v":""},{"$f":"IF(GetData!AB481=\"\",\"\",GetData!AB481)","v":""}]
[null,null,null,null,null,null,null,null,null,{"$f":"IF(GetData!J482=\"\",\"\",GetData!J482)","v":""},{"$f":"IF(GetData!AB482=\"\",\"\",GetData!AB482)","v":""}]
[null,null,null,null,null,null,null,null,null,{"$f":"IF(GetData!J483=\"\",\"\",GetData!J483)","v":""},{"$f":"IF(GetData!AB483=\"\",\"\",GetData!AB483)","v":""}]
[null,null,null,null,null,null,null,null,null,{"$f":"IF(GetData!J484=\"\",\"\",GetData!J484)","v":""},{"$f":"IF(GetData!AB484=\"\",\"\",GetData!AB484)","v":""}]
[null,null,null,null,null,null,null,null,null,{"$f":"IF(GetData!J485=\"\",\"\",GetData!J485)","v":""},{"$f":"IF(GetData!AB485=\"\",\"\",GetData!AB485)","v":""}]
[null,null,null,null,null,null,null,null,null,{"$f":"IF(GetData!J486=\"\",\"\",GetData!J486)","v":""},{"$f":"IF(GetData!AB486=\"\",\"\",GetData!AB486)","v":""}]
[null,null,null,null,null,null,null,null,null,{"$f":"IF(GetData!J487=\"\",\"\",GetData!J487)","v":""},{"$f":"IF(GetData!AB487=\"\",\"\",GetData!AB487)","v":""}]
[null,null,null,null,null,null,null,null,null,{"$f":"IF(GetData!J488=\"\",\"\",GetData!J488)","v":""},{"$f":"IF(GetData!AB488=\"\",\"\",GetData!AB488)","v":""}]
[null,null,null,null,null,null,null,null,null,{"$f":"IF(GetData!J489=\"\",\"\",GetData!J489)","v":""},{"$f":"IF(GetData!AB489=\"\",\"\",GetData!AB489)","v":""}]
[null,null,null,null,null,null,null,null,null,{"$f":"IF(GetData!J490=\"\",\"\",GetData!J490)","v":""},{"$f":"IF(GetData!AB490=\"\",\"\",GetData!AB490)","v":""}]
[null,null,null,null,null,null,null,null,null,{"$f":"IF(GetData!J491=\"\",\"\",GetData!J491)","v":""},{"$f":"IF(GetData!AB491=\"\",\"\",GetData!AB491)","v":""}]
[null,null,null,null,null,null,null,null,null,{"$f":"IF(GetData!J492=\"\",\"\",GetData!J492)","v":""},{"$f":"IF(GetData!AB492=\"\",\"\",GetData!AB492)","v":""}]
[null,null,null,null,null,null,null,null,null,{"$f":"IF(GetData!J493=\"\",\"\",GetData!J493)","v":""},{"$f":"IF(GetData!AB493=\"\",\"\",GetData!AB493)","v":""}]
[null,null,null,null,null,null,null,null,null,{"$f":"IF(GetData!J494=\"\",\"\",GetData!J494)","v":""},{"$f":"IF(GetData!AB494=\"\",\"\",GetData!AB494)","v":""}]
[null,null,null,null,null,null,null,null,null,{"$f":"IF(GetData!J495=\"\",\"\",GetData!J495)","v":""},{"$f":"IF(GetData!AB495=\"\",\"\",GetData!AB495)","v":""}]
[null,null,null,null,null,null,null,null,null,{"$f":"IF(GetData!J496=\"\",\"\",GetData!J496)","v":""},{"$f":"IF(GetData!AB496=\"\",\"\",GetData!AB496)","v":""}]
[null,null,null,null,null,null,null,null,null,{"$f":"IF(GetData!J497=\"\",\"\",GetData!J497)","v":""},{"$f":"IF(GetData!AB497=\"\",\"\",GetData!AB497)","v":""}]
[null,null,null,null,null,null,null,null,null,{"$f":"IF(GetData!J498=\"\",\"\",GetData!J498)","v":""},{"$f":"IF(GetData!AB498=\"\",\"\",GetData!AB498)","v":""}]
[null,null,null,null,null,null,null,null,null,{"$f":"IF(GetData!J499=\"\",\"\",GetData!J499)","v":""},{"$f":"IF(GetData!AB499=\"\",\"\",GetData!AB499)","v":""}]
[null,null,null,null,null,null,null,null,null,{"$f":"IF(GetData!J500=\"\",\"\",GetData!J500)","v":""},{"$f":"IF(GetData!AB500=\"\",\"\",GetData!AB500)","v":""}]
[null,null,null,null,null,null,null,null,null,{"$f":"IF(GetData!J501=\"\",\"\",GetData!J501)","v":""},{"$f":"IF(GetData!AB501=\"\",\"\",GetData!AB501)","v":""}]
[null,null,null,null,null,null,null,null,null,{"$f":"IF(GetData!J502=\"\",\"\",GetData!J502)","v":""},{"$f":"IF(GetData!AB502=\"\",\"\",GetData!AB502)","v":""}]
[null,null,null,null,null,null,null,null,null,{"$f":"IF(GetData!J503=\"\",\"\",GetData!J503)","v":""},{"$f":"IF(GetData!AB503=\"\",\"\",GetData!AB503)","v":""}]
[null,null,null,null,null,null,null,null,null,{"$f":"IF(GetData!J504=\"\",\"\",GetData!J504)","v":""},{"$f":"IF(GetData!AB504=\"\",\"\",GetData!AB504)","v":""}]
[null,null,null,null,null,null,null,null,null,{"$f":"IF(GetData!J505=\"\",\"\",GetData!J505)","v":""},{"$f":"IF(GetData!AB505=\"\",\"\",GetData!AB505)","v":""}]
[null,null,null,null,null,null,null,null,null,{"$f":"IF(GetData!J506=\"\",\"\",GetData!J506)","v":""},{"$f":"IF(GetData!AB506=\"\",\"\",GetData!AB506)","v":""}]
[null,null,null,null,null,null,null,null,null,{"$f":"IF(GetData!J507=\"\",\"\",GetData!J507)","v":""},{"$f":"IF(GetData!AB507=\"\",\"\",GetData!AB507)","v":""}]
[null,null,null,null,null,null,null,null,null,{"$f":"IF(GetData!J508=\"\",\"\",GetData!J508)","v":""},{"$f":"IF(GetData!AB508=\"\",\"\",GetData!AB508)","v":""}]
[null,null,null,null,null,null,null,null,null,{"$f":"IF(GetData!J509=\"\",\"\",GetData!J509)","v":""},{"$f":"IF(GetData!AB509=\"\",\"\",GetData!AB509)","v":""}]
[null,null,null,null,null,null,null,null,null,{"$f":"IF(GetData!J510=\"\",\"\",GetData!J510)","v":""},{"$f":"IF(GetData!AB510=\"\",\"\",GetData!AB510)","v":""}]
[null,null,null,null,null,null,null,null,null,{"$f":"IF(GetData!J511=\"\",\"\",GetData!J511)","v":""},{"$f":"IF(GetData!AB511=\"\",\"\",GetData!AB511)","v":""}]
[null,null,null,null,null,null,null,null,null,{"$f":"IF(GetData!J512=\"\",\"\",GetData!J512)","v":""},{"$f":"IF(GetData!AB512=\"\",\"\",GetData!AB512)","v":""}]
[null,null,null,null,null,null,null,null,null,{"$f":"IF(GetData!J513=\"\",\"\",GetData!J513)","v":""},{"$f":"IF(GetData!AB513=\"\",\"\",GetData!AB513)","v":""}]
[null,null,null,null,null,null,null,null,null,{"$f":"IF(GetData!J514=\"\",\"\",GetData!J514)","v":""},{"$f":"IF(GetData!AB514=\"\",\"\",GetData!AB514)","v":""}]
[null,null,null,null,null,null,null,null,null,{"$f":"IF(GetData!J515=\"\",\"\",GetData!J515)","v":""},{"$f":"IF(GetData!AB515=\"\",\"\",GetData!AB515)","v":""}]
[null,null,null,null,null,null,null,null,null,{"$f":"IF(GetData!J516=\"\",\"\",GetData!J516)","v":""},{"$f":"IF(GetData!AB516=\"\",\"\",GetData!AB516)","v":""}]
[null,null,null,null,null,null,null,null,null,{"$f":"IF(GetData!J517=\"\",\"\",GetData!J517)","v":""},{"$f":"IF(GetData!AB517=\"\",\"\",GetData!AB517)","v":""}]
[null,null,null,null,null,null,null,null,null,{"$f":"IF(GetData!J518=\"\",\"\",GetData!J518)","v":""},{"$f":"IF(GetData!AB518=\"\",\"\",GetData!AB518)","v":""}]
[null,null,null,null,null,null,null,null,null,{"$f":"IF(GetData!J519=\"\",\"\",GetData!J519)","v":""},{"$f":"IF(GetData!AB519=\"\",\"\",GetData!AB519)","v":""}]
[null,null,null,null,null,null,null,null,null,{"$f":"IF(GetData!J520=\"\",\"\",GetData!J520)","v":""},{"$f":"IF(GetData!AB520=\"\",\"\",GetData!AB520)","v":""}]
[null,null,null,null,null,null,null,null,null,{"$f":"IF(GetData!J521=\"\",\"\",GetData!J521)","v":""},{"$f":"IF(GetData!AB521=\"\",\"\",GetData!AB521)","v":""}]
[null,null,null,null,null,null,null,null,null,{"$f":"IF(GetData!J522=\"\",\"\",GetData!J522)","v":""},{"$f":"IF(GetData!AB522=\"\",\"\",GetData!AB522)","v":""}]
[null,null,null,null,null,null,null,null,null,{"$f":"IF(GetData!J523=\"\",\"\",GetData!J523)","v":""},{"$f":"IF(GetData!AB523=\"\",\"\",GetData!AB523)","v":""}]
[null,null,null,null,null,null,null,null,null,{"$f":"IF(GetData!J524=\"\",\"\",GetData!J524)","v":""},{"$f":"IF(GetData!AB524=\"\",\"\",GetData!AB524)","v":""}]
[null,null,null,null,null,null,null,null,null,{"$f":"IF(GetData!J525=\"\",\"\",GetData!J525)","v":""},{"$f":"IF(GetData!AB525=\"\",\"\",GetData!AB525)","v":""}]
[null,null,null,null,null,null,null,null,null,{"$f":"IF(GetData!J526=\"\",\"\",GetData!J526)","v":""},{"$f":"IF(GetData!AB526=\"\",\"\",GetData!AB526)","v":""}]
[null,null,null,null,null,null,null,null,null,{"$f":"IF(GetData!J527=\"\",\"\",GetData!J527)","v":""},{"$f":"IF(GetData!AB527=\"\",\"\",GetData!AB527)","v":""}]
[null,null,null,null,null,null,null,null,null,{"$f":"IF(GetData!J528=\"\",\"\",GetData!J528)","v":""},{"$f":"IF(GetData!AB528=\"\",\"\",GetData!AB528)","v":""}]
[null,null,null,null,null,null,null,null,null,{"$f":"IF(GetData!J529=\"\",\"\",GetData!J529)","v":""},{"$f":"IF(GetData!AB529=\"\",\"\",GetData!AB529)","v":""}]
[null,null,null,null,null,null,null,null,null,{"$f":"IF(GetData!J530=\"\",\"\",GetData!J530)","v":""},{"$f":"IF(GetData!AB530=\"\",\"\",GetData!AB530)","v":""}]
[null,null,null,null,null,null,null,null,null,{"$f":"IF(GetData!J531=\"\",\"\",GetData!J531)","v":""},{"$f":"IF(GetData!AB531=\"\",\"\",GetData!AB531)","v":""}]
[null,null,null,null,null,null,null,null,null,{"$f":"IF(GetData!J532=\"\",\"\",GetData!J532)","v":""},{"$f":"IF(GetData!AB532=\"\",\"\",GetData!AB532)","v":""}]
[null,null,null,null,null,null,null,null,null,{"$f":"IF(GetData!J533=\"\",\"\",GetData!J533)","v":""},{"$f":"IF(GetData!AB533=\"\",\"\",GetData!AB533)","v":""}]
[null,null,null,null,null,null,null,null,null,{"$f":"IF(GetData!J534=\"\",\"\",GetData!J534)","v":""},{"$f":"IF(GetData!AB534=\"\",\"\",GetData!AB534)","v":""}]
[null,null,null,null,null,null,null,null,null,{"$f":"IF(GetData!J535=\"\",\"\",GetData!J535)","v":""},{"$f":"IF(GetData!AB535=\"\",\"\",GetData!AB535)","v":""}]
[null,null,null,null,null,null,null,null,null,{"$f":"IF(GetData!J536=\"\",\"\",GetData!J536)","v":""},{"$f":"IF(GetData!AB536=\"\",\"\",GetData!AB536)","v":""}]
[null,null,null,null,null,null,null,null,null,{"$f":"IF(GetData!J537=\"\",\"\",GetData!J537)","v":""},{"$f":"IF(GetData!AB537=\"\",\"\",GetData!AB537)","v":""}]
[null,null,null,null,null,null,null,null,null,{"$f":"IF(GetData!J538=\"\",\"\",GetData!J538)","v":""},{"$f":"IF(GetData!AB538=\"\",\"\",GetData!AB538)","v":""}]
[null,null,null,null,null,null,null,null,null,{"$f":"IF(GetData!J539=\"\",\"\",GetData!J539)","v":""},{"$f":"IF(GetData!AB539=\"\",\"\",GetData!AB539)","v":""}]
[null,null,null,null,null,null,null,null,null,{"$f":"IF(GetData!J540=\"\",\"\",GetData!J540)","v":""},{"$f":"IF(GetData!AB540=\"\",\"\",GetData!AB540)","v":""}]
[null,null,null,null,null,null,null,null,null,{"$f":"IF(GetData!J541=\"\",\"\",GetData!J541)","v":""},{"$f":"IF(GetData!AB541=\"\",\"\",GetData!AB541)","v":""}]
[null,null,null,null,null,null,null,null,null,{"$f":"IF(GetData!J542=\"\",\"\",GetData!J542)","v":""},{"$f":"IF(GetData!AB542=\"\",\"\",GetData!AB542)","v":""}]
[null,null,null,null,null,null,null,null,null,{"$f":"IF(GetData!J543=\"\",\"\",GetData!J543)","v":""},{"$f":"IF(GetData!AB543=\"\",\"\",GetData!AB543)","v":""}]
[null,null,null,null,null,null,null,null,null,{"$f":"IF(GetData!J544=\"\",\"\",GetData!J544)","v":""},{"$f":"IF(GetData!AB544=\"\",\"\",GetData!AB544)","v":""}]
[null,null,null,null,null,null,null,null,null,{"$f":"IF(GetData!J545=\"\",\"\",GetData!J545)","v":""},{"$f":"IF(GetData!AB545=\"\",\"\",GetData!AB545)","v":""}]
[null,null,null,null,null,null,null,null,null,{"$f":"IF(GetData!J546=\"\",\"\",GetData!J546)","v":""},{"$f":"IF(GetData!AB546=\"\",\"\",GetData!AB546)","v":""}]
[null,null,null,null,null,null,null,null,null,{"$f":"IF(GetData!J547=\"\",\"\",GetData!J547)","v":""},{"$f":"IF(GetData!AB547=\"\",\"\",GetData!AB547)","v":""}]
[null,null,null,null,null,null,null,null,null,{"$f":"IF(GetData!J548=\"\",\"\",GetData!J548)","v":""},{"$f":"IF(GetData!AB548=\"\",\"\",GetData!AB548)","v":""}]
[null,null,null,null,null,null,null,null,null,{"$f":"IF(GetData!J549=\"\",\"\",GetData!J549)","v":""},{"$f":"IF(GetData!AB549=\"\",\"\",GetData!AB549)","v":""}]
[null,null,null,null,null,null,null,null,null,{"$f":"IF(GetData!J550=\"\",\"\",GetData!J550)","v":""},{"$f":"IF(GetData!AB550=\"\",\"\",GetData!AB550)","v":""}]
[null,null,null,null,null,null,null,null,null,{"$f":"IF(GetData!J551=\"\",\"\",GetData!J551)","v":""},{"$f":"IF(GetData!AB551=\"\",\"\",GetData!AB551)","v":""}]
[null,null,null,null,null,null,null,null,null,{"$f":"IF(GetData!J552=\"\",\"\",GetData!J552)","v":""},{"$f":"IF(GetData!AB552=\"\",\"\",GetData!AB552)","v":""}]
[null,null,null,null,null,null,null,null,null,{"$f":"IF(GetData!J553=\"\",\"\",GetData!J553)","v":""},{"$f":"IF(GetData!AB553=\"\",\"\",GetData!AB553)","v":""}]
[null,null,null,null,null,null,null,null,null,{"$f":"IF(GetData!J554=\"\",\"\",GetData!J554)","v":""},{"$f":"IF(GetData!AB554=\"\",\"\",GetData!AB554)","v":""}]
[null,null,null,null,null,null,null,null,null,{"$f":"IF(GetData!J555=\"\",\"\",GetData!J555)","v":""},{"$f":"IF(GetData!AB555=\"\",\"\",GetData!AB555)","v":""}]
[null,null,null,null,null,null,null,null,null,{"$f":"IF(GetData!J556=\"\",\"\",GetData!J556)","v":""},{"$f":"IF(GetData!AB556=\"\",\"\",GetData!AB556)","v":""}]
[null,null,null,null,null,null,null,null,null,{"$f":"IF(GetData!J557=\"\",\"\",GetData!J557)","v":""},{"$f":"IF(GetData!AB557=\"\",\"\",GetData!AB557)","v":""}]
[null,null,null,null,null,null,null,null,null,{"$f":"IF(GetData!J558=\"\",\"\",GetData!J558)","v":""},{"$f":"IF(GetData!AB558=\"\",\"\",GetData!AB558)","v":""}]
[null,null,null,null,null,null,null,null,null,{"$f":"IF(GetData!J559=\"\",\"\",GetData!J559)","v":""},{"$f":"IF(GetData!AB559=\"\",\"\",GetData!AB559)","v":""}]
[null,null,null,null,null,null,null,null,null,{"$f":"IF(GetData!J560=\"\",\"\",GetData!J560)","v":""},{"$f":"IF(GetData!AB560=\"\",\"\",GetData!AB560)","v":""}]
[null,null,null,null,null,null,null,null,null,{"$f":"IF(GetData!J561=\"\",\"\",GetData!J561)","v":""},{"$f":"IF(GetData!AB561=\"\",\"\",GetData!AB561)","v":""}]
[null,null,null,null,null,null,null,null,null,{"$f":"IF(GetData!J562=\"\",\"\",GetData!J562)","v":""},{"$f":"IF(GetData!AB562=\"\",\"\",GetData!AB562)","v":""}]
[null,null,null,null,null,null,null,null,null,{"$f":"IF(GetData!J563=\"\",\"\",GetData!J563)","v":""},{"$f":"IF(GetData!AB563=\"\",\"\",GetData!AB563)","v":""}]
[null,null,null,null,null,null,null,null,null,{"$f":"IF(GetData!J564=\"\",\"\",GetData!J564)","v":""},{"$f":"IF(GetData!AB564=\"\",\"\",GetData!AB564)","v":""}]

{"sheet":"Veg","index":8,"n_rows":364,"n_cols":36,"rows_kept":364,"cut":false,"hidden":false,"merged":[]}
["WOODY PLANTS",null,null,null,null,null,null,null,null,"ECOLOGICAL STATUS (PLOT)",null,null,null,null,null,null,null,null,"WETLAND RATING",null,null,null,null,null,null,null,null,"VEGETATION STABILITY (WINWARD STABILITY RATING)"]
[{"$f":"GetData!$A$13&\" - FIRST DMA\"","v":"DMA ID - FIRST DMA"},{"$f":"GetData!$B$13","v":"PASTURE"},{"$f":"GetData!$C$13","v":"STREAM"},{"$f":"GetData!$D$13","v":"DATE"},null,{"$f":"GetData!$S$13&\" - SECOND DMA\"","v":"DMA ID - SECOND DMA"},{"$f":"GetData!$T$13","v":"PASTURE"},{"$f":"GetData!$U$13","v":"STREAM"},{"$f":"GetData!$V$13","v":"DATE"},{"$f":"GetData!$A$13&\" - FIRST DMA\"","v":"DMA ID - FIRST DMA"},{"$f":"GetData!$B$13","v":"PASTURE"},{"$f":"GetData!$C$13","v":"STREAM"},{"$f":"GetData!$D$13","v":"DATE"},null,{"$f":"GetData!$S$13&\" - SECOND DMA\"","v":"DMA ID - SECOND DMA"},{"$f":"GetData!$T$13","v":"PASTURE"},{"$f":"GetData!$U$13","v":"STREAM"},{"$f":"GetData!$V$13","v":"DATE"},{"$f":"GetData!$A$13&\" - FIRST DMA\"","v":"DMA ID - FIRST DMA"},{"$f":"GetData!$B$13","v":"PASTURE"},{"$f":"GetData!$C$13","v":"STREAM"},{"$f":"GetData!$D$13","v":"DATE"},null,{"$f":"GetData!$S$13&\" - SECOND DMA\"","v":"DMA ID - SECOND DMA"},{"$f":"GetData!$T$13","v":"PASTURE"},{"$f":"GetData!$U$13","v":"STREAM"},{"$f":"GetData!$V$13","v":"DATE"},{"$f":"GetData!$A$13&\" - FIRST DMA\"","v":"DMA ID - FIRST DMA"},{"$f":"GetData!$B$13","v":"PASTURE"},{"$f":"GetData!$C$13","v":"STREAM"},{"$f":"GetData!$D$13","v":"DATE"},null,{"$f":"GetData!$S$13&\" - SECOND DMA\"","v":"DMA ID - SECOND DMA"},{"$f":"GetData!$T$13","v":"PASTURE"},{"$f":"GetData!$U$13","v":"STREAM"},{"$f":"GetData!$V$13","v":"DATE"}]
[{"$f":"GetData!$A$14","v":0},{"$f":"GetData!$B$14","v":0},{"$f":"GetData!$C$14","v":0},{"$f":"GetData!$D$14","v":"00:00:00"},null,{"$f":"GetData!$S$14","v":0},{"$f":"GetData!$T$14","v":0},{"$f":"GetData!$U$14","v":0},{"$f":"GetData!$V$14","v":"00:00:00"},{"$f":"GetData!$A$14","v":0},{"$f":"GetData!$B$14","v":0},{"$f":"GetData!$C$14","v":0},{"$f":"GetData!$D$14","v":"00:00:00"},null,{"$f":"GetData!$S$14","v":0},{"$f":"GetData!$T$14","v":0},{"$f":"GetData!$U$14","v":0},{"$f":"GetData!$V$14","v":"00:00:00"},{"$f":"GetData!$A$14","v":0},{"$f":"GetData!$B$14","v":0},{"$f":"GetData!$C$14","v":0},{"$f":"GetData!$D$14","v":"00:00:00"},null,{"$f":"GetData!$S$14","v":0},{"$f":"GetData!$T$14","v":0},{"$f":"GetData!$U$14","v":0},{"$f":"GetData!$V$14","v":"00:00:00"},{"$f":"GetData!$A$14","v":0},{"$f":"GetData!$B$14","v":0},{"$f":"GetData!$C$14","v":0},{"$f":"GetData!$D$14","v":"00:00:00"},null,{"$f":"GetData!$S$14","v":0},{"$f":"GetData!$T$14","v":0},{"$f":"GetData!$U$14","v":0},{"$f":"GetData!$V$14","v":"00:00:00"}]
[null,null,null,null,null,null,null,null,null,"ECOL STATUS",null,null,null,null,null,null,null,null,"WET RATING",null,null,null,null,null,null,null,null,"VEG STABILITY"]
["Metric","Observations","Explanation",null,null,null,null,null,null,{"$f":"CONCATENATE(J3,\" \",TEXT(M3,\"mm/dd/yyy\"))","v":"0 01/00/1900"},{"$f":"CONCATENATE(O3,\" \",TEXT(R3,\"mm/dd/yyy\"))","v":"0 01/00/1900"},null,"STATISTICS",{"$f":"J5","v":"0 01/00/1900"},{"$f":"K5","v":"0 01/00/1900"},null,null,null,{"$f":"CONCATENATE(S3,\" \",TEXT(V3,\"mm/dd/yyy\"))","v":"0 01/00/1900"},{"$f":"CONCATENATE(X3,\" \",TEXT(AA3,\"mm/dd/yyy\"))","v":"0 01/00/1900"},null,"STATISTICS",{"$f":"S5","v":"0 01/00/1900"},{"$f":"T5","v":"0 01/00/1900"},null,null,null,{"$f":"CONCATENATE(AB3,\" \",TEXT(AE3,\"mm/dd/yyy\"))","v":"0 01/00/1900"},{"$f":"CONCATENATE(AG3,\" \",TEXT(AJ3,\"mm/dd/yyy\"))","v":"0 01/00/1900"},null,"STATISTICS",{"$f":"AB5","v":"0 01/00/1900"},{"$f":"AC5","v":"0 01/00/1900"}]
[{"$f":"GetData!E506","v":"WOODY COMPOSTION"},{"$f":"GetData!G506","v":0},"No of plants for woody height",null,null,"WOODY COMPOSTION",{"$f":"GetData!Y506","v":0},null,null,{"$f":"IF(GetData!Q5=\"\",\"\",GetData!Q5)","v":""},{"$f":"IF(GetData!AI5=\"\",\"\",GetData!AI5)","v":""},null,null,null,null,null,null,null,{"$f":"IF(GetData!O5=\"\",\"\",GetData!O5)","v":""},{"$f":"IF(GetData!AG5=\"\",\"\",GetData!AG5)","v":""},null,null,null,null,null,null,null,{"$f":"IF(GetData!P5=\"\",\"\",GetData!P5)","v":""},{"$f":"IF(GetData!AH5=\"\",\"\",GetData!AH5)","v":""}]
[{"$f":"GetData!E508","v":"SEEDLINGS"},{"$f":"GetData!G508","v":""},"Total no of seedlings",null,null,"SEEDLINGS",{"$f":"GetData!Y508","v":""},null,null,{"$f":"IF(GetData!Q6=\"\",\"\",GetData!Q6)","v":""},{"$f":"IF(GetData!AI6=\"\",\"\",GetData!AI6)","v":""},null,"MEAN",{"$f":"AVERAGE(J$6:J$364)","v":{"$error":"#DIV/0!"}},{"$f":"AVERAGE(K$6:K$364)","v":{"$error":"#DIV/0!"}},null,null,null,{"$f":"IF(GetData!O6=\"\",\"\",GetData!O6)","v":""},{"$f":"IF(GetData!AG6=\"\",\"\",GetData!AG6)","v":""},null,"MEAN",{"$f":"AVERAGE(S$6:S$364)","v":{"$error":"#DIV/0!"}},{"$f":"AVERAGE(T$6:T$364)","v":{"$error":"#DIV/0!"}},null,null,null,{"$f":"IF(GetData!P6=\"\",\"\",GetData!P6)","v":""},{"$f":"IF(GetData!AH6=\"\",\"\",GetData!AH6)","v":""},null,"MEAN",{"$f":"AVERAGE(AB$6:AB$364)","v":{"$error":"#DIV/0!"}},{"$f":"AVERAGE(AC$6:AC$364)","v":{"$error":"#DIV/0!"}}]
[{"$f":"GetData!E509","v":"YOUNG"},{"$f":"GetData!G509","v":0},"Total no of young ",null,null,"YOUNG",{"$f":"GetData!Y509","v":0},null,null,{"$f":"IF(GetData!Q7=\"\",\"\",GetData!Q7)","v":""},{"$f":"IF(GetData!AI7=\"\",\"\",GetData!AI7)","v":""},null,"MEDIAN",{"$f":"MEDIAN(J$6:J$364)","v":{"$error":"#NUM!"}},{"$f":"MEDIAN(K$6:K$364)","v":{"$error":"#NUM!"}},null,null,null,{"$f":"IF(GetData!O7=\"\",\"\",GetData!O7)","v":""},{"$f":"IF(GetData!AG7=\"\",\"\",GetData!AG7)","v":""},null,"MEDIAN",{"$f":"MEDIAN(S$6:S$364)","v":{"$error":"#DIV/0!"}},{"$f":"MEDIAN(T$6:T$364)","v":{"$error":"#NUM!"}},null,null,null,{"$f":"IF(GetData!P7=\"\",\"\",GetData!P7)","v":""},{"$f":"IF(GetData!AH7=\"\",\"\",GetData!AH7)","v":""},null,"MEDIAN",{"$f":"MEDIAN(AB$6:AB$364)","v":{"$error":"#DIV/0!"}},{"$f":"MEDIAN(AC$6:AC$364)","v":{"$error":"#NUM!"}}]
[{"$f":"GetData!E510","v":"MATURE"},{"$f":"GetData!G510","v":0},"Total no of mature",null,null,"MATURE",{"$f":"GetData!Y510","v":0},null,null,{"$f":"IF(GetData!Q8=\"\",\"\",GetData!Q8)","v":""},{"$f":"IF(GetData!AI8=\"\",\"\",GetData!AI8)","v":""},null,"CONF INTERVAL",{"$f":"GetData!N547","v":""},{"$f":"GetData!AF547","v":""},null,null,null,{"$f":"IF(GetData!O8=\"\",\"\",GetData!O8)","v":""},{"$f":"IF(GetData!AG8=\"\",\"\",GetData!AG8)","v":""},null,"CONF INTERVAL",{"$f":"GetData!O547","v":""},{"$f":"GetData!AG547","v":""},null,null,null,{"$f":"IF(GetData!P8=\"\",\"\",GetData!P8)","v":""},{"$f":"IF(GetData!AH8=\"\",\"\",GetData!AH8)","v":""},null,"CONF INTERVAL",{"$f":"GetData!P547","v":""},{"$f":"GetData!AH547","v":""}]
[{"$f":"GetData!E511","v":"RHIZOMATOUS"},{"$f":"GetData!G511","v":0},"Total no of rhizomatous woody plants",null,null,"RHIZOMATOUS",{"$f":"GetData!Y511","v":0},null,null,{"$f":"IF(GetData!Q9=\"\",\"\",GetData!Q9)","v":""},{"$f":"IF(GetData!AI9=\"\",\"\",GetData!AI9)","v":""},null,"N",{"$f":"COUNT(J$6:J$364)","v":0},{"$f":"COUNT(K$6:K$364)","v":0},null,null,null,{"$f":"IF(GetData!O9=\"\",\"\",GetData!O9)","v":""},{"$f":"IF(GetData!AG9=\"\",\"\",GetData!AG9)","v":""},null,"N",{"$f":"COUNT(S$6:S$364)","v":0},{"$f":"COUNT(T$6:T$364)","v":0},null,null,null,{"$f":"IF(GetData!P9=\"\",\"\",GetData!P9)","v":""},{"$f":"IF(GetData!AH9=\"\",\"\",GetData!AH9)","v":""},null,"N",{"$f":"COUNT(AB$6:AB$364)","v":0},{"$f":"COUNT(AC$6:AC$364)","v":0}]
["N=",{"$f":"N10","v":0},"Number of Plots",null,null,"N=",{"$f":"O10","v":0},null,null,{"$f":"IF(GetData!Q10=\"\",\"\",GetData!Q10)","v":""},{"$f":"IF(GetData!AI10=\"\",\"\",GetData!AI10)","v":""},null,null,null,null,null,null,null,{"$f":"IF(GetData!O10=\"\",\"\",GetData!O10)","v":""},{"$f":"IF(GetData!AG10=\"\",\"\",GetData!AG10)","v":""},null,null,null,null,null,null,null,{"$f":"IF(GetData!P10=\"\",\"\",GetData!P10)","v":""},{"$f":"IF(GetData!AH10=\"\",\"\",GetData!AH10)","v":""}]
[null,null,null,null,null,null,null,null,null,{"$f":"IF(GetData!Q11=\"\",\"\",GetData!Q11)","v":""},{"$f":"IF(GetData!AI11=\"\",\"\",GetData!AI11)","v":""},null,"CI RANGE",null,null,null,null,null,{"$f":"IF(GetData!O11=\"\",\"\",GetData!O11)","v":""},{"$f":"IF(GetData!AG11=\"\",\"\",GetData!AG11)","v":""},null,"CI RANGE",null,null,null,null,null,{"$f":"IF(GetData!P11=\"\",\"\",GetData!P11)","v":""},{"$f":"IF(GetData!AH11=\"\",\"\",GetData!AH11)","v":""},null,"CI RANGE"]
[null,null,null,null,null,null,null,null,null,{"$f":"IF(GetData!Q12=\"\",\"\",GetData!Q12)","v":""},{"$f":"IF(GetData!AI12=\"\",\"\",GetData!AI12)","v":""},null,"MAX",{"$f":"N7+N9","v":{"$error":"#DIV/0!"}},{"$f":"O7+O9","v":{"$error":"#DIV/0!"}},null,null,null,{"$f":"IF(GetData!O12=\"\",\"\",GetData!O12)","v":""},{"$f":"IF(GetData!AG12=\"\",\"\",GetData!AG12)","v":""},null,"MAX",{"$f":"W7+W9","v":{"$error":"#DIV/0!"}},{"$f":"X7+X9","v":{"$error":"#DIV/0!"}},null,null,null,{"$f":"IF(GetData!P12=\"\",\"\",GetData!P12)","v":""},{"$f":"IF(GetData!AH12=\"\",\"\",GetData!AH12)","v":""},null,"MAX",{"$f":"AF7+AF9","v":{"$error":"#DIV/0!"}},{"$f":"AG7+AG9","v":{"$error":"#DIV/0!"}}]
["Contingency Tables",null,null,null,null,null,null,null,null,{"$f":"IF(GetData!Q13=\"\",\"\",GetData!Q13)","v":""},{"$f":"IF(GetData!AI13=\"\",\"\",GetData!AI13)","v":""},null,"MIN",{"$f":"N7-N9","v":{"$error":"#DIV/0!"}},{"$f":"O7-O9","v":{"$error":"#DIV/0!"}},null,null,null,{"$f":"IF(GetData!O13=\"\",\"\",GetData!O13)","v":""},{"$f":"IF(GetData!AG13=\"\",\"\",GetData!AG13)","v":""},null,"MIN",{"$f":"W7-W9","v":{"$error":"#DIV/0!"}},{"$f":"X7-X9","v":{"$error":"#DIV/0!"}},null,null,null,{"$f":"IF(GetData!P13=\"\",\"\",GetData!P13)","v":""},{"$f":"IF(GetData!AH13=\"\",\"\",GetData!AH13)","v":""},null,"MIN",{"$f":"AF7-AF9","v":{"$error":"#DIV/0!"}},{"$f":"AG7-AG9","v":{"$error":"#DIV/0!"}}]
["Woody Composition",null,null,null,null,"Percentage:"," ",null,null,{"$f":"IF(GetData!Q14=\"\",\"\",GetData!Q14)","v":""},{"$f":"IF(GetData!AI14=\"\",\"\",GetData!AI14)","v":""},null,null,null,null,null,null,null,{"$f":"IF(GetData!O14=\"\",\"\",GetData!O14)","v":""},{"$f":"IF(GetData!AG14=\"\",\"\",GetData!AG14)","v":""},null,null,null,null,null,null,null,{"$f":"IF(GetData!P14=\"\",\"\",GetData!P14)","v":""},{"$f":"IF(GetData!AH14=\"\",\"\",GetData!AH14)","v":""}]
[null,{"$f":"B22","v":0},{"$f":"C22","v":0},null,null,{"$f":"B16","v":0},{"$f":"C16","v":0},null,null,{"$f":"IF(GetData!Q15=\"\",\"\",GetData!Q15)","v":""},{"$f":"IF(GetData!AI15=\"\",\"\",GetData!AI15)","v":""},null,null,null,null,null,null,null,{"$f":"IF(GetData!O15=\"\",\"\",GetData!O15)","v":""},{"$f":"IF(GetData!AG15=\"\",\"\",GetData!AG15)","v":""},null,null,null,null,null,null,null,{"$f":"IF(GetData!P15=\"\",\"\",GetData!P15)","v":""},{"$f":"IF(GetData!AH15=\"\",\"\",GetData!AH15)","v":""}]
["Plots with woody",{"$f":"B6*B11","v":0},{"$f":"G6*G11","v":0},null,"Plots with woody",{"$f":"B17/B19","v":{"$error":"#DIV/0!"}},{"$f":"C17/C19","v":{"$error":"#DIV/0!"}},null,null,{"$f":"IF(GetData!Q16=\"\",\"\",GetData!Q16)","v":""},{"$f":"IF(GetData!AI16=\"\",\"\",GetData!AI16)","v":""},null,null,null,null,null,null,null,{"$f":"IF(GetData!O16=\"\",\"\",GetData!O16)","v":""},{"$f":"IF(GetData!AG16=\"\",\"\",GetData!AG16)","v":""},null,null,null,null,null,null,null,{"$f":"IF(GetData!P16=\"\",\"\",GetData!P16)","v":""},{"$f":"IF(GetData!AH16=\"\",\"\",GetData!AH16)","v":""}]
["Plots without woody",{"$f":"B11-B17","v":0},{"$f":"G11-C17","v":0},null,"Plots without woody",{"$f":"B18/B19","v":{"$error":"#DIV/0!"}},{"$f":"C18/C19","v":{"$error":"#DIV/0!"}},null,null,{"$f":"IF(GetData!Q17=\"\",\"\",GetData!Q17)","v":""},{"$f":"IF(GetData!AI17=\"\",\"\",GetData!AI17)","v":""},null,null,null,null,null,null,null,{"$f":"IF(GetData!O17=\"\",\"\",GetData!O17)","v":""},{"$f":"IF(GetData!AG17=\"\",\"\",GetData!AG17)","v":""},null,null,null,null,null,null,null,{"$f":"IF(GetData!P17=\"\",\"\",GetData!P17)","v":""},{"$f":"IF(GetData!AH17=\"\",\"\",GetData!AH17)","v":""}]
["Total",{"$f":"SUM(B17:B18)","v":0},{"$f":"SUM(C17:C18)","v":0},null,"Total",{"$f":"SUM(F17:F18)","v":{"$error":"#DIV/0!"}},{"$f":"SUM(G17:G18)","v":{"$error":"#DIV/0!"}},null,null,{"$f":"IF(GetData!Q18=\"\",\"\",GetData!Q18)","v":""},{"$f":"IF(GetData!AI18=\"\",\"\",GetData!AI18)","v":""},null,null,{"$f":"N5","v":"0 01/00/1900"},{"$f":"O5","v":"0 01/00/1900"},null,null,null,{"$f":"IF(GetData!O18=\"\",\"\",GetData!O18)","v":""},{"$f":"IF(GetData!AG18=\"\",\"\",GetData!AG18)","v":""},null,null,{"$f":"W5","v":"0 01/00/1900"},{"$f":"X5","v":"0 01/00/1900"},null,null,null,{"$f":"IF(GetData!P18=\"\",\"\",GetData!P18)","v":""},{"$f":"IF(GetData!AH18=\"\",\"\",GetData!AH18)","v":""},null,null,{"$f":"AF5","v":"0 01/00/1900"},{"$f":"AG5","v":"0 01/00/1900"}]
[null,null,null,null,null,null,null,null,null,{"$f":"IF(GetData!Q19=\"\",\"\",GetData!Q19)","v":""},{"$f":"IF(GetData!AI19=\"\",\"\",GetData!AI19)","v":""},null,"Mean",{"$f":"N7","v":{"$error":"#DIV/0!"}},{"$f":"O7","v":{"$error":"#DIV/0!"}},{"$f":"IF(N20>O20,1,0)","v":{"$error":"#DIV/0!"}},null,null,{"$f":"IF(GetData!O19=\"\",\"\",GetData!O19)","v":""},{"$f":"IF(GetData!AG19=\"\",\"\",GetData!AG19)","v":""},null,"Mean",{"$f":"W7","v":{"$error":"#DIV/0!"}},{"$f":"X7","v":{"$error":"#DIV/0!"}},{"$f":"IF(W20>X20,1,0)","v":{"$error":"#DIV/0!"}},null,null,{"$f":"IF(GetData!P19=\"\",\"\",GetData!P19)","v":""},{"$f":"IF(GetData!AH19=\"\",\"\",GetData!AH19)","v":""},null,"Mean",{"$f":"AF7","v":{"$error":"#DIV/0!"}},{"$f":"AG7","v":{"$error":"#DIV/0!"}},{"$f":"IF(AF20>AG20,1,0)","v":{"$error":"#DIV/0!"}}]
["Observed",null,null,null,null,"Expected",null,null,null,{"$f":"IF(GetData!Q20=\"\",\"\",GetData!Q20)","v":""},{"$f":"IF(GetData!AI20=\"\",\"\",GetData!AI20)","v":""},null,"MAX CI",{"$f":"MAX(N9:O9)","v":0},{"$f":"MAX(N9:O9)","v":0},null,null,null,{"$f":"IF(GetData!O20=\"\",\"\",GetData!O20)","v":""},{"$f":"IF(GetData!AG20=\"\",\"\",GetData!AG20)","v":""},null,"MAX CI",{"$f":"MAX(W9:X9)","v":0},{"$f":"MAX(W9:X9)","v":0},null,null,null,{"$f":"IF(GetData!P20=\"\",\"\",GetData!P20)","v":""},{"$f":"IF(GetData!AH20=\"\",\"\",GetData!AH20)","v":""},null,"MAX CI",{"$f":"MAX(AF9:AG9)","v":0},{"$f":"MAX(AF9:AG9)","v":0}]
[null,{"$f":"A3","v":0},{"$f":"F3","v":0},"Totals",null,null,{"$f":"B22","v":0},{"$f":"C22","v":0},"Totals",{"$f":"IF(GetData!Q21=\"\",\"\",GetData!Q21)","v":""},{"$f":"IF(GetData!AI21=\"\",\"\",GetData!AI21)","v":""},null,"MAX/MIN",{"$f":"IF(N20<O20,N20+N21,N20-N21)","v":{"$error":"#DIV/0!"}},{"$f":"IF(O20<N20,O20+O21,O20-O21)","v":{"$error":"#DIV/0!"}},{"$f":"IF(N22<O22,1,0)","v":{"$error":"#DIV/0!"}},null,null,{"$f":"IF(GetData!O21=\"\",\"\",GetData!O21)","v":""},{"$f":"IF(GetData!AG21=\"\",\"\",GetData!AG21)","v":""},null,"MAX/MIN",{"$f":"IF(W20<X20,W20+W21,W20-W21)","v":{"$error":"#DIV/0!"}},{"$f":"IF(X20<W20,X20+X21,X20-X21)","v":{"$error":"#DIV/0!"}},{"$f":"IF(W22<X22,1,0)","v":{"$error":"#DIV/0!"}},null,null,{"$f":"IF(GetData!P21=\"\",\"\",GetData!P21)","v":""},{"$f":"IF(GetData!AH21=\"\",\"\",GetData!AH21)","v":""},null,"MAX/MIN",{"$f":"IF(AF20<AG20,AF20+AF21,AF20-AF21)","v":{"$error":"#DIV/0!"}},{"$f":"IF(AG20<AF20,AG20+AG21,AG20-AG21)","v":{"$error":"#DIV/0!"}},{"$f":"IF(AF22<AG22,1,0)","v":{"$error":"#DIV/0!"}}]
["Plots with woody",{"$f":"B6*B11","v":0},{"$f":"C17","v":0},{"$f":"SUM(B23:C23)","v":0},null,"Plots with woody",{"$f":"AVERAGE(F17,G17)*B19","v":{"$error":"#DIV/0!"}},{"$f":"AVERAGE(F17,G17)*C19","v":{"$error":"#DIV/0!"}},{"$f":"SUM(G24:H24)","v":{"$error":"#DIV/0!"}},{"$f":"IF(GetData!Q22=\"\",\"\",GetData!Q22)","v":""},{"$f":"IF(GetData!AI22=\"\",\"\",GetData!AI22)","v":""},null,"                    Significantly different?",null,{"$f":"IF(SUM(P20:P22)=1,\"Y\",\"N\")","v":{"$error":"#DIV/0!"}},null,null,null,{"$f":"IF(GetData!O22=\"\",\"\",GetData!O22)","v":""},{"$f":"IF(GetData!AG22=\"\",\"\",GetData!AG22)","v":""},null,"                    Significantly different?",null,{"$f":"IF(SUM(Y20:Y22)=1,\"Y\",\"N\")","v":{"$error":"#DIV/0!"}},null,null,null,{"$f":"IF(GetData!P22=\"\",\"\",GetData!P22)","v":""},{"$f":"IF(GetData!AH22=\"\",\"\",GetData!AH22)","v":""},null,"                    Significantly different?",null,{"$f":"IF(SUM(AH20:AH22)=1,\"Y\",\"N\")","v":{"$error":"#DIV/0!"}}]
["Plots without woody",{"$f":"B11-B23","v":0},{"$f":"G11-C23","v":0},{"$f":"SUM(B24:C24)","v":0},null,"Plots without woody",{"$f":"AVERAGE(F18,G18)*B19","v":{"$error":"#DIV/0!"}},{"$f":"AVERAGE(F18,G18)*C19","v":{"$error":"#DIV/0!"}},{"$f":"SUM(G25:H25)","v":{"$error":"#DIV/0!"}},{"$f":"IF(GetData!Q23=\"\",\"\",GetData!Q23)","v":""},{"$f":"IF(GetData!AI23=\"\",\"\",GetData!AI23)","v":""},null,null,null,null,null,null,null,{"$f":"IF(GetData!O23=\"\",\"\",GetData!O23)","v":""},{"$f":"IF(GetData!AG23=\"\",\"\",GetData!AG23)","v":""},null,null,null,null,null,null,null,{"$f":"IF(GetData!P23=\"\",\"\",GetData!P23)","v":""},{"$f":"IF(GetData!AH23=\"\",\"\",GetData!AH23)","v":""}]
["Total",{"$f":"SUM(B23:B24)","v":0},{"$f":"SUM(C23:C24)","v":0},{"$f":"SUM(D23:D24)","v":0},null,"Total",{"$f":"SUM(G23:G24)","v":{"$error":"#DIV/0!"}},{"$f":"SUM(H23:H24)","v":{"$error":"#DIV/0!"}},{"$f":"SUM(I23:I24)","v":{"$error":"#DIV/0!"}},{"$f":"IF(GetData!Q24=\"\",\"\",GetData!Q24)","v":""},{"$f":"IF(GetData!AI24=\"\",\"\",GetData!AI24)","v":""},null,null,null,null,null,null,null,{"$f":"IF(GetData!O24=\"\",\"\",GetData!O24)","v":""},{"$f":"IF(GetData!AG24=\"\",\"\",GetData!AG24)","v":""},null,null,null,null,null,null,null,{"$f":"IF(GetData!P24=\"\",\"\",GetData!P24)","v":""},{"$f":"IF(GetData!AH24=\"\",\"\",GetData!AH24)","v":""}]
[null,null,null,null,null,null,null,null,null,{"$f":"IF(GetData!Q25=\"\",\"\",GetData!Q25)","v":""},{"$f":"IF(GetData!AI25=\"\",\"\",GetData!AI25)","v":""},null,null,null,null,null,null,null,{"$f":"IF(GetData!O25=\"\",\"\",GetData!O25)","v":""},{"$f":"IF(GetData!AG25=\"\",\"\",GetData!AG25)","v":""},null,null,null,null,null,null,null,{"$f":"IF(GetData!P25=\"\",\"\",GetData!P25)","v":""},{"$f":"IF(GetData!AH25=\"\",\"\",GetData!AH25)","v":""}]
[null,null,null,null,null,null,null,null,null,{"$f":"IF(GetData!Q26=\"\",\"\",GetData!Q26)","v":""},{"$f":"IF(GetData!AI26=\"\",\"\",GetData!AI26)","v":""},null,null,null,null,null,null,null,{"$f":"IF(GetData!O26=\"\",\"\",GetData!O26)","v":""},{"$f":"IF(GetData!AG26=\"\",\"\",GetData!AG26)","v":""},null,null,null,null,null,null,null,{"$f":"IF(GetData!P26=\"\",\"\",GetData!P26)","v":""},{"$f":"IF(GetData!AH26=\"\",\"\",GetData!AH26)","v":""}]
[null,null,null,null,null,null,null,null,null,{"$f":"IF(GetData!Q27=\"\",\"\",GetData!Q27)","v":""},{"$f":"IF(GetData!AI27=\"\",\"\",GetData!AI27)","v":""},null,null,null,null,null,null,null,{"$f":"IF(GetData!O27=\"\",\"\",GetData!O27)","v":""},{"$f":"IF(GetData!AG27=\"\",\"\",GetData!AG27)","v":""},null,null,null,null,null,null,null,{"$f":"IF(GetData!P27=\"\",\"\",GetData!P27)","v":""},{"$f":"IF(GetData!AH27=\"\",\"\",GetData!AH27)","v":""}]
["Chi Square Woody Composition",null,"Lookup 1 df and alpha of .10",null,"Lookup 1 df and alpha of .05",null,null,null,null,{"$f":"IF(GetData!Q28=\"\",\"\",GetData!Q28)","v":""},{"$f":"IF(GetData!AI28=\"\",\"\",GetData!AI28)","v":""},null,null,null,null,null,null,null,{"$f":"IF(GetData!O28=\"\",\"\",GetData!O28)","v":""},{"$f":"IF(GetData!AG28=\"\",\"\",GetData!AG28)","v":""},null,null,null,null,null,null,null,{"$f":"IF(GetData!P28=\"\",\"\",GetData!P28)","v":""},{"$f":"IF(GetData!AH28=\"\",\"\",GetData!AH28)","v":""}]
[{"$f":"(B23-G23)^2/G23+(C23-H23)^2/H23+(B24-G24)^2/G24+(C24-H24)^2/H24","v":{"$error":"#DIV/0!"}},null,2.71,null,3.84,null,null,null,null,{"$f":"IF(GetData!Q29=\"\",\"\",GetData!Q29)","v":""},{"$f":"IF(GetData!AI29=\"\",\"\",GetData!AI29)","v":""},null,null,null,null,null,null,null,{"$f":"IF(GetData!O29=\"\",\"\",GetData!O29)","v":""},{"$f":"IF(GetData!AG29=\"\",\"\",GetData!AG29)","v":""},null,null,null,null,null,null,null,{"$f":"IF(GetData!P29=\"\",\"\",GetData!P29)","v":""},{"$f":"IF(GetData!AH29=\"\",\"\",GetData!AH29)","v":""}]
[null,null,{"$f":"IF(C30>$A30,\"Accept the null hypothesis\",\"Reject the null hypothesis\")","v":{"$error":"#DIV/0!"}},null,{"$f":"IF(E30>$A30,\"Accept the null hypothesis\",\"Reject the null hypothesis\")","v":{"$error":"#DIV/0!"}},null,null,null,null,{"$f":"IF(GetData!Q30=\"\",\"\",GetData!Q30)","v":""},{"$f":"IF(GetData!AI30=\"\",\"\",GetData!AI30)","v":""},null,null,null,null,null,null,null,{"$f":"IF(GetData!O30=\"\",\"\",GetData!O30)","v":""},{"$f":"IF(GetData!AG30=\"\",\"\",GetData!AG30)","v":""},null,null,null,null,null,null,null,{"$f":"IF(GetData!P30=\"\",\"\",GetData!P30)","v":""},{"$f":"IF(GetData!AH30=\"\",\"\",GetData!AH30)","v":""}]
[null,null,null,null,null,null,null,null,null,{"$f":"IF(GetData!Q31=\"\",\"\",GetData!Q31)","v":""},{"$f":"IF(GetData!AI31=\"\",\"\",GetData!AI31)","v":""},null,null,null,null,null,null,null,{"$f":"IF(GetData!O31=\"\",\"\",GetData!O31)","v":""},{"$f":"IF(GetData!AG31=\"\",\"\",GetData!AG31)","v":""},null,null,null,null,null,null,null,{"$f":"IF(GetData!P31=\"\",\"\",GetData!P31)","v":""},{"$f":"IF(GetData!AH31=\"\",\"\",GetData!AH31)","v":""}]
["Woody Age Class",null,null,null,null,"Percentage:"," ",null,null,{"$f":"IF(GetData!Q32=\"\",\"\",GetData!Q32)","v":""},{"$f":"IF(GetData!AI32=\"\",\"\",GetData!AI32)","v":""},null,null,null,null,null,null,null,{"$f":"IF(GetData!O32=\"\",\"\",GetData!O32)","v":""},{"$f":"IF(GetData!AG32=\"\",\"\",GetData!AG32)","v":""},null,null,null,null,null,null,null,{"$f":"IF(GetData!P32=\"\",\"\",GetData!P32)","v":""},{"$f":"IF(GetData!AH32=\"\",\"\",GetData!AH32)","v":""}]
[null,{"$f":"B40","v":0},{"$f":"C40","v":0},null,null,{"$f":"B34","v":0},{"$f":"C34","v":0},null,null,{"$f":"IF(GetData!Q33=\"\",\"\",GetData!Q33)","v":""},{"$f":"IF(GetData!AI33=\"\",\"\",GetData!AI33)","v":""},null,null,null,null,null,null,null,{"$f":"IF(GetData!O33=\"\",\"\",GetData!O33)","v":""},{"$f":"IF(GetData!AG33=\"\",\"\",GetData!AG33)","v":""},null,null,null,null,null,null,null,{"$f":"IF(GetData!P33=\"\",\"\",GetData!P33)","v":""},{"$f":"IF(GetData!AH33=\"\",\"\",GetData!AH33)","v":""}]
["Seedlings",{"$f":"B41","v":""},{"$f":"IF(G7=0,0.0001,G7)","v":""},null,"Seedlings (%)",{"$f":"B35/B37","v":{"$error":"#VALUE!"}},{"$f":"C35/C37","v":{"$error":"#VALUE!"}},null,null,{"$f":"IF(GetData!Q34=\"\",\"\",GetData!Q34)","v":""},{"$f":"IF(GetData!AI34=\"\",\"\",GetData!AI34)","v":""},null,null,null,null,null,null,null,{"$f":"IF(GetData!O34=\"\",\"\",GetData!O34)","v":""},{"$f":"IF(GetData!AG34=\"\",\"\",GetData!AG34)","v":""},null,null,null,null,null,null,null,{"$f":"IF(GetData!P34=\"\",\"\",GetData!P34)","v":""},{"$f":"IF(GetData!AH34=\"\",\"\",GetData!AH34)","v":""}]
["Young and Mature",{"$f":"B42","v":1E-4},{"$f":"IF(SUM(G8:G9)=0,0.0001,SUM(G8:G9))","v":1E-4},null,{"$f":"A36","v":"Young and Mature"},{"$f":"B36/B37","v":1},{"$f":"C36/C37","v":1},null,null,{"$f":"IF(GetData!Q35=\"\",\"\",GetData!Q35)","v":""},{"$f":"IF(GetData!AI35=\"\",\"\",GetData!AI35)","v":""},null,null,null,null,null,null,null,{"$f":"IF(GetData!O35=\"\",\"\",GetData!O35)","v":""},{"$f":"IF(GetData!AG35=\"\",\"\",GetData!AG35)","v":""},null,null,null,null,null,null,null,{"$f":"IF(GetData!P35=\"\",\"\",GetData!P35)","v":""},{"$f":"IF(GetData!AH35=\"\",\"\",GetData!AH35)","v":""}]
["Total",{"$f":"SUM(B35:B36)","v":1E-4},{"$f":"SUM(C35:C36)","v":1E-4},null,"Total",{"$f":"SUM(F35:F36)","v":{"$error":"#VALUE!"}},{"$f":"SUM(G35:G36)","v":{"$error":"#VALUE!"}},null,null,{"$f":"IF(GetData!Q36=\"\",\"\",GetData!Q36)","v":""},{"$f":"IF(GetData!AI36=\"\",\"\",GetData!AI36)","v":""},null,null,null,null,null,null,null,{"$f":"IF(GetData!O36=\"\",\"\",GetData!O36)","v":""},{"$f":"IF(GetData!AG36=\"\",\"\",GetData!AG36)","v":""},null,null,null,null,null,null,null,{"$f":"IF(GetData!P36=\"\",\"\",GetData!P36)","v":""},{"$f":"IF(GetData!AH36=\"\",\"\",GetData!AH36)","v":""}]
[null,null,null,null,null,null,null,null,null,{"$f":"IF(GetData!Q37=\"\",\"\",GetData!Q37)","v":""},{"$f":"IF(GetData!AI37=\"\",\"\",GetData!AI37)","v":""},null,null,null,null,null,null,null,{"$f":"IF(GetData!O37=\"\",\"\",GetData!O37)","v":""},{"$f":"IF(GetData!AG37=\"\",\"\",GetData!AG37)","v":""},null,null,null,null,null,null,null,{"$f":"IF(GetData!P37=\"\",\"\",GetData!P37)","v":""},{"$f":"IF(GetData!AH37=\"\",\"\",GetData!AH37)","v":""}]
["Observed",null,null,null,null,"Expected",null,null,null,{"$f":"IF(GetData!Q38=\"\",\"\",GetData!Q38)","v":""},{"$f":"IF(GetData!AI38=\"\",\"\",GetData!AI38)","v":""},null,null,null,null,null,null,null,{"$f":"IF(GetData!O38=\"\",\"\",GetData!O38)","v":""},{"$f":"IF(GetData!AG38=\"\",\"\",GetData!AG38)","v":""},null,null,null,null,null,null,null,{"$f":"IF(GetData!P38=\"\",\"\",GetData!P38)","v":""},{"$f":"IF(GetData!AH38=\"\",\"\",GetData!AH38)","v":""}]
[null,{"$f":"B22","v":0},{"$f":"C22","v":0},"Totals",null,null,{"$f":"B40","v":0},{"$f":"C40","v":0},"Totals",{"$f":"IF(GetData!Q39=\"\",\"\",GetData!Q39)","v":""},{"$f":"IF(GetData!AI39=\"\",\"\",GetData!AI39)","v":""},null,null,null,null,null,null,null,{"$f":"IF(GetData!O39=\"\",\"\",GetData!O39)","v":""},{"$f":"IF(GetData!AG39=\"\",\"\",GetData!AG39)","v":""},null,null,null,null,null,null,null,{"$f":"IF(GetData!P39=\"\",\"\",GetData!P39)","v":""},{"$f":"IF(GetData!AH39=\"\",\"\",GetData!AH39)","v":""}]
[{"$f":"A35","v":"Seedlings"},{"$f":"IF(B7=0,0.0001,B7)","v":""},{"$f":"C35","v":""},{"$f":"SUM(B41:C41)","v":0},null,"Seedlings",{"$f":"AVERAGE(F35,G35)*B37","v":{"$error":"#VALUE!"}},{"$f":"AVERAGE(F35,G35)*C37","v":{"$error":"#VALUE!"}},{"$f":"SUM(G42:H42)","v":2.0000000000000001E-4},{"$f":"IF(GetData!Q40=\"\",\"\",GetData!Q40)","v":""},{"$f":"IF(GetData!AI40=\"\",\"\",GetData!AI40)","v":""},null,null,null,null,null,null,null,{"$f":"IF(GetData!O40=\"\",\"\",GetData!O40)","v":""},{"$f":"IF(GetData!AG40=\"\",\"\",GetData!AG40)","v":""},null,null,null,null,null,null,null,{"$f":"IF(GetData!P40=\"\",\"\",GetData!P40)","v":""},{"$f":"IF(GetData!AH40=\"\",\"\",GetData!AH40)","v":""}]
[{"$f":"A36","v":"Young and Mature"},{"$f":"IF(SUM(B8:B9)=0,0.0001,SUM(B8:B9))","v":1E-4},{"$f":"C36","v":1E-4},{"$f":"SUM(B42:C42)","v":2.0000000000000001E-4},null,"Young and Mature",{"$f":"AVERAGE(F36,G36)*B37","v":1E-4},{"$f":"AVERAGE(F36,G36)*C37","v":1E-4},{"$f":"SUM(G43:H43)","v":{"$error":"#VALUE!"}},{"$f":"IF(GetData!Q41=\"\",\"\",GetData!Q41)","v":""},{"$f":"IF(GetData!AI41=\"\",\"\",GetData!AI41)","v":""},null,null,null,null,null,null,null,{"$f":"IF(GetData!O41=\"\",\"\",GetData!O41)","v":""},{"$f":"IF(GetData!AG41=\"\",\"\",GetData!AG41)","v":""},null,null,null,null,null,null,null,{"$f":"IF(GetData!P41=\"\",\"\",GetData!P41)","v":""},{"$f":"IF(GetData!AH41=\"\",\"\",GetData!AH41)","v":""}]
["Total",{"$f":"SUM(B41:B42)","v":1E-4},{"$f":"SUM(C41:C42)","v":1E-4},{"$f":"SUM(D41:D42)","v":2.0000000000000001E-4},null,"Total",{"$f":"SUM(G41:G42)","v":{"$error":"#VALUE!"}},{"$f":"SUM(H41:H42)","v":{"$error":"#VALUE!"}},{"$f":"SUM(I41:I42)","v":{"$error":"#VALUE!"}},{"$f":"IF(GetData!Q42=\"\",\"\",GetData!Q42)","v":""},{"$f":"IF(GetData!AI42=\"\",\"\",GetData!AI42)","v":""},null,null,null,null,null,null,null,{"$f":"IF(GetData!O42=\"\",\"\",GetData!O42)","v":""},{"$f":"IF(GetData!AG42=\"\",\"\",GetData!AG42)","v":""},null,null,null,null,null,null,null,{"$f":"IF(GetData!P42=\"\",\"\",GetData!P42)","v":""},{"$f":"IF(GetData!AH42=\"\",\"\",GetData!AH42)","v":""}]
[null,null,null,null,null,null,null,null,null,{"$f":"IF(GetData!Q43=\"\",\"\",GetData!Q43)","v":""},{"$f":"IF(GetData!AI43=\"\",\"\",GetData!AI43)","v":""},null,null,null,null,null,null,null,{"$f":"IF(GetData!O43=\"\",\"\",GetData!O43)","v":""},{"$f":"IF(GetData!AG43=\"\",\"\",GetData!AG43)","v":""},null,null,null,null,null,null,null,{"$f":"IF(GetData!P43=\"\",\"\",GetData!P43)","v":""},{"$f":"IF(GetData!AH43=\"\",\"\",GetData!AH43)","v":""}]
[null,null,null,null,null,null,null,null,null,{"$f":"IF(GetData!Q44=\"\",\"\",GetData!Q44)","v":""},{"$f":"IF(GetData!AI44=\"\",\"\",GetData!AI44)","v":""},null,null,null,null,null,null,null,{"$f":"IF(GetData!O44=\"\",\"\",GetData!O44)","v":""},{"$f":"IF(GetData!AG44=\"\",\"\",GetData!AG44)","v":""},null,null,null,null,null,null,null,{"$f":"IF(GetData!P44=\"\",\"\",GetData!P44)","v":""},{"$f":"IF(GetData!AH44=\"\",\"\",GetData!AH44)","v":""}]
[null,null,null,null,null,null,null,null,null,{"$f":"IF(GetData!Q45=\"\",\"\",GetData!Q45)","v":""},{"$f":"IF(GetData!AI45=\"\",\"\",GetData!AI45)","v":""},null,null," RUN NORMAL PROBABILITY PLOT",null,null,null,null,{"$f":"IF(GetData!O45=\"\",\"\",GetData!O45)","v":""},{"$f":"IF(GetData!AG45=\"\",\"\",GetData!AG45)","v":""},null,null," RUN NORMAL PROBABILITY PLOT",null,null,null,null,{"$f":"IF(GetData!P45=\"\",\"\",GetData!P45)","v":""},{"$f":"IF(GetData!AH45=\"\",\"\",GetData!AH45)","v":""},null,null," RUN NORMAL PROBABILITY PLOT"]
["Chi Square Woody Age Class",null,"Lookup 1 df and alpha of .10",null,"Lookup 1 df and alpha of .05",null,null,null,null,{"$f":"IF(GetData!Q46=\"\",\"\",GetData!Q46)","v":""},{"$f":"IF(GetData!AI46=\"\",\"\",GetData!AI46)","v":""},null,null,null,null,null,null,null,{"$f":"IF(GetData!O46=\"\",\"\",GetData!O46)","v":""},{"$f":"IF(GetData!AG46=\"\",\"\",GetData!AG46)","v":""},null,null,null,null,null,null,null,{"$f":"IF(GetData!P46=\"\",\"\",GetData!P46)","v":""},{"$f":"IF(GetData!AH46=\"\",\"\",GetData!AH46)","v":""}]
[{"$f":"(B41-G41)^2/G41+(C41-H41)^2/H41+(B42-G42)^2/G42+(C42-H42)^2/H42","v":{"$error":"#VALUE!"}},null,2.7,null,3.84,null,null,null,null,{"$f":"IF(GetData!Q47=\"\",\"\",GetData!Q47)","v":""},{"$f":"IF(GetData!AI47=\"\",\"\",GetData!AI47)","v":""},null,null,null,null,null,null,null,{"$f":"IF(GetData!O47=\"\",\"\",GetData!O47)","v":""},{"$f":"IF(GetData!AG47=\"\",\"\",GetData!AG47)","v":""},null,null,null,null,null,null,null,{"$f":"IF(GetData!P47=\"\",\"\",GetData!P47)","v":""},{"$f":"IF(GetData!AH47=\"\",\"\",GetData!AH47)","v":""}]
[null,null,{"$f":"IF(C48>A48,\"Accept the null hypothesis\",\"Reject the null hypothesis\")","v":{"$error":"#VALUE!"}},null,{"$f":"IF(E48>$A48,\"Accept the null hypothesis\",\"Reject the null hypothesis\")","v":{"$error":"#VALUE!"}},null,null,null,null,{"$f":"IF(GetData!Q48=\"\",\"\",GetData!Q48)","v":""},{"$f":"IF(GetData!AI48=\"\",\"\",GetData!AI48)","v":""},null,null,null,null,null,null,null,{"$f":"IF(GetData!O48=\"\",\"\",GetData!O48)","v":""},{"$f":"IF(GetData!AG48=\"\",\"\",GetData!AG48)","v":""},null,null,null,null,null,null,null,{"$f":"IF(GetData!P48=\"\",\"\",GetData!P48)","v":""},{"$f":"IF(GetData!AH48=\"\",\"\",GetData!AH48)","v":""}]
["Rhizomatous woody",null,null,null,null,"Percentage:"," ",null,null,{"$f":"IF(GetData!Q49=\"\",\"\",GetData!Q49)","v":""},{"$f":"IF(GetData!AI49=\"\",\"\",GetData!AI49)","v":""},null,null," Run Histogram",null,null,null,null,{"$f":"IF(GetData!O49=\"\",\"\",GetData!O49)","v":""},{"$f":"IF(GetData!AG49=\"\",\"\",GetData!AG49)","v":""},null,null," Run Histogram",null,null,null,null,{"$f":"IF(GetData!P49=\"\",\"\",GetData!P49)","v":""},{"$f":"IF(GetData!AH49=\"\",\"\",GetData!AH49)","v":""},null,null," Run Histogram"]
[null,{"$f":"B57","v":0},{"$f":"C57","v":0},null,null,{"$f":"B51","v":0},{"$f":"C51","v":0},null,null,{"$f":"IF(GetData!Q50=\"\",\"\",GetData!Q50)","v":""},{"$f":"IF(GetData!AI50=\"\",\"\",GetData!AI50)","v":""},null,null,null,null,null,null,null,{"$f":"IF(GetData!O50=\"\",\"\",GetData!O50)","v":""},{"$f":"IF(GetData!AG50=\"\",\"\",GetData!AG50)","v":""},null,null,null,null,null,null,null,{"$f":"IF(GetData!P50=\"\",\"\",GetData!P50)","v":""},{"$f":"IF(GetData!AH50=\"\",\"\",GetData!AH50)","v":""}]
["Plots with Rhizomatous",{"$f":"B10","v":0},{"$f":"G10","v":0},null,"Rhizomatous (%)",{"$f":"B52/B54","v":{"$error":"#DIV/0!"}},{"$f":"C52/C54","v":{"$error":"#DIV/0!"}},null,null,{"$f":"IF(GetData!Q51=\"\",\"\",GetData!Q51)","v":""},{"$f":"IF(GetData!AI51=\"\",\"\",GetData!AI51)","v":""},null,null,null,null,null,null,null,{"$f":"IF(GetData!O51=\"\",\"\",GetData!O51)","v":""},{"$f":"IF(GetData!AG51=\"\",\"\",GetData!AG51)","v":""},null,null,null,null,null,null,null,{"$f":"IF(GetData!P51=\"\",\"\",GetData!P51)","v":""},{"$f":"IF(GetData!AH51=\"\",\"\",GetData!AH51)","v":""}]
["Plots without",{"$f":"B11-B10","v":0},{"$f":"G11-G10","v":0},null,{"$f":"A53","v":"Plots without"},{"$f":"B53/B54","v":{"$error":"#DIV/0!"}},{"$f":"C53/C54","v":{"$error":"#DIV/0!"}},null,null,{"$f":"IF(GetData!Q52=\"\",\"\",GetData!Q52)","v":""},{"$f":"IF(GetData!AI52=\"\",\"\",GetData!AI52)","v":""},null,null,null,null,null,null,null,{"$f":"IF(GetData!O52=\"\",\"\",GetData!O52)","v":""},{"$f":"IF(GetData!AG52=\"\",\"\",GetData!AG52)","v":""},null,null,null,null,null,null,null,{"$f":"IF(GetData!P52=\"\",\"\",GetData!P52)","v":""},{"$f":"IF(GetData!AH52=\"\",\"\",GetData!AH52)","v":""}]
["Total",{"$f":"SUM(B52:B53)","v":0},{"$f":"SUM(C52:C53)","v":0},null,"Total",{"$f":"SUM(F52:F53)","v":{"$error":"#DIV/0!"}},{"$f":"SUM(G52:G53)","v":{"$error":"#DIV/0!"}},null,null,{"$f":"IF(GetData!Q53=\"\",\"\",GetData!Q53)","v":""},{"$f":"IF(GetData!AI53=\"\",\"\",GetData!AI53)","v":""},null,null," Run T-Test (if normal distribution)",null,null,null,null,{"$f":"IF(GetData!O53=\"\",\"\",GetData!O53)","v":""},{"$f":"IF(GetData!AG53=\"\",\"\",GetData!AG53)","v":""},null,null," Run T-Test (if normal distribution)",null,null,null,null,{"$f":"IF(GetData!P53=\"\",\"\",GetData!P53)","v":""},{"$f":"IF(GetData!AH53=\"\",\"\",GetData!AH53)","v":""},null,null," Run T-Test (if normal distribution)"]
[null,null,null,null,null,null,null,null,null,{"$f":"IF(GetData!Q54=\"\",\"\",GetData!Q54)","v":""},{"$f":"IF(GetData!AI54=\"\",\"\",GetData!AI54)","v":""},null,null,null,null,null,null,null,{"$f":"IF(GetData!O54=\"\",\"\",GetData!O54)","v":""},{"$f":"IF(GetData!AG54=\"\",\"\",GetData!AG54)","v":""},null,null,null,null,null,null,null,{"$f":"IF(GetData!P54=\"\",\"\",GetData!P54)","v":""},{"$f":"IF(GetData!AH54=\"\",\"\",GetData!AH54)","v":""}]
["Observed",null,null,null,null,"Expected",null,null,null,{"$f":"IF(GetData!Q55=\"\",\"\",GetData!Q55)","v":""},{"$f":"IF(GetData!AI55=\"\",\"\",GetData!AI55)","v":""},null,null,null,null,null,null,null,{"$f":"IF(GetData!O55=\"\",\"\",GetData!O55)","v":""},{"$f":"IF(GetData!AG55=\"\",\"\",GetData!AG55)","v":""},null,null,null,null,null,null,null,{"$f":"IF(GetData!P55=\"\",\"\",GetData!P55)","v":""},{"$f":"IF(GetData!AH55=\"\",\"\",GetData!AH55)","v":""}]
[null,{"$f":"A38","v":0},{"$f":"F38","v":0},"Totals",null,null,{"$f":"B57","v":0},{"$f":"C57","v":0},"Totals",{"$f":"IF(GetData!Q56=\"\",\"\",GetData!Q56)","v":""},{"$f":"IF(GetData!AI56=\"\",\"\",GetData!AI56)","v":""},null,null,null,null,null,null,null,{"$f":"IF(GetData!O56=\"\",\"\",GetData!O56)","v":""},{"$f":"IF(GetData!AG56=\"\",\"\",GetData!AG56)","v":""},null,null,null,null,null,null,null,{"$f":"IF(GetData!P56=\"\",\"\",GetData!P56)","v":""},{"$f":"IF(GetData!AH56=\"\",\"\",GetData!AH56)","v":""}]
[{"$f":"A52","v":"Plots with Rhizomatous"},0,0,{"$f":"SUM(B58:C58)","v":0},null,{"$f":"A52","v":"Plots with Rhizomatous"},{"$f":"AVERAGE(F52,G52)*B54","v":{"$error":"#DIV/0!"}},{"$f":"AVERAGE(F52,G52)*C54","v":{"$error":"#DIV/0!"}},{"$f":"SUM(G59:H59)","v":{"$error":"#DIV/0!"}},{"$f":"IF(GetData!Q57=\"\",\"\",GetData!Q57)","v":""},{"$f":"IF(GetData!AI57=\"\",\"\",GetData!AI57)","v":""},null,null," Run Mann-Whitney U test (if not normal distribution)",null,null,null,null,{"$f":"IF(GetData!O57=\"\",\"\",GetData!O57)","v":""},{"$f":"IF(GetData!AG57=\"\",\"\",GetData!AG57)","v":""},null,null," Run Mann-Whitney U test (if not normal distribution)",null,null,null,null,{"$f":"IF(GetData!P57=\"\",\"\",GetData!P57)","v":""},{"$f":"IF(GetData!AH57=\"\",\"\",GetData!AH57)","v":""},null,null," Run Mann-Whitney U test (if not normal distribution)"]
["Plots without",0,0,{"$f":"SUM(B59:C59)","v":0},null,{"$f":"A53","v":"Plots without"},{"$f":"AVERAGE(F53,G53)*B54","v":{"$error":"#DIV/0!"}},{"$f":"AVERAGE(F53,G53)*C54","v":{"$error":"#DIV/0!"}},{"$f":"SUM(G60:H60)","v":{"$error":"#DIV/0!"}},{"$f":"IF(GetData!Q58=\"\",\"\",GetData!Q58)","v":""},{"$f":"IF(GetData!AI58=\"\",\"\",GetData!AI58)","v":""},null,null,null,null,null,null,null,{"$f":"IF(GetData!O58=\"\",\"\",GetData!O58)","v":""},{"$f":"IF(GetData!AG58=\"\",\"\",GetData!AG58)","v":""},null,null,null,null,null,null,null,{"$f":"IF(GetData!P58=\"\",\"\",GetData!P58)","v":""},{"$f":"IF(GetData!AH58=\"\",\"\",GetData!AH58)","v":""}]
["Total",{"$f":"SUM(B58:B59)","v":0},{"$f":"SUM(C58:C59)","v":0},{"$f":"SUM(D58:D59)","v":0},null,"Total",{"$f":"SUM(G58:G59)","v":{"$error":"#DIV/0!"}},{"$f":"SUM(H58:H59)","v":{"$error":"#DIV/0!"}},{"$f":"SUM(I58:I59)","v":{"$error":"#DIV/0!"}},{"$f":"IF(GetData!Q59=\"\",\"\",GetData!Q59)","v":""},{"$f":"IF(GetData!AI59=\"\",\"\",GetData!AI59)","v":""},null,null,null,null,null,null,null,{"$f":"IF(GetData!O59=\"\",\"\",GetData!O59)","v":""},{"$f":"IF(GetData!AG59=\"\",\"\",GetData!AG59)","v":""},null,null,null,null,null,null,null,{"$f":"IF(GetData!P59=\"\",\"\",GetData!P59)","v":""},{"$f":"IF(GetData!AH59=\"\",\"\",GetData!AH59)","v":""}]
[null,null,null,null,null,null,null,null,null,{"$f":"IF(GetData!Q60=\"\",\"\",GetData!Q60)","v":""},{"$f":"IF(GetData!AI60=\"\",\"\",GetData!AI60)","v":""},null,null,null,null,null,null,null,{"$f":"IF(GetData!O60=\"\",\"\",GetData!O60)","v":""},{"$f":"IF(GetData!AG60=\"\",\"\",GetData!AG60)","v":""},null,null,null,null,null,null,null,{"$f":"IF(GetData!P60=\"\",\"\",GetData!P60)","v":""},{"$f":"IF(GetData!AH60=\"\",\"\",GetData!AH60)","v":""}]
[null,null,null,null,null,null,null,null,null,{"$f":"IF(GetData!Q61=\"\",\"\",GetData!Q61)","v":""},{"$f":"IF(GetData!AI61=\"\",\"\",GetData!AI61)","v":""},null,null,null,null,null,null,null,{"$f":"IF(GetData!O61=\"\",\"\",GetData!O61)","v":""},{"$f":"IF(GetData!AG61=\"\",\"\",GetData!AG61)","v":""},null,null,null,null,null,null,null,{"$f":"IF(GetData!P61=\"\",\"\",GetData!P61)","v":""},{"$f":"IF(GetData!AH61=\"\",\"\",GetData!AH61)","v":""}]
[null,null,null,null,null,null,null,null,null,{"$f":"IF(GetData!Q62=\"\",\"\",GetData!Q62)","v":""},{"$f":"IF(GetData!AI62=\"\",\"\",GetData!AI62)","v":""},null,null,null,null,null,null,null,{"$f":"IF(GetData!O62=\"\",\"\",GetData!O62)","v":""},{"$f":"IF(GetData!AG62=\"\",\"\",GetData!AG62)","v":""},null,null,null,null,null,null,null,{"$f":"IF(GetData!P62=\"\",\"\",GetData!P62)","v":""},{"$f":"IF(GetData!AH62=\"\",\"\",GetData!AH62)","v":""}]
["Chi Square Rhizomatous Woody",null,"Lookup 1 df and alpha of .10",null,"Lookup 1 df and alpha of .05",null,null,null,null,{"$f":"IF(GetData!Q63=\"\",\"\",GetData!Q63)","v":""},{"$f":"IF(GetData!AI63=\"\",\"\",GetData!AI63)","v":""},null,null,null,null,null,null,null,{"$f":"IF(GetData!O63=\"\",\"\",GetData!O63)","v":""},{"$f":"IF(GetData!AG63=\"\",\"\",GetData!AG63)","v":""},null,null,null,null,null,null,null,{"$f":"IF(GetData!P63=\"\",\"\",GetData!P63)","v":""},{"$f":"IF(GetData!AH63=\"\",\"\",GetData!AH63)","v":""}]
[{"$f":"(B58-G58)^2/G58+(C58-H58)^2/H58+(B59-G59)^2/G59+(C59-H59)^2/H59","v":{"$error":"#DIV/0!"}},null,2.7,null,3.84,null,null,null,null,{"$f":"IF(GetData!Q64=\"\",\"\",GetData!Q64)","v":""},{"$f":"IF(GetData!AI64=\"\",\"\",GetData!AI64)","v":""},null,null,null,null,null,null,null,{"$f":"IF(GetData!O64=\"\",\"\",GetData!O64)","v":""},{"$f":"IF(GetData!AG64=\"\",\"\",GetData!AG64)","v":""},null,null,null,null,null,null,null,{"$f":"IF(GetData!P64=\"\",\"\",GetData!P64)","v":""},{"$f":"IF(GetData!AH64=\"\",\"\",GetData!AH64)","v":""}]
[null,null,{"$f":"IF(C65>A65,\"Accept the null hypothesis\",\"Reject the null hypothesis\")","v":{"$error":"#DIV/0!"}},null,{"$f":"IF(E65>$A65,\"Accept the null hypothesis\",\"Reject the null hypothesis\")","v":{"$error":"#DIV/0!"}},null,null,null,null,{"$f":"IF(GetData!Q65=\"\",\"\",GetData!Q65)","v":""},{"$f":"IF(GetData!AI65=\"\",\"\",GetData!AI65)","v":""},null,null,null,null,null,null,null,{"$f":"IF(GetData!O65=\"\",\"\",GetData!O65)","v":""},{"$f":"IF(GetData!AG65=\"\",\"\",GetData!AG65)","v":""},null,null,null,null,null,null,null,{"$f":"IF(GetData!P65=\"\",\"\",GetData!P65)","v":""},{"$f":"IF(GetData!AH65=\"\",\"\",GetData!AH65)","v":""}]
[null,null,null,null,null,null,null,null,null,{"$f":"IF(GetData!Q66=\"\",\"\",GetData!Q66)","v":""},{"$f":"IF(GetData!AI66=\"\",\"\",GetData!AI66)","v":""},null,null,null,null,null,null,null,{"$f":"IF(GetData!O66=\"\",\"\",GetData!O66)","v":""},{"$f":"IF(GetData!AG66=\"\",\"\",GetData!AG66)","v":""},null,null,null,null,null,null,null,{"$f":"IF(GetData!P66=\"\",\"\",GetData!P66)","v":""},{"$f":"IF(GetData!AH66=\"\",\"\",GetData!AH66)","v":""}]
[null,null,null,null,null,null,null,null,null,{"$f":"IF(GetData!Q67=\"\",\"\",GetData!Q67)","v":""},{"$f":"IF(GetData!AI67=\"\",\"\",GetData!AI67)","v":""},null,null,null,null,null,null,null,{"$f":"IF(GetData!O67=\"\",\"\",GetData!O67)","v":""},{"$f":"IF(GetData!AG67=\"\",\"\",GetData!AG67)","v":""},null,null,null,null,null,null,null,{"$f":"IF(GetData!P67=\"\",\"\",GetData!P67)","v":""},{"$f":"IF(GetData!AH67=\"\",\"\",GetData!AH67)","v":""}]
[null,null,null,null,null,null,null,null,null,{"$f":"IF(GetData!Q68=\"\",\"\",GetData!Q68)","v":""},{"$f":"IF(GetData!AI68=\"\",\"\",GetData!AI68)","v":""},null,null,null,null,null,null,null,{"$f":"IF(GetData!O68=\"\",\"\",GetData!O68)","v":""},{"$f":"IF(GetData!AG68=\"\",\"\",GetData!AG68)","v":""},null,null,null,null,null,null,null,{"$f":"IF(GetData!P68=\"\",\"\",GetData!P68)","v":""},{"$f":"IF(GetData!AH68=\"\",\"\",GetData!AH68)","v":""}]
[null,null,null,null,null,null,null,null,null,{"$f":"IF(GetData!Q69=\"\",\"\",GetData!Q69)","v":""},{"$f":"IF(GetData!AI69=\"\",\"\",GetData!AI69)","v":""},null,null,null,null,null,null,null,{"$f":"IF(GetData!O69=\"\",\"\",GetData!O69)","v":""},{"$f":"IF(GetData!AG69=\"\",\"\",GetData!AG69)","v":""},null,null,null,null,null,null,null,{"$f":"IF(GetData!P69=\"\",\"\",GetData!P69)","v":""},{"$f":"IF(GetData!AH69=\"\",\"\",GetData!AH69)","v":""}]
[null,null,null,null,null,null,null,null,null,{"$f":"IF(GetData!Q70=\"\",\"\",GetData!Q70)","v":""},{"$f":"IF(GetData!AI70=\"\",\"\",GetData!AI70)","v":""},null,null,null,null,null,null,null,{"$f":"IF(GetData!O70=\"\",\"\",GetData!O70)","v":""},{"$f":"IF(GetData!AG70=\"\",\"\",GetData!AG70)","v":""},null,null,null,null,null,null,null,{"$f":"IF(GetData!P70=\"\",\"\",GetData!P70)","v":""},{"$f":"IF(GetData!AH70=\"\",\"\",GetData!AH70)","v":""}]
[null,null,null,null,null,null,null,null,null,{"$f":"IF(GetData!Q71=\"\",\"\",GetData!Q71)","v":""},{"$f":"IF(GetData!AI71=\"\",\"\",GetData!AI71)","v":""},null,null,null,null,null,null,null,{"$f":"IF(GetData!O71=\"\",\"\",GetData!O71)","v":""},{"$f":"IF(GetData!AG71=\"\",\"\",GetData!AG71)","v":""},null,null,null,null,null,null,null,{"$f":"IF(GetData!P71=\"\",\"\",GetData!P71)","v":""},{"$f":"IF(GetData!AH71=\"\",\"\",GetData!AH71)","v":""}]
[null,null,null,null,null,null,null,null,null,{"$f":"IF(GetData!Q72=\"\",\"\",GetData!Q72)","v":""},{"$f":"IF(GetData!AI72=\"\",\"\",GetData!AI72)","v":""},null,null,null,null,null,null,null,{"$f":"IF(GetData!O72=\"\",\"\",GetData!O72)","v":""},{"$f":"IF(GetData!AG72=\"\",\"\",GetData!AG72)","v":""},null,null,null,null,null,null,null,{"$f":"IF(GetData!P72=\"\",\"\",GetData!P72)","v":""},{"$f":"IF(GetData!AH72=\"\",\"\",GetData!AH72)","v":""}]
[null,null,null,null,null,null,null,null,null,{"$f":"IF(GetData!Q73=\"\",\"\",GetData!Q73)","v":""},{"$f":"IF(GetData!AI73=\"\",\"\",GetData!AI73)","v":""},null,null,null,null,null,null,null,{"$f":"IF(GetData!O73=\"\",\"\",GetData!O73)","v":""},{"$f":"IF(GetData!AG73=\"\",\"\",GetData!AG73)","v":""},null,null,null,null,null,null,null,{"$f":"IF(GetData!P73=\"\",\"\",GetData!P73)","v":""},{"$f":"IF(GetData!AH73=\"\",\"\",GetData!AH73)","v":""}]
[null,null,null,null,null,null,null,null,null,{"$f":"IF(GetData!Q74=\"\",\"\",GetData!Q74)","v":""},{"$f":"IF(GetData!AI74=\"\",\"\",GetData!AI74)","v":""},null,null,null,null,null,null,null,{"$f":"IF(GetData!O74=\"\",\"\",GetData!O74)","v":""},{"$f":"IF(GetData!AG74=\"\",\"\",GetData!AG74)","v":""},null,null,null,null,null,null,null,{"$f":"IF(GetData!P74=\"\",\"\",GetData!P74)","v":""},{"$f":"IF(GetData!AH74=\"\",\"\",GetData!AH74)","v":""}]
[null,null,null,null,null,null,null,null,null,{"$f":"IF(GetData!Q75=\"\",\"\",GetData!Q75)","v":""},{"$f":"IF(GetData!AI75=\"\",\"\",GetData!AI75)","v":""},null,null,null,null,null,null,null,{"$f":"IF(GetData!O75=\"\",\"\",GetData!O75)","v":""},{"$f":"IF(GetData!AG75=\"\",\"\",GetData!AG75)","v":""},null,null,null,null,null,null,null,{"$f":"IF(GetData!P75=\"\",\"\",GetData!P75)","v":""},{"$f":"IF(GetData!AH75=\"\",\"\",GetData!AH75)","v":""}]
[null,null,null,null,null,null,null,null,null,{"$f":"IF(GetData!Q76=\"\",\"\",GetData!Q76)","v":""},{"$f":"IF(GetData!AI76=\"\",\"\",GetData!AI76)","v":""},null,null,null,null,null,null,null,{"$f":"IF(GetData!O76=\"\",\"\",GetData!O76)","v":""},{"$f":"IF(GetData!AG76=\"\",\"\",GetData!AG76)","v":""},null,null,null,null,null,null,null,{"$f":"IF(GetData!P76=\"\",\"\",GetData!P76)","v":""},{"$f":"IF(GetData!AH76=\"\",\"\",GetData!AH76)","v":""}]
[null,null,null,null,null,null,null,null,null,{"$f":"IF(GetData!Q77=\"\",\"\",GetData!Q77)","v":""},{"$f":"IF(GetData!AI77=\"\",\"\",GetData!AI77)","v":""},null,null,null,null,null,null,null,{"$f":"IF(GetData!O77=\"\",\"\",GetData!O77)","v":""},{"$f":"IF(GetData!AG77=\"\",\"\",GetData!AG77)","v":""},null,null,null,null,null,null,null,{"$f":"IF(GetData!P77=\"\",\"\",GetData!P77)","v":""},{"$f":"IF(GetData!AH77=\"\",\"\",GetData!AH77)","v":""}]
[null,null,null,null,null,null,null,null,null,{"$f":"IF(GetData!Q78=\"\",\"\",GetData!Q78)","v":""},{"$f":"IF(GetData!AI78=\"\",\"\",GetData!AI78)","v":""},null,null,null,null,null,null,null,{"$f":"IF(GetData!O78=\"\",\"\",GetData!O78)","v":""},{"$f":"IF(GetData!AG78=\"\",\"\",GetData!AG78)","v":""},null,null,null,null,null,null,null,{"$f":"IF(GetData!P78=\"\",\"\",GetData!P78)","v":""},{"$f":"IF(GetData!AH78=\"\",\"\",GetData!AH78)","v":""}]
[null,null,null,null,null,null,null,null,null,{"$f":"IF(GetData!Q79=\"\",\"\",GetData!Q79)","v":""},{"$f":"IF(GetData!AI79=\"\",\"\",GetData!AI79)","v":""},null,null,null,null,null,null,null,{"$f":"IF(GetData!O79=\"\",\"\",GetData!O79)","v":""},{"$f":"IF(GetData!AG79=\"\",\"\",GetData!AG79)","v":""},null,null,null,null,null,null,null,{"$f":"IF(GetData!P79=\"\",\"\",GetData!P79)","v":""},{"$f":"IF(GetData!AH79=\"\",\"\",GetData!AH79)","v":""}]
[null,null,null,null,null,null,null,null,null,{"$f":"IF(GetData!Q80=\"\",\"\",GetData!Q80)","v":""},{"$f":"IF(GetData!AI80=\"\",\"\",GetData!AI80)","v":""},null,null,null,null,null,null,null,{"$f":"IF(GetData!O80=\"\",\"\",GetData!O80)","v":""},{"$f":"IF(GetData!AG80=\"\",\"\",GetData!AG80)","v":""},null,null,null,null,null,null,null,{"$f":"IF(GetData!P80=\"\",\"\",GetData!P80)","v":""},{"$f":"IF(GetData!AH80=\"\",\"\",GetData!AH80)","v":""}]
[null,null,null,null,null,null,null,null,null,{"$f":"IF(GetData!Q81=\"\",\"\",GetData!Q81)","v":""},{"$f":"IF(GetData!AI81=\"\",\"\",GetData!AI81)","v":""},null,null,null,null,null,null,null,{"$f":"IF(GetData!O81=\"\",\"\",GetData!O81)","v":""},{"$f":"IF(GetData!AG81=\"\",\"\",GetData!AG81)","v":""},null,null,null,null,null,null,null,{"$f":"IF(GetData!P81=\"\",\"\",GetData!P81)","v":""},{"$f":"IF(GetData!AH81=\"\",\"\",GetData!AH81)","v":""}]
[null,null,null,null,null,null,null,null,null,{"$f":"IF(GetData!Q82=\"\",\"\",GetData!Q82)","v":""},{"$f":"IF(GetData!AI82=\"\",\"\",GetData!AI82)","v":""},null,null,null,null,null,null,null,{"$f":"IF(GetData!O82=\"\",\"\",GetData!O82)","v":""},{"$f":"IF(GetData!AG82=\"\",\"\",GetData!AG82)","v":""},null,null,null,null,null,null,null,{"$f":"IF(GetData!P82=\"\",\"\",GetData!P82)","v":""},{"$f":"IF(GetData!AH82=\"\",\"\",GetData!AH82)","v":""}]
[null,null,null,null,null,null,null,null,null,{"$f":"IF(GetData!Q83=\"\",\"\",GetData!Q83)","v":""},{"$f":"IF(GetData!AI83=\"\",\"\",GetData!AI83)","v":""},null,null,null,null,null,null,null,{"$f":"IF(GetData!O83=\"\",\"\",GetData!O83)","v":""},{"$f":"IF(GetData!AG83=\"\",\"\",GetData!AG83)","v":""},null,null,null,null,null,null,null,{"$f":"IF(GetData!P83=\"\",\"\",GetData!P83)","v":""},{"$f":"IF(GetData!AH83=\"\",\"\",GetData!AH83)","v":""}]
[null,null,null,null,null,null,null,null,null,{"$f":"IF(GetData!Q84=\"\",\"\",GetData!Q84)","v":""},{"$f":"IF(GetData!AI84=\"\",\"\",GetData!AI84)","v":""},null,null,null,null,null,null,null,{"$f":"IF(GetData!O84=\"\",\"\",GetData!O84)","v":""},{"$f":"IF(GetData!AG84=\"\",\"\",GetData!AG84)","v":""},null,null,null,null,null,null,null,{"$f":"IF(GetData!P84=\"\",\"\",GetData!P84)","v":""},{"$f":"IF(GetData!AH84=\"\",\"\",GetData!AH84)","v":""}]
[null,null,null,null,null,null,null,null,null,{"$f":"IF(GetData!Q85=\"\",\"\",GetData!Q85)","v":""},{"$f":"IF(GetData!AI85=\"\",\"\",GetData!AI85)","v":""},null,null,null,null,null,null,null,{"$f":"IF(GetData!O85=\"\",\"\",GetData!O85)","v":""},{"$f":"IF(GetData!AG85=\"\",\"\",GetData!AG85)","v":""},null,null,null,null,null,null,null,{"$f":"IF(GetData!P85=\"\",\"\",GetData!P85)","v":""},{"$f":"IF(GetData!AH85=\"\",\"\",GetData!AH85)","v":""}]
[null,null,null,null,null,null,null,null,null,{"$f":"IF(GetData!Q86=\"\",\"\",GetData!Q86)","v":""},{"$f":"IF(GetData!AI86=\"\",\"\",GetData!AI86)","v":""},null,null,null,null,null,null,null,{"$f":"IF(GetData!O86=\"\",\"\",GetData!O86)","v":""},{"$f":"IF(GetData!AG86=\"\",\"\",GetData!AG86)","v":""},null,null,null,null,null,null,null,{"$f":"IF(GetData!P86=\"\",\"\",GetData!P86)","v":""},{"$f":"IF(GetData!AH86=\"\",\"\",GetData!AH86)","v":""}]
[null,null,null,null,null,null,null,null,null,{"$f":"IF(GetData!Q87=\"\",\"\",GetData!Q87)","v":""},{"$f":"IF(GetData!AI87=\"\",\"\",GetData!AI87)","v":""},null,null,null,null,null,null,null,{"$f":"IF(GetData!O87=\"\",\"\",GetData!O87)","v":""},{"$f":"IF(GetData!AG87=\"\",\"\",GetData!AG87)","v":""},null,null,null,null,null,null,null,{"$f":"IF(GetData!P87=\"\",\"\",GetData!P87)","v":""},{"$f":"IF(GetData!AH87=\"\",\"\",GetData!AH87)","v":""}]
[null,null,null,null,null,null,null,null,null,{"$f":"IF(GetData!Q88=\"\",\"\",GetData!Q88)","v":""},{"$f":"IF(GetData!AI88=\"\",\"\",GetData!AI88)","v":""},null,null,null,null,null,null,null,{"$f":"IF(GetData!O88=\"\",\"\",GetData!O88)","v":""},{"$f":"IF(GetData!AG88=\"\",\"\",GetData!AG88)","v":""},null,null,null,null,null,null,null,{"$f":"IF(GetData!P88=\"\",\"\",GetData!P88)","v":""},{"$f":"IF(GetData!AH88=\"\",\"\",GetData!AH88)","v":""}]
[null,null,null,null,null,null,null,null,null,{"$f":"IF(GetData!Q89=\"\",\"\",GetData!Q89)","v":""},{"$f":"IF(GetData!AI89=\"\",\"\",GetData!AI89)","v":""},null,null,null,null,null,null,null,{"$f":"IF(GetData!O89=\"\",\"\",GetData!O89)","v":""},{"$f":"IF(GetData!AG89=\"\",\"\",GetData!AG89)","v":""},null,null,null,null,null,null,null,{"$f":"IF(GetData!P89=\"\",\"\",GetData!P89)","v":""},{"$f":"IF(GetData!AH89=\"\",\"\",GetData!AH89)","v":""}]
[null,null,null,null,null,null,null,null,null,{"$f":"IF(GetData!Q90=\"\",\"\",GetData!Q90)","v":""},{"$f":"IF(GetData!AI90=\"\",\"\",GetData!AI90)","v":""},null,null,null,null,null,null,null,{"$f":"IF(GetData!O90=\"\",\"\",GetData!O90)","v":""},{"$f":"IF(GetData!AG90=\"\",\"\",GetData!AG90)","v":""},null,null,null,null,null,null,null,{"$f":"IF(GetData!P90=\"\",\"\",GetData!P90)","v":""},{"$f":"IF(GetData!AH90=\"\",\"\",GetData!AH90)","v":""}]
[null,null,null,null,null,null,null,null,null,{"$f":"IF(GetData!Q91=\"\",\"\",GetData!Q91)","v":""},{"$f":"IF(GetData!AI91=\"\",\"\",GetData!AI91)","v":""},null,null,null,null,null,null,null,{"$f":"IF(GetData!O91=\"\",\"\",GetData!O91)","v":""},{"$f":"IF(GetData!AG91=\"\",\"\",GetData!AG91)","v":""},null,null,null,null,null,null,null,{"$f":"IF(GetData!P91=\"\",\"\",GetData!P91)","v":""},{"$f":"IF(GetData!AH91=\"\",\"\",GetData!AH91)","v":""}]
[null,null,null,null,null,null,null,null,null,{"$f":"IF(GetData!Q92=\"\",\"\",GetData!Q92)","v":""},{"$f":"IF(GetData!AI92=\"\",\"\",GetData!AI92)","v":""},null,null,null,null,null,null,null,{"$f":"IF(GetData!O92=\"\",\"\",GetData!O92)","v":""},{"$f":"IF(GetData!AG92=\"\",\"\",GetData!AG92)","v":""},null,null,null,null,null,null,null,{"$f":"IF(GetData!P92=\"\",\"\",GetData!P92)","v":""},{"$f":"IF(GetData!AH92=\"\",\"\",GetData!AH92)","v":""}]
[null,null,null,null,null,null,null,null,null,{"$f":"IF(GetData!Q93=\"\",\"\",GetData!Q93)","v":""},{"$f":"IF(GetData!AI93=\"\",\"\",GetData!AI93)","v":""},null,null,null,null,null,null,null,{"$f":"IF(GetData!O93=\"\",\"\",GetData!O93)","v":""},{"$f":"IF(GetData!AG93=\"\",\"\",GetData!AG93)","v":""},null,null,null,null,null,null,null,{"$f":"IF(GetData!P93=\"\",\"\",GetData!P93)","v":""},{"$f":"IF(GetData!AH93=\"\",\"\",GetData!AH93)","v":""}]
[null,null,null,null,null,null,null,null,null,{"$f":"IF(GetData!Q94=\"\",\"\",GetData!Q94)","v":""},{"$f":"IF(GetData!AI94=\"\",\"\",GetData!AI94)","v":""},null,null,null,null,null,null,null,{"$f":"IF(GetData!O94=\"\",\"\",GetData!O94)","v":""},{"$f":"IF(GetData!AG94=\"\",\"\",GetData!AG94)","v":""},null,null,null,null,null,null,null,{"$f":"IF(GetData!P94=\"\",\"\",GetData!P94)","v":""},{"$f":"IF(GetData!AH94=\"\",\"\",GetData!AH94)","v":""}]
[null,null,null,null,null,null,null,null,null,{"$f":"IF(GetData!Q95=\"\",\"\",GetData!Q95)","v":""},{"$f":"IF(GetData!AI95=\"\",\"\",GetData!AI95)","v":""},null,null,null,null,null,null,null,{"$f":"IF(GetData!O95=\"\",\"\",GetData!O95)","v":""},{"$f":"IF(GetData!AG95=\"\",\"\",GetData!AG95)","v":""},null,null,null,null,null,null,null,{"$f":"IF(GetData!P95=\"\",\"\",GetData!P95)","v":""},{"$f":"IF(GetData!AH95=\"\",\"\",GetData!AH95)","v":""}]
[null,null,null,null,null,null,null,null,null,{"$f":"IF(GetData!Q96=\"\",\"\",GetData!Q96)","v":""},{"$f":"IF(GetData!AI96=\"\",\"\",GetData!AI96)","v":""},null,null,null,null,null,null,null,{"$f":"IF(GetData!O96=\"\",\"\",GetData!O96)","v":""},{"$f":"IF(GetData!AG96=\"\",\"\",GetData!AG96)","v":""},null,null,null,null,null,null,null,{"$f":"IF(GetData!P96=\"\",\"\",GetData!P96)","v":""},{"$f":"IF(GetData!AH96=\"\",\"\",GetData!AH96)","v":""}]
[null,null,null,null,null,null,null,null,null,{"$f":"IF(GetData!Q97=\"\",\"\",GetData!Q97)","v":""},{"$f":"IF(GetData!AI97=\"\",\"\",GetData!AI97)","v":""},null,null,null,null,null,null,null,{"$f":"IF(GetData!O97=\"\",\"\",GetData!O97)","v":""},{"$f":"IF(GetData!AG97=\"\",\"\",GetData!AG97)","v":""},null,null,null,null,null,null,null,{"$f":"IF(GetData!P97=\"\",\"\",GetData!P97)","v":""},{"$f":"IF(GetData!AH97=\"\",\"\",GetData!AH97)","v":""}]
[null,null,null,null,null,null,null,null,null,{"$f":"IF(GetData!Q98=\"\",\"\",GetData!Q98)","v":""},{"$f":"IF(GetData!AI98=\"\",\"\",GetData!AI98)","v":""},null,null,null,null,null,null,null,{"$f":"IF(GetData!O98=\"\",\"\",GetData!O98)","v":""},{"$f":"IF(GetData!AG98=\"\",\"\",GetData!AG98)","v":""},null,null,null,null,null,null,null,{"$f":"IF(GetData!P98=\"\",\"\",GetData!P98)","v":""},{"$f":"IF(GetData!AH98=\"\",\"\",GetData!AH98)","v":""}]
[null,null,null,null,null,null,null,null,null,{"$f":"IF(GetData!Q99=\"\",\"\",GetData!Q99)","v":""},{"$f":"IF(GetData!AI99=\"\",\"\",GetData!AI99)","v":""},null,null,null,null,null,null,null,{"$f":"IF(GetData!O99=\"\",\"\",GetData!O99)","v":""},{"$f":"IF(GetData!AG99=\"\",\"\",GetData!AG99)","v":""},null,null,null,null,null,null,null,{"$f":"IF(GetData!P99=\"\",\"\",GetData!P99)","v":""},{"$f":"IF(GetData!AH99=\"\",\"\",GetData!AH99)","v":""}]
[null,null,null,null,null,null,null,null,null,{"$f":"IF(GetData!Q100=\"\",\"\",GetData!Q100)","v":""},{"$f":"IF(GetData!AI100=\"\",\"\",GetData!AI100)","v":""},null,null,null,null,null,null,null,{"$f":"IF(GetData!O100=\"\",\"\",GetData!O100)","v":""},{"$f":"IF(GetData!AG100=\"\",\"\",GetData!AG100)","v":""},null,null,null,null,null,null,null,{"$f":"IF(GetData!P100=\"\",\"\",GetData!P100)","v":""},{"$f":"IF(GetData!AH100=\"\",\"\",GetData!AH100)","v":""}]
[null,null,null,null,null,null,null,null,null,{"$f":"IF(GetData!Q101=\"\",\"\",GetData!Q101)","v":""},{"$f":"IF(GetData!AI101=\"\",\"\",GetData!AI101)","v":""},null,null,null,null,null,null,null,{"$f":"IF(GetData!O101=\"\",\"\",GetData!O101)","v":""},{"$f":"IF(GetData!AG101=\"\",\"\",GetData!AG101)","v":""},null,null,null,null,null,null,null,{"$f":"IF(GetData!P101=\"\",\"\",GetData!P101)","v":""},{"$f":"IF(GetData!AH101=\"\",\"\",GetData!AH101)","v":""}]
[null,null,null,null,null,null,null,null,null,{"$f":"IF(GetData!Q102=\"\",\"\",GetData!Q102)","v":""},{"$f":"IF(GetData!AI102=\"\",\"\",GetData!AI102)","v":""},null,null,null,null,null,null,null,{"$f":"IF(GetData!O102=\"\",\"\",GetData!O102)","v":""},{"$f":"IF(GetData!AG102=\"\",\"\",GetData!AG102)","v":""},null,null,null,null,null,null,null,{"$f":"IF(GetData!P102=\"\",\"\",GetData!P102)","v":""},{"$f":"IF(GetData!AH102=\"\",\"\",GetData!AH102)","v":""}]
[null,null,null,null,null,null,null,null,null,{"$f":"IF(GetData!Q103=\"\",\"\",GetData!Q103)","v":""},{"$f":"IF(GetData!AI103=\"\",\"\",GetData!AI103)","v":""},null,null,null,null,null,null,null,{"$f":"IF(GetData!O103=\"\",\"\",GetData!O103)","v":""},{"$f":"IF(GetData!AG103=\"\",\"\",GetData!AG103)","v":""},null,null,null,null,null,null,null,{"$f":"IF(GetData!P103=\"\",\"\",GetData!P103)","v":""},{"$f":"IF(GetData!AH103=\"\",\"\",GetData!AH103)","v":""}]
[null,null,null,null,null,null,null,null,null,{"$f":"IF(GetData!Q104=\"\",\"\",GetData!Q104)","v":""},{"$f":"IF(GetData!AI104=\"\",\"\",GetData!AI104)","v":""},null,null,null,null,null,null,null,{"$f":"IF(GetData!O104=\"\",\"\",GetData!O104)","v":""},{"$f":"IF(GetData!AG104=\"\",\"\",GetData!AG104)","v":""},null,null,null,null,null,null,null,{"$f":"IF(GetData!P104=\"\",\"\",GetData!P104)","v":""},{"$f":"IF(GetData!AH104=\"\",\"\",GetData!AH104)","v":""}]
[null,null,null,null,null,null,null,null,null,{"$f":"IF(GetData!Q105=\"\",\"\",GetData!Q105)","v":""},{"$f":"IF(GetData!AI105=\"\",\"\",GetData!AI105)","v":""},null,null,null,null,null,null,null,{"$f":"IF(GetData!O105=\"\",\"\",GetData!O105)","v":""},{"$f":"IF(GetData!AG105=\"\",\"\",GetData!AG105)","v":""},null,null,null,null,null,null,null,{"$f":"IF(GetData!P105=\"\",\"\",GetData!P105)","v":""},{"$f":"IF(GetData!AH105=\"\",\"\",GetData!AH105)","v":""}]
[null,null,null,null,null,null,null,null,null,{"$f":"IF(GetData!Q106=\"\",\"\",GetData!Q106)","v":""},{"$f":"IF(GetData!AI106=\"\",\"\",GetData!AI106)","v":""},null,null,null,null,null,null,null,{"$f":"IF(GetData!O106=\"\",\"\",GetData!O106)","v":""},{"$f":"IF(GetData!AG106=\"\",\"\",GetData!AG106)","v":""},null,null,null,null,null,null,null,{"$f":"IF(GetData!P106=\"\",\"\",GetData!P106)","v":""},{"$f":"IF(GetData!AH106=\"\",\"\",GetData!AH106)","v":""}]
[null,null,null,null,null,null,null,null,null,{"$f":"IF(GetData!Q107=\"\",\"\",GetData!Q107)","v":""},{"$f":"IF(GetData!AI107=\"\",\"\",GetData!AI107)","v":""},null,null,null,null,null,null,null,{"$f":"IF(GetData!O107=\"\",\"\",GetData!O107)","v":""},{"$f":"IF(GetData!AG107=\"\",\"\",GetData!AG107)","v":""},null,null,null,null,null,null,null,{"$f":"IF(GetData!P107=\"\",\"\",GetData!P107)","v":""},{"$f":"IF(GetData!AH107=\"\",\"\",GetData!AH107)","v":""}]
[null,null,null,null,null,null,null,null,null,{"$f":"IF(GetData!Q108=\"\",\"\",GetData!Q108)","v":""},{"$f":"IF(GetData!AI108=\"\",\"\",GetData!AI108)","v":""},null,null,null,null,null,null,null,{"$f":"IF(GetData!O108=\"\",\"\",GetData!O108)","v":""},{"$f":"IF(GetData!AG108=\"\",\"\",GetData!AG108)","v":""},null,null,null,null,null,null,null,{"$f":"IF(GetData!P108=\"\",\"\",GetData!P108)","v":""},{"$f":"IF(GetData!AH108=\"\",\"\",GetData!AH108)","v":""}]
[null,null,null,null,null,null,null,null,null,{"$f":"IF(GetData!Q109=\"\",\"\",GetData!Q109)","v":""},{"$f":"IF(GetData!AI109=\"\",\"\",GetData!AI109)","v":""},null,null,null,null,null,null,null,{"$f":"IF(GetData!O109=\"\",\"\",GetData!O109)","v":""},{"$f":"IF(GetData!AG109=\"\",\"\",GetData!AG109)","v":""},null,null,null,null,null,null,null,{"$f":"IF(GetData!P109=\"\",\"\",GetData!P109)","v":""},{"$f":"IF(GetData!AH109=\"\",\"\",GetData!AH109)","v":""}]
[null,null,null,null,null,null,null,null,null,{"$f":"IF(GetData!Q110=\"\",\"\",GetData!Q110)","v":""},{"$f":"IF(GetData!AI110=\"\",\"\",GetData!AI110)","v":""},null,null,null,null,null,null,null,{"$f":"IF(GetData!O110=\"\",\"\",GetData!O110)","v":""},{"$f":"IF(GetData!AG110=\"\",\"\",GetData!AG110)","v":""},null,null,null,null,null,null,null,{"$f":"IF(GetData!P110=\"\",\"\",GetData!P110)","v":""},{"$f":"IF(GetData!AH110=\"\",\"\",GetData!AH110)","v":""}]
[null,null,null,null,null,null,null,null,null,{"$f":"IF(GetData!Q111=\"\",\"\",GetData!Q111)","v":""},{"$f":"IF(GetData!AI111=\"\",\"\",GetData!AI111)","v":""},null,null,null,null,null,null,null,{"$f":"IF(GetData!O111=\"\",\"\",GetData!O111)","v":""},{"$f":"IF(GetData!AG111=\"\",\"\",GetData!AG111)","v":""},null,null,null,null,null,null,null,{"$f":"IF(GetData!P111=\"\",\"\",GetData!P111)","v":""},{"$f":"IF(GetData!AH111=\"\",\"\",GetData!AH111)","v":""}]
[null,null,null,null,null,null,null,null,null,{"$f":"IF(GetData!Q112=\"\",\"\",GetData!Q112)","v":""},{"$f":"IF(GetData!AI112=\"\",\"\",GetData!AI112)","v":""},null,null,null,null,null,null,null,{"$f":"IF(GetData!O112=\"\",\"\",GetData!O112)","v":""},{"$f":"IF(GetData!AG112=\"\",\"\",GetData!AG112)","v":""},null,null,null,null,null,null,null,{"$f":"IF(GetData!P112=\"\",\"\",GetData!P112)","v":""},{"$f":"IF(GetData!AH112=\"\",\"\",GetData!AH112)","v":""}]
[null,null,null,null,null,null,null,null,null,{"$f":"IF(GetData!Q113=\"\",\"\",GetData!Q113)","v":""},{"$f":"IF(GetData!AI113=\"\",\"\",GetData!AI113)","v":""},null,null,null,null,null,null,null,{"$f":"IF(GetData!O113=\"\",\"\",GetData!O113)","v":""},{"$f":"IF(GetData!AG113=\"\",\"\",GetData!AG113)","v":""},null,null,null,null,null,null,null,{"$f":"IF(GetData!P113=\"\",\"\",GetData!P113)","v":""},{"$f":"IF(GetData!AH113=\"\",\"\",GetData!AH113)","v":""}]
[null,null,null,null,null,null,null,null,null,{"$f":"IF(GetData!Q114=\"\",\"\",GetData!Q114)","v":""},{"$f":"IF(GetData!AI114=\"\",\"\",GetData!AI114)","v":""},null,null,null,null,null,null,null,{"$f":"IF(GetData!O114=\"\",\"\",GetData!O114)","v":""},{"$f":"IF(GetData!AG114=\"\",\"\",GetData!AG114)","v":""},null,null,null,null,null,null,null,{"$f":"IF(GetData!P114=\"\",\"\",GetData!P114)","v":""},{"$f":"IF(GetData!AH114=\"\",\"\",GetData!AH114)","v":""}]
[null,null,null,null,null,null,null,null,null,{"$f":"IF(GetData!Q115=\"\",\"\",GetData!Q115)","v":""},{"$f":"IF(GetData!AI115=\"\",\"\",GetData!AI115)","v":""},null,null,null,null,null,null,null,{"$f":"IF(GetData!O115=\"\",\"\",GetData!O115)","v":""},{"$f":"IF(GetData!AG115=\"\",\"\",GetData!AG115)","v":""},null,null,null,null,null,null,null,{"$f":"IF(GetData!P115=\"\",\"\",GetData!P115)","v":""},{"$f":"IF(GetData!AH115=\"\",\"\",GetData!AH115)","v":""}]
[null,null,null,null,null,null,null,null,null,{"$f":"IF(GetData!Q116=\"\",\"\",GetData!Q116)","v":""},{"$f":"IF(GetData!AI116=\"\",\"\",GetData!AI116)","v":""},null,null,null,null,null,null,null,{"$f":"IF(GetData!O116=\"\",\"\",GetData!O116)","v":""},{"$f":"IF(GetData!AG116=\"\",\"\",GetData!AG116)","v":""},null,null,null,null,null,null,null,{"$f":"IF(GetData!P116=\"\",\"\",GetData!P116)","v":""},{"$f":"IF(GetData!AH116=\"\",\"\",GetData!AH116)","v":""}]
[null,null,null,null,null,null,null,null,null,{"$f":"IF(GetData!Q117=\"\",\"\",GetData!Q117)","v":""},{"$f":"IF(GetData!AI117=\"\",\"\",GetData!AI117)","v":""},null,null,null,null,null,null,null,{"$f":"IF(GetData!O117=\"\",\"\",GetData!O117)","v":""},{"$f":"IF(GetData!AG117=\"\",\"\",GetData!AG117)","v":""},null,null,null,null,null,null,null,{"$f":"IF(GetData!P117=\"\",\"\",GetData!P117)","v":""},{"$f":"IF(GetData!AH117=\"\",\"\",GetData!AH117)","v":""}]
[null,null,null,null,null,null,null,null,null,{"$f":"IF(GetData!Q118=\"\",\"\",GetData!Q118)","v":""},{"$f":"IF(GetData!AI118=\"\",\"\",GetData!AI118)","v":""},null,null,null,null,null,null,null,{"$f":"IF(GetData!O118=\"\",\"\",GetData!O118)","v":""},{"$f":"IF(GetData!AG118=\"\",\"\",GetData!AG118)","v":""},null,null,null,null,null,null,null,{"$f":"IF(GetData!P118=\"\",\"\",GetData!P118)","v":""},{"$f":"IF(GetData!AH118=\"\",\"\",GetData!AH118)","v":""}]
[null,null,null,null,null,null,null,null,null,{"$f":"IF(GetData!Q119=\"\",\"\",GetData!Q119)","v":""},{"$f":"IF(GetData!AI119=\"\",\"\",GetData!AI119)","v":""},null,null,null,null,null,null,null,{"$f":"IF(GetData!O119=\"\",\"\",GetData!O119)","v":""},{"$f":"IF(GetData!AG119=\"\",\"\",GetData!AG119)","v":""},null,null,null,null,null,null,null,{"$f":"IF(GetData!P119=\"\",\"\",GetData!P119)","v":""},{"$f":"IF(GetData!AH119=\"\",\"\",GetData!AH119)","v":""}]
[null,null,null,null,null,null,null,null,null,{"$f":"IF(GetData!Q120=\"\",\"\",GetData!Q120)","v":""},{"$f":"IF(GetData!AI120=\"\",\"\",GetData!AI120)","v":""},null,null,null,null,null,null,null,{"$f":"IF(GetData!O120=\"\",\"\",GetData!O120)","v":""},{"$f":"IF(GetData!AG120=\"\",\"\",GetData!AG120)","v":""},null,null,null,null,null,null,null,{"$f":"IF(GetData!P120=\"\",\"\",GetData!P120)","v":""},{"$f":"IF(GetData!AH120=\"\",\"\",GetData!AH120)","v":""}]
[null,null,null,null,null,null,null,null,null,{"$f":"IF(GetData!Q121=\"\",\"\",GetData!Q121)","v":""},{"$f":"IF(GetData!AI121=\"\",\"\",GetData!AI121)","v":""},null,null,null,null,null,null,null,{"$f":"IF(GetData!O121=\"\",\"\",GetData!O121)","v":""},{"$f":"IF(GetData!AG121=\"\",\"\",GetData!AG121)","v":""},null,null,null,null,null,null,null,{"$f":"IF(GetData!P121=\"\",\"\",GetData!P121)","v":""},{"$f":"IF(GetData!AH121=\"\",\"\",GetData!AH121)","v":""}]
[null,null,null,null,null,null,null,null,null,{"$f":"IF(GetData!Q122=\"\",\"\",GetData!Q122)","v":""},{"$f":"IF(GetData!AI122=\"\",\"\",GetData!AI122)","v":""},null,null,null,null,null,null,null,{"$f":"IF(GetData!O122=\"\",\"\",GetData!O122)","v":""},{"$f":"IF(GetData!AG122=\"\",\"\",GetData!AG122)","v":""},null,null,null,null,null,null,null,{"$f":"IF(GetData!P122=\"\",\"\",GetData!P122)","v":""},{"$f":"IF(GetData!AH122=\"\",\"\",GetData!AH122)","v":""}]
[null,null,null,null,null,null,null,null,null,{"$f":"IF(GetData!Q123=\"\",\"\",GetData!Q123)","v":""},{"$f":"IF(GetData!AI123=\"\",\"\",GetData!AI123)","v":""},null,null,null,null,null,null,null,{"$f":"IF(GetData!O123=\"\",\"\",GetData!O123)","v":""},{"$f":"IF(GetData!AG123=\"\",\"\",GetData!AG123)","v":""},null,null,null,null,null,null,null,{"$f":"IF(GetData!P123=\"\",\"\",GetData!P123)","v":""},{"$f":"IF(GetData!AH123=\"\",\"\",GetData!AH123)","v":""}]
[null,null,null,null,null,null,null,null,null,{"$f":"IF(GetData!Q124=\"\",\"\",GetData!Q124)","v":""},{"$f":"IF(GetData!AI124=\"\",\"\",GetData!AI124)","v":""},null,null,null,null,null,null,null,{"$f":"IF(GetData!O124=\"\",\"\",GetData!O124)","v":""},{"$f":"IF(GetData!AG124=\"\",\"\",GetData!AG124)","v":""},null,null,null,null,null,null,null,{"$f":"IF(GetData!P124=\"\",\"\",GetData!P124)","v":""},{"$f":"IF(GetData!AH124=\"\",\"\",GetData!AH124)","v":""}]
[null,null,null,null,null,null,null,null,null,{"$f":"IF(GetData!Q125=\"\",\"\",GetData!Q125)","v":""},{"$f":"IF(GetData!AI125=\"\",\"\",GetData!AI125)","v":""},null,null,null,null,null,null,null,{"$f":"IF(GetData!O125=\"\",\"\",GetData!O125)","v":""},{"$f":"IF(GetData!AG125=\"\",\"\",GetData!AG125)","v":""},null,null,null,null,null,null,null,{"$f":"IF(GetData!P125=\"\",\"\",GetData!P125)","v":""},{"$f":"IF(GetData!AH125=\"\",\"\",GetData!AH125)","v":""}]
[null,null,null,null,null,null,null,null,null,{"$f":"IF(GetData!Q126=\"\",\"\",GetData!Q126)","v":""},{"$f":"IF(GetData!AI126=\"\",\"\",GetData!AI126)","v":""},null,null,null,null,null,null,null,{"$f":"IF(GetData!O126=\"\",\"\",GetData!O126)","v":""},{"$f":"IF(GetData!AG126=\"\",\"\",GetData!AG126)","v":""},null,null,null,null,null,null,null,{"$f":"IF(GetData!P126=\"\",\"\",GetData!P126)","v":""},{"$f":"IF(GetData!AH126=\"\",\"\",GetData!AH126)","v":""}]
[null,null,null,null,null,null,null,null,null,{"$f":"IF(GetData!Q127=\"\",\"\",GetData!Q127)","v":""},{"$f":"IF(GetData!AI127=\"\",\"\",GetData!AI127)","v":""},null,null,null,null,null,null,null,{"$f":"IF(GetData!O127=\"\",\"\",GetData!O127)","v":""},{"$f":"IF(GetData!AG127=\"\",\"\",GetData!AG127)","v":""},null,null,null,null,null,null,null,{"$f":"IF(GetData!P127=\"\",\"\",GetData!P127)","v":""},{"$f":"IF(GetData!AH127=\"\",\"\",GetData!AH127)","v":""}]
[null,null,null,null,null,null,null,null,null,{"$f":"IF(GetData!Q128=\"\",\"\",GetData!Q128)","v":""},{"$f":"IF(GetData!AI128=\"\",\"\",GetData!AI128)","v":""},null,null,null,null,null,null,null,{"$f":"IF(GetData!O128=\"\",\"\",GetData!O128)","v":""},{"$f":"IF(GetData!AG128=\"\",\"\",GetData!AG128)","v":""},null,null,null,null,null,null,null,{"$f":"IF(GetData!P128=\"\",\"\",GetData!P128)","v":""},{"$f":"IF(GetData!AH128=\"\",\"\",GetData!AH128)","v":""}]
[null,null,null,null,null,null,null,null,null,{"$f":"IF(GetData!Q129=\"\",\"\",GetData!Q129)","v":""},{"$f":"IF(GetData!AI129=\"\",\"\",GetData!AI129)","v":""},null,null,null,null,null,null,null,{"$f":"IF(GetData!O129=\"\",\"\",GetData!O129)","v":""},{"$f":"IF(GetData!AG129=\"\",\"\",GetData!AG129)","v":""},null,null,null,null,null,null,null,{"$f":"IF(GetData!P129=\"\",\"\",GetData!P129)","v":""},{"$f":"IF(GetData!AH129=\"\",\"\",GetData!AH129)","v":""}]
[null,null,null,null,null,null,null,null,null,{"$f":"IF(GetData!Q130=\"\",\"\",GetData!Q130)","v":""},{"$f":"IF(GetData!AI130=\"\",\"\",GetData!AI130)","v":""},null,null,null,null,null,null,null,{"$f":"IF(GetData!O130=\"\",\"\",GetData!O130)","v":""},{"$f":"IF(GetData!AG130=\"\",\"\",GetData!AG130)","v":""},null,null,null,null,null,null,null,{"$f":"IF(GetData!P130=\"\",\"\",GetData!P130)","v":""},{"$f":"IF(GetData!AH130=\"\",\"\",GetData!AH130)","v":""}]
[null,null,null,null,null,null,null,null,null,{"$f":"IF(GetData!Q131=\"\",\"\",GetData!Q131)","v":""},{"$f":"IF(GetData!AI131=\"\",\"\",GetData!AI131)","v":""},null,null,null,null,null,null,null,{"$f":"IF(GetData!O131=\"\",\"\",GetData!O131)","v":""},{"$f":"IF(GetData!AG131=\"\",\"\",GetData!AG131)","v":""},null,null,null,null,null,null,null,{"$f":"IF(GetData!P131=\"\",\"\",GetData!P131)","v":""},{"$f":"IF(GetData!AH131=\"\",\"\",GetData!AH131)","v":""}]
[null,null,null,null,null,null,null,null,null,{"$f":"IF(GetData!Q132=\"\",\"\",GetData!Q132)","v":""},{"$f":"IF(GetData!AI132=\"\",\"\",GetData!AI132)","v":""},null,null,null,null,null,null,null,{"$f":"IF(GetData!O132=\"\",\"\",GetData!O132)","v":""},{"$f":"IF(GetData!AG132=\"\",\"\",GetData!AG132)","v":""},null,null,null,null,null,null,null,{"$f":"IF(GetData!P132=\"\",\"\",GetData!P132)","v":""},{"$f":"IF(GetData!AH132=\"\",\"\",GetData!AH132)","v":""}]
[null,null,null,null,null,null,null,null,null,{"$f":"IF(GetData!Q133=\"\",\"\",GetData!Q133)","v":""},{"$f":"IF(GetData!AI133=\"\",\"\",GetData!AI133)","v":""},null,null,null,null,null,null,null,{"$f":"IF(GetData!O133=\"\",\"\",GetData!O133)","v":""},{"$f":"IF(GetData!AG133=\"\",\"\",GetData!AG133)","v":""},null,null,null,null,null,null,null,{"$f":"IF(GetData!P133=\"\",\"\",GetData!P133)","v":""},{"$f":"IF(GetData!AH133=\"\",\"\",GetData!AH133)","v":""}]
[null,null,null,null,null,null,null,null,null,{"$f":"IF(GetData!Q134=\"\",\"\",GetData!Q134)","v":""},{"$f":"IF(GetData!AI134=\"\",\"\",GetData!AI134)","v":""},null,null,null,null,null,null,null,{"$f":"IF(GetData!O134=\"\",\"\",GetData!O134)","v":""},{"$f":"IF(GetData!AG134=\"\",\"\",GetData!AG134)","v":""},null,null,null,null,null,null,null,{"$f":"IF(GetData!P134=\"\",\"\",GetData!P134)","v":""},{"$f":"IF(GetData!AH134=\"\",\"\",GetData!AH134)","v":""}]
[null,null,null,null,null,null,null,null,null,{"$f":"IF(GetData!Q135=\"\",\"\",GetData!Q135)","v":""},{"$f":"IF(GetData!AI135=\"\",\"\",GetData!AI135)","v":""},null,null,null,null,null,null,null,{"$f":"IF(GetData!O135=\"\",\"\",GetData!O135)","v":""},{"$f":"IF(GetData!AG135=\"\",\"\",GetData!AG135)","v":""},null,null,null,null,null,null,null,{"$f":"IF(GetData!P135=\"\",\"\",GetData!P135)","v":""},{"$f":"IF(GetData!AH135=\"\",\"\",GetData!AH135)","v":""}]
[null,null,null,null,null,null,null,null,null,{"$f":"IF(GetData!Q136=\"\",\"\",GetData!Q136)","v":""},{"$f":"IF(GetData!AI136=\"\",\"\",GetData!AI136)","v":""},null,null,null,null,null,null,null,{"$f":"IF(GetData!O136=\"\",\"\",GetData!O136)","v":""},{"$f":"IF(GetData!AG136=\"\",\"\",GetData!AG136)","v":""},null,null,null,null,null,null,null,{"$f":"IF(GetData!P136=\"\",\"\",GetData!P136)","v":""},{"$f":"IF(GetData!AH136=\"\",\"\",GetData!AH136)","v":""}]
[null,null,null,null,null,null,null,null,null,{"$f":"IF(GetData!Q137=\"\",\"\",GetData!Q137)","v":""},{"$f":"IF(GetData!AI137=\"\",\"\",GetData!AI137)","v":""},null,null,null,null,null,null,null,{"$f":"IF(GetData!O137=\"\",\"\",GetData!O137)","v":""},{"$f":"IF(GetData!AG137=\"\",\"\",GetData!AG137)","v":""},null,null,null,null,null,null,null,{"$f":"IF(GetData!P137=\"\",\"\",GetData!P137)","v":""},{"$f":"IF(GetData!AH137=\"\",\"\",GetData!AH137)","v":""}]
[null,null,null,null,null,null,null,null,null,{"$f":"IF(GetData!Q138=\"\",\"\",GetData!Q138)","v":""},{"$f":"IF(GetData!AI138=\"\",\"\",GetData!AI138)","v":""},null,null,null,null,null,null,null,{"$f":"IF(GetData!O138=\"\",\"\",GetData!O138)","v":""},{"$f":"IF(GetData!AG138=\"\",\"\",GetData!AG138)","v":""},null,null,null,null,null,null,null,{"$f":"IF(GetData!P138=\"\",\"\",GetData!P138)","v":""},{"$f":"IF(GetData!AH138=\"\",\"\",GetData!AH138)","v":""}]
[null,null,null,null,null,null,null,null,null,{"$f":"IF(GetData!Q139=\"\",\"\",GetData!Q139)","v":""},{"$f":"IF(GetData!AI139=\"\",\"\",GetData!AI139)","v":""},null,null,null,null,null,null,null,{"$f":"IF(GetData!O139=\"\",\"\",GetData!O139)","v":""},{"$f":"IF(GetData!AG139=\"\",\"\",GetData!AG139)","v":""},null,null,null,null,null,null,null,{"$f":"IF(GetData!P139=\"\",\"\",GetData!P139)","v":""},{"$f":"IF(GetData!AH139=\"\",\"\",GetData!AH139)","v":""}]
[null,null,null,null,null,null,null,null,null,{"$f":"IF(GetData!Q140=\"\",\"\",GetData!Q140)","v":""},{"$f":"IF(GetData!AI140=\"\",\"\",GetData!AI140)","v":""},null,null,null,null,null,null,null,{"$f":"IF(GetData!O140=\"\",\"\",GetData!O140)","v":""},{"$f":"IF(GetData!AG140=\"\",\"\",GetData!AG140)","v":""},null,null,null,null,null,null,null,{"$f":"IF(GetData!P140=\"\",\"\",GetData!P140)","v":""},{"$f":"IF(GetData!AH140=\"\",\"\",GetData!AH140)","v":""}]
[null,null,null,null,null,null,null,null,null,{"$f":"IF(GetData!Q141=\"\",\"\",GetData!Q141)","v":""},{"$f":"IF(GetData!AI141=\"\",\"\",GetData!AI141)","v":""},null,null,null,null,null,null,null,{"$f":"IF(GetData!O141=\"\",\"\",GetData!O141)","v":""},{"$f":"IF(GetData!AG141=\"\",\"\",GetData!AG141)","v":""},null,null,null,null,null,null,null,{"$f":"IF(GetData!P141=\"\",\"\",GetData!P141)","v":""},{"$f":"IF(GetData!AH141=\"\",\"\",GetData!AH141)","v":""}]
[null,null,null,null,null,null,null,null,null,{"$f":"IF(GetData!Q142=\"\",\"\",GetData!Q142)","v":""},{"$f":"IF(GetData!AI142=\"\",\"\",GetData!AI142)","v":""},null,null,null,null,null,null,null,{"$f":"IF(GetData!O142=\"\",\"\",GetData!O142)","v":""},{"$f":"IF(GetData!AG142=\"\",\"\",GetData!AG142)","v":""},null,null,null,null,null,null,null,{"$f":"IF(GetData!P142=\"\",\"\",GetData!P142)","v":""},{"$f":"IF(GetData!AH142=\"\",\"\",GetData!AH142)","v":""}]
[null,null,null,null,null,null,null,null,null,{"$f":"IF(GetData!Q143=\"\",\"\",GetData!Q143)","v":""},{"$f":"IF(GetData!AI143=\"\",\"\",GetData!AI143)","v":""},null,null,null,null,null,null,null,{"$f":"IF(GetData!O143=\"\",\"\",GetData!O143)","v":""},{"$f":"IF(GetData!AG143=\"\",\"\",GetData!AG143)","v":""},null,null,null,null,null,null,null,{"$f":"IF(GetData!P143=\"\",\"\",GetData!P143)","v":""},{"$f":"IF(GetData!AH143=\"\",\"\",GetData!AH143)","v":""}]
[null,null,null,null,null,null,null,null,null,{"$f":"IF(GetData!Q144=\"\",\"\",GetData!Q144)","v":""},{"$f":"IF(GetData!AI144=\"\",\"\",GetData!AI144)","v":""},null,null,null,null,null,null,null,{"$f":"IF(GetData!O144=\"\",\"\",GetData!O144)","v":""},{"$f":"IF(GetData!AG144=\"\",\"\",GetData!AG144)","v":""},null,null,null,null,null,null,null,{"$f":"IF(GetData!P144=\"\",\"\",GetData!P144)","v":""},{"$f":"IF(GetData!AH144=\"\",\"\",GetData!AH144)","v":""}]
[null,null,null,null,null,null,null,null,null,{"$f":"IF(GetData!Q145=\"\",\"\",GetData!Q145)","v":""},{"$f":"IF(GetData!AI145=\"\",\"\",GetData!AI145)","v":""},null,null,null,null,null,null,null,{"$f":"IF(GetData!O145=\"\",\"\",GetData!O145)","v":""},{"$f":"IF(GetData!AG145=\"\",\"\",GetData!AG145)","v":""},null,null,null,null,null,null,null,{"$f":"IF(GetData!P145=\"\",\"\",GetData!P145)","v":""},{"$f":"IF(GetData!AH145=\"\",\"\",GetData!AH145)","v":""}]
[null,null,null,null,null,null,null,null,null,{"$f":"IF(GetData!Q146=\"\",\"\",GetData!Q146)","v":""},{"$f":"IF(GetData!AI146=\"\",\"\",GetData!AI146)","v":""},null,null,null,null,null,null,null,{"$f":"IF(GetData!O146=\"\",\"\",GetData!O146)","v":""},{"$f":"IF(GetData!AG146=\"\",\"\",GetData!AG146)","v":""},null,null,null,null,null,null,null,{"$f":"IF(GetData!P146=\"\",\"\",GetData!P146)","v":""},{"$f":"IF(GetData!AH146=\"\",\"\",GetData!AH146)","v":""}]
[null,null,null,null,null,null,null,null,null,{"$f":"IF(GetData!Q147=\"\",\"\",GetData!Q147)","v":""},{"$f":"IF(GetData!AI147=\"\",\"\",GetData!AI147)","v":""},null,null,null,null,null,null,null,{"$f":"IF(GetData!O147=\"\",\"\",GetData!O147)","v":""},{"$f":"IF(GetData!AG147=\"\",\"\",GetData!AG147)","v":""},null,null,null,null,null,null,null,{"$f":"IF(GetData!P147=\"\",\"\",GetData!P147)","v":""},{"$f":"IF(GetData!AH147=\"\",\"\",GetData!AH147)","v":""}]
[null,null,null,null,null,null,null,null,null,{"$f":"IF(GetData!Q148=\"\",\"\",GetData!Q148)","v":""},{"$f":"IF(GetData!AI148=\"\",\"\",GetData!AI148)","v":""},null,null,null,null,null,null,null,{"$f":"IF(GetData!O148=\"\",\"\",GetData!O148)","v":""},{"$f":"IF(GetData!AG148=\"\",\"\",GetData!AG148)","v":""},null,null,null,null,null,null,null,{"$f":"IF(GetData!P148=\"\",\"\",GetData!P148)","v":""},{"$f":"IF(GetData!AH148=\"\",\"\",GetData!AH148)","v":""}]
[null,null,null,null,null,null,null,null,null,{"$f":"IF(GetData!Q149=\"\",\"\",GetData!Q149)","v":""},{"$f":"IF(GetData!AI149=\"\",\"\",GetData!AI149)","v":""},null,null,null,null,null,null,null,{"$f":"IF(GetData!O149=\"\",\"\",GetData!O149)","v":""},{"$f":"IF(GetData!AG149=\"\",\"\",GetData!AG149)","v":""},null,null,null,null,null,null,null,{"$f":"IF(GetData!P149=\"\",\"\",GetData!P149)","v":""},{"$f":"IF(GetData!AH149=\"\",\"\",GetData!AH149)","v":""}]
[null,null,null,null,null,null,null,null,null,{"$f":"IF(GetData!Q150=\"\",\"\",GetData!Q150)","v":""},{"$f":"IF(GetData!AI150=\"\",\"\",GetData!AI150)","v":""},null,null,null,null,null,null,null,{"$f":"IF(GetData!O150=\"\",\"\",GetData!O150)","v":""},{"$f":"IF(GetData!AG150=\"\",\"\",GetData!AG150)","v":""},null,null,null,null,null,null,null,{"$f":"IF(GetData!P150=\"\",\"\",GetData!P150)","v":""},{"$f":"IF(GetData!AH150=\"\",\"\",GetData!AH150)","v":""}]
[null,null,null,null,null,null,null,null,null,{"$f":"IF(GetData!Q151=\"\",\"\",GetData!Q151)","v":""},{"$f":"IF(GetData!AI151=\"\",\"\",GetData!AI151)","v":""},null,null,null,null,null,null,null,{"$f":"IF(GetData!O151=\"\",\"\",GetData!O151)","v":""},{"$f":"IF(GetData!AG151=\"\",\"\",GetData!AG151)","v":""},null,null,null,null,null,null,null,{"$f":"IF(GetData!P151=\"\",\"\",GetData!P151)","v":""},{"$f":"IF(GetData!AH151=\"\",\"\",GetData!AH151)","v":""}]
[null,null,null,null,null,null,null,null,null,{"$f":"IF(GetData!Q152=\"\",\"\",GetData!Q152)","v":""},{"$f":"IF(GetData!AI152=\"\",\"\",GetData!AI152)","v":""},null,null,null,null,null,null,null,{"$f":"IF(GetData!O152=\"\",\"\",GetData!O152)","v":""},{"$f":"IF(GetData!AG152=\"\",\"\",GetData!AG152)","v":""},null,null,null,null,null,null,null,{"$f":"IF(GetData!P152=\"\",\"\",GetData!P152)","v":""},{"$f":"IF(GetData!AH152=\"\",\"\",GetData!AH152)","v":""}]
[null,null,null,null,null,null,null,null,null,{"$f":"IF(GetData!Q153=\"\",\"\",GetData!Q153)","v":""},{"$f":"IF(GetData!AI153=\"\",\"\",GetData!AI153)","v":""},null,null,null,null,null,null,null,{"$f":"IF(GetData!O153=\"\",\"\",GetData!O153)","v":""},{"$f":"IF(GetData!AG153=\"\",\"\",GetData!AG153)","v":""},null,null,null,null,null,null,null,{"$f":"IF(GetData!P153=\"\",\"\",GetData!P153)","v":""},{"$f":"IF(GetData!AH153=\"\",\"\",GetData!AH153)","v":""}]
[null,null,null,null,null,null,null,null,null,{"$f":"IF(GetData!Q154=\"\",\"\",GetData!Q154)","v":""},{"$f":"IF(GetData!AI154=\"\",\"\",GetData!AI154)","v":""},null,null,null,null,null,null,null,{"$f":"IF(GetData!O154=\"\",\"\",GetData!O154)","v":""},{"$f":"IF(GetData!AG154=\"\",\"\",GetData!AG154)","v":""},null,null,null,null,null,null,null,{"$f":"IF(GetData!P154=\"\",\"\",GetData!P154)","v":""},{"$f":"IF(GetData!AH154=\"\",\"\",GetData!AH154)","v":""}]
[null,null,null,null,null,null,null,null,null,{"$f":"IF(GetData!Q155=\"\",\"\",GetData!Q155)","v":""},{"$f":"IF(GetData!AI155=\"\",\"\",GetData!AI155)","v":""},null,null,null,null,null,null,null,{"$f":"IF(GetData!O155=\"\",\"\",GetData!O155)","v":""},{"$f":"IF(GetData!AG155=\"\",\"\",GetData!AG155)","v":""},null,null,null,null,null,null,null,{"$f":"IF(GetData!P155=\"\",\"\",GetData!P155)","v":""},{"$f":"IF(GetData!AH155=\"\",\"\",GetData!AH155)","v":""}]
[null,null,null,null,null,null,null,null,null,{"$f":"IF(GetData!Q156=\"\",\"\",GetData!Q156)","v":""},{"$f":"IF(GetData!AI156=\"\",\"\",GetData!AI156)","v":""},null,null,null,null,null,null,null,{"$f":"IF(GetData!O156=\"\",\"\",GetData!O156)","v":""},{"$f":"IF(GetData!AG156=\"\",\"\",GetData!AG156)","v":""},null,null,null,null,null,null,null,{"$f":"IF(GetData!P156=\"\",\"\",GetData!P156)","v":""},{"$f":"IF(GetData!AH156=\"\",\"\",GetData!AH156)","v":""}]
[null,null,null,null,null,null,null,null,null,{"$f":"IF(GetData!Q157=\"\",\"\",GetData!Q157)","v":""},{"$f":"IF(GetData!AI157=\"\",\"\",GetData!AI157)","v":""},null,null,null,null,null,null,null,{"$f":"IF(GetData!O157=\"\",\"\",GetData!O157)","v":""},{"$f":"IF(GetData!AG157=\"\",\"\",GetData!AG157)","v":""},null,null,null,null,null,null,null,{"$f":"IF(GetData!P157=\"\",\"\",GetData!P157)","v":""},{"$f":"IF(GetData!AH157=\"\",\"\",GetData!AH157)","v":""}]
[null,null,null,null,null,null,null,null,null,{"$f":"IF(GetData!Q158=\"\",\"\",GetData!Q158)","v":""},{"$f":"IF(GetData!AI158=\"\",\"\",GetData!AI158)","v":""},null,null,null,null,null,null,null,{"$f":"IF(GetData!O158=\"\",\"\",GetData!O158)","v":""},{"$f":"IF(GetData!AG158=\"\",\"\",GetData!AG158)","v":""},null,null,null,null,null,null,null,{"$f":"IF(GetData!P158=\"\",\"\",GetData!P158)","v":""},{"$f":"IF(GetData!AH158=\"\",\"\",GetData!AH158)","v":""}]
[null,null,null,null,null,null,null,null,null,{"$f":"IF(GetData!Q159=\"\",\"\",GetData!Q159)","v":""},{"$f":"IF(GetData!AI159=\"\",\"\",GetData!AI159)","v":""},null,null,null,null,null,null,null,{"$f":"IF(GetData!O159=\"\",\"\",GetData!O159)","v":""},{"$f":"IF(GetData!AG159=\"\",\"\",GetData!AG159)","v":""},null,null,null,null,null,null,null,{"$f":"IF(GetData!P159=\"\",\"\",GetData!P159)","v":""},{"$f":"IF(GetData!AH159=\"\",\"\",GetData!AH159)","v":""}]
[null,null,null,null,null,null,null,null,null,{"$f":"IF(GetData!Q160=\"\",\"\",GetData!Q160)","v":""},{"$f":"IF(GetData!AI160=\"\",\"\",GetData!AI160)","v":""},null,null,null,null,null,null,null,{"$f":"IF(GetData!O160=\"\",\"\",GetData!O160)","v":""},{"$f":"IF(GetData!AG160=\"\",\"\",GetData!AG160)","v":""},null,null,null,null,null,null,null,{"$f":"IF(GetData!P160=\"\",\"\",GetData!P160)","v":""},{"$f":"IF(GetData!AH160=\"\",\"\",GetData!AH160)","v":""}]
[null,null,null,null,null,null,null,null,null,{"$f":"IF(GetData!Q161=\"\",\"\",GetData!Q161)","v":""},{"$f":"IF(GetData!AI161=\"\",\"\",GetData!AI161)","v":""},null,null,null,null,null,null,null,{"$f":"IF(GetData!O161=\"\",\"\",GetData!O161)","v":""},{"$f":"IF(GetData!AG161=\"\",\"\",GetData!AG161)","v":""},null,null,null,null,null,null,null,{"$f":"IF(GetData!P161=\"\",\"\",GetData!P161)","v":""},{"$f":"IF(GetData!AH161=\"\",\"\",GetData!AH161)","v":""}]
[null,null,null,null,null,null,null,null,null,{"$f":"IF(GetData!Q162=\"\",\"\",GetData!Q162)","v":""},{"$f":"IF(GetData!AI162=\"\",\"\",GetData!AI162)","v":""},null,null,null,null,null,null,null,{"$f":"IF(GetData!O162=\"\",\"\",GetData!O162)","v":""},{"$f":"IF(GetData!AG162=\"\",\"\",GetData!AG162)","v":""},null,null,null,null,null,null,null,{"$f":"IF(GetData!P162=\"\",\"\",GetData!P162)","v":""},{"$f":"IF(GetData!AH162=\"\",\"\",GetData!AH162)","v":""}]
[null,null,null,null,null,null,null,null,null,{"$f":"IF(GetData!Q163=\"\",\"\",GetData!Q163)","v":""},{"$f":"IF(GetData!AI163=\"\",\"\",GetData!AI163)","v":""},null,null,null,null,null,null,null,{"$f":"IF(GetData!O163=\"\",\"\",GetData!O163)","v":""},{"$f":"IF(GetData!AG163=\"\",\"\",GetData!AG163)","v":""},null,null,null,null,null,null,null,{"$f":"IF(GetData!P163=\"\",\"\",GetData!P163)","v":""},{"$f":"IF(GetData!AH163=\"\",\"\",GetData!AH163)","v":""}]
[null,null,null,null,null,null,null,null,null,{"$f":"IF(GetData!Q164=\"\",\"\",GetData!Q164)","v":""},{"$f":"IF(GetData!AI164=\"\",\"\",GetData!AI164)","v":""},null,null,null,null,null,null,null,{"$f":"IF(GetData!O164=\"\",\"\",GetData!O164)","v":""},{"$f":"IF(GetData!AG164=\"\",\"\",GetData!AG164)","v":""},null,null,null,null,null,null,null,{"$f":"IF(GetData!P164=\"\",\"\",GetData!P164)","v":""},{"$f":"IF(GetData!AH164=\"\",\"\",GetData!AH164)","v":""}]
[null,null,null,null,null,null,null,null,null,{"$f":"IF(GetData!Q165=\"\",\"\",GetData!Q165)","v":""},{"$f":"IF(GetData!AI165=\"\",\"\",GetData!AI165)","v":""},null,null,null,null,null,null,null,{"$f":"IF(GetData!O165=\"\",\"\",GetData!O165)","v":""},{"$f":"IF(GetData!AG165=\"\",\"\",GetData!AG165)","v":""},null,null,null,null,null,null,null,{"$f":"IF(GetData!P165=\"\",\"\",GetData!P165)","v":""},{"$f":"IF(GetData!AH165=\"\",\"\",GetData!AH165)","v":""}]
[null,null,null,null,null,null,null,null,null,{"$f":"IF(GetData!Q166=\"\",\"\",GetData!Q166)","v":""},{"$f":"IF(GetData!AI166=\"\",\"\",GetData!AI166)","v":""},null,null,null,null,null,null,null,{"$f":"IF(GetData!O166=\"\",\"\",GetData!O166)","v":""},{"$f":"IF(GetData!AG166=\"\",\"\",GetData!AG166)","v":""},null,null,null,null,null,null,null,{"$f":"IF(GetData!P166=\"\",\"\",GetData!P166)","v":""},{"$f":"IF(GetData!AH166=\"\",\"\",GetData!AH166)","v":""}]
[null,null,null,null,null,null,null,null,null,{"$f":"IF(GetData!Q167=\"\",\"\",GetData!Q167)","v":""},{"$f":"IF(GetData!AI167=\"\",\"\",GetData!AI167)","v":""},null,null,null,null,null,null,null,{"$f":"IF(GetData!O167=\"\",\"\",GetData!O167)","v":""},{"$f":"IF(GetData!AG167=\"\",\"\",GetData!AG167)","v":""},null,null,null,null,null,null,null,{"$f":"IF(GetData!P167=\"\",\"\",GetData!P167)","v":""},{"$f":"IF(GetData!AH167=\"\",\"\",GetData!AH167)","v":""}]
[null,null,null,null,null,null,null,null,null,{"$f":"IF(GetData!Q168=\"\",\"\",GetData!Q168)","v":""},{"$f":"IF(GetData!AI168=\"\",\"\",GetData!AI168)","v":""},null,null,null,null,null,null,null,{"$f":"IF(GetData!O168=\"\",\"\",GetData!O168)","v":""},{"$f":"IF(GetData!AG168=\"\",\"\",GetData!AG168)","v":""},null,null,null,null,null,null,null,{"$f":"IF(GetData!P168=\"\",\"\",GetData!P168)","v":""},{"$f":"IF(GetData!AH168=\"\",\"\",GetData!AH168)","v":""}]
[null,null,null,null,null,null,null,null,null,{"$f":"IF(GetData!Q169=\"\",\"\",GetData!Q169)","v":""},{"$f":"IF(GetData!AI169=\"\",\"\",GetData!AI169)","v":""},null,null,null,null,null,null,null,{"$f":"IF(GetData!O169=\"\",\"\",GetData!O169)","v":""},{"$f":"IF(GetData!AG169=\"\",\"\",GetData!AG169)","v":""},null,null,null,null,null,null,null,{"$f":"IF(GetData!P169=\"\",\"\",GetData!P169)","v":""},{"$f":"IF(GetData!AH169=\"\",\"\",GetData!AH169)","v":""}]
[null,null,null,null,null,null,null,null,null,{"$f":"IF(GetData!Q170=\"\",\"\",GetData!Q170)","v":""},{"$f":"IF(GetData!AI170=\"\",\"\",GetData!AI170)","v":""},null,null,null,null,null,null,null,{"$f":"IF(GetData!O170=\"\",\"\",GetData!O170)","v":""},{"$f":"IF(GetData!AG170=\"\",\"\",GetData!AG170)","v":""},null,null,null,null,null,null,null,{"$f":"IF(GetData!P170=\"\",\"\",GetData!P170)","v":""},{"$f":"IF(GetData!AH170=\"\",\"\",GetData!AH170)","v":""}]
[null,null,null,null,null,null,null,null,null,{"$f":"IF(GetData!Q171=\"\",\"\",GetData!Q171)","v":""},{"$f":"IF(GetData!AI171=\"\",\"\",GetData!AI171)","v":""},null,null,null,null,null,null,null,{"$f":"IF(GetData!O171=\"\",\"\",GetData!O171)","v":""},{"$f":"IF(GetData!AG171=\"\",\"\",GetData!AG171)","v":""},null,null,null,null,null,null,null,{"$f":"IF(GetData!P171=\"\",\"\",GetData!P171)","v":""},{"$f":"IF(GetData!AH171=\"\",\"\",GetData!AH171)","v":""}]
[null,null,null,null,null,null,null,null,null,{"$f":"IF(GetData!Q172=\"\",\"\",GetData!Q172)","v":""},{"$f":"IF(GetData!AI172=\"\",\"\",GetData!AI172)","v":""},null,null,null,null,null,null,null,{"$f":"IF(GetData!O172=\"\",\"\",GetData!O172)","v":""},{"$f":"IF(GetData!AG172=\"\",\"\",GetData!AG172)","v":""},null,null,null,null,null,null,null,{"$f":"IF(GetData!P172=\"\",\"\",GetData!P172)","v":""},{"$f":"IF(GetData!AH172=\"\",\"\",GetData!AH172)","v":""}]
[null,null,null,null,null,null,null,null,null,{"$f":"IF(GetData!Q173=\"\",\"\",GetData!Q173)","v":""},{"$f":"IF(GetData!AI173=\"\",\"\",GetData!AI173)","v":""},null,null,null,null,null,null,null,{"$f":"IF(GetData!O173=\"\",\"\",GetData!O173)","v":""},{"$f":"IF(GetData!AG173=\"\",\"\",GetData!AG173)","v":""},null,null,null,null,null,null,null,{"$f":"IF(GetData!P173=\"\",\"\",GetData!P173)","v":""},{"$f":"IF(GetData!AH173=\"\",\"\",GetData!AH173)","v":""}]
[null,null,null,null,null,null,null,null,null,{"$f":"IF(GetData!Q174=\"\",\"\",GetData!Q174)","v":""},{"$f":"IF(GetData!AI174=\"\",\"\",GetData!AI174)","v":""},null,null,null,null,null,null,null,{"$f":"IF(GetData!O174=\"\",\"\",GetData!O174)","v":""},{"$f":"IF(GetData!AG174=\"\",\"\",GetData!AG174)","v":""},null,null,null,null,null,null,null,{"$f":"IF(GetData!P174=\"\",\"\",GetData!P174)","v":""},{"$f":"IF(GetData!AH174=\"\",\"\",GetData!AH174)","v":""}]
[null,null,null,null,null,null,null,null,null,{"$f":"IF(GetData!Q175=\"\",\"\",GetData!Q175)","v":""},{"$f":"IF(GetData!AI175=\"\",\"\",GetData!AI175)","v":""},null,null,null,null,null,null,null,{"$f":"IF(GetData!O175=\"\",\"\",GetData!O175)","v":""},{"$f":"IF(GetData!AG175=\"\",\"\",GetData!AG175)","v":""},null,null,null,null,null,null,null,{"$f":"IF(GetData!P175=\"\",\"\",GetData!P175)","v":""},{"$f":"IF(GetData!AH175=\"\",\"\",GetData!AH175)","v":""}]
[null,null,null,null,null,null,null,null,null,{"$f":"IF(GetData!Q176=\"\",\"\",GetData!Q176)","v":""},{"$f":"IF(GetData!AI176=\"\",\"\",GetData!AI176)","v":""},null,null,null,null,null,null,null,{"$f":"IF(GetData!O176=\"\",\"\",GetData!O176)","v":""},{"$f":"IF(GetData!AG176=\"\",\"\",GetData!AG176)","v":""},null,null,null,null,null,null,null,{"$f":"IF(GetData!P176=\"\",\"\",GetData!P176)","v":""},{"$f":"IF(GetData!AH176=\"\",\"\",GetData!AH176)","v":""}]
[null,null,null,null,null,null,null,null,null,{"$f":"IF(GetData!Q177=\"\",\"\",GetData!Q177)","v":""},{"$f":"IF(GetData!AI177=\"\",\"\",GetData!AI177)","v":""},null,null,null,null,null,null,null,{"$f":"IF(GetData!O177=\"\",\"\",GetData!O177)","v":""},{"$f":"IF(GetData!AG177=\"\",\"\",GetData!AG177)","v":""},null,null,null,null,null,null,null,{"$f":"IF(GetData!P177=\"\",\"\",GetData!P177)","v":""},{"$f":"IF(GetData!AH177=\"\",\"\",GetData!AH177)","v":""}]
[null,null,null,null,null,null,null,null,null,{"$f":"IF(GetData!Q178=\"\",\"\",GetData!Q178)","v":""},{"$f":"IF(GetData!AI178=\"\",\"\",GetData!AI178)","v":""},null,null,null,null,null,null,null,{"$f":"IF(GetData!O178=\"\",\"\",GetData!O178)","v":""},{"$f":"IF(GetData!AG178=\"\",\"\",GetData!AG178)","v":""},null,null,null,null,null,null,null,{"$f":"IF(GetData!P178=\"\",\"\",GetData!P178)","v":""},{"$f":"IF(GetData!AH178=\"\",\"\",GetData!AH178)","v":""}]
[null,null,null,null,null,null,null,null,null,{"$f":"IF(GetData!Q179=\"\",\"\",GetData!Q179)","v":""},{"$f":"IF(GetData!AI179=\"\",\"\",GetData!AI179)","v":""},null,null,null,null,null,null,null,{"$f":"IF(GetData!O179=\"\",\"\",GetData!O179)","v":""},{"$f":"IF(GetData!AG179=\"\",\"\",GetData!AG179)","v":""},null,null,null,null,null,null,null,{"$f":"IF(GetData!P179=\"\",\"\",GetData!P179)","v":""},{"$f":"IF(GetData!AH179=\"\",\"\",GetData!AH179)","v":""}]
[null,null,null,null,null,null,null,null,null,{"$f":"IF(GetData!Q180=\"\",\"\",GetData!Q180)","v":""},{"$f":"IF(GetData!AI180=\"\",\"\",GetData!AI180)","v":""},null,null,null,null,null,null,null,{"$f":"IF(GetData!O180=\"\",\"\",GetData!O180)","v":""},{"$f":"IF(GetData!AG180=\"\",\"\",GetData!AG180)","v":""},null,null,null,null,null,null,null,{"$f":"IF(GetData!P180=\"\",\"\",GetData!P180)","v":""},{"$f":"IF(GetData!AH180=\"\",\"\",GetData!AH180)","v":""}]
[null,null,null,null,null,null,null,null,null,{"$f":"IF(GetData!Q181=\"\",\"\",GetData!Q181)","v":""},{"$f":"IF(GetData!AI181=\"\",\"\",GetData!AI181)","v":""},null,null,null,null,null,null,null,{"$f":"IF(GetData!O181=\"\",\"\",GetData!O181)","v":""},{"$f":"IF(GetData!AG181=\"\",\"\",GetData!AG181)","v":""},null,null,null,null,null,null,null,{"$f":"IF(GetData!P181=\"\",\"\",GetData!P181)","v":""},{"$f":"IF(GetData!AH181=\"\",\"\",GetData!AH181)","v":""}]
[null,null,null,null,null,null,null,null,null,{"$f":"IF(GetData!Q182=\"\",\"\",GetData!Q182)","v":""},{"$f":"IF(GetData!AI182=\"\",\"\",GetData!AI182)","v":""},null,null,null,null,null,null,null,{"$f":"IF(GetData!O182=\"\",\"\",GetData!O182)","v":""},{"$f":"IF(GetData!AG182=\"\",\"\",GetData!AG182)","v":""},null,null,null,null,null,null,null,{"$f":"IF(GetData!P182=\"\",\"\",GetData!P182)","v":""},{"$f":"IF(GetData!AH182=\"\",\"\",GetData!AH182)","v":""}]
[null,null,null,null,null,null,null,null,null,{"$f":"IF(GetData!Q183=\"\",\"\",GetData!Q183)","v":""},{"$f":"IF(GetData!AI183=\"\",\"\",GetData!AI183)","v":""},null,null,null,null,null,null,null,{"$f":"IF(GetData!O183=\"\",\"\",GetData!O183)","v":""},{"$f":"IF(GetData!AG183=\"\",\"\",GetData!AG183)","v":""},null,null,null,null,null,null,null,{"$f":"IF(GetData!P183=\"\",\"\",GetData!P183)","v":""},{"$f":"IF(GetData!AH183=\"\",\"\",GetData!AH183)","v":""}]
[null,null,null,null,null,null,null,null,null,{"$f":"IF(GetData!Q184=\"\",\"\",GetData!Q184)","v":""},{"$f":"IF(GetData!AI184=\"\",\"\",GetData!AI184)","v":""},null,null,null,null,null,null,null,{"$f":"IF(GetData!O184=\"\",\"\",GetData!O184)","v":""},{"$f":"IF(GetData!AG184=\"\",\"\",GetData!AG184)","v":""},null,null,null,null,null,null,null,{"$f":"IF(GetData!P184=\"\",\"\",GetData!P184)","v":""},{"$f":"IF(GetData!AH184=\"\",\"\",GetData!AH184)","v":""}]
[null,null,null,null,null,null,null,null,null,{"$f":"IF(GetData!Q185=\"\",\"\",GetData!Q185)","v":""},{"$f":"IF(GetData!AI185=\"\",\"\",GetData!AI185)","v":""},null,null,null,null,null,null,null,{"$f":"IF(GetData!O185=\"\",\"\",GetData!O185)","v":""},{"$f":"IF(GetData!AG185=\"\",\"\",GetData!AG185)","v":""},null,null,null,null,null,null,null,{"$f":"IF(GetData!P185=\"\",\"\",GetData!P185)","v":""},{"$f":"IF(GetData!AH185=\"\",\"\",GetData!AH185)","v":""}]
[null,null,null,null,null,null,null,null,null,{"$f":"IF(GetData!Q186=\"\",\"\",GetData!Q186)","v":""},{"$f":"IF(GetData!AI186=\"\",\"\",GetData!AI186)","v":""},null,null,null,null,null,null,null,{"$f":"IF(GetData!O186=\"\",\"\",GetData!O186)","v":""},{"$f":"IF(GetData!AG186=\"\",\"\",GetData!AG186)","v":""},null,null,null,null,null,null,null,{"$f":"IF(GetData!P186=\"\",\"\",GetData!P186)","v":""},{"$f":"IF(GetData!AH186=\"\",\"\",GetData!AH186)","v":""}]
[null,null,null,null,null,null,null,null,null,{"$f":"IF(GetData!Q187=\"\",\"\",GetData!Q187)","v":""},{"$f":"IF(GetData!AI187=\"\",\"\",GetData!AI187)","v":""},null,null,null,null,null,null,null,{"$f":"IF(GetData!O187=\"\",\"\",GetData!O187)","v":""},{"$f":"IF(GetData!AG187=\"\",\"\",GetData!AG187)","v":""},null,null,null,null,null,null,null,{"$f":"IF(GetData!P187=\"\",\"\",GetData!P187)","v":""},{"$f":"IF(GetData!AH187=\"\",\"\",GetData!AH187)","v":""}]
[null,null,null,null,null,null,null,null,null,{"$f":"IF(GetData!Q188=\"\",\"\",GetData!Q188)","v":""},{"$f":"IF(GetData!AI188=\"\",\"\",GetData!AI188)","v":""},null,null,null,null,null,null,null,{"$f":"IF(GetData!O188=\"\",\"\",GetData!O188)","v":""},{"$f":"IF(GetData!AG188=\"\",\"\",GetData!AG188)","v":""},null,null,null,null,null,null,null,{"$f":"IF(GetData!P188=\"\",\"\",GetData!P188)","v":""},{"$f":"IF(GetData!AH188=\"\",\"\",GetData!AH188)","v":""}]
[null,null,null,null,null,null,null,null,null,{"$f":"IF(GetData!Q189=\"\",\"\",GetData!Q189)","v":""},{"$f":"IF(GetData!AI189=\"\",\"\",GetData!AI189)","v":""},null,null,null,null,null,null,null,{"$f":"IF(GetData!O189=\"\",\"\",GetData!O189)","v":""},{"$f":"IF(GetData!AG189=\"\",\"\",GetData!AG189)","v":""},null,null,null,null,null,null,null,{"$f":"IF(GetData!P189=\"\",\"\",GetData!P189)","v":""},{"$f":"IF(GetData!AH189=\"\",\"\",GetData!AH189)","v":""}]
[null,null,null,null,null,null,null,null,null,{"$f":"IF(GetData!Q190=\"\",\"\",GetData!Q190)","v":""},{"$f":"IF(GetData!AI190=\"\",\"\",GetData!AI190)","v":""},null,null,null,null,null,null,null,{"$f":"IF(GetData!O190=\"\",\"\",GetData!O190)","v":""},{"$f":"IF(GetData!AG190=\"\",\"\",GetData!AG190)","v":""},null,null,null,null,null,null,null,{"$f":"IF(GetData!P190=\"\",\"\",GetData!P190)","v":""},{"$f":"IF(GetData!AH190=\"\",\"\",GetData!AH190)","v":""}]
[null,null,null,null,null,null,null,null,null,{"$f":"IF(GetData!Q191=\"\",\"\",GetData!Q191)","v":""},{"$f":"IF(GetData!AI191=\"\",\"\",GetData!AI191)","v":""},null,null,null,null,null,null,null,{"$f":"IF(GetData!O191=\"\",\"\",GetData!O191)","v":""},{"$f":"IF(GetData!AG191=\"\",\"\",GetData!AG191)","v":""},null,null,null,null,null,null,null,{"$f":"IF(GetData!P191=\"\",\"\",GetData!P191)","v":""},{"$f":"IF(GetData!AH191=\"\",\"\",GetData!AH191)","v":""}]
[null,null,null,null,null,null,null,null,null,{"$f":"IF(GetData!Q192=\"\",\"\",GetData!Q192)","v":""},{"$f":"IF(GetData!AI192=\"\",\"\",GetData!AI192)","v":""},null,null,null,null,null,null,null,{"$f":"IF(GetData!O192=\"\",\"\",GetData!O192)","v":""},{"$f":"IF(GetData!AG192=\"\",\"\",GetData!AG192)","v":""},null,null,null,null,null,null,null,{"$f":"IF(GetData!P192=\"\",\"\",GetData!P192)","v":""},{"$f":"IF(GetData!AH192=\"\",\"\",GetData!AH192)","v":""}]
[null,null,null,null,null,null,null,null,null,{"$f":"IF(GetData!Q193=\"\",\"\",GetData!Q193)","v":""},{"$f":"IF(GetData!AI193=\"\",\"\",GetData!AI193)","v":""},null,null,null,null,null,null,null,{"$f":"IF(GetData!O193=\"\",\"\",GetData!O193)","v":""},{"$f":"IF(GetData!AG193=\"\",\"\",GetData!AG193)","v":""},null,null,null,null,null,null,null,{"$f":"IF(GetData!P193=\"\",\"\",GetData!P193)","v":""},{"$f":"IF(GetData!AH193=\"\",\"\",GetData!AH193)","v":""}]
[null,null,null,null,null,null,null,null,null,{"$f":"IF(GetData!Q194=\"\",\"\",GetData!Q194)","v":""},{"$f":"IF(GetData!AI194=\"\",\"\",GetData!AI194)","v":""},null,null,null,null,null,null,null,{"$f":"IF(GetData!O194=\"\",\"\",GetData!O194)","v":""},{"$f":"IF(GetData!AG194=\"\",\"\",GetData!AG194)","v":""},null,null,null,null,null,null,null,{"$f":"IF(GetData!P194=\"\",\"\",GetData!P194)","v":""},{"$f":"IF(GetData!AH194=\"\",\"\",GetData!AH194)","v":""}]
[null,null,null,null,null,null,null,null,null,{"$f":"IF(GetData!Q195=\"\",\"\",GetData!Q195)","v":""},{"$f":"IF(GetData!AI195=\"\",\"\",GetData!AI195)","v":""},null,null,null,null,null,null,null,{"$f":"IF(GetData!O195=\"\",\"\",GetData!O195)","v":""},{"$f":"IF(GetData!AG195=\"\",\"\",GetData!AG195)","v":""},null,null,null,null,null,null,null,{"$f":"IF(GetData!P195=\"\",\"\",GetData!P195)","v":""},{"$f":"IF(GetData!AH195=\"\",\"\",GetData!AH195)","v":""}]
[null,null,null,null,null,null,null,null,null,{"$f":"IF(GetData!Q196=\"\",\"\",GetData!Q196)","v":""},{"$f":"IF(GetData!AI196=\"\",\"\",GetData!AI196)","v":""},null,null,null,null,null,null,null,{"$f":"IF(GetData!O196=\"\",\"\",GetData!O196)","v":""},{"$f":"IF(GetData!AG196=\"\",\"\",GetData!AG196)","v":""},null,null,null,null,null,null,null,{"$f":"IF(GetData!P196=\"\",\"\",GetData!P196)","v":""},{"$f":"IF(GetData!AH196=\"\",\"\",GetData!AH196)","v":""}]
[null,null,null,null,null,null,null,null,null,{"$f":"IF(GetData!Q197=\"\",\"\",GetData!Q197)","v":""},{"$f":"IF(GetData!AI197=\"\",\"\",GetData!AI197)","v":""},null,null,null,null,null,null,null,{"$f":"IF(GetData!O197=\"\",\"\",GetData!O197)","v":""},{"$f":"IF(GetData!AG197=\"\",\"\",GetData!AG197)","v":""},null,null,null,null,null,null,null,{"$f":"IF(GetData!P197=\"\",\"\",GetData!P197)","v":""},{"$f":"IF(GetData!AH197=\"\",\"\",GetData!AH197)","v":""}]
[null,null,null,null,null,null,null,null,null,{"$f":"IF(GetData!Q198=\"\",\"\",GetData!Q198)","v":""},{"$f":"IF(GetData!AI198=\"\",\"\",GetData!AI198)","v":""},null,null,null,null,null,null,null,{"$f":"IF(GetData!O198=\"\",\"\",GetData!O198)","v":""},{"$f":"IF(GetData!AG198=\"\",\"\",GetData!AG198)","v":""},null,null,null,null,null,null,null,{"$f":"IF(GetData!P198=\"\",\"\",GetData!P198)","v":""},{"$f":"IF(GetData!AH198=\"\",\"\",GetData!AH198)","v":""}]
[null,null,null,null,null,null,null,null,null,{"$f":"IF(GetData!Q199=\"\",\"\",GetData!Q199)","v":""},{"$f":"IF(GetData!AI199=\"\",\"\",GetData!AI199)","v":""},null,null,null,null,null,null,null,{"$f":"IF(GetData!O199=\"\",\"\",GetData!O199)","v":""},{"$f":"IF(GetData!AG199=\"\",\"\",GetData!AG199)","v":""},null,null,null,null,null,null,null,{"$f":"IF(GetData!P199=\"\",\"\",GetData!P199)","v":""},{"$f":"IF(GetData!AH199=\"\",\"\",GetData!AH199)","v":""}]
[null,null,null,null,null,null,null,null,null,{"$f":"IF(GetData!Q200=\"\",\"\",GetData!Q200)","v":""},{"$f":"IF(GetData!AI200=\"\",\"\",GetData!AI200)","v":""},null,null,null,null,null,null,null,{"$f":"IF(GetData!O200=\"\",\"\",GetData!O200)","v":""},{"$f":"IF(GetData!AG200=\"\",\"\",GetData!AG200)","v":""},null,null,null,null,null,null,null,{"$f":"IF(GetData!P200=\"\",\"\",GetData!P200)","v":""},{"$f":"IF(GetData!AH200=\"\",\"\",GetData!AH200)","v":""}]
[null,null,null,null,null,null,null,null,null,{"$f":"IF(GetData!Q201=\"\",\"\",GetData!Q201)","v":""},{"$f":"IF(GetData!AI201=\"\",\"\",GetData!AI201)","v":""},null,null,null,null,null,null,null,{"$f":"IF(GetData!O201=\"\",\"\",GetData!O201)","v":""},{"$f":"IF(GetData!AG201=\"\",\"\",GetData!AG201)","v":""},null,null,null,null,null,null,null,{"$f":"IF(GetData!P201=\"\",\"\",GetData!P201)","v":""},{"$f":"IF(GetData!AH201=\"\",\"\",GetData!AH201)","v":""}]
[null,null,null,null,null,null,null,null,null,{"$f":"IF(GetData!Q202=\"\",\"\",GetData!Q202)","v":""},{"$f":"IF(GetData!AI202=\"\",\"\",GetData!AI202)","v":""},null,null,null,null,null,null,null,{"$f":"IF(GetData!O202=\"\",\"\",GetData!O202)","v":""},{"$f":"IF(GetData!AG202=\"\",\"\",GetData!AG202)","v":""},null,null,null,null,null,null,null,{"$f":"IF(GetData!P202=\"\",\"\",GetData!P202)","v":""},{"$f":"IF(GetData!AH202=\"\",\"\",GetData!AH202)","v":""}]
[null,null,null,null,null,null,null,null,null,{"$f":"IF(GetData!Q203=\"\",\"\",GetData!Q203)","v":""},{"$f":"IF(GetData!AI203=\"\",\"\",GetData!AI203)","v":""},null,null,null,null,null,null,null,{"$f":"IF(GetData!O203=\"\",\"\",GetData!O203)","v":""},{"$f":"IF(GetData!AG203=\"\",\"\",GetData!AG203)","v":""},null,null,null,null,null,null,null,{"$f":"IF(GetData!P203=\"\",\"\",GetData!P203)","v":""},{"$f":"IF(GetData!AH203=\"\",\"\",GetData!AH203)","v":""}]
[null,null,null,null,null,null,null,null,null,{"$f":"IF(GetData!Q204=\"\",\"\",GetData!Q204)","v":""},{"$f":"IF(GetData!AI204=\"\",\"\",GetData!AI204)","v":""},null,null,null,null,null,null,null,{"$f":"IF(GetData!O204=\"\",\"\",GetData!O204)","v":""},{"$f":"IF(GetData!AG204=\"\",\"\",GetData!AG204)","v":""},null,null,null,null,null,null,null,{"$f":"IF(GetData!P204=\"\",\"\",GetData!P204)","v":""},{"$f":"IF(GetData!AH204=\"\",\"\",GetData!AH204)","v":""}]
[null,null,null,null,null,null,null,null,null,{"$f":"IF(GetData!Q205=\"\",\"\",GetData!Q205)","v":""},{"$f":"IF(GetData!AI205=\"\",\"\",GetData!AI205)","v":""},null,null,null,null,null,null,null,{"$f":"IF(GetData!O205=\"\",\"\",GetData!O205)","v":""},{"$f":"IF(GetData!AG205=\"\",\"\",GetData!AG205)","v":""},null,null,null,null,null,null,null,{"$f":"IF(GetData!P205=\"\",\"\",GetData!P205)","v":""},{"$f":"IF(GetData!AH205=\"\",\"\",GetData!AH205)","v":""}]
[null,null,null,null,null,null,null,null,null,{"$f":"IF(GetData!Q206=\"\",\"\",GetData!Q206)","v":""},{"$f":"IF(GetData!AI206=\"\",\"\",GetData!AI206)","v":""},null,null,null,null,null,null,null,{"$f":"IF(GetData!O206=\"\",\"\",GetData!O206)","v":""},{"$f":"IF(GetData!AG206=\"\",\"\",GetData!AG206)","v":""},null,null,null,null,null,null,null,{"$f":"IF(GetData!P206=\"\",\"\",GetData!P206)","v":""},{"$f":"IF(GetData!AH206=\"\",\"\",GetData!AH206)","v":""}]
[null,null,null,null,null,null,null,null,null,{"$f":"IF(GetData!Q207=\"\",\"\",GetData!Q207)","v":""},{"$f":"IF(GetData!AI207=\"\",\"\",GetData!AI207)","v":""},null,null,null,null,null,null,null,{"$f":"IF(GetData!O207=\"\",\"\",GetData!O207)","v":""},{"$f":"IF(GetData!AG207=\"\",\"\",GetData!AG207)","v":""},null,null,null,null,null,null,null,{"$f":"IF(GetData!P207=\"\",\"\",GetData!P207)","v":""},{"$f":"IF(GetData!AH207=\"\",\"\",GetData!AH207)","v":""}]
[null,null,null,null,null,null,null,null,null,{"$f":"IF(GetData!Q208=\"\",\"\",GetData!Q208)","v":""},{"$f":"IF(GetData!AI208=\"\",\"\",GetData!AI208)","v":""},null,null,null,null,null,null,null,{"$f":"IF(GetData!O208=\"\",\"\",GetData!O208)","v":""},{"$f":"IF(GetData!AG208=\"\",\"\",GetData!AG208)","v":""},null,null,null,null,null,null,null,{"$f":"IF(GetData!P208=\"\",\"\",GetData!P208)","v":""},{"$f":"IF(GetData!AH208=\"\",\"\",GetData!AH208)","v":""}]
[null,null,null,null,null,null,null,null,null,{"$f":"IF(GetData!Q209=\"\",\"\",GetData!Q209)","v":""},{"$f":"IF(GetData!AI209=\"\",\"\",GetData!AI209)","v":""},null,null,null,null,null,null,null,{"$f":"IF(GetData!O209=\"\",\"\",GetData!O209)","v":""},{"$f":"IF(GetData!AG209=\"\",\"\",GetData!AG209)","v":""},null,null,null,null,null,null,null,{"$f":"IF(GetData!P209=\"\",\"\",GetData!P209)","v":""},{"$f":"IF(GetData!AH209=\"\",\"\",GetData!AH209)","v":""}]
[null,null,null,null,null,null,null,null,null,{"$f":"IF(GetData!Q210=\"\",\"\",GetData!Q210)","v":""},{"$f":"IF(GetData!AI210=\"\",\"\",GetData!AI210)","v":""},null,null,null,null,null,null,null,{"$f":"IF(GetData!O210=\"\",\"\",GetData!O210)","v":""},{"$f":"IF(GetData!AG210=\"\",\"\",GetData!AG210)","v":""},null,null,null,null,null,null,null,{"$f":"IF(GetData!P210=\"\",\"\",GetData!P210)","v":""},{"$f":"IF(GetData!AH210=\"\",\"\",GetData!AH210)","v":""}]
[null,null,null,null,null,null,null,null,null,{"$f":"IF(GetData!Q211=\"\",\"\",GetData!Q211)","v":""},{"$f":"IF(GetData!AI211=\"\",\"\",GetData!AI211)","v":""},null,null,null,null,null,null,null,{"$f":"IF(GetData!O211=\"\",\"\",GetData!O211)","v":""},{"$f":"IF(GetData!AG211=\"\",\"\",GetData!AG211)","v":""},null,null,null,null,null,null,null,{"$f":"IF(GetData!P211=\"\",\"\",GetData!P211)","v":""},{"$f":"IF(GetData!AH211=\"\",\"\",GetData!AH211)","v":""}]
[null,null,null,null,null,null,null,null,null,{"$f":"IF(GetData!Q212=\"\",\"\",GetData!Q212)","v":""},{"$f":"IF(GetData!AI212=\"\",\"\",GetData!AI212)","v":""},null,null,null,null,null,null,null,{"$f":"IF(GetData!O212=\"\",\"\",GetData!O212)","v":""},{"$f":"IF(GetData!AG212=\"\",\"\",GetData!AG212)","v":""},null,null,null,null,null,null,null,{"$f":"IF(GetData!P212=\"\",\"\",GetData!P212)","v":""},{"$f":"IF(GetData!AH212=\"\",\"\",GetData!AH212)","v":""}]
[null,null,null,null,null,null,null,null,null,{"$f":"IF(GetData!Q213=\"\",\"\",GetData!Q213)","v":""},{"$f":"IF(GetData!AI213=\"\",\"\",GetData!AI213)","v":""},null,null,null,null,null,null,null,{"$f":"IF(GetData!O213=\"\",\"\",GetData!O213)","v":""},{"$f":"IF(GetData!AG213=\"\",\"\",GetData!AG213)","v":""},null,null,null,null,null,null,null,{"$f":"IF(GetData!P213=\"\",\"\",GetData!P213)","v":""},{"$f":"IF(GetData!AH213=\"\",\"\",GetData!AH213)","v":""}]
[null,null,null,null,null,null,null,null,null,{"$f":"IF(GetData!Q214=\"\",\"\",GetData!Q214)","v":""},{"$f":"IF(GetData!AI214=\"\",\"\",GetData!AI214)","v":""},null,null,null,null,null,null,null,{"$f":"IF(GetData!O214=\"\",\"\",GetData!O214)","v":""},{"$f":"IF(GetData!AG214=\"\",\"\",GetData!AG214)","v":""},null,null,null,null,null,null,null,{"$f":"IF(GetData!P214=\"\",\"\",GetData!P214)","v":""},{"$f":"IF(GetData!AH214=\"\",\"\",GetData!AH214)","v":""}]
[null,null,null,null,null,null,null,null,null,{"$f":"IF(GetData!Q215=\"\",\"\",GetData!Q215)","v":""},{"$f":"IF(GetData!AI215=\"\",\"\",GetData!AI215)","v":""},null,null,null,null,null,null,null,{"$f":"IF(GetData!O215=\"\",\"\",GetData!O215)","v":""},{"$f":"IF(GetData!AG215=\"\",\"\",GetData!AG215)","v":""},null,null,null,null,null,null,null,{"$f":"IF(GetData!P215=\"\",\"\",GetData!P215)","v":""},{"$f":"IF(GetData!AH215=\"\",\"\",GetData!AH215)","v":""}]
[null,null,null,null,null,null,null,null,null,{"$f":"IF(GetData!Q216=\"\",\"\",GetData!Q216)","v":""},{"$f":"IF(GetData!AI216=\"\",\"\",GetData!AI216)","v":""},null,null,null,null,null,null,null,{"$f":"IF(GetData!O216=\"\",\"\",GetData!O216)","v":""},{"$f":"IF(GetData!AG216=\"\",\"\",GetData!AG216)","v":""},null,null,null,null,null,null,null,{"$f":"IF(GetData!P216=\"\",\"\",GetData!P216)","v":""},{"$f":"IF(GetData!AH216=\"\",\"\",GetData!AH216)","v":""}]
[null,null,null,null,null,null,null,null,null,{"$f":"IF(GetData!Q217=\"\",\"\",GetData!Q217)","v":""},{"$f":"IF(GetData!AI217=\"\",\"\",GetData!AI217)","v":""},null,null,null,null,null,null,null,{"$f":"IF(GetData!O217=\"\",\"\",GetData!O217)","v":""},{"$f":"IF(GetData!AG217=\"\",\"\",GetData!AG217)","v":""},null,null,null,null,null,null,null,{"$f":"IF(GetData!P217=\"\",\"\",GetData!P217)","v":""},{"$f":"IF(GetData!AH217=\"\",\"\",GetData!AH217)","v":""}]
[null,null,null,null,null,null,null,null,null,{"$f":"IF(GetData!Q218=\"\",\"\",GetData!Q218)","v":""},{"$f":"IF(GetData!AI218=\"\",\"\",GetData!AI218)","v":""},null,null,null,null,null,null,null,{"$f":"IF(GetData!O218=\"\",\"\",GetData!O218)","v":""},{"$f":"IF(GetData!AG218=\"\",\"\",GetData!AG218)","v":""},null,null,null,null,null,null,null,{"$f":"IF(GetData!P218=\"\",\"\",GetData!P218)","v":""},{"$f":"IF(GetData!AH218=\"\",\"\",GetData!AH218)","v":""}]
[null,null,null,null,null,null,null,null,null,{"$f":"IF(GetData!Q219=\"\",\"\",GetData!Q219)","v":""},{"$f":"IF(GetData!AI219=\"\",\"\",GetData!AI219)","v":""},null,null,null,null,null,null,null,{"$f":"IF(GetData!O219=\"\",\"\",GetData!O219)","v":""},{"$f":"IF(GetData!AG219=\"\",\"\",GetData!AG219)","v":""},null,null,null,null,null,null,null,{"$f":"IF(GetData!P219=\"\",\"\",GetData!P219)","v":""},{"$f":"IF(GetData!AH219=\"\",\"\",GetData!AH219)","v":""}]
[null,null,null,null,null,null,null,null,null,{"$f":"IF(GetData!Q220=\"\",\"\",GetData!Q220)","v":""},{"$f":"IF(GetData!AI220=\"\",\"\",GetData!AI220)","v":""},null,null,null,null,null,null,null,{"$f":"IF(GetData!O220=\"\",\"\",GetData!O220)","v":""},{"$f":"IF(GetData!AG220=\"\",\"\",GetData!AG220)","v":""},null,null,null,null,null,null,null,{"$f":"IF(GetData!P220=\"\",\"\",GetData!P220)","v":""},{"$f":"IF(GetData!AH220=\"\",\"\",GetData!AH220)","v":""}]
[null,null,null,null,null,null,null,null,null,{"$f":"IF(GetData!Q221=\"\",\"\",GetData!Q221)","v":""},{"$f":"IF(GetData!AI221=\"\",\"\",GetData!AI221)","v":""},null,null,null,null,null,null,null,{"$f":"IF(GetData!O221=\"\",\"\",GetData!O221)","v":""},{"$f":"IF(GetData!AG221=\"\",\"\",GetData!AG221)","v":""},null,null,null,null,null,null,null,{"$f":"IF(GetData!P221=\"\",\"\",GetData!P221)","v":""},{"$f":"IF(GetData!AH221=\"\",\"\",GetData!AH221)","v":""}]
[null,null,null,null,null,null,null,null,null,{"$f":"IF(GetData!Q222=\"\",\"\",GetData!Q222)","v":""},{"$f":"IF(GetData!AI222=\"\",\"\",GetData!AI222)","v":""},null,null,null,null,null,null,null,{"$f":"IF(GetData!O222=\"\",\"\",GetData!O222)","v":""},{"$f":"IF(GetData!AG222=\"\",\"\",GetData!AG222)","v":""},null,null,null,null,null,null,null,{"$f":"IF(GetData!P222=\"\",\"\",GetData!P222)","v":""},{"$f":"IF(GetData!AH222=\"\",\"\",GetData!AH222)","v":""}]
[null,null,null,null,null,null,null,null,null,{"$f":"IF(GetData!Q223=\"\",\"\",GetData!Q223)","v":""},{"$f":"IF(GetData!AI223=\"\",\"\",GetData!AI223)","v":""},null,null,null,null,null,null,null,{"$f":"IF(GetData!O223=\"\",\"\",GetData!O223)","v":""},{"$f":"IF(GetData!AG223=\"\",\"\",GetData!AG223)","v":""},null,null,null,null,null,null,null,{"$f":"IF(GetData!P223=\"\",\"\",GetData!P223)","v":""},{"$f":"IF(GetData!AH223=\"\",\"\",GetData!AH223)","v":""}]
[null,null,null,null,null,null,null,null,null,{"$f":"IF(GetData!Q224=\"\",\"\",GetData!Q224)","v":""},{"$f":"IF(GetData!AI224=\"\",\"\",GetData!AI224)","v":""},null,null,null,null,null,null,null,{"$f":"IF(GetData!O224=\"\",\"\",GetData!O224)","v":""},{"$f":"IF(GetData!AG224=\"\",\"\",GetData!AG224)","v":""},null,null,null,null,null,null,null,{"$f":"IF(GetData!P224=\"\",\"\",GetData!P224)","v":""},{"$f":"IF(GetData!AH224=\"\",\"\",GetData!AH224)","v":""}]
[null,null,null,null,null,null,null,null,null,{"$f":"IF(GetData!Q225=\"\",\"\",GetData!Q225)","v":""},{"$f":"IF(GetData!AI225=\"\",\"\",GetData!AI225)","v":""},null,null,null,null,null,null,null,{"$f":"IF(GetData!O225=\"\",\"\",GetData!O225)","v":""},{"$f":"IF(GetData!AG225=\"\",\"\",GetData!AG225)","v":""},null,null,null,null,null,null,null,{"$f":"IF(GetData!P225=\"\",\"\",GetData!P225)","v":""},{"$f":"IF(GetData!AH225=\"\",\"\",GetData!AH225)","v":""}]
[null,null,null,null,null,null,null,null,null,{"$f":"IF(GetData!Q226=\"\",\"\",GetData!Q226)","v":""},{"$f":"IF(GetData!AI226=\"\",\"\",GetData!AI226)","v":""},null,null,null,null,null,null,null,{"$f":"IF(GetData!O226=\"\",\"\",GetData!O226)","v":""},{"$f":"IF(GetData!AG226=\"\",\"\",GetData!AG226)","v":""},null,null,null,null,null,null,null,{"$f":"IF(GetData!P226=\"\",\"\",GetData!P226)","v":""},{"$f":"IF(GetData!AH226=\"\",\"\",GetData!AH226)","v":""}]
[null,null,null,null,null,null,null,null,null,{"$f":"IF(GetData!Q227=\"\",\"\",GetData!Q227)","v":""},{"$f":"IF(GetData!AI227=\"\",\"\",GetData!AI227)","v":""},null,null,null,null,null,null,null,{"$f":"IF(GetData!O227=\"\",\"\",GetData!O227)","v":""},{"$f":"IF(GetData!AG227=\"\",\"\",GetData!AG227)","v":""},null,null,null,null,null,null,null,{"$f":"IF(GetData!P227=\"\",\"\",GetData!P227)","v":""},{"$f":"IF(GetData!AH227=\"\",\"\",GetData!AH227)","v":""}]
[null,null,null,null,null,null,null,null,null,{"$f":"IF(GetData!Q228=\"\",\"\",GetData!Q228)","v":""},{"$f":"IF(GetData!AI228=\"\",\"\",GetData!AI228)","v":""},null,null,null,null,null,null,null,{"$f":"IF(GetData!O228=\"\",\"\",GetData!O228)","v":""},{"$f":"IF(GetData!AG228=\"\",\"\",GetData!AG228)","v":""},null,null,null,null,null,null,null,{"$f":"IF(GetData!P228=\"\",\"\",GetData!P228)","v":""},{"$f":"IF(GetData!AH228=\"\",\"\",GetData!AH228)","v":""}]
[null,null,null,null,null,null,null,null,null,{"$f":"IF(GetData!Q229=\"\",\"\",GetData!Q229)","v":""},{"$f":"IF(GetData!AI229=\"\",\"\",GetData!AI229)","v":""},null,null,null,null,null,null,null,{"$f":"IF(GetData!O229=\"\",\"\",GetData!O229)","v":""},{"$f":"IF(GetData!AG229=\"\",\"\",GetData!AG229)","v":""},null,null,null,null,null,null,null,{"$f":"IF(GetData!P229=\"\",\"\",GetData!P229)","v":""},{"$f":"IF(GetData!AH229=\"\",\"\",GetData!AH229)","v":""}]
[null,null,null,null,null,null,null,null,null,{"$f":"IF(GetData!Q230=\"\",\"\",GetData!Q230)","v":""},{"$f":"IF(GetData!AI230=\"\",\"\",GetData!AI230)","v":""},null,null,null,null,null,null,null,{"$f":"IF(GetData!O230=\"\",\"\",GetData!O230)","v":""},{"$f":"IF(GetData!AG230=\"\",\"\",GetData!AG230)","v":""},null,null,null,null,null,null,null,{"$f":"IF(GetData!P230=\"\",\"\",GetData!P230)","v":""},{"$f":"IF(GetData!AH230=\"\",\"\",GetData!AH230)","v":""}]
[null,null,null,null,null,null,null,null,null,{"$f":"IF(GetData!Q231=\"\",\"\",GetData!Q231)","v":""},{"$f":"IF(GetData!AI231=\"\",\"\",GetData!AI231)","v":""},null,null,null,null,null,null,null,{"$f":"IF(GetData!O231=\"\",\"\",GetData!O231)","v":""},{"$f":"IF(GetData!AG231=\"\",\"\",GetData!AG231)","v":""},null,null,null,null,null,null,null,{"$f":"IF(GetData!P231=\"\",\"\",GetData!P231)","v":""},{"$f":"IF(GetData!AH231=\"\",\"\",GetData!AH231)","v":""}]
[null,null,null,null,null,null,null,null,null,{"$f":"IF(GetData!Q232=\"\",\"\",GetData!Q232)","v":""},{"$f":"IF(GetData!AI232=\"\",\"\",GetData!AI232)","v":""},null,null,null,null,null,null,null,{"$f":"IF(GetData!O232=\"\",\"\",GetData!O232)","v":""},{"$f":"IF(GetData!AG232=\"\",\"\",GetData!AG232)","v":""},null,null,null,null,null,null,null,{"$f":"IF(GetData!P232=\"\",\"\",GetData!P232)","v":""},{"$f":"IF(GetData!AH232=\"\",\"\",GetData!AH232)","v":""}]
[null,null,null,null,null,null,null,null,null,{"$f":"IF(GetData!Q233=\"\",\"\",GetData!Q233)","v":""},{"$f":"IF(GetData!AI233=\"\",\"\",GetData!AI233)","v":""},null,null,null,null,null,null,null,{"$f":"IF(GetData!O233=\"\",\"\",GetData!O233)","v":""},{"$f":"IF(GetData!AG233=\"\",\"\",GetData!AG233)","v":""},null,null,null,null,null,null,null,{"$f":"IF(GetData!P233=\"\",\"\",GetData!P233)","v":""},{"$f":"IF(GetData!AH233=\"\",\"\",GetData!AH233)","v":""}]
[null,null,null,null,null,null,null,null,null,{"$f":"IF(GetData!Q234=\"\",\"\",GetData!Q234)","v":""},{"$f":"IF(GetData!AI234=\"\",\"\",GetData!AI234)","v":""},null,null,null,null,null,null,null,{"$f":"IF(GetData!O234=\"\",\"\",GetData!O234)","v":""},{"$f":"IF(GetData!AG234=\"\",\"\",GetData!AG234)","v":""},null,null,null,null,null,null,null,{"$f":"IF(GetData!P234=\"\",\"\",GetData!P234)","v":""},{"$f":"IF(GetData!AH234=\"\",\"\",GetData!AH234)","v":""}]
[null,null,null,null,null,null,null,null,null,{"$f":"IF(GetData!Q235=\"\",\"\",GetData!Q235)","v":""},{"$f":"IF(GetData!AI235=\"\",\"\",GetData!AI235)","v":""},null,null,null,null,null,null,null,{"$f":"IF(GetData!O235=\"\",\"\",GetData!O235)","v":""},{"$f":"IF(GetData!AG235=\"\",\"\",GetData!AG235)","v":""},null,null,null,null,null,null,null,{"$f":"IF(GetData!P235=\"\",\"\",GetData!P235)","v":""},{"$f":"IF(GetData!AH235=\"\",\"\",GetData!AH235)","v":""}]
[null,null,null,null,null,null,null,null,null,{"$f":"IF(GetData!Q236=\"\",\"\",GetData!Q236)","v":""},{"$f":"IF(GetData!AI236=\"\",\"\",GetData!AI236)","v":""},null,null,null,null,null,null,null,{"$f":"IF(GetData!O236=\"\",\"\",GetData!O236)","v":""},{"$f":"IF(GetData!AG236=\"\",\"\",GetData!AG236)","v":""},null,null,null,null,null,null,null,{"$f":"IF(GetData!P236=\"\",\"\",GetData!P236)","v":""},{"$f":"IF(GetData!AH236=\"\",\"\",GetData!AH236)","v":""}]
[null,null,null,null,null,null,null,null,null,{"$f":"IF(GetData!Q237=\"\",\"\",GetData!Q237)","v":""},{"$f":"IF(GetData!AI237=\"\",\"\",GetData!AI237)","v":""},null,null,null,null,null,null,null,{"$f":"IF(GetData!O237=\"\",\"\",GetData!O237)","v":""},{"$f":"IF(GetData!AG237=\"\",\"\",GetData!AG237)","v":""},null,null,null,null,null,null,null,{"$f":"IF(GetData!P237=\"\",\"\",GetData!P237)","v":""},{"$f":"IF(GetData!AH237=\"\",\"\",GetData!AH237)","v":""}]
[null,null,null,null,null,null,null,null,null,{"$f":"IF(GetData!Q238=\"\",\"\",GetData!Q238)","v":""},{"$f":"IF(GetData!AI238=\"\",\"\",GetData!AI238)","v":""},null,null,null,null,null,null,null,{"$f":"IF(GetData!O238=\"\",\"\",GetData!O238)","v":""},{"$f":"IF(GetData!AG238=\"\",\"\",GetData!AG238)","v":""},null,null,null,null,null,null,null,{"$f":"IF(GetData!P238=\"\",\"\",GetData!P238)","v":""},{"$f":"IF(GetData!AH238=\"\",\"\",GetData!AH238)","v":""}]
[null,null,null,null,null,null,null,null,null,{"$f":"IF(GetData!Q239=\"\",\"\",GetData!Q239)","v":""},{"$f":"IF(GetData!AI239=\"\",\"\",GetData!AI239)","v":""},null,null,null,null,null,null,null,{"$f":"IF(GetData!O239=\"\",\"\",GetData!O239)","v":""},{"$f":"IF(GetData!AG239=\"\",\"\",GetData!AG239)","v":""},null,null,null,null,null,null,null,{"$f":"IF(GetData!P239=\"\",\"\",GetData!P239)","v":""},{"$f":"IF(GetData!AH239=\"\",\"\",GetData!AH239)","v":""}]
[null,null,null,null,null,null,null,null,null,{"$f":"IF(GetData!Q240=\"\",\"\",GetData!Q240)","v":""},{"$f":"IF(GetData!AI240=\"\",\"\",GetData!AI240)","v":""},null,null,null,null,null,null,null,{"$f":"IF(GetData!O240=\"\",\"\",GetData!O240)","v":""},{"$f":"IF(GetData!AG240=\"\",\"\",GetData!AG240)","v":""},null,null,null,null,null,null,null,{"$f":"IF(GetData!P240=\"\",\"\",GetData!P240)","v":""},{"$f":"IF(GetData!AH240=\"\",\"\",GetData!AH240)","v":""}]
[null,null,null,null,null,null,null,null,null,{"$f":"IF(GetData!Q241=\"\",\"\",GetData!Q241)","v":""},{"$f":"IF(GetData!AI241=\"\",\"\",GetData!AI241)","v":""},null,null,null,null,null,null,null,{"$f":"IF(GetData!O241=\"\",\"\",GetData!O241)","v":""},{"$f":"IF(GetData!AG241=\"\",\"\",GetData!AG241)","v":""},null,null,null,null,null,null,null,{"$f":"IF(GetData!P241=\"\",\"\",GetData!P241)","v":""},{"$f":"IF(GetData!AH241=\"\",\"\",GetData!AH241)","v":""}]
[null,null,null,null,null,null,null,null,null,{"$f":"IF(GetData!Q242=\"\",\"\",GetData!Q242)","v":""},{"$f":"IF(GetData!AI242=\"\",\"\",GetData!AI242)","v":""},null,null,null,null,null,null,null,{"$f":"IF(GetData!O242=\"\",\"\",GetData!O242)","v":""},{"$f":"IF(GetData!AG242=\"\",\"\",GetData!AG242)","v":""},null,null,null,null,null,null,null,{"$f":"IF(GetData!P242=\"\",\"\",GetData!P242)","v":""},{"$f":"IF(GetData!AH242=\"\",\"\",GetData!AH242)","v":""}]
[null,null,null,null,null,null,null,null,null,{"$f":"IF(GetData!Q243=\"\",\"\",GetData!Q243)","v":""},{"$f":"IF(GetData!AI243=\"\",\"\",GetData!AI243)","v":""},null,null,null,null,null,null,null,{"$f":"IF(GetData!O243=\"\",\"\",GetData!O243)","v":""},{"$f":"IF(GetData!AG243=\"\",\"\",GetData!AG243)","v":""},null,null,null,null,null,null,null,{"$f":"IF(GetData!P243=\"\",\"\",GetData!P243)","v":""},{"$f":"IF(GetData!AH243=\"\",\"\",GetData!AH243)","v":""}]
[null,null,null,null,null,null,null,null,null,{"$f":"IF(GetData!Q244=\"\",\"\",GetData!Q244)","v":""},{"$f":"IF(GetData!AI244=\"\",\"\",GetData!AI244)","v":""},null,null,null,null,null,null,null,{"$f":"IF(GetData!O244=\"\",\"\",GetData!O244)","v":""},{"$f":"IF(GetData!AG244=\"\",\"\",GetData!AG244)","v":""},null,null,null,null,null,null,null,{"$f":"IF(GetData!P244=\"\",\"\",GetData!P244)","v":""},{"$f":"IF(GetData!AH244=\"\",\"\",GetData!AH244)","v":""}]
[null,null,null,null,null,null,null,null,null,{"$f":"IF(GetData!Q245=\"\",\"\",GetData!Q245)","v":""},{"$f":"IF(GetData!AI245=\"\",\"\",GetData!AI245)","v":""},null,null,null,null,null,null,null,{"$f":"IF(GetData!O245=\"\",\"\",GetData!O245)","v":""},{"$f":"IF(GetData!AG245=\"\",\"\",GetData!AG245)","v":""},null,null,null,null,null,null,null,{"$f":"IF(GetData!P245=\"\",\"\",GetData!P245)","v":""},{"$f":"IF(GetData!AH245=\"\",\"\",GetData!AH245)","v":""}]
[null,null,null,null,null,null,null,null,null,{"$f":"IF(GetData!Q246=\"\",\"\",GetData!Q246)","v":""},{"$f":"IF(GetData!AI246=\"\",\"\",GetData!AI246)","v":""},null,null,null,null,null,null,null,{"$f":"IF(GetData!O246=\"\",\"\",GetData!O246)","v":""},{"$f":"IF(GetData!AG246=\"\",\"\",GetData!AG246)","v":""},null,null,null,null,null,null,null,{"$f":"IF(GetData!P246=\"\",\"\",GetData!P246)","v":""},{"$f":"IF(GetData!AH246=\"\",\"\",GetData!AH246)","v":""}]
[null,null,null,null,null,null,null,null,null,{"$f":"IF(GetData!Q247=\"\",\"\",GetData!Q247)","v":""},{"$f":"IF(GetData!AI247=\"\",\"\",GetData!AI247)","v":""},null,null,null,null,null,null,null,{"$f":"IF(GetData!O247=\"\",\"\",GetData!O247)","v":""},{"$f":"IF(GetData!AG247=\"\",\"\",GetData!AG247)","v":""},null,null,null,null,null,null,null,{"$f":"IF(GetData!P247=\"\",\"\",GetData!P247)","v":""},{"$f":"IF(GetData!AH247=\"\",\"\",GetData!AH247)","v":""}]
[null,null,null,null,null,null,null,null,null,{"$f":"IF(GetData!Q248=\"\",\"\",GetData!Q248)","v":""},{"$f":"IF(GetData!AI248=\"\",\"\",GetData!AI248)","v":""},null,null,null,null,null,null,null,{"$f":"IF(GetData!O248=\"\",\"\",GetData!O248)","v":""},{"$f":"IF(GetData!AG248=\"\",\"\",GetData!AG248)","v":""},null,null,null,null,null,null,null,{"$f":"IF(GetData!P248=\"\",\"\",GetData!P248)","v":""},{"$f":"IF(GetData!AH248=\"\",\"\",GetData!AH248)","v":""}]
[null,null,null,null,null,null,null,null,null,{"$f":"IF(GetData!Q249=\"\",\"\",GetData!Q249)","v":""},{"$f":"IF(GetData!AI249=\"\",\"\",GetData!AI249)","v":""},null,null,null,null,null,null,null,{"$f":"IF(GetData!O249=\"\",\"\",GetData!O249)","v":""},{"$f":"IF(GetData!AG249=\"\",\"\",GetData!AG249)","v":""},null,null,null,null,null,null,null,{"$f":"IF(GetData!P249=\"\",\"\",GetData!P249)","v":""},{"$f":"IF(GetData!AH249=\"\",\"\",GetData!AH249)","v":""}]
[null,null,null,null,null,null,null,null,null,{"$f":"IF(GetData!Q250=\"\",\"\",GetData!Q250)","v":""},{"$f":"IF(GetData!AI250=\"\",\"\",GetData!AI250)","v":""},null,null,null,null,null,null,null,{"$f":"IF(GetData!O250=\"\",\"\",GetData!O250)","v":""},{"$f":"IF(GetData!AG250=\"\",\"\",GetData!AG250)","v":""},null,null,null,null,null,null,null,{"$f":"IF(GetData!P250=\"\",\"\",GetData!P250)","v":""},{"$f":"IF(GetData!AH250=\"\",\"\",GetData!AH250)","v":""}]
[null,null,null,null,null,null,null,null,null,{"$f":"IF(GetData!Q251=\"\",\"\",GetData!Q251)","v":""},{"$f":"IF(GetData!AI251=\"\",\"\",GetData!AI251)","v":""},null,null,null,null,null,null,null,{"$f":"IF(GetData!O251=\"\",\"\",GetData!O251)","v":""},{"$f":"IF(GetData!AG251=\"\",\"\",GetData!AG251)","v":""},null,null,null,null,null,null,null,{"$f":"IF(GetData!P251=\"\",\"\",GetData!P251)","v":""},{"$f":"IF(GetData!AH251=\"\",\"\",GetData!AH251)","v":""}]
[null,null,null,null,null,null,null,null,null,{"$f":"IF(GetData!Q252=\"\",\"\",GetData!Q252)","v":""},{"$f":"IF(GetData!AI252=\"\",\"\",GetData!AI252)","v":""},null,null,null,null,null,null,null,{"$f":"IF(GetData!O252=\"\",\"\",GetData!O252)","v":""},{"$f":"IF(GetData!AG252=\"\",\"\",GetData!AG252)","v":""},null,null,null,null,null,null,null,{"$f":"IF(GetData!P252=\"\",\"\",GetData!P252)","v":""},{"$f":"IF(GetData!AH252=\"\",\"\",GetData!AH252)","v":""}]
[null,null,null,null,null,null,null,null,null,{"$f":"IF(GetData!Q253=\"\",\"\",GetData!Q253)","v":""},{"$f":"IF(GetData!AI253=\"\",\"\",GetData!AI253)","v":""},null,null,null,null,null,null,null,{"$f":"IF(GetData!O253=\"\",\"\",GetData!O253)","v":""},{"$f":"IF(GetData!AG253=\"\",\"\",GetData!AG253)","v":""},null,null,null,null,null,null,null,{"$f":"IF(GetData!P253=\"\",\"\",GetData!P253)","v":""},{"$f":"IF(GetData!AH253=\"\",\"\",GetData!AH253)","v":""}]
[null,null,null,null,null,null,null,null,null,{"$f":"IF(GetData!Q254=\"\",\"\",GetData!Q254)","v":""},{"$f":"IF(GetData!AI254=\"\",\"\",GetData!AI254)","v":""},null,null,null,null,null,null,null,{"$f":"IF(GetData!O254=\"\",\"\",GetData!O254)","v":""},{"$f":"IF(GetData!AG254=\"\",\"\",GetData!AG254)","v":""},null,null,null,null,null,null,null,{"$f":"IF(GetData!P254=\"\",\"\",GetData!P254)","v":""},{"$f":"IF(GetData!AH254=\"\",\"\",GetData!AH254)","v":""}]
[null,null,null,null,null,null,null,null,null,{"$f":"IF(GetData!Q255=\"\",\"\",GetData!Q255)","v":""},{"$f":"IF(GetData!AI255=\"\",\"\",GetData!AI255)","v":""},null,null,null,null,null,null,null,{"$f":"IF(GetData!O255=\"\",\"\",GetData!O255)","v":""},{"$f":"IF(GetData!AG255=\"\",\"\",GetData!AG255)","v":""},null,null,null,null,null,null,null,{"$f":"IF(GetData!P255=\"\",\"\",GetData!P255)","v":""},{"$f":"IF(GetData!AH255=\"\",\"\",GetData!AH255)","v":""}]
[null,null,null,null,null,null,null,null,null,{"$f":"IF(GetData!Q256=\"\",\"\",GetData!Q256)","v":""},{"$f":"IF(GetData!AI256=\"\",\"\",GetData!AI256)","v":""},null,null,null,null,null,null,null,{"$f":"IF(GetData!O256=\"\",\"\",GetData!O256)","v":""},{"$f":"IF(GetData!AG256=\"\",\"\",GetData!AG256)","v":""},null,null,null,null,null,null,null,{"$f":"IF(GetData!P256=\"\",\"\",GetData!P256)","v":""},{"$f":"IF(GetData!AH256=\"\",\"\",GetData!AH256)","v":""}]
[null,null,null,null,null,null,null,null,null,{"$f":"IF(GetData!Q257=\"\",\"\",GetData!Q257)","v":""},{"$f":"IF(GetData!AI257=\"\",\"\",GetData!AI257)","v":""},null,null,null,null,null,null,null,{"$f":"IF(GetData!O257=\"\",\"\",GetData!O257)","v":""},{"$f":"IF(GetData!AG257=\"\",\"\",GetData!AG257)","v":""},null,null,null,null,null,null,null,{"$f":"IF(GetData!P257=\"\",\"\",GetData!P257)","v":""},{"$f":"IF(GetData!AH257=\"\",\"\",GetData!AH257)","v":""}]
[null,null,null,null,null,null,null,null,null,{"$f":"IF(GetData!Q258=\"\",\"\",GetData!Q258)","v":""},{"$f":"IF(GetData!AI258=\"\",\"\",GetData!AI258)","v":""},null,null,null,null,null,null,null,{"$f":"IF(GetData!O258=\"\",\"\",GetData!O258)","v":""},{"$f":"IF(GetData!AG258=\"\",\"\",GetData!AG258)","v":""},null,null,null,null,null,null,null,{"$f":"IF(GetData!P258=\"\",\"\",GetData!P258)","v":""},{"$f":"IF(GetData!AH258=\"\",\"\",GetData!AH258)","v":""}]
[null,null,null,null,null,null,null,null,null,{"$f":"IF(GetData!Q259=\"\",\"\",GetData!Q259)","v":""},{"$f":"IF(GetData!AI259=\"\",\"\",GetData!AI259)","v":""},null,null,null,null,null,null,null,{"$f":"IF(GetData!O259=\"\",\"\",GetData!O259)","v":""},{"$f":"IF(GetData!AG259=\"\",\"\",GetData!AG259)","v":""},null,null,null,null,null,null,null,{"$f":"IF(GetData!P259=\"\",\"\",GetData!P259)","v":""},{"$f":"IF(GetData!AH259=\"\",\"\",GetData!AH259)","v":""}]
[null,null,null,null,null,null,null,null,null,{"$f":"IF(GetData!Q260=\"\",\"\",GetData!Q260)","v":""},{"$f":"IF(GetData!AI260=\"\",\"\",GetData!AI260)","v":""},null,null,null,null,null,null,null,{"$f":"IF(GetData!O260=\"\",\"\",GetData!O260)","v":""},{"$f":"IF(GetData!AG260=\"\",\"\",GetData!AG260)","v":""},null,null,null,null,null,null,null,{"$f":"IF(GetData!P260=\"\",\"\",GetData!P260)","v":""},{"$f":"IF(GetData!AH260=\"\",\"\",GetData!AH260)","v":""}]
[null,null,null,null,null,null,null,null,null,{"$f":"IF(GetData!Q261=\"\",\"\",GetData!Q261)","v":""},{"$f":"IF(GetData!AI261=\"\",\"\",GetData!AI261)","v":""},null,null,null,null,null,null,null,{"$f":"IF(GetData!O261=\"\",\"\",GetData!O261)","v":""},{"$f":"IF(GetData!AG261=\"\",\"\",GetData!AG261)","v":""},null,null,null,null,null,null,null,{"$f":"IF(GetData!P261=\"\",\"\",GetData!P261)","v":""},{"$f":"IF(GetData!AH261=\"\",\"\",GetData!AH261)","v":""}]
[null,null,null,null,null,null,null,null,null,{"$f":"IF(GetData!Q262=\"\",\"\",GetData!Q262)","v":""},{"$f":"IF(GetData!AI262=\"\",\"\",GetData!AI262)","v":""},null,null,null,null,null,null,null,{"$f":"IF(GetData!O262=\"\",\"\",GetData!O262)","v":""},{"$f":"IF(GetData!AG262=\"\",\"\",GetData!AG262)","v":""},null,null,null,null,null,null,null,{"$f":"IF(GetData!P262=\"\",\"\",GetData!P262)","v":""},{"$f":"IF(GetData!AH262=\"\",\"\",GetData!AH262)","v":""}]
[null,null,null,null,null,null,null,null,null,{"$f":"IF(GetData!Q263=\"\",\"\",GetData!Q263)","v":""},{"$f":"IF(GetData!AI263=\"\",\"\",GetData!AI263)","v":""},null,null,null,null,null,null,null,{"$f":"IF(GetData!O263=\"\",\"\",GetData!O263)","v":""},{"$f":"IF(GetData!AG263=\"\",\"\",GetData!AG263)","v":""},null,null,null,null,null,null,null,{"$f":"IF(GetData!P263=\"\",\"\",GetData!P263)","v":""},{"$f":"IF(GetData!AH263=\"\",\"\",GetData!AH263)","v":""}]
[null,null,null,null,null,null,null,null,null,{"$f":"IF(GetData!Q264=\"\",\"\",GetData!Q264)","v":""},{"$f":"IF(GetData!AI264=\"\",\"\",GetData!AI264)","v":""},null,null,null,null,null,null,null,{"$f":"IF(GetData!O264=\"\",\"\",GetData!O264)","v":""},{"$f":"IF(GetData!AG264=\"\",\"\",GetData!AG264)","v":""},null,null,null,null,null,null,null,{"$f":"IF(GetData!P264=\"\",\"\",GetData!P264)","v":""},{"$f":"IF(GetData!AH264=\"\",\"\",GetData!AH264)","v":""}]
[null,null,null,null,null,null,null,null,null,{"$f":"IF(GetData!Q265=\"\",\"\",GetData!Q265)","v":""},{"$f":"IF(GetData!AI265=\"\",\"\",GetData!AI265)","v":""},null,null,null,null,null,null,null,{"$f":"IF(GetData!O265=\"\",\"\",GetData!O265)","v":""},{"$f":"IF(GetData!AG265=\"\",\"\",GetData!AG265)","v":""},null,null,null,null,null,null,null,{"$f":"IF(GetData!P265=\"\",\"\",GetData!P265)","v":""},{"$f":"IF(GetData!AH265=\"\",\"\",GetData!AH265)","v":""}]
[null,null,null,null,null,null,null,null,null,{"$f":"IF(GetData!Q266=\"\",\"\",GetData!Q266)","v":""},{"$f":"IF(GetData!AI266=\"\",\"\",GetData!AI266)","v":""},null,null,null,null,null,null,null,{"$f":"IF(GetData!O266=\"\",\"\",GetData!O266)","v":""},{"$f":"IF(GetData!AG266=\"\",\"\",GetData!AG266)","v":""},null,null,null,null,null,null,null,{"$f":"IF(GetData!P266=\"\",\"\",GetData!P266)","v":""},{"$f":"IF(GetData!AH266=\"\",\"\",GetData!AH266)","v":""}]
[null,null,null,null,null,null,null,null,null,{"$f":"IF(GetData!Q267=\"\",\"\",GetData!Q267)","v":""},{"$f":"IF(GetData!AI267=\"\",\"\",GetData!AI267)","v":""},null,null,null,null,null,null,null,{"$f":"IF(GetData!O267=\"\",\"\",GetData!O267)","v":""},{"$f":"IF(GetData!AG267=\"\",\"\",GetData!AG267)","v":""},null,null,null,null,null,null,null,{"$f":"IF(GetData!P267=\"\",\"\",GetData!P267)","v":""},{"$f":"IF(GetData!AH267=\"\",\"\",GetData!AH267)","v":""}]
[null,null,null,null,null,null,null,null,null,{"$f":"IF(GetData!Q268=\"\",\"\",GetData!Q268)","v":""},{"$f":"IF(GetData!AI268=\"\",\"\",GetData!AI268)","v":""},null,null,null,null,null,null,null,{"$f":"IF(GetData!O268=\"\",\"\",GetData!O268)","v":""},{"$f":"IF(GetData!AG268=\"\",\"\",GetData!AG268)","v":""},null,null,null,null,null,null,null,{"$f":"IF(GetData!P268=\"\",\"\",GetData!P268)","v":""},{"$f":"IF(GetData!AH268=\"\",\"\",GetData!AH268)","v":""}]
[null,null,null,null,null,null,null,null,null,{"$f":"IF(GetData!Q269=\"\",\"\",GetData!Q269)","v":""},{"$f":"IF(GetData!AI269=\"\",\"\",GetData!AI269)","v":""},null,null,null,null,null,null,null,{"$f":"IF(GetData!O269=\"\",\"\",GetData!O269)","v":""},{"$f":"IF(GetData!AG269=\"\",\"\",GetData!AG269)","v":""},null,null,null,null,null,null,null,{"$f":"IF(GetData!P269=\"\",\"\",GetData!P269)","v":""},{"$f":"IF(GetData!AH269=\"\",\"\",GetData!AH269)","v":""}]
[null,null,null,null,null,null,null,null,null,{"$f":"IF(GetData!Q270=\"\",\"\",GetData!Q270)","v":""},{"$f":"IF(GetData!AI270=\"\",\"\",GetData!AI270)","v":""},null,null,null,null,null,null,null,{"$f":"IF(GetData!O270=\"\",\"\",GetData!O270)","v":""},{"$f":"IF(GetData!AG270=\"\",\"\",GetData!AG270)","v":""},null,null,null,null,null,null,null,{"$f":"IF(GetData!P270=\"\",\"\",GetData!P270)","v":""},{"$f":"IF(GetData!AH270=\"\",\"\",GetData!AH270)","v":""}]
[null,null,null,null,null,null,null,null,null,{"$f":"IF(GetData!Q271=\"\",\"\",GetData!Q271)","v":""},{"$f":"IF(GetData!AI271=\"\",\"\",GetData!AI271)","v":""},null,null,null,null,null,null,null,{"$f":"IF(GetData!O271=\"\",\"\",GetData!O271)","v":""},{"$f":"IF(GetData!AG271=\"\",\"\",GetData!AG271)","v":""},null,null,null,null,null,null,null,{"$f":"IF(GetData!P271=\"\",\"\",GetData!P271)","v":""},{"$f":"IF(GetData!AH271=\"\",\"\",GetData!AH271)","v":""}]
[null,null,null,null,null,null,null,null,null,{"$f":"IF(GetData!Q272=\"\",\"\",GetData!Q272)","v":""},{"$f":"IF(GetData!AI272=\"\",\"\",GetData!AI272)","v":""},null,null,null,null,null,null,null,{"$f":"IF(GetData!O272=\"\",\"\",GetData!O272)","v":""},{"$f":"IF(GetData!AG272=\"\",\"\",GetData!AG272)","v":""},null,null,null,null,null,null,null,{"$f":"IF(GetData!P272=\"\",\"\",GetData!P272)","v":""},{"$f":"IF(GetData!AH272=\"\",\"\",GetData!AH272)","v":""}]
[null,null,null,null,null,null,null,null,null,{"$f":"IF(GetData!Q273=\"\",\"\",GetData!Q273)","v":""},{"$f":"IF(GetData!AI273=\"\",\"\",GetData!AI273)","v":""},null,null,null,null,null,null,null,{"$f":"IF(GetData!O273=\"\",\"\",GetData!O273)","v":""},{"$f":"IF(GetData!AG273=\"\",\"\",GetData!AG273)","v":""},null,null,null,null,null,null,null,{"$f":"IF(GetData!P273=\"\",\"\",GetData!P273)","v":""},{"$f":"IF(GetData!AH273=\"\",\"\",GetData!AH273)","v":""}]
[null,null,null,null,null,null,null,null,null,{"$f":"IF(GetData!Q274=\"\",\"\",GetData!Q274)","v":""},{"$f":"IF(GetData!AI274=\"\",\"\",GetData!AI274)","v":""},null,null,null,null,null,null,null,{"$f":"IF(GetData!O274=\"\",\"\",GetData!O274)","v":""},{"$f":"IF(GetData!AG274=\"\",\"\",GetData!AG274)","v":""},null,null,null,null,null,null,null,{"$f":"IF(GetData!P274=\"\",\"\",GetData!P274)","v":""},{"$f":"IF(GetData!AH274=\"\",\"\",GetData!AH274)","v":""}]
[null,null,null,null,null,null,null,null,null,{"$f":"IF(GetData!Q275=\"\",\"\",GetData!Q275)","v":""},{"$f":"IF(GetData!AI275=\"\",\"\",GetData!AI275)","v":""},null,null,null,null,null,null,null,{"$f":"IF(GetData!O275=\"\",\"\",GetData!O275)","v":""},{"$f":"IF(GetData!AG275=\"\",\"\",GetData!AG275)","v":""},null,null,null,null,null,null,null,{"$f":"IF(GetData!P275=\"\",\"\",GetData!P275)","v":""},{"$f":"IF(GetData!AH275=\"\",\"\",GetData!AH275)","v":""}]
[null,null,null,null,null,null,null,null,null,{"$f":"IF(GetData!Q276=\"\",\"\",GetData!Q276)","v":""},{"$f":"IF(GetData!AI276=\"\",\"\",GetData!AI276)","v":""},null,null,null,null,null,null,null,{"$f":"IF(GetData!O276=\"\",\"\",GetData!O276)","v":""},{"$f":"IF(GetData!AG276=\"\",\"\",GetData!AG276)","v":""},null,null,null,null,null,null,null,{"$f":"IF(GetData!P276=\"\",\"\",GetData!P276)","v":""},{"$f":"IF(GetData!AH276=\"\",\"\",GetData!AH276)","v":""}]
[null,null,null,null,null,null,null,null,null,{"$f":"IF(GetData!Q277=\"\",\"\",GetData!Q277)","v":""},{"$f":"IF(GetData!AI277=\"\",\"\",GetData!AI277)","v":""},null,null,null,null,null,null,null,{"$f":"IF(GetData!O277=\"\",\"\",GetData!O277)","v":""},{"$f":"IF(GetData!AG277=\"\",\"\",GetData!AG277)","v":""},null,null,null,null,null,null,null,{"$f":"IF(GetData!P277=\"\",\"\",GetData!P277)","v":""},{"$f":"IF(GetData!AH277=\"\",\"\",GetData!AH277)","v":""}]
[null,null,null,null,null,null,null,null,null,{"$f":"IF(GetData!Q278=\"\",\"\",GetData!Q278)","v":""},{"$f":"IF(GetData!AI278=\"\",\"\",GetData!AI278)","v":""},null,null,null,null,null,null,null,{"$f":"IF(GetData!O278=\"\",\"\",GetData!O278)","v":""},{"$f":"IF(GetData!AG278=\"\",\"\",GetData!AG278)","v":""},null,null,null,null,null,null,null,{"$f":"IF(GetData!P278=\"\",\"\",GetData!P278)","v":""},{"$f":"IF(GetData!AH278=\"\",\"\",GetData!AH278)","v":""}]
[null,null,null,null,null,null,null,null,null,{"$f":"IF(GetData!Q279=\"\",\"\",GetData!Q279)","v":""},{"$f":"IF(GetData!AI279=\"\",\"\",GetData!AI279)","v":""},null,null,null,null,null,null,null,{"$f":"IF(GetData!O279=\"\",\"\",GetData!O279)","v":""},{"$f":"IF(GetData!AG279=\"\",\"\",GetData!AG279)","v":""},null,null,null,null,null,null,null,{"$f":"IF(GetData!P279=\"\",\"\",GetData!P279)","v":""},{"$f":"IF(GetData!AH279=\"\",\"\",GetData!AH279)","v":""}]
[null,null,null,null,null,null,null,null,null,{"$f":"IF(GetData!Q280=\"\",\"\",GetData!Q280)","v":""},{"$f":"IF(GetData!AI280=\"\",\"\",GetData!AI280)","v":""},null,null,null,null,null,null,null,{"$f":"IF(GetData!O280=\"\",\"\",GetData!O280)","v":""},{"$f":"IF(GetData!AG280=\"\",\"\",GetData!AG280)","v":""},null,null,null,null,null,null,null,{"$f":"IF(GetData!P280=\"\",\"\",GetData!P280)","v":""},{"$f":"IF(GetData!AH280=\"\",\"\",GetData!AH280)","v":""}]
[null,null,null,null,null,null,null,null,null,{"$f":"IF(GetData!Q281=\"\",\"\",GetData!Q281)","v":""},{"$f":"IF(GetData!AI281=\"\",\"\",GetData!AI281)","v":""},null,null,null,null,null,null,null,{"$f":"IF(GetData!O281=\"\",\"\",GetData!O281)","v":""},{"$f":"IF(GetData!AG281=\"\",\"\",GetData!AG281)","v":""},null,null,null,null,null,null,null,{"$f":"IF(GetData!P281=\"\",\"\",GetData!P281)","v":""},{"$f":"IF(GetData!AH281=\"\",\"\",GetData!AH281)","v":""}]
[null,null,null,null,null,null,null,null,null,{"$f":"IF(GetData!Q282=\"\",\"\",GetData!Q282)","v":""},{"$f":"IF(GetData!AI282=\"\",\"\",GetData!AI282)","v":""},null,null,null,null,null,null,null,{"$f":"IF(GetData!O282=\"\",\"\",GetData!O282)","v":""},{"$f":"IF(GetData!AG282=\"\",\"\",GetData!AG282)","v":""},null,null,null,null,null,null,null,{"$f":"IF(GetData!P282=\"\",\"\",GetData!P282)","v":""},{"$f":"IF(GetData!AH282=\"\",\"\",GetData!AH282)","v":""}]
[null,null,null,null,null,null,null,null,null,{"$f":"IF(GetData!Q283=\"\",\"\",GetData!Q283)","v":""},{"$f":"IF(GetData!AI283=\"\",\"\",GetData!AI283)","v":""},null,null,null,null,null,null,null,{"$f":"IF(GetData!O283=\"\",\"\",GetData!O283)","v":""},{"$f":"IF(GetData!AG283=\"\",\"\",GetData!AG283)","v":""},null,null,null,null,null,null,null,{"$f":"IF(GetData!P283=\"\",\"\",GetData!P283)","v":""},{"$f":"IF(GetData!AH283=\"\",\"\",GetData!AH283)","v":""}]
[null,null,null,null,null,null,null,null,null,{"$f":"IF(GetData!Q284=\"\",\"\",GetData!Q284)","v":""},{"$f":"IF(GetData!AI284=\"\",\"\",GetData!AI284)","v":""},null,null,null,null,null,null,null,{"$f":"IF(GetData!O284=\"\",\"\",GetData!O284)","v":""},{"$f":"IF(GetData!AG284=\"\",\"\",GetData!AG284)","v":""},null,null,null,null,null,null,null,{"$f":"IF(GetData!P284=\"\",\"\",GetData!P284)","v":""},{"$f":"IF(GetData!AH284=\"\",\"\",GetData!AH284)","v":""}]
[null,null,null,null,null,null,null,null,null,{"$f":"IF(GetData!Q285=\"\",\"\",GetData!Q285)","v":""},{"$f":"IF(GetData!AI285=\"\",\"\",GetData!AI285)","v":""},null,null,null,null,null,null,null,{"$f":"IF(GetData!O285=\"\",\"\",GetData!O285)","v":""},{"$f":"IF(GetData!AG285=\"\",\"\",GetData!AG285)","v":""},null,null,null,null,null,null,null,{"$f":"IF(GetData!P285=\"\",\"\",GetData!P285)","v":""},{"$f":"IF(GetData!AH285=\"\",\"\",GetData!AH285)","v":""}]
[null,null,null,null,null,null,null,null,null,{"$f":"IF(GetData!Q286=\"\",\"\",GetData!Q286)","v":""},{"$f":"IF(GetData!AI286=\"\",\"\",GetData!AI286)","v":""},null,null,null,null,null,null,null,{"$f":"IF(GetData!O286=\"\",\"\",GetData!O286)","v":""},{"$f":"IF(GetData!AG286=\"\",\"\",GetData!AG286)","v":""},null,null,null,null,null,null,null,{"$f":"IF(GetData!P286=\"\",\"\",GetData!P286)","v":""},{"$f":"IF(GetData!AH286=\"\",\"\",GetData!AH286)","v":""}]
[null,null,null,null,null,null,null,null,null,{"$f":"IF(GetData!Q287=\"\",\"\",GetData!Q287)","v":""},{"$f":"IF(GetData!AI287=\"\",\"\",GetData!AI287)","v":""},null,null,null,null,null,null,null,{"$f":"IF(GetData!O287=\"\",\"\",GetData!O287)","v":""},{"$f":"IF(GetData!AG287=\"\",\"\",GetData!AG287)","v":""},null,null,null,null,null,null,null,{"$f":"IF(GetData!P287=\"\",\"\",GetData!P287)","v":""},{"$f":"IF(GetData!AH287=\"\",\"\",GetData!AH287)","v":""}]
[null,null,null,null,null,null,null,null,null,{"$f":"IF(GetData!Q288=\"\",\"\",GetData!Q288)","v":""},{"$f":"IF(GetData!AI288=\"\",\"\",GetData!AI288)","v":""},null,null,null,null,null,null,null,{"$f":"IF(GetData!O288=\"\",\"\",GetData!O288)","v":""},{"$f":"IF(GetData!AG288=\"\",\"\",GetData!AG288)","v":""},null,null,null,null,null,null,null,{"$f":"IF(GetData!P288=\"\",\"\",GetData!P288)","v":""},{"$f":"IF(GetData!AH288=\"\",\"\",GetData!AH288)","v":""}]
[null,null,null,null,null,null,null,null,null,{"$f":"IF(GetData!Q289=\"\",\"\",GetData!Q289)","v":""},{"$f":"IF(GetData!AI289=\"\",\"\",GetData!AI289)","v":""},null,null,null,null,null,null,null,{"$f":"IF(GetData!O289=\"\",\"\",GetData!O289)","v":""},{"$f":"IF(GetData!AG289=\"\",\"\",GetData!AG289)","v":""},null,null,null,null,null,null,null,{"$f":"IF(GetData!P289=\"\",\"\",GetData!P289)","v":""},{"$f":"IF(GetData!AH289=\"\",\"\",GetData!AH289)","v":""}]
[null,null,null,null,null,null,null,null,null,{"$f":"IF(GetData!Q290=\"\",\"\",GetData!Q290)","v":""},{"$f":"IF(GetData!AI290=\"\",\"\",GetData!AI290)","v":""},null,null,null,null,null,null,null,{"$f":"IF(GetData!O290=\"\",\"\",GetData!O290)","v":""},{"$f":"IF(GetData!AG290=\"\",\"\",GetData!AG290)","v":""},null,null,null,null,null,null,null,{"$f":"IF(GetData!P290=\"\",\"\",GetData!P290)","v":""},{"$f":"IF(GetData!AH290=\"\",\"\",GetData!AH290)","v":""}]
[null,null,null,null,null,null,null,null,null,{"$f":"IF(GetData!Q291=\"\",\"\",GetData!Q291)","v":""},{"$f":"IF(GetData!AI291=\"\",\"\",GetData!AI291)","v":""},null,null,null,null,null,null,null,{"$f":"IF(GetData!O291=\"\",\"\",GetData!O291)","v":""},{"$f":"IF(GetData!AG291=\"\",\"\",GetData!AG291)","v":""},null,null,null,null,null,null,null,{"$f":"IF(GetData!P291=\"\",\"\",GetData!P291)","v":""},{"$f":"IF(GetData!AH291=\"\",\"\",GetData!AH291)","v":""}]
[null,null,null,null,null,null,null,null,null,{"$f":"IF(GetData!Q292=\"\",\"\",GetData!Q292)","v":""},{"$f":"IF(GetData!AI292=\"\",\"\",GetData!AI292)","v":""},null,null,null,null,null,null,null,{"$f":"IF(GetData!O292=\"\",\"\",GetData!O292)","v":""},{"$f":"IF(GetData!AG292=\"\",\"\",GetData!AG292)","v":""},null,null,null,null,null,null,null,{"$f":"IF(GetData!P292=\"\",\"\",GetData!P292)","v":""},{"$f":"IF(GetData!AH292=\"\",\"\",GetData!AH292)","v":""}]
[null,null,null,null,null,null,null,null,null,{"$f":"IF(GetData!Q293=\"\",\"\",GetData!Q293)","v":""},{"$f":"IF(GetData!AI293=\"\",\"\",GetData!AI293)","v":""},null,null,null,null,null,null,null,{"$f":"IF(GetData!O293=\"\",\"\",GetData!O293)","v":""},{"$f":"IF(GetData!AG293=\"\",\"\",GetData!AG293)","v":""},null,null,null,null,null,null,null,{"$f":"IF(GetData!P293=\"\",\"\",GetData!P293)","v":""},{"$f":"IF(GetData!AH293=\"\",\"\",GetData!AH293)","v":""}]
[null,null,null,null,null,null,null,null,null,{"$f":"IF(GetData!Q294=\"\",\"\",GetData!Q294)","v":""},{"$f":"IF(GetData!AI294=\"\",\"\",GetData!AI294)","v":""},null,null,null,null,null,null,null,{"$f":"IF(GetData!O294=\"\",\"\",GetData!O294)","v":""},{"$f":"IF(GetData!AG294=\"\",\"\",GetData!AG294)","v":""},null,null,null,null,null,null,null,{"$f":"IF(GetData!P294=\"\",\"\",GetData!P294)","v":""},{"$f":"IF(GetData!AH294=\"\",\"\",GetData!AH294)","v":""}]
[null,null,null,null,null,null,null,null,null,{"$f":"IF(GetData!Q295=\"\",\"\",GetData!Q295)","v":""},{"$f":"IF(GetData!AI295=\"\",\"\",GetData!AI295)","v":""},null,null,null,null,null,null,null,{"$f":"IF(GetData!O295=\"\",\"\",GetData!O295)","v":""},{"$f":"IF(GetData!AG295=\"\",\"\",GetData!AG295)","v":""},null,null,null,null,null,null,null,{"$f":"IF(GetData!P295=\"\",\"\",GetData!P295)","v":""},{"$f":"IF(GetData!AH295=\"\",\"\",GetData!AH295)","v":""}]
[null,null,null,null,null,null,null,null,null,{"$f":"IF(GetData!Q296=\"\",\"\",GetData!Q296)","v":""},{"$f":"IF(GetData!AI296=\"\",\"\",GetData!AI296)","v":""},null,null,null,null,null,null,null,{"$f":"IF(GetData!O296=\"\",\"\",GetData!O296)","v":""},{"$f":"IF(GetData!AG296=\"\",\"\",GetData!AG296)","v":""},null,null,null,null,null,null,null,{"$f":"IF(GetData!P296=\"\",\"\",GetData!P296)","v":""},{"$f":"IF(GetData!AH296=\"\",\"\",GetData!AH296)","v":""}]
[null,null,null,null,null,null,null,null,null,{"$f":"IF(GetData!Q297=\"\",\"\",GetData!Q297)","v":""},{"$f":"IF(GetData!AI297=\"\",\"\",GetData!AI297)","v":""},null,null,null,null,null,null,null,{"$f":"IF(GetData!O297=\"\",\"\",GetData!O297)","v":""},{"$f":"IF(GetData!AG297=\"\",\"\",GetData!AG297)","v":""},null,null,null,null,null,null,null,{"$f":"IF(GetData!P297=\"\",\"\",GetData!P297)","v":""},{"$f":"IF(GetData!AH297=\"\",\"\",GetData!AH297)","v":""}]
[null,null,null,null,null,null,null,null,null,{"$f":"IF(GetData!Q298=\"\",\"\",GetData!Q298)","v":""},{"$f":"IF(GetData!AI298=\"\",\"\",GetData!AI298)","v":""},null,null,null,null,null,null,null,{"$f":"IF(GetData!O298=\"\",\"\",GetData!O298)","v":""},{"$f":"IF(GetData!AG298=\"\",\"\",GetData!AG298)","v":""},null,null,null,null,null,null,null,{"$f":"IF(GetData!P298=\"\",\"\",GetData!P298)","v":""},{"$f":"IF(GetData!AH298=\"\",\"\",GetData!AH298)","v":""}]
[null,null,null,null,null,null,null,null,null,{"$f":"IF(GetData!Q299=\"\",\"\",GetData!Q299)","v":""},{"$f":"IF(GetData!AI299=\"\",\"\",GetData!AI299)","v":""},null,null,null,null,null,null,null,{"$f":"IF(GetData!O299=\"\",\"\",GetData!O299)","v":""},{"$f":"IF(GetData!AG299=\"\",\"\",GetData!AG299)","v":""},null,null,null,null,null,null,null,{"$f":"IF(GetData!P299=\"\",\"\",GetData!P299)","v":""},{"$f":"IF(GetData!AH299=\"\",\"\",GetData!AH299)","v":""}]
[null,null,null,null,null,null,null,null,null,{"$f":"IF(GetData!Q300=\"\",\"\",GetData!Q300)","v":""},{"$f":"IF(GetData!AI300=\"\",\"\",GetData!AI300)","v":""},null,null,null,null,null,null,null,{"$f":"IF(GetData!O300=\"\",\"\",GetData!O300)","v":""},{"$f":"IF(GetData!AG300=\"\",\"\",GetData!AG300)","v":""},null,null,null,null,null,null,null,{"$f":"IF(GetData!P300=\"\",\"\",GetData!P300)","v":""},{"$f":"IF(GetData!AH300=\"\",\"\",GetData!AH300)","v":""}]
[null,null,null,null,null,null,null,null,null,{"$f":"IF(GetData!Q301=\"\",\"\",GetData!Q301)","v":""},{"$f":"IF(GetData!AI301=\"\",\"\",GetData!AI301)","v":""},null,null,null,null,null,null,null,{"$f":"IF(GetData!O301=\"\",\"\",GetData!O301)","v":""},{"$f":"IF(GetData!AG301=\"\",\"\",GetData!AG301)","v":""},null,null,null,null,null,null,null,{"$f":"IF(GetData!P301=\"\",\"\",GetData!P301)","v":""},{"$f":"IF(GetData!AH301=\"\",\"\",GetData!AH301)","v":""}]
[null,null,null,null,null,null,null,null,null,{"$f":"IF(GetData!Q302=\"\",\"\",GetData!Q302)","v":""},{"$f":"IF(GetData!AI302=\"\",\"\",GetData!AI302)","v":""},null,null,null,null,null,null,null,{"$f":"IF(GetData!O302=\"\",\"\",GetData!O302)","v":""},{"$f":"IF(GetData!AG302=\"\",\"\",GetData!AG302)","v":""},null,null,null,null,null,null,null,{"$f":"IF(GetData!P302=\"\",\"\",GetData!P302)","v":""},{"$f":"IF(GetData!AH302=\"\",\"\",GetData!AH302)","v":""}]
[null,null,null,null,null,null,null,null,null,{"$f":"IF(GetData!Q303=\"\",\"\",GetData!Q303)","v":""},{"$f":"IF(GetData!AI303=\"\",\"\",GetData!AI303)","v":""},null,null,null,null,null,null,null,{"$f":"IF(GetData!O303=\"\",\"\",GetData!O303)","v":""},{"$f":"IF(GetData!AG303=\"\",\"\",GetData!AG303)","v":""},null,null,null,null,null,null,null,{"$f":"IF(GetData!P303=\"\",\"\",GetData!P303)","v":""},{"$f":"IF(GetData!AH303=\"\",\"\",GetData!AH303)","v":""}]
[null,null,null,null,null,null,null,null,null,{"$f":"IF(GetData!Q304=\"\",\"\",GetData!Q304)","v":""},{"$f":"IF(GetData!AI304=\"\",\"\",GetData!AI304)","v":""},null,null,null,null,null,null,null,{"$f":"IF(GetData!O304=\"\",\"\",GetData!O304)","v":""},{"$f":"IF(GetData!AG304=\"\",\"\",GetData!AG304)","v":""},null,null,null,null,null,null,null,{"$f":"IF(GetData!P304=\"\",\"\",GetData!P304)","v":""},{"$f":"IF(GetData!AH304=\"\",\"\",GetData!AH304)","v":""}]
[null,null,null,null,null,null,null,null,null,{"$f":"IF(GetData!Q305=\"\",\"\",GetData!Q305)","v":""},{"$f":"IF(GetData!AI305=\"\",\"\",GetData!AI305)","v":""},null,null,null,null,null,null,null,{"$f":"IF(GetData!O305=\"\",\"\",GetData!O305)","v":""},{"$f":"IF(GetData!AG305=\"\",\"\",GetData!AG305)","v":""},null,null,null,null,null,null,null,{"$f":"IF(GetData!P305=\"\",\"\",GetData!P305)","v":""},{"$f":"IF(GetData!AH305=\"\",\"\",GetData!AH305)","v":""}]
[null,null,null,null,null,null,null,null,null,{"$f":"IF(GetData!Q306=\"\",\"\",GetData!Q306)","v":""},{"$f":"IF(GetData!AI306=\"\",\"\",GetData!AI306)","v":""},null,null,null,null,null,null,null,{"$f":"IF(GetData!O306=\"\",\"\",GetData!O306)","v":""},{"$f":"IF(GetData!AG306=\"\",\"\",GetData!AG306)","v":""},null,null,null,null,null,null,null,{"$f":"IF(GetData!P306=\"\",\"\",GetData!P306)","v":""},{"$f":"IF(GetData!AH306=\"\",\"\",GetData!AH306)","v":""}]
[null,null,null,null,null,null,null,null,null,{"$f":"IF(GetData!Q307=\"\",\"\",GetData!Q307)","v":""},{"$f":"IF(GetData!AI307=\"\",\"\",GetData!AI307)","v":""},null,null,null,null,null,null,null,{"$f":"IF(GetData!O307=\"\",\"\",GetData!O307)","v":""},{"$f":"IF(GetData!AG307=\"\",\"\",GetData!AG307)","v":""},null,null,null,null,null,null,null,{"$f":"IF(GetData!P307=\"\",\"\",GetData!P307)","v":""},{"$f":"IF(GetData!AH307=\"\",\"\",GetData!AH307)","v":""}]
[null,null,null,null,null,null,null,null,null,{"$f":"IF(GetData!Q308=\"\",\"\",GetData!Q308)","v":""},{"$f":"IF(GetData!AI308=\"\",\"\",GetData!AI308)","v":""},null,null,null,null,null,null,null,{"$f":"IF(GetData!O308=\"\",\"\",GetData!O308)","v":""},{"$f":"IF(GetData!AG308=\"\",\"\",GetData!AG308)","v":""},null,null,null,null,null,null,null,{"$f":"IF(GetData!P308=\"\",\"\",GetData!P308)","v":""},{"$f":"IF(GetData!AH308=\"\",\"\",GetData!AH308)","v":""}]
[null,null,null,null,null,null,null,null,null,{"$f":"IF(GetData!Q309=\"\",\"\",GetData!Q309)","v":""},{"$f":"IF(GetData!AI309=\"\",\"\",GetData!AI309)","v":""},null,null,null,null,null,null,null,{"$f":"IF(GetData!O309=\"\",\"\",GetData!O309)","v":""},{"$f":"IF(GetData!AG309=\"\",\"\",GetData!AG309)","v":""},null,null,null,null,null,null,null,{"$f":"IF(GetData!P309=\"\",\"\",GetData!P309)","v":""},{"$f":"IF(GetData!AH309=\"\",\"\",GetData!AH309)","v":""}]
[null,null,null,null,null,null,null,null,null,{"$f":"IF(GetData!Q310=\"\",\"\",GetData!Q310)","v":""},{"$f":"IF(GetData!AI310=\"\",\"\",GetData!AI310)","v":""},null,null,null,null,null,null,null,{"$f":"IF(GetData!O310=\"\",\"\",GetData!O310)","v":""},{"$f":"IF(GetData!AG310=\"\",\"\",GetData!AG310)","v":""},null,null,null,null,null,null,null,{"$f":"IF(GetData!P310=\"\",\"\",GetData!P310)","v":""},{"$f":"IF(GetData!AH310=\"\",\"\",GetData!AH310)","v":""}]
[null,null,null,null,null,null,null,null,null,{"$f":"IF(GetData!Q311=\"\",\"\",GetData!Q311)","v":""},{"$f":"IF(GetData!AI311=\"\",\"\",GetData!AI311)","v":""},null,null,null,null,null,null,null,{"$f":"IF(GetData!O311=\"\",\"\",GetData!O311)","v":""},{"$f":"IF(GetData!AG311=\"\",\"\",GetData!AG311)","v":""},null,null,null,null,null,null,null,{"$f":"IF(GetData!P311=\"\",\"\",GetData!P311)","v":""},{"$f":"IF(GetData!AH311=\"\",\"\",GetData!AH311)","v":""}]
[null,null,null,null,null,null,null,null,null,{"$f":"IF(GetData!Q312=\"\",\"\",GetData!Q312)","v":""},{"$f":"IF(GetData!AI312=\"\",\"\",GetData!AI312)","v":""},null,null,null,null,null,null,null,{"$f":"IF(GetData!O312=\"\",\"\",GetData!O312)","v":""},{"$f":"IF(GetData!AG312=\"\",\"\",GetData!AG312)","v":""},null,null,null,null,null,null,null,{"$f":"IF(GetData!P312=\"\",\"\",GetData!P312)","v":""},{"$f":"IF(GetData!AH312=\"\",\"\",GetData!AH312)","v":""}]
[null,null,null,null,null,null,null,null,null,{"$f":"IF(GetData!Q313=\"\",\"\",GetData!Q313)","v":""},{"$f":"IF(GetData!AI313=\"\",\"\",GetData!AI313)","v":""},null,null,null,null,null,null,null,{"$f":"IF(GetData!O313=\"\",\"\",GetData!O313)","v":""},{"$f":"IF(GetData!AG313=\"\",\"\",GetData!AG313)","v":""},null,null,null,null,null,null,null,{"$f":"IF(GetData!P313=\"\",\"\",GetData!P313)","v":""},{"$f":"IF(GetData!AH313=\"\",\"\",GetData!AH313)","v":""}]
[null,null,null,null,null,null,null,null,null,{"$f":"IF(GetData!Q314=\"\",\"\",GetData!Q314)","v":""},{"$f":"IF(GetData!AI314=\"\",\"\",GetData!AI314)","v":""},null,null,null,null,null,null,null,{"$f":"IF(GetData!O314=\"\",\"\",GetData!O314)","v":""},{"$f":"IF(GetData!AG314=\"\",\"\",GetData!AG314)","v":""},null,null,null,null,null,null,null,{"$f":"IF(GetData!P314=\"\",\"\",GetData!P314)","v":""},{"$f":"IF(GetData!AH314=\"\",\"\",GetData!AH314)","v":""}]
[null,null,null,null,null,null,null,null,null,{"$f":"IF(GetData!Q315=\"\",\"\",GetData!Q315)","v":""},{"$f":"IF(GetData!AI315=\"\",\"\",GetData!AI315)","v":""},null,null,null,null,null,null,null,{"$f":"IF(GetData!O315=\"\",\"\",GetData!O315)","v":""},{"$f":"IF(GetData!AG315=\"\",\"\",GetData!AG315)","v":""},null,null,null,null,null,null,null,{"$f":"IF(GetData!P315=\"\",\"\",GetData!P315)","v":""},{"$f":"IF(GetData!AH315=\"\",\"\",GetData!AH315)","v":""}]
[null,null,null,null,null,null,null,null,null,{"$f":"IF(GetData!Q316=\"\",\"\",GetData!Q316)","v":""},{"$f":"IF(GetData!AI316=\"\",\"\",GetData!AI316)","v":""},null,null,null,null,null,null,null,{"$f":"IF(GetData!O316=\"\",\"\",GetData!O316)","v":""},{"$f":"IF(GetData!AG316=\"\",\"\",GetData!AG316)","v":""},null,null,null,null,null,null,null,{"$f":"IF(GetData!P316=\"\",\"\",GetData!P316)","v":""},{"$f":"IF(GetData!AH316=\"\",\"\",GetData!AH316)","v":""}]
[null,null,null,null,null,null,null,null,null,{"$f":"IF(GetData!Q317=\"\",\"\",GetData!Q317)","v":""},{"$f":"IF(GetData!AI317=\"\",\"\",GetData!AI317)","v":""},null,null,null,null,null,null,null,{"$f":"IF(GetData!O317=\"\",\"\",GetData!O317)","v":""},{"$f":"IF(GetData!AG317=\"\",\"\",GetData!AG317)","v":""},null,null,null,null,null,null,null,{"$f":"IF(GetData!P317=\"\",\"\",GetData!P317)","v":""},{"$f":"IF(GetData!AH317=\"\",\"\",GetData!AH317)","v":""}]
[null,null,null,null,null,null,null,null,null,{"$f":"IF(GetData!Q318=\"\",\"\",GetData!Q318)","v":""},{"$f":"IF(GetData!AI318=\"\",\"\",GetData!AI318)","v":""},null,null,null,null,null,null,null,{"$f":"IF(GetData!O318=\"\",\"\",GetData!O318)","v":""},{"$f":"IF(GetData!AG318=\"\",\"\",GetData!AG318)","v":""},null,null,null,null,null,null,null,{"$f":"IF(GetData!P318=\"\",\"\",GetData!P318)","v":""},{"$f":"IF(GetData!AH318=\"\",\"\",GetData!AH318)","v":""}]
[null,null,null,null,null,null,null,null,null,{"$f":"IF(GetData!Q319=\"\",\"\",GetData!Q319)","v":""},{"$f":"IF(GetData!AI319=\"\",\"\",GetData!AI319)","v":""},null,null,null,null,null,null,null,{"$f":"IF(GetData!O319=\"\",\"\",GetData!O319)","v":""},{"$f":"IF(GetData!AG319=\"\",\"\",GetData!AG319)","v":""},null,null,null,null,null,null,null,{"$f":"IF(GetData!P319=\"\",\"\",GetData!P319)","v":""},{"$f":"IF(GetData!AH319=\"\",\"\",GetData!AH319)","v":""}]
[null,null,null,null,null,null,null,null,null,{"$f":"IF(GetData!Q320=\"\",\"\",GetData!Q320)","v":""},{"$f":"IF(GetData!AI320=\"\",\"\",GetData!AI320)","v":""},null,null,null,null,null,null,null,{"$f":"IF(GetData!O320=\"\",\"\",GetData!O320)","v":""},{"$f":"IF(GetData!AG320=\"\",\"\",GetData!AG320)","v":""},null,null,null,null,null,null,null,{"$f":"IF(GetData!P320=\"\",\"\",GetData!P320)","v":""},{"$f":"IF(GetData!AH320=\"\",\"\",GetData!AH320)","v":""}]
[null,null,null,null,null,null,null,null,null,{"$f":"IF(GetData!Q321=\"\",\"\",GetData!Q321)","v":""},{"$f":"IF(GetData!AI321=\"\",\"\",GetData!AI321)","v":""},null,null,null,null,null,null,null,{"$f":"IF(GetData!O321=\"\",\"\",GetData!O321)","v":""},{"$f":"IF(GetData!AG321=\"\",\"\",GetData!AG321)","v":""},null,null,null,null,null,null,null,{"$f":"IF(GetData!P321=\"\",\"\",GetData!P321)","v":""},{"$f":"IF(GetData!AH321=\"\",\"\",GetData!AH321)","v":""}]
[null,null,null,null,null,null,null,null,null,{"$f":"IF(GetData!Q322=\"\",\"\",GetData!Q322)","v":""},{"$f":"IF(GetData!AI322=\"\",\"\",GetData!AI322)","v":""},null,null,null,null,null,null,null,{"$f":"IF(GetData!O322=\"\",\"\",GetData!O322)","v":""},{"$f":"IF(GetData!AG322=\"\",\"\",GetData!AG322)","v":""},null,null,null,null,null,null,null,{"$f":"IF(GetData!P322=\"\",\"\",GetData!P322)","v":""},{"$f":"IF(GetData!AH322=\"\",\"\",GetData!AH322)","v":""}]
[null,null,null,null,null,null,null,null,null,{"$f":"IF(GetData!Q323=\"\",\"\",GetData!Q323)","v":""},{"$f":"IF(GetData!AI323=\"\",\"\",GetData!AI323)","v":""},null,null,null,null,null,null,null,{"$f":"IF(GetData!O323=\"\",\"\",GetData!O323)","v":""},{"$f":"IF(GetData!AG323=\"\",\"\",GetData!AG323)","v":""},null,null,null,null,null,null,null,{"$f":"IF(GetData!P323=\"\",\"\",GetData!P323)","v":""},{"$f":"IF(GetData!AH323=\"\",\"\",GetData!AH323)","v":""}]
[null,null,null,null,null,null,null,null,null,{"$f":"IF(GetData!Q324=\"\",\"\",GetData!Q324)","v":""},{"$f":"IF(GetData!AI324=\"\",\"\",GetData!AI324)","v":""},null,null,null,null,null,null,null,{"$f":"IF(GetData!O324=\"\",\"\",GetData!O324)","v":""},{"$f":"IF(GetData!AG324=\"\",\"\",GetData!AG324)","v":""},null,null,null,null,null,null,null,{"$f":"IF(GetData!P324=\"\",\"\",GetData!P324)","v":""},{"$f":"IF(GetData!AH324=\"\",\"\",GetData!AH324)","v":""}]
[null,null,null,null,null,null,null,null,null,{"$f":"IF(GetData!Q325=\"\",\"\",GetData!Q325)","v":""},{"$f":"IF(GetData!AI325=\"\",\"\",GetData!AI325)","v":""},null,null,null,null,null,null,null,{"$f":"IF(GetData!O325=\"\",\"\",GetData!O325)","v":""},{"$f":"IF(GetData!AG325=\"\",\"\",GetData!AG325)","v":""},null,null,null,null,null,null,null,{"$f":"IF(GetData!P325=\"\",\"\",GetData!P325)","v":""},{"$f":"IF(GetData!AH325=\"\",\"\",GetData!AH325)","v":""}]
[null,null,null,null,null,null,null,null,null,{"$f":"IF(GetData!Q326=\"\",\"\",GetData!Q326)","v":""},{"$f":"IF(GetData!AI326=\"\",\"\",GetData!AI326)","v":""},null,null,null,null,null,null,null,{"$f":"IF(GetData!O326=\"\",\"\",GetData!O326)","v":""},{"$f":"IF(GetData!AG326=\"\",\"\",GetData!AG326)","v":""},null,null,null,null,null,null,null,{"$f":"IF(GetData!P326=\"\",\"\",GetData!P326)","v":""},{"$f":"IF(GetData!AH326=\"\",\"\",GetData!AH326)","v":""}]
[null,null,null,null,null,null,null,null,null,{"$f":"IF(GetData!Q327=\"\",\"\",GetData!Q327)","v":""},{"$f":"IF(GetData!AI327=\"\",\"\",GetData!AI327)","v":""},null,null,null,null,null,null,null,{"$f":"IF(GetData!O327=\"\",\"\",GetData!O327)","v":""},{"$f":"IF(GetData!AG327=\"\",\"\",GetData!AG327)","v":""},null,null,null,null,null,null,null,{"$f":"IF(GetData!P327=\"\",\"\",GetData!P327)","v":""},{"$f":"IF(GetData!AH327=\"\",\"\",GetData!AH327)","v":""}]
[null,null,null,null,null,null,null,null,null,{"$f":"IF(GetData!Q328=\"\",\"\",GetData!Q328)","v":""},{"$f":"IF(GetData!AI328=\"\",\"\",GetData!AI328)","v":""},null,null,null,null,null,null,null,{"$f":"IF(GetData!O328=\"\",\"\",GetData!O328)","v":""},{"$f":"IF(GetData!AG328=\"\",\"\",GetData!AG328)","v":""},null,null,null,null,null,null,null,{"$f":"IF(GetData!P328=\"\",\"\",GetData!P328)","v":""},{"$f":"IF(GetData!AH328=\"\",\"\",GetData!AH328)","v":""}]
[null,null,null,null,null,null,null,null,null,{"$f":"IF(GetData!Q329=\"\",\"\",GetData!Q329)","v":""},{"$f":"IF(GetData!AI329=\"\",\"\",GetData!AI329)","v":""},null,null,null,null,null,null,null,{"$f":"IF(GetData!O329=\"\",\"\",GetData!O329)","v":""},{"$f":"IF(GetData!AG329=\"\",\"\",GetData!AG329)","v":""},null,null,null,null,null,null,null,{"$f":"IF(GetData!P329=\"\",\"\",GetData!P329)","v":""},{"$f":"IF(GetData!AH329=\"\",\"\",GetData!AH329)","v":""}]
[null,null,null,null,null,null,null,null,null,{"$f":"IF(GetData!Q330=\"\",\"\",GetData!Q330)","v":""},{"$f":"IF(GetData!AI330=\"\",\"\",GetData!AI330)","v":""},null,null,null,null,null,null,null,{"$f":"IF(GetData!O330=\"\",\"\",GetData!O330)","v":""},{"$f":"IF(GetData!AG330=\"\",\"\",GetData!AG330)","v":""},null,null,null,null,null,null,null,{"$f":"IF(GetData!P330=\"\",\"\",GetData!P330)","v":""},{"$f":"IF(GetData!AH330=\"\",\"\",GetData!AH330)","v":""}]
[null,null,null,null,null,null,null,null,null,{"$f":"IF(GetData!Q331=\"\",\"\",GetData!Q331)","v":""},{"$f":"IF(GetData!AI331=\"\",\"\",GetData!AI331)","v":""},null,null,null,null,null,null,null,{"$f":"IF(GetData!O331=\"\",\"\",GetData!O331)","v":""},{"$f":"IF(GetData!AG331=\"\",\"\",GetData!AG331)","v":""},null,null,null,null,null,null,null,{"$f":"IF(GetData!P331=\"\",\"\",GetData!P331)","v":""},{"$f":"IF(GetData!AH331=\"\",\"\",GetData!AH331)","v":""}]
[null,null,null,null,null,null,null,null,null,{"$f":"IF(GetData!Q332=\"\",\"\",GetData!Q332)","v":""},{"$f":"IF(GetData!AI332=\"\",\"\",GetData!AI332)","v":""},null,null,null,null,null,null,null,{"$f":"IF(GetData!O332=\"\",\"\",GetData!O332)","v":""},{"$f":"IF(GetData!AG332=\"\",\"\",GetData!AG332)","v":""},null,null,null,null,null,null,null,{"$f":"IF(GetData!P332=\"\",\"\",GetData!P332)","v":""},{"$f":"IF(GetData!AH332=\"\",\"\",GetData!AH332)","v":""}]
[null,null,null,null,null,null,null,null,null,{"$f":"IF(GetData!Q333=\"\",\"\",GetData!Q333)","v":""},{"$f":"IF(GetData!AI333=\"\",\"\",GetData!AI333)","v":""},null,null,null,null,null,null,null,{"$f":"IF(GetData!O333=\"\",\"\",GetData!O333)","v":""},{"$f":"IF(GetData!AG333=\"\",\"\",GetData!AG333)","v":""},null,null,null,null,null,null,null,{"$f":"IF(GetData!P333=\"\",\"\",GetData!P333)","v":""},{"$f":"IF(GetData!AH333=\"\",\"\",GetData!AH333)","v":""}]
[null,null,null,null,null,null,null,null,null,{"$f":"IF(GetData!Q334=\"\",\"\",GetData!Q334)","v":""},{"$f":"IF(GetData!AI334=\"\",\"\",GetData!AI334)","v":""},null,null,null,null,null,null,null,{"$f":"IF(GetData!O334=\"\",\"\",GetData!O334)","v":""},{"$f":"IF(GetData!AG334=\"\",\"\",GetData!AG334)","v":""},null,null,null,null,null,null,null,{"$f":"IF(GetData!P334=\"\",\"\",GetData!P334)","v":""},{"$f":"IF(GetData!AH334=\"\",\"\",GetData!AH334)","v":""}]
[null,null,null,null,null,null,null,null,null,{"$f":"IF(GetData!Q335=\"\",\"\",GetData!Q335)","v":""},{"$f":"IF(GetData!AI335=\"\",\"\",GetData!AI335)","v":""},null,null,null,null,null,null,null,{"$f":"IF(GetData!O335=\"\",\"\",GetData!O335)","v":""},{"$f":"IF(GetData!AG335=\"\",\"\",GetData!AG335)","v":""},null,null,null,null,null,null,null,{"$f":"IF(GetData!P335=\"\",\"\",GetData!P335)","v":""},{"$f":"IF(GetData!AH335=\"\",\"\",GetData!AH335)","v":""}]
[null,null,null,null,null,null,null,null,null,{"$f":"IF(GetData!Q336=\"\",\"\",GetData!Q336)","v":""},{"$f":"IF(GetData!AI336=\"\",\"\",GetData!AI336)","v":""},null,null,null,null,null,null,null,{"$f":"IF(GetData!O336=\"\",\"\",GetData!O336)","v":""},{"$f":"IF(GetData!AG336=\"\",\"\",GetData!AG336)","v":""},null,null,null,null,null,null,null,{"$f":"IF(GetData!P336=\"\",\"\",GetData!P336)","v":""},{"$f":"IF(GetData!AH336=\"\",\"\",GetData!AH336)","v":""}]
[null,null,null,null,null,null,null,null,null,{"$f":"IF(GetData!Q337=\"\",\"\",GetData!Q337)","v":""},{"$f":"IF(GetData!AI337=\"\",\"\",GetData!AI337)","v":""},null,null,null,null,null,null,null,{"$f":"IF(GetData!O337=\"\",\"\",GetData!O337)","v":""},{"$f":"IF(GetData!AG337=\"\",\"\",GetData!AG337)","v":""},null,null,null,null,null,null,null,{"$f":"IF(GetData!P337=\"\",\"\",GetData!P337)","v":""},{"$f":"IF(GetData!AH337=\"\",\"\",GetData!AH337)","v":""}]
[null,null,null,null,null,null,null,null,null,{"$f":"IF(GetData!Q338=\"\",\"\",GetData!Q338)","v":""},{"$f":"IF(GetData!AI338=\"\",\"\",GetData!AI338)","v":""},null,null,null,null,null,null,null,{"$f":"IF(GetData!O338=\"\",\"\",GetData!O338)","v":""},{"$f":"IF(GetData!AG338=\"\",\"\",GetData!AG338)","v":""},null,null,null,null,null,null,null,{"$f":"IF(GetData!P338=\"\",\"\",GetData!P338)","v":""},{"$f":"IF(GetData!AH338=\"\",\"\",GetData!AH338)","v":""}]
[null,null,null,null,null,null,null,null,null,{"$f":"IF(GetData!Q339=\"\",\"\",GetData!Q339)","v":""},{"$f":"IF(GetData!AI339=\"\",\"\",GetData!AI339)","v":""},null,null,null,null,null,null,null,{"$f":"IF(GetData!O339=\"\",\"\",GetData!O339)","v":""},{"$f":"IF(GetData!AG339=\"\",\"\",GetData!AG339)","v":""},null,null,null,null,null,null,null,{"$f":"IF(GetData!P339=\"\",\"\",GetData!P339)","v":""},{"$f":"IF(GetData!AH339=\"\",\"\",GetData!AH339)","v":""}]
[null,null,null,null,null,null,null,null,null,{"$f":"IF(GetData!Q340=\"\",\"\",GetData!Q340)","v":""},{"$f":"IF(GetData!AI340=\"\",\"\",GetData!AI340)","v":""},null,null,null,null,null,null,null,{"$f":"IF(GetData!O340=\"\",\"\",GetData!O340)","v":""},{"$f":"IF(GetData!AG340=\"\",\"\",GetData!AG340)","v":""},null,null,null,null,null,null,null,{"$f":"IF(GetData!P340=\"\",\"\",GetData!P340)","v":""},{"$f":"IF(GetData!AH340=\"\",\"\",GetData!AH340)","v":""}]
[null,null,null,null,null,null,null,null,null,{"$f":"IF(GetData!Q341=\"\",\"\",GetData!Q341)","v":""},{"$f":"IF(GetData!AI341=\"\",\"\",GetData!AI341)","v":""},null,null,null,null,null,null,null,{"$f":"IF(GetData!O341=\"\",\"\",GetData!O341)","v":""},{"$f":"IF(GetData!AG341=\"\",\"\",GetData!AG341)","v":""},null,null,null,null,null,null,null,{"$f":"IF(GetData!P341=\"\",\"\",GetData!P341)","v":""},{"$f":"IF(GetData!AH341=\"\",\"\",GetData!AH341)","v":""}]
[null,null,null,null,null,null,null,null,null,{"$f":"IF(GetData!Q342=\"\",\"\",GetData!Q342)","v":""},{"$f":"IF(GetData!AI342=\"\",\"\",GetData!AI342)","v":""},null,null,null,null,null,null,null,{"$f":"IF(GetData!O342=\"\",\"\",GetData!O342)","v":""},{"$f":"IF(GetData!AG342=\"\",\"\",GetData!AG342)","v":""},null,null,null,null,null,null,null,{"$f":"IF(GetData!P342=\"\",\"\",GetData!P342)","v":""},{"$f":"IF(GetData!AH342=\"\",\"\",GetData!AH342)","v":""}]
[null,null,null,null,null,null,null,null,null,{"$f":"IF(GetData!Q343=\"\",\"\",GetData!Q343)","v":""},{"$f":"IF(GetData!AI343=\"\",\"\",GetData!AI343)","v":""},null,null,null,null,null,null,null,{"$f":"IF(GetData!O343=\"\",\"\",GetData!O343)","v":""},{"$f":"IF(GetData!AG343=\"\",\"\",GetData!AG343)","v":""},null,null,null,null,null,null,null,{"$f":"IF(GetData!P343=\"\",\"\",GetData!P343)","v":""},{"$f":"IF(GetData!AH343=\"\",\"\",GetData!AH343)","v":""}]
[null,null,null,null,null,null,null,null,null,{"$f":"IF(GetData!Q344=\"\",\"\",GetData!Q344)","v":""},{"$f":"IF(GetData!AI344=\"\",\"\",GetData!AI344)","v":""},null,null,null,null,null,null,null,{"$f":"IF(GetData!O344=\"\",\"\",GetData!O344)","v":""},{"$f":"IF(GetData!AG344=\"\",\"\",GetData!AG344)","v":""},null,null,null,null,null,null,null,{"$f":"IF(GetData!P344=\"\",\"\",GetData!P344)","v":""},{"$f":"IF(GetData!AH344=\"\",\"\",GetData!AH344)","v":""}]
[null,null,null,null,null,null,null,null,null,{"$f":"IF(GetData!Q345=\"\",\"\",GetData!Q345)","v":""},{"$f":"IF(GetData!AI345=\"\",\"\",GetData!AI345)","v":""},null,null,null,null,null,null,null,{"$f":"IF(GetData!O345=\"\",\"\",GetData!O345)","v":""},{"$f":"IF(GetData!AG345=\"\",\"\",GetData!AG345)","v":""},null,null,null,null,null,null,null,{"$f":"IF(GetData!P345=\"\",\"\",GetData!P345)","v":""},{"$f":"IF(GetData!AH345=\"\",\"\",GetData!AH345)","v":""}]
[null,null,null,null,null,null,null,null,null,{"$f":"IF(GetData!Q346=\"\",\"\",GetData!Q346)","v":""},{"$f":"IF(GetData!AI346=\"\",\"\",GetData!AI346)","v":""},null,null,null,null,null,null,null,{"$f":"IF(GetData!O346=\"\",\"\",GetData!O346)","v":""},{"$f":"IF(GetData!AG346=\"\",\"\",GetData!AG346)","v":""},null,null,null,null,null,null,null,{"$f":"IF(GetData!P346=\"\",\"\",GetData!P346)","v":""},{"$f":"IF(GetData!AH346=\"\",\"\",GetData!AH346)","v":""}]
[null,null,null,null,null,null,null,null,null,{"$f":"IF(GetData!Q347=\"\",\"\",GetData!Q347)","v":""},{"$f":"IF(GetData!AI347=\"\",\"\",GetData!AI347)","v":""},null,null,null,null,null,null,null,{"$f":"IF(GetData!O347=\"\",\"\",GetData!O347)","v":""},{"$f":"IF(GetData!AG347=\"\",\"\",GetData!AG347)","v":""},null,null,null,null,null,null,null,{"$f":"IF(GetData!P347=\"\",\"\",GetData!P347)","v":""},{"$f":"IF(GetData!AH347=\"\",\"\",GetData!AH347)","v":""}]
[null,null,null,null,null,null,null,null,null,{"$f":"IF(GetData!Q348=\"\",\"\",GetData!Q348)","v":""},{"$f":"IF(GetData!AI348=\"\",\"\",GetData!AI348)","v":""},null,null,null,null,null,null,null,{"$f":"IF(GetData!O348=\"\",\"\",GetData!O348)","v":""},{"$f":"IF(GetData!AG348=\"\",\"\",GetData!AG348)","v":""},null,null,null,null,null,null,null,{"$f":"IF(GetData!P348=\"\",\"\",GetData!P348)","v":""},{"$f":"IF(GetData!AH348=\"\",\"\",GetData!AH348)","v":""}]
[null,null,null,null,null,null,null,null,null,{"$f":"IF(GetData!Q349=\"\",\"\",GetData!Q349)","v":""},{"$f":"IF(GetData!AI349=\"\",\"\",GetData!AI349)","v":""},null,null,null,null,null,null,null,{"$f":"IF(GetData!O349=\"\",\"\",GetData!O349)","v":""},{"$f":"IF(GetData!AG349=\"\",\"\",GetData!AG349)","v":""},null,null,null,null,null,null,null,{"$f":"IF(GetData!P349=\"\",\"\",GetData!P349)","v":""},{"$f":"IF(GetData!AH349=\"\",\"\",GetData!AH349)","v":""}]
[null,null,null,null,null,null,null,null,null,{"$f":"IF(GetData!Q350=\"\",\"\",GetData!Q350)","v":""},{"$f":"IF(GetData!AI350=\"\",\"\",GetData!AI350)","v":""},null,null,null,null,null,null,null,{"$f":"IF(GetData!O350=\"\",\"\",GetData!O350)","v":""},{"$f":"IF(GetData!AG350=\"\",\"\",GetData!AG350)","v":""},null,null,null,null,null,null,null,{"$f":"IF(GetData!P350=\"\",\"\",GetData!P350)","v":""},{"$f":"IF(GetData!AH350=\"\",\"\",GetData!AH350)","v":""}]
[null,null,null,null,null,null,null,null,null,{"$f":"IF(GetData!Q351=\"\",\"\",GetData!Q351)","v":""},{"$f":"IF(GetData!AI351=\"\",\"\",GetData!AI351)","v":""},null,null,null,null,null,null,null,{"$f":"IF(GetData!O351=\"\",\"\",GetData!O351)","v":""},{"$f":"IF(GetData!AG351=\"\",\"\",GetData!AG351)","v":""},null,null,null,null,null,null,null,{"$f":"IF(GetData!P351=\"\",\"\",GetData!P351)","v":""},{"$f":"IF(GetData!AH351=\"\",\"\",GetData!AH351)","v":""}]
[null,null,null,null,null,null,null,null,null,{"$f":"IF(GetData!Q352=\"\",\"\",GetData!Q352)","v":""},{"$f":"IF(GetData!AI352=\"\",\"\",GetData!AI352)","v":""},null,null,null,null,null,null,null,{"$f":"IF(GetData!O352=\"\",\"\",GetData!O352)","v":""},{"$f":"IF(GetData!AG352=\"\",\"\",GetData!AG352)","v":""},null,null,null,null,null,null,null,{"$f":"IF(GetData!P352=\"\",\"\",GetData!P352)","v":""},{"$f":"IF(GetData!AH352=\"\",\"\",GetData!AH352)","v":""}]
[null,null,null,null,null,null,null,null,null,{"$f":"IF(GetData!Q353=\"\",\"\",GetData!Q353)","v":""},{"$f":"IF(GetData!AI353=\"\",\"\",GetData!AI353)","v":""},null,null,null,null,null,null,null,{"$f":"IF(GetData!O353=\"\",\"\",GetData!O353)","v":""},{"$f":"IF(GetData!AG353=\"\",\"\",GetData!AG353)","v":""},null,null,null,null,null,null,null,{"$f":"IF(GetData!P353=\"\",\"\",GetData!P353)","v":""},{"$f":"IF(GetData!AH353=\"\",\"\",GetData!AH353)","v":""}]
[null,null,null,null,null,null,null,null,null,{"$f":"IF(GetData!Q354=\"\",\"\",GetData!Q354)","v":""},{"$f":"IF(GetData!AI354=\"\",\"\",GetData!AI354)","v":""},null,null,null,null,null,null,null,{"$f":"IF(GetData!O354=\"\",\"\",GetData!O354)","v":""},{"$f":"IF(GetData!AG354=\"\",\"\",GetData!AG354)","v":""},null,null,null,null,null,null,null,{"$f":"IF(GetData!P354=\"\",\"\",GetData!P354)","v":""},{"$f":"IF(GetData!AH354=\"\",\"\",GetData!AH354)","v":""}]
[null,null,null,null,null,null,null,null,null,{"$f":"IF(GetData!Q355=\"\",\"\",GetData!Q355)","v":""},{"$f":"IF(GetData!AI355=\"\",\"\",GetData!AI355)","v":""},null,null,null,null,null,null,null,{"$f":"IF(GetData!O355=\"\",\"\",GetData!O355)","v":""},{"$f":"IF(GetData!AG355=\"\",\"\",GetData!AG355)","v":""},null,null,null,null,null,null,null,{"$f":"IF(GetData!P355=\"\",\"\",GetData!P355)","v":""},{"$f":"IF(GetData!AH355=\"\",\"\",GetData!AH355)","v":""}]
[null,null,null,null,null,null,null,null,null,{"$f":"IF(GetData!Q356=\"\",\"\",GetData!Q356)","v":""},{"$f":"IF(GetData!AI356=\"\",\"\",GetData!AI356)","v":""},null,null,null,null,null,null,null,{"$f":"IF(GetData!O356=\"\",\"\",GetData!O356)","v":""},{"$f":"IF(GetData!AG356=\"\",\"\",GetData!AG356)","v":""},null,null,null,null,null,null,null,{"$f":"IF(GetData!P356=\"\",\"\",GetData!P356)","v":""},{"$f":"IF(GetData!AH356=\"\",\"\",GetData!AH356)","v":""}]
[null,null,null,null,null,null,null,null,null,{"$f":"IF(GetData!Q357=\"\",\"\",GetData!Q357)","v":""},{"$f":"IF(GetData!AI357=\"\",\"\",GetData!AI357)","v":""},null,null,null,null,null,null,null,{"$f":"IF(GetData!O357=\"\",\"\",GetData!O357)","v":""},{"$f":"IF(GetData!AG357=\"\",\"\",GetData!AG357)","v":""},null,null,null,null,null,null,null,{"$f":"IF(GetData!P357=\"\",\"\",GetData!P357)","v":""},{"$f":"IF(GetData!AH357=\"\",\"\",GetData!AH357)","v":""}]
[null,null,null,null,null,null,null,null,null,{"$f":"IF(GetData!Q358=\"\",\"\",GetData!Q358)","v":""},{"$f":"IF(GetData!AI358=\"\",\"\",GetData!AI358)","v":""},null,null,null,null,null,null,null,{"$f":"IF(GetData!O358=\"\",\"\",GetData!O358)","v":""},{"$f":"IF(GetData!AG358=\"\",\"\",GetData!AG358)","v":""},null,null,null,null,null,null,null,{"$f":"IF(GetData!P358=\"\",\"\",GetData!P358)","v":""},{"$f":"IF(GetData!AH358=\"\",\"\",GetData!AH358)","v":""}]
[null,null,null,null,null,null,null,null,null,{"$f":"IF(GetData!Q359=\"\",\"\",GetData!Q359)","v":""},{"$f":"IF(GetData!AI359=\"\",\"\",GetData!AI359)","v":""},null,null,null,null,null,null,null,{"$f":"IF(GetData!O359=\"\",\"\",GetData!O359)","v":""},{"$f":"IF(GetData!AG359=\"\",\"\",GetData!AG359)","v":""},null,null,null,null,null,null,null,{"$f":"IF(GetData!P359=\"\",\"\",GetData!P359)","v":""},{"$f":"IF(GetData!AH359=\"\",\"\",GetData!AH359)","v":""}]
[null,null,null,null,null,null,null,null,null,{"$f":"IF(GetData!Q360=\"\",\"\",GetData!Q360)","v":""},{"$f":"IF(GetData!AI360=\"\",\"\",GetData!AI360)","v":""},null,null,null,null,null,null,null,{"$f":"IF(GetData!O360=\"\",\"\",GetData!O360)","v":""},{"$f":"IF(GetData!AG360=\"\",\"\",GetData!AG360)","v":""},null,null,null,null,null,null,null,{"$f":"IF(GetData!P360=\"\",\"\",GetData!P360)","v":""},{"$f":"IF(GetData!AH360=\"\",\"\",GetData!AH360)","v":""}]
[null,null,null,null,null,null,null,null,null,{"$f":"IF(GetData!Q361=\"\",\"\",GetData!Q361)","v":""},{"$f":"IF(GetData!AI361=\"\",\"\",GetData!AI361)","v":""},null,null,null,null,null,null,null,{"$f":"IF(GetData!O361=\"\",\"\",GetData!O361)","v":""},{"$f":"IF(GetData!AG361=\"\",\"\",GetData!AG361)","v":""},null,null,null,null,null,null,null,{"$f":"IF(GetData!P361=\"\",\"\",GetData!P361)","v":""},{"$f":"IF(GetData!AH361=\"\",\"\",GetData!AH361)","v":""}]
[null,null,null,null,null,null,null,null,null,{"$f":"IF(GetData!Q362=\"\",\"\",GetData!Q362)","v":""},{"$f":"IF(GetData!AI362=\"\",\"\",GetData!AI362)","v":""},null,null,null,null,null,null,null,{"$f":"IF(GetData!O504=\"\",\"\",GetData!O504)","v":{"$error":"#DIV/0!"}},{"$f":"IF(GetData!AG362=\"\",\"\",GetData!AG362)","v":""},null,null,null,null,null,null,null,{"$f":"IF(GetData!P504=\"\",\"\",GetData!P504)","v":{"$error":"#DIV/0!"}},{"$f":"IF(GetData!AH362=\"\",\"\",GetData!AH362)","v":""}]
[null,null,null,null,null,null,null,null,null,{"$f":"IF(GetData!Q363=\"\",\"\",GetData!Q363)","v":""},{"$f":"IF(GetData!AI363=\"\",\"\",GetData!AI363)","v":""},null,null,null,null,null,null,null,{"$f":"IF(GetData!O505=\"\",\"\",GetData!O505)","v":"Modifier based on capability group"},{"$f":"IF(GetData!AG363=\"\",\"\",GetData!AG363)","v":""},null,null,null,null,null,null,null,{"$f":"IF(GetData!P505=\"\",\"\",GetData!P505)","v":""},{"$f":"IF(GetData!AH363=\"\",\"\",GetData!AH363)","v":""}]

{"sheet":"Ttest","index":9,"n_rows":365,"n_cols":17,"rows_kept":365,"cut":false,"hidden":false,"merged":[]}
[null,null,null,"T-TEST",null,"Test: The hypotheses for the comparison of means from two independent groups are:  Ho: m1 = m2 (means of the two groups are equal)",null,null,"One-sample T test",null,null,"Test: The hypotheses for comparing one sample mean against a standard or criteria (The Criteria Value)"]
[null,null,"STEPS",null,null,null,null,null,"(for Short-term Data)",null,"00:00:00"]
["","","1.  Select Data then Data Analysis",null,null,null,null,null,null,null,""]
["","","2.  Select \"T-test: Paired two sample for Means\"",null,null,null,null,null,null,null,""]
["","","3.  Select Variable 1 Range, data box then select the data in column A",null,null,null,null,null,null,null,""]
["","","4.  Select Variable 2 Range, data box then select the data in column B (remember that the cell data ranges must be the same)",null,null,null,null,null,null,null,"",null,null,null,"Variable","Statistics"]
["","","5.  Click on \"Output range\" then select the box, enter :  C15 to identify that cell for the output",null,null,null,null,null,null,null,"",null,null,null,"n",{"$f":"COUNT(K$3:K$365)","v":0}]
["","","6.  Select OK",null,null,null,null,null,null,null,"",null,null,null,"Mean",{"$f":"AVERAGE(K$3:K$365)","v":{"$error":"#DIV/0!"}}]
["","","INTERPRETATION:",null,null,null,null,null,null,null,"",null,null,null,"std dev",{"$f":"STDEV(K3:K365)","v":{"$error":"#DIV/0!"}}]
["","","\"Pearson Correlation\":  Tests correlation between the two samples, this value should be low",null,null,null,null,null,null,null,"",null,null,null,"std err",{"$f":"P9/SQRT(P7)","v":{"$error":"#DIV/0!"}}]
["","","df - degrees of freedom - the number of categories or variables minus 1",null,null,null,null,null,null,null,""]
["","","tStat:  the Students t statistic (if negative ignore the sign).  lf t Stat  > t Critical, we reject the null hypothesis.",null,null,null,null,null,null,null,"",null,null,null,"hyp mean",null,"The Criteria Value"]
["","","P(T<=t) one-tail:  The probability that Ho (the null hypothesis) is true - should be less than .05 to reject the null hypothesis",null,null,null,null,null,null,null,"",null,null,null,"alpha",0.05]
["","","t(Critical) one-tail:  The minimum value of the t-Stat needed to reject the null hypothesis at alpha = .05",null,null,null,null,null,null,null,"",null,null,null,"tails",1]
["","",null,null,null,null,null,null,null,null,"",null,null,null,"df",{"$f":"P7-1","v":-1}]
["","",null,null,null,null,null,null,null,null,"",null,null,null,"t stat",{"$f":"(P8-P12)/P10","v":{"$error":"#DIV/0!"}}]
["","",null,null,null,null,null,null,null,null,"",null,null,null,"p value",{"$f":"TDIST(ABS(P16),P15,P14)","v":{"$error":"#DIV/0!"}}]
["","",null,null,null,null,null,null,null,null,"",null,null,null,"t crit",{"$f":"TINV(P13,P15)","v":{"$error":"#NUM!"}}]
["","",null,null,null,null,null,null,null,null,"",null,null,null,"significant?",{"$f":"IF(P17<P13,\"yes\",\"no\")","v":{"$error":"#DIV/0!"}}]
["","",null,null,null,null,null,null,null,null,"",null,null,null,"Criteria is:",{"$f":"IF(P12>P8,\"GREATER\", \"SMALLER\")","v":{"$error":"#DIV/0!"}},"Than the sample mean"]
["","",null,null,null,null,null,null,null,null,""]
["","",null,null,null,null,null,null,null,null,""]
["","",null,null,null,null,null,null,null,null,""]
["","",null,null,null,null,null,null,null,null,""]
["","",null,null,null,null,null,null,null,null,""]
["","",null,null,null,null,null,null,null,null,""]
["","",null,null,null,null,null,null,null,null,""]
["","",null,null,null,null,null,null,null,null,""]
["","",null,null,null,null,null,null,null,null,""]
["","",null,null,null,null,null,null,null,null,""]
["","",null,null,null,null,null,null,null,null,""]
["","",null,null,null,null,null,null,null,null,""]
["","",null,null,null,null,null,null,null,null,""]
["","",null,null,null,null,null,null,null,null,""]
["","",null,null,null,null,null,null,null,null,""]
["","",null,null,null,null,null,null,null,null,""]
["","",null,null,null,null,null,null,null,null,""]
["","",null,null,null,null,null,null,null,null,""]
["","",null,null,null,null,null,null,null,null,""]
["","",null,null,null,null,null,null,null,null,""]
["","",null,null,null,null,null,null,null,null,""]
["","",null,null,null,null,null,null,null,null,""]
["","",null,null,null,null,null,null,null,null,""]
["","",null,null,null,null,null,null,null,null,""]
["","",null,null,null,null,null,null,null,null,""]
["","",null,null,null,null,null,null,null,null,""]
["","",null,null,null,null,null,null,null,null,""]
["","",null,null,null,null,null,null,null,null,""]
["","",null,null,null,null,null,null,null,null,""]
["","",null,null,null,null,null,null,null,null,""]
["","",null,null,null,null,null,null,null,null,""]
["","",null,null,null,null,null,null,null,null,""]
["","",null,null,null,null,null,null,null,null,""]
["","",null,null,null,null,null,null,null,null,""]
["","",null,null,null,null,null,null,null,null,""]
["","",null,null,null,null,null,null,null,null,""]
["","",null,null,null,null,null,null,null,null,""]
["","",null,null,null,null,null,null,null,null,""]
["","",null,null,null,null,null,null,null,null,""]
["","",null,null,null,null,null,null,null,null,""]
["","",null,null,null,null,null,null,null,null,""]
["","",null,null,null,null,null,null,null,null,""]
["","",null,null,null,null,null,null,null,null,""]
["","",null,null,null,null,null,null,null,null,""]
["","",null,null,null,null,null,null,null,null,""]
["","",null,null,null,null,null,null,null,null,""]
["","",null,null,null,null,null,null,null,null,""]
["","",null,null,null,null,null,null,null,null,""]
["","",null,null,null,null,null,null,null,null,""]
["","",null,null,null,null,null,null,null,null,""]
["","",null,null,null,null,null,null,null,null,""]
["","",null,null,null,null,null,null,null,null,""]
["","",null,null,null,null,null,null,null,null,""]
["","",null,null,null,null,null,null,null,null,""]
["","",null,null,null,null,null,null,null,null,""]
["","",null,null,null,null,null,null,null,null,""]
["","",null,null,null,null,null,null,null,null,""]
["","",null,null,null,null,null,null,null,null,""]
["","",null,null,null,null,null,null,null,null,""]
["","",null,null,null,null,null,null,null,null,""]
["","",null,null,null,null,null,null,null,null,""]
["","",null,null,null,null,null,null,null,null,""]
["","",null,null,null,null,null,null,null,null,""]
["","",null,null,null,null,null,null,null,null,""]
["","",null,null,null,null,null,null,null,null,""]
["","",null,null,null,null,null,null,null,null,""]
["","",null,null,null,null,null,null,null,null,""]
["","",null,null,null,null,null,null,null,null,""]
["","",null,null,null,null,null,null,null,null,""]
["","",null,null,null,null,null,null,null,null,""]
["","",null,null,null,null,null,null,null,null,""]
["","",null,null,null,null,null,null,null,null,""]
["","",null,null,null,null,null,null,null,null,""]
["","",null,null,null,null,null,null,null,null,""]
["","",null,null,null,null,null,null,null,null,""]
["","",null,null,null,null,null,null,null,null,""]
["","",null,null,null,null,null,null,null,null,""]
["","",null,null,null,null,null,null,null,null,""]
["","",null,null,null,null,null,null,null,null,""]
["","",null,null,null,null,null,null,null,null,""]
["","",null,null,null,null,null,null,null,null,""]
["","",null,null,null,null,null,null,null,null,""]
["","",null,null,null,null,null,null,null,null,""]
["","",null,null,null,null,null,null,null,null,""]
["","",null,null,null,null,null,null,null,null,""]
["","",null,null,null,null,null,null,null,null,""]
["","",null,null,null,null,null,null,null,null,""]
["","",null,null,null,null,null,null,null,null,""]
["","",null,null,null,null,null,null,null,null,""]
["","",null,null,null,null,null,null,null,null,""]
["","",null,null,null,null,null,null,null,null,""]
["","",null,null,null,null,null,null,null,null,""]
["","",null,null,null,null,null,null,null,null,""]
["","",null,null,null,null,null,null,null,null,""]
["","",null,null,null,null,null,null,null,null,""]
["","",null,null,null,null,null,null,null,null,""]
["","",null,null,null,null,null,null,null,null,""]
["","",null,null,null,null,null,null,null,null,""]
["","",null,null,null,null,null,null,null,null,""]
["","",null,null,null,null,null,null,null,null,""]
["","",null,null,null,null,null,null,null,null,""]
["","",null,null,null,null,null,null,null,null,""]
["","",null,null,null,null,null,null,null,null,""]
["","",null,null,null,null,null,null,null,null,""]
["","",null,null,null,null,null,null,null,null,""]
["","",null,null,null,null,null,null,null,null,""]
["","",null,null,null,null,null,null,null,null,""]
["","",null,null,null,null,null,null,null,null,""]
["","",null,null,null,null,null,null,null,null,""]
["","",null,null,null,null,null,null,null,null,""]
["","",null,null,null,null,null,null,null,null,""]
["","",null,null,null,null,null,null,null,null,""]
["","",null,null,null,null,null,null,null,null,""]
["","",null,null,null,null,null,null,null,null,""]
["","",null,null,null,null,null,null,null,null,""]
["","",null,null,null,null,null,null,null,null,""]
["","",null,null,null,null,null,null,null,null,""]
["","",null,null,null,null,null,null,null,null,""]
["","",null,null,null,null,null,null,null,null,""]
["","",null,null,null,null,null,null,null,null,""]
["","",null,null,null,null,null,null,null,null,""]
["","",null,null,null,null,null,null,null,null,""]
["","",null,null,null,null,null,null,null,null,""]
["","",null,null,null,null,null,null,null,null,""]
["","",null,null,null,null,null,null,null,null,""]
["","",null,null,null,null,null,null,null,null,""]
["","",null,null,null,null,null,null,null,null,""]
["","",null,null,null,null,null,null,null,null,""]
["","",null,null,null,null,null,null,null,null,""]
["","",null,null,null,null,null,null,null,null,""]
["","",null,null,null,null,null,null,null,null,""]
["","",null,null,null,null,null,null,null,null,""]
["","",null,null,null,null,null,null,null,null,""]
["","",null,null,null,null,null,null,null,null,""]
["","",null,null,null,null,null,null,null,null,""]
["","",null,null,null,null,null,null,null,null,""]
["","",null,null,null,null,null,null,null,null,""]
["","",null,null,null,null,null,null,null,null,""]
["","",null,null,null,null,null,null,null,null,""]
["","",null,null,null,null,null,null,null,null,""]
["","",null,null,null,null,null,null,null,null,""]
["","",null,null,null,null,null,null,null,null,""]
["","",null,null,null,null,null,null,null,null,""]
["","",null,null,null,null,null,null,null,null,""]
["","",null,null,null,null,null,null,null,null,""]
["","",null,null,null,null,null,null,null,null,""]
["","",null,null,null,null,null,null,null,null,""]
["","",null,null,null,null,null,null,null,null,""]
["","",null,null,null,null,null,null,null,null,""]
["","",null,null,null,null,null,null,null,null,""]
["","",null,null,null,null,null,null,null,null,""]
["","",null,null,null,null,null,null,null,null,""]
["","",null,null,null,null,null,null,null,null,""]
["","",null,null,null,null,null,null,null,null,""]
["","",null,null,null,null,null,null,null,null,""]
["","",null,null,null,null,null,null,null,null,""]
["","",null,null,null,null,null,null,null,null,""]
["","",null,null,null,null,null,null,null,null,""]
["","",null,null,null,null,null,null,null,null,""]
["","",null,null,null,null,null,null,null,null,""]
["","",null,null,null,null,null,null,null,null,""]
["","",null,null,null,null,null,null,null,null,""]
["","",null,null,null,null,null,null,null,null,""]
["","",null,null,null,null,null,null,null,null,""]
["","",null,null,null,null,null,null,null,null,""]
["","",null,null,null,null,null,null,null,null,""]
["","",null,null,null,null,null,null,null,null,""]
["","",null,null,null,null,null,null,null,null,""]
["","",null,null,null,null,null,null,null,null,""]
["","",null,null,null,null,null,null,null,null,""]
["","",null,null,null,null,null,null,null,null,""]
["","",null,null,null,null,null,null,null,null,""]
["","",null,null,null,null,null,null,null,null,""]
["","",null,null,null,null,null,null,null,null,""]
["","",null,null,null,null,null,null,null,null,""]
["","",null,null,null,null,null,null,null,null,""]
["","",null,null,null,null,null,null,null,null,""]
["","",null,null,null,null,null,null,null,null,""]
["","",null,null,null,null,null,null,null,null,""]
["","",null,null,null,null,null,null,null,null,""]
["","",null,null,null,null,null,null,null,null,""]
["","",null,null,null,null,null,null,null,null,""]
["","",null,null,null,null,null,null,null,null,""]
["","",null,null,null,null,null,null,null,null,""]
["","",null,null,null,null,null,null,null,null,""]
["","",null,null,null,null,null,null,null,null,""]
["","",null,null,null,null,null,null,null,null,""]
["","",null,null,null,null,null,null,null,null,""]
["","",null,null,null,null,null,null,null,null,""]
["","",null,null,null,null,null,null,null,null,""]
["","",null,null,null,null,null,null,null,null,""]
["","",null,null,null,null,null,null,null,null,""]
["","",null,null,null,null,null,null,null,null,""]
["","",null,null,null,null,null,null,null,null,""]
["","",null,null,null,null,null,null,null,null,""]
["","",null,null,null,null,null,null,null,null,""]
["","",null,null,null,null,null,null,null,null,""]
["","",null,null,null,null,null,null,null,null,""]
["","",null,null,null,null,null,null,null,null,""]
["","",null,null,null,null,null,null,null,null,""]
["","",null,null,null,null,null,null,null,null,""]
["","",null,null,null,null,null,null,null,null,""]
["","",null,null,null,null,null,null,null,null,""]
["","",null,null,null,null,null,null,null,null,""]
["","",null,null,null,null,null,null,null,null,""]
["","",null,null,null,null,null,null,null,null,""]
["","",null,null,null,null,null,null,null,null,""]
["","",null,null,null,null,null,null,null,null,""]
["","",null,null,null,null,null,null,null,null,""]
["","",null,null,null,null,null,null,null,null,""]
["","",null,null,null,null,null,null,null,null,""]
["","",null,null,null,null,null,null,null,null,""]
["","",null,null,null,null,null,null,null,null,""]
["","",null,null,null,null,null,null,null,null,""]
["","",null,null,null,null,null,null,null,null,""]
["","",null,null,null,null,null,null,null,null,""]
["","",null,null,null,null,null,null,null,null,""]
["","",null,null,null,null,null,null,null,null,""]
["","",null,null,null,null,null,null,null,null,""]
["","",null,null,null,null,null,null,null,null,""]
["","",null,null,null,null,null,null,null,null,""]
["","",null,null,null,null,null,null,null,null,""]
["","",null,null,null,null,null,null,null,null,""]
["","",null,null,null,null,null,null,null,null,""]
["","",null,null,null,null,null,null,null,null,""]
["","",null,null,null,null,null,null,null,null,""]
["","",null,null,null,null,null,null,null,null,""]
["","",null,null,null,null,null,null,null,null,""]
["","",null,null,null,null,null,null,null,null,""]
["","",null,null,null,null,null,null,null,null,""]
["","",null,null,null,null,null,null,null,null,""]
["","",null,null,null,null,null,null,null,null,""]
["","",null,null,null,null,null,null,null,null,""]
["","",null,null,null,null,null,null,null,null,""]
["","",null,null,null,null,null,null,null,null,""]
["","",null,null,null,null,null,null,null,null,""]
["","",null,null,null,null,null,null,null,null,""]
["","",null,null,null,null,null,null,null,null,""]
["","",null,null,null,null,null,null,null,null,""]
["","",null,null,null,null,null,null,null,null,""]
["","",null,null,null,null,null,null,null,null,""]
["","",null,null,null,null,null,null,null,null,""]
["","",null,null,null,null,null,null,null,null,""]
["","",null,null,null,null,null,null,null,null,""]
["","",null,null,null,null,null,null,null,null,""]
["","",null,null,null,null,null,null,null,null,""]
["","",null,null,null,null,null,null,null,null,""]
["","",null,null,null,null,null,null,null,null,""]
["","",null,null,null,null,null,null,null,null,""]
["","",null,null,null,null,null,null,null,null,""]
["","",null,null,null,null,null,null,null,null,""]
["","",null,null,null,null,null,null,null,null,""]
["","",null,null,null,null,null,null,null,null,""]
["","",null,null,null,null,null,null,null,null,""]
["","",null,null,null,null,null,null,null,null,""]
["","",null,null,null,null,null,null,null,null,""]
["","",null,null,null,null,null,null,null,null,""]
["","",null,null,null,null,null,null,null,null,""]
["","",null,null,null,null,null,null,null,null,""]
["","",null,null,null,null,null,null,null,null,""]
["","",null,null,null,null,null,null,null,null,""]
["","",null,null,null,null,null,null,null,null,""]
["","",null,null,null,null,null,null,null,null,""]
["","",null,null,null,null,null,null,null,null,""]
["","",null,null,null,null,null,null,null,null,""]
["","",null,null,null,null,null,null,null,null,""]
["","",null,null,null,null,null,null,null,null,""]
["","",null,null,null,null,null,null,null,null,""]
["","",null,null,null,null,null,null,null,null,""]
["","",null,null,null,null,null,null,null,null,""]
["","",null,null,null,null,null,null,null,null,""]
["","",null,null,null,null,null,null,null,null,""]
["","",null,null,null,null,null,null,null,null,""]
["","",null,null,null,null,null,null,null,null,""]
["","",null,null,null,null,null,null,null,null,""]
["","",null,null,null,null,null,null,null,null,""]
["","",null,null,null,null,null,null,null,null,""]
["","",null,null,null,null,null,null,null,null,""]
["","",null,null,null,null,null,null,null,null,""]
["","",null,null,null,null,null,null,null,null,""]
["","",null,null,null,null,null,null,null,null,""]
["","",null,null,null,null,null,null,null,null,""]
["","",null,null,null,null,null,null,null,null,""]
["","",null,null,null,null,null,null,null,null,""]
["","",null,null,null,null,null,null,null,null,""]
["","",null,null,null,null,null,null,null,null,""]
["","",null,null,null,null,null,null,null,null,""]
["","",null,null,null,null,null,null,null,null,""]
["","",null,null,null,null,null,null,null,null,""]
["","",null,null,null,null,null,null,null,null,""]
["","",null,null,null,null,null,null,null,null,""]
["","",null,null,null,null,null,null,null,null,""]
["","",null,null,null,null,null,null,null,null,""]
["","",null,null,null,null,null,null,null,null,""]
["","",null,null,null,null,null,null,null,null,""]
["","",null,null,null,null,null,null,null,null,""]
["","",null,null,null,null,null,null,null,null,""]
["","",null,null,null,null,null,null,null,null,""]
["","",null,null,null,null,null,null,null,null,""]
["","",null,null,null,null,null,null,null,null,""]
["","",null,null,null,null,null,null,null,null,""]
["","",null,null,null,null,null,null,null,null,""]
["","",null,null,null,null,null,null,null,null,""]
["","",null,null,null,null,null,null,null,null,""]
["","",null,null,null,null,null,null,null,null,""]
["","",null,null,null,null,null,null,null,null,""]
["","",null,null,null,null,null,null,null,null,""]
["","",null,null,null,null,null,null,null,null,""]
["","",null,null,null,null,null,null,null,null,""]
["","",null,null,null,null,null,null,null,null,""]
["","",null,null,null,null,null,null,null,null,""]
["","",null,null,null,null,null,null,null,null,""]
["","",null,null,null,null,null,null,null,null,""]
["","",null,null,null,null,null,null,null,null,""]
["","",null,null,null,null,null,null,null,null,""]
["","",null,null,null,null,null,null,null,null,""]
["","",null,null,null,null,null,null,null,null,""]
["","",null,null,null,null,null,null,null,null,""]
["","",null,null,null,null,null,null,null,null,""]
["","",null,null,null,null,null,null,null,null,""]
["","",null,null,null,null,null,null,null,null,""]
["","",null,null,null,null,null,null,null,null,""]
["","",null,null,null,null,null,null,null,null,""]
["","",null,null,null,null,null,null,null,null,""]
["","",null,null,null,null,null,null,null,null,""]
["","",null,null,null,null,null,null,null,null,""]
["","",null,null,null,null,null,null,null,null,""]
["","",null,null,null,null,null,null,null,null,""]
["","",null,null,null,null,null,null,null,null,""]
["","",null,null,null,null,null,null,null,null,""]
["","",null,null,null,null,null,null,null,null,""]
["","",null,null,null,null,null,null,null,null,""]
["","",null,null,null,null,null,null,null,null,""]
["","",null,null,null,null,null,null,null,null,""]
["","",null,null,null,null,null,null,null,null,""]
["","",null,null,null,null,null,null,null,null,""]
["","",null,null,null,null,null,null,null,null,""]
["","",null,null,null,null,null,null,null,null,""]
["","",null,null,null,null,null,null,null,null,""]
["","",null,null,null,null,null,null,null,null,""]
["","",null,null,null,null,null,null,null,null,""]
["",""]
[{"$f":"IF(GetData!I504=\"\",\"\",GetData!I504)","v":{"$error":"#DIV/0!"}},{"$f":"IF(GetData!AA363=\"\",\"\",GetData!AA363)","v":""},null,null,null,null,null,null,null,null,{"$f":"IF(GetData!S363=\"\",\"\",GetData!S363)","v":""}]
[{"$f":"IF(GetData!I505=\"\",\"\",GetData!I505)","v":""},{"$f":"IF(GetData!AA364=\"\",\"\",GetData!AA364)","v":""},null,null,null,null,null,null,null,null,{"$f":"IF(GetData!S364=\"\",\"\",GetData!S364)","v":""}]
[{"$f":"IF(GetData!I506=\"\",\"\",GetData!I506)","v":""},{"$f":"IF(GetData!AA365=\"\",\"\",GetData!AA365)","v":""},null,null,null,null,null,null,null,null,{"$f":"IF(GetData!S365=\"\",\"\",GetData!S365)","v":""}]

{"sheet":"MannW","index":10,"n_rows":565,"n_cols":11,"rows_kept":565,"cut":false,"hidden":false,"merged":[]}
[null,null,null,null,null,null,"MANN-WHITNEY U TEST",null,null,null,"Source:  \"Making an Excel file to calculate the Mann-Whitney U-test (http://www.palgrave.com/psychology/brysbaert/students/excelguidelines/run-Mann-Whitney-test-Excel.pdf) - Palgrave Macmillan Higher Education"]
[null,null,null,"Ranks A","Ranks B",null,"Median A=",{"$f":"MEDIAN($A$3:$A$565)","v":{"$error":"#NUM!"}},"Mean A=",{"$f":"AVERAGE($A$3:$A$565)","v":{"$error":"#DIV/0!"}}]
["","",null,{"$f":"IF(A3=\"\",\"\",RANK(A3,$A$3:$B$565,1)+(COUNT($A$3:$B$565)+1-RANK(A3,$A$3:$B$565,1)-RANK(A3,$A$3:$B$565,0))/2)","v":""},{"$f":"IF(B3=\"\",\"\",RANK(B3,$A$3:$B$565,1)+(COUNT($A$3:$B$565)+1-RANK(B3,$A$3:$B$565,1)-RANK(B3,$A$3:$B$565,0))/2)","v":""},null,"Median B=",{"$f":"MEDIAN($B$3:$B$565)","v":{"$error":"#NUM!"}},"Mean B=",{"$f":"AVERAGE($B$3:$B$565)","v":{"$error":"#DIV/0!"}}]
["","",null,{"$f":"IF(A4=\"\",\"\",RANK(A4,$A$3:$B$565,1)+(COUNT($A$3:$B$565)+1-RANK(A4,$A$3:$B$565,1)-RANK(A4,$A$3:$B$565,0))/2)","v":""},{"$f":"IF(B4=\"\",\"\",RANK(B4,$A$3:$B$565,1)+(COUNT($A$3:$B$565)+1-RANK(B4,$A$3:$B$565,1)-RANK(B4,$A$3:$B$565,0))/2)","v":""}]
["","",null,"","",null,"R1=",{"$f":"SUM(D3:D565)","v":0}]
["","",null,"","",null,"R2=",{"$f":"SUM(E3:E565)","v":0}]
["","",null,"",""]
["","",null,"","",null,"N1=",{"$f":"COUNT(A3:A565)","v":0}]
["","",null,"","",null,"N2=",{"$f":"COUNT(B3:B565)","v":0}]
["","",null,"",""]
["","",null,"","",null,"U1=",{"$f":"H8*H9+0.5*H8*(H8+1)-H5","v":0}]
["","",null,"","",null,"U2=",{"$f":"H8*H9+0.5*H9*(H9+1)-H6","v":0}]
["","",null,"",""]
["","",null,"","",null,"U=",{"$f":"MIN(H11,H12)","v":0}]
["","",null,"",""]
["","",null,"","",null,"Z=",{"$f":"(H14-H8*H9/2)/SQRT(H8*H9*(H8+H9+1)/12)","v":{"$error":"#DIV/0!"}}]
["","",null,"",""]
["","",null,"","",null,"P=",{"$f":"(1-NORMSDIST(ABS(H16)))*2","v":{"$error":"#DIV/0!"}}]
["","",null,"",""]
["","",null,"","",null,"Accept/Reject Null Hypothesis?",null,{"$f":"IF(H18<0.05,\"Reject\",\"Accept\")","v":{"$error":"#DIV/0!"}}]
["","",null,"",""]
["","",null,"","",null,"The Null Hypothesis:  The central tendancies of the two popultations are not significantly different"]
["","",null,"",""]
["","",null,"",""]
["","",null,"",""]
["","",null,"",""]
["","",null,"",""]
["","",null,"",""]
["","",null,"",""]
["","",null,"",""]
["","",null,"",""]
["","",null,"",""]
["","",null,"",""]
["","",null,"",""]
["","",null,"",""]
["","",null,"",""]
["","",null,"",""]
["","",null,"",""]
["","",null,"",""]
["","",null,"",""]
["","",null,"",""]
["","",null,"",""]
["","",null,"",""]
["","",null,"",""]
["","",null,"",""]
["","",null,"",""]
["","",null,"",""]
["","",null,"",""]
["","",null,"",""]
["","",null,"",""]
["","",null,"",""]
["","",null,"",""]
["","",null,"",""]
["","",null,"",""]
["","",null,"",""]
["","",null,"",""]
["","",null,"",""]
["","",null,"",""]
["","",null,"",""]
["","",null,"",""]
["","",null,"",""]
["","",null,"",""]
["","",null,"",""]
["","",null,"",""]
["","",null,"",""]
["","",null,"",""]
["","",null,"",""]
["","",null,{"$f":"IF(A68=\"\",\"\",RANK(A68,$A$3:$B$565,1)+(COUNT($A$3:$B$565)+1-RANK(A68,$A$3:$B$565,1)-RANK(A68,$A$3:$B$565,0))/2)","v":""},{"$f":"IF(B68=\"\",\"\",RANK(B68,$A$3:$B$565,1)+(COUNT($A$3:$B$565)+1-RANK(B68,$A$3:$B$565,1)-RANK(B68,$A$3:$B$565,0))/2)","v":""}]
["","",null,"",""]
["","",null,"",""]
["","",null,"",""]
["","",null,"",""]
["","",null,"",""]
["","",null,"",""]
["","",null,"",""]
["","",null,"",""]
["","",null,"",""]
["","",null,"",""]
["","",null,"",""]
["","",null,"",""]
["","",null,"",""]
["","",null,"",""]
["","",null,"",""]
["","",null,"",""]
["","",null,"",""]
["","",null,"",""]
["","",null,"",""]
["","",null,"",""]
["","",null,"",""]
["","",null,"",""]
["","",null,"",""]
["","",null,"",""]
["","",null,"",""]
["","",null,"",""]
["","",null,"",""]
["","",null,"",""]
["","",null,"",""]
["","",null,"",""]
["","",null,"",""]
["","",null,"",""]
["","",null,"",""]
["","",null,"",""]
["","",null,"",""]
["","",null,"",""]
["","",null,"",""]
["","",null,"",""]
["","",null,"",""]
["","",null,"",""]
["","",null,"",""]
["","",null,"",""]
["","",null,"",""]
["","",null,"",""]
["","",null,"",""]
["","",null,"",""]
["","",null,"",""]
["","",null,"",""]
["","",null,"",""]
["","",null,"",""]
["","",null,"",""]
["","",null,"",""]
["","",null,"",""]
["","",null,"",""]
["","",null,"",""]
["","",null,"",""]
["","",null,"",""]
["","",null,"",""]
["","",null,"",""]
["","",null,"",""]
["","",null,"",""]
["","",null,"",""]
["","",null,"",""]
["","",null,{"$f":"IF(A132=\"\",\"\",RANK(A132,$A$3:$B$565,1)+(COUNT($A$3:$B$565)+1-RANK(A132,$A$3:$B$565,1)-RANK(A132,$A$3:$B$565,0))/2)","v":""},{"$f":"IF(B132=\"\",\"\",RANK(B132,$A$3:$B$565,1)+(COUNT($A$3:$B$565)+1-RANK(B132,$A$3:$B$565,1)-RANK(B132,$A$3:$B$565,0))/2)","v":""}]
["","",null,"",""]
["","",null,"",""]
["","",null,"",""]
["","",null,"",""]
["","",null,"",""]
["","",null,"",""]
["","",null,"",""]
["","",null,"",""]
["","",null,"",""]
["","",null,"",""]
["","",null,"",""]
["","",null,"",""]
["","",null,"",""]
["","",null,"",""]
["","",null,"",""]
["","",null,"",""]
["","",null,"",""]
["","",null,"",""]
["","",null,"",""]
["","",null,"",""]
["","",null,"",""]
["","",null,"",""]
["","",null,"",""]
["","",null,"",""]
["","",null,"",""]
["","",null,"",""]
["","",null,"",""]
["","",null,"",""]
["","",null,"",""]
["","",null,"",""]
["","",null,"",""]
["","",null,"",""]
["","",null,"",""]
["","",null,"",""]
["","",null,"",""]
["","",null,"",""]
["","",null,"",""]
["","",null,"",""]
["","",null,"",""]
["","",null,"",""]
["","",null,"",""]
["","",null,"",""]
["","",null,"",""]
["","",null,"",""]
["","",null,"",""]
["","",null,"",""]
["","",null,"",""]
["","",null,"",""]
["","",null,"",""]
["","",null,"",""]
["","",null,"",""]
["","",null,"",""]
["","",null,"",""]
["","",null,"",""]
["","",null,"",""]
["","",null,"",""]
["","",null,"",""]
["","",null,"",""]
["","",null,"",""]
["","",null,"",""]
["","",null,"",""]
["","",null,"",""]
["","",null,"",""]
["","",null,{"$f":"IF(A196=\"\",\"\",RANK(A196,$A$3:$B$565,1)+(COUNT($A$3:$B$565)+1-RANK(A196,$A$3:$B$565,1)-RANK(A196,$A$3:$B$565,0))/2)","v":""},{"$f":"IF(B196=\"\",\"\",RANK(B196,$A$3:$B$565,1)+(COUNT($A$3:$B$565)+1-RANK(B196,$A$3:$B$565,1)-RANK(B196,$A$3:$B$565,0))/2)","v":""}]
["","",null,"",""]
["","",null,"",""]
["","",null,"",""]
["","",null,"",""]
["","",null,"",""]
["","",null,"",""]
["","",null,"",""]
["","",null,"",""]
["","",null,"",""]
["","",null,"",""]
["","",null,"",""]
["","",null,"",""]
["","",null,"",""]
["","",null,"",""]
["","",null,"",""]
["","",null,"",""]
["","",null,"",""]
["","",null,"",""]
["","",null,"",""]
["","",null,"",""]
["","",null,"",""]
["","",null,"",""]
["","",null,"",""]
["","",null,"",""]
["","",null,"",""]
["","",null,"",""]
["","",null,"",""]
["","",null,"",""]
["","",null,"",""]
["","",null,"",""]
["","",null,"",""]
["","",null,"",""]
["","",null,"",""]
["","",null,"",""]
["","",null,"",""]
["","",null,"",""]
["","",null,"",""]
["","",null,"",""]
["","",null,"",""]
["","",null,"",""]
["","",null,"",""]
["","",null,"",""]
["","",null,"",""]
["","",null,"",""]
["","",null,"",""]
["","",null,"",""]
["","",null,"",""]
["","",null,"",""]
["","",null,"",""]
["","",null,"",""]
["","",null,"",""]
["","",null,"",""]
["","",null,"",""]
["","",null,"",""]
["","",null,"",""]
["","",null,"",""]
["","",null,"",""]
["","",null,"",""]
["","",null,"",""]
["","",null,"",""]
["","",null,"",""]
["","",null,"",""]
["","",null,"",""]
["","",null,{"$f":"IF(A260=\"\",\"\",RANK(A260,$A$3:$B$565,1)+(COUNT($A$3:$B$565)+1-RANK(A260,$A$3:$B$565,1)-RANK(A260,$A$3:$B$565,0))/2)","v":""},{"$f":"IF(B260=\"\",\"\",RANK(B260,$A$3:$B$565,1)+(COUNT($A$3:$B$565)+1-RANK(B260,$A$3:$B$565,1)-RANK(B260,$A$3:$B$565,0))/2)","v":""}]
["","",null,"",""]
["","",null,"",""]
["","",null,"",""]
["","",null,"",""]
["","",null,"",""]
["","",null,"",""]
["","",null,"",""]
["","",null,"",""]
["","",null,"",""]
["","",null,"",""]
["","",null,"",""]
["","",null,"",""]
["","",null,"",""]
["","",null,"",""]
["","",null,"",""]
["","",null,"",""]
["","",null,"",""]
["","",null,"",""]
["","",null,"",""]
["","",null,"",""]
["","",null,"",""]
["","",null,"",""]
["","",null,"",""]
["","",null,"",""]
["","",null,"",""]
["","",null,"",""]
["","",null,"",""]
["","",null,"",""]
["","",null,"",""]
["","",null,"",""]
["","",null,"",""]
["","",null,"",""]
["","",null,"",""]
["","",null,"",""]
["","",null,"",""]
["","",null,"",""]
["","",null,"",""]
["","",null,"",""]
["","",null,"",""]
["","",null,"",""]
["","",null,"",""]
["","",null,"",""]
["","",null,"",""]
["","",null,"",""]
["","",null,"",""]
["","",null,"",""]
["","",null,"",""]
["","",null,"",""]
["","",null,"",""]
["","",null,"",""]
["","",null,"",""]
["","",null,"",""]
["","",null,"",""]
["","",null,"",""]
["","",null,"",""]
["","",null,"",""]
["","",null,"",""]
["","",null,"",""]
["","",null,"",""]
["","",null,"",""]
["","",null,"",""]
["","",null,"",""]
["","",null,"",""]
["","",null,{"$f":"IF(A324=\"\",\"\",RANK(A324,$A$3:$B$565,1)+(COUNT($A$3:$B$565)+1-RANK(A324,$A$3:$B$565,1)-RANK(A324,$A$3:$B$565,0))/2)","v":""},{"$f":"IF(B324=\"\",\"\",RANK(B324,$A$3:$B$565,1)+(COUNT($A$3:$B$565)+1-RANK(B324,$A$3:$B$565,1)-RANK(B324,$A$3:$B$565,0))/2)","v":""}]
["","",null,"",""]
["","",null,"",""]
["","",null,"",""]
["","",null,"",""]
["","",null,"",""]
["","",null,"",""]
["","",null,"",""]
["","",null,"",""]
["","",null,"",""]
["","",null,"",""]
["","",null,"",""]
["","",null,"",""]
["","",null,"",""]
["","",null,"",""]
["","",null,"",""]
["","",null,"",""]
["","",null,"",""]
["","",null,"",""]
["","",null,"",""]
["","",null,"",""]
["","",null,"",""]
["","",null,"",""]
["","",null,"",""]
["","",null,"",""]
["","",null,"",""]
["","",null,"",""]
["","",null,"",""]
["","",null,"",""]
["","",null,"",""]
["","",null,"",""]
["","",null,"",""]
["","",null,"",""]
["","",null,"",""]
["","",null,"",""]
["","",null,"",""]
["","",null,"",""]
["","",null,"",""]
["","",null,"",""]
[null,null,null,"",""]
[null,null,null,"",""]
[null,null,null,"",""]
[null,null,null,"",""]
[null,null,null,"",""]
[null,null,null,"",""]
[null,null,null,"",""]
[null,null,null,"",""]
[null,null,null,"",""]
[null,null,null,"",""]
[null,null,null,"",""]
[null,null,null,"",""]
[null,null,null,"",""]
[null,null,null,"",""]
[null,null,null,"",""]
[null,null,null,"",""]
[null,null,null,"",""]
[null,null,null,"",""]
[null,null,null,"",""]
[null,null,null,"",""]
[null,null,null,"",""]
[null,null,null,"",""]
[null,null,null,"",""]
[null,null,null,"",""]
[null,null,null,"",""]
[null,null,null,{"$f":"IF(A388=\"\",\"\",RANK(A388,$A$3:$B$565,1)+(COUNT($A$3:$B$565)+1-RANK(A388,$A$3:$B$565,1)-RANK(A388,$A$3:$B$565,0))/2)","v":""},{"$f":"IF(B388=\"\",\"\",RANK(B388,$A$3:$B$565,1)+(COUNT($A$3:$B$565)+1-RANK(B388,$A$3:$B$565,1)-RANK(B388,$A$3:$B$565,0))/2)","v":""}]
[null,null,null,"",""]
[null,null,null,"",""]
[null,null,null,"",""]
[null,null,null,"",""]
[null,null,null,"",""]
[null,null,null,"",""]
[null,null,null,"",""]
[null,null,null,"",""]
[null,null,null,"",""]
[null,null,null,"",""]
[null,null,null,"",""]
[null,null,null,"",""]
[null,null,null,"",""]
[null,null,null,"",""]
[null,null,null,"",""]
[null,null,null,"",""]
[null,null,null,"",""]
[null,null,null,"",""]
[null,null,null,"",""]
[null,null,null,"",""]
[null,null,null,"",""]
[null,null,null,"",""]
[null,null,null,"",""]
[null,null,null,"",""]
[null,null,null,"",""]
[null,null,null,"",""]
[null,null,null,"",""]
[null,null,null,"",""]
[null,null,null,"",""]
[null,null,null,"",""]
[null,null,null,"",""]
[null,null,null,"",""]
[null,null,null,"",""]
[null,null,null,"",""]
[null,null,null,"",""]
[null,null,null,"",""]
[null,null,null,"",""]
[null,null,null,"",""]
[null,null,null,"",""]
[null,null,null,"",""]
[null,null,null,"",""]
[null,null,null,"",""]
[null,null,null,"",""]
[null,null,null,"",""]
[null,null,null,"",""]
[null,null,null,"",""]
[null,null,null,"",""]
[null,null,null,"",""]
[null,null,null,"",""]
[null,null,null,"",""]
[null,null,null,"",""]
[null,null,null,"",""]
[null,null,null,"",""]
[null,null,null,"",""]
[null,null,null,"",""]
[null,null,null,"",""]
[null,null,null,"",""]
[null,null,null,"",""]
[null,null,null,"",""]
[null,null,null,"",""]
[null,null,null,"",""]
[null,null,null,"",""]
[null,null,null,"",""]
[null,null,null,{"$f":"IF(A452=\"\",\"\",RANK(A452,$A$3:$B$565,1)+(COUNT($A$3:$B$565)+1-RANK(A452,$A$3:$B$565,1)-RANK(A452,$A$3:$B$565,0))/2)","v":""},{"$f":"IF(B452=\"\",\"\",RANK(B452,$A$3:$B$565,1)+(COUNT($A$3:$B$565)+1-RANK(B452,$A$3:$B$565,1)-RANK(B452,$A$3:$B$565,0))/2)","v":""}]
[null,null,null,"",""]
[null,null,null,"",""]
[null,null,null,"",""]
[null,null,null,"",""]
[null,null,null,"",""]
[null,null,null,"",""]
[null,null,null,"",""]
[null,null,null,"",""]
[null,null,null,"",""]
[null,null,null,"",""]
[null,null,null,"",""]
[null,null,null,"",""]
[null,null,null,"",""]
[null,null,null,"",""]
[null,null,null,"",""]
[null,null,null,"",""]
[null,null,null,"",""]
[null,null,null,"",""]
[null,null,null,"",""]
[null,null,null,"",""]
[null,null,null,"",""]
[null,null,null,"",""]
[null,null,null,"",""]
[null,null,null,"",""]
[null,null,null,"",""]
[null,null,null,"",""]
[null,null,null,"",""]
[null,null,null,"",""]
[null,null,null,"",""]
[null,null,null,"",""]
[null,null,null,"",""]
[null,null,null,"",""]
[null,null,null,"",""]
[null,null,null,"",""]
[null,null,null,"",""]
[null,null,null,"",""]
[null,null,null,"",""]
[null,null,null,"",""]
[null,null,null,"",""]
[null,null,null,"",""]
[null,null,null,"",""]
[null,null,null,"",""]
[null,null,null,"",""]
[null,null,null,"",""]
[null,null,null,"",""]
[null,null,null,"",""]
[null,null,null,"",""]
[null,null,null,"",""]
[null,null,null,"",""]
[null,null,null,"",""]
[null,null,null,"",""]
[null,null,null,"",""]
[null,null,null,"",""]
[null,null,null,"",""]
[null,null,null,"",""]
[null,null,null,"",""]
[null,null,null,"",""]
[null,null,null,"",""]
[null,null,null,"",""]
[null,null,null,"",""]
[null,null,null,"",""]
[null,null,null,"",""]
[null,null,null,"",""]
[null,null,null,{"$f":"IF(A516=\"\",\"\",RANK(A516,$A$3:$B$565,1)+(COUNT($A$3:$B$565)+1-RANK(A516,$A$3:$B$565,1)-RANK(A516,$A$3:$B$565,0))/2)","v":""},{"$f":"IF(B516=\"\",\"\",RANK(B516,$A$3:$B$565,1)+(COUNT($A$3:$B$565)+1-RANK(B516,$A$3:$B$565,1)-RANK(B516,$A$3:$B$565,0))/2)","v":""}]
[null,null,null,"",""]
[null,null,null,"",""]
[null,null,null,"",""]
[null,null,null,"",""]
[null,null,null,"",""]
[null,null,null,"",""]
[null,null,null,"",""]
[null,null,null,"",""]
[null,null,null,"",""]
[null,null,null,"",""]
[null,null,null,"",""]
[null,null,null,"",""]
[null,null,null,"",""]
[null,null,null,"",""]
[null,null,null,"",""]
[null,null,null,"",""]
[null,null,null,"",""]
[null,null,null,"",""]
[null,null,null,"",""]
[null,null,null,"",""]
[null,null,null,"",""]
[null,null,null,"",""]
[null,null,null,"",""]
[null,null,null,"",""]
[null,null,null,"",""]
[null,null,null,"",""]
[null,null,null,"",""]
[null,null,null,"",""]
[null,null,null,"",""]
[null,null,null,"",""]
[null,null,null,"",""]
[null,null,null,"",""]
[null,null,null,"",""]
[null,null,null,"",""]
[null,null,null,"",""]
[null,null,null,"",""]
[null,null,null,"",""]
[null,null,null,"",""]
[null,null,null,"",""]
[null,null,null,"",""]
[null,null,null,"",""]
[null,null,null,"",""]
[null,null,null,"",""]
[null,null,null,"",""]
[null,null,null,"",""]
[null,null,null,"",""]
[null,null,null,"",""]
[null,null,null,"",""]
[null,null,null,"",""]

{"sheet":"ChiSq","index":11,"n_rows":361,"n_cols":27,"rows_kept":361,"cut":false,"hidden":false,"merged":[]}
["STREAMBANK COVER",null,null,"CHI SQUARE TEST",null,null,null,null,null,null,null,null,null,null,null,"STREAMBANK STABILITY",null,null,"CHI SQUARE TEST"]
[]
[null,null,null,"Null Hypothesis:  Frequency of cover at A is not significantly different than B",null,null,null,null,null,null,null,null,null,null,null,null,null,null,"Null Hypothesis:  Frequency of stability at A is not significantly different than B"]
[]
[]
[null,null,null,"Contingency Tables",null,null,null,null,null,null,null,null,null,null,null,null,null,null,"Contingency Tables"]
[null,null,null,"Cover","A","B",null,null,"Percentage:","Cover",null,null,null,null,null,null,null,null,"Stability","A","B",null,null,"Percentage:","Streambank Stability"]
[null,null,null,null,{"$f":"A2","v":0},{"$f":"B2","v":0},null,null,{"$f":"E8","v":0},{"$f":"F8","v":0},null,null,null,null,null,null,null,null,null,{"$f":"P2","v":0},{"$f":"Q2","v":0},null,null,{"$f":"T8","v":0},{"$f":"U8","v":0}]
[null,null,null,"Covered",{"$f":"COUNTIF(A$3:A$365,\"c\")","v":0},{"$f":"COUNTIF(B$3:B$365,\"c\")","v":0},null,"Covered (%)",{"$f":"E9/E11","v":{"$error":"#DIV/0!"}},{"$f":"F9/F11","v":{"$error":"#DIV/0!"}},null,null,null,null,null,null,null,null,"Stable",{"$f":"COUNTIF(P$3:P$365,\"s\")","v":0},{"$f":"COUNTIF(Q$3:Q$365,\"s\")","v":0},null,"Stable(%)",{"$f":"T9/T11","v":{"$error":"#DIV/0!"}},{"$f":"U9/U11","v":{"$error":"#DIV/0!"}}]
[null,null,null,"Uncovered",{"$f":"COUNTIF(A$3:A$365,\"u\")","v":0},{"$f":"COUNTIF(B$3:B$365,\"u\")","v":0},null,"Uncovered",{"$f":"E10/E11","v":{"$error":"#DIV/0!"}},{"$f":"F10/F11","v":{"$error":"#DIV/0!"}},null,null,null,null,null,null,null,null,"Unstable",{"$f":"COUNTIF(P$3:P$365,\"u\")","v":0},{"$f":"COUNTIF(Q$3:Q$365,\"u\")","v":0},null,"Unstable",{"$f":"T10/T11","v":{"$error":"#DIV/0!"}},{"$f":"U10/U11","v":{"$error":"#DIV/0!"}}]
[null,null,null,"Total",{"$f":"SUM(E9:E10)","v":0},{"$f":"SUM(F9:F10)","v":0},null,"Total",{"$f":"SUM(I9:I10)","v":{"$error":"#DIV/0!"}},{"$f":"SUM(J9:J10)","v":{"$error":"#DIV/0!"}},null,null,null,null,null,null,null,null,"Total",{"$f":"SUM(T9:T10)","v":0},{"$f":"SUM(U9:U10)","v":0},null,"Total",{"$f":"SUM(X9:X10)","v":{"$error":"#DIV/0!"}},{"$f":"SUM(Y9:Y10)","v":{"$error":"#DIV/0!"}}]
[]
[null,null,null,"Observed",null,null,null,null,"Expected",null,null,null,null,null,null,null,null,null,"Observed",null,null,null,null,"Expected"]
[null,null,null,null,{"$f":"E8","v":0},{"$f":"F8","v":0},"Totals",null,null,{"$f":"I8","v":0},{"$f":"J8","v":0},"Totals",null,null,null,null,null,null,null,{"$f":"T8","v":0},{"$f":"U8","v":0},"Totals",null,null,{"$f":"X8","v":0},{"$f":"Y8","v":0},"Totals"]
[null,null,null,"Covered",{"$f":"COUNTIF(A3:A365,\"c\")","v":0},{"$f":"COUNTIF(B$3:B$365,\"c\")","v":0},{"$f":"SUM(E15:F15)","v":0},null,"Covered",{"$f":"G15*E17/G17","v":{"$error":"#DIV/0!"}},{"$f":"F17*G15/G17","v":{"$error":"#DIV/0!"}},{"$f":"SUM(J15:K15)","v":{"$error":"#DIV/0!"}},null,null,null,null,null,null,"Stable",{"$f":"COUNTIF(P3:P365,\"s\")","v":0},{"$f":"COUNTIF(Q$3:Q$365,\"s\")","v":0},{"$f":"SUM(T15:U15)","v":0},null,"Stable",{"$f":"V15*T17/V17","v":{"$error":"#DIV/0!"}},{"$f":"U17*V15/V17","v":{"$error":"#DIV/0!"}},{"$f":"SUM(Y15:Z15)","v":{"$error":"#DIV/0!"}}]
[null,null,null,"Uncovered",{"$f":"COUNTIF(A3:A365,\"u\")","v":0},{"$f":"COUNTIF(B$3:B$365,\"u\")","v":0},{"$f":"SUM(E16:F16)","v":0},null,"Uncovered",{"$f":"E17*G16/G17","v":{"$error":"#DIV/0!"}},{"$f":"F17*G16/G17","v":{"$error":"#DIV/0!"}},{"$f":"SUM(J16:K16)","v":{"$error":"#DIV/0!"}},null,null,null,null,null,null,"Unstable",{"$f":"COUNTIF(P3:P365,\"u\")","v":0},{"$f":"COUNTIF(Q$3:Q$365,\"u\")","v":0},{"$f":"SUM(T16:U16)","v":0},null,"Unstable",{"$f":"T17*V16/V17","v":{"$error":"#DIV/0!"}},{"$f":"U17*V16/V17","v":{"$error":"#DIV/0!"}},{"$f":"SUM(Y16:Z16)","v":{"$error":"#DIV/0!"}}]
[null,null,null,"Total",{"$f":"SUM(E15:E16)","v":0},{"$f":"SUM(F15:F16)","v":0},{"$f":"SUM(G15:G16)","v":0},null,"Total",{"$f":"SUM(J15:J16)","v":{"$error":"#DIV/0!"}},{"$f":"SUM(K15:K16)","v":{"$error":"#DIV/0!"}},{"$f":"SUM(L15:L16)","v":{"$error":"#DIV/0!"}},null,null,null,null,null,null,"Total",{"$f":"SUM(T15:T16)","v":0},{"$f":"SUM(U15:U16)","v":0},{"$f":"SUM(V15:V16)","v":0},null,"Total",{"$f":"SUM(Y15:Y16)","v":{"$error":"#DIV/0!"}},{"$f":"SUM(Z15:Z16)","v":{"$error":"#DIV/0!"}},{"$f":"SUM(AA15:AA16)","v":{"$error":"#DIV/0!"}}]
[]
[]
[]
[null,null,null,"Chi Square Cover",null,"Lookup 1 df and alpha of .10",null,null,null,null,null,null,null,null,null,null,null,null,"Chi Square Stability",null,"Lookup 1 df and alpha of .10"]
[null,null,null,{"$f":"(E15-J15)^2/J15+(F15-K15)^2/K15+(E16-J16)^2/J16+(F16-K16)^2/K16","v":{"$error":"#DIV/0!"}},null,{"$f":"_xlfn.CHISQ.INV.RT(0.1,1)","v":2.7055434540954142},null,null,null,null,null,null,null,null,null,null,null,null,{"$f":"(T15-Y15)^2/Y15+(U15-Z15)^2/Z15+(T16-Y16)^2/Y16+(U16-Z16)^2/Z16","v":{"$error":"#DIV/0!"}},null,{"$f":"_xlfn.CHISQ.INV.RT(0.1,1)","v":2.7055434540954142}]
[null,null,null,{"$f":"IF(F$22>D22,\"Accept the null hypothesis\",\"Reject the null hypothesis\")","v":{"$error":"#DIV/0!"}},"p = .10",null,null,null,null,null,null,null,null,null,null,null,null,null,{"$f":"IF(U22>S22,\"Accept the null hypothesis\",\"Reject the null hypothesis\")","v":{"$error":"#DIV/0!"}},"p = .10"]
[null,null,null,{"$f":"IF(F$25>D22,\"Accept the null hypothesis\",\"Reject the null hypothesis\")","v":{"$error":"#DIV/0!"}},"p = .05","Lookup 1 df and alpha of .05",null,null,null,null,null,null,null,null,null,null,null,null,{"$f":"IF(U25>S22,\"Accept the null hypothesis\",\"Reject the null hypothesis\")","v":{"$error":"#DIV/0!"}},"p = .05","Lookup 1 df and alpha of .05"]
[null,null,null,null,null,{"$f":"_xlfn.CHISQ.INV.RT(0.05,1)","v":3.8414588206941236},null,null,null,null,null,null,null,null,null,null,null,null,null,null,{"$f":"_xlfn.CHISQ.INV.RT(0.05,1)","v":3.8414588206941236}]
[]
[null,null,null,"P VALUE =",{"$f":"_xlfn.CHISQ.TEST(E15:F16, J15:K16)","v":{"$error":"#DIV/0!"}},"Note: The number of categories is 2 (C or U), so degrees of freedom = 1",null,null,null,null,null,null,null,null,null,null,null,null,"P VALUE =",{"$f":"_xlfn.CHISQ.TEST(T15:U16, Y15:Z16)","v":{"$error":"#DIV/0!"}}]
[]
[null,null,null,"If the p-value is less than 0.05, there is a significant difference in bank cover between sites.",null,null,null,null,null,null,null,null,null,null,null,null,null,null,"If the p-value is less than 0.05, there is a significant difference in bank stability between sites."]
[null,null,null,"If p > 0.05, there is no significant difference.",null,null,null,null,null,null,null,null,null,null,null,null,null,null,"If p > 0.05, there is no significant difference."]
[]
[]
[]
[]
[]
[]
[]
[]
[]
[]
[]
[]
[]
[]
[]
[]
[]
[]
[]
[]
[]
[]
[]
[]
[]
[]
[]
[]
[]
[]
[]
[]
[]
[]
[]
[]
[]
[]
[]
[]
[]
[]
[]
[]
[]
[]
[]
[]
[]
[]
[]
[]
[]
[]
[]
[]
[]
[]
[]
[]
[]
[]
[]
["",""]
["",""]
["",""]
["",""]
["",""]
["",""]
["",""]
["",""]
["",""]
["",""]
["",""]
["",""]
["",""]
["",""]
["","",null,null,null,null,null,null,null,null,null,null,null,null,null,"",""]
["","",null,null,null,null,null,null,null,null,null,null,null,null,null,"",""]
["","",null,null,null,null,null,null,null,null,null,null,null,null,null,"",""]
["","",null,null,null,null,null,null,null,null,null,null,null,null,null,"",""]
["","",null,null,null,null,null,null,null,null,null,null,null,null,null,"",""]
["","",null,null,null,null,null,null,null,null,null,null,null,null,null,"",""]
["","",null,null,null,null,null,null,null,null,null,null,null,null,null,"",""]
["","",null,null,null,null,null,null,null,null,null,null,null,null,null,"",""]
["","",null,null,null,null,null,null,null,null,null,null,null,null,null,"",""]
["","",null,null,null,null,null,null,null,null,null,null,null,null,null,"",""]
["","",null,null,null,null,null,null,null,null,null,null,null,null,null,"",""]
["","",null,null,null,null,null,null,null,null,null,null,null,null,null,"",""]
["","",null,null,null,null,null,null,null,null,null,null,null,null,null,"",""]
["","",null,null,null,null,null,null,null,null,null,null,null,null,null,"",""]
["","",null,null,null,null,null,null,null,null,null,null,null,null,null,"",""]
["","",null,null,null,null,null,null,null,null,null,null,null,null,null,"",""]
["","",null,null,null,null,null,null,null,null,null,null,null,null,null,"",""]
["","",null,null,null,null,null,null,null,null,null,null,null,null,null,"",""]
["","",null,null,null,null,null,null,null,null,null,null,null,null,null,"",""]
["","",null,null,null,null,null,null,null,null,null,null,null,null,null,"",""]
["","",null,null,null,null,null,null,null,null,null,null,null,null,null,"",""]
["","",null,null,null,null,null,null,null,null,null,null,null,null,null,"",""]
["","",null,null,null,null,null,null,null,null,null,null,null,null,null,"",""]
["","",null,null,null,null,null,null,null,null,null,null,null,null,null,"",""]
["","",null,null,null,null,null,null,null,null,null,null,null,null,null,"",""]
["","",null,null,null,null,null,null,null,null,null,null,null,null,null,"",""]
["","",null,null,null,null,null,null,null,null,null,null,null,null,null,"",""]
["","",null,null,null,null,null,null,null,null,null,null,null,null,null,"",""]
["","",null,null,null,null,null,null,null,null,null,null,null,null,null,"",""]
["","",null,null,null,null,null,null,null,null,null,null,null,null,null,"",""]
["","",null,null,null,null,null,null,null,null,null,null,null,null,null,"",""]
["","",null,null,null,null,null,null,null,null,null,null,null,null,null,"",""]
["","",null,null,null,null,null,null,null,null,null,null,null,null,null,"",""]
["","",null,null,null,null,null,null,null,null,null,null,null,null,null,"",""]
["","",null,null,null,null,null,null,null,null,null,null,null,null,null,"",""]
["","",null,null,null,null,null,null,null,null,null,null,null,null,null,"",""]
["","",null,null,null,null,null,null,null,null,null,null,null,null,null,"",""]
["","",null,null,null,null,null,null,null,null,null,null,null,null,null,"",""]
["","",null,null,null,null,null,null,null,null,null,null,null,null,null,"",""]
["","",null,null,null,null,null,null,null,null,null,null,null,null,null,"",""]
["","",null,null,null,null,null,null,null,null,null,null,null,null,null,"",""]
["","",null,null,null,null,null,null,null,null,null,null,null,null,null,"",""]
["","",null,null,null,null,null,null,null,null,null,null,null,null,null,"",""]
["","",null,null,null,null,null,null,null,null,null,null,null,null,null,"",""]
["","",null,null,null,null,null,null,null,null,null,null,null,null,null,"",""]
["","",null,null,null,null,null,null,null,null,null,null,null,null,null,"",""]
["","",null,null,null,null,null,null,null,null,null,null,null,null,null,"",""]
["","",null,null,null,null,null,null,null,null,null,null,null,null,null,"",""]
["","",null,null,null,null,null,null,null,null,null,null,null,null,null,"",""]
["","",null,null,null,null,null,null,null,null,null,null,null,null,null,"",""]
["","",null,null,null,null,null,null,null,null,null,null,null,null,null,"",""]
["","",null,null,null,null,null,null,null,null,null,null,null,null,null,"",""]
["","",null,null,null,null,null,null,null,null,null,null,null,null,null,"",""]
["","",null,null,null,null,null,null,null,null,null,null,null,null,null,"",""]
["","",null,null,null,null,null,null,null,null,null,null,null,null,null,"",""]
["","",null,null,null,null,null,null,null,null,null,null,null,null,null,"",""]
["","",null,null,null,null,null,null,null,null,null,null,null,null,null,"",""]
["","",null,null,null,null,null,null,null,null,null,null,null,null,null,"",""]
["","",null,null,null,null,null,null,null,null,null,null,null,null,null,"",""]
["","",null,null,null,null,null,null,null,null,null,null,null,null,null,"",""]
["","",null,null,null,null,null,null,null,null,null,null,null,null,null,"",""]
["","",null,null,null,null,null,null,null,null,null,null,null,null,null,"",""]
["","",null,null,null,null,null,null,null,null,null,null,null,null,null,"",""]
["","",null,null,null,null,null,null,null,null,null,null,null,null,null,"",""]
["","",null,null,null,null,null,null,null,null,null,null,null,null,null,"",""]
["","",null,null,null,null,null,null,null,null,null,null,null,null,null,"",""]
["","",null,null,null,null,null,null,null,null,null,null,null,null,null,"",""]
["","",null,null,null,null,null,null,null,null,null,null,null,null,null,"",""]
["","",null,null,null,null,null,null,null,null,null,null,null,null,null,"",""]
["","",null,null,null,null,null,null,null,null,null,null,null,null,null,"",""]
["","",null,null,null,null,null,null,null,null,null,null,null,null,null,"",""]
["","",null,null,null,null,null,null,null,null,null,null,null,null,null,"",""]
["","",null,null,null,null,null,null,null,null,null,null,null,null,null,"",""]
["","",null,null,null,null,null,null,null,null,null,null,null,null,null,"",""]
["","",null,null,null,null,null,null,null,null,null,null,null,null,null,"",""]
["","",null,null,null,null,null,null,null,null,null,null,null,null,null,"",""]
["","",null,null,null,null,null,null,null,null,null,null,null,null,null,"",""]
["","",null,null,null,null,null,null,null,null,null,null,null,null,null,"",""]
["","",null,null,null,null,null,null,null,null,null,null,null,null,null,"",""]
["","",null,null,null,null,null,null,null,null,null,null,null,null,null,"",""]
["","",null,null,null,null,null,null,null,null,null,null,null,null,null,"",""]
["","",null,null,null,null,null,null,null,null,null,null,null,null,null,"",""]
["","",null,null,null,null,null,null,null,null,null,null,null,null,null,"",""]
["","",null,null,null,null,null,null,null,null,null,null,null,null,null,"",""]
["","",null,null,null,null,null,null,null,null,null,null,null,null,null,"",""]
["","",null,null,null,null,null,null,null,null,null,null,null,null,null,"",""]
["","",null,null,null,null,null,null,null,null,null,null,null,null,null,"",""]
["","",null,null,null,null,null,null,null,null,null,null,null,null,null,"",""]
["","",null,null,null,null,null,null,null,null,null,null,null,null,null,"",""]
["","",null,null,null,null,null,null,null,null,null,null,null,null,null,"",""]
["","",null,null,null,null,null,null,null,null,null,null,null,null,null,"",""]
["","",null,null,null,null,null,null,null,null,null,null,null,null,null,"",""]
["","",null,null,null,null,null,null,null,null,null,null,null,null,null,"",""]
["","",null,null,null,null,null,null,null,null,null,null,null,null,null,"",""]
["","",null,null,null,null,null,null,null,null,null,null,null,null,null,"",""]
["","",null,null,null,null,null,null,null,null,null,null,null,null,null,"",""]
["","",null,null,null,null,null,null,null,null,null,null,null,null,null,"",""]
["","",null,null,null,null,null,null,null,null,null,null,null,null,null,"",""]
["","",null,null,null,null,null,null,null,null,null,null,null,null,null,"",""]
["","",null,null,null,null,null,null,null,null,null,null,null,null,null,"",""]
["","",null,null,null,null,null,null,null,null,null,null,null,null,null,"",""]
["","",null,null,null,null,null,null,null,null,null,null,null,null,null,"",""]
["","",null,null,null,null,null,null,null,null,null,null,null,null,null,"",""]
["","",null,null,null,null,null,null,null,null,null,null,null,null,null,"",""]
["","",null,null,null,null,null,null,null,null,null,null,null,null,null,"",""]
["","",null,null,null,null,null,null,null,null,null,null,null,null,null,"",""]
["","",null,null,null,null,null,null,null,null,null,null,null,null,null,"",""]
["","",null,null,null,null,null,null,null,null,null,null,null,null,null,"",""]
["","",null,null,null,null,null,null,null,null,null,null,null,null,null,"",""]
["","",null,null,null,null,null,null,null,null,null,null,null,null,null,"",""]
["","",null,null,null,null,null,null,null,null,null,null,null,null,null,"",""]
["","",null,null,null,null,null,null,null,null,null,null,null,null,null,"",""]
["","",null,null,null,null,null,null,null,null,null,null,null,null,null,"",""]
["","",null,null,null,null,null,null,null,null,null,null,null,null,null,"",""]
["","",null,null,null,null,null,null,null,null,null,null,null,null,null,"",""]
["","",null,null,null,null,null,null,null,null,null,null,null,null,null,"",""]
["","",null,null,null,null,null,null,null,null,null,null,null,null,null,"",""]
["","",null,null,null,null,null,null,null,null,null,null,null,null,null,"",""]
["","",null,null,null,null,null,null,null,null,null,null,null,null,null,"",""]
["","",null,null,null,null,null,null,null,null,null,null,null,null,null,"",""]
["","",null,null,null,null,null,null,null,null,null,null,null,null,null,"",""]
["","",null,null,null,null,null,null,null,null,null,null,null,null,null,"",""]
["","",null,null,null,null,null,null,null,null,null,null,null,null,null,"",""]
["","",null,null,null,null,null,null,null,null,null,null,null,null,null,"",""]
["","",null,null,null,null,null,null,null,null,null,null,null,null,null,"",""]
["","",null,null,null,null,null,null,null,null,null,null,null,null,null,"",""]
["","",null,null,null,null,null,null,null,null,null,null,null,null,null,"",""]
["","",null,null,null,null,null,null,null,null,null,null,null,null,null,"",""]
["","",null,null,null,null,null,null,null,null,null,null,null,null,null,"",""]
["","",null,null,null,null,null,null,null,null,null,null,null,null,null,"",""]
["","",null,null,null,null,null,null,null,null,null,null,null,null,null,"",""]
["","",null,null,null,null,null,null,null,null,null,null,null,null,null,"",""]
["","",null,null,null,null,null,null,null,null,null,null,null,null,null,"",""]
["","",null,null,null,null,null,null,null,null,null,null,null,null,null,"",""]
["","",null,null,null,null,null,null,null,null,null,null,null,null,null,"",""]
["","",null,null,null,null,null,null,null,null,null,null,null,null,null,"",""]
["","",null,null,null,null,null,null,null,null,null,null,null,null,null,"",""]
["","",null,null,null,null,null,null,null,null,null,null,null,null,null,"",""]
["","",null,null,null,null,null,null,null,null,null,null,null,null,null,"",""]
["","",null,null,null,null,null,null,null,null,null,null,null,null,null,"",""]
["","",null,null,null,null,null,null,null,null,null,null,null,null,null,"",""]
["","",null,null,null,null,null,null,null,null,null,null,null,null,null,"",""]
["","",null,null,null,null,null,null,null,null,null,null,null,null,null,"",""]
["","",null,null,null,null,null,null,null,null,null,null,null,null,null,"",""]
["","",null,null,null,null,null,null,null,null,null,null,null,null,null,"",""]
["","",null,null,null,null,null,null,null,null,null,null,null,null,null,"",""]
["","",null,null,null,null,null,null,null,null,null,null,null,null,null,"",""]
["","",null,null,null,null,null,null,null,null,null,null,null,null,null,"",""]
["","",null,null,null,null,null,null,null,null,null,null,null,null,null,"",""]
["","",null,null,null,null,null,null,null,null,null,null,null,null,null,"",""]
["","",null,null,null,null,null,null,null,null,null,null,null,null,null,"",""]
["","",null,null,null,null,null,null,null,null,null,null,null,null,null,"",""]
["","",null,null,null,null,null,null,null,null,null,null,null,null,null,"",""]
["","",null,null,null,null,null,null,null,null,null,null,null,null,null,"",""]
["","",null,null,null,null,null,null,null,null,null,null,null,null,null,"",""]
["","",null,null,null,null,null,null,null,null,null,null,null,null,null,"",""]
["","",null,null,null,null,null,null,null,null,null,null,null,null,null,"",""]
["","",null,null,null,null,null,null,null,null,null,null,null,null,null,"",""]
["","",null,null,null,null,null,null,null,null,null,null,null,null,null,"",""]
["","",null,null,null,null,null,null,null,null,null,null,null,null,null,"",""]
["","",null,null,null,null,null,null,null,null,null,null,null,null,null,"",""]
["","",null,null,null,null,null,null,null,null,null,null,null,null,null,"",""]
["","",null,null,null,null,null,null,null,null,null,null,null,null,null,"",""]
["","",null,null,null,null,null,null,null,null,null,null,null,null,null,"",""]
["","",null,null,null,null,null,null,null,null,null,null,null,null,null,"",""]
["","",null,null,null,null,null,null,null,null,null,null,null,null,null,"",""]
["","",null,null,null,null,null,null,null,null,null,null,null,null,null,"",""]
["","",null,null,null,null,null,null,null,null,null,null,null,null,null,"",""]
["","",null,null,null,null,null,null,null,null,null,null,null,null,null,"",""]
["","",null,null,null,null,null,null,null,null,null,null,null,null,null,"",""]
["","",null,null,null,null,null,null,null,null,null,null,null,null,null,"",""]
["","",null,null,null,null,null,null,null,null,null,null,null,null,null,"",""]
["","",null,null,null,null,null,null,null,null,null,null,null,null,null,"",""]
["","",null,null,null,null,null,null,null,null,null,null,null,null,null,"",""]
["","",null,null,null,null,null,null,null,null,null,null,null,null,null,"",""]
["","",null,null,null,null,null,null,null,null,null,null,null,null,null,"",""]
["","",null,null,null,null,null,null,null,null,null,null,null,null,null,"",""]
["","",null,null,null,null,null,null,null,null,null,null,null,null,null,"",""]
["","",null,null,null,null,null,null,null,null,null,null,null,null,null,"",""]
["","",null,null,null,null,null,null,null,null,null,null,null,null,null,"",""]
["","",null,null,null,null,null,null,null,null,null,null,null,null,null,"",""]
["","",null,null,null,null,null,null,null,null,null,null,null,null,null,"",""]
["","",null,null,null,null,null,null,null,null,null,null,null,null,null,"",""]
["","",null,null,null,null,null,null,null,null,null,null,null,null,null,"",""]
["","",null,null,null,null,null,null,null,null,null,null,null,null,null,"",""]
["","",null,null,null,null,null,null,null,null,null,null,null,null,null,"",""]
["","",null,null,null,null,null,null,null,null,null,null,null,null,null,"",""]
["","",null,null,null,null,null,null,null,null,null,null,null,null,null,"",""]
["","",null,null,null,null,null,null,null,null,null,null,null,null,null,"",""]
["","",null,null,null,null,null,null,null,null,null,null,null,null,null,"",""]
["","",null,null,null,null,null,null,null,null,null,null,null,null,null,"",""]
["","",null,null,null,null,null,null,null,null,null,null,null,null,null,"",""]
["","",null,null,null,null,null,null,null,null,null,null,null,null,null,"",""]
["","",null,null,null,null,null,null,null,null,null,null,null,null,null,"",""]
["","",null,null,null,null,null,null,null,null,null,null,null,null,null,"",""]
["","",null,null,null,null,null,null,null,null,null,null,null,null,null,"",""]
["","",null,null,null,null,null,null,null,null,null,null,null,null,null,"",""]
["","",null,null,null,null,null,null,null,null,null,null,null,null,null,"",""]
["","",null,null,null,null,null,null,null,null,null,null,null,null,null,"",""]
["","",null,null,null,null,null,null,null,null,null,null,null,null,null,"",""]
["","",null,null,null,null,null,null,null,null,null,null,null,null,null,"",""]
["","",null,null,null,null,null,null,null,null,null,null,null,null,null,"",""]
["","",null,null,null,null,null,null,null,null,null,null,null,null,null,"",""]
["","",null,null,null,null,null,null,null,null,null,null,null,null,null,"",""]
["","",null,null,null,null,null,null,null,null,null,null,null,null,null,"",""]
["","",null,null,null,null,null,null,null,null,null,null,null,null,null,"",""]
["","",null,null,null,null,null,null,null,null,null,null,null,null,null,"",""]
["","",null,null,null,null,null,null,null,null,null,null,null,null,null,"",""]
["","",null,null,null,null,null,null,null,null,null,null,null,null,null,"",""]
["","",null,null,null,null,null,null,null,null,null,null,null,null,null,"",""]
["","",null,null,null,null,null,null,null,null,null,null,null,null,null,"",""]
["","",null,null,null,null,null,null,null,null,null,null,null,null,null,"",""]
["","",null,null,null,null,null,null,null,null,null,null,null,null,null,"",""]
["","",null,null,null,null,null,null,null,null,null,null,null,null,null,"",""]
["","",null,null,null,null,null,null,null,null,null,null,null,null,null,"",""]
["","",null,null,null,null,null,null,null,null,null,null,null,null,null,"",""]
["","",null,null,null,null,null,null,null,null,null,null,null,null,null,"",""]
["","",null,null,null,null,null,null,null,null,null,null,null,null,null,"",""]
["","",null,null,null,null,null,null,null,null,null,null,null,null,null,"",""]
["","",null,null,null,null,null,null,null,null,null,null,null,null,null,"",""]
["","",null,null,null,null,null,null,null,null,null,null,null,null,null,"",""]
["","",null,null,null,null,null,null,null,null,null,null,null,null,null,"",""]
["","",null,null,null,null,null,null,null,null,null,null,null,null,null,"",""]
["","",null,null,null,null,null,null,null,null,null,null,null,null,null,"",""]
["","",null,null,null,null,null,null,null,null,null,null,null,null,null,"",""]
["","",null,null,null,null,null,null,null,null,null,null,null,null,null,"",""]
["","",null,null,null,null,null,null,null,null,null,null,null,null,null,"",""]
["","",null,null,null,null,null,null,null,null,null,null,null,null,null,"",""]
["","",null,null,null,null,null,null,null,null,null,null,null,null,null,"",""]
["","",null,null,null,null,null,null,null,null,null,null,null,null,null,"",""]
["","",null,null,null,null,null,null,null,null,null,null,null,null,null,"",""]
["","",null,null,null,null,null,null,null,null,null,null,null,null,null,"",""]
["","",null,null,null,null,null,null,null,null,null,null,null,null,null,"",""]
["","",null,null,null,null,null,null,null,null,null,null,null,null,null,"",""]
["","",null,null,null,null,null,null,null,null,null,null,null,null,null,"",""]
["","",null,null,null,null,null,null,null,null,null,null,null,null,null,"",""]
["","",null,null,null,null,null,null,null,null,null,null,null,null,null,"",""]
["","",null,null,null,null,null,null,null,null,null,null,null,null,null,"",""]
["","",null,null,null,null,null,null,null,null,null,null,null,null,null,"",""]
["","",null,null,null,null,null,null,null,null,null,null,null,null,null,"",""]
["","",null,null,null,null,null,null,null,null,null,null,null,null,null,"",""]
["","",null,null,null,null,null,null,null,null,null,null,null,null,null,"",""]
["","",null,null,null,null,null,null,null,null,null,null,null,null,null,"",""]
["","",null,null,null,null,null,null,null,null,null,null,null,null,null,"",""]
["","",null,null,null,null,null,null,null,null,null,null,null,null,null,"",""]
["","",null,null,null,null,null,null,null,null,null,null,null,null,null,"",""]
["","",null,null,null,null,null,null,null,null,null,null,null,null,null,"",""]
["","",null,null,null,null,null,null,null,null,null,null,null,null,null,"",""]
["","",null,null,null,null,null,null,null,null,null,null,null,null,null,"",""]
["","",null,null,null,null,null,null,null,null,null,null,null,null,null,"",""]
["","",null,null,null,null,null,null,null,null,null,null,null,null,null,"",""]
["","",null,null,null,null,null,null,null,null,null,null,null,null,null,"",""]
["","",null,null,null,null,null,null,null,null,null,null,null,null,null,"",""]
["","",null,null,null,null,null,null,null,null,null,null,null,null,null,"",""]

{"sheet":"Chi Sq Dist","index":12,"n_rows":1,"n_cols":9,"rows_kept":1,"cut":false,"hidden":false,"merged":[]}
[null,null,null,null,null,null,null,0.1,0.05]

{"sheet":"Reports","index":13,"n_rows":90,"n_cols":35,"rows_kept":90,"cut":false,"hidden":false,"merged":[]}
["EXAMPLE REPORTS"]
["I. DEVELOPING CRITERIA FOR SHORT-TERM INDICATORS"]
["Stubble Height Report - Summit Creek",null,null,null,null,null,null,null,"Bank Alteration Report - Hartrigger Creek",null,null,null,null,null,null,null,"Woody Use (browse) Report - Elk Creek"]
[]
["The following report describes how stubble height criteria were developed",null,null,null,null,null,null,null,"The following report describes how bank alteration grazing use criteria were developed",null,null,null,null,null,null,null,"The following report describes how Woody Browse Grazing Use criteria were developed"]
["for the DMA.",null,null,null,null,null,null,null,"for the DMA.",null,null,null,null,null,null,null,"for the DMA."]
[]
["Key species at the site are:",null,null,null,null,null,null,null,"In 2007 a flood was experienced on Hartrigger Creek causing declines in stream"]
["cane",null,null,null,null,null,null,null,"bank stability.  The following were observed with respect to bank alteration  "]
["juba",null,null,null,null,null,null,null,"and bank stability in the following years.",null,null,null,null,null,null,null,"In 2005, woody use was observed to be moderately heavy in the DMA.     "]
["carex",null,null,null,null,null,null,null,null,null,null,null,null,null,null,null,"Woody composition was low and regeneration appeared minimal."]
[null,null,null,null,null,null,null,null,null,"Year - Season","Bank Alteration","Bank Stability","Change in stability","Conf Int (95%)","Significant change?",null,null,"Year","Woody Use","% Seedlings & young (age class)","Woody composition","Conf Int (95%) age class"]
["The DMA was managed to a stubble height of 4\" prior to 2004.    ",null,null,null,null,null,null,null,null,"2007 early",0.43,0.3,null,null,null,null,null,2008,0.59,0,0.01,7.0000000000000007E-2]
["Condition of riparian vegetation was less than objectives developed for ",null,null,null,null,null,null,null,null,"2007 late",0.49,0.3,0,5,"No"]
["the allotment:",null,null,null,null,null,null,null,null,"2008 early",0.14000000000000001,0.46,16,9,"Yes",null,"A change was made to the grazing season of use -  earlier in the year, thus reducing"]
[null,"Indicator","Condition 2004","Plan Objective",null,null,null,null,null,"2008 late",0.55000000000000004,0.3,-16,11,"Yes",null,"the amount of browsing on woody plants.  The following was observed in 2012"]
[null,"Greenline Ecological Status Rating",28,">75",null,null,null,null,null,"2009 early",0.15,0.72,{"$f":"72-30","v":42},6,"yes",null,null,"Year","Woody Use","% Seedlings & young (age class)","Woody composition","Conf Int (95%) age class","Significant change?"]
[null,"Winward greenline stability rating",4.9000000000000004,">7.5",null,null,null,null,null,"2009 late",0.53,0.3,{"$f":"L16-L17","v":-0.42},11,"yes",null,null,2012,0.25,0.63,0.04,7.0000000000000007E-2,"Yes"]
[null,"Percent Forbs",47,"<20"]
[null,"Hydric Herbaceous  (%)",41,">75",null,null,null,null,"The effect of bank alteration on bank stability was evident in the data.  Early in the year when "]
[null,null,null,null,null,null,null,null,"bank alteration was small (reflecting wildlife effects), bank stability would experience natural"]
["In year 2004 a 6\" stubble height criteria was applied,  conditions were ",null,null,null,null,null,null,null,"improvement. By season's end it would decline as a result of the additional alteration."]
["again monitored in 2008 with the following observations"]
["(mm/dd/yr)","MedianSH  all key species  (inches)","Average SH for all key species   (inches)","Greenline Ecological Status Rating","Winward greenline stability rating","Percent Forbs","Hydric Herbaceous  (%)",null,"Conclusion:  The data indicate that when bank alteration is less than 20%",null,null,null,null,null,null,null,"Conclusion:  The data indicate that the earlier season of use results in woody plant  "]
["2004-10-27",6,5.9587628865979383,27.523867560430631,4.9000000000000004,0.46546546546546547,0.41141141141141141,null," ","bank stability improves. The selected Bank Alteration Criterion is 20%.",null,null,null,null,null,null," ","regeneration and greater composition.  The Grazing use criterion for woody"]
["2009-09-28",7,7.5131578947368425,54.555841188231938,6.2904317904317901,0.29613733905579398,0.54077253218884114,null,null,null,null,null,null,null,null,null,null," browse is set at 40% use."]
["Conf Int (95%)",null,0.96,5.75,0.16,0.06,0.06]
["Change",null,null,{"$f":"D26-D25","v":27.031973627801307},{"$f":"E26-E25","v":1.3904317904317898},{"$f":"F26-F25","v":-0.16932812640967149},{"$f":"G26-G25","v":0.12936112077742973}]
["Significant Improvement at 95%?",null,null,"Yes","Yes","Yes","Yes"]
[]
["Conclusion:  The implementation of the 6 inch stubble height is associated"]
[null,"with improvement of all riparian vegetation indicators.  Each "]
[null,"indicator made a significant improvement at the 95% level based on"]
[null,"the confidence interval."]
[]
[]
["II. EVALUATING CONDITION AND TREND USING LONG-TERM INDICATORS"]
["Greenline-to-Greenline width - Big Elk Creek",null,null,null,null,null,null,null,null,null,null,"Bank Stability and Alteration",null,null,null,null,null,null,null,null,"Ecological Status and Stubble Height",null,null,null,null,null,null,null,null,null,"Woody Use and Woody Plant Frequency "]
[null,null,null,null,null,null,null,null,null,null,null,null,null," % Stable",null,"% Altered",null,null,null,null,null,null,"Rating (0 - 100)",null,"Inches"]
[null,"Width in meters",null,null,null,null,null,null,null,null,null,null,"Year","DMA Stability","Exclosure Stability","DMA Alteration","Exclosure Alt",null,null,null,null,"Year","DMA ES","Exclosure ES","DMA SH","Exclosure SH",null,null,null,null,"Year","DMA WU","Exclosure WU","DMA WF","Exclosure WF"]
["Year","Exclosure 1","Exclosure 3",null,null,null,null,null,null,null,null,null,2005,40,85,40,1,null,null,null,null,2005,53,60,5,6.3,null,null,null,null,2005,59,8,28,254]
[2005,4.66,3.63,null,null,null,null,null,null,null,null,null,2008,35,88,1,null,null,null,null,null,2008,47,65,11.2,12,null,null,null,null,2008,5,13,3,215]
[2008,6.27,3.4,null,null,null,null,null,null,null,null,null,2012,52,93,0,1,null,null,null,null,2012,49,71,14.5,19.5,null,null,null,null,2012,25,18,62,163]
[2012,6.28,3.1749999999999998,null,null,null,null,null,null,null,null,null,null,null,null,null,null,null,null,null,null,null,null,null,null,null,null,null,null,null,"Woody Frequency (see Calcs tab in the Module):  The sum of plants counted in woody age class, woody use, and woody height"]
[]
[null,null,null,null,null,null,null,null,null,null,null,null,null,null,null,null,null,null,null,null,null,null,null,null,null,null,null,null,null,null,null,"CORRELATION:",{"$f":"CORREL(AF48:AF52,AG48:AG52)","v":-0.39194555076894022}]
[null,null,null,null,null,null,null,null,null,null,null,null,null,null,null,null,null,null,null,null,null,null,null,null,null,null,null,null,null,null,null,"WOODY USE","WOODY FREQUENCY"]
[null,null,null,null,null,null,null,null,null,null,null,null,null,null,null,null,null,null,null,null,null,null,null,null,null,null,null,null,null,null,null,59,28]
[null,null,null,null,null,null,null,null,null,null,null,null,null,null,null,null,null,null,null,null,null,null,null,null,null,null,null,null,null,null,null,5,3,"s"]
[null,null,null,null,null,null,null,null,null,null,null,null,null,null,null,null,null,null,null,null,null,null,null,null,null,null,null,null,null,null,null,25,62]
[null,null,null,null,null,null,null,null,null,null,null,null,null,null,null,null,null,null,null,null,null,null,null,null,null,null,null,null,null,null,null,8,254]
[null,null,null,null,null,null,null,null,null,null,null,null,null,null,null,null,null,null,null,null,null,null,null,null,null,null,null,null,null,null,null,18,163]
[]
[null,null,null,null,null,null,null,null,null,null,null,null,null,null,null,null,null,null,null,null,null,null,null,null,null,null,null,null,null,null,null,"As woody use increases, woody frequency decreases"]
[]
[null,null,null,null,null,null,null,null,null,null,null,null,null,null,null,null,null,null,null,null,null,null,null,null,null,null,null,null,null,null,"Trend Analysis"]
[]
[]
[]
[]
[]
[]
[]
[]
["Narrative on GGW"]
[]
["Note that GGW increased significantly from 2005 to 2008 at Exclosure 1"]
["But apparently did not decrease at Exclosure 3 based on overlapping error bars"]
[null,null,null,null,null,null,null,null,null,null,null,null,"Narrative on Bank Stability and Alteration"]
["These error bars are based upon the confidence interval around the mean"]
["The confidence interval reflects precision of the observers and is wider for higher GGW",null,null,null,null,null,null,null,null,null,null,null,"Bank alteration is diplayed for the DMA which was being grazed in 2005 with high alteration"]
[null,null,null,null,null,null,null,null,null,null,null,null,"Presumably this level of alteration accounts for the significant difference in bank stability between"]
["Further testing of Exclosure 3 using the t statistic reveals that there actualy is ",null,null,null,null,null,null,null,null,null,null,null,"the DMA and the Exclosure."]
["a significant narrowing of the stream between 2005 and 2013 (see GGW tab)",null,null,null,null,null,null,null,null,null,null,null,null,null,null,null,null,null,null,null,null,"Narrative on ecological Status and Stubble Height"]
[null,null,null,null,null,null,null,null,null,null,null,null,"Note that after grazing ceased, bank stability increased significantly in the DMA reflecting lower"]
["Also note that Exclosure 3 has always been narrower in GGW than Exclosure 3",null,null,null,null,null,null,null,null,null,null,null,"leves of bank alteration",null,null,null,null,null,null,null,null,"Based on the confidence interval, ecological status has increased, but not significantly in the Exclosure."]
["Which likely reflects the 30 years exclusion from livestock in this exclosure.",null,null,null,null,null,null,null,null,null,null,null,null,null,null,null,null,null,null,null,null,"The DMA has not experienced a change in ecological status"]
[null,null,null,null,null,null,null,null,null,null,null,null,"Between 2005 and 2012 bank stability increased in the Exclosure but not significantly as shown here"]
["The increase in GGW at Exclosure 1 was observed to be the collapse of unstable sod ",null,null,null,null,null,null,null,null,null,null,null,"using error bars on the confidence interval.   However, the Chi Squared test conducted on these exclosures  ",null,null,null,null,null,null,null,null,"Stubble heights increased significantly after removal of livestock.  ",null,null,null,null,null,null,null,null,"Narrative on Woody Use and Woody Plant Frequency"]
["blocks that occurred in the high water year 2008.  Earlier in 2005, those blocks of",null,null,null,null,null,null,null,null,null,null,null,"shows that this increase is, in fact, significant at the 95% confidence interval using the more powerful test."]
["sod were still attached to the bank.",null,null,null,null,null,null,null,null,null,null,null,null,null,null,null,null,null,null,null,null,"Note, however that percent hydric plants and percent woody plant have both increased significantly in",null,null,null,null,null,null,null,null,"In the DMA heavy use in 2005 was followed by significantly lower use in later years."]
[null,null,null,null,null,null,null,null,null,null,null,null,null,null,null,null,null,null,null,null,null,"the Exclosure (see tab Veg).  These are more representative of the change in livestock influence in the 7",null,null,null,null,null,null,null,null,"Woody frequency increased significantly in that exclosure between 2005 and 2012"]
[null,null,null,null,null,null,null,null,null,null,null,null,null,null,null,null,null,null,null,null,null,"year period of observations at Elk Creek.",null,null,null,null,null,null,null,null,"possibly reflecting the drop in woody use."]
[]
[null,null,null,null,null,null,null,null,null,null,null,null,null,null,null,null,null,null,null,null,null,null,null,null,null,null,null,null,null,null,"The Exclosure had lower woody use and greater woody plant frequency as compared "]
[null,null,null,null,null,null,null,null,null,null,null,null,null,null,null,null,null,null,null,null,null,null,null,null,null,null,null,null,null,null,"with the DMA.  This likley reflects lower access here to ungulate animals."]
[]
[null,null,null,null,null,null,null,null,null,null,null,null,null,null,null,null,null,null,null,null,null,null,null,null,null,null,null,null,null,null,"Trends in woody frequency in the Exclosure show a significant decline between 2005"]
[null,null,null,null,null,null,null,null,null,null,null,null,null,null,null,null,null,null,null,null,null,null,null,null,null,null,null,null,null,null,"and 2012 possibly reflecting the affect of increased wildlife use after removal of"]
[null,null,null,null,null,null,null,null,null,null,null,null,null,null,null,null,null,null,null,null,null,null,null,null,null,null,null,null,null,null,"livestock from this pasture.  "]

{"sheet":"Filters","index":14,"n_rows":0,"n_cols":0,"rows_kept":0,"cut":false,"hidden":false,"merged":[]}